{"text_format":"1","workbook":"xlsx","n_sheets":28,"sheets":["Instrukcija","Suvestine","1","2","3","4","5","6","7","8","9","10","11","12","13","14","15","16","17","18","19","20","21","22","23","24","25","Netiesioginės išlaidos"],"not_rendered":{"charts":0,"images":1,"macros":1,"external_links":0,"defined_names":26,"comments":1,"pivot_tables":0},"unopened":[],"bounds":{"document_bytes":16777216,"sheet_cells":100000,"rows_first":2000,"rows_last":500,"rows_between":2000,"halvings":0,"cell_chars":16384,"cell_head_chars":4096},"cells_cut":0,"cells_raw":0,"read":"whole","date_system":"1900"}

{"sheet":"Instrukcija","index":0,"n_rows":11,"n_cols":4,"rows_kept":11,"cut":false,"hidden":false,"merged":[[0,3,0,5],[5,1,5,5],[8,1,8,5],[10,1,10,5],[2,0,2,5],[4,1,4,5],[6,1,6,5],[7,1,7,5],[9,1,9,5]]}
[null,null,null,"Verslo plano priedas „Reikalingi ištekliai“\nNr. 1C"]
[]
["Pildymo instrukcija"]
[]
[1,"Šis verslo plano priedas Nr. 1C pildomas tik projekto veikloms, nurodytoms 2014–2020 metų Europos Sąjungos fondų investicijų veiksmų programos 1 prioriteto „Mokslinių tyrimų, eksperimentinės plėtros ir inovacijų skatinimas“ priemonės Nr. 01.2.1-LVPA-T-848 „SMART FDI“ projektų finansavimo sąlygų aprašo  (toliau – Aprašas) 10.3 punkte."]
[2,"Pildykite tik žalia spalva pažymėtus laukus."]
[3,"Nereikalingų eilučių, stulpelių netrinkite, esant poreikiui eilutes, stulpelius galite tik paslėpti (hide)."]
[4,"Kiekvienam pirmo lygio (kurio paraiškoje nurodytas numeris susideda iš trijų skaitmenų) fiziniam rodikliui, nurodytam paraiškos 6 dalyje „Projekto loginis pagrindimas“, pildykite atskirą lapą. Fizinio rodiklio pavadinimas ir numeris turi sutapti su paraiškoje nurodytais fizinių rodiklių pavadinimais ir numeriais. Jei projektas vykdomas kartu su partneriu(-iais), veikloms, kurios vykdomos kartu su partneriu(-iais) rekomenduojama atskirai numatyti pareiškėjui ir partneriui(-iams) tenkančius fizinius rodiklius.\nAtkreipiame dėmesį, kad vienam fiziniam rodikliui gali būti priskirta tik viena biudžeto išlaidų kategorija."]
[5,"Jei projektas vykdomas kartu su partneriu(-iais), rekomenduojama pareiškėjui ir partneriui(-iams) numatyti atskirus  pirmo lygio fizinius rodiklius."]
[6,"Kai užpildysite visas fizinių rodiklių išlaidas, kortelėje „Suvestinė“ paspauskite viršuje kairėje pusėje esantį mygtuką „Tvarkyti lentelę“, kad užsipildytų suminė informacija šioje kortelėje."]
[7,"Kartu su verslo planu turi būti pateiktas ir šis verslo plano priedas (popierinė ir elektroninė versijos). LVPA teikiamoje elektroninėje versijoje turi likti visos skaičiavimams naudotos formulės."]

{"sheet":"Suvestine","index":1,"n_rows":71,"n_cols":6,"rows_kept":71,"cut":false,"hidden":false,"merged":[[70,0,70,3],[0,0,0,5],[55,0,55,1],[57,0,57,5],[68,0,68,1]]}
["Veiklų, vykdomų pagal Aprašo 10.3 punktą, išlaidų suvestinė lentelė pagal fizinius rodiklius (lentelė užsipildo automatiškai)"]
[]
["Fizinio rodiklio Nr.","Fizinio rodiklio pavadinimas","Fizinio rodiklio matavimo vnt.","Fizinio rodiklio vnt. skaičius","Tinkamų finansuoti išlaidų suma, Eur","Finansavimo suma, Eur"]
["4","Įranga, įrenginiai ir kt. turtas",null,null,{"$f":"SUM(E5:E29)","v":0},{"$f":"SUM(F5:F29)","v":0}]
[{"$f":"'1'!$D$2","v":0},{"$f":"'1'!$D$3","v":0},{"$f":"'1'!$D$4","v":0},{"$f":"'1'!$H$4","v":0},{"$f":"'1'!$G$10","v":0},{"$f":"'1'!$H$10","v":0}]
[{"$f":"'2'!$D$2","v":0},{"$f":"'2'!$D$3","v":0},{"$f":"'2'!$D$4","v":0},{"$f":"'2'!$H$4","v":0},{"$f":"'2'!$G$10","v":0},{"$f":"'2'!$H$10","v":0}]
[{"$f":"'3'!$D$2","v":0},{"$f":"'3'!$D$3","v":0},{"$f":"'3'!$D$4","v":0},{"$f":"'3'!$H$4","v":0},{"$f":"'3'!$G$10","v":0},{"$f":"'3'!$H$10","v":0}]
[{"$f":"'4'!$D$2","v":0},{"$f":"'4'!$D$3","v":0},{"$f":"'4'!$D$4","v":0},{"$f":"'4'!$H$4","v":0},{"$f":"'4'!$G$10","v":0},{"$f":"'4'!$H$10","v":0}]
[{"$f":"'5'!$D$2","v":0},{"$f":"'5'!$D$3","v":0},{"$f":"'5'!$D$4","v":0},{"$f":"'5'!$H$4","v":0},{"$f":"'5'!$G$10","v":0},{"$f":"'5'!$H$10","v":0}]
[{"$f":"'6'!$D$2","v":0},{"$f":"'6'!$D$3","v":0},{"$f":"'6'!$D$4","v":0},{"$f":"'6'!$H$4","v":0},{"$f":"'6'!$G$10","v":0},{"$f":"'6'!$H$10","v":0}]
[{"$f":"'7'!$D$2","v":0},{"$f":"'7'!$D$3","v":0},{"$f":"'7'!$D$4","v":0},{"$f":"'7'!$H$4","v":0},{"$f":"'7'!$G$10","v":0},{"$f":"'7'!$H$10","v":0}]
[{"$f":"'8'!$D$2","v":0},{"$f":"'8'!$D$3","v":0},{"$f":"'8'!$D$4","v":0},{"$f":"'8'!$H$4","v":0},{"$f":"'8'!$G$10","v":0},{"$f":"'8'!$H$10","v":0}]
[{"$f":"'9'!$D$2","v":0},{"$f":"'9'!$D$3","v":0},{"$f":"'9'!$D$4","v":0},{"$f":"'9'!$H$4","v":0},{"$f":"'9'!$G$10","v":0},{"$f":"'9'!$H$10","v":0}]
[{"$f":"'10'!$D$2","v":0},{"$f":"'10'!$D$3","v":0},{"$f":"'10'!$D$4","v":0},{"$f":"'10'!$H$4","v":0},{"$f":"'10'!$G$10","v":0},{"$f":"'10'!$H$10","v":0}]
[{"$f":"'11'!$D$2","v":0},{"$f":"'11'!$D$3","v":0},{"$f":"'11'!$D$4","v":0},{"$f":"'11'!$H$4","v":0},{"$f":"'11'!$G$10","v":0},{"$f":"'11'!$H$10","v":0}]
[{"$f":"'12'!$D$2","v":0},{"$f":"'12'!$D$3","v":0},{"$f":"'12'!$D$4","v":0},{"$f":"'12'!$H$4","v":0},{"$f":"'12'!$G$10","v":0},{"$f":"'12'!$H$10","v":0}]
[{"$f":"'13'!$D$2","v":0},{"$f":"'13'!$D$3","v":0},{"$f":"'13'!$D$4","v":0},{"$f":"'13'!$H$4","v":0},{"$f":"'13'!$G$10","v":0},{"$f":"'13'!$H$10","v":0}]
[{"$f":"'14'!$D$2","v":0},{"$f":"'14'!$D$3","v":0},{"$f":"'14'!$D$4","v":0},{"$f":"'14'!$H$4","v":0},{"$f":"'14'!$G$10","v":0},{"$f":"'14'!$H$10","v":0}]
[{"$f":"'15'!$D$2","v":0},{"$f":"'15'!$D$3","v":0},{"$f":"'15'!$D$4","v":0},{"$f":"'15'!$H$4","v":0},{"$f":"'15'!$G$10","v":0},{"$f":"'15'!$H$10","v":0}]
[{"$f":"'16'!$D$2","v":0},{"$f":"'16'!$D$3","v":0},{"$f":"'16'!$D$4","v":0},{"$f":"'16'!$H$4","v":0},{"$f":"'16'!$G$10","v":0},{"$f":"'16'!$H$10","v":0}]
[{"$f":"'17'!$D$2","v":0},{"$f":"'17'!$D$3","v":0},{"$f":"'17'!$D$4","v":0},{"$f":"'17'!$H$4","v":0},{"$f":"'17'!$G$10","v":0},{"$f":"'17'!$H$10","v":0}]
[{"$f":"'18'!$D$2","v":0},{"$f":"'18'!$D$3","v":0},{"$f":"'18'!$D$4","v":0},{"$f":"'18'!$H$4","v":0},{"$f":"'18'!$G$10","v":0},{"$f":"'18'!$H$10","v":0}]
[{"$f":"'19'!$D$2","v":0},{"$f":"'19'!$D$3","v":0},{"$f":"'19'!$D$4","v":0},{"$f":"'19'!$H$4","v":0},{"$f":"'19'!$G$10","v":0},{"$f":"'19'!$H$10","v":0}]
[{"$f":"'20'!$D$2","v":0},{"$f":"'20'!$D$3","v":0},{"$f":"'20'!$D$4","v":0},{"$f":"'20'!$H$4","v":0},{"$f":"'20'!$G$10","v":0},{"$f":"'20'!$H$10","v":0}]
[{"$f":"'21'!$D$2","v":0},{"$f":"'21'!$D$3","v":0},{"$f":"'21'!$D$4","v":0},{"$f":"'21'!$H$4","v":0},{"$f":"'21'!$G$10","v":0},{"$f":"'21'!$H$10","v":0}]
[{"$f":"'22'!$D$2","v":0},{"$f":"'22'!$D$3","v":0},{"$f":"'22'!$D$4","v":0},{"$f":"'22'!$H$4","v":0},{"$f":"'22'!$G$10","v":0},{"$f":"'22'!$H$10","v":0}]
[{"$f":"'23'!$D$2","v":0},{"$f":"'23'!$D$3","v":0},{"$f":"'23'!$D$4","v":0},{"$f":"'23'!$H$4","v":0},{"$f":"'23'!$G$10","v":0},{"$f":"'23'!$H$10","v":0}]
[{"$f":"'24'!$D$2","v":0},{"$f":"'24'!$D$3","v":0},{"$f":"'24'!$D$4","v":0},{"$f":"'24'!$H$4","v":0},{"$f":"'24'!$G$10","v":0},{"$f":"'24'!$H$10","v":0}]
[{"$f":"'25'!$D$2","v":0},{"$f":"'25'!$D$3","v":0},{"$f":"'25'!$D$4","v":0},{"$f":"'25'!$H$4","v":0},{"$f":"'25'!$G$10","v":0},{"$f":"'25'!$H$10","v":0}]
["5","Projekto vykdymas",null,null,{"$f":"SUM(E31:E55)","v":0},{"$f":"SUM(F31:F55)","v":0}]
[{"$f":"'1'!$D$2","v":0},{"$f":"'1'!$D$3","v":0},{"$f":"'1'!$D$4","v":0},{"$f":"'1'!$H$4","v":0},{"$f":"'1'!$G$21","v":0},{"$f":"'1'!$H$21","v":0}]
[{"$f":"'2'!$D$2","v":0},{"$f":"'2'!$D$3","v":0},{"$f":"'2'!$D$4","v":0},{"$f":"'2'!$H$4","v":0},{"$f":"'2'!$G$21","v":0},{"$f":"'2'!$H$21","v":0}]
[{"$f":"'3'!$D$2","v":0},{"$f":"'3'!$D$3","v":0},{"$f":"'3'!$D$4","v":0},{"$f":"'3'!$H$4","v":0},{"$f":"'3'!$G$21","v":0},{"$f":"'3'!$H$21","v":0}]
[{"$f":"'4'!$D$2","v":0},{"$f":"'4'!$D$3","v":0},{"$f":"'4'!$D$4","v":0},{"$f":"'4'!$H$4","v":0},{"$f":"'4'!$G$21","v":0},{"$f":"'4'!$H$21","v":0}]
[{"$f":"'5'!$D$2","v":0},{"$f":"'5'!$D$3","v":0},{"$f":"'5'!$D$4","v":0},{"$f":"'5'!$H$4","v":0},{"$f":"'5'!$G$21","v":0},{"$f":"'5'!$H$21","v":0}]
[{"$f":"'6'!$D$2","v":0},{"$f":"'6'!$D$3","v":0},{"$f":"'6'!$D$4","v":0},{"$f":"'6'!$H$4","v":0},{"$f":"'6'!$G$21","v":0},{"$f":"'6'!$H$21","v":0}]
[{"$f":"'7'!$D$2","v":0},{"$f":"'7'!$D$3","v":0},{"$f":"'7'!$D$4","v":0},{"$f":"'7'!$H$4","v":0},{"$f":"'7'!$G$21","v":0},{"$f":"'7'!$H$21","v":0}]
[{"$f":"'8'!$D$2","v":0},{"$f":"'8'!$D$3","v":0},{"$f":"'8'!$D$4","v":0},{"$f":"'8'!$H$4","v":0},{"$f":"'8'!$G$21","v":0},{"$f":"'8'!$H$21","v":0}]
[{"$f":"'9'!$D$2","v":0},{"$f":"'9'!$D$3","v":0},{"$f":"'9'!$D$4","v":0},{"$f":"'9'!$H$4","v":0},{"$f":"'9'!$G$21","v":0},{"$f":"'9'!$H$21","v":0}]
[{"$f":"'10'!$D$2","v":0},{"$f":"'10'!$D$3","v":0},{"$f":"'10'!$D$4","v":0},{"$f":"'10'!$H$4","v":0},{"$f":"'10'!$G$21","v":0},{"$f":"'10'!$H$21","v":0}]
[{"$f":"'11'!$D$2","v":0},{"$f":"'11'!$D$3","v":0},{"$f":"'11'!$D$4","v":0},{"$f":"'11'!$H$4","v":0},{"$f":"'11'!$G$21","v":0},{"$f":"'11'!$H$21","v":0}]
[{"$f":"'12'!$D$2","v":0},{"$f":"'12'!$D$3","v":0},{"$f":"'12'!$D$4","v":0},{"$f":"'12'!$H$4","v":0},{"$f":"'12'!$G$21","v":0},{"$f":"'12'!$H$21","v":0}]
[{"$f":"'13'!$D$2","v":0},{"$f":"'13'!$D$3","v":0},{"$f":"'13'!$D$4","v":0},{"$f":"'13'!$H$4","v":0},{"$f":"'13'!$G$21","v":0},{"$f":"'13'!$H$21","v":0}]
[{"$f":"'14'!$D$2","v":0},{"$f":"'14'!$D$3","v":0},{"$f":"'14'!$D$4","v":0},{"$f":"'14'!$H$4","v":0},{"$f":"'14'!$G$21","v":0},{"$f":"'14'!$H$21","v":0}]
[{"$f":"'15'!$D$2","v":0},{"$f":"'15'!$D$3","v":0},{"$f":"'15'!$D$4","v":0},{"$f":"'15'!$H$4","v":0},{"$f":"'15'!$G$21","v":0},{"$f":"'15'!$H$21","v":0}]
[{"$f":"'16'!$D$2","v":0},{"$f":"'16'!$D$3","v":0},{"$f":"'16'!$D$4","v":0},{"$f":"'16'!$H$4","v":0},{"$f":"'16'!$G$21","v":0},{"$f":"'16'!$H$21","v":0}]
[{"$f":"'17'!$D$2","v":0},{"$f":"'17'!$D$3","v":0},{"$f":"'17'!$D$4","v":0},{"$f":"'17'!$H$4","v":0},{"$f":"'17'!$G$21","v":0},{"$f":"'17'!$H$21","v":0}]
[{"$f":"'18'!$D$2","v":0},{"$f":"'18'!$D$3","v":0},{"$f":"'18'!$D$4","v":0},{"$f":"'18'!$H$4","v":0},{"$f":"'18'!$G$21","v":0},{"$f":"'18'!$H$21","v":0}]
[{"$f":"'19'!$D$2","v":0},{"$f":"'19'!$D$3","v":0},{"$f":"'19'!$D$4","v":0},{"$f":"'19'!$H$4","v":0},{"$f":"'19'!$G$21","v":0},{"$f":"'19'!$H$21","v":0}]
[{"$f":"'20'!$D$2","v":0},{"$f":"'20'!$D$3","v":0},{"$f":"'20'!$D$4","v":0},{"$f":"'20'!$H$4","v":0},{"$f":"'20'!$G$21","v":0},{"$f":"'20'!$H$21","v":0}]
[{"$f":"'21'!$D$2","v":0},{"$f":"'21'!$D$3","v":0},{"$f":"'21'!$D$4","v":0},{"$f":"'21'!$H$4","v":0},{"$f":"'21'!$G$21","v":0},{"$f":"'21'!$H$21","v":0}]
[{"$f":"'22'!$D$2","v":0},{"$f":"'22'!$D$3","v":0},{"$f":"'22'!$D$4","v":0},{"$f":"'22'!$H$4","v":0},{"$f":"'22'!$G$21","v":0},{"$f":"'22'!$H$21","v":0}]
[{"$f":"'23'!$D$2","v":0},{"$f":"'23'!$D$3","v":0},{"$f":"'23'!$D$4","v":0},{"$f":"'23'!$H$4","v":0},{"$f":"'23'!$G$21","v":0},{"$f":"'23'!$H$21","v":0}]
[{"$f":"'24'!$D$2","v":0},{"$f":"'24'!$D$3","v":0},{"$f":"'24'!$D$4","v":0},{"$f":"'24'!$H$4","v":0},{"$f":"'24'!$G$21","v":0},{"$f":"'24'!$H$21","v":0}]
[{"$f":"'25'!$D$2","v":0},{"$f":"'25'!$D$3","v":0},{"$f":"'25'!$D$4","v":0},{"$f":"'25'!$H$4","v":0},{"$f":"'25'!$G$21","v":0},{"$f":"'25'!$H$21","v":0}]
["Iš viso:",null,null,null,{"$f":"E4+E30","v":0},{"$f":"F4+F30","v":0}]
[]
["Veiklų, vykdomų pagal Aprašo 10.3 punktą, išlaidų suvestinė lentelė pagal išlaidų kategorijas (lentelė užsipildo automatiškai)"]
[]
["Fizinio rodiklio Nr.","Fizinio rodiklio pavadinimas","Tinkamų finansuoti išlaidų suma, Eur","Finansavimo suma, Eur"]
[4,"Įranga, įrenginiai ir kt. turtas",{"$f":"'1'!G10+'2'!G10+'3'!G10+'4'!G10+'5'!G10+'6'!G10+'7'!G10+'8'!G10+'9'!G10+'10'!G10+'11'!G10+'12'!G10+'13'!G10+'14'!G10+'15'!G10+'16'!G10+'17'!G10+'18'!G10+'19'!G10+'20'!G10+'21'!G10+'22'!G10+'23'!G10+'24'!G10+'25'!G10","v":0},{"$f":"'1'!H10+'2'!H10+'3'!H10+'4'!H10+'5'!H10+'6'!H10+'7'!H10+'8'!H10+'9'!H10+'10'!H10+'11'!H10+'12'!H10+'13'!H10+'14'!H10+'15'!H10+'16'!H10+'17'!H10+'18'!H10+'19'!H10+'20'!H10+'21'!H10+'22'!H10+'23'!H10+'24'!H10+'25'!H10","v":0}]
["5","Projekto vykdymas",{"$f":"'1'!G21+'2'!G21+'3'!G21+'4'!G21+'5'!G21+'6'!G21+'7'!G21+'8'!G21+'9'!G21+'10'!G21+'11'!G21+'12'!G21+'13'!G21+'14'!G21+'15'!G21+'16'!G21+'17'!G21+'18'!G21+'19'!G21+'20'!G21+'21'!G21+'22'!G21+'23'!G21+'24'!G21+'25'!G21","v":0},{"$f":"'1'!H21+'2'!H21+'3'!H21+'4'!H21+'5'!H21+'6'!H21+'7'!H21+'8'!H21+'9'!H21+'10'!H21+'11'!H21+'12'!H21+'13'!H21+'14'!H21+'15'!H21+'16'!H21+'17'!H21+'18'!H21+'19'!H21+'20'!H21+'21'!H21+'22'!H21+'23'!H21+'24'!H21+'25'!H21","v":0}]
["5.1","MTEP paslaugos",{"$f":"'1'!G22+'2'!G22+'3'!G22+'4'!G22+'5'!G22+'6'!G22+'7'!G22+'8'!G22+'9'!G22+'10'!G22+'11'!G22+'12'!G22+'13'!G22+'14'!G22+'15'!G22+'16'!G22+'17'!G22+'18'!G22+'19'!G22+'20'!G22+'21'!G22+'22'!G22+'23'!G22+'24'!G22+'25'!G22","v":0},{"$f":"'1'!H22+'2'!H22+'3'!H22+'4'!H22+'5'!H22+'6'!H22+'7'!H22+'8'!H22+'9'!H22+'10'!H22+'11'!H22+'12'!H22+'13'!H22+'14'!H22+'15'!H22+'16'!H22+'17'!H22+'18'!H22+'19'!H22+'20'!H22+'21'!H22+'22'!H22+'23'!H22+'24'!H22+'25'!H22","v":0}]
["5.2","Medžiagos, mažavertis inventorius, atsargos ir pan. produktai, priskirtini trumpalaikiam turtui ",{"$f":"'1'!G33+'2'!G44+'3'!G44+'4'!G44+'5'!G44+'6'!G44+'7'!G44+'8'!G44+'9'!G44+'10'!G44+'11'!G44+'12'!G44+'13'!G44+'14'!G44+'15'!G44+'16'!G44+'17'!G44+'18'!G44+'19'!G44+'20'!G44+'21'!G44+'22'!G44+'23'!G44+'24'!G44+'25'!G44","v":0},{"$f":"'1'!H33+'2'!H44+'3'!H44+'4'!H44+'5'!H44+'6'!H44+'7'!H44+'8'!H44+'9'!H44+'10'!H44+'11'!H44+'12'!H44+'13'!H44+'14'!H44+'15'!H44+'16'!H44+'17'!H44+'18'!H44+'19'!H44+'20'!H44+'21'!H44+'22'!H44+'23'!H44+'24'!H44+'25'!H44","v":0}]
["5.3","Projekto veikloms naudojamo ilgalaikio materialaus turto (įrangos, prietaisų, įrankių, įrenginių, mašinų ir įrengimų, pastatų ir (ar) patalpų), nusidėvėjimo sąnaudos",{"$f":"'1'!G49+'2'!G60+'3'!G60+'4'!G60+'5'!G60+'6'!G60+'7'!G60+'8'!G60+'9'!G60+'10'!G60+'11'!G60+'12'!G60+'13'!G60+'14'!G60+'15'!G60+'16'!G60+'17'!G60+'18'!G60+'19'!G60+'20'!G60+'21'!G60+'22'!G60+'23'!G60+'24'!G60+'25'!G60","v":0},{"$f":"'1'!H49+'2'!H60+'3'!H60+'4'!H60+'5'!H60+'6'!H60+'7'!H60+'8'!H60+'9'!H60+'10'!H60+'11'!H60+'12'!H60+'13'!H60+'14'!H60+'15'!H60+'16'!H60+'17'!H60+'18'!H60+'19'!H60+'20'!H60+'21'!H60+'22'!H60+'23'!H60+'24'!H60+'25'!H60","v":0}]
["5.4","Projektą vykdančio personalo darbo užmokestis ir išlaidos su darbo santykiais susijusiems darbdavio įsipareigojimams",{"$f":"'1'!G65+'2'!G76+'3'!G76+'4'!G76+'5'!G76+'6'!G76+'7'!G76+'8'!G76+'9'!G76+'10'!G76+'11'!G76+'12'!G76+'13'!G76+'14'!G76+'15'!G76+'16'!G76+'17'!G76+'18'!G76+'19'!G76+'20'!G76+'21'!G76+'22'!G76+'23'!G76+'24'!G76+'25'!G76","v":0},{"$f":"'1'!H65+'2'!H76+'3'!H76+'4'!H76+'5'!H76+'6'!H76+'7'!H76+'8'!H76+'9'!H76+'10'!H76+'11'!H76+'12'!H76+'13'!H76+'14'!H76+'15'!H76+'16'!H76+'17'!H76+'18'!H76+'19'!H76+'20'!H76+'21'!H76+'22'!H76+'23'!H76+'24'!H76+'25'!H76","v":0}]
["5.5","Projektą vykdančio personalo komandiruočių išlaidos",{"$f":"'1'!G116+'2'!G127+'3'!G127+'4'!G127+'5'!G127+'6'!G127+'7'!G127+'8'!G127+'9'!G127+'10'!G127+'11'!G127+'12'!G127+'13'!G127+'14'!G127+'15'!G127+'16'!G127+'17'!G127+'18'!G127+'19'!G127+'20'!G127+'21'!G127+'22'!G127+'23'!G127+'24'!G127+'25'!G127","v":0},{"$f":"'1'!H116+'2'!H127+'3'!H127+'4'!H127+'5'!H127+'6'!H127+'7'!H127+'8'!H127+'9'!H127+'10'!H127+'11'!H127+'12'!H127+'13'!H127+'14'!H127+'15'!H127+'16'!H127+'17'!H127+'18'!H127+'19'!H127+'20'!H127+'21'!H127+'22'!H127+'23'!H127+'24'!H127+'25'!H127","v":0}]
["7","Netiesioginės išlaidos ir kt. išlaidos pagal fiksuotąją projekto išlaidų normą",{"$f":"'Netiesioginės išlaidos'!H13","v":0},{"$f":"'Netiesioginės išlaidos'!H14","v":0}]
["Iš viso:",null,{"$f":"C61+C62+C68","v":0},{"$f":"D61+D62+D68","v":0}]
[]
[{"$f":"IF(D69<50000,\"DĖMESIO! Patikrinkite, ar prašoma finansavimo suma nėra mažesnė už 50.000,00 Eur\",IF(D69>500000,\"DĖMESIO! Patikrinkite, ar prašoma finansavimo suma nėra didesnė už 500.000,00 Eur\",\" \"))","v":"DĖMESIO! Patikrinkite, ar prašoma finansavimo suma nėra mažesnė už 50.000,00 Eur"}]

{"sheet":"1","index":2,"n_rows":187,"n_cols":19,"rows_kept":187,"cut":false,"hidden":false,"merged":[[116,8,122,8],[123,8,129,8],[130,8,136,8],[137,8,143,8],[144,8,150,8],[151,8,157,8],[158,8,164,8],[165,8,171,8],[172,8,178,8],[123,0,129,0],[123,1,129,1],[130,0,136,0],[130,1,136,1],[137,0,143,0],[137,1,143,1],[144,0,150,0],[144,1,150,1],[179,8,185,8],[151,0,157,0],[151,1,157,1],[158,0,164,0],[158,1,164,1],[165,0,171,0],[165,1,171,1],[172,0,178,0],[172,1,178,1],[179,0,185,0],[179,1,185,1],[110,6,114,6],[110,7,114,7],[110,8,114,8],[105,0,109,0],[105,1,109,1],[105,3,109,3],[105,4,109,4],[105,5,109,5],[105,6,109,6],[105,7,109,7],[105,8,109,8],[110,0,114,0],[110,1,114,1],[110,3,114,3],[110,4,114,4],[110,5,114,5],[95,6,99,6],[95,7,99,7],[95,8,99,8],[100,0,104,0],[100,1,104,1],[100,3,104,3],[100,4,104,4],[100,5,104,5],[100,6,104,6],[100,7,104,7],[100,8,104,8],[95,0,99,0],[95,1,99,1],[95,3,99,3],[95,4,99,4],[95,5,99,5],[85,6,89,6],[85,7,89,7],[85,8,89,8],[90,0,94,0],[90,1,94,1],[90,3,94,3],[90,4,94,4],[90,5,94,5],[90,6,94,6],[90,7,94,7],[90,8,94,8],[85,0,89,0],[85,1,89,1],[85,3,89,3],[85,4,89,4],[85,5,89,5],[75,6,79,6],[75,7,79,7],[75,8,79,8],[80,0,84,0],[80,1,84,1],[80,3,84,3],[80,4,84,4],[80,5,84,5],[80,6,84,6],[80,7,84,7],[80,8,84,8],[75,0,79,0],[75,1,79,1],[75,3,79,3],[75,4,79,4],[75,5,79,5],[70,6,74,6],[70,7,74,7],[70,8,74,8],[65,1,69,1],[65,3,69,3],[65,4,69,4],[52,1,52,2],[63,1,63,2],[64,1,64,5],[65,6,69,6],[65,7,69,7],[65,8,69,8],[13,1,13,2],[14,1,14,2],[15,1,15,2],[16,1,16,2],[17,1,17,2],[18,1,18,2],[19,1,19,2],[30,1,30,2],[22,1,22,2],[23,1,23,2],[24,1,24,2],[25,1,25,2],[26,1,26,2],[20,1,20,5],[21,1,21,5],[2,0,2,2],[2,3,2,8],[8,1,8,2],[0,3,0,8],[9,1,9,5],[10,1,10,2],[11,1,11,2],[12,1,12,2],[4,0,4,2],[4,3,4,8],[3,3,3,4],[3,5,3,6],[186,0,186,5],[115,1,115,5],[27,1,27,2],[28,1,28,2],[29,1,29,2],[31,1,31,2],[50,1,50,2],[33,1,33,2],[34,1,34,2],[35,1,35,2],[36,1,36,2],[37,1,37,2],[47,1,47,2],[65,5,69,5],[49,1,49,2],[45,1,45,2],[70,1,74,1],[70,3,74,3],[70,4,74,4],[70,5,74,5],[65,0,69,0],[70,0,74,0],[116,0,122,0],[116,1,122,1],[32,1,32,5],[48,1,48,5],[38,1,38,2],[39,1,39,2],[40,1,40,2],[41,1,41,2],[62,1,62,2],[51,1,51,2],[57,1,57,2],[58,1,58,2],[59,1,59,2],[60,1,60,2],[61,1,61,2],[42,1,42,2],[43,1,43,2],[44,1,44,2],[46,1,46,2],[53,1,53,2],[54,1,54,2],[55,1,55,2],[56,1,56,2]]}
[null,null,"Pasirinkite veiklos tipą:"]
[null,null,"Fizinio rodiklio Nr.:"]
["Fizinio rodiklio pavadinimas:"]
[null,null,"Fizinio rodiklio matavimo vnt.:",null,null,"Fizinio rodiklio vnt. skaičius:"]
["Juridinis asmuo (pareiškėjas, partneris), atsakingas už fizinį rodiklį:"]
[]
[null,null,"Finansavimo intensyvumas:",null,null,null,"Pasirinkite biudžeto išlaidų kategoriją:"]
[]
["Eil. Nr.","Išlaidų kategorijos pavadinimas",null,"Matavimo vnt.","Kiekis","Vieneto kaina be PVM, Eur","Tinkamų finansuoti išlaidų suma be PVM, Eur","Finansavimo suma, Eur","Išlaidų pagrindimo dokumentų pavadinimas, data ir Nr."]
[4,"ĮRANGA, ĮRENGINIAI IR KT. TURTAS (techninių žinių ir išradimų patentų arba teisių pagal licencijų sutartį įsigijimo išlaidos)",null,null,null,null,{"$f":"SUM(G11:G20)","v":0},{"$f":"SUM(H11:H20)","v":0}]
["4.1","Išlaidų pavadinimas",null,null,null,null,{"$f":"ROUND(E11*F11,2)","v":0},{"$f":"ROUND(G11*$D$7,2)","v":0}]
["4.2","Išlaidų pavadinimas",null,null,null,null,0,0]
["4.3","Išlaidų pavadinimas",null,null,null,null,0,0]
["4.4","Išlaidų pavadinimas",null,null,null,null,0,0]
["4.5","Išlaidų pavadinimas",null,null,null,null,0,0]
["4.6","Išlaidų pavadinimas",null,null,null,null,0,0]
["4.7","Išlaidų pavadinimas",null,null,null,null,0,0]
["4.8","Išlaidų pavadinimas",null,null,null,null,0,0]
["4.9","Išlaidų pavadinimas",null,null,null,null,0,0]
["4.10","Išlaidų pavadinimas",null,null,null,null,0,0]
[5,"PROJEKTO VYKDYMAS",null,null,null,null,{"$f":"G22+G33+G49+G65+G116","v":0},{"$f":"H22+H33+H49+H65+H116","v":0}]
["5.1","MTEP paslaugos",null,null,null,null,{"$f":"SUM(G23:G32)","v":0},{"$f":"SUM(H23:H32)","v":0}]
["5.1.1","Paslaugos pavadinimas",null,null,null,null,{"$f":"ROUND(E23*F23,2)","v":0},0]
["5.1.2","Paslaugos pavadinimas",null,null,null,null,0,0]
["5.1.3","Paslaugos pavadinimas",null,null,null,null,0,0]
["5.1.4","Paslaugos pavadinimas",null,null,null,null,0,0]
["5.1.5","Paslaugos pavadinimas",null,null,null,null,0,0]
["5.1.6","Paslaugos pavadinimas",null,null,null,null,0,0]
["5.1.7","Paslaugos pavadinimas",null,null,null,null,0,0]
["5.1.8","Paslaugos pavadinimas",null,null,null,null,0,0]
["5.1.9","Paslaugos pavadinimas",null,null,null,null,0,0]
["5.1.10","Paslaugos pavadinimas",null,null,null,null,0,0]
["5.2","Medžiagos, mažavertis inventorius, atsargos ir pan. produktai, priskirtini trumpalaikiam turtui ir tiesiogiai susiję su MTEP veikla",null,null,null,null,{"$f":"SUM(G34:G50)","v":0},{"$f":"SUM(H34:H50)","v":0}]
["5.2.1","Išlaidų pavadinimas",null,null,null,null,{"$f":"ROUND(E34*F34,2)","v":0},{"$f":"ROUND(G34*$D$7,2)","v":0}]
["5.2.2","Išlaidų pavadinimas",null,null,null,null,0,0]
["5.2.3","Išlaidų pavadinimas",null,null,null,null,0,0]
["5.2.4","Išlaidų pavadinimas",null,null,null,null,0,0]
["5.2.5","Išlaidų pavadinimas",null,null,null,null,{"$f":"ROUND(E38*F38,2)","v":0},{"$f":"ROUND(G38*$D$7,2)","v":0}]
["5.2.6","Išlaidų pavadinimas",null,null,null,null,0,0]
["5.2.7","Išlaidų pavadinimas",null,null,null,null,0,0]
["5.2.8","Išlaidų pavadinimas",null,null,null,null,0,0]
["5.2.9","Išlaidų pavadinimas",null,null,null,null,0,0]
["5.2.10","Išlaidų pavadinimas",null,null,null,null,0,0]
["5.2.11","Išlaidų pavadinimas",null,null,null,null,0,0]
["5.2.12","Išlaidų pavadinimas",null,null,null,null,0,0]
["5.2.13","Išlaidų pavadinimas",null,null,null,null,0,0]
["5.2.14","Išlaidų pavadinimas",null,null,null,null,0,0]
["5.2.15","Išlaidų pavadinimas",null,null,null,null,0,0]
["5.3","Projekto MTEP veikloms naudojamo ilgalaikio materialaus turto (įrangos, prietaisų, įrankių, įrenginių, mašinų ir įrengimų, pastatų ir (ar) patalpų), nusidėvėjimo sąnaudos, jeigu šiam turtui įsigyti nebuvo naudojamos viešosios (įskaitant ir kitų valstybių) lėšos",null,null,null,null,{"$f":"SUM(G50:G64)","v":0},{"$f":"SUM(H50:H64)","v":0},null,null,"Turto įvedimo į eksploataciją data","Turto įsigijimo vertė, Eur","Turto nudėvėjimo, amortizacijos laikotarpis, mėn.","Numatoma turto likutinė vertė, Eur","1 mėn. nudėvėjimo, amortizacijos suma, Eur","Turto naudojamo projekto reikmėms laikas, mėn.","Turto panaudojimo projekto reikmėms dalis (proc.)","Projektui priskirta turto nusidėvėjimo, amortizacijos suma per projekto laikotarpį, Eur"]
["5.3.1","Turtas, kurio nusidėvėjimą, amortizaciją prašoma finansuoti",null,null,1,{"$f":"R50","v":0},{"$f":"ROUND(E50*F50,2)","v":0},0,null,null,null,null,null,null,{"$f":"IFERROR(ROUND((L50-N50)/M50,2),\"0\")","v":"0"},null,null,{"$f":"O50*P50*Q50","v":0},{"$f":"IF(K50=0,\" \",IF(K50+(M50*30.5)<TODAY(),\"DĖMESIO! Patikrinkite, ar nurodytas turtas dar nėra nudėvėtas, amortizuotas\",\" \"))","v":" "}]
["5.3.2","Turtas, kurio nusidėvėjimą, amortizaciją prašoma finansuoti",null,null,1,{"$f":"R51","v":0},0,0,null,null,null,null,null,null,{"$f":"IFERROR(ROUND((L51-N51)/M51,2),\"0\")","v":"0"},null,null,{"$f":"O51*P51*Q51","v":0},{"$f":"IF(K51=0,\" \",IF(K51+(M51*30.5)<TODAY(),\"DĖMESIO! Patikrinkite, ar nurodytas turtas dar nėra nudėvėtas, amortizuotas\",\" \"))","v":" "}]
["5.3.3","Turtas, kurio nusidėvėjimą, amortizaciją prašoma finansuoti",null,null,1,0,0,0,null,null,null,null,null,null,"0",null,null,0," "]
["5.3.4","Turtas, kurio nusidėvėjimą, amortizaciją prašoma finansuoti",null,null,1,{"$f":"R53","v":0},{"$f":"ROUND(E53*F53,2)","v":0},{"$f":"ROUND(G53*$D$7,2)","v":0},null,null,null,null,null,null,"0",null,null,0," "]
["5.3.5","Turtas, kurio nusidėvėjimą, amortizaciją prašoma finansuoti",null,null,1,0,0,0,null,null,null,null,null,null,"0",null,null,0," "]
["5.3.6","Turtas, kurio nusidėvėjimą, amortizaciją prašoma finansuoti",null,null,1,0,0,0,null,null,null,null,null,null,"0",null,null,0," "]
["5.3.7","Turtas, kurio nusidėvėjimą, amortizaciją prašoma finansuoti",null,null,1,0,0,0,null,null,null,null,null,null,"0",null,null,0," "]
["5.3.8","Turtas, kurio nusidėvėjimą, amortizaciją prašoma finansuoti",null,null,1,0,0,0,null,null,null,null,null,null,"0",null,null,0," "]
["5.3.9","Turtas, kurio nusidėvėjimą, amortizaciją prašoma finansuoti",null,null,1,0,0,0,null,null,null,null,null,null,"0",null,null,0," "]
["5.3.10","Turtas, kurio nusidėvėjimą, amortizaciją prašoma finansuoti",null,null,1,0,0,0,null,null,null,null,null,null,"0",null,null,0," "]
["5.3.11","Turtas, kurio nusidėvėjimą, amortizaciją prašoma finansuoti",null,null,1,0,0,0,null,null,null,null,null,null,"0",null,null,0," "]
["5.3.12","Turtas, kurio nusidėvėjimą, amortizaciją prašoma finansuoti",null,null,1,0,0,0,null,null,null,null,null,null,"0",null,null,0," "]
["5.3.13","Turtas, kurio nusidėvėjimą, amortizaciją prašoma finansuoti",null,null,1,0,0,0,null,null,null,null,null,null,"0",null,null,0," "]
["5.3.14","Turtas, kurio nusidėvėjimą, amortizaciją prašoma finansuoti",null,null,1,0,0,0,null,null,null,null,null,null,"0",null,null,0," "]
["5.3.15","Turtas, kurio nusidėvėjimą, amortizaciją prašoma finansuoti",null,null,1,0,0,0,null,null,null,null,null,null,"0",null,null,0," "]
["5.4","Projektą vykdančio personalo darbo užmokestis ir išlaidos su darbo santykiais susijusiems darbdavio įsipareigojimams",null,null,null,null,{"$f":"SUM(G66:G115)","v":0},{"$f":"SUM(H66:H115)","v":0},null,null,"Faktiškai gaunamas darbo užmokesti už 1 valandą pagal  pastarųjų 6 mėn. vidurkį, Eur"]
["5.4.1","Pareigybės pavadinimas","Darbuotojo vardas pavardė","val.",null,{"$f":"IFERROR(ROUND(AVERAGE(K66:K70),2),\"0\")","v":"0"},{"$f":"ROUND(E66*F66,2)","v":0},{"$f":"ROUND(G66*$D$7,2)","v":0}]
[null,null,"Darbuotojo vardas pavardė"]
[null,null,"Darbuotojo vardas pavardė"]
[null,null,"Darbuotojo vardas pavardė"]
[null,null,"Darbuotojo vardas pavardė"]
["5.4.2","Pareigybės pavadinimas","Darbuotojo vardas pavardė","val.",null,{"$f":"IFERROR(ROUND(AVERAGE(K71:K75),2),\"0\")","v":"0"},{"$f":"ROUND(E71*F71,2)","v":0},{"$f":"ROUND(G71*$D$7,2)","v":0}]
[null,null,"Darbuotojo vardas pavardė"]
[null,null,"Darbuotojo vardas pavardė"]
[null,null,"Darbuotojo vardas pavardė"]
[null,null,"Darbuotojo vardas pavardė"]
["5.4.3","Pareigybės pavadinimas","Darbuotojo vardas pavardė","val.",null,{"$f":"IFERROR(ROUND(AVERAGE(K76:K80),2),\"0\")","v":"0"},{"$f":"ROUND(E76*F76,2)","v":0},{"$f":"ROUND(G76*$D$7,2)","v":0}]
[null,null,"Darbuotojo vardas pavardė"]
[null,null,"Darbuotojo vardas pavardė"]
[null,null,"Darbuotojo vardas pavardė"]
[null,null,"Darbuotojo vardas pavardė"]
["5.4.4","Pareigybės pavadinimas","Darbuotojo vardas pavardė","val.",null,{"$f":"IFERROR(ROUND(AVERAGE(K81:K85),2),\"0\")","v":"0"},{"$f":"ROUND(E81*F81,2)","v":0},{"$f":"ROUND(G81*$D$7,2)","v":0}]
[null,null,"Darbuotojo vardas pavardė"]
[null,null,"Darbuotojo vardas pavardė"]
[null,null,"Darbuotojo vardas pavardė"]
[null,null,"Darbuotojo vardas pavardė"]
["5.4.5","Pareigybės pavadinimas","Darbuotojo vardas pavardė","val.",null,{"$f":"IFERROR(ROUND(AVERAGE(K86:K90),2),\"0\")","v":"0"},{"$f":"ROUND(E86*F86,2)","v":0},{"$f":"ROUND(G86*$D$7,2)","v":0}]
[null,null,"Darbuotojo vardas pavardė"]
[null,null,"Darbuotojo vardas pavardė"]
[null,null,"Darbuotojo vardas pavardė"]
[null,null,"Darbuotojo vardas pavardė"]
["5.4.6","Pareigybės pavadinimas","Darbuotojo vardas pavardė","val.",null,{"$f":"IFERROR(ROUND(AVERAGE(K91:K95),2),\"0\")","v":"0"},{"$f":"ROUND(E91*F91,2)","v":0},{"$f":"ROUND(G91*$D$7,2)","v":0}]
[null,null,"Darbuotojo vardas pavardė"]
[null,null,"Darbuotojo vardas pavardė"]
[null,null,"Darbuotojo vardas pavardė"]
[null,null,"Darbuotojo vardas pavardė"]
["5.4.7","Pareigybės pavadinimas","Darbuotojo vardas pavardė","val.",null,{"$f":"IFERROR(ROUND(AVERAGE(K96:K100),2),\"0\")","v":"0"},{"$f":"ROUND(E96*F96,2)","v":0},{"$f":"ROUND(G96*$D$7,2)","v":0}]
[null,null,"Darbuotojo vardas pavardė"]
[null,null,"Darbuotojo vardas pavardė"]
[null,null,"Darbuotojo vardas pavardė"]
[null,null,"Darbuotojo vardas pavardė"]
["5.4.8","Pareigybės pavadinimas","Darbuotojo vardas pavardė","val.",null,{"$f":"IFERROR(ROUND(AVERAGE(K101:K105),2),\"0\")","v":"0"},{"$f":"ROUND(E101*F101,2)","v":0},{"$f":"ROUND(G101*$D$7,2)","v":0}]
[null,null,"Darbuotojo vardas pavardė"]
[null,null,"Darbuotojo vardas pavardė"]
[null,null,"Darbuotojo vardas pavardė"]
[null,null,"Darbuotojo vardas pavardė"]
["5.4.9","Pareigybės pavadinimas","Darbuotojo vardas pavardė","val.",null,{"$f":"IFERROR(ROUND(AVERAGE(K106:K110),2),\"0\")","v":"0"},{"$f":"ROUND(E106*F106,2)","v":0},{"$f":"ROUND(G106*$D$7,2)","v":0}]
[null,null,"Darbuotojo vardas pavardė"]
[null,null,"Darbuotojo vardas pavardė"]
[null,null,"Darbuotojo vardas pavardė"]
[null,null,"Darbuotojo vardas pavardė"]
["5.4.10","Pareigybės pavadinimas","Darbuotojo vardas pavardė","val.",null,{"$f":"IFERROR(ROUND(AVERAGE(K111:K115),2),\"0\")","v":"0"},{"$f":"ROUND(E111*F111,2)","v":0},{"$f":"ROUND(G111*$D$7,2)","v":0}]
[null,null,"Darbuotojo vardas pavardė"]
[null,null,"Darbuotojo vardas pavardė"]
[null,null,"Darbuotojo vardas pavardė"]
[null,null,"Darbuotojo vardas pavardė"]
["5.5","Projektą vykdančio personalo komandiruočių išlaidos",null,null,null,null,{"$f":"SUM(G117,G124,G131,G138,G145,G152,G159,G166,G173,G180)","v":0},{"$f":"SUM(H117,H124,H131,H138,H145,H152,H159,H166,H173,H180)","v":0}]
["5.5.1","Komandiruotės pavadinimas, vieta, trukmė dienomis, vykstančių asmenų skaičius","Iš viso komandiruotei",null,null,null,{"$f":"SUM(G118:G123)","v":0},{"$f":"ROUND(G117*$D$7,2)","v":0}]
[null,null,"Dienpinigiai",null,null,null,{"$f":"ROUND(E118*F118,2)","v":0}]
[null,null,"Gyvenamojo ploto nuoma",null,null,null,0]
[null,null,"Kelionės išlaidos",null,null,null,0]
[null,null,"Dalyvavimo mokestis",null,null,null,0]
[null,null,"Kitos išlaidų pavadinimas",null,null,null,0]
[null,null,"Kitos išlaidų pavadinimas",null,null,null,0]
["5.5.2","Komandiruotės pavadinimas, vieta, trukmė dienomis, vykstančių asmenų skaičius","Iš viso komandiruotei",null,null,null,{"$f":"SUM(G125:G130)","v":0},{"$f":"ROUND(G124*$D$7,2)","v":0}]
[null,null,"Dienpinigiai",null,null,null,{"$f":"ROUND(E125*F125,2)","v":0}]
[null,null,"Gyvenamojo ploto nuoma",null,null,null,0]
[null,null,"Kelionės išlaidos",null,null,null,0]
[null,null,"Dalyvavimo mokestis",null,null,null,0]
[null,null,"Kitos išlaidų pavadinimas",null,null,null,0]
[null,null,"Kitos išlaidų pavadinimas",null,null,null,0]
["5.5.3","Komandiruotės pavadinimas, vieta, trukmė dienomis, vykstančių asmenų skaičius","Iš viso komandiruotei",null,null,null,{"$f":"SUM(G132:G137)","v":0},{"$f":"ROUND(G131*$D$7,2)","v":0}]
[null,null,"Dienpinigiai",null,null,null,{"$f":"ROUND(E132*F132,2)","v":0}]
[null,null,"Gyvenamojo ploto nuoma",null,null,null,0]
[null,null,"Kelionės išlaidos",null,null,null,0]
[null,null,"Dalyvavimo mokestis",null,null,null,0]
[null,null,"Kitos išlaidų pavadinimas",null,null,null,0]
[null,null,"Kitos išlaidų pavadinimas",null,null,null,0]
["5.5.4","Komandiruotės pavadinimas, vieta, trukmė dienomis, vykstančių asmenų skaičius","Iš viso komandiruotei",null,null,null,{"$f":"SUM(G139:G144)","v":0},{"$f":"ROUND(G138*$D$7,2)","v":0}]
[null,null,"Dienpinigiai",null,null,null,{"$f":"ROUND(E139*F139,2)","v":0}]
[null,null,"Gyvenamojo ploto nuoma",null,null,null,0]
[null,null,"Kelionės išlaidos",null,null,null,0]
[null,null,"Dalyvavimo mokestis",null,null,null,0]
[null,null,"Kitos išlaidų pavadinimas",null,null,null,0]
[null,null,"Kitos išlaidų pavadinimas",null,null,null,0]
["5.5.5","Komandiruotės pavadinimas, vieta, trukmė dienomis, vykstančių asmenų skaičius","Iš viso komandiruotei",null,null,null,{"$f":"SUM(G146:G151)","v":0},{"$f":"ROUND(G145*$D$7,2)","v":0}]
[null,null,"Dienpinigiai",null,null,null,{"$f":"ROUND(E146*F146,2)","v":0}]
[null,null,"Gyvenamojo ploto nuoma",null,null,null,0]
[null,null,"Kelionės išlaidos",null,null,null,0]
[null,null,"Dalyvavimo mokestis",null,null,null,0]
[null,null,"Kitos išlaidų pavadinimas",null,null,null,0]
[null,null,"Kitos išlaidų pavadinimas",null,null,null,0]
["5.5.6","Komandiruotės pavadinimas, vieta, trukmė dienomis, vykstančių asmenų skaičius","Iš viso komandiruotei",null,null,null,{"$f":"SUM(G153:G158)","v":0},{"$f":"ROUND(G152*$D$7,2)","v":0}]
[null,null,"Dienpinigiai",null,null,null,{"$f":"ROUND(E153*F153,2)","v":0}]
[null,null,"Gyvenamojo ploto nuoma",null,null,null,0]
[null,null,"Kelionės išlaidos",null,null,null,0]
[null,null,"Dalyvavimo mokestis",null,null,null,0]
[null,null,"Kitos išlaidų pavadinimas",null,null,null,0]
[null,null,"Kitos išlaidų pavadinimas",null,null,null,0]
["5.5.7","Komandiruotės pavadinimas, vieta, trukmė dienomis, vykstančių asmenų skaičius","Iš viso komandiruotei",null,null,null,{"$f":"SUM(G160:G165)","v":0},{"$f":"ROUND(G159*$D$7,2)","v":0}]
[null,null,"Dienpinigiai",null,null,null,{"$f":"ROUND(E160*F160,2)","v":0}]
[null,null,"Gyvenamojo ploto nuoma",null,null,null,0]
[null,null,"Kelionės išlaidos",null,null,null,0]
[null,null,"Dalyvavimo mokestis",null,null,null,0]
[null,null,"Kitos išlaidų pavadinimas",null,null,null,0]
[null,null,"Kitos išlaidų pavadinimas",null,null,null,0]
["5.5.8","Komandiruotės pavadinimas, vieta, trukmė dienomis, vykstančių asmenų skaičius","Iš viso komandiruotei",null,null,null,{"$f":"SUM(G167:G172)","v":0},{"$f":"ROUND(G166*$D$7,2)","v":0}]
[null,null,"Dienpinigiai",null,null,null,{"$f":"ROUND(E167*F167,2)","v":0}]
[null,null,"Gyvenamojo ploto nuoma",null,null,null,0]
[null,null,"Kelionės išlaidos",null,null,null,0]
[null,null,"Dalyvavimo mokestis",null,null,null,0]
[null,null,"Kitos išlaidų pavadinimas",null,null,null,0]
[null,null,"Kitos išlaidų pavadinimas",null,null,null,0]
["5.5.9","Komandiruotės pavadinimas, vieta, trukmė dienomis, vykstančių asmenų skaičius","Iš viso komandiruotei",null,null,null,{"$f":"SUM(G174:G179)","v":0},{"$f":"ROUND(G173*$D$7,2)","v":0}]
[null,null,"Dienpinigiai",null,null,null,{"$f":"ROUND(E174*F174,2)","v":0}]
[null,null,"Gyvenamojo ploto nuoma",null,null,null,0]
[null,null,"Kelionės išlaidos",null,null,null,0]
[null,null,"Dalyvavimo mokestis",null,null,null,0]
[null,null,"Kitos išlaidų pavadinimas",null,null,null,0]
[null,null,"Kitos išlaidų pavadinimas",null,null,null,0]
["5.5.10","Komandiruotės pavadinimas, vieta, trukmė dienomis, vykstančių asmenų skaičius","Iš viso komandiruotei",null,null,null,{"$f":"SUM(G181:G186)","v":0},{"$f":"ROUND(G180*$D$7,2)","v":0}]
[null,null,"Dienpinigiai",null,null,null,{"$f":"ROUND(E181*F181,2)","v":0}]
[null,null,"Gyvenamojo ploto nuoma",null,null,null,0]
[null,null,"Kelionės išlaidos",null,null,null,0]
[null,null,"Dalyvavimo mokestis",null,null,null,0]
[null,null,"Kitos išlaidų pavadinimas",null,null,null,0]
[null,null,"Kitos išlaidų pavadinimas",null,null,null,0]
["Iš viso tinkamų finansuoti išlaidų:",null,null,null,null,null,{"$f":"G10+G21","v":0},{"$f":"H10+H21","v":0}]

{"sheet":"2","index":3,"n_rows":210,"n_cols":19,"rows_kept":210,"cut":false,"hidden":false,"merged":[[203,1,203,5],[204,1,204,2],[205,1,205,2],[206,1,206,2],[207,1,207,2],[208,1,208,2],[209,0,209,5],[190,0,196,0],[190,1,196,1],[199,1,199,2],[200,1,200,2],[201,1,201,2],[202,1,202,2],[155,0,161,0],[155,1,161,1],[155,8,161,8],[162,0,168,0],[162,1,168,1],[162,8,168,8],[190,8,196,8],[197,1,197,5],[198,1,198,2],[169,0,175,0],[169,1,175,1],[169,8,175,8],[176,0,182,0],[176,1,182,1],[176,8,182,8],[183,0,189,0],[183,1,189,1],[183,8,189,8],[134,0,140,0],[134,1,140,1],[134,8,140,8],[141,0,147,0],[141,1,147,1],[141,8,147,8],[148,0,154,0],[148,1,154,1],[148,8,154,8],[121,0,125,0],[121,1,125,1],[121,3,125,3],[121,4,125,4],[121,5,125,5],[121,6,125,6],[121,7,125,7],[121,8,125,8],[127,0,133,0],[127,1,133,1],[127,8,133,8],[126,1,126,5],[96,8,100,8],[101,0,105,0],[101,1,105,1],[101,3,105,3],[101,4,105,4],[101,5,105,5],[101,6,105,6],[101,7,105,7],[101,8,105,8],[96,0,100,0],[96,1,100,1],[96,3,100,3],[96,4,100,4],[96,5,100,5],[96,7,100,7],[96,6,100,6],[31,1,31,2],[32,1,32,5],[42,1,42,2],[43,1,43,5],[23,1,23,2],[24,1,24,2],[25,1,25,2],[33,1,33,2],[34,1,34,2],[35,1,35,2],[36,1,36,2],[37,1,37,2],[26,1,26,2],[27,1,27,2],[28,1,28,2],[29,1,29,2],[30,1,30,2],[111,8,115,8],[116,0,120,0],[116,1,120,1],[116,3,120,3],[116,4,120,4],[116,5,120,5],[111,0,115,0],[111,1,115,1],[111,3,115,3],[111,4,115,4],[111,5,115,5],[111,6,115,6],[111,7,115,7],[116,6,120,6],[116,7,120,7],[116,8,120,8],[0,3,0,8],[2,0,2,2],[2,3,2,8],[22,1,22,2],[14,1,14,2],[15,1,15,2],[16,1,16,2],[17,1,17,2],[18,1,18,2],[20,1,20,5],[10,1,10,2],[11,1,11,2],[12,1,12,2],[13,1,13,2],[3,3,3,4],[3,5,3,6],[4,0,4,2],[4,3,4,8],[8,1,8,2],[9,1,9,5],[19,1,19,2],[21,1,21,5],[48,1,48,2],[49,1,49,2],[38,1,38,2],[39,1,39,2],[40,1,40,2],[41,1,41,2],[56,1,56,2],[60,1,60,2],[61,1,61,2],[50,1,50,2],[51,1,51,2],[52,1,52,2],[53,1,53,2],[54,1,54,2],[55,1,55,2],[57,1,57,2],[58,1,58,2],[59,1,59,5],[44,1,44,2],[45,1,45,2],[46,1,46,2],[47,1,47,2],[62,1,62,2],[63,1,63,2],[64,1,64,2],[65,1,65,2],[66,1,66,2],[67,1,67,2],[68,1,68,2],[69,1,69,2],[70,1,70,2],[71,1,71,2],[72,1,72,2],[73,1,73,2],[74,1,74,2],[75,1,75,5],[76,0,80,0],[76,1,80,1],[76,3,80,3],[76,4,80,4],[76,5,80,5],[76,6,80,6],[76,7,80,7],[76,8,80,8],[81,0,85,0],[81,1,85,1],[81,3,85,3],[81,4,85,4],[81,5,85,5],[81,6,85,6],[81,7,85,7],[81,8,85,8],[86,0,90,0],[86,1,90,1],[86,3,90,3],[86,4,90,4],[86,5,90,5],[86,6,90,6],[86,7,90,7],[86,8,90,8],[106,0,110,0],[106,1,110,1],[106,3,110,3],[106,4,110,4],[106,5,110,5],[106,6,110,6],[106,7,110,7],[106,8,110,8],[91,0,95,0],[91,1,95,1],[91,3,95,3],[91,4,95,4],[91,5,95,5],[91,6,95,6],[91,7,95,7],[91,8,95,8]]}
[null,null,"Pasirinkite veiklos tipą:"]
[null,null,"Fizinio rodiklio Nr.:"]
["Fizinio rodiklio pavadinimas:"]
[null,null,"Fizinio rodiklio matavimo vnt.:",null,null,"Fizinio rodiklio vnt. skaičius:"]
["Juridinis asmuo (pareiškėjas, partneris), atsakingas už fizinį rodiklį:"]
[]
[null,null,"Finansavimo intensyvumas:",null,null,null,"Pasirinkite biudžeto išlaidų kategoriją:"]
[]
["Eil. Nr.","Išlaidų kategorijos pavadinimas",null,"Matavimo vnt.","Kiekis","Vieneto kaina be PVM, Eur","Tinkamų finansuoti išlaidų suma be PVM, Eur","Finansavimo suma, Eur","Išlaidų pagrindimo dokumentų pavadinimas, data ir Nr."]
[4,"ĮRANGA, ĮRENGINIAI IR KT. TURTAS (techninių žinių ir išradimų patentų arba teisių pagal licencijų sutartį įsigijimo išlaidos)",null,null,null,null,{"$f":"SUM(G11:G20)","v":0},{"$f":"SUM(H11:H20)","v":0}]
["4.1","Išlaidų pavadinimas",null,null,null,null,{"$f":"ROUND(E11*F11,2)","v":0},{"$f":"ROUND(G11*$D$7,2)","v":0}]
["4.2","Išlaidų pavadinimas",null,null,null,null,0,0]
["4.3","Išlaidų pavadinimas",null,null,null,null,0,0]
["4.4","Išlaidų pavadinimas",null,null,null,null,0,0]
["4.5","Išlaidų pavadinimas",null,null,null,null,0,0]
["4.6","Išlaidų pavadinimas",null,null,null,null,0,0]
["4.7","Išlaidų pavadinimas",null,null,null,null,0,0]
["4.8","Išlaidų pavadinimas",null,null,null,null,0,0]
["4.9","Išlaidų pavadinimas",null,null,null,null,0,0]
["4.10","Išlaidų pavadinimas",null,null,null,null,0,0]
[5,"PROJEKTO VYKDYMAS",null,null,null,null,{"$f":"G22+G33+G44+G60+G76+G127+G198+G204","v":0},{"$f":"H22+H33+H44+H60+H76+H127+H198+H204","v":0}]
["5.1","MTEP paslaugos",null,null,null,null,{"$f":"SUM(G23:G32)","v":0},{"$f":"SUM(H23:H32)","v":0}]
["5.1.1","Paslaugos pavadinimas",null,null,null,null,{"$f":"ROUND(E23*F23,2)","v":0},0]
["5.1.2","Paslaugos pavadinimas",null,null,null,null,0,0]
["5.1.3","Paslaugos pavadinimas",null,null,null,null,0,0]
["5.1.4","Paslaugos pavadinimas",null,null,null,null,0,0]
["5.1.5","Paslaugos pavadinimas",null,null,null,null,0,0]
["5.1.6","Paslaugos pavadinimas",null,null,null,null,0,0]
["5.1.7","Paslaugos pavadinimas",null,null,null,null,0,0]
["5.1.8","Paslaugos pavadinimas",null,null,null,null,0,0]
["5.1.9","Paslaugos pavadinimas",null,null,null,null,0,0]
["5.1.10","Paslaugos pavadinimas",null,null,null,null,0,0]
["5.2","Konsultavimo ir lygiavertės paslaugos, naudojamos vien tik projekto MTEP veiklai",null,null,null,null,{"$f":"SUM(G34:G43)","v":0},{"$f":"SUM(H34:H43)","v":0}]
["5.2.1","Paslaugos pavadinimas",null,null,null,null,{"$f":"ROUND(E34*F34,2)","v":0},0]
["5.2.2","Paslaugos pavadinimas",null,null,null,null,0,0]
["5.2.3","Paslaugos pavadinimas",null,null,null,null,0,0]
["5.2.4","Paslaugos pavadinimas",null,null,null,null,0,0]
["5.2.5","Paslaugos pavadinimas",null,null,null,null,0,0]
["5.2.6","Paslaugos pavadinimas",null,null,null,null,0,0]
["5.2.7","Paslaugos pavadinimas",null,null,null,null,0,0]
["5.2.8","Paslaugos pavadinimas",null,null,null,null,0,0]
["5.2.9","Paslaugos pavadinimas",null,null,null,null,0,0]
["5.2.10","Paslaugos pavadinimas",null,null,null,null,0,0]
["5.3","Medžiagos, mažavertis inventorius, atsargos ir pan. produktai, priskirtini trumpalaikiam turtui ir tiesiogiai susiję su MTEP veikla",null,null,null,null,{"$f":"SUM(G45:G61)","v":0},{"$f":"SUM(H45:H61)","v":0}]
["5.3.1","Išlaidų pavadinimas",null,null,null,null,{"$f":"ROUND(E45*F45,2)","v":0},{"$f":"ROUND(G45*$D$7,2)","v":0}]
["5.3.2","Išlaidų pavadinimas",null,null,null,null,0,0]
["5.3.3","Išlaidų pavadinimas",null,null,null,null,0,0]
["5.3.4","Išlaidų pavadinimas",null,null,null,null,0,0]
["5.3.5","Išlaidų pavadinimas",null,null,null,null,0,0]
["5.3.6","Išlaidų pavadinimas",null,null,null,null,0,0]
["5.3.7","Išlaidų pavadinimas",null,null,null,null,0,0]
["5.3.8","Išlaidų pavadinimas",null,null,null,null,0,0]
["5.3.9","Išlaidų pavadinimas",null,null,null,null,0,0]
["5.3.10","Išlaidų pavadinimas",null,null,null,null,0,0]
["5.3.11","Išlaidų pavadinimas",null,null,null,null,0,0]
["5.3.12","Išlaidų pavadinimas",null,null,null,null,0,0]
["5.3.13","Išlaidų pavadinimas",null,null,null,null,0,0]
["5.3.14","Išlaidų pavadinimas",null,null,null,null,0,0]
["5.3.15","Išlaidų pavadinimas",null,null,null,null,0,0]
["5.4","Projekto MTEP veikloms naudojamo ilgalaikio materialaus turto (įrangos, prietaisų, įrankių, įrenginių, mašinų ir įrengimų, pastatų ir (ar) patalpų), nusidėvėjimo sąnaudos, jeigu šiam turtui įsigyti nebuvo naudojamos viešosios (įskaitant ir kitų valstybių) lėšos",null,null,null,null,{"$f":"SUM(G61:G75)","v":0},{"$f":"SUM(H61:H75)","v":0},null,null,"Turto įvedimo į eksploataciją data","Turto įsigijimo vertė, Eur","Turto nudėvėjimo, amortizacijos laikotarpis, mėn.","Numatoma turto likutinė vertė, Eur","1 mėn. nudėvėjimo, amortizacijos suma, Eur","Turto naudojamo projekto reikmėms laikas, mėn.","Turto panaudojimo projekto reikmėms dalis (proc.)","Projektui priskirta turto nusidėvėjimo, amortizacijos suma per projekto laikotarpį, Eur"]
["5.4.1","Turtas, kurio nusidėvėjimą, amortizaciją prašoma finansuoti",null,null,1,{"$f":"R61","v":0},{"$f":"ROUND(E61*F61,2)","v":0},0,null,null,null,null,null,null,{"$f":"IFERROR(ROUND((L61-N61)/M61,2),\"0\")","v":"0"},null,null,{"$f":"O61*P61*Q61","v":0},{"$f":"IF(K61=0,\" \",IF(K61+(M61*30.5)<TODAY(),\"DĖMESIO! Patikrinkite, ar nurodytas turtas dar nėra nudėvėtas, amortizuotas\",\" \"))","v":" "}]
["5.4.2","Turtas, kurio nusidėvėjimą, amortizaciją prašoma finansuoti",null,null,1,{"$f":"R62","v":0},0,0,null,null,null,null,null,null,{"$f":"IFERROR(ROUND((L62-N62)/M62,2),\"0\")","v":"0"},null,null,{"$f":"O62*P62*Q62","v":0},{"$f":"IF(K62=0,\" \",IF(K62+(M62*30.5)<TODAY(),\"DĖMESIO! Patikrinkite, ar nurodytas turtas dar nėra nudėvėtas, amortizuotas\",\" \"))","v":" "}]
["5.4.3","Turtas, kurio nusidėvėjimą, amortizaciją prašoma finansuoti",null,null,1,0,0,0,null,null,null,null,null,null,"0",null,null,0," "]
["5.4.4","Turtas, kurio nusidėvėjimą, amortizaciją prašoma finansuoti",null,null,1,0,0,0,null,null,null,null,null,null,"0",null,null,0," "]
["5.4.5","Turtas, kurio nusidėvėjimą, amortizaciją prašoma finansuoti",null,null,1,0,0,0,null,null,null,null,null,null,"0",null,null,0," "]
["5.4.6","Turtas, kurio nusidėvėjimą, amortizaciją prašoma finansuoti",null,null,1,0,0,0,null,null,null,null,null,null,"0",null,null,0," "]
["5.4.7","Turtas, kurio nusidėvėjimą, amortizaciją prašoma finansuoti",null,null,1,0,0,0,null,null,null,null,null,null,"0",null,null,0," "]
["5.4.8","Turtas, kurio nusidėvėjimą, amortizaciją prašoma finansuoti",null,null,1,0,0,0,null,null,null,null,null,null,"0",null,null,0," "]
["5.4.9","Turtas, kurio nusidėvėjimą, amortizaciją prašoma finansuoti",null,null,1,0,0,0,null,null,null,null,null,null,"0",null,null,0," "]
["5.4.10","Turtas, kurio nusidėvėjimą, amortizaciją prašoma finansuoti",null,null,1,0,0,0,null,null,null,null,null,null,"0",null,null,0," "]
["5.4.11","Turtas, kurio nusidėvėjimą, amortizaciją prašoma finansuoti",null,null,1,0,0,0,null,null,null,null,null,null,"0",null,null,0," "]
["5.4.12","Turtas, kurio nusidėvėjimą, amortizaciją prašoma finansuoti",null,null,1,0,0,0,null,null,null,null,null,null,"0",null,null,0," "]
["5.4.13","Turtas, kurio nusidėvėjimą, amortizaciją prašoma finansuoti",null,null,1,0,0,0,null,null,null,null,null,null,"0",null,null,0," "]
["5.4.14","Turtas, kurio nusidėvėjimą, amortizaciją prašoma finansuoti",null,null,1,0,0,0,null,null,null,null,null,null,"0",null,null,0," "]
["5.4.15","Turtas, kurio nusidėvėjimą, amortizaciją prašoma finansuoti",null,null,1,0,0,0,null,null,null,null,null,null,"0",null,null,0," "]
["5.5","Projektą vykdančio personalo darbo užmokestis ir išlaidos su darbo santykiais susijusiems darbdavio įsipareigojimams",null,null,null,null,{"$f":"SUM(G77:G126)","v":0},{"$f":"SUM(H77:H126)","v":0},null,null,"Faktiškai gaunamas darbo užmokesti už 1 valandą pagal  pastarųjų 6 mėn. vidurkį, Eur"]
["5.5.1","Pareigybės pavadinimas","Darbuotojo vardas pavardė","val.",null,{"$f":"IFERROR(ROUND(AVERAGE(K77:K81),2),\"0\")","v":"0"},{"$f":"ROUND(E77*F77,2)","v":0},{"$f":"ROUND(G77*$D$7,2)","v":0}]
[null,null,"Darbuotojo vardas pavardė"]
[null,null,"Darbuotojo vardas pavardė"]
[null,null,"Darbuotojo vardas pavardė"]
[null,null,"Darbuotojo vardas pavardė"]
["5.5.2","Pareigybės pavadinimas","Darbuotojo vardas pavardė","val.",null,{"$f":"IFERROR(ROUND(AVERAGE(K82:K86),2),\"0\")","v":"0"},{"$f":"ROUND(E82*F82,2)","v":0},{"$f":"ROUND(G82*$D$7,2)","v":0}]
[null,null,"Darbuotojo vardas pavardė"]
[null,null,"Darbuotojo vardas pavardė"]
[null,null,"Darbuotojo vardas pavardė"]
[null,null,"Darbuotojo vardas pavardė"]
["5.5.3","Pareigybės pavadinimas","Darbuotojo vardas pavardė","val.",null,{"$f":"IFERROR(ROUND(AVERAGE(K87:K91),2),\"0\")","v":"0"},{"$f":"ROUND(E87*F87,2)","v":0},{"$f":"ROUND(G87*$D$7,2)","v":0}]
[null,null,"Darbuotojo vardas pavardė"]
[null,null,"Darbuotojo vardas pavardė"]
[null,null,"Darbuotojo vardas pavardė"]
[null,null,"Darbuotojo vardas pavardė"]
["5.5.4","Pareigybės pavadinimas","Darbuotojo vardas pavardė","val.",null,{"$f":"IFERROR(ROUND(AVERAGE(K92:K96),2),\"0\")","v":"0"},{"$f":"ROUND(E92*F92,2)","v":0},{"$f":"ROUND(G92*$D$7,2)","v":0}]
[null,null,"Darbuotojo vardas pavardė"]
[null,null,"Darbuotojo vardas pavardė"]
[null,null,"Darbuotojo vardas pavardė"]
[null,null,"Darbuotojo vardas pavardė"]
["5.5.5","Pareigybės pavadinimas","Darbuotojo vardas pavardė","val.",null,{"$f":"IFERROR(ROUND(AVERAGE(K97:K101),2),\"0\")","v":"0"},{"$f":"ROUND(E97*F97,2)","v":0},{"$f":"ROUND(G97*$D$7,2)","v":0}]
[null,null,"Darbuotojo vardas pavardė"]
[null,null,"Darbuotojo vardas pavardė"]
[null,null,"Darbuotojo vardas pavardė"]
[null,null,"Darbuotojo vardas pavardė"]
["5.5.6","Pareigybės pavadinimas","Darbuotojo vardas pavardė","val.",null,{"$f":"IFERROR(ROUND(AVERAGE(K102:K106),2),\"0\")","v":"0"},{"$f":"ROUND(E102*F102,2)","v":0},{"$f":"ROUND(G102*$D$7,2)","v":0}]
[null,null,"Darbuotojo vardas pavardė"]
[null,null,"Darbuotojo vardas pavardė"]
[null,null,"Darbuotojo vardas pavardė"]
[null,null,"Darbuotojo vardas pavardė"]
["5.5.7","Pareigybės pavadinimas","Darbuotojo vardas pavardė","val.",null,{"$f":"IFERROR(ROUND(AVERAGE(K107:K111),2),\"0\")","v":"0"},{"$f":"ROUND(E107*F107,2)","v":0},{"$f":"ROUND(G107*$D$7,2)","v":0}]
[null,null,"Darbuotojo vardas pavardė"]
[null,null,"Darbuotojo vardas pavardė"]
[null,null,"Darbuotojo vardas pavardė"]
[null,null,"Darbuotojo vardas pavardė"]
["5.5.8","Pareigybės pavadinimas","Darbuotojo vardas pavardė","val.",null,{"$f":"IFERROR(ROUND(AVERAGE(K112:K116),2),\"0\")","v":"0"},{"$f":"ROUND(E112*F112,2)","v":0},{"$f":"ROUND(G112*$D$7,2)","v":0}]
[null,null,"Darbuotojo vardas pavardė"]
[null,null,"Darbuotojo vardas pavardė"]
[null,null,"Darbuotojo vardas pavardė"]
[null,null,"Darbuotojo vardas pavardė"]
["5.5.9","Pareigybės pavadinimas","Darbuotojo vardas pavardė","val.",null,{"$f":"IFERROR(ROUND(AVERAGE(K117:K121),2),\"0\")","v":"0"},{"$f":"ROUND(E117*F117,2)","v":0},{"$f":"ROUND(G117*$D$7,2)","v":0}]
[null,null,"Darbuotojo vardas pavardė"]
[null,null,"Darbuotojo vardas pavardė"]
[null,null,"Darbuotojo vardas pavardė"]
[null,null,"Darbuotojo vardas pavardė"]
["5.5.10","Pareigybės pavadinimas","Darbuotojo vardas pavardė","val.",null,{"$f":"IFERROR(ROUND(AVERAGE(K122:K126),2),\"0\")","v":"0"},{"$f":"ROUND(E122*F122,2)","v":0},{"$f":"ROUND(G122*$D$7,2)","v":0}]
[null,null,"Darbuotojo vardas pavardė"]
[null,null,"Darbuotojo vardas pavardė"]
[null,null,"Darbuotojo vardas pavardė"]
[null,null,"Darbuotojo vardas pavardė"]
["5.6","Projektą vykdančio personalo komandiruočių išlaidos",null,null,null,null,{"$f":"SUM(G128,G135,G142,G149,G156,G163,G170,G177,G184,G191)","v":0},{"$f":"SUM(H128,H135,H142,H149,H156,H163,H170,H177,H184,H191)","v":0}]
["5.6.1","Komandiruotės pavadinimas, vieta, trukmė dienomis, vykstančių asmenų skaičius","Iš viso komandiruotei",null,null,null,{"$f":"SUM(G129:G134)","v":0},{"$f":"ROUND(G128*$D$7,2)","v":0}]
[null,null,"Dienpinigiai",null,null,null,{"$f":"ROUND(E129*F129,2)","v":0}]
[null,null,"Gyvenamojo ploto nuoma",null,null,null,0]
[null,null,"Kelionės išlaidos",null,null,null,0]
[null,null,"Dalyvavimo mokestis",null,null,null,0]
[null,null,"Kitos išlaidų pavadinimas",null,null,null,0]
[null,null,"Kitos išlaidų pavadinimas",null,null,null,0]
["5.6.2","Komandiruotės pavadinimas, vieta, trukmė dienomis, vykstančių asmenų skaičius","Iš viso komandiruotei",null,null,null,{"$f":"SUM(G136:G141)","v":0},{"$f":"ROUND(G135*$D$7,2)","v":0}]
[null,null,"Dienpinigiai",null,null,null,{"$f":"ROUND(E136*F136,2)","v":0}]
[null,null,"Gyvenamojo ploto nuoma",null,null,null,0]
[null,null,"Kelionės išlaidos",null,null,null,0]
[null,null,"Dalyvavimo mokestis",null,null,null,0]
[null,null,"Kitos išlaidų pavadinimas",null,null,null,0]
[null,null,"Kitos išlaidų pavadinimas",null,null,null,0]
["5.6.3","Komandiruotės pavadinimas, vieta, trukmė dienomis, vykstančių asmenų skaičius","Iš viso komandiruotei",null,null,null,{"$f":"SUM(G143:G148)","v":0},{"$f":"ROUND(G142*$D$7,2)","v":0}]
[null,null,"Dienpinigiai",null,null,null,{"$f":"ROUND(E143*F143,2)","v":0}]
[null,null,"Gyvenamojo ploto nuoma",null,null,null,0]
[null,null,"Kelionės išlaidos",null,null,null,0]
[null,null,"Dalyvavimo mokestis",null,null,null,0]
[null,null,"Kitos išlaidų pavadinimas",null,null,null,0]
[null,null,"Kitos išlaidų pavadinimas",null,null,null,0]
["5.6.4","Komandiruotės pavadinimas, vieta, trukmė dienomis, vykstančių asmenų skaičius","Iš viso komandiruotei",null,null,null,{"$f":"SUM(G150:G155)","v":0},{"$f":"ROUND(G149*$D$7,2)","v":0}]
[null,null,"Dienpinigiai",null,null,null,{"$f":"ROUND(E150*F150,2)","v":0}]
[null,null,"Gyvenamojo ploto nuoma",null,null,null,0]
[null,null,"Kelionės išlaidos",null,null,null,0]
[null,null,"Dalyvavimo mokestis",null,null,null,0]
[null,null,"Kitos išlaidų pavadinimas",null,null,null,0]
[null,null,"Kitos išlaidų pavadinimas",null,null,null,0]
["5.6.5","Komandiruotės pavadinimas, vieta, trukmė dienomis, vykstančių asmenų skaičius","Iš viso komandiruotei",null,null,null,{"$f":"SUM(G157:G162)","v":0},{"$f":"ROUND(G156*$D$7,2)","v":0}]
[null,null,"Dienpinigiai",null,null,null,{"$f":"ROUND(E157*F157,2)","v":0}]
[null,null,"Gyvenamojo ploto nuoma",null,null,null,0]
[null,null,"Kelionės išlaidos",null,null,null,0]
[null,null,"Dalyvavimo mokestis",null,null,null,0]
[null,null,"Kitos išlaidų pavadinimas",null,null,null,0]
[null,null,"Kitos išlaidų pavadinimas",null,null,null,0]
["5.6.6","Komandiruotės pavadinimas, vieta, trukmė dienomis, vykstančių asmenų skaičius","Iš viso komandiruotei",null,null,null,{"$f":"SUM(G164:G169)","v":0},{"$f":"ROUND(G163*$D$7,2)","v":0}]
[null,null,"Dienpinigiai",null,null,null,{"$f":"ROUND(E164*F164,2)","v":0}]
[null,null,"Gyvenamojo ploto nuoma",null,null,null,0]
[null,null,"Kelionės išlaidos",null,null,null,0]
[null,null,"Dalyvavimo mokestis",null,null,null,0]
[null,null,"Kitos išlaidų pavadinimas",null,null,null,0]
[null,null,"Kitos išlaidų pavadinimas",null,null,null,0]
["5.6.7","Komandiruotės pavadinimas, vieta, trukmė dienomis, vykstančių asmenų skaičius","Iš viso komandiruotei",null,null,null,{"$f":"SUM(G171:G176)","v":0},{"$f":"ROUND(G170*$D$7,2)","v":0}]
[null,null,"Dienpinigiai",null,null,null,{"$f":"ROUND(E171*F171,2)","v":0}]
[null,null,"Gyvenamojo ploto nuoma",null,null,null,0]
[null,null,"Kelionės išlaidos",null,null,null,0]
[null,null,"Dalyvavimo mokestis",null,null,null,0]
[null,null,"Kitos išlaidų pavadinimas",null,null,null,0]
[null,null,"Kitos išlaidų pavadinimas",null,null,null,0]
["5.6.8","Komandiruotės pavadinimas, vieta, trukmė dienomis, vykstančių asmenų skaičius","Iš viso komandiruotei",null,null,null,{"$f":"SUM(G178:G183)","v":0},{"$f":"ROUND(G177*$D$7,2)","v":0}]
[null,null,"Dienpinigiai",null,null,null,{"$f":"ROUND(E178*F178,2)","v":0}]
[null,null,"Gyvenamojo ploto nuoma",null,null,null,0]
[null,null,"Kelionės išlaidos",null,null,null,0]
[null,null,"Dalyvavimo mokestis",null,null,null,0]
[null,null,"Kitos išlaidų pavadinimas",null,null,null,0]
[null,null,"Kitos išlaidų pavadinimas",null,null,null,0]
["5.6.9","Komandiruotės pavadinimas, vieta, trukmė dienomis, vykstančių asmenų skaičius","Iš viso komandiruotei",null,null,null,{"$f":"SUM(G185:G190)","v":0},{"$f":"ROUND(G184*$D$7,2)","v":0}]
[null,null,"Dienpinigiai",null,null,null,{"$f":"ROUND(E185*F185,2)","v":0}]
[null,null,"Gyvenamojo ploto nuoma",null,null,null,0]
[null,null,"Kelionės išlaidos",null,null,null,0]
[null,null,"Dalyvavimo mokestis",null,null,null,0]
[null,null,"Kitos išlaidų pavadinimas",null,null,null,0]
[null,null,"Kitos išlaidų pavadinimas",null,null,null,0]
["5.6.10","Komandiruotės pavadinimas, vieta, trukmė dienomis, vykstančių asmenų skaičius","Iš viso komandiruotei",null,null,null,{"$f":"SUM(G192:G197)","v":0},{"$f":"ROUND(G191*$D$7,2)","v":0}]
[null,null,"Dienpinigiai",null,null,null,{"$f":"ROUND(E192*F192,2)","v":0}]
[null,null,"Gyvenamojo ploto nuoma",null,null,null,0]
[null,null,"Kelionės išlaidos",null,null,null,0]
[null,null,"Dalyvavimo mokestis",null,null,null,0]
[null,null,"Kitos išlaidų pavadinimas",null,null,null,0]
[null,null,"Kitos išlaidų pavadinimas",null,null,null,0]
["5.7","Įrangos nuomos išlaidos, veiklai priskirtos pro rata principu. Įranga turi būti tiesiogiai susijusi su projekto įgyvendinimu ir negali būti įsigyta iš ES struktūrinių fondų ar kt. ES finansinių priemonių lėšų",null,null,null,null,{"$f":"SUM(G199:G203)","v":0},{"$f":"SUM(H199:H203)","v":0},null,null,"Faktinės 1 mėnesio išlaidos, Eur","Naudojimo projekte trukmė, mėn."]
["5.7.1","Įrangos pavadinimas",null,"pro rata proc.",null,{"$f":"K199*L199","v":0},0,{"$f":"ROUND(G199*$D$7,2)","v":0}]
["5.7.2","Įrangos pavadinimas",null,"pro rata proc.",null,{"$f":"K200*L200","v":0},0,{"$f":"ROUND(G200*$D$7,2)","v":0}]
["5.7.3","Įrangos pavadinimas",null,"pro rata proc.",null,0,0,0]
["5.7.4","Įrangos pavadinimas",null,"pro rata proc.",null,0,0,0]
["5.7.5","Įrangos pavadinimas",null,"pro rata proc.",null,0,0,0]
["5.8","Pastatų ar patalpų nuomos išlaidos, veiklai priskirtos pro rata principu. Pastatai ar patalpos turi būti tiesiogiai susijusi su projekto įgyvendinimu.",null,null,null,null,{"$f":"SUM(G205:G209)","v":0},{"$f":"SUM(H205:H209)","v":0},null,null,"Faktinės 1 mėnesio išlaidos, Eur","Naudojimo projekte trukmė, mėn."]
["5.8.1","Pastato, patalpų adresas",null,"pro rata proc.",null,{"$f":"K205*L205","v":0},{"$f":"ROUND(E205*F205,2)","v":0},{"$f":"ROUND(G205*$D$7,2)","v":0}]
["5.8.2","Pastato, patalpų adresas",null,"pro rata proc.",null,{"$f":"K206*L206","v":0},0,0]
["5.8.3","Pastato, patalpų adresas",null,"pro rata proc.",null,0,0,0]
["5.8.4","Pastato, patalpų adresas",null,"pro rata proc.",null,0,0,0]
["5.8.5","Pastato, patalpų adresas",null,"pro rata proc.",null,0,0,0]
["Iš viso tinkamų finansuoti išlaidų:",null,null,null,null,null,{"$f":"G10+G21","v":0},{"$f":"H10+H21","v":0}]

{"sheet":"3","index":4,"n_rows":210,"n_cols":19,"rows_kept":210,"cut":false,"hidden":false,"merged":[[203,1,203,5],[204,1,204,2],[205,1,205,2],[206,1,206,2],[207,1,207,2],[208,1,208,2],[209,0,209,5],[190,0,196,0],[190,1,196,1],[199,1,199,2],[200,1,200,2],[201,1,201,2],[202,1,202,2],[155,0,161,0],[155,1,161,1],[155,8,161,8],[162,0,168,0],[162,1,168,1],[162,8,168,8],[190,8,196,8],[197,1,197,5],[198,1,198,2],[169,0,175,0],[169,1,175,1],[169,8,175,8],[176,0,182,0],[176,1,182,1],[176,8,182,8],[183,0,189,0],[183,1,189,1],[183,8,189,8],[134,0,140,0],[134,1,140,1],[134,8,140,8],[141,0,147,0],[141,1,147,1],[141,8,147,8],[148,0,154,0],[148,1,154,1],[148,8,154,8],[121,0,125,0],[121,1,125,1],[121,3,125,3],[121,4,125,4],[121,5,125,5],[121,6,125,6],[121,7,125,7],[121,8,125,8],[127,0,133,0],[127,1,133,1],[127,8,133,8],[126,1,126,5],[96,8,100,8],[101,0,105,0],[101,1,105,1],[101,3,105,3],[101,4,105,4],[101,5,105,5],[101,6,105,6],[101,7,105,7],[101,8,105,8],[96,0,100,0],[96,1,100,1],[96,3,100,3],[96,4,100,4],[96,5,100,5],[96,7,100,7],[96,6,100,6],[31,1,31,2],[32,1,32,5],[42,1,42,2],[43,1,43,5],[23,1,23,2],[24,1,24,2],[25,1,25,2],[33,1,33,2],[34,1,34,2],[35,1,35,2],[36,1,36,2],[37,1,37,2],[26,1,26,2],[27,1,27,2],[28,1,28,2],[29,1,29,2],[30,1,30,2],[111,8,115,8],[116,0,120,0],[116,1,120,1],[116,3,120,3],[116,4,120,4],[116,5,120,5],[111,0,115,0],[111,1,115,1],[111,3,115,3],[111,4,115,4],[111,5,115,5],[111,6,115,6],[111,7,115,7],[116,6,120,6],[116,7,120,7],[116,8,120,8],[0,3,0,8],[2,0,2,2],[2,3,2,8],[22,1,22,2],[14,1,14,2],[15,1,15,2],[16,1,16,2],[17,1,17,2],[18,1,18,2],[20,1,20,5],[10,1,10,2],[11,1,11,2],[12,1,12,2],[13,1,13,2],[3,3,3,4],[3,5,3,6],[4,0,4,2],[4,3,4,8],[8,1,8,2],[9,1,9,5],[19,1,19,2],[21,1,21,5],[48,1,48,2],[49,1,49,2],[38,1,38,2],[39,1,39,2],[40,1,40,2],[41,1,41,2],[56,1,56,2],[60,1,60,2],[61,1,61,2],[50,1,50,2],[51,1,51,2],[52,1,52,2],[53,1,53,2],[54,1,54,2],[55,1,55,2],[57,1,57,2],[58,1,58,2],[59,1,59,5],[44,1,44,2],[45,1,45,2],[46,1,46,2],[47,1,47,2],[62,1,62,2],[63,1,63,2],[64,1,64,2],[65,1,65,2],[66,1,66,2],[67,1,67,2],[68,1,68,2],[69,1,69,2],[70,1,70,2],[71,1,71,2],[72,1,72,2],[73,1,73,2],[74,1,74,2],[75,1,75,5],[76,0,80,0],[76,1,80,1],[76,3,80,3],[76,4,80,4],[76,5,80,5],[76,6,80,6],[76,7,80,7],[76,8,80,8],[81,0,85,0],[81,1,85,1],[81,3,85,3],[81,4,85,4],[81,5,85,5],[81,6,85,6],[81,7,85,7],[81,8,85,8],[86,0,90,0],[86,1,90,1],[86,3,90,3],[86,4,90,4],[86,5,90,5],[86,6,90,6],[86,7,90,7],[86,8,90,8],[106,0,110,0],[106,1,110,1],[106,3,110,3],[106,4,110,4],[106,5,110,5],[106,6,110,6],[106,7,110,7],[106,8,110,8],[91,0,95,0],[91,1,95,1],[91,3,95,3],[91,4,95,4],[91,5,95,5],[91,6,95,6],[91,7,95,7],[91,8,95,8]]}
[null,null,"Pasirinkite veiklos tipą:"]
[null,null,"Fizinio rodiklio Nr.:"]
["Fizinio rodiklio pavadinimas:"]
[null,null,"Fizinio rodiklio matavimo vnt.:",null,null,"Fizinio rodiklio vnt. skaičius:"]
["Juridinis asmuo (pareiškėjas, partneris), atsakingas už fizinį rodiklį:"]
[]
[null,null,"Finansavimo intensyvumas:",null,null,null,"Pasirinkite biudžeto išlaidų kategoriją:"]
[]
["Eil. Nr.","Išlaidų kategorijos pavadinimas",null,"Matavimo vnt.","Kiekis","Vieneto kaina be PVM, Eur","Tinkamų finansuoti išlaidų suma be PVM, Eur","Finansavimo suma, Eur","Išlaidų pagrindimo dokumentų pavadinimas, data ir Nr."]
[4,"ĮRANGA, ĮRENGINIAI IR KT. TURTAS (techninių žinių ir išradimų patentų arba teisių pagal licencijų sutartį įsigijimo išlaidos)",null,null,null,null,{"$f":"SUM(G11:G20)","v":0},{"$f":"SUM(H11:H20)","v":0}]
["4.1","Išlaidų pavadinimas",null,null,null,null,{"$f":"ROUND(E11*F11,2)","v":0},{"$f":"ROUND(G11*$D$7,2)","v":0}]
["4.2","Išlaidų pavadinimas",null,null,null,null,0,0]
["4.3","Išlaidų pavadinimas",null,null,null,null,0,0]
["4.4","Išlaidų pavadinimas",null,null,null,null,0,0]
["4.5","Išlaidų pavadinimas",null,null,null,null,0,0]
["4.6","Išlaidų pavadinimas",null,null,null,null,0,0]
["4.7","Išlaidų pavadinimas",null,null,null,null,0,0]
["4.8","Išlaidų pavadinimas",null,null,null,null,0,0]
["4.9","Išlaidų pavadinimas",null,null,null,null,0,0]
["4.10","Išlaidų pavadinimas",null,null,null,null,0,0]
[5,"PROJEKTO VYKDYMAS",null,null,null,null,{"$f":"G22+G33+G44+G60+G76+G127+G198+G204","v":0},{"$f":"H22+H33+H44+H60+H76+H127+H198+H204","v":0}]
["5.1","MTEP paslaugos",null,null,null,null,{"$f":"SUM(G23:G32)","v":0},{"$f":"SUM(H23:H32)","v":0}]
["5.1.1","Paslaugos pavadinimas",null,null,null,null,{"$f":"ROUND(E23*F23,2)","v":0},0]
["5.1.2","Paslaugos pavadinimas",null,null,null,null,0,0]
["5.1.3","Paslaugos pavadinimas",null,null,null,null,0,0]
["5.1.4","Paslaugos pavadinimas",null,null,null,null,0,0]
["5.1.5","Paslaugos pavadinimas",null,null,null,null,0,0]
["5.1.6","Paslaugos pavadinimas",null,null,null,null,0,0]
["5.1.7","Paslaugos pavadinimas",null,null,null,null,0,0]
["5.1.8","Paslaugos pavadinimas",null,null,null,null,0,0]
["5.1.9","Paslaugos pavadinimas",null,null,null,null,0,0]
["5.1.10","Paslaugos pavadinimas",null,null,null,null,0,0]
["5.2","Konsultavimo ir lygiavertės paslaugos, naudojamos vien tik projekto MTEP veiklai",null,null,null,null,{"$f":"SUM(G34:G43)","v":0},{"$f":"SUM(H34:H43)","v":0}]
["5.2.1","Paslaugos pavadinimas",null,null,null,null,{"$f":"ROUND(E34*F34,2)","v":0},0]
["5.2.2","Paslaugos pavadinimas",null,null,null,null,0,0]
["5.2.3","Paslaugos pavadinimas",null,null,null,null,0,0]
["5.2.4","Paslaugos pavadinimas",null,null,null,null,0,0]
["5.2.5","Paslaugos pavadinimas",null,null,null,null,0,0]
["5.2.6","Paslaugos pavadinimas",null,null,null,null,0,0]
["5.2.7","Paslaugos pavadinimas",null,null,null,null,0,0]
["5.2.8","Paslaugos pavadinimas",null,null,null,null,0,0]
["5.2.9","Paslaugos pavadinimas",null,null,null,null,0,0]
["5.2.10","Paslaugos pavadinimas",null,null,null,null,0,0]
["5.3","Medžiagos, mažavertis inventorius, atsargos ir pan. produktai, priskirtini trumpalaikiam turtui ir tiesiogiai susiję su MTEP veikla",null,null,null,null,{"$f":"SUM(G45:G61)","v":0},{"$f":"SUM(H45:H61)","v":0}]
["5.3.1","Išlaidų pavadinimas",null,null,null,null,{"$f":"ROUND(E45*F45,2)","v":0},{"$f":"ROUND(G45*$D$7,2)","v":0}]
["5.3.2","Išlaidų pavadinimas",null,null,null,null,0,0]
["5.3.3","Išlaidų pavadinimas",null,null,null,null,0,0]
["5.3.4","Išlaidų pavadinimas",null,null,null,null,0,0]
["5.3.5","Išlaidų pavadinimas",null,null,null,null,0,0]
["5.3.6","Išlaidų pavadinimas",null,null,null,null,0,0]
["5.3.7","Išlaidų pavadinimas",null,null,null,null,0,0]
["5.3.8","Išlaidų pavadinimas",null,null,null,null,0,0]
["5.3.9","Išlaidų pavadinimas",null,null,null,null,0,0]
["5.3.10","Išlaidų pavadinimas",null,null,null,null,0,0]
["5.3.11","Išlaidų pavadinimas",null,null,null,null,0,0]
["5.3.12","Išlaidų pavadinimas",null,null,null,null,0,0]
["5.3.13","Išlaidų pavadinimas",null,null,null,null,0,0]
["5.3.14","Išlaidų pavadinimas",null,null,null,null,0,0]
["5.3.15","Išlaidų pavadinimas",null,null,null,null,0,0]
["5.4","Projekto MTEP veikloms naudojamo ilgalaikio materialaus turto (įrangos, prietaisų, įrankių, įrenginių, mašinų ir įrengimų, pastatų ir (ar) patalpų), nusidėvėjimo sąnaudos, jeigu šiam turtui įsigyti nebuvo naudojamos viešosios (įskaitant ir kitų valstybių) lėšos",null,null,null,null,{"$f":"SUM(G61:G75)","v":0},{"$f":"SUM(H61:H75)","v":0},null,null,"Turto įvedimo į eksploataciją data","Turto įsigijimo vertė, Eur","Turto nudėvėjimo, amortizacijos laikotarpis, mėn.","Numatoma turto likutinė vertė, Eur","1 mėn. nudėvėjimo, amortizacijos suma, Eur","Turto naudojamo projekto reikmėms laikas, mėn.","Turto panaudojimo projekto reikmėms dalis (proc.)","Projektui priskirta turto nusidėvėjimo, amortizacijos suma per projekto laikotarpį, Eur"]
["5.4.1","Turtas, kurio nusidėvėjimą, amortizaciją prašoma finansuoti",null,null,1,{"$f":"R61","v":0},{"$f":"ROUND(E61*F61,2)","v":0},0,null,null,null,null,null,null,{"$f":"IFERROR(ROUND((L61-N61)/M61,2),\"0\")","v":"0"},null,null,{"$f":"O61*P61*Q61","v":0},{"$f":"IF(K61=0,\" \",IF(K61+(M61*30.5)<TODAY(),\"DĖMESIO! Patikrinkite, ar nurodytas turtas dar nėra nudėvėtas, amortizuotas\",\" \"))","v":" "}]
["5.4.2","Turtas, kurio nusidėvėjimą, amortizaciją prašoma finansuoti",null,null,1,{"$f":"R62","v":0},0,0,null,null,null,null,null,null,{"$f":"IFERROR(ROUND((L62-N62)/M62,2),\"0\")","v":"0"},null,null,{"$f":"O62*P62*Q62","v":0},{"$f":"IF(K62=0,\" \",IF(K62+(M62*30.5)<TODAY(),\"DĖMESIO! Patikrinkite, ar nurodytas turtas dar nėra nudėvėtas, amortizuotas\",\" \"))","v":" "}]
["5.4.3","Turtas, kurio nusidėvėjimą, amortizaciją prašoma finansuoti",null,null,1,0,0,0,null,null,null,null,null,null,"0",null,null,0," "]
["5.4.4","Turtas, kurio nusidėvėjimą, amortizaciją prašoma finansuoti",null,null,1,0,0,0,null,null,null,null,null,null,"0",null,null,0," "]
["5.4.5","Turtas, kurio nusidėvėjimą, amortizaciją prašoma finansuoti",null,null,1,0,0,0,null,null,null,null,null,null,"0",null,null,0," "]
["5.4.6","Turtas, kurio nusidėvėjimą, amortizaciją prašoma finansuoti",null,null,1,0,0,0,null,null,null,null,null,null,"0",null,null,0," "]
["5.4.7","Turtas, kurio nusidėvėjimą, amortizaciją prašoma finansuoti",null,null,1,0,0,0,null,null,null,null,null,null,"0",null,null,0," "]
["5.4.8","Turtas, kurio nusidėvėjimą, amortizaciją prašoma finansuoti",null,null,1,0,0,0,null,null,null,null,null,null,"0",null,null,0," "]
["5.4.9","Turtas, kurio nusidėvėjimą, amortizaciją prašoma finansuoti",null,null,1,0,0,0,null,null,null,null,null,null,"0",null,null,0," "]
["5.4.10","Turtas, kurio nusidėvėjimą, amortizaciją prašoma finansuoti",null,null,1,0,0,0,null,null,null,null,null,null,"0",null,null,0," "]
["5.4.11","Turtas, kurio nusidėvėjimą, amortizaciją prašoma finansuoti",null,null,1,0,0,0,null,null,null,null,null,null,"0",null,null,0," "]
["5.4.12","Turtas, kurio nusidėvėjimą, amortizaciją prašoma finansuoti",null,null,1,0,0,0,null,null,null,null,null,null,"0",null,null,0," "]
["5.4.13","Turtas, kurio nusidėvėjimą, amortizaciją prašoma finansuoti",null,null,1,0,0,0,null,null,null,null,null,null,"0",null,null,0," "]
["5.4.14","Turtas, kurio nusidėvėjimą, amortizaciją prašoma finansuoti",null,null,1,0,0,0,null,null,null,null,null,null,"0",null,null,0," "]
["5.4.15","Turtas, kurio nusidėvėjimą, amortizaciją prašoma finansuoti",null,null,1,0,0,0,null,null,null,null,null,null,"0",null,null,0," "]
["5.5","Projektą vykdančio personalo darbo užmokestis ir išlaidos su darbo santykiais susijusiems darbdavio įsipareigojimams",null,null,null,null,{"$f":"SUM(G77:G126)","v":0},{"$f":"SUM(H77:H126)","v":0},null,null,"Faktiškai gaunamas darbo užmokesti už 1 valandą pagal  pastarųjų 6 mėn. vidurkį, Eur"]
["5.5.1","Pareigybės pavadinimas","Darbuotojo vardas pavardė","val.",null,{"$f":"IFERROR(ROUND(AVERAGE(K77:K81),2),\"0\")","v":"0"},{"$f":"ROUND(E77*F77,2)","v":0},{"$f":"ROUND(G77*$D$7,2)","v":0}]
[null,null,"Darbuotojo vardas pavardė"]
[null,null,"Darbuotojo vardas pavardė"]
[null,null,"Darbuotojo vardas pavardė"]
[null,null,"Darbuotojo vardas pavardė"]
["5.5.2","Pareigybės pavadinimas","Darbuotojo vardas pavardė","val.",null,{"$f":"IFERROR(ROUND(AVERAGE(K82:K86),2),\"0\")","v":"0"},{"$f":"ROUND(E82*F82,2)","v":0},{"$f":"ROUND(G82*$D$7,2)","v":0}]
[null,null,"Darbuotojo vardas pavardė"]
[null,null,"Darbuotojo vardas pavardė"]
[null,null,"Darbuotojo vardas pavardė"]
[null,null,"Darbuotojo vardas pavardė"]
["5.5.3","Pareigybės pavadinimas","Darbuotojo vardas pavardė","val.",null,{"$f":"IFERROR(ROUND(AVERAGE(K87:K91),2),\"0\")","v":"0"},{"$f":"ROUND(E87*F87,2)","v":0},{"$f":"ROUND(G87*$D$7,2)","v":0}]
[null,null,"Darbuotojo vardas pavardė"]
[null,null,"Darbuotojo vardas pavardė"]
[null,null,"Darbuotojo vardas pavardė"]
[null,null,"Darbuotojo vardas pavardė"]
["5.5.4","Pareigybės pavadinimas","Darbuotojo vardas pavardė","val.",null,{"$f":"IFERROR(ROUND(AVERAGE(K92:K96),2),\"0\")","v":"0"},{"$f":"ROUND(E92*F92,2)","v":0},{"$f":"ROUND(G92*$D$7,2)","v":0}]
[null,null,"Darbuotojo vardas pavardė"]
[null,null,"Darbuotojo vardas pavardė"]
[null,null,"Darbuotojo vardas pavardė"]
[null,null,"Darbuotojo vardas pavardė"]
["5.5.5","Pareigybės pavadinimas","Darbuotojo vardas pavardė","val.",null,{"$f":"IFERROR(ROUND(AVERAGE(K97:K101),2),\"0\")","v":"0"},{"$f":"ROUND(E97*F97,2)","v":0},{"$f":"ROUND(G97*$D$7,2)","v":0}]
[null,null,"Darbuotojo vardas pavardė"]
[null,null,"Darbuotojo vardas pavardė"]
[null,null,"Darbuotojo vardas pavardė"]
[null,null,"Darbuotojo vardas pavardė"]
["5.5.6","Pareigybės pavadinimas","Darbuotojo vardas pavardė","val.",null,{"$f":"IFERROR(ROUND(AVERAGE(K102:K106),2),\"0\")","v":"0"},{"$f":"ROUND(E102*F102,2)","v":0},{"$f":"ROUND(G102*$D$7,2)","v":0}]
[null,null,"Darbuotojo vardas pavardė"]
[null,null,"Darbuotojo vardas pavardė"]
[null,null,"Darbuotojo vardas pavardė"]
[null,null,"Darbuotojo vardas pavardė"]
["5.5.7","Pareigybės pavadinimas","Darbuotojo vardas pavardė","val.",null,{"$f":"IFERROR(ROUND(AVERAGE(K107:K111),2),\"0\")","v":"0"},{"$f":"ROUND(E107*F107,2)","v":0},{"$f":"ROUND(G107*$D$7,2)","v":0}]
[null,null,"Darbuotojo vardas pavardė"]
[null,null,"Darbuotojo vardas pavardė"]
[null,null,"Darbuotojo vardas pavardė"]
[null,null,"Darbuotojo vardas pavardė"]
["5.5.8","Pareigybės pavadinimas","Darbuotojo vardas pavardė","val.",null,{"$f":"IFERROR(ROUND(AVERAGE(K112:K116),2),\"0\")","v":"0"},{"$f":"ROUND(E112*F112,2)","v":0},{"$f":"ROUND(G112*$D$7,2)","v":0}]
[null,null,"Darbuotojo vardas pavardė"]
[null,null,"Darbuotojo vardas pavardė"]
[null,null,"Darbuotojo vardas pavardė"]
[null,null,"Darbuotojo vardas pavardė"]
["5.5.9","Pareigybės pavadinimas","Darbuotojo vardas pavardė","val.",null,{"$f":"IFERROR(ROUND(AVERAGE(K117:K121),2),\"0\")","v":"0"},{"$f":"ROUND(E117*F117,2)","v":0},{"$f":"ROUND(G117*$D$7,2)","v":0}]
[null,null,"Darbuotojo vardas pavardė"]
[null,null,"Darbuotojo vardas pavardė"]
[null,null,"Darbuotojo vardas pavardė"]
[null,null,"Darbuotojo vardas pavardė"]
["5.5.10","Pareigybės pavadinimas","Darbuotojo vardas pavardė","val.",null,{"$f":"IFERROR(ROUND(AVERAGE(K122:K126),2),\"0\")","v":"0"},{"$f":"ROUND(E122*F122,2)","v":0},{"$f":"ROUND(G122*$D$7,2)","v":0}]
[null,null,"Darbuotojo vardas pavardė"]
[null,null,"Darbuotojo vardas pavardė"]
[null,null,"Darbuotojo vardas pavardė"]
[null,null,"Darbuotojo vardas pavardė"]
["5.6","Projektą vykdančio personalo komandiruočių išlaidos",null,null,null,null,{"$f":"SUM(G128,G135,G142,G149,G156,G163,G170,G177,G184,G191)","v":0},{"$f":"SUM(H128,H135,H142,H149,H156,H163,H170,H177,H184,H191)","v":0}]
["5.6.1","Komandiruotės pavadinimas, vieta, trukmė dienomis, vykstančių asmenų skaičius","Iš viso komandiruotei",null,null,null,{"$f":"SUM(G129:G134)","v":0},{"$f":"ROUND(G128*$D$7,2)","v":0}]
[null,null,"Dienpinigiai",null,null,null,{"$f":"ROUND(E129*F129,2)","v":0}]
[null,null,"Gyvenamojo ploto nuoma",null,null,null,0]
[null,null,"Kelionės išlaidos",null,null,null,0]
[null,null,"Dalyvavimo mokestis",null,null,null,0]
[null,null,"Kitos išlaidų pavadinimas",null,null,null,0]
[null,null,"Kitos išlaidų pavadinimas",null,null,null,0]
["5.6.2","Komandiruotės pavadinimas, vieta, trukmė dienomis, vykstančių asmenų skaičius","Iš viso komandiruotei",null,null,null,{"$f":"SUM(G136:G141)","v":0},{"$f":"ROUND(G135*$D$7,2)","v":0}]
[null,null,"Dienpinigiai",null,null,null,{"$f":"ROUND(E136*F136,2)","v":0}]
[null,null,"Gyvenamojo ploto nuoma",null,null,null,0]
[null,null,"Kelionės išlaidos",null,null,null,0]
[null,null,"Dalyvavimo mokestis",null,null,null,0]
[null,null,"Kitos išlaidų pavadinimas",null,null,null,0]
[null,null,"Kitos išlaidų pavadinimas",null,null,null,0]
["5.6.3","Komandiruotės pavadinimas, vieta, trukmė dienomis, vykstančių asmenų skaičius","Iš viso komandiruotei",null,null,null,{"$f":"SUM(G143:G148)","v":0},{"$f":"ROUND(G142*$D$7,2)","v":0}]
[null,null,"Dienpinigiai",null,null,null,{"$f":"ROUND(E143*F143,2)","v":0}]
[null,null,"Gyvenamojo ploto nuoma",null,null,null,0]
[null,null,"Kelionės išlaidos",null,null,null,0]
[null,null,"Dalyvavimo mokestis",null,null,null,0]
[null,null,"Kitos išlaidų pavadinimas",null,null,null,0]
[null,null,"Kitos išlaidų pavadinimas",null,null,null,0]
["5.6.4","Komandiruotės pavadinimas, vieta, trukmė dienomis, vykstančių asmenų skaičius","Iš viso komandiruotei",null,null,null,{"$f":"SUM(G150:G155)","v":0},{"$f":"ROUND(G149*$D$7,2)","v":0}]
[null,null,"Dienpinigiai",null,null,null,{"$f":"ROUND(E150*F150,2)","v":0}]
[null,null,"Gyvenamojo ploto nuoma",null,null,null,0]
[null,null,"Kelionės išlaidos",null,null,null,0]
[null,null,"Dalyvavimo mokestis",null,null,null,0]
[null,null,"Kitos išlaidų pavadinimas",null,null,null,0]
[null,null,"Kitos išlaidų pavadinimas",null,null,null,0]
["5.6.5","Komandiruotės pavadinimas, vieta, trukmė dienomis, vykstančių asmenų skaičius","Iš viso komandiruotei",null,null,null,{"$f":"SUM(G157:G162)","v":0},{"$f":"ROUND(G156*$D$7,2)","v":0}]
[null,null,"Dienpinigiai",null,null,null,{"$f":"ROUND(E157*F157,2)","v":0}]
[null,null,"Gyvenamojo ploto nuoma",null,null,null,0]
[null,null,"Kelionės išlaidos",null,null,null,0]
[null,null,"Dalyvavimo mokestis",null,null,null,0]
[null,null,"Kitos išlaidų pavadinimas",null,null,null,0]
[null,null,"Kitos išlaidų pavadinimas",null,null,null,0]
["5.6.6","Komandiruotės pavadinimas, vieta, trukmė dienomis, vykstančių asmenų skaičius","Iš viso komandiruotei",null,null,null,{"$f":"SUM(G164:G169)","v":0},{"$f":"ROUND(G163*$D$7,2)","v":0}]
[null,null,"Dienpinigiai",null,null,null,{"$f":"ROUND(E164*F164,2)","v":0}]
[null,null,"Gyvenamojo ploto nuoma",null,null,null,0]
[null,null,"Kelionės išlaidos",null,null,null,0]
[null,null,"Dalyvavimo mokestis",null,null,null,0]
[null,null,"Kitos išlaidų pavadinimas",null,null,null,0]
[null,null,"Kitos išlaidų pavadinimas",null,null,null,0]
["5.6.7","Komandiruotės pavadinimas, vieta, trukmė dienomis, vykstančių asmenų skaičius","Iš viso komandiruotei",null,null,null,{"$f":"SUM(G171:G176)","v":0},{"$f":"ROUND(G170*$D$7,2)","v":0}]
[null,null,"Dienpinigiai",null,null,null,{"$f":"ROUND(E171*F171,2)","v":0}]
[null,null,"Gyvenamojo ploto nuoma",null,null,null,0]
[null,null,"Kelionės išlaidos",null,null,null,0]
[null,null,"Dalyvavimo mokestis",null,null,null,0]
[null,null,"Kitos išlaidų pavadinimas",null,null,null,0]
[null,null,"Kitos išlaidų pavadinimas",null,null,null,0]
["5.6.8","Komandiruotės pavadinimas, vieta, trukmė dienomis, vykstančių asmenų skaičius","Iš viso komandiruotei",null,null,null,{"$f":"SUM(G178:G183)","v":0},{"$f":"ROUND(G177*$D$7,2)","v":0}]
[null,null,"Dienpinigiai",null,null,null,{"$f":"ROUND(E178*F178,2)","v":0}]
[null,null,"Gyvenamojo ploto nuoma",null,null,null,0]
[null,null,"Kelionės išlaidos",null,null,null,0]
[null,null,"Dalyvavimo mokestis",null,null,null,0]
[null,null,"Kitos išlaidų pavadinimas",null,null,null,0]
[null,null,"Kitos išlaidų pavadinimas",null,null,null,0]
["5.6.9","Komandiruotės pavadinimas, vieta, trukmė dienomis, vykstančių asmenų skaičius","Iš viso komandiruotei",null,null,null,{"$f":"SUM(G185:G190)","v":0},{"$f":"ROUND(G184*$D$7,2)","v":0}]
[null,null,"Dienpinigiai",null,null,null,{"$f":"ROUND(E185*F185,2)","v":0}]
[null,null,"Gyvenamojo ploto nuoma",null,null,null,0]
[null,null,"Kelionės išlaidos",null,null,null,0]
[null,null,"Dalyvavimo mokestis",null,null,null,0]
[null,null,"Kitos išlaidų pavadinimas",null,null,null,0]
[null,null,"Kitos išlaidų pavadinimas",null,null,null,0]
["5.6.10","Komandiruotės pavadinimas, vieta, trukmė dienomis, vykstančių asmenų skaičius","Iš viso komandiruotei",null,null,null,{"$f":"SUM(G192:G197)","v":0},{"$f":"ROUND(G191*$D$7,2)","v":0}]
[null,null,"Dienpinigiai",null,null,null,{"$f":"ROUND(E192*F192,2)","v":0}]
[null,null,"Gyvenamojo ploto nuoma",null,null,null,0]
[null,null,"Kelionės išlaidos",null,null,null,0]
[null,null,"Dalyvavimo mokestis",null,null,null,0]
[null,null,"Kitos išlaidų pavadinimas",null,null,null,0]
[null,null,"Kitos išlaidų pavadinimas",null,null,null,0]
["5.7","Įrangos nuomos išlaidos, veiklai priskirtos pro rata principu. Įranga turi būti tiesiogiai susijusi su projekto įgyvendinimu ir negali būti įsigyta iš ES struktūrinių fondų ar kt. ES finansinių priemonių lėšų",null,null,null,null,{"$f":"SUM(G199:G203)","v":0},{"$f":"SUM(H199:H203)","v":0},null,null,"Faktinės 1 mėnesio išlaidos, Eur","Naudojimo projekte trukmė, mėn."]
["5.7.1","Įrangos pavadinimas",null,"pro rata proc.",null,{"$f":"K199*L199","v":0},0,{"$f":"ROUND(G199*$D$7,2)","v":0}]
["5.7.2","Įrangos pavadinimas",null,"pro rata proc.",null,{"$f":"K200*L200","v":0},0,{"$f":"ROUND(G200*$D$7,2)","v":0}]
["5.7.3","Įrangos pavadinimas",null,"pro rata proc.",null,0,0,0]
["5.7.4","Įrangos pavadinimas",null,"pro rata proc.",null,0,0,0]
["5.7.5","Įrangos pavadinimas",null,"pro rata proc.",null,0,0,0]
["5.8","Pastatų ar patalpų nuomos išlaidos, veiklai priskirtos pro rata principu. Pastatai ar patalpos turi būti tiesiogiai susijusi su projekto įgyvendinimu.",null,null,null,null,{"$f":"SUM(G205:G209)","v":0},{"$f":"SUM(H205:H209)","v":0},null,null,"Faktinės 1 mėnesio išlaidos, Eur","Naudojimo projekte trukmė, mėn."]
["5.8.1","Pastato, patalpų adresas",null,"pro rata proc.",null,{"$f":"K205*L205","v":0},{"$f":"ROUND(E205*F205,2)","v":0},{"$f":"ROUND(G205*$D$7,2)","v":0}]
["5.8.2","Pastato, patalpų adresas",null,"pro rata proc.",null,{"$f":"K206*L206","v":0},0,0]
["5.8.3","Pastato, patalpų adresas",null,"pro rata proc.",null,0,0,0]
["5.8.4","Pastato, patalpų adresas",null,"pro rata proc.",null,0,0,0]
["5.8.5","Pastato, patalpų adresas",null,"pro rata proc.",null,0,0,0]
["Iš viso tinkamų finansuoti išlaidų:",null,null,null,null,null,{"$f":"G10+G21","v":0},{"$f":"H10+H21","v":0}]

{"sheet":"4","index":5,"n_rows":210,"n_cols":19,"rows_kept":210,"cut":false,"hidden":false,"merged":[[203,1,203,5],[204,1,204,2],[205,1,205,2],[206,1,206,2],[207,1,207,2],[208,1,208,2],[209,0,209,5],[190,0,196,0],[190,1,196,1],[199,1,199,2],[200,1,200,2],[201,1,201,2],[202,1,202,2],[155,0,161,0],[155,1,161,1],[155,8,161,8],[162,0,168,0],[162,1,168,1],[162,8,168,8],[190,8,196,8],[197,1,197,5],[198,1,198,2],[169,0,175,0],[169,1,175,1],[169,8,175,8],[176,0,182,0],[176,1,182,1],[176,8,182,8],[183,0,189,0],[183,1,189,1],[183,8,189,8],[134,0,140,0],[134,1,140,1],[134,8,140,8],[141,0,147,0],[141,1,147,1],[141,8,147,8],[148,0,154,0],[148,1,154,1],[148,8,154,8],[121,0,125,0],[121,1,125,1],[121,3,125,3],[121,4,125,4],[121,5,125,5],[121,6,125,6],[121,7,125,7],[121,8,125,8],[127,0,133,0],[127,1,133,1],[127,8,133,8],[126,1,126,5],[96,8,100,8],[101,0,105,0],[101,1,105,1],[101,3,105,3],[101,4,105,4],[101,5,105,5],[101,6,105,6],[101,7,105,7],[101,8,105,8],[96,0,100,0],[96,1,100,1],[96,3,100,3],[96,4,100,4],[96,5,100,5],[96,7,100,7],[96,6,100,6],[31,1,31,2],[32,1,32,5],[42,1,42,2],[43,1,43,5],[23,1,23,2],[24,1,24,2],[25,1,25,2],[33,1,33,2],[34,1,34,2],[35,1,35,2],[36,1,36,2],[37,1,37,2],[26,1,26,2],[27,1,27,2],[28,1,28,2],[29,1,29,2],[30,1,30,2],[111,8,115,8],[116,0,120,0],[116,1,120,1],[116,3,120,3],[116,4,120,4],[116,5,120,5],[111,0,115,0],[111,1,115,1],[111,3,115,3],[111,4,115,4],[111,5,115,5],[111,6,115,6],[111,7,115,7],[116,6,120,6],[116,7,120,7],[116,8,120,8],[0,3,0,8],[2,0,2,2],[2,3,2,8],[22,1,22,2],[14,1,14,2],[15,1,15,2],[16,1,16,2],[17,1,17,2],[18,1,18,2],[20,1,20,5],[10,1,10,2],[11,1,11,2],[12,1,12,2],[13,1,13,2],[3,3,3,4],[3,5,3,6],[4,0,4,2],[4,3,4,8],[8,1,8,2],[9,1,9,5],[19,1,19,2],[21,1,21,5],[48,1,48,2],[49,1,49,2],[38,1,38,2],[39,1,39,2],[40,1,40,2],[41,1,41,2],[56,1,56,2],[60,1,60,2],[61,1,61,2],[50,1,50,2],[51,1,51,2],[52,1,52,2],[53,1,53,2],[54,1,54,2],[55,1,55,2],[57,1,57,2],[58,1,58,2],[59,1,59,5],[44,1,44,2],[45,1,45,2],[46,1,46,2],[47,1,47,2],[62,1,62,2],[63,1,63,2],[64,1,64,2],[65,1,65,2],[66,1,66,2],[67,1,67,2],[68,1,68,2],[69,1,69,2],[70,1,70,2],[71,1,71,2],[72,1,72,2],[73,1,73,2],[74,1,74,2],[75,1,75,5],[76,0,80,0],[76,1,80,1],[76,3,80,3],[76,4,80,4],[76,5,80,5],[76,6,80,6],[76,7,80,7],[76,8,80,8],[81,0,85,0],[81,1,85,1],[81,3,85,3],[81,4,85,4],[81,5,85,5],[81,6,85,6],[81,7,85,7],[81,8,85,8],[86,0,90,0],[86,1,90,1],[86,3,90,3],[86,4,90,4],[86,5,90,5],[86,6,90,6],[86,7,90,7],[86,8,90,8],[106,0,110,0],[106,1,110,1],[106,3,110,3],[106,4,110,4],[106,5,110,5],[106,6,110,6],[106,7,110,7],[106,8,110,8],[91,0,95,0],[91,1,95,1],[91,3,95,3],[91,4,95,4],[91,5,95,5],[91,6,95,6],[91,7,95,7],[91,8,95,8]]}
[null,null,"Pasirinkite veiklos tipą:"]
[null,null,"Fizinio rodiklio Nr.:"]
["Fizinio rodiklio pavadinimas:"]
[null,null,"Fizinio rodiklio matavimo vnt.:",null,null,"Fizinio rodiklio vnt. skaičius:"]
["Juridinis asmuo (pareiškėjas, partneris), atsakingas už fizinį rodiklį:"]
[]
[null,null,"Finansavimo intensyvumas:",null,null,null,"Pasirinkite biudžeto išlaidų kategoriją:"]
[]
["Eil. Nr.","Išlaidų kategorijos pavadinimas",null,"Matavimo vnt.","Kiekis","Vieneto kaina be PVM, Eur","Tinkamų finansuoti išlaidų suma be PVM, Eur","Finansavimo suma, Eur","Išlaidų pagrindimo dokumentų pavadinimas, data ir Nr."]
[4,"ĮRANGA, ĮRENGINIAI IR KT. TURTAS (techninių žinių ir išradimų patentų arba teisių pagal licencijų sutartį įsigijimo išlaidos)",null,null,null,null,{"$f":"SUM(G11:G20)","v":0},{"$f":"SUM(H11:H20)","v":0}]
["4.1","Išlaidų pavadinimas",null,null,null,null,{"$f":"ROUND(E11*F11,2)","v":0},{"$f":"ROUND(G11*$D$7,2)","v":0}]
["4.2","Išlaidų pavadinimas",null,null,null,null,0,0]
["4.3","Išlaidų pavadinimas",null,null,null,null,0,0]
["4.4","Išlaidų pavadinimas",null,null,null,null,0,0]
["4.5","Išlaidų pavadinimas",null,null,null,null,0,0]
["4.6","Išlaidų pavadinimas",null,null,null,null,0,0]
["4.7","Išlaidų pavadinimas",null,null,null,null,0,0]
["4.8","Išlaidų pavadinimas",null,null,null,null,0,0]
["4.9","Išlaidų pavadinimas",null,null,null,null,0,0]
["4.10","Išlaidų pavadinimas",null,null,null,null,0,0]
[5,"PROJEKTO VYKDYMAS",null,null,null,null,{"$f":"G22+G33+G44+G60+G76+G127+G198+G204","v":0},{"$f":"H22+H33+H44+H60+H76+H127+H198+H204","v":0}]
["5.1","MTEP paslaugos",null,null,null,null,{"$f":"SUM(G23:G32)","v":0},{"$f":"SUM(H23:H32)","v":0}]
["5.1.1","Paslaugos pavadinimas",null,null,null,null,{"$f":"ROUND(E23*F23,2)","v":0},0]
["5.1.2","Paslaugos pavadinimas",null,null,null,null,0,0]
["5.1.3","Paslaugos pavadinimas",null,null,null,null,0,0]
["5.1.4","Paslaugos pavadinimas",null,null,null,null,0,0]
["5.1.5","Paslaugos pavadinimas",null,null,null,null,0,0]
["5.1.6","Paslaugos pavadinimas",null,null,null,null,0,0]
["5.1.7","Paslaugos pavadinimas",null,null,null,null,0,0]
["5.1.8","Paslaugos pavadinimas",null,null,null,null,0,0]
["5.1.9","Paslaugos pavadinimas",null,null,null,null,0,0]
["5.1.10","Paslaugos pavadinimas",null,null,null,null,0,0]
["5.2","Konsultavimo ir lygiavertės paslaugos, naudojamos vien tik projekto MTEP veiklai",null,null,null,null,{"$f":"SUM(G34:G43)","v":0},{"$f":"SUM(H34:H43)","v":0}]
["5.2.1","Paslaugos pavadinimas",null,null,null,null,{"$f":"ROUND(E34*F34,2)","v":0},0]
["5.2.2","Paslaugos pavadinimas",null,null,null,null,0,0]
["5.2.3","Paslaugos pavadinimas",null,null,null,null,0,0]
["5.2.4","Paslaugos pavadinimas",null,null,null,null,0,0]
["5.2.5","Paslaugos pavadinimas",null,null,null,null,0,0]
["5.2.6","Paslaugos pavadinimas",null,null,null,null,0,0]
["5.2.7","Paslaugos pavadinimas",null,null,null,null,0,0]
["5.2.8","Paslaugos pavadinimas",null,null,null,null,0,0]
["5.2.9","Paslaugos pavadinimas",null,null,null,null,0,0]
["5.2.10","Paslaugos pavadinimas",null,null,null,null,0,0]
["5.3","Medžiagos, mažavertis inventorius, atsargos ir pan. produktai, priskirtini trumpalaikiam turtui ir tiesiogiai susiję su MTEP veikla",null,null,null,null,{"$f":"SUM(G45:G61)","v":0},{"$f":"SUM(H45:H61)","v":0}]
["5.3.1","Išlaidų pavadinimas",null,null,null,null,{"$f":"ROUND(E45*F45,2)","v":0},{"$f":"ROUND(G45*$D$7,2)","v":0}]
["5.3.2","Išlaidų pavadinimas",null,null,null,null,0,0]
["5.3.3","Išlaidų pavadinimas",null,null,null,null,0,0]
["5.3.4","Išlaidų pavadinimas",null,null,null,null,0,0]
["5.3.5","Išlaidų pavadinimas",null,null,null,null,0,0]
["5.3.6","Išlaidų pavadinimas",null,null,null,null,0,0]
["5.3.7","Išlaidų pavadinimas",null,null,null,null,0,0]
["5.3.8","Išlaidų pavadinimas",null,null,null,null,0,0]
["5.3.9","Išlaidų pavadinimas",null,null,null,null,0,0]
["5.3.10","Išlaidų pavadinimas",null,null,null,null,0,0]
["5.3.11","Išlaidų pavadinimas",null,null,null,null,0,0]
["5.3.12","Išlaidų pavadinimas",null,null,null,null,0,0]
["5.3.13","Išlaidų pavadinimas",null,null,null,null,0,0]
["5.3.14","Išlaidų pavadinimas",null,null,null,null,0,0]
["5.3.15","Išlaidų pavadinimas",null,null,null,null,0,0]
["5.4","Projekto MTEP veikloms naudojamo ilgalaikio materialaus turto (įrangos, prietaisų, įrankių, įrenginių, mašinų ir įrengimų, pastatų ir (ar) patalpų), nusidėvėjimo sąnaudos, jeigu šiam turtui įsigyti nebuvo naudojamos viešosios (įskaitant ir kitų valstybių) lėšos",null,null,null,null,{"$f":"SUM(G61:G75)","v":0},{"$f":"SUM(H61:H75)","v":0},null,null,"Turto įvedimo į eksploataciją data","Turto įsigijimo vertė, Eur","Turto nudėvėjimo, amortizacijos laikotarpis, mėn.","Numatoma turto likutinė vertė, Eur","1 mėn. nudėvėjimo, amortizacijos suma, Eur","Turto naudojamo projekto reikmėms laikas, mėn.","Turto panaudojimo projekto reikmėms dalis (proc.)","Projektui priskirta turto nusidėvėjimo, amortizacijos suma per projekto laikotarpį, Eur"]
["5.4.1","Turtas, kurio nusidėvėjimą, amortizaciją prašoma finansuoti",null,null,1,{"$f":"R61","v":0},{"$f":"ROUND(E61*F61,2)","v":0},0,null,null,null,null,null,null,{"$f":"IFERROR(ROUND((L61-N61)/M61,2),\"0\")","v":"0"},null,null,{"$f":"O61*P61*Q61","v":0},{"$f":"IF(K61=0,\" \",IF(K61+(M61*30.5)<TODAY(),\"DĖMESIO! Patikrinkite, ar nurodytas turtas dar nėra nudėvėtas, amortizuotas\",\" \"))","v":" "}]
["5.4.2","Turtas, kurio nusidėvėjimą, amortizaciją prašoma finansuoti",null,null,1,{"$f":"R62","v":0},0,0,null,null,null,null,null,null,{"$f":"IFERROR(ROUND((L62-N62)/M62,2),\"0\")","v":"0"},null,null,{"$f":"O62*P62*Q62","v":0},{"$f":"IF(K62=0,\" \",IF(K62+(M62*30.5)<TODAY(),\"DĖMESIO! Patikrinkite, ar nurodytas turtas dar nėra nudėvėtas, amortizuotas\",\" \"))","v":" "}]
["5.4.3","Turtas, kurio nusidėvėjimą, amortizaciją prašoma finansuoti",null,null,1,0,0,0,null,null,null,null,null,null,"0",null,null,0," "]
["5.4.4","Turtas, kurio nusidėvėjimą, amortizaciją prašoma finansuoti",null,null,1,0,0,0,null,null,null,null,null,null,"0",null,null,0," "]
["5.4.5","Turtas, kurio nusidėvėjimą, amortizaciją prašoma finansuoti",null,null,1,0,0,0,null,null,null,null,null,null,"0",null,null,0," "]
["5.4.6","Turtas, kurio nusidėvėjimą, amortizaciją prašoma finansuoti",null,null,1,0,0,0,null,null,null,null,null,null,"0",null,null,0," "]
["5.4.7","Turtas, kurio nusidėvėjimą, amortizaciją prašoma finansuoti",null,null,1,0,0,0,null,null,null,null,null,null,"0",null,null,0," "]
["5.4.8","Turtas, kurio nusidėvėjimą, amortizaciją prašoma finansuoti",null,null,1,0,0,0,null,null,null,null,null,null,"0",null,null,0," "]
["5.4.9","Turtas, kurio nusidėvėjimą, amortizaciją prašoma finansuoti",null,null,1,0,0,0,null,null,null,null,null,null,"0",null,null,0," "]
["5.4.10","Turtas, kurio nusidėvėjimą, amortizaciją prašoma finansuoti",null,null,1,0,0,0,null,null,null,null,null,null,"0",null,null,0," "]
["5.4.11","Turtas, kurio nusidėvėjimą, amortizaciją prašoma finansuoti",null,null,1,0,0,0,null,null,null,null,null,null,"0",null,null,0," "]
["5.4.12","Turtas, kurio nusidėvėjimą, amortizaciją prašoma finansuoti",null,null,1,0,0,0,null,null,null,null,null,null,"0",null,null,0," "]
["5.4.13","Turtas, kurio nusidėvėjimą, amortizaciją prašoma finansuoti",null,null,1,0,0,0,null,null,null,null,null,null,"0",null,null,0," "]
["5.4.14","Turtas, kurio nusidėvėjimą, amortizaciją prašoma finansuoti",null,null,1,0,0,0,null,null,null,null,null,null,"0",null,null,0," "]
["5.4.15","Turtas, kurio nusidėvėjimą, amortizaciją prašoma finansuoti",null,null,1,0,0,0,null,null,null,null,null,null,"0",null,null,0," "]
["5.5","Projektą vykdančio personalo darbo užmokestis ir išlaidos su darbo santykiais susijusiems darbdavio įsipareigojimams",null,null,null,null,{"$f":"SUM(G77:G126)","v":0},{"$f":"SUM(H77:H126)","v":0},null,null,"Faktiškai gaunamas darbo užmokesti už 1 valandą pagal  pastarųjų 6 mėn. vidurkį, Eur"]
["5.5.1","Pareigybės pavadinimas","Darbuotojo vardas pavardė","val.",null,{"$f":"IFERROR(ROUND(AVERAGE(K77:K81),2),\"0\")","v":"0"},{"$f":"ROUND(E77*F77,2)","v":0},{"$f":"ROUND(G77*$D$7,2)","v":0}]
[null,null,"Darbuotojo vardas pavardė"]
[null,null,"Darbuotojo vardas pavardė"]
[null,null,"Darbuotojo vardas pavardė"]
[null,null,"Darbuotojo vardas pavardė"]
["5.5.2","Pareigybės pavadinimas","Darbuotojo vardas pavardė","val.",null,{"$f":"IFERROR(ROUND(AVERAGE(K82:K86),2),\"0\")","v":"0"},{"$f":"ROUND(E82*F82,2)","v":0},{"$f":"ROUND(G82*$D$7,2)","v":0}]
[null,null,"Darbuotojo vardas pavardė"]
[null,null,"Darbuotojo vardas pavardė"]
[null,null,"Darbuotojo vardas pavardė"]
[null,null,"Darbuotojo vardas pavardė"]
["5.5.3","Pareigybės pavadinimas","Darbuotojo vardas pavardė","val.",null,{"$f":"IFERROR(ROUND(AVERAGE(K87:K91),2),\"0\")","v":"0"},{"$f":"ROUND(E87*F87,2)","v":0},{"$f":"ROUND(G87*$D$7,2)","v":0}]
[null,null,"Darbuotojo vardas pavardė"]
[null,null,"Darbuotojo vardas pavardė"]
[null,null,"Darbuotojo vardas pavardė"]
[null,null,"Darbuotojo vardas pavardė"]
["5.5.4","Pareigybės pavadinimas","Darbuotojo vardas pavardė","val.",null,{"$f":"IFERROR(ROUND(AVERAGE(K92:K96),2),\"0\")","v":"0"},{"$f":"ROUND(E92*F92,2)","v":0},{"$f":"ROUND(G92*$D$7,2)","v":0}]
[null,null,"Darbuotojo vardas pavardė"]
[null,null,"Darbuotojo vardas pavardė"]
[null,null,"Darbuotojo vardas pavardė"]
[null,null,"Darbuotojo vardas pavardė"]
["5.5.5","Pareigybės pavadinimas","Darbuotojo vardas pavardė","val.",null,{"$f":"IFERROR(ROUND(AVERAGE(K97:K101),2),\"0\")","v":"0"},{"$f":"ROUND(E97*F97,2)","v":0},{"$f":"ROUND(G97*$D$7,2)","v":0}]
[null,null,"Darbuotojo vardas pavardė"]
[null,null,"Darbuotojo vardas pavardė"]
[null,null,"Darbuotojo vardas pavardė"]
[null,null,"Darbuotojo vardas pavardė"]
["5.5.6","Pareigybės pavadinimas","Darbuotojo vardas pavardė","val.",null,{"$f":"IFERROR(ROUND(AVERAGE(K102:K106),2),\"0\")","v":"0"},{"$f":"ROUND(E102*F102,2)","v":0},{"$f":"ROUND(G102*$D$7,2)","v":0}]
[null,null,"Darbuotojo vardas pavardė"]
[null,null,"Darbuotojo vardas pavardė"]
[null,null,"Darbuotojo vardas pavardė"]
[null,null,"Darbuotojo vardas pavardė"]
["5.5.7","Pareigybės pavadinimas","Darbuotojo vardas pavardė","val.",null,{"$f":"IFERROR(ROUND(AVERAGE(K107:K111),2),\"0\")","v":"0"},{"$f":"ROUND(E107*F107,2)","v":0},{"$f":"ROUND(G107*$D$7,2)","v":0}]
[null,null,"Darbuotojo vardas pavardė"]
[null,null,"Darbuotojo vardas pavardė"]
[null,null,"Darbuotojo vardas pavardė"]
[null,null,"Darbuotojo vardas pavardė"]
["5.5.8","Pareigybės pavadinimas","Darbuotojo vardas pavardė","val.",null,{"$f":"IFERROR(ROUND(AVERAGE(K112:K116),2),\"0\")","v":"0"},{"$f":"ROUND(E112*F112,2)","v":0},{"$f":"ROUND(G112*$D$7,2)","v":0}]
[null,null,"Darbuotojo vardas pavardė"]
[null,null,"Darbuotojo vardas pavardė"]
[null,null,"Darbuotojo vardas pavardė"]
[null,null,"Darbuotojo vardas pavardė"]
["5.5.9","Pareigybės pavadinimas","Darbuotojo vardas pavardė","val.",null,{"$f":"IFERROR(ROUND(AVERAGE(K117:K121),2),\"0\")","v":"0"},{"$f":"ROUND(E117*F117,2)","v":0},{"$f":"ROUND(G117*$D$7,2)","v":0}]
[null,null,"Darbuotojo vardas pavardė"]
[null,null,"Darbuotojo vardas pavardė"]
[null,null,"Darbuotojo vardas pavardė"]
[null,null,"Darbuotojo vardas pavardė"]
["5.5.10","Pareigybės pavadinimas","Darbuotojo vardas pavardė","val.",null,{"$f":"IFERROR(ROUND(AVERAGE(K122:K126),2),\"0\")","v":"0"},{"$f":"ROUND(E122*F122,2)","v":0},{"$f":"ROUND(G122*$D$7,2)","v":0}]
[null,null,"Darbuotojo vardas pavardė"]
[null,null,"Darbuotojo vardas pavardė"]
[null,null,"Darbuotojo vardas pavardė"]
[null,null,"Darbuotojo vardas pavardė"]
["5.6","Projektą vykdančio personalo komandiruočių išlaidos",null,null,null,null,{"$f":"SUM(G128,G135,G142,G149,G156,G163,G170,G177,G184,G191)","v":0},{"$f":"SUM(H128,H135,H142,H149,H156,H163,H170,H177,H184,H191)","v":0}]
["5.6.1","Komandiruotės pavadinimas, vieta, trukmė dienomis, vykstančių asmenų skaičius","Iš viso komandiruotei",null,null,null,{"$f":"SUM(G129:G134)","v":0},{"$f":"ROUND(G128*$D$7,2)","v":0}]
[null,null,"Dienpinigiai",null,null,null,{"$f":"ROUND(E129*F129,2)","v":0}]
[null,null,"Gyvenamojo ploto nuoma",null,null,null,0]
[null,null,"Kelionės išlaidos",null,null,null,0]
[null,null,"Dalyvavimo mokestis",null,null,null,0]
[null,null,"Kitos išlaidų pavadinimas",null,null,null,0]
[null,null,"Kitos išlaidų pavadinimas",null,null,null,0]
["5.6.2","Komandiruotės pavadinimas, vieta, trukmė dienomis, vykstančių asmenų skaičius","Iš viso komandiruotei",null,null,null,{"$f":"SUM(G136:G141)","v":0},{"$f":"ROUND(G135*$D$7,2)","v":0}]
[null,null,"Dienpinigiai",null,null,null,{"$f":"ROUND(E136*F136,2)","v":0}]
[null,null,"Gyvenamojo ploto nuoma",null,null,null,0]
[null,null,"Kelionės išlaidos",null,null,null,0]
[null,null,"Dalyvavimo mokestis",null,null,null,0]
[null,null,"Kitos išlaidų pavadinimas",null,null,null,0]
[null,null,"Kitos išlaidų pavadinimas",null,null,null,0]
["5.6.3","Komandiruotės pavadinimas, vieta, trukmė dienomis, vykstančių asmenų skaičius","Iš viso komandiruotei",null,null,null,{"$f":"SUM(G143:G148)","v":0},{"$f":"ROUND(G142*$D$7,2)","v":0}]
[null,null,"Dienpinigiai",null,null,null,{"$f":"ROUND(E143*F143,2)","v":0}]
[null,null,"Gyvenamojo ploto nuoma",null,null,null,0]
[null,null,"Kelionės išlaidos",null,null,null,0]
[null,null,"Dalyvavimo mokestis",null,null,null,0]
[null,null,"Kitos išlaidų pavadinimas",null,null,null,0]
[null,null,"Kitos išlaidų pavadinimas",null,null,null,0]
["5.6.4","Komandiruotės pavadinimas, vieta, trukmė dienomis, vykstančių asmenų skaičius","Iš viso komandiruotei",null,null,null,{"$f":"SUM(G150:G155)","v":0},{"$f":"ROUND(G149*$D$7,2)","v":0}]
[null,null,"Dienpinigiai",null,null,null,{"$f":"ROUND(E150*F150,2)","v":0}]
[null,null,"Gyvenamojo ploto nuoma",null,null,null,0]
[null,null,"Kelionės išlaidos",null,null,null,0]
[null,null,"Dalyvavimo mokestis",null,null,null,0]
[null,null,"Kitos išlaidų pavadinimas",null,null,null,0]
[null,null,"Kitos išlaidų pavadinimas",null,null,null,0]
["5.6.5","Komandiruotės pavadinimas, vieta, trukmė dienomis, vykstančių asmenų skaičius","Iš viso komandiruotei",null,null,null,{"$f":"SUM(G157:G162)","v":0},{"$f":"ROUND(G156*$D$7,2)","v":0}]
[null,null,"Dienpinigiai",null,null,null,{"$f":"ROUND(E157*F157,2)","v":0}]
[null,null,"Gyvenamojo ploto nuoma",null,null,null,0]
[null,null,"Kelionės išlaidos",null,null,null,0]
[null,null,"Dalyvavimo mokestis",null,null,null,0]
[null,null,"Kitos išlaidų pavadinimas",null,null,null,0]
[null,null,"Kitos išlaidų pavadinimas",null,null,null,0]
["5.6.6","Komandiruotės pavadinimas, vieta, trukmė dienomis, vykstančių asmenų skaičius","Iš viso komandiruotei",null,null,null,{"$f":"SUM(G164:G169)","v":0},{"$f":"ROUND(G163*$D$7,2)","v":0}]
[null,null,"Dienpinigiai",null,null,null,{"$f":"ROUND(E164*F164,2)","v":0}]
[null,null,"Gyvenamojo ploto nuoma",null,null,null,0]
[null,null,"Kelionės išlaidos",null,null,null,0]
[null,null,"Dalyvavimo mokestis",null,null,null,0]
[null,null,"Kitos išlaidų pavadinimas",null,null,null,0]
[null,null,"Kitos išlaidų pavadinimas",null,null,null,0]
["5.6.7","Komandiruotės pavadinimas, vieta, trukmė dienomis, vykstančių asmenų skaičius","Iš viso komandiruotei",null,null,null,{"$f":"SUM(G171:G176)","v":0},{"$f":"ROUND(G170*$D$7,2)","v":0}]
[null,null,"Dienpinigiai",null,null,null,{"$f":"ROUND(E171*F171,2)","v":0}]
[null,null,"Gyvenamojo ploto nuoma",null,null,null,0]
[null,null,"Kelionės išlaidos",null,null,null,0]
[null,null,"Dalyvavimo mokestis",null,null,null,0]
[null,null,"Kitos išlaidų pavadinimas",null,null,null,0]
[null,null,"Kitos išlaidų pavadinimas",null,null,null,0]
["5.6.8","Komandiruotės pavadinimas, vieta, trukmė dienomis, vykstančių asmenų skaičius","Iš viso komandiruotei",null,null,null,{"$f":"SUM(G178:G183)","v":0},{"$f":"ROUND(G177*$D$7,2)","v":0}]
[null,null,"Dienpinigiai",null,null,null,{"$f":"ROUND(E178*F178,2)","v":0}]
[null,null,"Gyvenamojo ploto nuoma",null,null,null,0]
[null,null,"Kelionės išlaidos",null,null,null,0]
[null,null,"Dalyvavimo mokestis",null,null,null,0]
[null,null,"Kitos išlaidų pavadinimas",null,null,null,0]
[null,null,"Kitos išlaidų pavadinimas",null,null,null,0]
["5.6.9","Komandiruotės pavadinimas, vieta, trukmė dienomis, vykstančių asmenų skaičius","Iš viso komandiruotei",null,null,null,{"$f":"SUM(G185:G190)","v":0},{"$f":"ROUND(G184*$D$7,2)","v":0}]
[null,null,"Dienpinigiai",null,null,null,{"$f":"ROUND(E185*F185,2)","v":0}]
[null,null,"Gyvenamojo ploto nuoma",null,null,null,0]
[null,null,"Kelionės išlaidos",null,null,null,0]
[null,null,"Dalyvavimo mokestis",null,null,null,0]
[null,null,"Kitos išlaidų pavadinimas",null,null,null,0]
[null,null,"Kitos išlaidų pavadinimas",null,null,null,0]
["5.6.10","Komandiruotės pavadinimas, vieta, trukmė dienomis, vykstančių asmenų skaičius","Iš viso komandiruotei",null,null,null,{"$f":"SUM(G192:G197)","v":0},{"$f":"ROUND(G191*$D$7,2)","v":0}]
[null,null,"Dienpinigiai",null,null,null,{"$f":"ROUND(E192*F192,2)","v":0}]
[null,null,"Gyvenamojo ploto nuoma",null,null,null,0]
[null,null,"Kelionės išlaidos",null,null,null,0]
[null,null,"Dalyvavimo mokestis",null,null,null,0]
[null,null,"Kitos išlaidų pavadinimas",null,null,null,0]
[null,null,"Kitos išlaidų pavadinimas",null,null,null,0]
["5.7","Įrangos nuomos išlaidos, veiklai priskirtos pro rata principu. Įranga turi būti tiesiogiai susijusi su projekto įgyvendinimu ir negali būti įsigyta iš ES struktūrinių fondų ar kt. ES finansinių priemonių lėšų",null,null,null,null,{"$f":"SUM(G199:G203)","v":0},{"$f":"SUM(H199:H203)","v":0},null,null,"Faktinės 1 mėnesio išlaidos, Eur","Naudojimo projekte trukmė, mėn."]
["5.7.1","Įrangos pavadinimas",null,"pro rata proc.",null,{"$f":"K199*L199","v":0},0,{"$f":"ROUND(G199*$D$7,2)","v":0}]
["5.7.2","Įrangos pavadinimas",null,"pro rata proc.",null,{"$f":"K200*L200","v":0},0,{"$f":"ROUND(G200*$D$7,2)","v":0}]
["5.7.3","Įrangos pavadinimas",null,"pro rata proc.",null,0,0,0]
["5.7.4","Įrangos pavadinimas",null,"pro rata proc.",null,0,0,0]
["5.7.5","Įrangos pavadinimas",null,"pro rata proc.",null,0,0,0]
["5.8","Pastatų ar patalpų nuomos išlaidos, veiklai priskirtos pro rata principu. Pastatai ar patalpos turi būti tiesiogiai susijusi su projekto įgyvendinimu.",null,null,null,null,{"$f":"SUM(G205:G209)","v":0},{"$f":"SUM(H205:H209)","v":0},null,null,"Faktinės 1 mėnesio išlaidos, Eur","Naudojimo projekte trukmė, mėn."]
["5.8.1","Pastato, patalpų adresas",null,"pro rata proc.",null,{"$f":"K205*L205","v":0},{"$f":"ROUND(E205*F205,2)","v":0},{"$f":"ROUND(G205*$D$7,2)","v":0}]
["5.8.2","Pastato, patalpų adresas",null,"pro rata proc.",null,{"$f":"K206*L206","v":0},0,0]
["5.8.3","Pastato, patalpų adresas",null,"pro rata proc.",null,0,0,0]
["5.8.4","Pastato, patalpų adresas",null,"pro rata proc.",null,0,0,0]
["5.8.5","Pastato, patalpų adresas",null,"pro rata proc.",null,0,0,0]
["Iš viso tinkamų finansuoti išlaidų:",null,null,null,null,null,{"$f":"G10+G21","v":0},{"$f":"H10+H21","v":0}]

{"sheet":"5","index":6,"n_rows":210,"n_cols":19,"rows_kept":210,"cut":false,"hidden":false,"merged":[[203,1,203,5],[204,1,204,2],[205,1,205,2],[206,1,206,2],[207,1,207,2],[208,1,208,2],[209,0,209,5],[190,0,196,0],[190,1,196,1],[199,1,199,2],[200,1,200,2],[201,1,201,2],[202,1,202,2],[155,0,161,0],[155,1,161,1],[155,8,161,8],[162,0,168,0],[162,1,168,1],[162,8,168,8],[190,8,196,8],[197,1,197,5],[198,1,198,2],[169,0,175,0],[169,1,175,1],[169,8,175,8],[176,0,182,0],[176,1,182,1],[176,8,182,8],[183,0,189,0],[183,1,189,1],[183,8,189,8],[134,0,140,0],[134,1,140,1],[134,8,140,8],[141,0,147,0],[141,1,147,1],[141,8,147,8],[148,0,154,0],[148,1,154,1],[148,8,154,8],[121,0,125,0],[121,1,125,1],[121,3,125,3],[121,4,125,4],[121,5,125,5],[121,6,125,6],[121,7,125,7],[121,8,125,8],[127,0,133,0],[127,1,133,1],[127,8,133,8],[126,1,126,5],[96,8,100,8],[101,0,105,0],[101,1,105,1],[101,3,105,3],[101,4,105,4],[101,5,105,5],[101,6,105,6],[101,7,105,7],[101,8,105,8],[96,0,100,0],[96,1,100,1],[96,3,100,3],[96,4,100,4],[96,5,100,5],[96,7,100,7],[96,6,100,6],[31,1,31,2],[32,1,32,5],[42,1,42,2],[43,1,43,5],[23,1,23,2],[24,1,24,2],[25,1,25,2],[33,1,33,2],[34,1,34,2],[35,1,35,2],[36,1,36,2],[37,1,37,2],[26,1,26,2],[27,1,27,2],[28,1,28,2],[29,1,29,2],[30,1,30,2],[111,8,115,8],[116,0,120,0],[116,1,120,1],[116,3,120,3],[116,4,120,4],[116,5,120,5],[111,0,115,0],[111,1,115,1],[111,3,115,3],[111,4,115,4],[111,5,115,5],[111,6,115,6],[111,7,115,7],[116,6,120,6],[116,7,120,7],[116,8,120,8],[0,3,0,8],[2,0,2,2],[2,3,2,8],[22,1,22,2],[14,1,14,2],[15,1,15,2],[16,1,16,2],[17,1,17,2],[18,1,18,2],[20,1,20,5],[10,1,10,2],[11,1,11,2],[12,1,12,2],[13,1,13,2],[3,3,3,4],[3,5,3,6],[4,0,4,2],[4,3,4,8],[8,1,8,2],[9,1,9,5],[19,1,19,2],[21,1,21,5],[48,1,48,2],[49,1,49,2],[38,1,38,2],[39,1,39,2],[40,1,40,2],[41,1,41,2],[56,1,56,2],[60,1,60,2],[61,1,61,2],[50,1,50,2],[51,1,51,2],[52,1,52,2],[53,1,53,2],[54,1,54,2],[55,1,55,2],[57,1,57,2],[58,1,58,2],[59,1,59,5],[44,1,44,2],[45,1,45,2],[46,1,46,2],[47,1,47,2],[62,1,62,2],[63,1,63,2],[64,1,64,2],[65,1,65,2],[66,1,66,2],[67,1,67,2],[68,1,68,2],[69,1,69,2],[70,1,70,2],[71,1,71,2],[72,1,72,2],[73,1,73,2],[74,1,74,2],[75,1,75,5],[76,0,80,0],[76,1,80,1],[76,3,80,3],[76,4,80,4],[76,5,80,5],[76,6,80,6],[76,7,80,7],[76,8,80,8],[81,0,85,0],[81,1,85,1],[81,3,85,3],[81,4,85,4],[81,5,85,5],[81,6,85,6],[81,7,85,7],[81,8,85,8],[86,0,90,0],[86,1,90,1],[86,3,90,3],[86,4,90,4],[86,5,90,5],[86,6,90,6],[86,7,90,7],[86,8,90,8],[106,0,110,0],[106,1,110,1],[106,3,110,3],[106,4,110,4],[106,5,110,5],[106,6,110,6],[106,7,110,7],[106,8,110,8],[91,0,95,0],[91,1,95,1],[91,3,95,3],[91,4,95,4],[91,5,95,5],[91,6,95,6],[91,7,95,7],[91,8,95,8]]}
[null,null,"Pasirinkite veiklos tipą:"]
[null,null,"Fizinio rodiklio Nr.:"]
["Fizinio rodiklio pavadinimas:"]
[null,null,"Fizinio rodiklio matavimo vnt.:",null,null,"Fizinio rodiklio vnt. skaičius:"]
["Juridinis asmuo (pareiškėjas, partneris), atsakingas už fizinį rodiklį:"]
[]
[null,null,"Finansavimo intensyvumas:",null,null,null,"Pasirinkite biudžeto išlaidų kategoriją:"]
[]
["Eil. Nr.","Išlaidų kategorijos pavadinimas",null,"Matavimo vnt.","Kiekis","Vieneto kaina be PVM, Eur","Tinkamų finansuoti išlaidų suma be PVM, Eur","Finansavimo suma, Eur","Išlaidų pagrindimo dokumentų pavadinimas, data ir Nr."]
[4,"ĮRANGA, ĮRENGINIAI IR KT. TURTAS (techninių žinių ir išradimų patentų arba teisių pagal licencijų sutartį įsigijimo išlaidos)",null,null,null,null,{"$f":"SUM(G11:G20)","v":0},{"$f":"SUM(H11:H20)","v":0}]
["4.1","Išlaidų pavadinimas",null,null,null,null,{"$f":"ROUND(E11*F11,2)","v":0},{"$f":"ROUND(G11*$D$7,2)","v":0}]
["4.2","Išlaidų pavadinimas",null,null,null,null,0,0]
["4.3","Išlaidų pavadinimas",null,null,null,null,0,0]
["4.4","Išlaidų pavadinimas",null,null,null,null,0,0]
["4.5","Išlaidų pavadinimas",null,null,null,null,0,0]
["4.6","Išlaidų pavadinimas",null,null,null,null,0,0]
["4.7","Išlaidų pavadinimas",null,null,null,null,0,0]
["4.8","Išlaidų pavadinimas",null,null,null,null,0,0]
["4.9","Išlaidų pavadinimas",null,null,null,null,0,0]
["4.10","Išlaidų pavadinimas",null,null,null,null,0,0]
[5,"PROJEKTO VYKDYMAS",null,null,null,null,{"$f":"G22+G33+G44+G60+G76+G127+G198+G204","v":0},{"$f":"H22+H33+H44+H60+H76+H127+H198+H204","v":0}]
["5.1","MTEP paslaugos",null,null,null,null,{"$f":"SUM(G23:G32)","v":0},{"$f":"SUM(H23:H32)","v":0}]
["5.1.1","Paslaugos pavadinimas",null,null,null,null,{"$f":"ROUND(E23*F23,2)","v":0},0]
["5.1.2","Paslaugos pavadinimas",null,null,null,null,0,0]
["5.1.3","Paslaugos pavadinimas",null,null,null,null,0,0]
["5.1.4","Paslaugos pavadinimas",null,null,null,null,0,0]
["5.1.5","Paslaugos pavadinimas",null,null,null,null,0,0]
["5.1.6","Paslaugos pavadinimas",null,null,null,null,0,0]
["5.1.7","Paslaugos pavadinimas",null,null,null,null,0,0]
["5.1.8","Paslaugos pavadinimas",null,null,null,null,0,0]
["5.1.9","Paslaugos pavadinimas",null,null,null,null,0,0]
["5.1.10","Paslaugos pavadinimas",null,null,null,null,0,0]
["5.2","Konsultavimo ir lygiavertės paslaugos, naudojamos vien tik projekto MTEP veiklai",null,null,null,null,{"$f":"SUM(G34:G43)","v":0},{"$f":"SUM(H34:H43)","v":0}]
["5.2.1","Paslaugos pavadinimas",null,null,null,null,{"$f":"ROUND(E34*F34,2)","v":0},0]
["5.2.2","Paslaugos pavadinimas",null,null,null,null,0,0]
["5.2.3","Paslaugos pavadinimas",null,null,null,null,0,0]
["5.2.4","Paslaugos pavadinimas",null,null,null,null,0,0]
["5.2.5","Paslaugos pavadinimas",null,null,null,null,0,0]
["5.2.6","Paslaugos pavadinimas",null,null,null,null,0,0]
["5.2.7","Paslaugos pavadinimas",null,null,null,null,0,0]
["5.2.8","Paslaugos pavadinimas",null,null,null,null,0,0]
["5.2.9","Paslaugos pavadinimas",null,null,null,null,0,0]
["5.2.10","Paslaugos pavadinimas",null,null,null,null,0,0]
["5.3","Medžiagos, mažavertis inventorius, atsargos ir pan. produktai, priskirtini trumpalaikiam turtui ir tiesiogiai susiję su MTEP veikla",null,null,null,null,{"$f":"SUM(G45:G61)","v":0},{"$f":"SUM(H45:H61)","v":0}]
["5.3.1","Išlaidų pavadinimas",null,null,null,null,{"$f":"ROUND(E45*F45,2)","v":0},{"$f":"ROUND(G45*$D$7,2)","v":0}]
["5.3.2","Išlaidų pavadinimas",null,null,null,null,0,0]
["5.3.3","Išlaidų pavadinimas",null,null,null,null,0,0]
["5.3.4","Išlaidų pavadinimas",null,null,null,null,0,0]
["5.3.5","Išlaidų pavadinimas",null,null,null,null,0,0]
["5.3.6","Išlaidų pavadinimas",null,null,null,null,0,0]
["5.3.7","Išlaidų pavadinimas",null,null,null,null,0,0]
["5.3.8","Išlaidų pavadinimas",null,null,null,null,0,0]
["5.3.9","Išlaidų pavadinimas",null,null,null,null,0,0]
["5.3.10","Išlaidų pavadinimas",null,null,null,null,0,0]
["5.3.11","Išlaidų pavadinimas",null,null,null,null,0,0]
["5.3.12","Išlaidų pavadinimas",null,null,null,null,0,0]
["5.3.13","Išlaidų pavadinimas",null,null,null,null,0,0]
["5.3.14","Išlaidų pavadinimas",null,null,null,null,0,0]
["5.3.15","Išlaidų pavadinimas",null,null,null,null,0,0]
["5.4","Projekto MTEP veikloms naudojamo ilgalaikio materialaus turto (įrangos, prietaisų, įrankių, įrenginių, mašinų ir įrengimų, pastatų ir (ar) patalpų), nusidėvėjimo sąnaudos, jeigu šiam turtui įsigyti nebuvo naudojamos viešosios (įskaitant ir kitų valstybių) lėšos",null,null,null,null,{"$f":"SUM(G61:G75)","v":0},{"$f":"SUM(H61:H75)","v":0},null,null,"Turto įvedimo į eksploataciją data","Turto įsigijimo vertė, Eur","Turto nudėvėjimo, amortizacijos laikotarpis, mėn.","Numatoma turto likutinė vertė, Eur","1 mėn. nudėvėjimo, amortizacijos suma, Eur","Turto naudojamo projekto reikmėms laikas, mėn.","Turto panaudojimo projekto reikmėms dalis (proc.)","Projektui priskirta turto nusidėvėjimo, amortizacijos suma per projekto laikotarpį, Eur"]
["5.4.1","Turtas, kurio nusidėvėjimą, amortizaciją prašoma finansuoti",null,null,1,{"$f":"R61","v":0},{"$f":"ROUND(E61*F61,2)","v":0},0,null,null,null,null,null,null,{"$f":"IFERROR(ROUND((L61-N61)/M61,2),\"0\")","v":"0"},null,null,{"$f":"O61*P61*Q61","v":0},{"$f":"IF(K61=0,\" \",IF(K61+(M61*30.5)<TODAY(),\"DĖMESIO! Patikrinkite, ar nurodytas turtas dar nėra nudėvėtas, amortizuotas\",\" \"))","v":" "}]
["5.4.2","Turtas, kurio nusidėvėjimą, amortizaciją prašoma finansuoti",null,null,1,{"$f":"R62","v":0},0,0,null,null,null,null,null,null,{"$f":"IFERROR(ROUND((L62-N62)/M62,2),\"0\")","v":"0"},null,null,{"$f":"O62*P62*Q62","v":0},{"$f":"IF(K62=0,\" \",IF(K62+(M62*30.5)<TODAY(),\"DĖMESIO! Patikrinkite, ar nurodytas turtas dar nėra nudėvėtas, amortizuotas\",\" \"))","v":" "}]
["5.4.3","Turtas, kurio nusidėvėjimą, amortizaciją prašoma finansuoti",null,null,1,0,0,0,null,null,null,null,null,null,"0",null,null,0," "]
["5.4.4","Turtas, kurio nusidėvėjimą, amortizaciją prašoma finansuoti",null,null,1,0,0,0,null,null,null,null,null,null,"0",null,null,0," "]
["5.4.5","Turtas, kurio nusidėvėjimą, amortizaciją prašoma finansuoti",null,null,1,0,0,0,null,null,null,null,null,null,"0",null,null,0," "]
["5.4.6","Turtas, kurio nusidėvėjimą, amortizaciją prašoma finansuoti",null,null,1,0,0,0,null,null,null,null,null,null,"0",null,null,0," "]
["5.4.7","Turtas, kurio nusidėvėjimą, amortizaciją prašoma finansuoti",null,null,1,0,0,0,null,null,null,null,null,null,"0",null,null,0," "]
["5.4.8","Turtas, kurio nusidėvėjimą, amortizaciją prašoma finansuoti",null,null,1,0,0,0,null,null,null,null,null,null,"0",null,null,0," "]
["5.4.9","Turtas, kurio nusidėvėjimą, amortizaciją prašoma finansuoti",null,null,1,0,0,0,null,null,null,null,null,null,"0",null,null,0," "]
["5.4.10","Turtas, kurio nusidėvėjimą, amortizaciją prašoma finansuoti",null,null,1,0,0,0,null,null,null,null,null,null,"0",null,null,0," "]
["5.4.11","Turtas, kurio nusidėvėjimą, amortizaciją prašoma finansuoti",null,null,1,0,0,0,null,null,null,null,null,null,"0",null,null,0," "]
["5.4.12","Turtas, kurio nusidėvėjimą, amortizaciją prašoma finansuoti",null,null,1,0,0,0,null,null,null,null,null,null,"0",null,null,0," "]
["5.4.13","Turtas, kurio nusidėvėjimą, amortizaciją prašoma finansuoti",null,null,1,0,0,0,null,null,null,null,null,null,"0",null,null,0," "]
["5.4.14","Turtas, kurio nusidėvėjimą, amortizaciją prašoma finansuoti",null,null,1,0,0,0,null,null,null,null,null,null,"0",null,null,0," "]
["5.4.15","Turtas, kurio nusidėvėjimą, amortizaciją prašoma finansuoti",null,null,1,0,0,0,null,null,null,null,null,null,"0",null,null,0," "]
["5.5","Projektą vykdančio personalo darbo užmokestis ir išlaidos su darbo santykiais susijusiems darbdavio įsipareigojimams",null,null,null,null,{"$f":"SUM(G77:G126)","v":0},{"$f":"SUM(H77:H126)","v":0},null,null,"Faktiškai gaunamas darbo užmokesti už 1 valandą pagal  pastarųjų 6 mėn. vidurkį, Eur"]
["5.5.1","Pareigybės pavadinimas","Darbuotojo vardas pavardė","val.",null,{"$f":"IFERROR(ROUND(AVERAGE(K77:K81),2),\"0\")","v":"0"},{"$f":"ROUND(E77*F77,2)","v":0},{"$f":"ROUND(G77*$D$7,2)","v":0}]
[null,null,"Darbuotojo vardas pavardė"]
[null,null,"Darbuotojo vardas pavardė"]
[null,null,"Darbuotojo vardas pavardė"]
[null,null,"Darbuotojo vardas pavardė"]
["5.5.2","Pareigybės pavadinimas","Darbuotojo vardas pavardė","val.",null,{"$f":"IFERROR(ROUND(AVERAGE(K82:K86),2),\"0\")","v":"0"},{"$f":"ROUND(E82*F82,2)","v":0},{"$f":"ROUND(G82*$D$7,2)","v":0}]
[null,null,"Darbuotojo vardas pavardė"]
[null,null,"Darbuotojo vardas pavardė"]
[null,null,"Darbuotojo vardas pavardė"]
[null,null,"Darbuotojo vardas pavardė"]
["5.5.3","Pareigybės pavadinimas","Darbuotojo vardas pavardė","val.",null,{"$f":"IFERROR(ROUND(AVERAGE(K87:K91),2),\"0\")","v":"0"},{"$f":"ROUND(E87*F87,2)","v":0},{"$f":"ROUND(G87*$D$7,2)","v":0}]
[null,null,"Darbuotojo vardas pavardė"]
[null,null,"Darbuotojo vardas pavardė"]
[null,null,"Darbuotojo vardas pavardė"]
[null,null,"Darbuotojo vardas pavardė"]
["5.5.4","Pareigybės pavadinimas","Darbuotojo vardas pavardė","val.",null,{"$f":"IFERROR(ROUND(AVERAGE(K92:K96),2),\"0\")","v":"0"},{"$f":"ROUND(E92*F92,2)","v":0},{"$f":"ROUND(G92*$D$7,2)","v":0}]
[null,null,"Darbuotojo vardas pavardė"]
[null,null,"Darbuotojo vardas pavardė"]
[null,null,"Darbuotojo vardas pavardė"]
[null,null,"Darbuotojo vardas pavardė"]
["5.5.5","Pareigybės pavadinimas","Darbuotojo vardas pavardė","val.",null,{"$f":"IFERROR(ROUND(AVERAGE(K97:K101),2),\"0\")","v":"0"},{"$f":"ROUND(E97*F97,2)","v":0},{"$f":"ROUND(G97*$D$7,2)","v":0}]
[null,null,"Darbuotojo vardas pavardė"]
[null,null,"Darbuotojo vardas pavardė"]
[null,null,"Darbuotojo vardas pavardė"]
[null,null,"Darbuotojo vardas pavardė"]
["5.5.6","Pareigybės pavadinimas","Darbuotojo vardas pavardė","val.",null,{"$f":"IFERROR(ROUND(AVERAGE(K102:K106),2),\"0\")","v":"0"},{"$f":"ROUND(E102*F102,2)","v":0},{"$f":"ROUND(G102*$D$7,2)","v":0}]
[null,null,"Darbuotojo vardas pavardė"]
[null,null,"Darbuotojo vardas pavardė"]
[null,null,"Darbuotojo vardas pavardė"]
[null,null,"Darbuotojo vardas pavardė"]
["5.5.7","Pareigybės pavadinimas","Darbuotojo vardas pavardė","val.",null,{"$f":"IFERROR(ROUND(AVERAGE(K107:K111),2),\"0\")","v":"0"},{"$f":"ROUND(E107*F107,2)","v":0},{"$f":"ROUND(G107*$D$7,2)","v":0}]
[null,null,"Darbuotojo vardas pavardė"]
[null,null,"Darbuotojo vardas pavardė"]
[null,null,"Darbuotojo vardas pavardė"]
[null,null,"Darbuotojo vardas pavardė"]
["5.5.8","Pareigybės pavadinimas","Darbuotojo vardas pavardė","val.",null,{"$f":"IFERROR(ROUND(AVERAGE(K112:K116),2),\"0\")","v":"0"},{"$f":"ROUND(E112*F112,2)","v":0},{"$f":"ROUND(G112*$D$7,2)","v":0}]
[null,null,"Darbuotojo vardas pavardė"]
[null,null,"Darbuotojo vardas pavardė"]
[null,null,"Darbuotojo vardas pavardė"]
[null,null,"Darbuotojo vardas pavardė"]
["5.5.9","Pareigybės pavadinimas","Darbuotojo vardas pavardė","val.",null,{"$f":"IFERROR(ROUND(AVERAGE(K117:K121),2),\"0\")","v":"0"},{"$f":"ROUND(E117*F117,2)","v":0},{"$f":"ROUND(G117*$D$7,2)","v":0}]
[null,null,"Darbuotojo vardas pavardė"]
[null,null,"Darbuotojo vardas pavardė"]
[null,null,"Darbuotojo vardas pavardė"]
[null,null,"Darbuotojo vardas pavardė"]
["5.5.10","Pareigybės pavadinimas","Darbuotojo vardas pavardė","val.",null,{"$f":"IFERROR(ROUND(AVERAGE(K122:K126),2),\"0\")","v":"0"},{"$f":"ROUND(E122*F122,2)","v":0},{"$f":"ROUND(G122*$D$7,2)","v":0}]
[null,null,"Darbuotojo vardas pavardė"]
[null,null,"Darbuotojo vardas pavardė"]
[null,null,"Darbuotojo vardas pavardė"]
[null,null,"Darbuotojo vardas pavardė"]
["5.6","Projektą vykdančio personalo komandiruočių išlaidos",null,null,null,null,{"$f":"SUM(G128,G135,G142,G149,G156,G163,G170,G177,G184,G191)","v":0},{"$f":"SUM(H128,H135,H142,H149,H156,H163,H170,H177,H184,H191)","v":0}]
["5.6.1","Komandiruotės pavadinimas, vieta, trukmė dienomis, vykstančių asmenų skaičius","Iš viso komandiruotei",null,null,null,{"$f":"SUM(G129:G134)","v":0},{"$f":"ROUND(G128*$D$7,2)","v":0}]
[null,null,"Dienpinigiai",null,null,null,{"$f":"ROUND(E129*F129,2)","v":0}]
[null,null,"Gyvenamojo ploto nuoma",null,null,null,0]
[null,null,"Kelionės išlaidos",null,null,null,0]
[null,null,"Dalyvavimo mokestis",null,null,null,0]
[null,null,"Kitos išlaidų pavadinimas",null,null,null,0]
[null,null,"Kitos išlaidų pavadinimas",null,null,null,0]
["5.6.2","Komandiruotės pavadinimas, vieta, trukmė dienomis, vykstančių asmenų skaičius","Iš viso komandiruotei",null,null,null,{"$f":"SUM(G136:G141)","v":0},{"$f":"ROUND(G135*$D$7,2)","v":0}]
[null,null,"Dienpinigiai",null,null,null,{"$f":"ROUND(E136*F136,2)","v":0}]
[null,null,"Gyvenamojo ploto nuoma",null,null,null,0]
[null,null,"Kelionės išlaidos",null,null,null,0]
[null,null,"Dalyvavimo mokestis",null,null,null,0]
[null,null,"Kitos išlaidų pavadinimas",null,null,null,0]
[null,null,"Kitos išlaidų pavadinimas",null,null,null,0]
["5.6.3","Komandiruotės pavadinimas, vieta, trukmė dienomis, vykstančių asmenų skaičius","Iš viso komandiruotei",null,null,null,{"$f":"SUM(G143:G148)","v":0},{"$f":"ROUND(G142*$D$7,2)","v":0}]
[null,null,"Dienpinigiai",null,null,null,{"$f":"ROUND(E143*F143,2)","v":0}]
[null,null,"Gyvenamojo ploto nuoma",null,null,null,0]
[null,null,"Kelionės išlaidos",null,null,null,0]
[null,null,"Dalyvavimo mokestis",null,null,null,0]
[null,null,"Kitos išlaidų pavadinimas",null,null,null,0]
[null,null,"Kitos išlaidų pavadinimas",null,null,null,0]
["5.6.4","Komandiruotės pavadinimas, vieta, trukmė dienomis, vykstančių asmenų skaičius","Iš viso komandiruotei",null,null,null,{"$f":"SUM(G150:G155)","v":0},{"$f":"ROUND(G149*$D$7,2)","v":0}]
[null,null,"Dienpinigiai",null,null,null,{"$f":"ROUND(E150*F150,2)","v":0}]
[null,null,"Gyvenamojo ploto nuoma",null,null,null,0]
[null,null,"Kelionės išlaidos",null,null,null,0]
[null,null,"Dalyvavimo mokestis",null,null,null,0]
[null,null,"Kitos išlaidų pavadinimas",null,null,null,0]
[null,null,"Kitos išlaidų pavadinimas",null,null,null,0]
["5.6.5","Komandiruotės pavadinimas, vieta, trukmė dienomis, vykstančių asmenų skaičius","Iš viso komandiruotei",null,null,null,{"$f":"SUM(G157:G162)","v":0},{"$f":"ROUND(G156*$D$7,2)","v":0}]
[null,null,"Dienpinigiai",null,null,null,{"$f":"ROUND(E157*F157,2)","v":0}]
[null,null,"Gyvenamojo ploto nuoma",null,null,null,0]
[null,null,"Kelionės išlaidos",null,null,null,0]
[null,null,"Dalyvavimo mokestis",null,null,null,0]
[null,null,"Kitos išlaidų pavadinimas",null,null,null,0]
[null,null,"Kitos išlaidų pavadinimas",null,null,null,0]
["5.6.6","Komandiruotės pavadinimas, vieta, trukmė dienomis, vykstančių asmenų skaičius","Iš viso komandiruotei",null,null,null,{"$f":"SUM(G164:G169)","v":0},{"$f":"ROUND(G163*$D$7,2)","v":0}]
[null,null,"Dienpinigiai",null,null,null,{"$f":"ROUND(E164*F164,2)","v":0}]
[null,null,"Gyvenamojo ploto nuoma",null,null,null,0]
[null,null,"Kelionės išlaidos",null,null,null,0]
[null,null,"Dalyvavimo mokestis",null,null,null,0]
[null,null,"Kitos išlaidų pavadinimas",null,null,null,0]
[null,null,"Kitos išlaidų pavadinimas",null,null,null,0]
["5.6.7","Komandiruotės pavadinimas, vieta, trukmė dienomis, vykstančių asmenų skaičius","Iš viso komandiruotei",null,null,null,{"$f":"SUM(G171:G176)","v":0},{"$f":"ROUND(G170*$D$7,2)","v":0}]
[null,null,"Dienpinigiai",null,null,null,{"$f":"ROUND(E171*F171,2)","v":0}]
[null,null,"Gyvenamojo ploto nuoma",null,null,null,0]
[null,null,"Kelionės išlaidos",null,null,null,0]
[null,null,"Dalyvavimo mokestis",null,null,null,0]
[null,null,"Kitos išlaidų pavadinimas",null,null,null,0]
[null,null,"Kitos išlaidų pavadinimas",null,null,null,0]
["5.6.8","Komandiruotės pavadinimas, vieta, trukmė dienomis, vykstančių asmenų skaičius","Iš viso komandiruotei",null,null,null,{"$f":"SUM(G178:G183)","v":0},{"$f":"ROUND(G177*$D$7,2)","v":0}]
[null,null,"Dienpinigiai",null,null,null,{"$f":"ROUND(E178*F178,2)","v":0}]
[null,null,"Gyvenamojo ploto nuoma",null,null,null,0]
[null,null,"Kelionės išlaidos",null,null,null,0]
[null,null,"Dalyvavimo mokestis",null,null,null,0]
[null,null,"Kitos išlaidų pavadinimas",null,null,null,0]
[null,null,"Kitos išlaidų pavadinimas",null,null,null,0]
["5.6.9","Komandiruotės pavadinimas, vieta, trukmė dienomis, vykstančių asmenų skaičius","Iš viso komandiruotei",null,null,null,{"$f":"SUM(G185:G190)","v":0},{"$f":"ROUND(G184*$D$7,2)","v":0}]
[null,null,"Dienpinigiai",null,null,null,{"$f":"ROUND(E185*F185,2)","v":0}]
[null,null,"Gyvenamojo ploto nuoma",null,null,null,0]
[null,null,"Kelionės išlaidos",null,null,null,0]
[null,null,"Dalyvavimo mokestis",null,null,null,0]
[null,null,"Kitos išlaidų pavadinimas",null,null,null,0]
[null,null,"Kitos išlaidų pavadinimas",null,null,null,0]
["5.6.10","Komandiruotės pavadinimas, vieta, trukmė dienomis, vykstančių asmenų skaičius","Iš viso komandiruotei",null,null,null,{"$f":"SUM(G192:G197)","v":0},{"$f":"ROUND(G191*$D$7,2)","v":0}]
[null,null,"Dienpinigiai",null,null,null,{"$f":"ROUND(E192*F192,2)","v":0}]
[null,null,"Gyvenamojo ploto nuoma",null,null,null,0]
[null,null,"Kelionės išlaidos",null,null,null,0]
[null,null,"Dalyvavimo mokestis",null,null,null,0]
[null,null,"Kitos išlaidų pavadinimas",null,null,null,0]
[null,null,"Kitos išlaidų pavadinimas",null,null,null,0]
["5.7","Įrangos nuomos išlaidos, veiklai priskirtos pro rata principu. Įranga turi būti tiesiogiai susijusi su projekto įgyvendinimu ir negali būti įsigyta iš ES struktūrinių fondų ar kt. ES finansinių priemonių lėšų",null,null,null,null,{"$f":"SUM(G199:G203)","v":0},{"$f":"SUM(H199:H203)","v":0},null,null,"Faktinės 1 mėnesio išlaidos, Eur","Naudojimo projekte trukmė, mėn."]
["5.7.1","Įrangos pavadinimas",null,"pro rata proc.",null,{"$f":"K199*L199","v":0},0,{"$f":"ROUND(G199*$D$7,2)","v":0}]
["5.7.2","Įrangos pavadinimas",null,"pro rata proc.",null,{"$f":"K200*L200","v":0},0,{"$f":"ROUND(G200*$D$7,2)","v":0}]
["5.7.3","Įrangos pavadinimas",null,"pro rata proc.",null,0,0,0]
["5.7.4","Įrangos pavadinimas",null,"pro rata proc.",null,0,0,0]
["5.7.5","Įrangos pavadinimas",null,"pro rata proc.",null,0,0,0]
["5.8","Pastatų ar patalpų nuomos išlaidos, veiklai priskirtos pro rata principu. Pastatai ar patalpos turi būti tiesiogiai susijusi su projekto įgyvendinimu.",null,null,null,null,{"$f":"SUM(G205:G209)","v":0},{"$f":"SUM(H205:H209)","v":0},null,null,"Faktinės 1 mėnesio išlaidos, Eur","Naudojimo projekte trukmė, mėn."]
["5.8.1","Pastato, patalpų adresas",null,"pro rata proc.",null,{"$f":"K205*L205","v":0},{"$f":"ROUND(E205*F205,2)","v":0},{"$f":"ROUND(G205*$D$7,2)","v":0}]
["5.8.2","Pastato, patalpų adresas",null,"pro rata proc.",null,{"$f":"K206*L206","v":0},0,0]
["5.8.3","Pastato, patalpų adresas",null,"pro rata proc.",null,0,0,0]
["5.8.4","Pastato, patalpų adresas",null,"pro rata proc.",null,0,0,0]
["5.8.5","Pastato, patalpų adresas",null,"pro rata proc.",null,0,0,0]
["Iš viso tinkamų finansuoti išlaidų:",null,null,null,null,null,{"$f":"G10+G21","v":0},{"$f":"H10+H21","v":0}]

{"sheet":"6","index":7,"n_rows":210,"n_cols":19,"rows_kept":210,"cut":false,"hidden":false,"merged":[[203,1,203,5],[204,1,204,2],[205,1,205,2],[206,1,206,2],[207,1,207,2],[208,1,208,2],[209,0,209,5],[190,0,196,0],[190,1,196,1],[199,1,199,2],[200,1,200,2],[201,1,201,2],[202,1,202,2],[155,0,161,0],[155,1,161,1],[155,8,161,8],[162,0,168,0],[162,1,168,1],[162,8,168,8],[190,8,196,8],[197,1,197,5],[198,1,198,2],[169,0,175,0],[169,1,175,1],[169,8,175,8],[176,0,182,0],[176,1,182,1],[176,8,182,8],[183,0,189,0],[183,1,189,1],[183,8,189,8],[134,0,140,0],[134,1,140,1],[134,8,140,8],[141,0,147,0],[141,1,147,1],[141,8,147,8],[148,0,154,0],[148,1,154,1],[148,8,154,8],[121,0,125,0],[121,1,125,1],[121,3,125,3],[121,4,125,4],[121,5,125,5],[121,6,125,6],[121,7,125,7],[121,8,125,8],[127,0,133,0],[127,1,133,1],[127,8,133,8],[126,1,126,5],[96,8,100,8],[101,0,105,0],[101,1,105,1],[101,3,105,3],[101,4,105,4],[101,5,105,5],[101,6,105,6],[101,7,105,7],[101,8,105,8],[96,0,100,0],[96,1,100,1],[96,3,100,3],[96,4,100,4],[96,5,100,5],[96,7,100,7],[96,6,100,6],[31,1,31,2],[32,1,32,5],[42,1,42,2],[43,1,43,5],[23,1,23,2],[24,1,24,2],[25,1,25,2],[33,1,33,2],[34,1,34,2],[35,1,35,2],[36,1,36,2],[37,1,37,2],[26,1,26,2],[27,1,27,2],[28,1,28,2],[29,1,29,2],[30,1,30,2],[111,8,115,8],[116,0,120,0],[116,1,120,1],[116,3,120,3],[116,4,120,4],[116,5,120,5],[111,0,115,0],[111,1,115,1],[111,3,115,3],[111,4,115,4],[111,5,115,5],[111,6,115,6],[111,7,115,7],[116,6,120,6],[116,7,120,7],[116,8,120,8],[0,3,0,8],[2,0,2,2],[2,3,2,8],[22,1,22,2],[14,1,14,2],[15,1,15,2],[16,1,16,2],[17,1,17,2],[18,1,18,2],[20,1,20,5],[10,1,10,2],[11,1,11,2],[12,1,12,2],[13,1,13,2],[3,3,3,4],[3,5,3,6],[4,0,4,2],[4,3,4,8],[8,1,8,2],[9,1,9,5],[19,1,19,2],[21,1,21,5],[48,1,48,2],[49,1,49,2],[38,1,38,2],[39,1,39,2],[40,1,40,2],[41,1,41,2],[56,1,56,2],[60,1,60,2],[61,1,61,2],[50,1,50,2],[51,1,51,2],[52,1,52,2],[53,1,53,2],[54,1,54,2],[55,1,55,2],[57,1,57,2],[58,1,58,2],[59,1,59,5],[44,1,44,2],[45,1,45,2],[46,1,46,2],[47,1,47,2],[62,1,62,2],[63,1,63,2],[64,1,64,2],[65,1,65,2],[66,1,66,2],[67,1,67,2],[68,1,68,2],[69,1,69,2],[70,1,70,2],[71,1,71,2],[72,1,72,2],[73,1,73,2],[74,1,74,2],[75,1,75,5],[76,0,80,0],[76,1,80,1],[76,3,80,3],[76,4,80,4],[76,5,80,5],[76,6,80,6],[76,7,80,7],[76,8,80,8],[81,0,85,0],[81,1,85,1],[81,3,85,3],[81,4,85,4],[81,5,85,5],[81,6,85,6],[81,7,85,7],[81,8,85,8],[86,0,90,0],[86,1,90,1],[86,3,90,3],[86,4,90,4],[86,5,90,5],[86,6,90,6],[86,7,90,7],[86,8,90,8],[106,0,110,0],[106,1,110,1],[106,3,110,3],[106,4,110,4],[106,5,110,5],[106,6,110,6],[106,7,110,7],[106,8,110,8],[91,0,95,0],[91,1,95,1],[91,3,95,3],[91,4,95,4],[91,5,95,5],[91,6,95,6],[91,7,95,7],[91,8,95,8]]}
[null,null,"Pasirinkite veiklos tipą:"]
[null,null,"Fizinio rodiklio Nr.:"]
["Fizinio rodiklio pavadinimas:"]
[null,null,"Fizinio rodiklio matavimo vnt.:",null,null,"Fizinio rodiklio vnt. skaičius:"]
["Juridinis asmuo (pareiškėjas, partneris), atsakingas už fizinį rodiklį:"]
[]
[null,null,"Finansavimo intensyvumas:",null,null,null,"Pasirinkite biudžeto išlaidų kategoriją:"]
[]
["Eil. Nr.","Išlaidų kategorijos pavadinimas",null,"Matavimo vnt.","Kiekis","Vieneto kaina be PVM, Eur","Tinkamų finansuoti išlaidų suma be PVM, Eur","Finansavimo suma, Eur","Išlaidų pagrindimo dokumentų pavadinimas, data ir Nr."]
[4,"ĮRANGA, ĮRENGINIAI IR KT. TURTAS (techninių žinių ir išradimų patentų arba teisių pagal licencijų sutartį įsigijimo išlaidos)",null,null,null,null,{"$f":"SUM(G11:G20)","v":0},{"$f":"SUM(H11:H20)","v":0}]
["4.1","Išlaidų pavadinimas",null,null,null,null,{"$f":"ROUND(E11*F11,2)","v":0},{"$f":"ROUND(G11*$D$7,2)","v":0}]
["4.2","Išlaidų pavadinimas",null,null,null,null,0,0]
["4.3","Išlaidų pavadinimas",null,null,null,null,0,0]
["4.4","Išlaidų pavadinimas",null,null,null,null,0,0]
["4.5","Išlaidų pavadinimas",null,null,null,null,0,0]
["4.6","Išlaidų pavadinimas",null,null,null,null,0,0]
["4.7","Išlaidų pavadinimas",null,null,null,null,0,0]
["4.8","Išlaidų pavadinimas",null,null,null,null,0,0]
["4.9","Išlaidų pavadinimas",null,null,null,null,0,0]
["4.10","Išlaidų pavadinimas",null,null,null,null,0,0]
[5,"PROJEKTO VYKDYMAS",null,null,null,null,{"$f":"G22+G33+G44+G60+G76+G127+G198+G204","v":0},{"$f":"H22+H33+H44+H60+H76+H127+H198+H204","v":0}]
["5.1","MTEP paslaugos",null,null,null,null,{"$f":"SUM(G23:G32)","v":0},{"$f":"SUM(H23:H32)","v":0}]
["5.1.1","Paslaugos pavadinimas",null,null,null,null,{"$f":"ROUND(E23*F23,2)","v":0},0]
["5.1.2","Paslaugos pavadinimas",null,null,null,null,0,0]
["5.1.3","Paslaugos pavadinimas",null,null,null,null,0,0]
["5.1.4","Paslaugos pavadinimas",null,null,null,null,0,0]
["5.1.5","Paslaugos pavadinimas",null,null,null,null,0,0]
["5.1.6","Paslaugos pavadinimas",null,null,null,null,0,0]
["5.1.7","Paslaugos pavadinimas",null,null,null,null,0,0]
["5.1.8","Paslaugos pavadinimas",null,null,null,null,0,0]
["5.1.9","Paslaugos pavadinimas",null,null,null,null,0,0]
["5.1.10","Paslaugos pavadinimas",null,null,null,null,0,0]
["5.2","Konsultavimo ir lygiavertės paslaugos, naudojamos vien tik projekto MTEP veiklai",null,null,null,null,{"$f":"SUM(G34:G43)","v":0},{"$f":"SUM(H34:H43)","v":0}]
["5.2.1","Paslaugos pavadinimas",null,null,null,null,{"$f":"ROUND(E34*F34,2)","v":0},0]
["5.2.2","Paslaugos pavadinimas",null,null,null,null,0,0]
["5.2.3","Paslaugos pavadinimas",null,null,null,null,0,0]
["5.2.4","Paslaugos pavadinimas",null,null,null,null,0,0]
["5.2.5","Paslaugos pavadinimas",null,null,null,null,0,0]
["5.2.6","Paslaugos pavadinimas",null,null,null,null,0,0]
["5.2.7","Paslaugos pavadinimas",null,null,null,null,0,0]
["5.2.8","Paslaugos pavadinimas",null,null,null,null,0,0]
["5.2.9","Paslaugos pavadinimas",null,null,null,null,0,0]
["5.2.10","Paslaugos pavadinimas",null,null,null,null,0,0]
["5.3","Medžiagos, mažavertis inventorius, atsargos ir pan. produktai, priskirtini trumpalaikiam turtui ir tiesiogiai susiję su MTEP veikla",null,null,null,null,{"$f":"SUM(G45:G61)","v":0},{"$f":"SUM(H45:H61)","v":0}]
["5.3.1","Išlaidų pavadinimas",null,null,null,null,{"$f":"ROUND(E45*F45,2)","v":0},{"$f":"ROUND(G45*$D$7,2)","v":0}]
["5.3.2","Išlaidų pavadinimas",null,null,null,null,0,0]
["5.3.3","Išlaidų pavadinimas",null,null,null,null,0,0]
["5.3.4","Išlaidų pavadinimas",null,null,null,null,0,0]
["5.3.5","Išlaidų pavadinimas",null,null,null,null,0,0]
["5.3.6","Išlaidų pavadinimas",null,null,null,null,0,0]
["5.3.7","Išlaidų pavadinimas",null,null,null,null,0,0]
["5.3.8","Išlaidų pavadinimas",null,null,null,null,0,0]
["5.3.9","Išlaidų pavadinimas",null,null,null,null,0,0]
["5.3.10","Išlaidų pavadinimas",null,null,null,null,0,0]
["5.3.11","Išlaidų pavadinimas",null,null,null,null,0,0]
["5.3.12","Išlaidų pavadinimas",null,null,null,null,0,0]
["5.3.13","Išlaidų pavadinimas",null,null,null,null,0,0]
["5.3.14","Išlaidų pavadinimas",null,null,null,null,0,0]
["5.3.15","Išlaidų pavadinimas",null,null,null,null,0,0]
["5.4","Projekto MTEP veikloms naudojamo ilgalaikio materialaus turto (įrangos, prietaisų, įrankių, įrenginių, mašinų ir įrengimų, pastatų ir (ar) patalpų), nusidėvėjimo sąnaudos, jeigu šiam turtui įsigyti nebuvo naudojamos viešosios (įskaitant ir kitų valstybių) lėšos",null,null,null,null,{"$f":"SUM(G61:G75)","v":0},{"$f":"SUM(H61:H75)","v":0},null,null,"Turto įvedimo į eksploataciją data","Turto įsigijimo vertė, Eur","Turto nudėvėjimo, amortizacijos laikotarpis, mėn.","Numatoma turto likutinė vertė, Eur","1 mėn. nudėvėjimo, amortizacijos suma, Eur","Turto naudojamo projekto reikmėms laikas, mėn.","Turto panaudojimo projekto reikmėms dalis (proc.)","Projektui priskirta turto nusidėvėjimo, amortizacijos suma per projekto laikotarpį, Eur"]
["5.4.1","Turtas, kurio nusidėvėjimą, amortizaciją prašoma finansuoti",null,null,1,{"$f":"R61","v":0},{"$f":"ROUND(E61*F61,2)","v":0},0,null,null,null,null,null,null,{"$f":"IFERROR(ROUND((L61-N61)/M61,2),\"0\")","v":"0"},null,null,{"$f":"O61*P61*Q61","v":0},{"$f":"IF(K61=0,\" \",IF(K61+(M61*30.5)<TODAY(),\"DĖMESIO! Patikrinkite, ar nurodytas turtas dar nėra nudėvėtas, amortizuotas\",\" \"))","v":" "}]
["5.4.2","Turtas, kurio nusidėvėjimą, amortizaciją prašoma finansuoti",null,null,1,{"$f":"R62","v":0},0,0,null,null,null,null,null,null,{"$f":"IFERROR(ROUND((L62-N62)/M62,2),\"0\")","v":"0"},null,null,{"$f":"O62*P62*Q62","v":0},{"$f":"IF(K62=0,\" \",IF(K62+(M62*30.5)<TODAY(),\"DĖMESIO! Patikrinkite, ar nurodytas turtas dar nėra nudėvėtas, amortizuotas\",\" \"))","v":" "}]
["5.4.3","Turtas, kurio nusidėvėjimą, amortizaciją prašoma finansuoti",null,null,1,0,0,0,null,null,null,null,null,null,"0",null,null,0," "]
["5.4.4","Turtas, kurio nusidėvėjimą, amortizaciją prašoma finansuoti",null,null,1,0,0,0,null,null,null,null,null,null,"0",null,null,0," "]
["5.4.5","Turtas, kurio nusidėvėjimą, amortizaciją prašoma finansuoti",null,null,1,0,0,0,null,null,null,null,null,null,"0",null,null,0," "]
["5.4.6","Turtas, kurio nusidėvėjimą, amortizaciją prašoma finansuoti",null,null,1,0,0,0,null,null,null,null,null,null,"0",null,null,0," "]
["5.4.7","Turtas, kurio nusidėvėjimą, amortizaciją prašoma finansuoti",null,null,1,0,0,0,null,null,null,null,null,null,"0",null,null,0," "]
["5.4.8","Turtas, kurio nusidėvėjimą, amortizaciją prašoma finansuoti",null,null,1,0,0,0,null,null,null,null,null,null,"0",null,null,0," "]
["5.4.9","Turtas, kurio nusidėvėjimą, amortizaciją prašoma finansuoti",null,null,1,0,0,0,null,null,null,null,null,null,"0",null,null,0," "]
["5.4.10","Turtas, kurio nusidėvėjimą, amortizaciją prašoma finansuoti",null,null,1,0,0,0,null,null,null,null,null,null,"0",null,null,0," "]
["5.4.11","Turtas, kurio nusidėvėjimą, amortizaciją prašoma finansuoti",null,null,1,0,0,0,null,null,null,null,null,null,"0",null,null,0," "]
["5.4.12","Turtas, kurio nusidėvėjimą, amortizaciją prašoma finansuoti",null,null,1,0,0,0,null,null,null,null,null,null,"0",null,null,0," "]
["5.4.13","Turtas, kurio nusidėvėjimą, amortizaciją prašoma finansuoti",null,null,1,0,0,0,null,null,null,null,null,null,"0",null,null,0," "]
["5.4.14","Turtas, kurio nusidėvėjimą, amortizaciją prašoma finansuoti",null,null,1,0,0,0,null,null,null,null,null,null,"0",null,null,0," "]
["5.4.15","Turtas, kurio nusidėvėjimą, amortizaciją prašoma finansuoti",null,null,1,0,0,0,null,null,null,null,null,null,"0",null,null,0," "]
["5.5","Projektą vykdančio personalo darbo užmokestis ir išlaidos su darbo santykiais susijusiems darbdavio įsipareigojimams",null,null,null,null,{"$f":"SUM(G77:G126)","v":0},{"$f":"SUM(H77:H126)","v":0},null,null,"Faktiškai gaunamas darbo užmokesti už 1 valandą pagal  pastarųjų 6 mėn. vidurkį, Eur"]
["5.5.1","Pareigybės pavadinimas","Darbuotojo vardas pavardė","val.",null,{"$f":"IFERROR(ROUND(AVERAGE(K77:K81),2),\"0\")","v":"0"},{"$f":"ROUND(E77*F77,2)","v":0},{"$f":"ROUND(G77*$D$7,2)","v":0}]
[null,null,"Darbuotojo vardas pavardė"]
[null,null,"Darbuotojo vardas pavardė"]
[null,null,"Darbuotojo vardas pavardė"]
[null,null,"Darbuotojo vardas pavardė"]
["5.5.2","Pareigybės pavadinimas","Darbuotojo vardas pavardė","val.",null,{"$f":"IFERROR(ROUND(AVERAGE(K82:K86),2),\"0\")","v":"0"},{"$f":"ROUND(E82*F82,2)","v":0},{"$f":"ROUND(G82*$D$7,2)","v":0}]
[null,null,"Darbuotojo vardas pavardė"]
[null,null,"Darbuotojo vardas pavardė"]
[null,null,"Darbuotojo vardas pavardė"]
[null,null,"Darbuotojo vardas pavardė"]
["5.5.3","Pareigybės pavadinimas","Darbuotojo vardas pavardė","val.",null,{"$f":"IFERROR(ROUND(AVERAGE(K87:K91),2),\"0\")","v":"0"},{"$f":"ROUND(E87*F87,2)","v":0},{"$f":"ROUND(G87*$D$7,2)","v":0}]
[null,null,"Darbuotojo vardas pavardė"]
[null,null,"Darbuotojo vardas pavardė"]
[null,null,"Darbuotojo vardas pavardė"]
[null,null,"Darbuotojo vardas pavardė"]
["5.5.4","Pareigybės pavadinimas","Darbuotojo vardas pavardė","val.",null,{"$f":"IFERROR(ROUND(AVERAGE(K92:K96),2),\"0\")","v":"0"},{"$f":"ROUND(E92*F92,2)","v":0},{"$f":"ROUND(G92*$D$7,2)","v":0}]
[null,null,"Darbuotojo vardas pavardė"]
[null,null,"Darbuotojo vardas pavardė"]
[null,null,"Darbuotojo vardas pavardė"]
[null,null,"Darbuotojo vardas pavardė"]
["5.5.5","Pareigybės pavadinimas","Darbuotojo vardas pavardė","val.",null,{"$f":"IFERROR(ROUND(AVERAGE(K97:K101),2),\"0\")","v":"0"},{"$f":"ROUND(E97*F97,2)","v":0},{"$f":"ROUND(G97*$D$7,2)","v":0}]
[null,null,"Darbuotojo vardas pavardė"]
[null,null,"Darbuotojo vardas pavardė"]
[null,null,"Darbuotojo vardas pavardė"]
[null,null,"Darbuotojo vardas pavardė"]
["5.5.6","Pareigybės pavadinimas","Darbuotojo vardas pavardė","val.",null,{"$f":"IFERROR(ROUND(AVERAGE(K102:K106),2),\"0\")","v":"0"},{"$f":"ROUND(E102*F102,2)","v":0},{"$f":"ROUND(G102*$D$7,2)","v":0}]
[null,null,"Darbuotojo vardas pavardė"]
[null,null,"Darbuotojo vardas pavardė"]
[null,null,"Darbuotojo vardas pavardė"]
[null,null,"Darbuotojo vardas pavardė"]
["5.5.7","Pareigybės pavadinimas","Darbuotojo vardas pavardė","val.",null,{"$f":"IFERROR(ROUND(AVERAGE(K107:K111),2),\"0\")","v":"0"},{"$f":"ROUND(E107*F107,2)","v":0},{"$f":"ROUND(G107*$D$7,2)","v":0}]
[null,null,"Darbuotojo vardas pavardė"]
[null,null,"Darbuotojo vardas pavardė"]
[null,null,"Darbuotojo vardas pavardė"]
[null,null,"Darbuotojo vardas pavardė"]
["5.5.8","Pareigybės pavadinimas","Darbuotojo vardas pavardė","val.",null,{"$f":"IFERROR(ROUND(AVERAGE(K112:K116),2),\"0\")","v":"0"},{"$f":"ROUND(E112*F112,2)","v":0},{"$f":"ROUND(G112*$D$7,2)","v":0}]
[null,null,"Darbuotojo vardas pavardė"]
[null,null,"Darbuotojo vardas pavardė"]
[null,null,"Darbuotojo vardas pavardė"]
[null,null,"Darbuotojo vardas pavardė"]
["5.5.9","Pareigybės pavadinimas","Darbuotojo vardas pavardė","val.",null,{"$f":"IFERROR(ROUND(AVERAGE(K117:K121),2),\"0\")","v":"0"},{"$f":"ROUND(E117*F117,2)","v":0},{"$f":"ROUND(G117*$D$7,2)","v":0}]
[null,null,"Darbuotojo vardas pavardė"]
[null,null,"Darbuotojo vardas pavardė"]
[null,null,"Darbuotojo vardas pavardė"]
[null,null,"Darbuotojo vardas pavardė"]
["5.5.10","Pareigybės pavadinimas","Darbuotojo vardas pavardė","val.",null,{"$f":"IFERROR(ROUND(AVERAGE(K122:K126),2),\"0\")","v":"0"},{"$f":"ROUND(E122*F122,2)","v":0},{"$f":"ROUND(G122*$D$7,2)","v":0}]
[null,null,"Darbuotojo vardas pavardė"]
[null,null,"Darbuotojo vardas pavardė"]
[null,null,"Darbuotojo vardas pavardė"]
[null,null,"Darbuotojo vardas pavardė"]
["5.6","Projektą vykdančio personalo komandiruočių išlaidos",null,null,null,null,{"$f":"SUM(G128,G135,G142,G149,G156,G163,G170,G177,G184,G191)","v":0},{"$f":"SUM(H128,H135,H142,H149,H156,H163,H170,H177,H184,H191)","v":0}]
["5.6.1","Komandiruotės pavadinimas, vieta, trukmė dienomis, vykstančių asmenų skaičius","Iš viso komandiruotei",null,null,null,{"$f":"SUM(G129:G134)","v":0},{"$f":"ROUND(G128*$D$7,2)","v":0}]
[null,null,"Dienpinigiai",null,null,null,{"$f":"ROUND(E129*F129,2)","v":0}]
[null,null,"Gyvenamojo ploto nuoma",null,null,null,0]
[null,null,"Kelionės išlaidos",null,null,null,0]
[null,null,"Dalyvavimo mokestis",null,null,null,0]
[null,null,"Kitos išlaidų pavadinimas",null,null,null,0]
[null,null,"Kitos išlaidų pavadinimas",null,null,null,0]
["5.6.2","Komandiruotės pavadinimas, vieta, trukmė dienomis, vykstančių asmenų skaičius","Iš viso komandiruotei",null,null,null,{"$f":"SUM(G136:G141)","v":0},{"$f":"ROUND(G135*$D$7,2)","v":0}]
[null,null,"Dienpinigiai",null,null,null,{"$f":"ROUND(E136*F136,2)","v":0}]
[null,null,"Gyvenamojo ploto nuoma",null,null,null,0]
[null,null,"Kelionės išlaidos",null,null,null,0]
[null,null,"Dalyvavimo mokestis",null,null,null,0]
[null,null,"Kitos išlaidų pavadinimas",null,null,null,0]
[null,null,"Kitos išlaidų pavadinimas",null,null,null,0]
["5.6.3","Komandiruotės pavadinimas, vieta, trukmė dienomis, vykstančių asmenų skaičius","Iš viso komandiruotei",null,null,null,{"$f":"SUM(G143:G148)","v":0},{"$f":"ROUND(G142*$D$7,2)","v":0}]
[null,null,"Dienpinigiai",null,null,null,{"$f":"ROUND(E143*F143,2)","v":0}]
[null,null,"Gyvenamojo ploto nuoma",null,null,null,0]
[null,null,"Kelionės išlaidos",null,null,null,0]
[null,null,"Dalyvavimo mokestis",null,null,null,0]
[null,null,"Kitos išlaidų pavadinimas",null,null,null,0]
[null,null,"Kitos išlaidų pavadinimas",null,null,null,0]
["5.6.4","Komandiruotės pavadinimas, vieta, trukmė dienomis, vykstančių asmenų skaičius","Iš viso komandiruotei",null,null,null,{"$f":"SUM(G150:G155)","v":0},{"$f":"ROUND(G149*$D$7,2)","v":0}]
[null,null,"Dienpinigiai",null,null,null,{"$f":"ROUND(E150*F150,2)","v":0}]
[null,null,"Gyvenamojo ploto nuoma",null,null,null,0]
[null,null,"Kelionės išlaidos",null,null,null,0]
[null,null,"Dalyvavimo mokestis",null,null,null,0]
[null,null,"Kitos išlaidų pavadinimas",null,null,null,0]
[null,null,"Kitos išlaidų pavadinimas",null,null,null,0]
["5.6.5","Komandiruotės pavadinimas, vieta, trukmė dienomis, vykstančių asmenų skaičius","Iš viso komandiruotei",null,null,null,{"$f":"SUM(G157:G162)","v":0},{"$f":"ROUND(G156*$D$7,2)","v":0}]
[null,null,"Dienpinigiai",null,null,null,{"$f":"ROUND(E157*F157,2)","v":0}]
[null,null,"Gyvenamojo ploto nuoma",null,null,null,0]
[null,null,"Kelionės išlaidos",null,null,null,0]
[null,null,"Dalyvavimo mokestis",null,null,null,0]
[null,null,"Kitos išlaidų pavadinimas",null,null,null,0]
[null,null,"Kitos išlaidų pavadinimas",null,null,null,0]
["5.6.6","Komandiruotės pavadinimas, vieta, trukmė dienomis, vykstančių asmenų skaičius","Iš viso komandiruotei",null,null,null,{"$f":"SUM(G164:G169)","v":0},{"$f":"ROUND(G163*$D$7,2)","v":0}]
[null,null,"Dienpinigiai",null,null,null,{"$f":"ROUND(E164*F164,2)","v":0}]
[null,null,"Gyvenamojo ploto nuoma",null,null,null,0]
[null,null,"Kelionės išlaidos",null,null,null,0]
[null,null,"Dalyvavimo mokestis",null,null,null,0]
[null,null,"Kitos išlaidų pavadinimas",null,null,null,0]
[null,null,"Kitos išlaidų pavadinimas",null,null,null,0]
["5.6.7","Komandiruotės pavadinimas, vieta, trukmė dienomis, vykstančių asmenų skaičius","Iš viso komandiruotei",null,null,null,{"$f":"SUM(G171:G176)","v":0},{"$f":"ROUND(G170*$D$7,2)","v":0}]
[null,null,"Dienpinigiai",null,null,null,{"$f":"ROUND(E171*F171,2)","v":0}]
[null,null,"Gyvenamojo ploto nuoma",null,null,null,0]
[null,null,"Kelionės išlaidos",null,null,null,0]
[null,null,"Dalyvavimo mokestis",null,null,null,0]
[null,null,"Kitos išlaidų pavadinimas",null,null,null,0]
[null,null,"Kitos išlaidų pavadinimas",null,null,null,0]
["5.6.8","Komandiruotės pavadinimas, vieta, trukmė dienomis, vykstančių asmenų skaičius","Iš viso komandiruotei",null,null,null,{"$f":"SUM(G178:G183)","v":0},{"$f":"ROUND(G177*$D$7,2)","v":0}]
[null,null,"Dienpinigiai",null,null,null,{"$f":"ROUND(E178*F178,2)","v":0}]
[null,null,"Gyvenamojo ploto nuoma",null,null,null,0]
[null,null,"Kelionės išlaidos",null,null,null,0]
[null,null,"Dalyvavimo mokestis",null,null,null,0]
[null,null,"Kitos išlaidų pavadinimas",null,null,null,0]
[null,null,"Kitos išlaidų pavadinimas",null,null,null,0]
["5.6.9","Komandiruotės pavadinimas, vieta, trukmė dienomis, vykstančių asmenų skaičius","Iš viso komandiruotei",null,null,null,{"$f":"SUM(G185:G190)","v":0},{"$f":"ROUND(G184*$D$7,2)","v":0}]
[null,null,"Dienpinigiai",null,null,null,{"$f":"ROUND(E185*F185,2)","v":0}]
[null,null,"Gyvenamojo ploto nuoma",null,null,null,0]
[null,null,"Kelionės išlaidos",null,null,null,0]
[null,null,"Dalyvavimo mokestis",null,null,null,0]
[null,null,"Kitos išlaidų pavadinimas",null,null,null,0]
[null,null,"Kitos išlaidų pavadinimas",null,null,null,0]
["5.6.10","Komandiruotės pavadinimas, vieta, trukmė dienomis, vykstančių asmenų skaičius","Iš viso komandiruotei",null,null,null,{"$f":"SUM(G192:G197)","v":0},{"$f":"ROUND(G191*$D$7,2)","v":0}]
[null,null,"Dienpinigiai",null,null,null,{"$f":"ROUND(E192*F192,2)","v":0}]
[null,null,"Gyvenamojo ploto nuoma",null,null,null,0]
[null,null,"Kelionės išlaidos",null,null,null,0]
[null,null,"Dalyvavimo mokestis",null,null,null,0]
[null,null,"Kitos išlaidų pavadinimas",null,null,null,0]
[null,null,"Kitos išlaidų pavadinimas",null,null,null,0]
["5.7","Įrangos nuomos išlaidos, veiklai priskirtos pro rata principu. Įranga turi būti tiesiogiai susijusi su projekto įgyvendinimu ir negali būti įsigyta iš ES struktūrinių fondų ar kt. ES finansinių priemonių lėšų",null,null,null,null,{"$f":"SUM(G199:G203)","v":0},{"$f":"SUM(H199:H203)","v":0},null,null,"Faktinės 1 mėnesio išlaidos, Eur","Naudojimo projekte trukmė, mėn."]
["5.7.1","Įrangos pavadinimas",null,"pro rata proc.",null,{"$f":"K199*L199","v":0},0,{"$f":"ROUND(G199*$D$7,2)","v":0}]
["5.7.2","Įrangos pavadinimas",null,"pro rata proc.",null,{"$f":"K200*L200","v":0},0,{"$f":"ROUND(G200*$D$7,2)","v":0}]
["5.7.3","Įrangos pavadinimas",null,"pro rata proc.",null,0,0,0]
["5.7.4","Įrangos pavadinimas",null,"pro rata proc.",null,0,0,0]
["5.7.5","Įrangos pavadinimas",null,"pro rata proc.",null,0,0,0]
["5.8","Pastatų ar patalpų nuomos išlaidos, veiklai priskirtos pro rata principu. Pastatai ar patalpos turi būti tiesiogiai susijusi su projekto įgyvendinimu.",null,null,null,null,{"$f":"SUM(G205:G209)","v":0},{"$f":"SUM(H205:H209)","v":0},null,null,"Faktinės 1 mėnesio išlaidos, Eur","Naudojimo projekte trukmė, mėn."]
["5.8.1","Pastato, patalpų adresas",null,"pro rata proc.",null,{"$f":"K205*L205","v":0},{"$f":"ROUND(E205*F205,2)","v":0},{"$f":"ROUND(G205*$D$7,2)","v":0}]
["5.8.2","Pastato, patalpų adresas",null,"pro rata proc.",null,{"$f":"K206*L206","v":0},0,0]
["5.8.3","Pastato, patalpų adresas",null,"pro rata proc.",null,0,0,0]
["5.8.4","Pastato, patalpų adresas",null,"pro rata proc.",null,0,0,0]
["5.8.5","Pastato, patalpų adresas",null,"pro rata proc.",null,0,0,0]
["Iš viso tinkamų finansuoti išlaidų:",null,null,null,null,null,{"$f":"G10+G21","v":0},{"$f":"H10+H21","v":0}]

{"sheet":"7","index":8,"n_rows":210,"n_cols":19,"rows_kept":210,"cut":false,"hidden":false,"merged":[[203,1,203,5],[204,1,204,2],[205,1,205,2],[206,1,206,2],[207,1,207,2],[208,1,208,2],[209,0,209,5],[190,0,196,0],[190,1,196,1],[199,1,199,2],[200,1,200,2],[201,1,201,2],[202,1,202,2],[155,0,161,0],[155,1,161,1],[155,8,161,8],[162,0,168,0],[162,1,168,1],[162,8,168,8],[190,8,196,8],[197,1,197,5],[198,1,198,2],[169,0,175,0],[169,1,175,1],[169,8,175,8],[176,0,182,0],[176,1,182,1],[176,8,182,8],[183,0,189,0],[183,1,189,1],[183,8,189,8],[134,0,140,0],[134,1,140,1],[134,8,140,8],[141,0,147,0],[141,1,147,1],[141,8,147,8],[148,0,154,0],[148,1,154,1],[148,8,154,8],[121,0,125,0],[121,1,125,1],[121,3,125,3],[121,4,125,4],[121,5,125,5],[121,6,125,6],[121,7,125,7],[121,8,125,8],[127,0,133,0],[127,1,133,1],[127,8,133,8],[126,1,126,5],[96,8,100,8],[101,0,105,0],[101,1,105,1],[101,3,105,3],[101,4,105,4],[101,5,105,5],[101,6,105,6],[101,7,105,7],[101,8,105,8],[96,0,100,0],[96,1,100,1],[96,3,100,3],[96,4,100,4],[96,5,100,5],[96,7,100,7],[96,6,100,6],[31,1,31,2],[32,1,32,5],[42,1,42,2],[43,1,43,5],[23,1,23,2],[24,1,24,2],[25,1,25,2],[33,1,33,2],[34,1,34,2],[35,1,35,2],[36,1,36,2],[37,1,37,2],[26,1,26,2],[27,1,27,2],[28,1,28,2],[29,1,29,2],[30,1,30,2],[111,8,115,8],[116,0,120,0],[116,1,120,1],[116,3,120,3],[116,4,120,4],[116,5,120,5],[111,0,115,0],[111,1,115,1],[111,3,115,3],[111,4,115,4],[111,5,115,5],[111,6,115,6],[111,7,115,7],[116,6,120,6],[116,7,120,7],[116,8,120,8],[0,3,0,8],[2,0,2,2],[2,3,2,8],[22,1,22,2],[14,1,14,2],[15,1,15,2],[16,1,16,2],[17,1,17,2],[18,1,18,2],[20,1,20,5],[10,1,10,2],[11,1,11,2],[12,1,12,2],[13,1,13,2],[3,3,3,4],[3,5,3,6],[4,0,4,2],[4,3,4,8],[8,1,8,2],[9,1,9,5],[19,1,19,2],[21,1,21,5],[48,1,48,2],[49,1,49,2],[38,1,38,2],[39,1,39,2],[40,1,40,2],[41,1,41,2],[56,1,56,2],[60,1,60,2],[61,1,61,2],[50,1,50,2],[51,1,51,2],[52,1,52,2],[53,1,53,2],[54,1,54,2],[55,1,55,2],[57,1,57,2],[58,1,58,2],[59,1,59,5],[44,1,44,2],[45,1,45,2],[46,1,46,2],[47,1,47,2],[62,1,62,2],[63,1,63,2],[64,1,64,2],[65,1,65,2],[66,1,66,2],[67,1,67,2],[68,1,68,2],[69,1,69,2],[70,1,70,2],[71,1,71,2],[72,1,72,2],[73,1,73,2],[74,1,74,2],[75,1,75,5],[76,0,80,0],[76,1,80,1],[76,3,80,3],[76,4,80,4],[76,5,80,5],[76,6,80,6],[76,7,80,7],[76,8,80,8],[81,0,85,0],[81,1,85,1],[81,3,85,3],[81,4,85,4],[81,5,85,5],[81,6,85,6],[81,7,85,7],[81,8,85,8],[86,0,90,0],[86,1,90,1],[86,3,90,3],[86,4,90,4],[86,5,90,5],[86,6,90,6],[86,7,90,7],[86,8,90,8],[106,0,110,0],[106,1,110,1],[106,3,110,3],[106,4,110,4],[106,5,110,5],[106,6,110,6],[106,7,110,7],[106,8,110,8],[91,0,95,0],[91,1,95,1],[91,3,95,3],[91,4,95,4],[91,5,95,5],[91,6,95,6],[91,7,95,7],[91,8,95,8]]}
[null,null,"Pasirinkite veiklos tipą:"]
[null,null,"Fizinio rodiklio Nr.:"]
["Fizinio rodiklio pavadinimas:"]
[null,null,"Fizinio rodiklio matavimo vnt.:",null,null,"Fizinio rodiklio vnt. skaičius:"]
["Juridinis asmuo (pareiškėjas, partneris), atsakingas už fizinį rodiklį:"]
[]
[null,null,"Finansavimo intensyvumas:",null,null,null,"Pasirinkite biudžeto išlaidų kategoriją:"]
[]
["Eil. Nr.","Išlaidų kategorijos pavadinimas",null,"Matavimo vnt.","Kiekis","Vieneto kaina be PVM, Eur","Tinkamų finansuoti išlaidų suma be PVM, Eur","Finansavimo suma, Eur","Išlaidų pagrindimo dokumentų pavadinimas, data ir Nr."]
[4,"ĮRANGA, ĮRENGINIAI IR KT. TURTAS (techninių žinių ir išradimų patentų arba teisių pagal licencijų sutartį įsigijimo išlaidos)",null,null,null,null,{"$f":"SUM(G11:G20)","v":0},{"$f":"SUM(H11:H20)","v":0}]
["4.1","Išlaidų pavadinimas",null,null,null,null,{"$f":"ROUND(E11*F11,2)","v":0},{"$f":"ROUND(G11*$D$7,2)","v":0}]
["4.2","Išlaidų pavadinimas",null,null,null,null,0,0]
["4.3","Išlaidų pavadinimas",null,null,null,null,0,0]
["4.4","Išlaidų pavadinimas",null,null,null,null,0,0]
["4.5","Išlaidų pavadinimas",null,null,null,null,0,0]
["4.6","Išlaidų pavadinimas",null,null,null,null,0,0]
["4.7","Išlaidų pavadinimas",null,null,null,null,0,0]
["4.8","Išlaidų pavadinimas",null,null,null,null,0,0]
["4.9","Išlaidų pavadinimas",null,null,null,null,0,0]
["4.10","Išlaidų pavadinimas",null,null,null,null,0,0]
[5,"PROJEKTO VYKDYMAS",null,null,null,null,{"$f":"G22+G33+G44+G60+G76+G127+G198+G204","v":0},{"$f":"H22+H33+H44+H60+H76+H127+H198+H204","v":0}]
["5.1","MTEP paslaugos",null,null,null,null,{"$f":"SUM(G23:G32)","v":0},{"$f":"SUM(H23:H32)","v":0}]
["5.1.1","Paslaugos pavadinimas",null,null,null,null,{"$f":"ROUND(E23*F23,2)","v":0},0]
["5.1.2","Paslaugos pavadinimas",null,null,null,null,0,0]
["5.1.3","Paslaugos pavadinimas",null,null,null,null,0,0]
["5.1.4","Paslaugos pavadinimas",null,null,null,null,0,0]
["5.1.5","Paslaugos pavadinimas",null,null,null,null,0,0]
["5.1.6","Paslaugos pavadinimas",null,null,null,null,0,0]
["5.1.7","Paslaugos pavadinimas",null,null,null,null,0,0]
["5.1.8","Paslaugos pavadinimas",null,null,null,null,0,0]
["5.1.9","Paslaugos pavadinimas",null,null,null,null,0,0]
["5.1.10","Paslaugos pavadinimas",null,null,null,null,0,0]
["5.2","Konsultavimo ir lygiavertės paslaugos, naudojamos vien tik projekto MTEP veiklai",null,null,null,null,{"$f":"SUM(G34:G43)","v":0},{"$f":"SUM(H34:H43)","v":0}]
["5.2.1","Paslaugos pavadinimas",null,null,null,null,{"$f":"ROUND(E34*F34,2)","v":0},0]
["5.2.2","Paslaugos pavadinimas",null,null,null,null,0,0]
["5.2.3","Paslaugos pavadinimas",null,null,null,null,0,0]
["5.2.4","Paslaugos pavadinimas",null,null,null,null,0,0]
["5.2.5","Paslaugos pavadinimas",null,null,null,null,0,0]
["5.2.6","Paslaugos pavadinimas",null,null,null,null,0,0]
["5.2.7","Paslaugos pavadinimas",null,null,null,null,0,0]
["5.2.8","Paslaugos pavadinimas",null,null,null,null,0,0]
["5.2.9","Paslaugos pavadinimas",null,null,null,null,0,0]
["5.2.10","Paslaugos pavadinimas",null,null,null,null,0,0]
["5.3","Medžiagos, mažavertis inventorius, atsargos ir pan. produktai, priskirtini trumpalaikiam turtui ir tiesiogiai susiję su MTEP veikla",null,null,null,null,{"$f":"SUM(G45:G61)","v":0},{"$f":"SUM(H45:H61)","v":0}]
["5.3.1","Išlaidų pavadinimas",null,null,null,null,{"$f":"ROUND(E45*F45,2)","v":0},{"$f":"ROUND(G45*$D$7,2)","v":0}]
["5.3.2","Išlaidų pavadinimas",null,null,null,null,0,0]
["5.3.3","Išlaidų pavadinimas",null,null,null,null,0,0]
["5.3.4","Išlaidų pavadinimas",null,null,null,null,0,0]
["5.3.5","Išlaidų pavadinimas",null,null,null,null,0,0]
["5.3.6","Išlaidų pavadinimas",null,null,null,null,0,0]
["5.3.7","Išlaidų pavadinimas",null,null,null,null,0,0]
["5.3.8","Išlaidų pavadinimas",null,null,null,null,0,0]
["5.3.9","Išlaidų pavadinimas",null,null,null,null,0,0]
["5.3.10","Išlaidų pavadinimas",null,null,null,null,0,0]
["5.3.11","Išlaidų pavadinimas",null,null,null,null,0,0]
["5.3.12","Išlaidų pavadinimas",null,null,null,null,0,0]
["5.3.13","Išlaidų pavadinimas",null,null,null,null,0,0]
["5.3.14","Išlaidų pavadinimas",null,null,null,null,0,0]
["5.3.15","Išlaidų pavadinimas",null,null,null,null,0,0]
["5.4","Projekto MTEP veikloms naudojamo ilgalaikio materialaus turto (įrangos, prietaisų, įrankių, įrenginių, mašinų ir įrengimų, pastatų ir (ar) patalpų), nusidėvėjimo sąnaudos, jeigu šiam turtui įsigyti nebuvo naudojamos viešosios (įskaitant ir kitų valstybių) lėšos",null,null,null,null,{"$f":"SUM(G61:G75)","v":0},{"$f":"SUM(H61:H75)","v":0},null,null,"Turto įvedimo į eksploataciją data","Turto įsigijimo vertė, Eur","Turto nudėvėjimo, amortizacijos laikotarpis, mėn.","Numatoma turto likutinė vertė, Eur","1 mėn. nudėvėjimo, amortizacijos suma, Eur","Turto naudojamo projekto reikmėms laikas, mėn.","Turto panaudojimo projekto reikmėms dalis (proc.)","Projektui priskirta turto nusidėvėjimo, amortizacijos suma per projekto laikotarpį, Eur"]
["5.4.1","Turtas, kurio nusidėvėjimą, amortizaciją prašoma finansuoti",null,null,1,{"$f":"R61","v":0},{"$f":"ROUND(E61*F61,2)","v":0},0,null,null,null,null,null,null,{"$f":"IFERROR(ROUND((L61-N61)/M61,2),\"0\")","v":"0"},null,null,{"$f":"O61*P61*Q61","v":0},{"$f":"IF(K61=0,\" \",IF(K61+(M61*30.5)<TODAY(),\"DĖMESIO! Patikrinkite, ar nurodytas turtas dar nėra nudėvėtas, amortizuotas\",\" \"))","v":" "}]
["5.4.2","Turtas, kurio nusidėvėjimą, amortizaciją prašoma finansuoti",null,null,1,{"$f":"R62","v":0},0,0,null,null,null,null,null,null,{"$f":"IFERROR(ROUND((L62-N62)/M62,2),\"0\")","v":"0"},null,null,{"$f":"O62*P62*Q62","v":0},{"$f":"IF(K62=0,\" \",IF(K62+(M62*30.5)<TODAY(),\"DĖMESIO! Patikrinkite, ar nurodytas turtas dar nėra nudėvėtas, amortizuotas\",\" \"))","v":" "}]
["5.4.3","Turtas, kurio nusidėvėjimą, amortizaciją prašoma finansuoti",null,null,1,0,0,0,null,null,null,null,null,null,"0",null,null,0," "]
["5.4.4","Turtas, kurio nusidėvėjimą, amortizaciją prašoma finansuoti",null,null,1,0,0,0,null,null,null,null,null,null,"0",null,null,0," "]
["5.4.5","Turtas, kurio nusidėvėjimą, amortizaciją prašoma finansuoti",null,null,1,0,0,0,null,null,null,null,null,null,"0",null,null,0," "]
["5.4.6","Turtas, kurio nusidėvėjimą, amortizaciją prašoma finansuoti",null,null,1,0,0,0,null,null,null,null,null,null,"0",null,null,0," "]
["5.4.7","Turtas, kurio nusidėvėjimą, amortizaciją prašoma finansuoti",null,null,1,0,0,0,null,null,null,null,null,null,"0",null,null,0," "]
["5.4.8","Turtas, kurio nusidėvėjimą, amortizaciją prašoma finansuoti",null,null,1,0,0,0,null,null,null,null,null,null,"0",null,null,0," "]
["5.4.9","Turtas, kurio nusidėvėjimą, amortizaciją prašoma finansuoti",null,null,1,0,0,0,null,null,null,null,null,null,"0",null,null,0," "]
["5.4.10","Turtas, kurio nusidėvėjimą, amortizaciją prašoma finansuoti",null,null,1,0,0,0,null,null,null,null,null,null,"0",null,null,0," "]
["5.4.11","Turtas, kurio nusidėvėjimą, amortizaciją prašoma finansuoti",null,null,1,0,0,0,null,null,null,null,null,null,"0",null,null,0," "]
["5.4.12","Turtas, kurio nusidėvėjimą, amortizaciją prašoma finansuoti",null,null,1,0,0,0,null,null,null,null,null,null,"0",null,null,0," "]
["5.4.13","Turtas, kurio nusidėvėjimą, amortizaciją prašoma finansuoti",null,null,1,0,0,0,null,null,null,null,null,null,"0",null,null,0," "]
["5.4.14","Turtas, kurio nusidėvėjimą, amortizaciją prašoma finansuoti",null,null,1,0,0,0,null,null,null,null,null,null,"0",null,null,0," "]
["5.4.15","Turtas, kurio nusidėvėjimą, amortizaciją prašoma finansuoti",null,null,1,0,0,0,null,null,null,null,null,null,"0",null,null,0," "]
["5.5","Projektą vykdančio personalo darbo užmokestis ir išlaidos su darbo santykiais susijusiems darbdavio įsipareigojimams",null,null,null,null,{"$f":"SUM(G77:G126)","v":0},{"$f":"SUM(H77:H126)","v":0},null,null,"Faktiškai gaunamas darbo užmokesti už 1 valandą pagal  pastarųjų 6 mėn. vidurkį, Eur"]
["5.5.1","Pareigybės pavadinimas","Darbuotojo vardas pavardė","val.",null,{"$f":"IFERROR(ROUND(AVERAGE(K77:K81),2),\"0\")","v":"0"},{"$f":"ROUND(E77*F77,2)","v":0},{"$f":"ROUND(G77*$D$7,2)","v":0}]
[null,null,"Darbuotojo vardas pavardė"]
[null,null,"Darbuotojo vardas pavardė"]
[null,null,"Darbuotojo vardas pavardė"]
[null,null,"Darbuotojo vardas pavardė"]
["5.5.2","Pareigybės pavadinimas","Darbuotojo vardas pavardė","val.",null,{"$f":"IFERROR(ROUND(AVERAGE(K82:K86),2),\"0\")","v":"0"},{"$f":"ROUND(E82*F82,2)","v":0},{"$f":"ROUND(G82*$D$7,2)","v":0}]
[null,null,"Darbuotojo vardas pavardė"]
[null,null,"Darbuotojo vardas pavardė"]
[null,null,"Darbuotojo vardas pavardė"]
[null,null,"Darbuotojo vardas pavardė"]
["5.5.3","Pareigybės pavadinimas","Darbuotojo vardas pavardė","val.",null,{"$f":"IFERROR(ROUND(AVERAGE(K87:K91),2),\"0\")","v":"0"},{"$f":"ROUND(E87*F87,2)","v":0},{"$f":"ROUND(G87*$D$7,2)","v":0}]
[null,null,"Darbuotojo vardas pavardė"]
[null,null,"Darbuotojo vardas pavardė"]
[null,null,"Darbuotojo vardas pavardė"]
[null,null,"Darbuotojo vardas pavardė"]
["5.5.4","Pareigybės pavadinimas","Darbuotojo vardas pavardė","val.",null,{"$f":"IFERROR(ROUND(AVERAGE(K92:K96),2),\"0\")","v":"0"},{"$f":"ROUND(E92*F92,2)","v":0},{"$f":"ROUND(G92*$D$7,2)","v":0}]
[null,null,"Darbuotojo vardas pavardė"]
[null,null,"Darbuotojo vardas pavardė"]
[null,null,"Darbuotojo vardas pavardė"]
[null,null,"Darbuotojo vardas pavardė"]
["5.5.5","Pareigybės pavadinimas","Darbuotojo vardas pavardė","val.",null,{"$f":"IFERROR(ROUND(AVERAGE(K97:K101),2),\"0\")","v":"0"},{"$f":"ROUND(E97*F97,2)","v":0},{"$f":"ROUND(G97*$D$7,2)","v":0}]
[null,null,"Darbuotojo vardas pavardė"]
[null,null,"Darbuotojo vardas pavardė"]
[null,null,"Darbuotojo vardas pavardė"]
[null,null,"Darbuotojo vardas pavardė"]
["5.5.6","Pareigybės pavadinimas","Darbuotojo vardas pavardė","val.",null,{"$f":"IFERROR(ROUND(AVERAGE(K102:K106),2),\"0\")","v":"0"},{"$f":"ROUND(E102*F102,2)","v":0},{"$f":"ROUND(G102*$D$7,2)","v":0}]
[null,null,"Darbuotojo vardas pavardė"]
[null,null,"Darbuotojo vardas pavardė"]
[null,null,"Darbuotojo vardas pavardė"]
[null,null,"Darbuotojo vardas pavardė"]
["5.5.7","Pareigybės pavadinimas","Darbuotojo vardas pavardė","val.",null,{"$f":"IFERROR(ROUND(AVERAGE(K107:K111),2),\"0\")","v":"0"},{"$f":"ROUND(E107*F107,2)","v":0},{"$f":"ROUND(G107*$D$7,2)","v":0}]
[null,null,"Darbuotojo vardas pavardė"]
[null,null,"Darbuotojo vardas pavardė"]
[null,null,"Darbuotojo vardas pavardė"]
[null,null,"Darbuotojo vardas pavardė"]
["5.5.8","Pareigybės pavadinimas","Darbuotojo vardas pavardė","val.",null,{"$f":"IFERROR(ROUND(AVERAGE(K112:K116),2),\"0\")","v":"0"},{"$f":"ROUND(E112*F112,2)","v":0},{"$f":"ROUND(G112*$D$7,2)","v":0}]
[null,null,"Darbuotojo vardas pavardė"]
[null,null,"Darbuotojo vardas pavardė"]
[null,null,"Darbuotojo vardas pavardė"]
[null,null,"Darbuotojo vardas pavardė"]
["5.5.9","Pareigybės pavadinimas","Darbuotojo vardas pavardė","val.",null,{"$f":"IFERROR(ROUND(AVERAGE(K117:K121),2),\"0\")","v":"0"},{"$f":"ROUND(E117*F117,2)","v":0},{"$f":"ROUND(G117*$D$7,2)","v":0}]
[null,null,"Darbuotojo vardas pavardė"]
[null,null,"Darbuotojo vardas pavardė"]
[null,null,"Darbuotojo vardas pavardė"]
[null,null,"Darbuotojo vardas pavardė"]
["5.5.10","Pareigybės pavadinimas","Darbuotojo vardas pavardė","val.",null,{"$f":"IFERROR(ROUND(AVERAGE(K122:K126),2),\"0\")","v":"0"},{"$f":"ROUND(E122*F122,2)","v":0},{"$f":"ROUND(G122*$D$7,2)","v":0}]
[null,null,"Darbuotojo vardas pavardė"]
[null,null,"Darbuotojo vardas pavardė"]
[null,null,"Darbuotojo vardas pavardė"]
[null,null,"Darbuotojo vardas pavardė"]
["5.6","Projektą vykdančio personalo komandiruočių išlaidos",null,null,null,null,{"$f":"SUM(G128,G135,G142,G149,G156,G163,G170,G177,G184,G191)","v":0},{"$f":"SUM(H128,H135,H142,H149,H156,H163,H170,H177,H184,H191)","v":0}]
["5.6.1","Komandiruotės pavadinimas, vieta, trukmė dienomis, vykstančių asmenų skaičius","Iš viso komandiruotei",null,null,null,{"$f":"SUM(G129:G134)","v":0},{"$f":"ROUND(G128*$D$7,2)","v":0}]
[null,null,"Dienpinigiai",null,null,null,{"$f":"ROUND(E129*F129,2)","v":0}]
[null,null,"Gyvenamojo ploto nuoma",null,null,null,0]
[null,null,"Kelionės išlaidos",null,null,null,0]
[null,null,"Dalyvavimo mokestis",null,null,null,0]
[null,null,"Kitos išlaidų pavadinimas",null,null,null,0]
[null,null,"Kitos išlaidų pavadinimas",null,null,null,0]
["5.6.2","Komandiruotės pavadinimas, vieta, trukmė dienomis, vykstančių asmenų skaičius","Iš viso komandiruotei",null,null,null,{"$f":"SUM(G136:G141)","v":0},{"$f":"ROUND(G135*$D$7,2)","v":0}]
[null,null,"Dienpinigiai",null,null,null,{"$f":"ROUND(E136*F136,2)","v":0}]
[null,null,"Gyvenamojo ploto nuoma",null,null,null,0]
[null,null,"Kelionės išlaidos",null,null,null,0]
[null,null,"Dalyvavimo mokestis",null,null,null,0]
[null,null,"Kitos išlaidų pavadinimas",null,null,null,0]
[null,null,"Kitos išlaidų pavadinimas",null,null,null,0]
["5.6.3","Komandiruotės pavadinimas, vieta, trukmė dienomis, vykstančių asmenų skaičius","Iš viso komandiruotei",null,null,null,{"$f":"SUM(G143:G148)","v":0},{"$f":"ROUND(G142*$D$7,2)","v":0}]
[null,null,"Dienpinigiai",null,null,null,{"$f":"ROUND(E143*F143,2)","v":0}]
[null,null,"Gyvenamojo ploto nuoma",null,null,null,0]
[null,null,"Kelionės išlaidos",null,null,null,0]
[null,null,"Dalyvavimo mokestis",null,null,null,0]
[null,null,"Kitos išlaidų pavadinimas",null,null,null,0]
[null,null,"Kitos išlaidų pavadinimas",null,null,null,0]
["5.6.4","Komandiruotės pavadinimas, vieta, trukmė dienomis, vykstančių asmenų skaičius","Iš viso komandiruotei",null,null,null,{"$f":"SUM(G150:G155)","v":0},{"$f":"ROUND(G149*$D$7,2)","v":0}]
[null,null,"Dienpinigiai",null,null,null,{"$f":"ROUND(E150*F150,2)","v":0}]
[null,null,"Gyvenamojo ploto nuoma",null,null,null,0]
[null,null,"Kelionės išlaidos",null,null,null,0]
[null,null,"Dalyvavimo mokestis",null,null,null,0]
[null,null,"Kitos išlaidų pavadinimas",null,null,null,0]
[null,null,"Kitos išlaidų pavadinimas",null,null,null,0]
["5.6.5","Komandiruotės pavadinimas, vieta, trukmė dienomis, vykstančių asmenų skaičius","Iš viso komandiruotei",null,null,null,{"$f":"SUM(G157:G162)","v":0},{"$f":"ROUND(G156*$D$7,2)","v":0}]
[null,null,"Dienpinigiai",null,null,null,{"$f":"ROUND(E157*F157,2)","v":0}]
[null,null,"Gyvenamojo ploto nuoma",null,null,null,0]
[null,null,"Kelionės išlaidos",null,null,null,0]
[null,null,"Dalyvavimo mokestis",null,null,null,0]
[null,null,"Kitos išlaidų pavadinimas",null,null,null,0]
[null,null,"Kitos išlaidų pavadinimas",null,null,null,0]
["5.6.6","Komandiruotės pavadinimas, vieta, trukmė dienomis, vykstančių asmenų skaičius","Iš viso komandiruotei",null,null,null,{"$f":"SUM(G164:G169)","v":0},{"$f":"ROUND(G163*$D$7,2)","v":0}]
[null,null,"Dienpinigiai",null,null,null,{"$f":"ROUND(E164*F164,2)","v":0}]
[null,null,"Gyvenamojo ploto nuoma",null,null,null,0]
[null,null,"Kelionės išlaidos",null,null,null,0]
[null,null,"Dalyvavimo mokestis",null,null,null,0]
[null,null,"Kitos išlaidų pavadinimas",null,null,null,0]
[null,null,"Kitos išlaidų pavadinimas",null,null,null,0]
["5.6.7","Komandiruotės pavadinimas, vieta, trukmė dienomis, vykstančių asmenų skaičius","Iš viso komandiruotei",null,null,null,{"$f":"SUM(G171:G176)","v":0},{"$f":"ROUND(G170*$D$7,2)","v":0}]
[null,null,"Dienpinigiai",null,null,null,{"$f":"ROUND(E171*F171,2)","v":0}]
[null,null,"Gyvenamojo ploto nuoma",null,null,null,0]
[null,null,"Kelionės išlaidos",null,null,null,0]
[null,null,"Dalyvavimo mokestis",null,null,null,0]
[null,null,"Kitos išlaidų pavadinimas",null,null,null,0]
[null,null,"Kitos išlaidų pavadinimas",null,null,null,0]
["5.6.8","Komandiruotės pavadinimas, vieta, trukmė dienomis, vykstančių asmenų skaičius","Iš viso komandiruotei",null,null,null,{"$f":"SUM(G178:G183)","v":0},{"$f":"ROUND(G177*$D$7,2)","v":0}]
[null,null,"Dienpinigiai",null,null,null,{"$f":"ROUND(E178*F178,2)","v":0}]
[null,null,"Gyvenamojo ploto nuoma",null,null,null,0]
[null,null,"Kelionės išlaidos",null,null,null,0]
[null,null,"Dalyvavimo mokestis",null,null,null,0]
[null,null,"Kitos išlaidų pavadinimas",null,null,null,0]
[null,null,"Kitos išlaidų pavadinimas",null,null,null,0]
["5.6.9","Komandiruotės pavadinimas, vieta, trukmė dienomis, vykstančių asmenų skaičius","Iš viso komandiruotei",null,null,null,{"$f":"SUM(G185:G190)","v":0},{"$f":"ROUND(G184*$D$7,2)","v":0}]
[null,null,"Dienpinigiai",null,null,null,{"$f":"ROUND(E185*F185,2)","v":0}]
[null,null,"Gyvenamojo ploto nuoma",null,null,null,0]
[null,null,"Kelionės išlaidos",null,null,null,0]
[null,null,"Dalyvavimo mokestis",null,null,null,0]
[null,null,"Kitos išlaidų pavadinimas",null,null,null,0]
[null,null,"Kitos išlaidų pavadinimas",null,null,null,0]
["5.6.10","Komandiruotės pavadinimas, vieta, trukmė dienomis, vykstančių asmenų skaičius","Iš viso komandiruotei",null,null,null,{"$f":"SUM(G192:G197)","v":0},{"$f":"ROUND(G191*$D$7,2)","v":0}]
[null,null,"Dienpinigiai",null,null,null,{"$f":"ROUND(E192*F192,2)","v":0}]
[null,null,"Gyvenamojo ploto nuoma",null,null,null,0]
[null,null,"Kelionės išlaidos",null,null,null,0]
[null,null,"Dalyvavimo mokestis",null,null,null,0]
[null,null,"Kitos išlaidų pavadinimas",null,null,null,0]
[null,null,"Kitos išlaidų pavadinimas",null,null,null,0]
["5.7","Įrangos nuomos išlaidos, veiklai priskirtos pro rata principu. Įranga turi būti tiesiogiai susijusi su projekto įgyvendinimu ir negali būti įsigyta iš ES struktūrinių fondų ar kt. ES finansinių priemonių lėšų",null,null,null,null,{"$f":"SUM(G199:G203)","v":0},{"$f":"SUM(H199:H203)","v":0},null,null,"Faktinės 1 mėnesio išlaidos, Eur","Naudojimo projekte trukmė, mėn."]
["5.7.1","Įrangos pavadinimas",null,"pro rata proc.",null,{"$f":"K199*L199","v":0},0,{"$f":"ROUND(G199*$D$7,2)","v":0}]
["5.7.2","Įrangos pavadinimas",null,"pro rata proc.",null,{"$f":"K200*L200","v":0},0,{"$f":"ROUND(G200*$D$7,2)","v":0}]
["5.7.3","Įrangos pavadinimas",null,"pro rata proc.",null,0,0,0]
["5.7.4","Įrangos pavadinimas",null,"pro rata proc.",null,0,0,0]
["5.7.5","Įrangos pavadinimas",null,"pro rata proc.",null,0,0,0]
["5.8","Pastatų ar patalpų nuomos išlaidos, veiklai priskirtos pro rata principu. Pastatai ar patalpos turi būti tiesiogiai susijusi su projekto įgyvendinimu.",null,null,null,null,{"$f":"SUM(G205:G209)","v":0},{"$f":"SUM(H205:H209)","v":0},null,null,"Faktinės 1 mėnesio išlaidos, Eur","Naudojimo projekte trukmė, mėn."]
["5.8.1","Pastato, patalpų adresas",null,"pro rata proc.",null,{"$f":"K205*L205","v":0},{"$f":"ROUND(E205*F205,2)","v":0},{"$f":"ROUND(G205*$D$7,2)","v":0}]
["5.8.2","Pastato, patalpų adresas",null,"pro rata proc.",null,{"$f":"K206*L206","v":0},0,0]
["5.8.3","Pastato, patalpų adresas",null,"pro rata proc.",null,0,0,0]
["5.8.4","Pastato, patalpų adresas",null,"pro rata proc.",null,0,0,0]
["5.8.5","Pastato, patalpų adresas",null,"pro rata proc.",null,0,0,0]
["Iš viso tinkamų finansuoti išlaidų:",null,null,null,null,null,{"$f":"G10+G21","v":0},{"$f":"H10+H21","v":0}]

{"sheet":"8","index":9,"n_rows":210,"n_cols":19,"rows_kept":210,"cut":false,"hidden":false,"merged":[[203,1,203,5],[204,1,204,2],[205,1,205,2],[206,1,206,2],[207,1,207,2],[208,1,208,2],[209,0,209,5],[190,0,196,0],[190,1,196,1],[199,1,199,2],[200,1,200,2],[201,1,201,2],[202,1,202,2],[155,0,161,0],[155,1,161,1],[155,8,161,8],[162,0,168,0],[162,1,168,1],[162,8,168,8],[190,8,196,8],[197,1,197,5],[198,1,198,2],[169,0,175,0],[169,1,175,1],[169,8,175,8],[176,0,182,0],[176,1,182,1],[176,8,182,8],[183,0,189,0],[183,1,189,1],[183,8,189,8],[134,0,140,0],[134,1,140,1],[134,8,140,8],[141,0,147,0],[141,1,147,1],[141,8,147,8],[148,0,154,0],[148,1,154,1],[148,8,154,8],[121,0,125,0],[121,1,125,1],[121,3,125,3],[121,4,125,4],[121,5,125,5],[121,6,125,6],[121,7,125,7],[121,8,125,8],[127,0,133,0],[127,1,133,1],[127,8,133,8],[126,1,126,5],[96,8,100,8],[101,0,105,0],[101,1,105,1],[101,3,105,3],[101,4,105,4],[101,5,105,5],[101,6,105,6],[101,7,105,7],[101,8,105,8],[96,0,100,0],[96,1,100,1],[96,3,100,3],[96,4,100,4],[96,5,100,5],[96,7,100,7],[96,6,100,6],[31,1,31,2],[32,1,32,5],[42,1,42,2],[43,1,43,5],[23,1,23,2],[24,1,24,2],[25,1,25,2],[33,1,33,2],[34,1,34,2],[35,1,35,2],[36,1,36,2],[37,1,37,2],[26,1,26,2],[27,1,27,2],[28,1,28,2],[29,1,29,2],[30,1,30,2],[111,8,115,8],[116,0,120,0],[116,1,120,1],[116,3,120,3],[116,4,120,4],[116,5,120,5],[111,0,115,0],[111,1,115,1],[111,3,115,3],[111,4,115,4],[111,5,115,5],[111,6,115,6],[111,7,115,7],[116,6,120,6],[116,7,120,7],[116,8,120,8],[0,3,0,8],[2,0,2,2],[2,3,2,8],[22,1,22,2],[14,1,14,2],[15,1,15,2],[16,1,16,2],[17,1,17,2],[18,1,18,2],[20,1,20,5],[10,1,10,2],[11,1,11,2],[12,1,12,2],[13,1,13,2],[3,3,3,4],[3,5,3,6],[4,0,4,2],[4,3,4,8],[8,1,8,2],[9,1,9,5],[19,1,19,2],[21,1,21,5],[48,1,48,2],[49,1,49,2],[38,1,38,2],[39,1,39,2],[40,1,40,2],[41,1,41,2],[56,1,56,2],[60,1,60,2],[61,1,61,2],[50,1,50,2],[51,1,51,2],[52,1,52,2],[53,1,53,2],[54,1,54,2],[55,1,55,2],[57,1,57,2],[58,1,58,2],[59,1,59,5],[44,1,44,2],[45,1,45,2],[46,1,46,2],[47,1,47,2],[62,1,62,2],[63,1,63,2],[64,1,64,2],[65,1,65,2],[66,1,66,2],[67,1,67,2],[68,1,68,2],[69,1,69,2],[70,1,70,2],[71,1,71,2],[72,1,72,2],[73,1,73,2],[74,1,74,2],[75,1,75,5],[76,0,80,0],[76,1,80,1],[76,3,80,3],[76,4,80,4],[76,5,80,5],[76,6,80,6],[76,7,80,7],[76,8,80,8],[81,0,85,0],[81,1,85,1],[81,3,85,3],[81,4,85,4],[81,5,85,5],[81,6,85,6],[81,7,85,7],[81,8,85,8],[86,0,90,0],[86,1,90,1],[86,3,90,3],[86,4,90,4],[86,5,90,5],[86,6,90,6],[86,7,90,7],[86,8,90,8],[106,0,110,0],[106,1,110,1],[106,3,110,3],[106,4,110,4],[106,5,110,5],[106,6,110,6],[106,7,110,7],[106,8,110,8],[91,0,95,0],[91,1,95,1],[91,3,95,3],[91,4,95,4],[91,5,95,5],[91,6,95,6],[91,7,95,7],[91,8,95,8]]}
[null,null,"Pasirinkite veiklos tipą:"]
[null,null,"Fizinio rodiklio Nr.:"]
["Fizinio rodiklio pavadinimas:"]
[null,null,"Fizinio rodiklio matavimo vnt.:",null,null,"Fizinio rodiklio vnt. skaičius:"]
["Juridinis asmuo (pareiškėjas, partneris), atsakingas už fizinį rodiklį:"]
[]
[null,null,"Finansavimo intensyvumas:",null,null,null,"Pasirinkite biudžeto išlaidų kategoriją:"]
[]
["Eil. Nr.","Išlaidų kategorijos pavadinimas",null,"Matavimo vnt.","Kiekis","Vieneto kaina be PVM, Eur","Tinkamų finansuoti išlaidų suma be PVM, Eur","Finansavimo suma, Eur","Išlaidų pagrindimo dokumentų pavadinimas, data ir Nr."]
[4,"ĮRANGA, ĮRENGINIAI IR KT. TURTAS (techninių žinių ir išradimų patentų arba teisių pagal licencijų sutartį įsigijimo išlaidos)",null,null,null,null,{"$f":"SUM(G11:G20)","v":0},{"$f":"SUM(H11:H20)","v":0}]
["4.1","Išlaidų pavadinimas",null,null,null,null,{"$f":"ROUND(E11*F11,2)","v":0},{"$f":"ROUND(G11*$D$7,2)","v":0}]
["4.2","Išlaidų pavadinimas",null,null,null,null,0,0]
["4.3","Išlaidų pavadinimas",null,null,null,null,0,0]
["4.4","Išlaidų pavadinimas",null,null,null,null,0,0]
["4.5","Išlaidų pavadinimas",null,null,null,null,0,0]
["4.6","Išlaidų pavadinimas",null,null,null,null,0,0]
["4.7","Išlaidų pavadinimas",null,null,null,null,0,0]
["4.8","Išlaidų pavadinimas",null,null,null,null,0,0]
["4.9","Išlaidų pavadinimas",null,null,null,null,0,0]
["4.10","Išlaidų pavadinimas",null,null,null,null,0,0]
[5,"PROJEKTO VYKDYMAS",null,null,null,null,{"$f":"G22+G33+G44+G60+G76+G127+G198+G204","v":0},{"$f":"H22+H33+H44+H60+H76+H127+H198+H204","v":0}]
["5.1","MTEP paslaugos",null,null,null,null,{"$f":"SUM(G23:G32)","v":0},{"$f":"SUM(H23:H32)","v":0}]
["5.1.1","Paslaugos pavadinimas",null,null,null,null,{"$f":"ROUND(E23*F23,2)","v":0},0]
["5.1.2","Paslaugos pavadinimas",null,null,null,null,0,0]
["5.1.3","Paslaugos pavadinimas",null,null,null,null,0,0]
["5.1.4","Paslaugos pavadinimas",null,null,null,null,0,0]
["5.1.5","Paslaugos pavadinimas",null,null,null,null,0,0]
["5.1.6","Paslaugos pavadinimas",null,null,null,null,0,0]
["5.1.7","Paslaugos pavadinimas",null,null,null,null,0,0]
["5.1.8","Paslaugos pavadinimas",null,null,null,null,0,0]
["5.1.9","Paslaugos pavadinimas",null,null,null,null,0,0]
["5.1.10","Paslaugos pavadinimas",null,null,null,null,0,0]
["5.2","Konsultavimo ir lygiavertės paslaugos, naudojamos vien tik projekto MTEP veiklai",null,null,null,null,{"$f":"SUM(G34:G43)","v":0},{"$f":"SUM(H34:H43)","v":0}]
["5.2.1","Paslaugos pavadinimas",null,null,null,null,{"$f":"ROUND(E34*F34,2)","v":0},0]
["5.2.2","Paslaugos pavadinimas",null,null,null,null,0,0]
["5.2.3","Paslaugos pavadinimas",null,null,null,null,0,0]
["5.2.4","Paslaugos pavadinimas",null,null,null,null,0,0]
["5.2.5","Paslaugos pavadinimas",null,null,null,null,0,0]
["5.2.6","Paslaugos pavadinimas",null,null,null,null,0,0]
["5.2.7","Paslaugos pavadinimas",null,null,null,null,0,0]
["5.2.8","Paslaugos pavadinimas",null,null,null,null,0,0]
["5.2.9","Paslaugos pavadinimas",null,null,null,null,0,0]
["5.2.10","Paslaugos pavadinimas",null,null,null,null,0,0]
["5.3","Medžiagos, mažavertis inventorius, atsargos ir pan. produktai, priskirtini trumpalaikiam turtui ir tiesiogiai susiję su MTEP veikla",null,null,null,null,{"$f":"SUM(G45:G61)","v":0},{"$f":"SUM(H45:H61)","v":0}]
["5.3.1","Išlaidų pavadinimas",null,null,null,null,{"$f":"ROUND(E45*F45,2)","v":0},{"$f":"ROUND(G45*$D$7,2)","v":0}]
["5.3.2","Išlaidų pavadinimas",null,null,null,null,0,0]
["5.3.3","Išlaidų pavadinimas",null,null,null,null,0,0]
["5.3.4","Išlaidų pavadinimas",null,null,null,null,0,0]
["5.3.5","Išlaidų pavadinimas",null,null,null,null,0,0]
["5.3.6","Išlaidų pavadinimas",null,null,null,null,0,0]
["5.3.7","Išlaidų pavadinimas",null,null,null,null,0,0]
["5.3.8","Išlaidų pavadinimas",null,null,null,null,0,0]
["5.3.9","Išlaidų pavadinimas",null,null,null,null,0,0]
["5.3.10","Išlaidų pavadinimas",null,null,null,null,0,0]
["5.3.11","Išlaidų pavadinimas",null,null,null,null,0,0]
["5.3.12","Išlaidų pavadinimas",null,null,null,null,0,0]
["5.3.13","Išlaidų pavadinimas",null,null,null,null,0,0]
["5.3.14","Išlaidų pavadinimas",null,null,null,null,0,0]
["5.3.15","Išlaidų pavadinimas",null,null,null,null,0,0]
["5.4","Projekto MTEP veikloms naudojamo ilgalaikio materialaus turto (įrangos, prietaisų, įrankių, įrenginių, mašinų ir įrengimų, pastatų ir (ar) patalpų), nusidėvėjimo sąnaudos, jeigu šiam turtui įsigyti nebuvo naudojamos viešosios (įskaitant ir kitų valstybių) lėšos",null,null,null,null,{"$f":"SUM(G61:G75)","v":0},{"$f":"SUM(H61:H75)","v":0},null,null,"Turto įvedimo į eksploataciją data","Turto įsigijimo vertė, Eur","Turto nudėvėjimo, amortizacijos laikotarpis, mėn.","Numatoma turto likutinė vertė, Eur","1 mėn. nudėvėjimo, amortizacijos suma, Eur","Turto naudojamo projekto reikmėms laikas, mėn.","Turto panaudojimo projekto reikmėms dalis (proc.)","Projektui priskirta turto nusidėvėjimo, amortizacijos suma per projekto laikotarpį, Eur"]
["5.4.1","Turtas, kurio nusidėvėjimą, amortizaciją prašoma finansuoti",null,null,1,{"$f":"R61","v":0},{"$f":"ROUND(E61*F61,2)","v":0},0,null,null,null,null,null,null,{"$f":"IFERROR(ROUND((L61-N61)/M61,2),\"0\")","v":"0"},null,null,{"$f":"O61*P61*Q61","v":0},{"$f":"IF(K61=0,\" \",IF(K61+(M61*30.5)<TODAY(),\"DĖMESIO! Patikrinkite, ar nurodytas turtas dar nėra nudėvėtas, amortizuotas\",\" \"))","v":" "}]
["5.4.2","Turtas, kurio nusidėvėjimą, amortizaciją prašoma finansuoti",null,null,1,{"$f":"R62","v":0},0,0,null,null,null,null,null,null,{"$f":"IFERROR(ROUND((L62-N62)/M62,2),\"0\")","v":"0"},null,null,{"$f":"O62*P62*Q62","v":0},{"$f":"IF(K62=0,\" \",IF(K62+(M62*30.5)<TODAY(),\"DĖMESIO! Patikrinkite, ar nurodytas turtas dar nėra nudėvėtas, amortizuotas\",\" \"))","v":" "}]
["5.4.3","Turtas, kurio nusidėvėjimą, amortizaciją prašoma finansuoti",null,null,1,0,0,0,null,null,null,null,null,null,"0",null,null,0," "]
["5.4.4","Turtas, kurio nusidėvėjimą, amortizaciją prašoma finansuoti",null,null,1,0,0,0,null,null,null,null,null,null,"0",null,null,0," "]
["5.4.5","Turtas, kurio nusidėvėjimą, amortizaciją prašoma finansuoti",null,null,1,0,0,0,null,null,null,null,null,null,"0",null,null,0," "]
["5.4.6","Turtas, kurio nusidėvėjimą, amortizaciją prašoma finansuoti",null,null,1,0,0,0,null,null,null,null,null,null,"0",null,null,0," "]
["5.4.7","Turtas, kurio nusidėvėjimą, amortizaciją prašoma finansuoti",null,null,1,0,0,0,null,null,null,null,null,null,"0",null,null,0," "]
["5.4.8","Turtas, kurio nusidėvėjimą, amortizaciją prašoma finansuoti",null,null,1,0,0,0,null,null,null,null,null,null,"0",null,null,0," "]
["5.4.9","Turtas, kurio nusidėvėjimą, amortizaciją prašoma finansuoti",null,null,1,0,0,0,null,null,null,null,null,null,"0",null,null,0," "]
["5.4.10","Turtas, kurio nusidėvėjimą, amortizaciją prašoma finansuoti",null,null,1,0,0,0,null,null,null,null,null,null,"0",null,null,0," "]
["5.4.11","Turtas, kurio nusidėvėjimą, amortizaciją prašoma finansuoti",null,null,1,0,0,0,null,null,null,null,null,null,"0",null,null,0," "]
["5.4.12","Turtas, kurio nusidėvėjimą, amortizaciją prašoma finansuoti",null,null,1,0,0,0,null,null,null,null,null,null,"0",null,null,0," "]
["5.4.13","Turtas, kurio nusidėvėjimą, amortizaciją prašoma finansuoti",null,null,1,0,0,0,null,null,null,null,null,null,"0",null,null,0," "]
["5.4.14","Turtas, kurio nusidėvėjimą, amortizaciją prašoma finansuoti",null,null,1,0,0,0,null,null,null,null,null,null,"0",null,null,0," "]
["5.4.15","Turtas, kurio nusidėvėjimą, amortizaciją prašoma finansuoti",null,null,1,0,0,0,null,null,null,null,null,null,"0",null,null,0," "]
["5.5","Projektą vykdančio personalo darbo užmokestis ir išlaidos su darbo santykiais susijusiems darbdavio įsipareigojimams",null,null,null,null,{"$f":"SUM(G77:G126)","v":0},{"$f":"SUM(H77:H126)","v":0},null,null,"Faktiškai gaunamas darbo užmokesti už 1 valandą pagal  pastarųjų 6 mėn. vidurkį, Eur"]
["5.5.1","Pareigybės pavadinimas","Darbuotojo vardas pavardė","val.",null,{"$f":"IFERROR(ROUND(AVERAGE(K77:K81),2),\"0\")","v":"0"},{"$f":"ROUND(E77*F77,2)","v":0},{"$f":"ROUND(G77*$D$7,2)","v":0}]
[null,null,"Darbuotojo vardas pavardė"]
[null,null,"Darbuotojo vardas pavardė"]
[null,null,"Darbuotojo vardas pavardė"]
[null,null,"Darbuotojo vardas pavardė"]
["5.5.2","Pareigybės pavadinimas","Darbuotojo vardas pavardė","val.",null,{"$f":"IFERROR(ROUND(AVERAGE(K82:K86),2),\"0\")","v":"0"},{"$f":"ROUND(E82*F82,2)","v":0},{"$f":"ROUND(G82*$D$7,2)","v":0}]
[null,null,"Darbuotojo vardas pavardė"]
[null,null,"Darbuotojo vardas pavardė"]
[null,null,"Darbuotojo vardas pavardė"]
[null,null,"Darbuotojo vardas pavardė"]
["5.5.3","Pareigybės pavadinimas","Darbuotojo vardas pavardė","val.",null,{"$f":"IFERROR(ROUND(AVERAGE(K87:K91),2),\"0\")","v":"0"},{"$f":"ROUND(E87*F87,2)","v":0},{"$f":"ROUND(G87*$D$7,2)","v":0}]
[null,null,"Darbuotojo vardas pavardė"]
[null,null,"Darbuotojo vardas pavardė"]
[null,null,"Darbuotojo vardas pavardė"]
[null,null,"Darbuotojo vardas pavardė"]
["5.5.4","Pareigybės pavadinimas","Darbuotojo vardas pavardė","val.",null,{"$f":"IFERROR(ROUND(AVERAGE(K92:K96),2),\"0\")","v":"0"},{"$f":"ROUND(E92*F92,2)","v":0},{"$f":"ROUND(G92*$D$7,2)","v":0}]
[null,null,"Darbuotojo vardas pavardė"]
[null,null,"Darbuotojo vardas pavardė"]
[null,null,"Darbuotojo vardas pavardė"]
[null,null,"Darbuotojo vardas pavardė"]
["5.5.5","Pareigybės pavadinimas","Darbuotojo vardas pavardė","val.",null,{"$f":"IFERROR(ROUND(AVERAGE(K97:K101),2),\"0\")","v":"0"},{"$f":"ROUND(E97*F97,2)","v":0},{"$f":"ROUND(G97*$D$7,2)","v":0}]
[null,null,"Darbuotojo vardas pavardė"]
[null,null,"Darbuotojo vardas pavardė"]
[null,null,"Darbuotojo vardas pavardė"]
[null,null,"Darbuotojo vardas pavardė"]
["5.5.6","Pareigybės pavadinimas","Darbuotojo vardas pavardė","val.",null,{"$f":"IFERROR(ROUND(AVERAGE(K102:K106),2),\"0\")","v":"0"},{"$f":"ROUND(E102*F102,2)","v":0},{"$f":"ROUND(G102*$D$7,2)","v":0}]
[null,null,"Darbuotojo vardas pavardė"]
[null,null,"Darbuotojo vardas pavardė"]
[null,null,"Darbuotojo vardas pavardė"]
[null,null,"Darbuotojo vardas pavardė"]
["5.5.7","Pareigybės pavadinimas","Darbuotojo vardas pavardė","val.",null,{"$f":"IFERROR(ROUND(AVERAGE(K107:K111),2),\"0\")","v":"0"},{"$f":"ROUND(E107*F107,2)","v":0},{"$f":"ROUND(G107*$D$7,2)","v":0}]
[null,null,"Darbuotojo vardas pavardė"]
[null,null,"Darbuotojo vardas pavardė"]
[null,null,"Darbuotojo vardas pavardė"]
[null,null,"Darbuotojo vardas pavardė"]
["5.5.8","Pareigybės pavadinimas","Darbuotojo vardas pavardė","val.",null,{"$f":"IFERROR(ROUND(AVERAGE(K112:K116),2),\"0\")","v":"0"},{"$f":"ROUND(E112*F112,2)","v":0},{"$f":"ROUND(G112*$D$7,2)","v":0}]
[null,null,"Darbuotojo vardas pavardė"]
[null,null,"Darbuotojo vardas pavardė"]
[null,null,"Darbuotojo vardas pavardė"]
[null,null,"Darbuotojo vardas pavardė"]
["5.5.9","Pareigybės pavadinimas","Darbuotojo vardas pavardė","val.",null,{"$f":"IFERROR(ROUND(AVERAGE(K117:K121),2),\"0\")","v":"0"},{"$f":"ROUND(E117*F117,2)","v":0},{"$f":"ROUND(G117*$D$7,2)","v":0}]
[null,null,"Darbuotojo vardas pavardė"]
[null,null,"Darbuotojo vardas pavardė"]
[null,null,"Darbuotojo vardas pavardė"]
[null,null,"Darbuotojo vardas pavardė"]
["5.5.10","Pareigybės pavadinimas","Darbuotojo vardas pavardė","val.",null,{"$f":"IFERROR(ROUND(AVERAGE(K122:K126),2),\"0\")","v":"0"},{"$f":"ROUND(E122*F122,2)","v":0},{"$f":"ROUND(G122*$D$7,2)","v":0}]
[null,null,"Darbuotojo vardas pavardė"]
[null,null,"Darbuotojo vardas pavardė"]
[null,null,"Darbuotojo vardas pavardė"]
[null,null,"Darbuotojo vardas pavardė"]
["5.6","Projektą vykdančio personalo komandiruočių išlaidos",null,null,null,null,{"$f":"SUM(G128,G135,G142,G149,G156,G163,G170,G177,G184,G191)","v":0},{"$f":"SUM(H128,H135,H142,H149,H156,H163,H170,H177,H184,H191)","v":0}]
["5.6.1","Komandiruotės pavadinimas, vieta, trukmė dienomis, vykstančių asmenų skaičius","Iš viso komandiruotei",null,null,null,{"$f":"SUM(G129:G134)","v":0},{"$f":"ROUND(G128*$D$7,2)","v":0}]
[null,null,"Dienpinigiai",null,null,null,{"$f":"ROUND(E129*F129,2)","v":0}]
[null,null,"Gyvenamojo ploto nuoma",null,null,null,0]
[null,null,"Kelionės išlaidos",null,null,null,0]
[null,null,"Dalyvavimo mokestis",null,null,null,0]
[null,null,"Kitos išlaidų pavadinimas",null,null,null,0]
[null,null,"Kitos išlaidų pavadinimas",null,null,null,0]
["5.6.2","Komandiruotės pavadinimas, vieta, trukmė dienomis, vykstančių asmenų skaičius","Iš viso komandiruotei",null,null,null,{"$f":"SUM(G136:G141)","v":0},{"$f":"ROUND(G135*$D$7,2)","v":0}]
[null,null,"Dienpinigiai",null,null,null,{"$f":"ROUND(E136*F136,2)","v":0}]
[null,null,"Gyvenamojo ploto nuoma",null,null,null,0]
[null,null,"Kelionės išlaidos",null,null,null,0]
[null,null,"Dalyvavimo mokestis",null,null,null,0]
[null,null,"Kitos išlaidų pavadinimas",null,null,null,0]
[null,null,"Kitos išlaidų pavadinimas",null,null,null,0]
["5.6.3","Komandiruotės pavadinimas, vieta, trukmė dienomis, vykstančių asmenų skaičius","Iš viso komandiruotei",null,null,null,{"$f":"SUM(G143:G148)","v":0},{"$f":"ROUND(G142*$D$7,2)","v":0}]
[null,null,"Dienpinigiai",null,null,null,{"$f":"ROUND(E143*F143,2)","v":0}]
[null,null,"Gyvenamojo ploto nuoma",null,null,null,0]
[null,null,"Kelionės išlaidos",null,null,null,0]
[null,null,"Dalyvavimo mokestis",null,null,null,0]
[null,null,"Kitos išlaidų pavadinimas",null,null,null,0]
[null,null,"Kitos išlaidų pavadinimas",null,null,null,0]
["5.6.4","Komandiruotės pavadinimas, vieta, trukmė dienomis, vykstančių asmenų skaičius","Iš viso komandiruotei",null,null,null,{"$f":"SUM(G150:G155)","v":0},{"$f":"ROUND(G149*$D$7,2)","v":0}]
[null,null,"Dienpinigiai",null,null,null,{"$f":"ROUND(E150*F150,2)","v":0}]
[null,null,"Gyvenamojo ploto nuoma",null,null,null,0]
[null,null,"Kelionės išlaidos",null,null,null,0]
[null,null,"Dalyvavimo mokestis",null,null,null,0]
[null,null,"Kitos išlaidų pavadinimas",null,null,null,0]
[null,null,"Kitos išlaidų pavadinimas",null,null,null,0]
["5.6.5","Komandiruotės pavadinimas, vieta, trukmė dienomis, vykstančių asmenų skaičius","Iš viso komandiruotei",null,null,null,{"$f":"SUM(G157:G162)","v":0},{"$f":"ROUND(G156*$D$7,2)","v":0}]
[null,null,"Dienpinigiai",null,null,null,{"$f":"ROUND(E157*F157,2)","v":0}]
[null,null,"Gyvenamojo ploto nuoma",null,null,null,0]
[null,null,"Kelionės išlaidos",null,null,null,0]
[null,null,"Dalyvavimo mokestis",null,null,null,0]
[null,null,"Kitos išlaidų pavadinimas",null,null,null,0]
[null,null,"Kitos išlaidų pavadinimas",null,null,null,0]
["5.6.6","Komandiruotės pavadinimas, vieta, trukmė dienomis, vykstančių asmenų skaičius","Iš viso komandiruotei",null,null,null,{"$f":"SUM(G164:G169)","v":0},{"$f":"ROUND(G163*$D$7,2)","v":0}]
[null,null,"Dienpinigiai",null,null,null,{"$f":"ROUND(E164*F164,2)","v":0}]
[null,null,"Gyvenamojo ploto nuoma",null,null,null,0]
[null,null,"Kelionės išlaidos",null,null,null,0]
[null,null,"Dalyvavimo mokestis",null,null,null,0]
[null,null,"Kitos išlaidų pavadinimas",null,null,null,0]
[null,null,"Kitos išlaidų pavadinimas",null,null,null,0]
["5.6.7","Komandiruotės pavadinimas, vieta, trukmė dienomis, vykstančių asmenų skaičius","Iš viso komandiruotei",null,null,null,{"$f":"SUM(G171:G176)","v":0},{"$f":"ROUND(G170*$D$7,2)","v":0}]
[null,null,"Dienpinigiai",null,null,null,{"$f":"ROUND(E171*F171,2)","v":0}]
[null,null,"Gyvenamojo ploto nuoma",null,null,null,0]
[null,null,"Kelionės išlaidos",null,null,null,0]
[null,null,"Dalyvavimo mokestis",null,null,null,0]
[null,null,"Kitos išlaidų pavadinimas",null,null,null,0]
[null,null,"Kitos išlaidų pavadinimas",null,null,null,0]
["5.6.8","Komandiruotės pavadinimas, vieta, trukmė dienomis, vykstančių asmenų skaičius","Iš viso komandiruotei",null,null,null,{"$f":"SUM(G178:G183)","v":0},{"$f":"ROUND(G177*$D$7,2)","v":0}]
[null,null,"Dienpinigiai",null,null,null,{"$f":"ROUND(E178*F178,2)","v":0}]
[null,null,"Gyvenamojo ploto nuoma",null,null,null,0]
[null,null,"Kelionės išlaidos",null,null,null,0]
[null,null,"Dalyvavimo mokestis",null,null,null,0]
[null,null,"Kitos išlaidų pavadinimas",null,null,null,0]
[null,null,"Kitos išlaidų pavadinimas",null,null,null,0]
["5.6.9","Komandiruotės pavadinimas, vieta, trukmė dienomis, vykstančių asmenų skaičius","Iš viso komandiruotei",null,null,null,{"$f":"SUM(G185:G190)","v":0},{"$f":"ROUND(G184*$D$7,2)","v":0}]
[null,null,"Dienpinigiai",null,null,null,{"$f":"ROUND(E185*F185,2)","v":0}]
[null,null,"Gyvenamojo ploto nuoma",null,null,null,0]
[null,null,"Kelionės išlaidos",null,null,null,0]
[null,null,"Dalyvavimo mokestis",null,null,null,0]
[null,null,"Kitos išlaidų pavadinimas",null,null,null,0]
[null,null,"Kitos išlaidų pavadinimas",null,null,null,0]
["5.6.10","Komandiruotės pavadinimas, vieta, trukmė dienomis, vykstančių asmenų skaičius","Iš viso komandiruotei",null,null,null,{"$f":"SUM(G192:G197)","v":0},{"$f":"ROUND(G191*$D$7,2)","v":0}]
[null,null,"Dienpinigiai",null,null,null,{"$f":"ROUND(E192*F192,2)","v":0}]
[null,null,"Gyvenamojo ploto nuoma",null,null,null,0]
[null,null,"Kelionės išlaidos",null,null,null,0]
[null,null,"Dalyvavimo mokestis",null,null,null,0]
[null,null,"Kitos išlaidų pavadinimas",null,null,null,0]
[null,null,"Kitos išlaidų pavadinimas",null,null,null,0]
["5.7","Įrangos nuomos išlaidos, veiklai priskirtos pro rata principu. Įranga turi būti tiesiogiai susijusi su projekto įgyvendinimu ir negali būti įsigyta iš ES struktūrinių fondų ar kt. ES finansinių priemonių lėšų",null,null,null,null,{"$f":"SUM(G199:G203)","v":0},{"$f":"SUM(H199:H203)","v":0},null,null,"Faktinės 1 mėnesio išlaidos, Eur","Naudojimo projekte trukmė, mėn."]
["5.7.1","Įrangos pavadinimas",null,"pro rata proc.",null,{"$f":"K199*L199","v":0},0,{"$f":"ROUND(G199*$D$7,2)","v":0}]
["5.7.2","Įrangos pavadinimas",null,"pro rata proc.",null,{"$f":"K200*L200","v":0},0,{"$f":"ROUND(G200*$D$7,2)","v":0}]
["5.7.3","Įrangos pavadinimas",null,"pro rata proc.",null,0,0,0]
["5.7.4","Įrangos pavadinimas",null,"pro rata proc.",null,0,0,0]
["5.7.5","Įrangos pavadinimas",null,"pro rata proc.",null,0,0,0]
["5.8","Pastatų ar patalpų nuomos išlaidos, veiklai priskirtos pro rata principu. Pastatai ar patalpos turi būti tiesiogiai susijusi su projekto įgyvendinimu.",null,null,null,null,{"$f":"SUM(G205:G209)","v":0},{"$f":"SUM(H205:H209)","v":0},null,null,"Faktinės 1 mėnesio išlaidos, Eur","Naudojimo projekte trukmė, mėn."]
["5.8.1","Pastato, patalpų adresas",null,"pro rata proc.",null,{"$f":"K205*L205","v":0},{"$f":"ROUND(E205*F205,2)","v":0},{"$f":"ROUND(G205*$D$7,2)","v":0}]
["5.8.2","Pastato, patalpų adresas",null,"pro rata proc.",null,{"$f":"K206*L206","v":0},0,0]
["5.8.3","Pastato, patalpų adresas",null,"pro rata proc.",null,0,0,0]
["5.8.4","Pastato, patalpų adresas",null,"pro rata proc.",null,0,0,0]
["5.8.5","Pastato, patalpų adresas",null,"pro rata proc.",null,0,0,0]
["Iš viso tinkamų finansuoti išlaidų:",null,null,null,null,null,{"$f":"G10+G21","v":0},{"$f":"H10+H21","v":0}]

{"sheet":"9","index":10,"n_rows":210,"n_cols":19,"rows_kept":210,"cut":false,"hidden":false,"merged":[[203,1,203,5],[204,1,204,2],[205,1,205,2],[206,1,206,2],[207,1,207,2],[208,1,208,2],[209,0,209,5],[190,0,196,0],[190,1,196,1],[199,1,199,2],[200,1,200,2],[201,1,201,2],[202,1,202,2],[155,0,161,0],[155,1,161,1],[155,8,161,8],[162,0,168,0],[162,1,168,1],[162,8,168,8],[190,8,196,8],[197,1,197,5],[198,1,198,2],[169,0,175,0],[169,1,175,1],[169,8,175,8],[176,0,182,0],[176,1,182,1],[176,8,182,8],[183,0,189,0],[183,1,189,1],[183,8,189,8],[134,0,140,0],[134,1,140,1],[134,8,140,8],[141,0,147,0],[141,1,147,1],[141,8,147,8],[148,0,154,0],[148,1,154,1],[148,8,154,8],[121,0,125,0],[121,1,125,1],[121,3,125,3],[121,4,125,4],[121,5,125,5],[121,6,125,6],[121,7,125,7],[121,8,125,8],[127,0,133,0],[127,1,133,1],[127,8,133,8],[126,1,126,5],[96,8,100,8],[101,0,105,0],[101,1,105,1],[101,3,105,3],[101,4,105,4],[101,5,105,5],[101,6,105,6],[101,7,105,7],[101,8,105,8],[96,0,100,0],[96,1,100,1],[96,3,100,3],[96,4,100,4],[96,5,100,5],[96,7,100,7],[96,6,100,6],[31,1,31,2],[32,1,32,5],[42,1,42,2],[43,1,43,5],[23,1,23,2],[24,1,24,2],[25,1,25,2],[33,1,33,2],[34,1,34,2],[35,1,35,2],[36,1,36,2],[37,1,37,2],[26,1,26,2],[27,1,27,2],[28,1,28,2],[29,1,29,2],[30,1,30,2],[111,8,115,8],[116,0,120,0],[116,1,120,1],[116,3,120,3],[116,4,120,4],[116,5,120,5],[111,0,115,0],[111,1,115,1],[111,3,115,3],[111,4,115,4],[111,5,115,5],[111,6,115,6],[111,7,115,7],[116,6,120,6],[116,7,120,7],[116,8,120,8],[0,3,0,8],[2,0,2,2],[2,3,2,8],[22,1,22,2],[14,1,14,2],[15,1,15,2],[16,1,16,2],[17,1,17,2],[18,1,18,2],[20,1,20,5],[10,1,10,2],[11,1,11,2],[12,1,12,2],[13,1,13,2],[3,3,3,4],[3,5,3,6],[4,0,4,2],[4,3,4,8],[8,1,8,2],[9,1,9,5],[19,1,19,2],[21,1,21,5],[48,1,48,2],[49,1,49,2],[38,1,38,2],[39,1,39,2],[40,1,40,2],[41,1,41,2],[56,1,56,2],[60,1,60,2],[61,1,61,2],[50,1,50,2],[51,1,51,2],[52,1,52,2],[53,1,53,2],[54,1,54,2],[55,1,55,2],[57,1,57,2],[58,1,58,2],[59,1,59,5],[44,1,44,2],[45,1,45,2],[46,1,46,2],[47,1,47,2],[62,1,62,2],[63,1,63,2],[64,1,64,2],[65,1,65,2],[66,1,66,2],[67,1,67,2],[68,1,68,2],[69,1,69,2],[70,1,70,2],[71,1,71,2],[72,1,72,2],[73,1,73,2],[74,1,74,2],[75,1,75,5],[76,0,80,0],[76,1,80,1],[76,3,80,3],[76,4,80,4],[76,5,80,5],[76,6,80,6],[76,7,80,7],[76,8,80,8],[81,0,85,0],[81,1,85,1],[81,3,85,3],[81,4,85,4],[81,5,85,5],[81,6,85,6],[81,7,85,7],[81,8,85,8],[86,0,90,0],[86,1,90,1],[86,3,90,3],[86,4,90,4],[86,5,90,5],[86,6,90,6],[86,7,90,7],[86,8,90,8],[106,0,110,0],[106,1,110,1],[106,3,110,3],[106,4,110,4],[106,5,110,5],[106,6,110,6],[106,7,110,7],[106,8,110,8],[91,0,95,0],[91,1,95,1],[91,3,95,3],[91,4,95,4],[91,5,95,5],[91,6,95,6],[91,7,95,7],[91,8,95,8]]}
[null,null,"Pasirinkite veiklos tipą:"]
[null,null,"Fizinio rodiklio Nr.:"]
["Fizinio rodiklio pavadinimas:"]
[null,null,"Fizinio rodiklio matavimo vnt.:",null,null,"Fizinio rodiklio vnt. skaičius:"]
["Juridinis asmuo (pareiškėjas, partneris), atsakingas už fizinį rodiklį:"]
[]
[null,null,"Finansavimo intensyvumas:",null,null,null,"Pasirinkite biudžeto išlaidų kategoriją:"]
[]
["Eil. Nr.","Išlaidų kategorijos pavadinimas",null,"Matavimo vnt.","Kiekis","Vieneto kaina be PVM, Eur","Tinkamų finansuoti išlaidų suma be PVM, Eur","Finansavimo suma, Eur","Išlaidų pagrindimo dokumentų pavadinimas, data ir Nr."]
[4,"ĮRANGA, ĮRENGINIAI IR KT. TURTAS (techninių žinių ir išradimų patentų arba teisių pagal licencijų sutartį įsigijimo išlaidos)",null,null,null,null,{"$f":"SUM(G11:G20)","v":0},{"$f":"SUM(H11:H20)","v":0}]
["4.1","Išlaidų pavadinimas",null,null,null,null,{"$f":"ROUND(E11*F11,2)","v":0},{"$f":"ROUND(G11*$D$7,2)","v":0}]
["4.2","Išlaidų pavadinimas",null,null,null,null,0,0]
["4.3","Išlaidų pavadinimas",null,null,null,null,0,0]
["4.4","Išlaidų pavadinimas",null,null,null,null,0,0]
["4.5","Išlaidų pavadinimas",null,null,null,null,0,0]
["4.6","Išlaidų pavadinimas",null,null,null,null,0,0]
["4.7","Išlaidų pavadinimas",null,null,null,null,0,0]
["4.8","Išlaidų pavadinimas",null,null,null,null,0,0]
["4.9","Išlaidų pavadinimas",null,null,null,null,0,0]
["4.10","Išlaidų pavadinimas",null,null,null,null,0,0]
[5,"PROJEKTO VYKDYMAS",null,null,null,null,{"$f":"G22+G33+G44+G60+G76+G127+G198+G204","v":0},{"$f":"H22+H33+H44+H60+H76+H127+H198+H204","v":0}]
["5.1","MTEP paslaugos",null,null,null,null,{"$f":"SUM(G23:G32)","v":0},{"$f":"SUM(H23:H32)","v":0}]
["5.1.1","Paslaugos pavadinimas",null,null,null,null,{"$f":"ROUND(E23*F23,2)","v":0},0]
["5.1.2","Paslaugos pavadinimas",null,null,null,null,0,0]
["5.1.3","Paslaugos pavadinimas",null,null,null,null,0,0]
["5.1.4","Paslaugos pavadinimas",null,null,null,null,0,0]
["5.1.5","Paslaugos pavadinimas",null,null,null,null,0,0]
["5.1.6","Paslaugos pavadinimas",null,null,null,null,0,0]
["5.1.7","Paslaugos pavadinimas",null,null,null,null,0,0]
["5.1.8","Paslaugos pavadinimas",null,null,null,null,0,0]
["5.1.9","Paslaugos pavadinimas",null,null,null,null,0,0]
["5.1.10","Paslaugos pavadinimas",null,null,null,null,0,0]
["5.2","Konsultavimo ir lygiavertės paslaugos, naudojamos vien tik projekto MTEP veiklai",null,null,null,null,{"$f":"SUM(G34:G43)","v":0},{"$f":"SUM(H34:H43)","v":0}]
["5.2.1","Paslaugos pavadinimas",null,null,null,null,{"$f":"ROUND(E34*F34,2)","v":0},0]
["5.2.2","Paslaugos pavadinimas",null,null,null,null,0,0]
["5.2.3","Paslaugos pavadinimas",null,null,null,null,0,0]
["5.2.4","Paslaugos pavadinimas",null,null,null,null,0,0]
["5.2.5","Paslaugos pavadinimas",null,null,null,null,0,0]
["5.2.6","Paslaugos pavadinimas",null,null,null,null,0,0]
["5.2.7","Paslaugos pavadinimas",null,null,null,null,0,0]
["5.2.8","Paslaugos pavadinimas",null,null,null,null,0,0]
["5.2.9","Paslaugos pavadinimas",null,null,null,null,0,0]
["5.2.10","Paslaugos pavadinimas",null,null,null,null,0,0]
["5.3","Medžiagos, mažavertis inventorius, atsargos ir pan. produktai, priskirtini trumpalaikiam turtui ir tiesiogiai susiję su MTEP veikla",null,null,null,null,{"$f":"SUM(G45:G61)","v":0},{"$f":"SUM(H45:H61)","v":0}]
["5.3.1","Išlaidų pavadinimas",null,null,null,null,{"$f":"ROUND(E45*F45,2)","v":0},{"$f":"ROUND(G45*$D$7,2)","v":0}]
["5.3.2","Išlaidų pavadinimas",null,null,null,null,0,0]
["5.3.3","Išlaidų pavadinimas",null,null,null,null,0,0]
["5.3.4","Išlaidų pavadinimas",null,null,null,null,0,0]
["5.3.5","Išlaidų pavadinimas",null,null,null,null,0,0]
["5.3.6","Išlaidų pavadinimas",null,null,null,null,0,0]
["5.3.7","Išlaidų pavadinimas",null,null,null,null,0,0]
["5.3.8","Išlaidų pavadinimas",null,null,null,null,0,0]
["5.3.9","Išlaidų pavadinimas",null,null,null,null,0,0]
["5.3.10","Išlaidų pavadinimas",null,null,null,null,0,0]
["5.3.11","Išlaidų pavadinimas",null,null,null,null,0,0]
["5.3.12","Išlaidų pavadinimas",null,null,null,null,0,0]
["5.3.13","Išlaidų pavadinimas",null,null,null,null,0,0]
["5.3.14","Išlaidų pavadinimas",null,null,null,null,0,0]
["5.3.15","Išlaidų pavadinimas",null,null,null,null,0,0]
["5.4","Projekto MTEP veikloms naudojamo ilgalaikio materialaus turto (įrangos, prietaisų, įrankių, įrenginių, mašinų ir įrengimų, pastatų ir (ar) patalpų), nusidėvėjimo sąnaudos, jeigu šiam turtui įsigyti nebuvo naudojamos viešosios (įskaitant ir kitų valstybių) lėšos",null,null,null,null,{"$f":"SUM(G61:G75)","v":0},{"$f":"SUM(H61:H75)","v":0},null,null,"Turto įvedimo į eksploataciją data","Turto įsigijimo vertė, Eur","Turto nudėvėjimo, amortizacijos laikotarpis, mėn.","Numatoma turto likutinė vertė, Eur","1 mėn. nudėvėjimo, amortizacijos suma, Eur","Turto naudojamo projekto reikmėms laikas, mėn.","Turto panaudojimo projekto reikmėms dalis (proc.)","Projektui priskirta turto nusidėvėjimo, amortizacijos suma per projekto laikotarpį, Eur"]
["5.4.1","Turtas, kurio nusidėvėjimą, amortizaciją prašoma finansuoti",null,null,1,{"$f":"R61","v":0},{"$f":"ROUND(E61*F61,2)","v":0},0,null,null,null,null,null,null,{"$f":"IFERROR(ROUND((L61-N61)/M61,2),\"0\")","v":"0"},null,null,{"$f":"O61*P61*Q61","v":0},{"$f":"IF(K61=0,\" \",IF(K61+(M61*30.5)<TODAY(),\"DĖMESIO! Patikrinkite, ar nurodytas turtas dar nėra nudėvėtas, amortizuotas\",\" \"))","v":" "}]
["5.4.2","Turtas, kurio nusidėvėjimą, amortizaciją prašoma finansuoti",null,null,1,{"$f":"R62","v":0},0,0,null,null,null,null,null,null,{"$f":"IFERROR(ROUND((L62-N62)/M62,2),\"0\")","v":"0"},null,null,{"$f":"O62*P62*Q62","v":0},{"$f":"IF(K62=0,\" \",IF(K62+(M62*30.5)<TODAY(),\"DĖMESIO! Patikrinkite, ar nurodytas turtas dar nėra nudėvėtas, amortizuotas\",\" \"))","v":" "}]
["5.4.3","Turtas, kurio nusidėvėjimą, amortizaciją prašoma finansuoti",null,null,1,0,0,0,null,null,null,null,null,null,"0",null,null,0," "]
["5.4.4","Turtas, kurio nusidėvėjimą, amortizaciją prašoma finansuoti",null,null,1,0,0,0,null,null,null,null,null,null,"0",null,null,0," "]
["5.4.5","Turtas, kurio nusidėvėjimą, amortizaciją prašoma finansuoti",null,null,1,0,0,0,null,null,null,null,null,null,"0",null,null,0," "]
["5.4.6","Turtas, kurio nusidėvėjimą, amortizaciją prašoma finansuoti",null,null,1,0,0,0,null,null,null,null,null,null,"0",null,null,0," "]
["5.4.7","Turtas, kurio nusidėvėjimą, amortizaciją prašoma finansuoti",null,null,1,0,0,0,null,null,null,null,null,null,"0",null,null,0," "]
["5.4.8","Turtas, kurio nusidėvėjimą, amortizaciją prašoma finansuoti",null,null,1,0,0,0,null,null,null,null,null,null,"0",null,null,0," "]
["5.4.9","Turtas, kurio nusidėvėjimą, amortizaciją prašoma finansuoti",null,null,1,0,0,0,null,null,null,null,null,null,"0",null,null,0," "]
["5.4.10","Turtas, kurio nusidėvėjimą, amortizaciją prašoma finansuoti",null,null,1,0,0,0,null,null,null,null,null,null,"0",null,null,0," "]
["5.4.11","Turtas, kurio nusidėvėjimą, amortizaciją prašoma finansuoti",null,null,1,0,0,0,null,null,null,null,null,null,"0",null,null,0," "]
["5.4.12","Turtas, kurio nusidėvėjimą, amortizaciją prašoma finansuoti",null,null,1,0,0,0,null,null,null,null,null,null,"0",null,null,0," "]
["5.4.13","Turtas, kurio nusidėvėjimą, amortizaciją prašoma finansuoti",null,null,1,0,0,0,null,null,null,null,null,null,"0",null,null,0," "]
["5.4.14","Turtas, kurio nusidėvėjimą, amortizaciją prašoma finansuoti",null,null,1,0,0,0,null,null,null,null,null,null,"0",null,null,0," "]
["5.4.15","Turtas, kurio nusidėvėjimą, amortizaciją prašoma finansuoti",null,null,1,0,0,0,null,null,null,null,null,null,"0",null,null,0," "]
["5.5","Projektą vykdančio personalo darbo užmokestis ir išlaidos su darbo santykiais susijusiems darbdavio įsipareigojimams",null,null,null,null,{"$f":"SUM(G77:G126)","v":0},{"$f":"SUM(H77:H126)","v":0},null,null,"Faktiškai gaunamas darbo užmokesti už 1 valandą pagal  pastarųjų 6 mėn. vidurkį, Eur"]
["5.5.1","Pareigybės pavadinimas","Darbuotojo vardas pavardė","val.",null,{"$f":"IFERROR(ROUND(AVERAGE(K77:K81),2),\"0\")","v":"0"},{"$f":"ROUND(E77*F77,2)","v":0},{"$f":"ROUND(G77*$D$7,2)","v":0}]
[null,null,"Darbuotojo vardas pavardė"]
[null,null,"Darbuotojo vardas pavardė"]
[null,null,"Darbuotojo vardas pavardė"]
[null,null,"Darbuotojo vardas pavardė"]
["5.5.2","Pareigybės pavadinimas","Darbuotojo vardas pavardė","val.",null,{"$f":"IFERROR(ROUND(AVERAGE(K82:K86),2),\"0\")","v":"0"},{"$f":"ROUND(E82*F82,2)","v":0},{"$f":"ROUND(G82*$D$7,2)","v":0}]
[null,null,"Darbuotojo vardas pavardė"]
[null,null,"Darbuotojo vardas pavardė"]
[null,null,"Darbuotojo vardas pavardė"]
[null,null,"Darbuotojo vardas pavardė"]
["5.5.3","Pareigybės pavadinimas","Darbuotojo vardas pavardė","val.",null,{"$f":"IFERROR(ROUND(AVERAGE(K87:K91),2),\"0\")","v":"0"},{"$f":"ROUND(E87*F87,2)","v":0},{"$f":"ROUND(G87*$D$7,2)","v":0}]
[null,null,"Darbuotojo vardas pavardė"]
[null,null,"Darbuotojo vardas pavardė"]
[null,null,"Darbuotojo vardas pavardė"]
[null,null,"Darbuotojo vardas pavardė"]
["5.5.4","Pareigybės pavadinimas","Darbuotojo vardas pavardė","val.",null,{"$f":"IFERROR(ROUND(AVERAGE(K92:K96),2),\"0\")","v":"0"},{"$f":"ROUND(E92*F92,2)","v":0},{"$f":"ROUND(G92*$D$7,2)","v":0}]
[null,null,"Darbuotojo vardas pavardė"]
[null,null,"Darbuotojo vardas pavardė"]
[null,null,"Darbuotojo vardas pavardė"]
[null,null,"Darbuotojo vardas pavardė"]
["5.5.5","Pareigybės pavadinimas","Darbuotojo vardas pavardė","val.",null,{"$f":"IFERROR(ROUND(AVERAGE(K97:K101),2),\"0\")","v":"0"},{"$f":"ROUND(E97*F97,2)","v":0},{"$f":"ROUND(G97*$D$7,2)","v":0}]
[null,null,"Darbuotojo vardas pavardė"]
[null,null,"Darbuotojo vardas pavardė"]
[null,null,"Darbuotojo vardas pavardė"]
[null,null,"Darbuotojo vardas pavardė"]
["5.5.6","Pareigybės pavadinimas","Darbuotojo vardas pavardė","val.",null,{"$f":"IFERROR(ROUND(AVERAGE(K102:K106),2),\"0\")","v":"0"},{"$f":"ROUND(E102*F102,2)","v":0},{"$f":"ROUND(G102*$D$7,2)","v":0}]
[null,null,"Darbuotojo vardas pavardė"]
[null,null,"Darbuotojo vardas pavardė"]
[null,null,"Darbuotojo vardas pavardė"]
[null,null,"Darbuotojo vardas pavardė"]
["5.5.7","Pareigybės pavadinimas","Darbuotojo vardas pavardė","val.",null,{"$f":"IFERROR(ROUND(AVERAGE(K107:K111),2),\"0\")","v":"0"},{"$f":"ROUND(E107*F107,2)","v":0},{"$f":"ROUND(G107*$D$7,2)","v":0}]
[null,null,"Darbuotojo vardas pavardė"]
[null,null,"Darbuotojo vardas pavardė"]
[null,null,"Darbuotojo vardas pavardė"]
[null,null,"Darbuotojo vardas pavardė"]
["5.5.8","Pareigybės pavadinimas","Darbuotojo vardas pavardė","val.",null,{"$f":"IFERROR(ROUND(AVERAGE(K112:K116),2),\"0\")","v":"0"},{"$f":"ROUND(E112*F112,2)","v":0},{"$f":"ROUND(G112*$D$7,2)","v":0}]
[null,null,"Darbuotojo vardas pavardė"]
[null,null,"Darbuotojo vardas pavardė"]
[null,null,"Darbuotojo vardas pavardė"]
[null,null,"Darbuotojo vardas pavardė"]
["5.5.9","Pareigybės pavadinimas","Darbuotojo vardas pavardė","val.",null,{"$f":"IFERROR(ROUND(AVERAGE(K117:K121),2),\"0\")","v":"0"},{"$f":"ROUND(E117*F117,2)","v":0},{"$f":"ROUND(G117*$D$7,2)","v":0}]
[null,null,"Darbuotojo vardas pavardė"]
[null,null,"Darbuotojo vardas pavardė"]
[null,null,"Darbuotojo vardas pavardė"]
[null,null,"Darbuotojo vardas pavardė"]
["5.5.10","Pareigybės pavadinimas","Darbuotojo vardas pavardė","val.",null,{"$f":"IFERROR(ROUND(AVERAGE(K122:K126),2),\"0\")","v":"0"},{"$f":"ROUND(E122*F122,2)","v":0},{"$f":"ROUND(G122*$D$7,2)","v":0}]
[null,null,"Darbuotojo vardas pavardė"]
[null,null,"Darbuotojo vardas pavardė"]
[null,null,"Darbuotojo vardas pavardė"]
[null,null,"Darbuotojo vardas pavardė"]
["5.6","Projektą vykdančio personalo komandiruočių išlaidos",null,null,null,null,{"$f":"SUM(G128,G135,G142,G149,G156,G163,G170,G177,G184,G191)","v":0},{"$f":"SUM(H128,H135,H142,H149,H156,H163,H170,H177,H184,H191)","v":0}]
["5.6.1","Komandiruotės pavadinimas, vieta, trukmė dienomis, vykstančių asmenų skaičius","Iš viso komandiruotei",null,null,null,{"$f":"SUM(G129:G134)","v":0},{"$f":"ROUND(G128*$D$7,2)","v":0}]
[null,null,"Dienpinigiai",null,null,null,{"$f":"ROUND(E129*F129,2)","v":0}]
[null,null,"Gyvenamojo ploto nuoma",null,null,null,0]
[null,null,"Kelionės išlaidos",null,null,null,0]
[null,null,"Dalyvavimo mokestis",null,null,null,0]
[null,null,"Kitos išlaidų pavadinimas",null,null,null,0]
[null,null,"Kitos išlaidų pavadinimas",null,null,null,0]
["5.6.2","Komandiruotės pavadinimas, vieta, trukmė dienomis, vykstančių asmenų skaičius","Iš viso komandiruotei",null,null,null,{"$f":"SUM(G136:G141)","v":0},{"$f":"ROUND(G135*$D$7,2)","v":0}]
[null,null,"Dienpinigiai",null,null,null,{"$f":"ROUND(E136*F136,2)","v":0}]
[null,null,"Gyvenamojo ploto nuoma",null,null,null,0]
[null,null,"Kelionės išlaidos",null,null,null,0]
[null,null,"Dalyvavimo mokestis",null,null,null,0]
[null,null,"Kitos išlaidų pavadinimas",null,null,null,0]
[null,null,"Kitos išlaidų pavadinimas",null,null,null,0]
["5.6.3","Komandiruotės pavadinimas, vieta, trukmė dienomis, vykstančių asmenų skaičius","Iš viso komandiruotei",null,null,null,{"$f":"SUM(G143:G148)","v":0},{"$f":"ROUND(G142*$D$7,2)","v":0}]
[null,null,"Dienpinigiai",null,null,null,{"$f":"ROUND(E143*F143,2)","v":0}]
[null,null,"Gyvenamojo ploto nuoma",null,null,null,0]
[null,null,"Kelionės išlaidos",null,null,null,0]
[null,null,"Dalyvavimo mokestis",null,null,null,0]
[null,null,"Kitos išlaidų pavadinimas",null,null,null,0]
[null,null,"Kitos išlaidų pavadinimas",null,null,null,0]
["5.6.4","Komandiruotės pavadinimas, vieta, trukmė dienomis, vykstančių asmenų skaičius","Iš viso komandiruotei",null,null,null,{"$f":"SUM(G150:G155)","v":0},{"$f":"ROUND(G149*$D$7,2)","v":0}]
[null,null,"Dienpinigiai",null,null,null,{"$f":"ROUND(E150*F150,2)","v":0}]
[null,null,"Gyvenamojo ploto nuoma",null,null,null,0]
[null,null,"Kelionės išlaidos",null,null,null,0]
[null,null,"Dalyvavimo mokestis",null,null,null,0]
[null,null,"Kitos išlaidų pavadinimas",null,null,null,0]
[null,null,"Kitos išlaidų pavadinimas",null,null,null,0]
["5.6.5","Komandiruotės pavadinimas, vieta, trukmė dienomis, vykstančių asmenų skaičius","Iš viso komandiruotei",null,null,null,{"$f":"SUM(G157:G162)","v":0},{"$f":"ROUND(G156*$D$7,2)","v":0}]
[null,null,"Dienpinigiai",null,null,null,{"$f":"ROUND(E157*F157,2)","v":0}]
[null,null,"Gyvenamojo ploto nuoma",null,null,null,0]
[null,null,"Kelionės išlaidos",null,null,null,0]
[null,null,"Dalyvavimo mokestis",null,null,null,0]
[null,null,"Kitos išlaidų pavadinimas",null,null,null,0]
[null,null,"Kitos išlaidų pavadinimas",null,null,null,0]
["5.6.6","Komandiruotės pavadinimas, vieta, trukmė dienomis, vykstančių asmenų skaičius","Iš viso komandiruotei",null,null,null,{"$f":"SUM(G164:G169)","v":0},{"$f":"ROUND(G163*$D$7,2)","v":0}]
[null,null,"Dienpinigiai",null,null,null,{"$f":"ROUND(E164*F164,2)","v":0}]
[null,null,"Gyvenamojo ploto nuoma",null,null,null,0]
[null,null,"Kelionės išlaidos",null,null,null,0]
[null,null,"Dalyvavimo mokestis",null,null,null,0]
[null,null,"Kitos išlaidų pavadinimas",null,null,null,0]
[null,null,"Kitos išlaidų pavadinimas",null,null,null,0]
["5.6.7","Komandiruotės pavadinimas, vieta, trukmė dienomis, vykstančių asmenų skaičius","Iš viso komandiruotei",null,null,null,{"$f":"SUM(G171:G176)","v":0},{"$f":"ROUND(G170*$D$7,2)","v":0}]
[null,null,"Dienpinigiai",null,null,null,{"$f":"ROUND(E171*F171,2)","v":0}]
[null,null,"Gyvenamojo ploto nuoma",null,null,null,0]
[null,null,"Kelionės išlaidos",null,null,null,0]
[null,null,"Dalyvavimo mokestis",null,null,null,0]
[null,null,"Kitos išlaidų pavadinimas",null,null,null,0]
[null,null,"Kitos išlaidų pavadinimas",null,null,null,0]
["5.6.8","Komandiruotės pavadinimas, vieta, trukmė dienomis, vykstančių asmenų skaičius","Iš viso komandiruotei",null,null,null,{"$f":"SUM(G178:G183)","v":0},{"$f":"ROUND(G177*$D$7,2)","v":0}]
[null,null,"Dienpinigiai",null,null,null,{"$f":"ROUND(E178*F178,2)","v":0}]
[null,null,"Gyvenamojo ploto nuoma",null,null,null,0]
[null,null,"Kelionės išlaidos",null,null,null,0]
[null,null,"Dalyvavimo mokestis",null,null,null,0]
[null,null,"Kitos išlaidų pavadinimas",null,null,null,0]
[null,null,"Kitos išlaidų pavadinimas",null,null,null,0]
["5.6.9","Komandiruotės pavadinimas, vieta, trukmė dienomis, vykstančių asmenų skaičius","Iš viso komandiruotei",null,null,null,{"$f":"SUM(G185:G190)","v":0},{"$f":"ROUND(G184*$D$7,2)","v":0}]
[null,null,"Dienpinigiai",null,null,null,{"$f":"ROUND(E185*F185,2)","v":0}]
[null,null,"Gyvenamojo ploto nuoma",null,null,null,0]
[null,null,"Kelionės išlaidos",null,null,null,0]
[null,null,"Dalyvavimo mokestis",null,null,null,0]
[null,null,"Kitos išlaidų pavadinimas",null,null,null,0]
[null,null,"Kitos išlaidų pavadinimas",null,null,null,0]
["5.6.10","Komandiruotės pavadinimas, vieta, trukmė dienomis, vykstančių asmenų skaičius","Iš viso komandiruotei",null,null,null,{"$f":"SUM(G192:G197)","v":0},{"$f":"ROUND(G191*$D$7,2)","v":0}]
[null,null,"Dienpinigiai",null,null,null,{"$f":"ROUND(E192*F192,2)","v":0}]
[null,null,"Gyvenamojo ploto nuoma",null,null,null,0]
[null,null,"Kelionės išlaidos",null,null,null,0]
[null,null,"Dalyvavimo mokestis",null,null,null,0]
[null,null,"Kitos išlaidų pavadinimas",null,null,null,0]
[null,null,"Kitos išlaidų pavadinimas",null,null,null,0]
["5.7","Įrangos nuomos išlaidos, veiklai priskirtos pro rata principu. Įranga turi būti tiesiogiai susijusi su projekto įgyvendinimu ir negali būti įsigyta iš ES struktūrinių fondų ar kt. ES finansinių priemonių lėšų",null,null,null,null,{"$f":"SUM(G199:G203)","v":0},{"$f":"SUM(H199:H203)","v":0},null,null,"Faktinės 1 mėnesio išlaidos, Eur","Naudojimo projekte trukmė, mėn."]
["5.7.1","Įrangos pavadinimas",null,"pro rata proc.",null,{"$f":"K199*L199","v":0},0,{"$f":"ROUND(G199*$D$7,2)","v":0}]
["5.7.2","Įrangos pavadinimas",null,"pro rata proc.",null,{"$f":"K200*L200","v":0},0,{"$f":"ROUND(G200*$D$7,2)","v":0}]
["5.7.3","Įrangos pavadinimas",null,"pro rata proc.",null,0,0,0]
["5.7.4","Įrangos pavadinimas",null,"pro rata proc.",null,0,0,0]
["5.7.5","Įrangos pavadinimas",null,"pro rata proc.",null,0,0,0]
["5.8","Pastatų ar patalpų nuomos išlaidos, veiklai priskirtos pro rata principu. Pastatai ar patalpos turi būti tiesiogiai susijusi su projekto įgyvendinimu.",null,null,null,null,{"$f":"SUM(G205:G209)","v":0},{"$f":"SUM(H205:H209)","v":0},null,null,"Faktinės 1 mėnesio išlaidos, Eur","Naudojimo projekte trukmė, mėn."]
["5.8.1","Pastato, patalpų adresas",null,"pro rata proc.",null,{"$f":"K205*L205","v":0},{"$f":"ROUND(E205*F205,2)","v":0},{"$f":"ROUND(G205*$D$7,2)","v":0}]
["5.8.2","Pastato, patalpų adresas",null,"pro rata proc.",null,{"$f":"K206*L206","v":0},0,0]
["5.8.3","Pastato, patalpų adresas",null,"pro rata proc.",null,0,0,0]
["5.8.4","Pastato, patalpų adresas",null,"pro rata proc.",null,0,0,0]
["5.8.5","Pastato, patalpų adresas",null,"pro rata proc.",null,0,0,0]
["Iš viso tinkamų finansuoti išlaidų:",null,null,null,null,null,{"$f":"G10+G21","v":0},{"$f":"H10+H21","v":0}]

{"sheet":"10","index":11,"n_rows":210,"n_cols":19,"rows_kept":210,"cut":false,"hidden":false,"merged":[[203,1,203,5],[204,1,204,2],[205,1,205,2],[206,1,206,2],[207,1,207,2],[208,1,208,2],[209,0,209,5],[190,0,196,0],[190,1,196,1],[199,1,199,2],[200,1,200,2],[201,1,201,2],[202,1,202,2],[155,0,161,0],[155,1,161,1],[155,8,161,8],[162,0,168,0],[162,1,168,1],[162,8,168,8],[190,8,196,8],[197,1,197,5],[198,1,198,2],[169,0,175,0],[169,1,175,1],[169,8,175,8],[176,0,182,0],[176,1,182,1],[176,8,182,8],[183,0,189,0],[183,1,189,1],[183,8,189,8],[134,0,140,0],[134,1,140,1],[134,8,140,8],[141,0,147,0],[141,1,147,1],[141,8,147,8],[148,0,154,0],[148,1,154,1],[148,8,154,8],[121,0,125,0],[121,1,125,1],[121,3,125,3],[121,4,125,4],[121,5,125,5],[121,6,125,6],[121,7,125,7],[121,8,125,8],[127,0,133,0],[127,1,133,1],[127,8,133,8],[126,1,126,5],[96,8,100,8],[101,0,105,0],[101,1,105,1],[101,3,105,3],[101,4,105,4],[101,5,105,5],[101,6,105,6],[101,7,105,7],[101,8,105,8],[96,0,100,0],[96,1,100,1],[96,3,100,3],[96,4,100,4],[96,5,100,5],[96,7,100,7],[96,6,100,6],[31,1,31,2],[32,1,32,5],[42,1,42,2],[43,1,43,5],[23,1,23,2],[24,1,24,2],[25,1,25,2],[33,1,33,2],[34,1,34,2],[35,1,35,2],[36,1,36,2],[37,1,37,2],[26,1,26,2],[27,1,27,2],[28,1,28,2],[29,1,29,2],[30,1,30,2],[111,8,115,8],[116,0,120,0],[116,1,120,1],[116,3,120,3],[116,4,120,4],[116,5,120,5],[111,0,115,0],[111,1,115,1],[111,3,115,3],[111,4,115,4],[111,5,115,5],[111,6,115,6],[111,7,115,7],[116,6,120,6],[116,7,120,7],[116,8,120,8],[0,3,0,8],[2,0,2,2],[2,3,2,8],[22,1,22,2],[14,1,14,2],[15,1,15,2],[16,1,16,2],[17,1,17,2],[18,1,18,2],[20,1,20,5],[10,1,10,2],[11,1,11,2],[12,1,12,2],[13,1,13,2],[3,3,3,4],[3,5,3,6],[4,0,4,2],[4,3,4,8],[8,1,8,2],[9,1,9,5],[19,1,19,2],[21,1,21,5],[48,1,48,2],[49,1,49,2],[38,1,38,2],[39,1,39,2],[40,1,40,2],[41,1,41,2],[56,1,56,2],[60,1,60,2],[61,1,61,2],[50,1,50,2],[51,1,51,2],[52,1,52,2],[53,1,53,2],[54,1,54,2],[55,1,55,2],[57,1,57,2],[58,1,58,2],[59,1,59,5],[44,1,44,2],[45,1,45,2],[46,1,46,2],[47,1,47,2],[62,1,62,2],[63,1,63,2],[64,1,64,2],[65,1,65,2],[66,1,66,2],[67,1,67,2],[68,1,68,2],[69,1,69,2],[70,1,70,2],[71,1,71,2],[72,1,72,2],[73,1,73,2],[74,1,74,2],[75,1,75,5],[76,0,80,0],[76,1,80,1],[76,3,80,3],[76,4,80,4],[76,5,80,5],[76,6,80,6],[76,7,80,7],[76,8,80,8],[81,0,85,0],[81,1,85,1],[81,3,85,3],[81,4,85,4],[81,5,85,5],[81,6,85,6],[81,7,85,7],[81,8,85,8],[86,0,90,0],[86,1,90,1],[86,3,90,3],[86,4,90,4],[86,5,90,5],[86,6,90,6],[86,7,90,7],[86,8,90,8],[106,0,110,0],[106,1,110,1],[106,3,110,3],[106,4,110,4],[106,5,110,5],[106,6,110,6],[106,7,110,7],[106,8,110,8],[91,0,95,0],[91,1,95,1],[91,3,95,3],[91,4,95,4],[91,5,95,5],[91,6,95,6],[91,7,95,7],[91,8,95,8]]}
[null,null,"Pasirinkite veiklos tipą:"]
[null,null,"Fizinio rodiklio Nr.:"]
["Fizinio rodiklio pavadinimas:"]
[null,null,"Fizinio rodiklio matavimo vnt.:",null,null,"Fizinio rodiklio vnt. skaičius:"]
["Juridinis asmuo (pareiškėjas, partneris), atsakingas už fizinį rodiklį:"]
[]
[null,null,"Finansavimo intensyvumas:",null,null,null,"Pasirinkite biudžeto išlaidų kategoriją:"]
[]
["Eil. Nr.","Išlaidų kategorijos pavadinimas",null,"Matavimo vnt.","Kiekis","Vieneto kaina be PVM, Eur","Tinkamų finansuoti išlaidų suma be PVM, Eur","Finansavimo suma, Eur","Išlaidų pagrindimo dokumentų pavadinimas, data ir Nr."]
[4,"ĮRANGA, ĮRENGINIAI IR KT. TURTAS (techninių žinių ir išradimų patentų arba teisių pagal licencijų sutartį įsigijimo išlaidos)",null,null,null,null,{"$f":"SUM(G11:G20)","v":0},{"$f":"SUM(H11:H20)","v":0}]
["4.1","Išlaidų pavadinimas",null,null,null,null,{"$f":"ROUND(E11*F11,2)","v":0},{"$f":"ROUND(G11*$D$7,2)","v":0}]
["4.2","Išlaidų pavadinimas",null,null,null,null,0,0]
["4.3","Išlaidų pavadinimas",null,null,null,null,0,0]
["4.4","Išlaidų pavadinimas",null,null,null,null,0,0]
["4.5","Išlaidų pavadinimas",null,null,null,null,0,0]
["4.6","Išlaidų pavadinimas",null,null,null,null,0,0]
["4.7","Išlaidų pavadinimas",null,null,null,null,0,0]
["4.8","Išlaidų pavadinimas",null,null,null,null,0,0]
["4.9","Išlaidų pavadinimas",null,null,null,null,0,0]
["4.10","Išlaidų pavadinimas",null,null,null,null,0,0]
[5,"PROJEKTO VYKDYMAS",null,null,null,null,{"$f":"G22+G33+G44+G60+G76+G127+G198+G204","v":0},{"$f":"H22+H33+H44+H60+H76+H127+H198+H204","v":0}]
["5.1","MTEP paslaugos",null,null,null,null,{"$f":"SUM(G23:G32)","v":0},{"$f":"SUM(H23:H32)","v":0}]
["5.1.1","Paslaugos pavadinimas",null,null,null,null,{"$f":"ROUND(E23*F23,2)","v":0},0]
["5.1.2","Paslaugos pavadinimas",null,null,null,null,0,0]
["5.1.3","Paslaugos pavadinimas",null,null,null,null,0,0]
["5.1.4","Paslaugos pavadinimas",null,null,null,null,0,0]
["5.1.5","Paslaugos pavadinimas",null,null,null,null,0,0]
["5.1.6","Paslaugos pavadinimas",null,null,null,null,0,0]
["5.1.7","Paslaugos pavadinimas",null,null,null,null,0,0]
["5.1.8","Paslaugos pavadinimas",null,null,null,null,0,0]
["5.1.9","Paslaugos pavadinimas",null,null,null,null,0,0]
["5.1.10","Paslaugos pavadinimas",null,null,null,null,0,0]
["5.2","Konsultavimo ir lygiavertės paslaugos, naudojamos vien tik projekto MTEP veiklai",null,null,null,null,{"$f":"SUM(G34:G43)","v":0},{"$f":"SUM(H34:H43)","v":0}]
["5.2.1","Paslaugos pavadinimas",null,null,null,null,{"$f":"ROUND(E34*F34,2)","v":0},0]
["5.2.2","Paslaugos pavadinimas",null,null,null,null,0,0]
["5.2.3","Paslaugos pavadinimas",null,null,null,null,0,0]
["5.2.4","Paslaugos pavadinimas",null,null,null,null,0,0]
["5.2.5","Paslaugos pavadinimas",null,null,null,null,0,0]
["5.2.6","Paslaugos pavadinimas",null,null,null,null,0,0]
["5.2.7","Paslaugos pavadinimas",null,null,null,null,0,0]
["5.2.8","Paslaugos pavadinimas",null,null,null,null,0,0]
["5.2.9","Paslaugos pavadinimas",null,null,null,null,0,0]
["5.2.10","Paslaugos pavadinimas",null,null,null,null,0,0]
["5.3","Medžiagos, mažavertis inventorius, atsargos ir pan. produktai, priskirtini trumpalaikiam turtui ir tiesiogiai susiję su MTEP veikla",null,null,null,null,{"$f":"SUM(G45:G61)","v":0},{"$f":"SUM(H45:H61)","v":0}]
["5.3.1","Išlaidų pavadinimas",null,null,null,null,{"$f":"ROUND(E45*F45,2)","v":0},{"$f":"ROUND(G45*$D$7,2)","v":0}]
["5.3.2","Išlaidų pavadinimas",null,null,null,null,0,0]
["5.3.3","Išlaidų pavadinimas",null,null,null,null,0,0]
["5.3.4","Išlaidų pavadinimas",null,null,null,null,0,0]
["5.3.5","Išlaidų pavadinimas",null,null,null,null,0,0]
["5.3.6","Išlaidų pavadinimas",null,null,null,null,0,0]
["5.3.7","Išlaidų pavadinimas",null,null,null,null,0,0]
["5.3.8","Išlaidų pavadinimas",null,null,null,null,0,0]
["5.3.9","Išlaidų pavadinimas",null,null,null,null,0,0]
["5.3.10","Išlaidų pavadinimas",null,null,null,null,0,0]
["5.3.11","Išlaidų pavadinimas",null,null,null,null,0,0]
["5.3.12","Išlaidų pavadinimas",null,null,null,null,0,0]
["5.3.13","Išlaidų pavadinimas",null,null,null,null,0,0]
["5.3.14","Išlaidų pavadinimas",null,null,null,null,0,0]
["5.3.15","Išlaidų pavadinimas",null,null,null,null,0,0]
["5.4","Projekto MTEP veikloms naudojamo ilgalaikio materialaus turto (įrangos, prietaisų, įrankių, įrenginių, mašinų ir įrengimų, pastatų ir (ar) patalpų), nusidėvėjimo sąnaudos, jeigu šiam turtui įsigyti nebuvo naudojamos viešosios (įskaitant ir kitų valstybių) lėšos",null,null,null,null,{"$f":"SUM(G61:G75)","v":0},{"$f":"SUM(H61:H75)","v":0},null,null,"Turto įvedimo į eksploataciją data","Turto įsigijimo vertė, Eur","Turto nudėvėjimo, amortizacijos laikotarpis, mėn.","Numatoma turto likutinė vertė, Eur","1 mėn. nudėvėjimo, amortizacijos suma, Eur","Turto naudojamo projekto reikmėms laikas, mėn.","Turto panaudojimo projekto reikmėms dalis (proc.)","Projektui priskirta turto nusidėvėjimo, amortizacijos suma per projekto laikotarpį, Eur"]
["5.4.1","Turtas, kurio nusidėvėjimą, amortizaciją prašoma finansuoti",null,null,1,{"$f":"R61","v":0},{"$f":"ROUND(E61*F61,2)","v":0},0,null,null,null,null,null,null,{"$f":"IFERROR(ROUND((L61-N61)/M61,2),\"0\")","v":"0"},null,null,{"$f":"O61*P61*Q61","v":0},{"$f":"IF(K61=0,\" \",IF(K61+(M61*30.5)<TODAY(),\"DĖMESIO! Patikrinkite, ar nurodytas turtas dar nėra nudėvėtas, amortizuotas\",\" \"))","v":" "}]
["5.4.2","Turtas, kurio nusidėvėjimą, amortizaciją prašoma finansuoti",null,null,1,{"$f":"R62","v":0},0,0,null,null,null,null,null,null,{"$f":"IFERROR(ROUND((L62-N62)/M62,2),\"0\")","v":"0"},null,null,{"$f":"O62*P62*Q62","v":0},{"$f":"IF(K62=0,\" \",IF(K62+(M62*30.5)<TODAY(),\"DĖMESIO! Patikrinkite, ar nurodytas turtas dar nėra nudėvėtas, amortizuotas\",\" \"))","v":" "}]
["5.4.3","Turtas, kurio nusidėvėjimą, amortizaciją prašoma finansuoti",null,null,1,0,0,0,null,null,null,null,null,null,"0",null,null,0," "]
["5.4.4","Turtas, kurio nusidėvėjimą, amortizaciją prašoma finansuoti",null,null,1,0,0,0,null,null,null,null,null,null,"0",null,null,0," "]
["5.4.5","Turtas, kurio nusidėvėjimą, amortizaciją prašoma finansuoti",null,null,1,0,0,0,null,null,null,null,null,null,"0",null,null,0," "]
["5.4.6","Turtas, kurio nusidėvėjimą, amortizaciją prašoma finansuoti",null,null,1,0,0,0,null,null,null,null,null,null,"0",null,null,0," "]
["5.4.7","Turtas, kurio nusidėvėjimą, amortizaciją prašoma finansuoti",null,null,1,0,0,0,null,null,null,null,null,null,"0",null,null,0," "]
["5.4.8","Turtas, kurio nusidėvėjimą, amortizaciją prašoma finansuoti",null,null,1,0,0,0,null,null,null,null,null,null,"0",null,null,0," "]
["5.4.9","Turtas, kurio nusidėvėjimą, amortizaciją prašoma finansuoti",null,null,1,0,0,0,null,null,null,null,null,null,"0",null,null,0," "]
["5.4.10","Turtas, kurio nusidėvėjimą, amortizaciją prašoma finansuoti",null,null,1,0,0,0,null,null,null,null,null,null,"0",null,null,0," "]
["5.4.11","Turtas, kurio nusidėvėjimą, amortizaciją prašoma finansuoti",null,null,1,0,0,0,null,null,null,null,null,null,"0",null,null,0," "]
["5.4.12","Turtas, kurio nusidėvėjimą, amortizaciją prašoma finansuoti",null,null,1,0,0,0,null,null,null,null,null,null,"0",null,null,0," "]
["5.4.13","Turtas, kurio nusidėvėjimą, amortizaciją prašoma finansuoti",null,null,1,0,0,0,null,null,null,null,null,null,"0",null,null,0," "]
["5.4.14","Turtas, kurio nusidėvėjimą, amortizaciją prašoma finansuoti",null,null,1,0,0,0,null,null,null,null,null,null,"0",null,null,0," "]
["5.4.15","Turtas, kurio nusidėvėjimą, amortizaciją prašoma finansuoti",null,null,1,0,0,0,null,null,null,null,null,null,"0",null,null,0," "]
["5.5","Projektą vykdančio personalo darbo užmokestis ir išlaidos su darbo santykiais susijusiems darbdavio įsipareigojimams",null,null,null,null,{"$f":"SUM(G77:G126)","v":0},{"$f":"SUM(H77:H126)","v":0},null,null,"Faktiškai gaunamas darbo užmokesti už 1 valandą pagal  pastarųjų 6 mėn. vidurkį, Eur"]
["5.5.1","Pareigybės pavadinimas","Darbuotojo vardas pavardė","val.",null,{"$f":"IFERROR(ROUND(AVERAGE(K77:K81),2),\"0\")","v":"0"},{"$f":"ROUND(E77*F77,2)","v":0},{"$f":"ROUND(G77*$D$7,2)","v":0}]
[null,null,"Darbuotojo vardas pavardė"]
[null,null,"Darbuotojo vardas pavardė"]
[null,null,"Darbuotojo vardas pavardė"]
[null,null,"Darbuotojo vardas pavardė"]
["5.5.2","Pareigybės pavadinimas","Darbuotojo vardas pavardė","val.",null,{"$f":"IFERROR(ROUND(AVERAGE(K82:K86),2),\"0\")","v":"0"},{"$f":"ROUND(E82*F82,2)","v":0},{"$f":"ROUND(G82*$D$7,2)","v":0}]
[null,null,"Darbuotojo vardas pavardė"]
[null,null,"Darbuotojo vardas pavardė"]
[null,null,"Darbuotojo vardas pavardė"]
[null,null,"Darbuotojo vardas pavardė"]
["5.5.3","Pareigybės pavadinimas","Darbuotojo vardas pavardė","val.",null,{"$f":"IFERROR(ROUND(AVERAGE(K87:K91),2),\"0\")","v":"0"},{"$f":"ROUND(E87*F87,2)","v":0},{"$f":"ROUND(G87*$D$7,2)","v":0}]
[null,null,"Darbuotojo vardas pavardė"]
[null,null,"Darbuotojo vardas pavardė"]
[null,null,"Darbuotojo vardas pavardė"]
[null,null,"Darbuotojo vardas pavardė"]
["5.5.4","Pareigybės pavadinimas","Darbuotojo vardas pavardė","val.",null,{"$f":"IFERROR(ROUND(AVERAGE(K92:K96),2),\"0\")","v":"0"},{"$f":"ROUND(E92*F92,2)","v":0},{"$f":"ROUND(G92*$D$7,2)","v":0}]
[null,null,"Darbuotojo vardas pavardė"]
[null,null,"Darbuotojo vardas pavardė"]
[null,null,"Darbuotojo vardas pavardė"]
[null,null,"Darbuotojo vardas pavardė"]
["5.5.5","Pareigybės pavadinimas","Darbuotojo vardas pavardė","val.",null,{"$f":"IFERROR(ROUND(AVERAGE(K97:K101),2),\"0\")","v":"0"},{"$f":"ROUND(E97*F97,2)","v":0},{"$f":"ROUND(G97*$D$7,2)","v":0}]
[null,null,"Darbuotojo vardas pavardė"]
[null,null,"Darbuotojo vardas pavardė"]
[null,null,"Darbuotojo vardas pavardė"]
[null,null,"Darbuotojo vardas pavardė"]
["5.5.6","Pareigybės pavadinimas","Darbuotojo vardas pavardė","val.",null,{"$f":"IFERROR(ROUND(AVERAGE(K102:K106),2),\"0\")","v":"0"},{"$f":"ROUND(E102*F102,2)","v":0},{"$f":"ROUND(G102*$D$7,2)","v":0}]
[null,null,"Darbuotojo vardas pavardė"]
[null,null,"Darbuotojo vardas pavardė"]
[null,null,"Darbuotojo vardas pavardė"]
[null,null,"Darbuotojo vardas pavardė"]
["5.5.7","Pareigybės pavadinimas","Darbuotojo vardas pavardė","val.",null,{"$f":"IFERROR(ROUND(AVERAGE(K107:K111),2),\"0\")","v":"0"},{"$f":"ROUND(E107*F107,2)","v":0},{"$f":"ROUND(G107*$D$7,2)","v":0}]
[null,null,"Darbuotojo vardas pavardė"]
[null,null,"Darbuotojo vardas pavardė"]
[null,null,"Darbuotojo vardas pavardė"]
[null,null,"Darbuotojo vardas pavardė"]
["5.5.8","Pareigybės pavadinimas","Darbuotojo vardas pavardė","val.",null,{"$f":"IFERROR(ROUND(AVERAGE(K112:K116),2),\"0\")","v":"0"},{"$f":"ROUND(E112*F112,2)","v":0},{"$f":"ROUND(G112*$D$7,2)","v":0}]
[null,null,"Darbuotojo vardas pavardė"]
[null,null,"Darbuotojo vardas pavardė"]
[null,null,"Darbuotojo vardas pavardė"]
[null,null,"Darbuotojo vardas pavardė"]
["5.5.9","Pareigybės pavadinimas","Darbuotojo vardas pavardė","val.",null,{"$f":"IFERROR(ROUND(AVERAGE(K117:K121),2),\"0\")","v":"0"},{"$f":"ROUND(E117*F117,2)","v":0},{"$f":"ROUND(G117*$D$7,2)","v":0}]
[null,null,"Darbuotojo vardas pavardė"]
[null,null,"Darbuotojo vardas pavardė"]
[null,null,"Darbuotojo vardas pavardė"]
[null,null,"Darbuotojo vardas pavardė"]
["5.5.10","Pareigybės pavadinimas","Darbuotojo vardas pavardė","val.",null,{"$f":"IFERROR(ROUND(AVERAGE(K122:K126),2),\"0\")","v":"0"},{"$f":"ROUND(E122*F122,2)","v":0},{"$f":"ROUND(G122*$D$7,2)","v":0}]
[null,null,"Darbuotojo vardas pavardė"]
[null,null,"Darbuotojo vardas pavardė"]
[null,null,"Darbuotojo vardas pavardė"]
[null,null,"Darbuotojo vardas pavardė"]
["5.6","Projektą vykdančio personalo komandiruočių išlaidos",null,null,null,null,{"$f":"SUM(G128,G135,G142,G149,G156,G163,G170,G177,G184,G191)","v":0},{"$f":"SUM(H128,H135,H142,H149,H156,H163,H170,H177,H184,H191)","v":0}]
["5.6.1","Komandiruotės pavadinimas, vieta, trukmė dienomis, vykstančių asmenų skaičius","Iš viso komandiruotei",null,null,null,{"$f":"SUM(G129:G134)","v":0},{"$f":"ROUND(G128*$D$7,2)","v":0}]
[null,null,"Dienpinigiai",null,null,null,{"$f":"ROUND(E129*F129,2)","v":0}]
[null,null,"Gyvenamojo ploto nuoma",null,null,null,0]
[null,null,"Kelionės išlaidos",null,null,null,0]
[null,null,"Dalyvavimo mokestis",null,null,null,0]
[null,null,"Kitos išlaidų pavadinimas",null,null,null,0]
[null,null,"Kitos išlaidų pavadinimas",null,null,null,0]
["5.6.2","Komandiruotės pavadinimas, vieta, trukmė dienomis, vykstančių asmenų skaičius","Iš viso komandiruotei",null,null,null,{"$f":"SUM(G136:G141)","v":0},{"$f":"ROUND(G135*$D$7,2)","v":0}]
[null,null,"Dienpinigiai",null,null,null,{"$f":"ROUND(E136*F136,2)","v":0}]
[null,null,"Gyvenamojo ploto nuoma",null,null,null,0]
[null,null,"Kelionės išlaidos",null,null,null,0]
[null,null,"Dalyvavimo mokestis",null,null,null,0]
[null,null,"Kitos išlaidų pavadinimas",null,null,null,0]
[null,null,"Kitos išlaidų pavadinimas",null,null,null,0]
["5.6.3","Komandiruotės pavadinimas, vieta, trukmė dienomis, vykstančių asmenų skaičius","Iš viso komandiruotei",null,null,null,{"$f":"SUM(G143:G148)","v":0},{"$f":"ROUND(G142*$D$7,2)","v":0}]
[null,null,"Dienpinigiai",null,null,null,{"$f":"ROUND(E143*F143,2)","v":0}]
[null,null,"Gyvenamojo ploto nuoma",null,null,null,0]
[null,null,"Kelionės išlaidos",null,null,null,0]
[null,null,"Dalyvavimo mokestis",null,null,null,0]
[null,null,"Kitos išlaidų pavadinimas",null,null,null,0]
[null,null,"Kitos išlaidų pavadinimas",null,null,null,0]
["5.6.4","Komandiruotės pavadinimas, vieta, trukmė dienomis, vykstančių asmenų skaičius","Iš viso komandiruotei",null,null,null,{"$f":"SUM(G150:G155)","v":0},{"$f":"ROUND(G149*$D$7,2)","v":0}]
[null,null,"Dienpinigiai",null,null,null,{"$f":"ROUND(E150*F150,2)","v":0}]
[null,null,"Gyvenamojo ploto nuoma",null,null,null,0]
[null,null,"Kelionės išlaidos",null,null,null,0]
[null,null,"Dalyvavimo mokestis",null,null,null,0]
[null,null,"Kitos išlaidų pavadinimas",null,null,null,0]
[null,null,"Kitos išlaidų pavadinimas",null,null,null,0]
["5.6.5","Komandiruotės pavadinimas, vieta, trukmė dienomis, vykstančių asmenų skaičius","Iš viso komandiruotei",null,null,null,{"$f":"SUM(G157:G162)","v":0},{"$f":"ROUND(G156*$D$7,2)","v":0}]
[null,null,"Dienpinigiai",null,null,null,{"$f":"ROUND(E157*F157,2)","v":0}]
[null,null,"Gyvenamojo ploto nuoma",null,null,null,0]
[null,null,"Kelionės išlaidos",null,null,null,0]
[null,null,"Dalyvavimo mokestis",null,null,null,0]
[null,null,"Kitos išlaidų pavadinimas",null,null,null,0]
[null,null,"Kitos išlaidų pavadinimas",null,null,null,0]
["5.6.6","Komandiruotės pavadinimas, vieta, trukmė dienomis, vykstančių asmenų skaičius","Iš viso komandiruotei",null,null,null,{"$f":"SUM(G164:G169)","v":0},{"$f":"ROUND(G163*$D$7,2)","v":0}]
[null,null,"Dienpinigiai",null,null,null,{"$f":"ROUND(E164*F164,2)","v":0}]
[null,null,"Gyvenamojo ploto nuoma",null,null,null,0]
[null,null,"Kelionės išlaidos",null,null,null,0]
[null,null,"Dalyvavimo mokestis",null,null,null,0]
[null,null,"Kitos išlaidų pavadinimas",null,null,null,0]
[null,null,"Kitos išlaidų pavadinimas",null,null,null,0]
["5.6.7","Komandiruotės pavadinimas, vieta, trukmė dienomis, vykstančių asmenų skaičius","Iš viso komandiruotei",null,null,null,{"$f":"SUM(G171:G176)","v":0},{"$f":"ROUND(G170*$D$7,2)","v":0}]
[null,null,"Dienpinigiai",null,null,null,{"$f":"ROUND(E171*F171,2)","v":0}]
[null,null,"Gyvenamojo ploto nuoma",null,null,null,0]
[null,null,"Kelionės išlaidos",null,null,null,0]
[null,null,"Dalyvavimo mokestis",null,null,null,0]
[null,null,"Kitos išlaidų pavadinimas",null,null,null,0]
[null,null,"Kitos išlaidų pavadinimas",null,null,null,0]
["5.6.8","Komandiruotės pavadinimas, vieta, trukmė dienomis, vykstančių asmenų skaičius","Iš viso komandiruotei",null,null,null,{"$f":"SUM(G178:G183)","v":0},{"$f":"ROUND(G177*$D$7,2)","v":0}]
[null,null,"Dienpinigiai",null,null,null,{"$f":"ROUND(E178*F178,2)","v":0}]
[null,null,"Gyvenamojo ploto nuoma",null,null,null,0]
[null,null,"Kelionės išlaidos",null,null,null,0]
[null,null,"Dalyvavimo mokestis",null,null,null,0]
[null,null,"Kitos išlaidų pavadinimas",null,null,null,0]
[null,null,"Kitos išlaidų pavadinimas",null,null,null,0]
["5.6.9","Komandiruotės pavadinimas, vieta, trukmė dienomis, vykstančių asmenų skaičius","Iš viso komandiruotei",null,null,null,{"$f":"SUM(G185:G190)","v":0},{"$f":"ROUND(G184*$D$7,2)","v":0}]
[null,null,"Dienpinigiai",null,null,null,{"$f":"ROUND(E185*F185,2)","v":0}]
[null,null,"Gyvenamojo ploto nuoma",null,null,null,0]
[null,null,"Kelionės išlaidos",null,null,null,0]
[null,null,"Dalyvavimo mokestis",null,null,null,0]
[null,null,"Kitos išlaidų pavadinimas",null,null,null,0]
[null,null,"Kitos išlaidų pavadinimas",null,null,null,0]
["5.6.10","Komandiruotės pavadinimas, vieta, trukmė dienomis, vykstančių asmenų skaičius","Iš viso komandiruotei",null,null,null,{"$f":"SUM(G192:G197)","v":0},{"$f":"ROUND(G191*$D$7,2)","v":0}]
[null,null,"Dienpinigiai",null,null,null,{"$f":"ROUND(E192*F192,2)","v":0}]
[null,null,"Gyvenamojo ploto nuoma",null,null,null,0]
[null,null,"Kelionės išlaidos",null,null,null,0]
[null,null,"Dalyvavimo mokestis",null,null,null,0]
[null,null,"Kitos išlaidų pavadinimas",null,null,null,0]
[null,null,"Kitos išlaidų pavadinimas",null,null,null,0]
["5.7","Įrangos nuomos išlaidos, veiklai priskirtos pro rata principu. Įranga turi būti tiesiogiai susijusi su projekto įgyvendinimu ir negali būti įsigyta iš ES struktūrinių fondų ar kt. ES finansinių priemonių lėšų",null,null,null,null,{"$f":"SUM(G199:G203)","v":0},{"$f":"SUM(H199:H203)","v":0},null,null,"Faktinės 1 mėnesio išlaidos, Eur","Naudojimo projekte trukmė, mėn."]
["5.7.1","Įrangos pavadinimas",null,"pro rata proc.",null,{"$f":"K199*L199","v":0},0,{"$f":"ROUND(G199*$D$7,2)","v":0}]
["5.7.2","Įrangos pavadinimas",null,"pro rata proc.",null,{"$f":"K200*L200","v":0},0,{"$f":"ROUND(G200*$D$7,2)","v":0}]
["5.7.3","Įrangos pavadinimas",null,"pro rata proc.",null,0,0,0]
["5.7.4","Įrangos pavadinimas",null,"pro rata proc.",null,0,0,0]
["5.7.5","Įrangos pavadinimas",null,"pro rata proc.",null,0,0,0]
["5.8","Pastatų ar patalpų nuomos išlaidos, veiklai priskirtos pro rata principu. Pastatai ar patalpos turi būti tiesiogiai susijusi su projekto įgyvendinimu.",null,null,null,null,{"$f":"SUM(G205:G209)","v":0},{"$f":"SUM(H205:H209)","v":0},null,null,"Faktinės 1 mėnesio išlaidos, Eur","Naudojimo projekte trukmė, mėn."]
["5.8.1","Pastato, patalpų adresas",null,"pro rata proc.",null,{"$f":"K205*L205","v":0},{"$f":"ROUND(E205*F205,2)","v":0},{"$f":"ROUND(G205*$D$7,2)","v":0}]
["5.8.2","Pastato, patalpų adresas",null,"pro rata proc.",null,{"$f":"K206*L206","v":0},0,0]
["5.8.3","Pastato, patalpų adresas",null,"pro rata proc.",null,0,0,0]
["5.8.4","Pastato, patalpų adresas",null,"pro rata proc.",null,0,0,0]
["5.8.5","Pastato, patalpų adresas",null,"pro rata proc.",null,0,0,0]
["Iš viso tinkamų finansuoti išlaidų:",null,null,null,null,null,{"$f":"G10+G21","v":0},{"$f":"H10+H21","v":0}]

{"sheet":"11","index":12,"n_rows":210,"n_cols":19,"rows_kept":210,"cut":false,"hidden":false,"merged":[[206,1,206,2],[207,1,207,2],[208,1,208,2],[209,0,209,5],[197,1,197,5],[198,1,198,2],[199,1,199,2],[200,1,200,2],[201,1,201,2],[202,1,202,2],[203,1,203,5],[204,1,204,2],[205,1,205,2],[176,0,182,0],[176,1,182,1],[176,8,182,8],[183,0,189,0],[183,1,189,1],[183,8,189,8],[190,0,196,0],[190,1,196,1],[190,8,196,8],[155,0,161,0],[155,1,161,1],[155,8,161,8],[162,0,168,0],[162,1,168,1],[162,8,168,8],[169,0,175,0],[169,1,175,1],[169,8,175,8],[134,0,140,0],[134,1,140,1],[134,8,140,8],[141,0,147,0],[141,1,147,1],[141,8,147,8],[148,0,154,0],[148,1,154,1],[148,8,154,8],[127,1,133,1],[121,7,125,7],[121,8,125,8],[126,1,126,5],[121,0,125,0],[121,1,125,1],[121,3,125,3],[121,4,125,4],[121,5,125,5],[121,6,125,6],[127,0,133,0],[127,8,133,8],[111,7,115,7],[111,8,115,8],[116,0,120,0],[116,1,120,1],[116,3,120,3],[116,4,120,4],[116,5,120,5],[116,6,120,6],[116,7,120,7],[116,8,120,8],[111,0,115,0],[111,1,115,1],[111,3,115,3],[111,4,115,4],[111,5,115,5],[111,6,115,6],[101,7,105,7],[101,8,105,8],[106,0,110,0],[106,1,110,1],[106,3,110,3],[106,4,110,4],[106,5,110,5],[106,6,110,6],[106,7,110,7],[106,8,110,8],[101,0,105,0],[101,1,105,1],[101,3,105,3],[101,4,105,4],[101,5,105,5],[101,6,105,6],[96,0,100,0],[96,1,100,1],[96,3,100,3],[96,4,100,4],[96,5,100,5],[96,6,100,6],[96,7,100,7],[96,8,100,8],[91,0,95,0],[91,1,95,1],[91,3,95,3],[91,4,95,4],[91,5,95,5],[91,6,95,6],[86,0,90,0],[86,1,90,1],[86,3,90,3],[86,4,90,4],[86,5,90,5],[86,6,90,6],[86,7,90,7],[86,8,90,8],[91,7,95,7],[91,8,95,8],[76,6,80,6],[76,7,80,7],[76,8,80,8],[81,0,85,0],[81,1,85,1],[81,3,85,3],[81,4,85,4],[81,5,85,5],[81,6,85,6],[81,7,85,7],[81,8,85,8],[74,1,74,2],[75,1,75,5],[76,0,80,0],[76,1,80,1],[76,3,80,3],[76,4,80,4],[76,5,80,5],[68,1,68,2],[69,1,69,2],[70,1,70,2],[71,1,71,2],[72,1,72,2],[73,1,73,2],[62,1,62,2],[63,1,63,2],[64,1,64,2],[65,1,65,2],[66,1,66,2],[67,1,67,2],[56,1,56,2],[57,1,57,2],[58,1,58,2],[59,1,59,5],[60,1,60,2],[61,1,61,2],[50,1,50,2],[51,1,51,2],[52,1,52,2],[53,1,53,2],[54,1,54,2],[55,1,55,2],[44,1,44,2],[45,1,45,2],[46,1,46,2],[47,1,47,2],[48,1,48,2],[49,1,49,2],[38,1,38,2],[39,1,39,2],[40,1,40,2],[41,1,41,2],[42,1,42,2],[43,1,43,5],[32,1,32,5],[33,1,33,2],[34,1,34,2],[35,1,35,2],[36,1,36,2],[37,1,37,2],[26,1,26,2],[27,1,27,2],[28,1,28,2],[29,1,29,2],[30,1,30,2],[31,1,31,2],[20,1,20,5],[21,1,21,5],[22,1,22,2],[23,1,23,2],[24,1,24,2],[25,1,25,2],[16,1,16,2],[17,1,17,2],[18,1,18,2],[19,1,19,2],[8,1,8,2],[9,1,9,5],[10,1,10,2],[11,1,11,2],[12,1,12,2],[13,1,13,2],[0,3,0,8],[2,0,2,2],[2,3,2,8],[3,3,3,4],[3,5,3,6],[4,0,4,2],[4,3,4,8],[14,1,14,2],[15,1,15,2]]}
[null,null,"Pasirinkite veiklos tipą:"]
[null,null,"Fizinio rodiklio Nr.:"]
["Fizinio rodiklio pavadinimas:"]
[null,null,"Fizinio rodiklio matavimo vnt.:",null,null,"Fizinio rodiklio vnt. skaičius:"]
["Juridinis asmuo (pareiškėjas, partneris), atsakingas už fizinį rodiklį:"]
[]
[null,null,"Finansavimo intensyvumas:",null,null,null,"Pasirinkite biudžeto išlaidų kategoriją:"]
[]
["Eil. Nr.","Išlaidų kategorijos pavadinimas",null,"Matavimo vnt.","Kiekis","Vieneto kaina be PVM, Eur","Tinkamų finansuoti išlaidų suma be PVM, Eur","Finansavimo suma, Eur","Išlaidų pagrindimo dokumentų pavadinimas, data ir Nr."]
[4,"ĮRANGA, ĮRENGINIAI IR KT. TURTAS (techninių žinių ir išradimų patentų arba teisių pagal licencijų sutartį įsigijimo išlaidos)",null,null,null,null,{"$f":"SUM(G11:G20)","v":0},{"$f":"SUM(H11:H20)","v":0}]
["4.1","Išlaidų pavadinimas",null,null,null,null,{"$f":"ROUND(E11*F11,2)","v":0},{"$f":"ROUND(G11*$D$7,2)","v":0}]
["4.2","Išlaidų pavadinimas",null,null,null,null,0,0]
["4.3","Išlaidų pavadinimas",null,null,null,null,0,0]
["4.4","Išlaidų pavadinimas",null,null,null,null,0,0]
["4.5","Išlaidų pavadinimas",null,null,null,null,0,0]
["4.6","Išlaidų pavadinimas",null,null,null,null,0,0]
["4.7","Išlaidų pavadinimas",null,null,null,null,0,0]
["4.8","Išlaidų pavadinimas",null,null,null,null,0,0]
["4.9","Išlaidų pavadinimas",null,null,null,null,0,0]
["4.10","Išlaidų pavadinimas",null,null,null,null,0,0]
[5,"PROJEKTO VYKDYMAS",null,null,null,null,{"$f":"G22+G33+G44+G60+G76+G127+G198+G204","v":0},{"$f":"H22+H33+H44+H60+H76+H127+H198+H204","v":0}]
["5.1","MTEP paslaugos",null,null,null,null,{"$f":"SUM(G23:G32)","v":0},{"$f":"SUM(H23:H32)","v":0}]
["5.1.1","Paslaugos pavadinimas",null,null,null,null,{"$f":"ROUND(E23*F23,2)","v":0},0]
["5.1.2","Paslaugos pavadinimas",null,null,null,null,0,0]
["5.1.3","Paslaugos pavadinimas",null,null,null,null,0,0]
["5.1.4","Paslaugos pavadinimas",null,null,null,null,0,0]
["5.1.5","Paslaugos pavadinimas",null,null,null,null,0,0]
["5.1.6","Paslaugos pavadinimas",null,null,null,null,0,0]
["5.1.7","Paslaugos pavadinimas",null,null,null,null,0,0]
["5.1.8","Paslaugos pavadinimas",null,null,null,null,0,0]
["5.1.9","Paslaugos pavadinimas",null,null,null,null,0,0]
["5.1.10","Paslaugos pavadinimas",null,null,null,null,0,0]
["5.2","Konsultavimo ir lygiavertės paslaugos, naudojamos vien tik projekto MTEP veiklai",null,null,null,null,{"$f":"SUM(G34:G43)","v":0},{"$f":"SUM(H34:H43)","v":0}]
["5.2.1","Paslaugos pavadinimas",null,null,null,null,{"$f":"ROUND(E34*F34,2)","v":0},0]
["5.2.2","Paslaugos pavadinimas",null,null,null,null,0,0]
["5.2.3","Paslaugos pavadinimas",null,null,null,null,0,0]
["5.2.4","Paslaugos pavadinimas",null,null,null,null,0,0]
["5.2.5","Paslaugos pavadinimas",null,null,null,null,0,0]
["5.2.6","Paslaugos pavadinimas",null,null,null,null,0,0]
["5.2.7","Paslaugos pavadinimas",null,null,null,null,0,0]
["5.2.8","Paslaugos pavadinimas",null,null,null,null,0,0]
["5.2.9","Paslaugos pavadinimas",null,null,null,null,0,0]
["5.2.10","Paslaugos pavadinimas",null,null,null,null,0,0]
["5.3","Medžiagos, mažavertis inventorius, atsargos ir pan. produktai, priskirtini trumpalaikiam turtui ir tiesiogiai susiję su MTEP veikla",null,null,null,null,{"$f":"SUM(G45:G61)","v":0},{"$f":"SUM(H45:H61)","v":0}]
["5.3.1","Išlaidų pavadinimas",null,null,null,null,{"$f":"ROUND(E45*F45,2)","v":0},{"$f":"ROUND(G45*$D$7,2)","v":0}]
["5.3.2","Išlaidų pavadinimas",null,null,null,null,0,0]
["5.3.3","Išlaidų pavadinimas",null,null,null,null,0,0]
["5.3.4","Išlaidų pavadinimas",null,null,null,null,0,0]
["5.3.5","Išlaidų pavadinimas",null,null,null,null,0,0]
["5.3.6","Išlaidų pavadinimas",null,null,null,null,0,0]
["5.3.7","Išlaidų pavadinimas",null,null,null,null,0,0]
["5.3.8","Išlaidų pavadinimas",null,null,null,null,0,0]
["5.3.9","Išlaidų pavadinimas",null,null,null,null,0,0]
["5.3.10","Išlaidų pavadinimas",null,null,null,null,0,0]
["5.3.11","Išlaidų pavadinimas",null,null,null,null,0,0]
["5.3.12","Išlaidų pavadinimas",null,null,null,null,0,0]
["5.3.13","Išlaidų pavadinimas",null,null,null,null,0,0]
["5.3.14","Išlaidų pavadinimas",null,null,null,null,0,0]
["5.3.15","Išlaidų pavadinimas",null,null,null,null,0,0]
["5.4","Projekto MTEP veikloms naudojamo ilgalaikio materialaus turto (įrangos, prietaisų, įrankių, įrenginių, mašinų ir įrengimų, pastatų ir (ar) patalpų), nusidėvėjimo sąnaudos, jeigu šiam turtui įsigyti nebuvo naudojamos viešosios (įskaitant ir kitų valstybių) lėšos",null,null,null,null,{"$f":"SUM(G61:G75)","v":0},{"$f":"SUM(H61:H75)","v":0},null,null,"Turto įvedimo į eksploataciją data","Turto įsigijimo vertė, Eur","Turto nudėvėjimo, amortizacijos laikotarpis, mėn.","Numatoma turto likutinė vertė, Eur","1 mėn. nudėvėjimo, amortizacijos suma, Eur","Turto naudojamo projekto reikmėms laikas, mėn.","Turto panaudojimo projekto reikmėms dalis (proc.)","Projektui priskirta turto nusidėvėjimo, amortizacijos suma per projekto laikotarpį, Eur"]
["5.4.1","Turtas, kurio nusidėvėjimą, amortizaciją prašoma finansuoti",null,null,1,{"$f":"R61","v":0},{"$f":"ROUND(E61*F61,2)","v":0},0,null,null,null,null,null,null,{"$f":"IFERROR(ROUND((L61-N61)/M61,2),\"0\")","v":"0"},null,null,{"$f":"O61*P61*Q61","v":0},{"$f":"IF(K61=0,\" \",IF(K61+(M61*30.5)<TODAY(),\"DĖMESIO! Patikrinkite, ar nurodytas turtas dar nėra nudėvėtas, amortizuotas\",\" \"))","v":" "}]
["5.4.2","Turtas, kurio nusidėvėjimą, amortizaciją prašoma finansuoti",null,null,1,{"$f":"R62","v":0},0,0,null,null,null,null,null,null,{"$f":"IFERROR(ROUND((L62-N62)/M62,2),\"0\")","v":"0"},null,null,{"$f":"O62*P62*Q62","v":0},{"$f":"IF(K62=0,\" \",IF(K62+(M62*30.5)<TODAY(),\"DĖMESIO! Patikrinkite, ar nurodytas turtas dar nėra nudėvėtas, amortizuotas\",\" \"))","v":" "}]
["5.4.3","Turtas, kurio nusidėvėjimą, amortizaciją prašoma finansuoti",null,null,1,0,0,0,null,null,null,null,null,null,"0",null,null,0," "]
["5.4.4","Turtas, kurio nusidėvėjimą, amortizaciją prašoma finansuoti",null,null,1,0,0,0,null,null,null,null,null,null,"0",null,null,0," "]
["5.4.5","Turtas, kurio nusidėvėjimą, amortizaciją prašoma finansuoti",null,null,1,0,0,0,null,null,null,null,null,null,"0",null,null,0," "]
["5.4.6","Turtas, kurio nusidėvėjimą, amortizaciją prašoma finansuoti",null,null,1,0,0,0,null,null,null,null,null,null,"0",null,null,0," "]
["5.4.7","Turtas, kurio nusidėvėjimą, amortizaciją prašoma finansuoti",null,null,1,0,0,0,null,null,null,null,null,null,"0",null,null,0," "]
["5.4.8","Turtas, kurio nusidėvėjimą, amortizaciją prašoma finansuoti",null,null,1,0,0,0,null,null,null,null,null,null,"0",null,null,0," "]
["5.4.9","Turtas, kurio nusidėvėjimą, amortizaciją prašoma finansuoti",null,null,1,0,0,0,null,null,null,null,null,null,"0",null,null,0," "]
["5.4.10","Turtas, kurio nusidėvėjimą, amortizaciją prašoma finansuoti",null,null,1,0,0,0,null,null,null,null,null,null,"0",null,null,0," "]
["5.4.11","Turtas, kurio nusidėvėjimą, amortizaciją prašoma finansuoti",null,null,1,0,0,0,null,null,null,null,null,null,"0",null,null,0," "]
["5.4.12","Turtas, kurio nusidėvėjimą, amortizaciją prašoma finansuoti",null,null,1,0,0,0,null,null,null,null,null,null,"0",null,null,0," "]
["5.4.13","Turtas, kurio nusidėvėjimą, amortizaciją prašoma finansuoti",null,null,1,0,0,0,null,null,null,null,null,null,"0",null,null,0," "]
["5.4.14","Turtas, kurio nusidėvėjimą, amortizaciją prašoma finansuoti",null,null,1,0,0,0,null,null,null,null,null,null,"0",null,null,0," "]
["5.4.15","Turtas, kurio nusidėvėjimą, amortizaciją prašoma finansuoti",null,null,1,0,0,0,null,null,null,null,null,null,"0",null,null,0," "]
["5.5","Projektą vykdančio personalo darbo užmokestis ir išlaidos su darbo santykiais susijusiems darbdavio įsipareigojimams",null,null,null,null,{"$f":"SUM(G77:G126)","v":0},{"$f":"SUM(H77:H126)","v":0},null,null,"Faktiškai gaunamas darbo užmokesti už 1 valandą pagal  pastarųjų 6 mėn. vidurkį, Eur"]
["5.5.1","Pareigybės pavadinimas","Darbuotojo vardas pavardė","val.",null,{"$f":"IFERROR(ROUND(AVERAGE(K77:K81),2),\"0\")","v":"0"},{"$f":"ROUND(E77*F77,2)","v":0},{"$f":"ROUND(G77*$D$7,2)","v":0}]
[null,null,"Darbuotojo vardas pavardė"]
[null,null,"Darbuotojo vardas pavardė"]
[null,null,"Darbuotojo vardas pavardė"]
[null,null,"Darbuotojo vardas pavardė"]
["5.5.2","Pareigybės pavadinimas","Darbuotojo vardas pavardė","val.",null,{"$f":"IFERROR(ROUND(AVERAGE(K82:K86),2),\"0\")","v":"0"},{"$f":"ROUND(E82*F82,2)","v":0},{"$f":"ROUND(G82*$D$7,2)","v":0}]
[null,null,"Darbuotojo vardas pavardė"]
[null,null,"Darbuotojo vardas pavardė"]
[null,null,"Darbuotojo vardas pavardė"]
[null,null,"Darbuotojo vardas pavardė"]
["5.5.3","Pareigybės pavadinimas","Darbuotojo vardas pavardė","val.",null,{"$f":"IFERROR(ROUND(AVERAGE(K87:K91),2),\"0\")","v":"0"},{"$f":"ROUND(E87*F87,2)","v":0},{"$f":"ROUND(G87*$D$7,2)","v":0}]
[null,null,"Darbuotojo vardas pavardė"]
[null,null,"Darbuotojo vardas pavardė"]
[null,null,"Darbuotojo vardas pavardė"]
[null,null,"Darbuotojo vardas pavardė"]
["5.5.4","Pareigybės pavadinimas","Darbuotojo vardas pavardė","val.",null,{"$f":"IFERROR(ROUND(AVERAGE(K92:K96),2),\"0\")","v":"0"},{"$f":"ROUND(E92*F92,2)","v":0},{"$f":"ROUND(G92*$D$7,2)","v":0}]
[null,null,"Darbuotojo vardas pavardė"]
[null,null,"Darbuotojo vardas pavardė"]
[null,null,"Darbuotojo vardas pavardė"]
[null,null,"Darbuotojo vardas pavardė"]
["5.5.5","Pareigybės pavadinimas","Darbuotojo vardas pavardė","val.",null,{"$f":"IFERROR(ROUND(AVERAGE(K97:K101),2),\"0\")","v":"0"},{"$f":"ROUND(E97*F97,2)","v":0},{"$f":"ROUND(G97*$D$7,2)","v":0}]
[null,null,"Darbuotojo vardas pavardė"]
[null,null,"Darbuotojo vardas pavardė"]
[null,null,"Darbuotojo vardas pavardė"]
[null,null,"Darbuotojo vardas pavardė"]
["5.5.6","Pareigybės pavadinimas","Darbuotojo vardas pavardė","val.",null,{"$f":"IFERROR(ROUND(AVERAGE(K102:K106),2),\"0\")","v":"0"},{"$f":"ROUND(E102*F102,2)","v":0},{"$f":"ROUND(G102*$D$7,2)","v":0}]
[null,null,"Darbuotojo vardas pavardė"]
[null,null,"Darbuotojo vardas pavardė"]
[null,null,"Darbuotojo vardas pavardė"]
[null,null,"Darbuotojo vardas pavardė"]
["5.5.7","Pareigybės pavadinimas","Darbuotojo vardas pavardė","val.",null,{"$f":"IFERROR(ROUND(AVERAGE(K107:K111),2),\"0\")","v":"0"},{"$f":"ROUND(E107*F107,2)","v":0},{"$f":"ROUND(G107*$D$7,2)","v":0}]
[null,null,"Darbuotojo vardas pavardė"]
[null,null,"Darbuotojo vardas pavardė"]
[null,null,"Darbuotojo vardas pavardė"]
[null,null,"Darbuotojo vardas pavardė"]
["5.5.8","Pareigybės pavadinimas","Darbuotojo vardas pavardė","val.",null,{"$f":"IFERROR(ROUND(AVERAGE(K112:K116),2),\"0\")","v":"0"},{"$f":"ROUND(E112*F112,2)","v":0},{"$f":"ROUND(G112*$D$7,2)","v":0}]
[null,null,"Darbuotojo vardas pavardė"]
[null,null,"Darbuotojo vardas pavardė"]
[null,null,"Darbuotojo vardas pavardė"]
[null,null,"Darbuotojo vardas pavardė"]
["5.5.9","Pareigybės pavadinimas","Darbuotojo vardas pavardė","val.",null,{"$f":"IFERROR(ROUND(AVERAGE(K117:K121),2),\"0\")","v":"0"},{"$f":"ROUND(E117*F117,2)","v":0},{"$f":"ROUND(G117*$D$7,2)","v":0}]
[null,null,"Darbuotojo vardas pavardė"]
[null,null,"Darbuotojo vardas pavardė"]
[null,null,"Darbuotojo vardas pavardė"]
[null,null,"Darbuotojo vardas pavardė"]
["5.5.10","Pareigybės pavadinimas","Darbuotojo vardas pavardė","val.",null,{"$f":"IFERROR(ROUND(AVERAGE(K122:K126),2),\"0\")","v":"0"},{"$f":"ROUND(E122*F122,2)","v":0},{"$f":"ROUND(G122*$D$7,2)","v":0}]
[null,null,"Darbuotojo vardas pavardė"]
[null,null,"Darbuotojo vardas pavardė"]
[null,null,"Darbuotojo vardas pavardė"]
[null,null,"Darbuotojo vardas pavardė"]
["5.6","Projektą vykdančio personalo komandiruočių išlaidos",null,null,null,null,{"$f":"SUM(G128,G135,G142,G149,G156,G163,G170,G177,G184,G191)","v":0},{"$f":"SUM(H128,H135,H142,H149,H156,H163,H170,H177,H184,H191)","v":0}]
["5.6.1","Komandiruotės pavadinimas, vieta, trukmė dienomis, vykstančių asmenų skaičius","Iš viso komandiruotei",null,null,null,{"$f":"SUM(G129:G134)","v":0},{"$f":"ROUND(G128*$D$7,2)","v":0}]
[null,null,"Dienpinigiai",null,null,null,{"$f":"ROUND(E129*F129,2)","v":0}]
[null,null,"Gyvenamojo ploto nuoma",null,null,null,0]
[null,null,"Kelionės išlaidos",null,null,null,0]
[null,null,"Dalyvavimo mokestis",null,null,null,0]
[null,null,"Kitos išlaidų pavadinimas",null,null,null,0]
[null,null,"Kitos išlaidų pavadinimas",null,null,null,0]
["5.6.2","Komandiruotės pavadinimas, vieta, trukmė dienomis, vykstančių asmenų skaičius","Iš viso komandiruotei",null,null,null,{"$f":"SUM(G136:G141)","v":0},{"$f":"ROUND(G135*$D$7,2)","v":0}]
[null,null,"Dienpinigiai",null,null,null,{"$f":"ROUND(E136*F136,2)","v":0}]
[null,null,"Gyvenamojo ploto nuoma",null,null,null,0]
[null,null,"Kelionės išlaidos",null,null,null,0]
[null,null,"Dalyvavimo mokestis",null,null,null,0]
[null,null,"Kitos išlaidų pavadinimas",null,null,null,0]
[null,null,"Kitos išlaidų pavadinimas",null,null,null,0]
["5.6.3","Komandiruotės pavadinimas, vieta, trukmė dienomis, vykstančių asmenų skaičius","Iš viso komandiruotei",null,null,null,{"$f":"SUM(G143:G148)","v":0},{"$f":"ROUND(G142*$D$7,2)","v":0}]
[null,null,"Dienpinigiai",null,null,null,{"$f":"ROUND(E143*F143,2)","v":0}]
[null,null,"Gyvenamojo ploto nuoma",null,null,null,0]
[null,null,"Kelionės išlaidos",null,null,null,0]
[null,null,"Dalyvavimo mokestis",null,null,null,0]
[null,null,"Kitos išlaidų pavadinimas",null,null,null,0]
[null,null,"Kitos išlaidų pavadinimas",null,null,null,0]
["5.6.4","Komandiruotės pavadinimas, vieta, trukmė dienomis, vykstančių asmenų skaičius","Iš viso komandiruotei",null,null,null,{"$f":"SUM(G150:G155)","v":0},{"$f":"ROUND(G149*$D$7,2)","v":0}]
[null,null,"Dienpinigiai",null,null,null,{"$f":"ROUND(E150*F150,2)","v":0}]
[null,null,"Gyvenamojo ploto nuoma",null,null,null,0]
[null,null,"Kelionės išlaidos",null,null,null,0]
[null,null,"Dalyvavimo mokestis",null,null,null,0]
[null,null,"Kitos išlaidų pavadinimas",null,null,null,0]
[null,null,"Kitos išlaidų pavadinimas",null,null,null,0]
["5.6.5","Komandiruotės pavadinimas, vieta, trukmė dienomis, vykstančių asmenų skaičius","Iš viso komandiruotei",null,null,null,{"$f":"SUM(G157:G162)","v":0},{"$f":"ROUND(G156*$D$7,2)","v":0}]
[null,null,"Dienpinigiai",null,null,null,{"$f":"ROUND(E157*F157,2)","v":0}]
[null,null,"Gyvenamojo ploto nuoma",null,null,null,0]
[null,null,"Kelionės išlaidos",null,null,null,0]
[null,null,"Dalyvavimo mokestis",null,null,null,0]
[null,null,"Kitos išlaidų pavadinimas",null,null,null,0]
[null,null,"Kitos išlaidų pavadinimas",null,null,null,0]
["5.6.6","Komandiruotės pavadinimas, vieta, trukmė dienomis, vykstančių asmenų skaičius","Iš viso komandiruotei",null,null,null,{"$f":"SUM(G164:G169)","v":0},{"$f":"ROUND(G163*$D$7,2)","v":0}]
[null,null,"Dienpinigiai",null,null,null,{"$f":"ROUND(E164*F164,2)","v":0}]
[null,null,"Gyvenamojo ploto nuoma",null,null,null,0]
[null,null,"Kelionės išlaidos",null,null,null,0]
[null,null,"Dalyvavimo mokestis",null,null,null,0]
[null,null,"Kitos išlaidų pavadinimas",null,null,null,0]
[null,null,"Kitos išlaidų pavadinimas",null,null,null,0]
["5.6.7","Komandiruotės pavadinimas, vieta, trukmė dienomis, vykstančių asmenų skaičius","Iš viso komandiruotei",null,null,null,{"$f":"SUM(G171:G176)","v":0},{"$f":"ROUND(G170*$D$7,2)","v":0}]
[null,null,"Dienpinigiai",null,null,null,{"$f":"ROUND(E171*F171,2)","v":0}]
[null,null,"Gyvenamojo ploto nuoma",null,null,null,0]
[null,null,"Kelionės išlaidos",null,null,null,0]
[null,null,"Dalyvavimo mokestis",null,null,null,0]
[null,null,"Kitos išlaidų pavadinimas",null,null,null,0]
[null,null,"Kitos išlaidų pavadinimas",null,null,null,0]
["5.6.8","Komandiruotės pavadinimas, vieta, trukmė dienomis, vykstančių asmenų skaičius","Iš viso komandiruotei",null,null,null,{"$f":"SUM(G178:G183)","v":0},{"$f":"ROUND(G177*$D$7,2)","v":0}]
[null,null,"Dienpinigiai",null,null,null,{"$f":"ROUND(E178*F178,2)","v":0}]
[null,null,"Gyvenamojo ploto nuoma",null,null,null,0]
[null,null,"Kelionės išlaidos",null,null,null,0]
[null,null,"Dalyvavimo mokestis",null,null,null,0]
[null,null,"Kitos išlaidų pavadinimas",null,null,null,0]
[null,null,"Kitos išlaidų pavadinimas",null,null,null,0]
["5.6.9","Komandiruotės pavadinimas, vieta, trukmė dienomis, vykstančių asmenų skaičius","Iš viso komandiruotei",null,null,null,{"$f":"SUM(G185:G190)","v":0},{"$f":"ROUND(G184*$D$7,2)","v":0}]
[null,null,"Dienpinigiai",null,null,null,{"$f":"ROUND(E185*F185,2)","v":0}]
[null,null,"Gyvenamojo ploto nuoma",null,null,null,0]
[null,null,"Kelionės išlaidos",null,null,null,0]
[null,null,"Dalyvavimo mokestis",null,null,null,0]
[null,null,"Kitos išlaidų pavadinimas",null,null,null,0]
[null,null,"Kitos išlaidų pavadinimas",null,null,null,0]
["5.6.10","Komandiruotės pavadinimas, vieta, trukmė dienomis, vykstančių asmenų skaičius","Iš viso komandiruotei",null,null,null,{"$f":"SUM(G192:G197)","v":0},{"$f":"ROUND(G191*$D$7,2)","v":0}]
[null,null,"Dienpinigiai",null,null,null,{"$f":"ROUND(E192*F192,2)","v":0}]
[null,null,"Gyvenamojo ploto nuoma",null,null,null,0]
[null,null,"Kelionės išlaidos",null,null,null,0]
[null,null,"Dalyvavimo mokestis",null,null,null,0]
[null,null,"Kitos išlaidų pavadinimas",null,null,null,0]
[null,null,"Kitos išlaidų pavadinimas",null,null,null,0]
["5.7","Įrangos nuomos išlaidos, veiklai priskirtos pro rata principu. Įranga turi būti tiesiogiai susijusi su projekto įgyvendinimu ir negali būti įsigyta iš ES struktūrinių fondų ar kt. ES finansinių priemonių lėšų",null,null,null,null,{"$f":"SUM(G199:G203)","v":0},{"$f":"SUM(H199:H203)","v":0},null,null,"Faktinės 1 mėnesio išlaidos, Eur","Naudojimo projekte trukmė, mėn."]
["5.7.1","Įrangos pavadinimas",null,"pro rata proc.",null,{"$f":"K199*L199","v":0},0,{"$f":"ROUND(G199*$D$7,2)","v":0}]
["5.7.2","Įrangos pavadinimas",null,"pro rata proc.",null,{"$f":"K200*L200","v":0},0,{"$f":"ROUND(G200*$D$7,2)","v":0}]
["5.7.3","Įrangos pavadinimas",null,"pro rata proc.",null,0,0,0]
["5.7.4","Įrangos pavadinimas",null,"pro rata proc.",null,0,0,0]
["5.7.5","Įrangos pavadinimas",null,"pro rata proc.",null,0,0,0]
["5.8","Pastatų ar patalpų nuomos išlaidos, veiklai priskirtos pro rata principu. Pastatai ar patalpos turi būti tiesiogiai susijusi su projekto įgyvendinimu.",null,null,null,null,{"$f":"SUM(G205:G209)","v":0},{"$f":"SUM(H205:H209)","v":0},null,null,"Faktinės 1 mėnesio išlaidos, Eur","Naudojimo projekte trukmė, mėn."]
["5.8.1","Pastato, patalpų adresas",null,"pro rata proc.",null,{"$f":"K205*L205","v":0},{"$f":"ROUND(E205*F205,2)","v":0},{"$f":"ROUND(G205*$D$7,2)","v":0}]
["5.8.2","Pastato, patalpų adresas",null,"pro rata proc.",null,{"$f":"K206*L206","v":0},0,0]
["5.8.3","Pastato, patalpų adresas",null,"pro rata proc.",null,0,0,0]
["5.8.4","Pastato, patalpų adresas",null,"pro rata proc.",null,0,0,0]
["5.8.5","Pastato, patalpų adresas",null,"pro rata proc.",null,0,0,0]
["Iš viso tinkamų finansuoti išlaidų:",null,null,null,null,null,{"$f":"G10+G21","v":0},{"$f":"H10+H21","v":0}]

{"sheet":"12","index":13,"n_rows":210,"n_cols":19,"rows_kept":210,"cut":false,"hidden":false,"merged":[[206,1,206,2],[207,1,207,2],[208,1,208,2],[209,0,209,5],[197,1,197,5],[198,1,198,2],[199,1,199,2],[200,1,200,2],[201,1,201,2],[202,1,202,2],[203,1,203,5],[204,1,204,2],[205,1,205,2],[176,0,182,0],[176,1,182,1],[176,8,182,8],[183,0,189,0],[183,1,189,1],[183,8,189,8],[190,0,196,0],[190,1,196,1],[190,8,196,8],[155,0,161,0],[155,1,161,1],[155,8,161,8],[162,0,168,0],[162,1,168,1],[162,8,168,8],[169,0,175,0],[169,1,175,1],[169,8,175,8],[134,0,140,0],[134,1,140,1],[134,8,140,8],[141,0,147,0],[141,1,147,1],[141,8,147,8],[148,0,154,0],[148,1,154,1],[148,8,154,8],[127,1,133,1],[121,7,125,7],[121,8,125,8],[126,1,126,5],[121,0,125,0],[121,1,125,1],[121,3,125,3],[121,4,125,4],[121,5,125,5],[121,6,125,6],[127,0,133,0],[127,8,133,8],[111,7,115,7],[111,8,115,8],[116,0,120,0],[116,1,120,1],[116,3,120,3],[116,4,120,4],[116,5,120,5],[116,6,120,6],[116,7,120,7],[116,8,120,8],[111,0,115,0],[111,1,115,1],[111,3,115,3],[111,4,115,4],[111,5,115,5],[111,6,115,6],[101,7,105,7],[101,8,105,8],[106,0,110,0],[106,1,110,1],[106,3,110,3],[106,4,110,4],[106,5,110,5],[106,6,110,6],[106,7,110,7],[106,8,110,8],[101,0,105,0],[101,1,105,1],[101,3,105,3],[101,4,105,4],[101,5,105,5],[101,6,105,6],[96,0,100,0],[96,1,100,1],[96,3,100,3],[96,4,100,4],[96,5,100,5],[96,6,100,6],[96,7,100,7],[96,8,100,8],[91,0,95,0],[91,1,95,1],[91,3,95,3],[91,4,95,4],[91,5,95,5],[91,6,95,6],[86,0,90,0],[86,1,90,1],[86,3,90,3],[86,4,90,4],[86,5,90,5],[86,6,90,6],[86,7,90,7],[86,8,90,8],[91,7,95,7],[91,8,95,8],[76,6,80,6],[76,7,80,7],[76,8,80,8],[81,0,85,0],[81,1,85,1],[81,3,85,3],[81,4,85,4],[81,5,85,5],[81,6,85,6],[81,7,85,7],[81,8,85,8],[74,1,74,2],[75,1,75,5],[76,0,80,0],[76,1,80,1],[76,3,80,3],[76,4,80,4],[76,5,80,5],[68,1,68,2],[69,1,69,2],[70,1,70,2],[71,1,71,2],[72,1,72,2],[73,1,73,2],[62,1,62,2],[63,1,63,2],[64,1,64,2],[65,1,65,2],[66,1,66,2],[67,1,67,2],[56,1,56,2],[57,1,57,2],[58,1,58,2],[59,1,59,5],[60,1,60,2],[61,1,61,2],[50,1,50,2],[51,1,51,2],[52,1,52,2],[53,1,53,2],[54,1,54,2],[55,1,55,2],[44,1,44,2],[45,1,45,2],[46,1,46,2],[47,1,47,2],[48,1,48,2],[49,1,49,2],[38,1,38,2],[39,1,39,2],[40,1,40,2],[41,1,41,2],[42,1,42,2],[43,1,43,5],[32,1,32,5],[33,1,33,2],[34,1,34,2],[35,1,35,2],[36,1,36,2],[37,1,37,2],[26,1,26,2],[27,1,27,2],[28,1,28,2],[29,1,29,2],[30,1,30,2],[31,1,31,2],[20,1,20,5],[21,1,21,5],[22,1,22,2],[23,1,23,2],[24,1,24,2],[25,1,25,2],[16,1,16,2],[17,1,17,2],[18,1,18,2],[19,1,19,2],[8,1,8,2],[9,1,9,5],[10,1,10,2],[11,1,11,2],[12,1,12,2],[13,1,13,2],[0,3,0,8],[2,0,2,2],[2,3,2,8],[3,3,3,4],[3,5,3,6],[4,0,4,2],[4,3,4,8],[14,1,14,2],[15,1,15,2]]}
[null,null,"Pasirinkite veiklos tipą:"]
[null,null,"Fizinio rodiklio Nr.:"]
["Fizinio rodiklio pavadinimas:"]
[null,null,"Fizinio rodiklio matavimo vnt.:",null,null,"Fizinio rodiklio vnt. skaičius:"]
["Juridinis asmuo (pareiškėjas, partneris), atsakingas už fizinį rodiklį:"]
[]
[null,null,"Finansavimo intensyvumas:",null,null,null,"Pasirinkite biudžeto išlaidų kategoriją:"]
[]
["Eil. Nr.","Išlaidų kategorijos pavadinimas",null,"Matavimo vnt.","Kiekis","Vieneto kaina be PVM, Eur","Tinkamų finansuoti išlaidų suma be PVM, Eur","Finansavimo suma, Eur","Išlaidų pagrindimo dokumentų pavadinimas, data ir Nr."]
[4,"ĮRANGA, ĮRENGINIAI IR KT. TURTAS (techninių žinių ir išradimų patentų arba teisių pagal licencijų sutartį įsigijimo išlaidos)",null,null,null,null,{"$f":"SUM(G11:G20)","v":0},{"$f":"SUM(H11:H20)","v":0}]
["4.1","Išlaidų pavadinimas",null,null,null,null,{"$f":"ROUND(E11*F11,2)","v":0},{"$f":"ROUND(G11*$D$7,2)","v":0}]
["4.2","Išlaidų pavadinimas",null,null,null,null,0,0]
["4.3","Išlaidų pavadinimas",null,null,null,null,0,0]
["4.4","Išlaidų pavadinimas",null,null,null,null,0,0]
["4.5","Išlaidų pavadinimas",null,null,null,null,0,0]
["4.6","Išlaidų pavadinimas",null,null,null,null,0,0]
["4.7","Išlaidų pavadinimas",null,null,null,null,0,0]
["4.8","Išlaidų pavadinimas",null,null,null,null,0,0]
["4.9","Išlaidų pavadinimas",null,null,null,null,0,0]
["4.10","Išlaidų pavadinimas",null,null,null,null,0,0]
[5,"PROJEKTO VYKDYMAS",null,null,null,null,{"$f":"G22+G33+G44+G60+G76+G127+G198+G204","v":0},{"$f":"H22+H33+H44+H60+H76+H127+H198+H204","v":0}]
["5.1","MTEP paslaugos",null,null,null,null,{"$f":"SUM(G23:G32)","v":0},{"$f":"SUM(H23:H32)","v":0}]
["5.1.1","Paslaugos pavadinimas",null,null,null,null,{"$f":"ROUND(E23*F23,2)","v":0},0]
["5.1.2","Paslaugos pavadinimas",null,null,null,null,0,0]
["5.1.3","Paslaugos pavadinimas",null,null,null,null,0,0]
["5.1.4","Paslaugos pavadinimas",null,null,null,null,0,0]
["5.1.5","Paslaugos pavadinimas",null,null,null,null,0,0]
["5.1.6","Paslaugos pavadinimas",null,null,null,null,0,0]
["5.1.7","Paslaugos pavadinimas",null,null,null,null,0,0]
["5.1.8","Paslaugos pavadinimas",null,null,null,null,0,0]
["5.1.9","Paslaugos pavadinimas",null,null,null,null,0,0]
["5.1.10","Paslaugos pavadinimas",null,null,null,null,0,0]
["5.2","Konsultavimo ir lygiavertės paslaugos, naudojamos vien tik projekto MTEP veiklai",null,null,null,null,{"$f":"SUM(G34:G43)","v":0},{"$f":"SUM(H34:H43)","v":0}]
["5.2.1","Paslaugos pavadinimas",null,null,null,null,{"$f":"ROUND(E34*F34,2)","v":0},0]
["5.2.2","Paslaugos pavadinimas",null,null,null,null,0,0]
["5.2.3","Paslaugos pavadinimas",null,null,null,null,0,0]
["5.2.4","Paslaugos pavadinimas",null,null,null,null,0,0]
["5.2.5","Paslaugos pavadinimas",null,null,null,null,0,0]
["5.2.6","Paslaugos pavadinimas",null,null,null,null,0,0]
["5.2.7","Paslaugos pavadinimas",null,null,null,null,0,0]
["5.2.8","Paslaugos pavadinimas",null,null,null,null,0,0]
["5.2.9","Paslaugos pavadinimas",null,null,null,null,0,0]
["5.2.10","Paslaugos pavadinimas",null,null,null,null,0,0]
["5.3","Medžiagos, mažavertis inventorius, atsargos ir pan. produktai, priskirtini trumpalaikiam turtui ir tiesiogiai susiję su MTEP veikla",null,null,null,null,{"$f":"SUM(G45:G61)","v":0},{"$f":"SUM(H45:H61)","v":0}]
["5.3.1","Išlaidų pavadinimas",null,null,null,null,{"$f":"ROUND(E45*F45,2)","v":0},{"$f":"ROUND(G45*$D$7,2)","v":0}]
["5.3.2","Išlaidų pavadinimas",null,null,null,null,0,0]
["5.3.3","Išlaidų pavadinimas",null,null,null,null,0,0]
["5.3.4","Išlaidų pavadinimas",null,null,null,null,0,0]
["5.3.5","Išlaidų pavadinimas",null,null,null,null,0,0]
["5.3.6","Išlaidų pavadinimas",null,null,null,null,0,0]
["5.3.7","Išlaidų pavadinimas",null,null,null,null,0,0]
["5.3.8","Išlaidų pavadinimas",null,null,null,null,0,0]
["5.3.9","Išlaidų pavadinimas",null,null,null,null,0,0]
["5.3.10","Išlaidų pavadinimas",null,null,null,null,0,0]
["5.3.11","Išlaidų pavadinimas",null,null,null,null,0,0]
["5.3.12","Išlaidų pavadinimas",null,null,null,null,0,0]
["5.3.13","Išlaidų pavadinimas",null,null,null,null,0,0]
["5.3.14","Išlaidų pavadinimas",null,null,null,null,0,0]
["5.3.15","Išlaidų pavadinimas",null,null,null,null,0,0]
["5.4","Projekto MTEP veikloms naudojamo ilgalaikio materialaus turto (įrangos, prietaisų, įrankių, įrenginių, mašinų ir įrengimų, pastatų ir (ar) patalpų), nusidėvėjimo sąnaudos, jeigu šiam turtui įsigyti nebuvo naudojamos viešosios (įskaitant ir kitų valstybių) lėšos",null,null,null,null,{"$f":"SUM(G61:G75)","v":0},{"$f":"SUM(H61:H75)","v":0},null,null,"Turto įvedimo į eksploataciją data","Turto įsigijimo vertė, Eur","Turto nudėvėjimo, amortizacijos laikotarpis, mėn.","Numatoma turto likutinė vertė, Eur","1 mėn. nudėvėjimo, amortizacijos suma, Eur","Turto naudojamo projekto reikmėms laikas, mėn.","Turto panaudojimo projekto reikmėms dalis (proc.)","Projektui priskirta turto nusidėvėjimo, amortizacijos suma per projekto laikotarpį, Eur"]
["5.4.1","Turtas, kurio nusidėvėjimą, amortizaciją prašoma finansuoti",null,null,1,{"$f":"R61","v":0},{"$f":"ROUND(E61*F61,2)","v":0},0,null,null,null,null,null,null,{"$f":"IFERROR(ROUND((L61-N61)/M61,2),\"0\")","v":"0"},null,null,{"$f":"O61*P61*Q61","v":0},{"$f":"IF(K61=0,\" \",IF(K61+(M61*30.5)<TODAY(),\"DĖMESIO! Patikrinkite, ar nurodytas turtas dar nėra nudėvėtas, amortizuotas\",\" \"))","v":" "}]
["5.4.2","Turtas, kurio nusidėvėjimą, amortizaciją prašoma finansuoti",null,null,1,{"$f":"R62","v":0},0,0,null,null,null,null,null,null,{"$f":"IFERROR(ROUND((L62-N62)/M62,2),\"0\")","v":"0"},null,null,{"$f":"O62*P62*Q62","v":0},{"$f":"IF(K62=0,\" \",IF(K62+(M62*30.5)<TODAY(),\"DĖMESIO! Patikrinkite, ar nurodytas turtas dar nėra nudėvėtas, amortizuotas\",\" \"))","v":" "}]
["5.4.3","Turtas, kurio nusidėvėjimą, amortizaciją prašoma finansuoti",null,null,1,0,0,0,null,null,null,null,null,null,"0",null,null,0," "]
["5.4.4","Turtas, kurio nusidėvėjimą, amortizaciją prašoma finansuoti",null,null,1,0,0,0,null,null,null,null,null,null,"0",null,null,0," "]
["5.4.5","Turtas, kurio nusidėvėjimą, amortizaciją prašoma finansuoti",null,null,1,0,0,0,null,null,null,null,null,null,"0",null,null,0," "]
["5.4.6","Turtas, kurio nusidėvėjimą, amortizaciją prašoma finansuoti",null,null,1,0,0,0,null,null,null,null,null,null,"0",null,null,0," "]
["5.4.7","Turtas, kurio nusidėvėjimą, amortizaciją prašoma finansuoti",null,null,1,0,0,0,null,null,null,null,null,null,"0",null,null,0," "]
["5.4.8","Turtas, kurio nusidėvėjimą, amortizaciją prašoma finansuoti",null,null,1,0,0,0,null,null,null,null,null,null,"0",null,null,0," "]
["5.4.9","Turtas, kurio nusidėvėjimą, amortizaciją prašoma finansuoti",null,null,1,0,0,0,null,null,null,null,null,null,"0",null,null,0," "]
["5.4.10","Turtas, kurio nusidėvėjimą, amortizaciją prašoma finansuoti",null,null,1,0,0,0,null,null,null,null,null,null,"0",null,null,0," "]
["5.4.11","Turtas, kurio nusidėvėjimą, amortizaciją prašoma finansuoti",null,null,1,0,0,0,null,null,null,null,null,null,"0",null,null,0," "]
["5.4.12","Turtas, kurio nusidėvėjimą, amortizaciją prašoma finansuoti",null,null,1,0,0,0,null,null,null,null,null,null,"0",null,null,0," "]
["5.4.13","Turtas, kurio nusidėvėjimą, amortizaciją prašoma finansuoti",null,null,1,0,0,0,null,null,null,null,null,null,"0",null,null,0," "]
["5.4.14","Turtas, kurio nusidėvėjimą, amortizaciją prašoma finansuoti",null,null,1,0,0,0,null,null,null,null,null,null,"0",null,null,0," "]
["5.4.15","Turtas, kurio nusidėvėjimą, amortizaciją prašoma finansuoti",null,null,1,0,0,0,null,null,null,null,null,null,"0",null,null,0," "]
["5.5","Projektą vykdančio personalo darbo užmokestis ir išlaidos su darbo santykiais susijusiems darbdavio įsipareigojimams",null,null,null,null,{"$f":"SUM(G77:G126)","v":0},{"$f":"SUM(H77:H126)","v":0},null,null,"Faktiškai gaunamas darbo užmokesti už 1 valandą pagal  pastarųjų 6 mėn. vidurkį, Eur"]
["5.5.1","Pareigybės pavadinimas","Darbuotojo vardas pavardė","val.",null,{"$f":"IFERROR(ROUND(AVERAGE(K77:K81),2),\"0\")","v":"0"},{"$f":"ROUND(E77*F77,2)","v":0},{"$f":"ROUND(G77*$D$7,2)","v":0}]
[null,null,"Darbuotojo vardas pavardė"]
[null,null,"Darbuotojo vardas pavardė"]
[null,null,"Darbuotojo vardas pavardė"]
[null,null,"Darbuotojo vardas pavardė"]
["5.5.2","Pareigybės pavadinimas","Darbuotojo vardas pavardė","val.",null,{"$f":"IFERROR(ROUND(AVERAGE(K82:K86),2),\"0\")","v":"0"},{"$f":"ROUND(E82*F82,2)","v":0},{"$f":"ROUND(G82*$D$7,2)","v":0}]
[null,null,"Darbuotojo vardas pavardė"]
[null,null,"Darbuotojo vardas pavardė"]
[null,null,"Darbuotojo vardas pavardė"]
[null,null,"Darbuotojo vardas pavardė"]
["5.5.3","Pareigybės pavadinimas","Darbuotojo vardas pavardė","val.",null,{"$f":"IFERROR(ROUND(AVERAGE(K87:K91),2),\"0\")","v":"0"},{"$f":"ROUND(E87*F87,2)","v":0},{"$f":"ROUND(G87*$D$7,2)","v":0}]
[null,null,"Darbuotojo vardas pavardė"]
[null,null,"Darbuotojo vardas pavardė"]
[null,null,"Darbuotojo vardas pavardė"]
[null,null,"Darbuotojo vardas pavardė"]
["5.5.4","Pareigybės pavadinimas","Darbuotojo vardas pavardė","val.",null,{"$f":"IFERROR(ROUND(AVERAGE(K92:K96),2),\"0\")","v":"0"},{"$f":"ROUND(E92*F92,2)","v":0},{"$f":"ROUND(G92*$D$7,2)","v":0}]
[null,null,"Darbuotojo vardas pavardė"]
[null,null,"Darbuotojo vardas pavardė"]
[null,null,"Darbuotojo vardas pavardė"]
[null,null,"Darbuotojo vardas pavardė"]
["5.5.5","Pareigybės pavadinimas","Darbuotojo vardas pavardė","val.",null,{"$f":"IFERROR(ROUND(AVERAGE(K97:K101),2),\"0\")","v":"0"},{"$f":"ROUND(E97*F97,2)","v":0},{"$f":"ROUND(G97*$D$7,2)","v":0}]
[null,null,"Darbuotojo vardas pavardė"]
[null,null,"Darbuotojo vardas pavardė"]
[null,null,"Darbuotojo vardas pavardė"]
[null,null,"Darbuotojo vardas pavardė"]
["5.5.6","Pareigybės pavadinimas","Darbuotojo vardas pavardė","val.",null,{"$f":"IFERROR(ROUND(AVERAGE(K102:K106),2),\"0\")","v":"0"},{"$f":"ROUND(E102*F102,2)","v":0},{"$f":"ROUND(G102*$D$7,2)","v":0}]
[null,null,"Darbuotojo vardas pavardė"]
[null,null,"Darbuotojo vardas pavardė"]
[null,null,"Darbuotojo vardas pavardė"]
[null,null,"Darbuotojo vardas pavardė"]
["5.5.7","Pareigybės pavadinimas","Darbuotojo vardas pavardė","val.",null,{"$f":"IFERROR(ROUND(AVERAGE(K107:K111),2),\"0\")","v":"0"},{"$f":"ROUND(E107*F107,2)","v":0},{"$f":"ROUND(G107*$D$7,2)","v":0}]
[null,null,"Darbuotojo vardas pavardė"]
[null,null,"Darbuotojo vardas pavardė"]
[null,null,"Darbuotojo vardas pavardė"]
[null,null,"Darbuotojo vardas pavardė"]
["5.5.8","Pareigybės pavadinimas","Darbuotojo vardas pavardė","val.",null,{"$f":"IFERROR(ROUND(AVERAGE(K112:K116),2),\"0\")","v":"0"},{"$f":"ROUND(E112*F112,2)","v":0},{"$f":"ROUND(G112*$D$7,2)","v":0}]
[null,null,"Darbuotojo vardas pavardė"]
[null,null,"Darbuotojo vardas pavardė"]
[null,null,"Darbuotojo vardas pavardė"]
[null,null,"Darbuotojo vardas pavardė"]
["5.5.9","Pareigybės pavadinimas","Darbuotojo vardas pavardė","val.",null,{"$f":"IFERROR(ROUND(AVERAGE(K117:K121),2),\"0\")","v":"0"},{"$f":"ROUND(E117*F117,2)","v":0},{"$f":"ROUND(G117*$D$7,2)","v":0}]
[null,null,"Darbuotojo vardas pavardė"]
[null,null,"Darbuotojo vardas pavardė"]
[null,null,"Darbuotojo vardas pavardė"]
[null,null,"Darbuotojo vardas pavardė"]
["5.5.10","Pareigybės pavadinimas","Darbuotojo vardas pavardė","val.",null,{"$f":"IFERROR(ROUND(AVERAGE(K122:K126),2),\"0\")","v":"0"},{"$f":"ROUND(E122*F122,2)","v":0},{"$f":"ROUND(G122*$D$7,2)","v":0}]
[null,null,"Darbuotojo vardas pavardė"]
[null,null,"Darbuotojo vardas pavardė"]
[null,null,"Darbuotojo vardas pavardė"]
[null,null,"Darbuotojo vardas pavardė"]
["5.6","Projektą vykdančio personalo komandiruočių išlaidos",null,null,null,null,{"$f":"SUM(G128,G135,G142,G149,G156,G163,G170,G177,G184,G191)","v":0},{"$f":"SUM(H128,H135,H142,H149,H156,H163,H170,H177,H184,H191)","v":0}]
["5.6.1","Komandiruotės pavadinimas, vieta, trukmė dienomis, vykstančių asmenų skaičius","Iš viso komandiruotei",null,null,null,{"$f":"SUM(G129:G134)","v":0},{"$f":"ROUND(G128*$D$7,2)","v":0}]
[null,null,"Dienpinigiai",null,null,null,{"$f":"ROUND(E129*F129,2)","v":0}]
[null,null,"Gyvenamojo ploto nuoma",null,null,null,0]
[null,null,"Kelionės išlaidos",null,null,null,0]
[null,null,"Dalyvavimo mokestis",null,null,null,0]
[null,null,"Kitos išlaidų pavadinimas",null,null,null,0]
[null,null,"Kitos išlaidų pavadinimas",null,null,null,0]
["5.6.2","Komandiruotės pavadinimas, vieta, trukmė dienomis, vykstančių asmenų skaičius","Iš viso komandiruotei",null,null,null,{"$f":"SUM(G136:G141)","v":0},{"$f":"ROUND(G135*$D$7,2)","v":0}]
[null,null,"Dienpinigiai",null,null,null,{"$f":"ROUND(E136*F136,2)","v":0}]
[null,null,"Gyvenamojo ploto nuoma",null,null,null,0]
[null,null,"Kelionės išlaidos",null,null,null,0]
[null,null,"Dalyvavimo mokestis",null,null,null,0]
[null,null,"Kitos išlaidų pavadinimas",null,null,null,0]
[null,null,"Kitos išlaidų pavadinimas",null,null,null,0]
["5.6.3","Komandiruotės pavadinimas, vieta, trukmė dienomis, vykstančių asmenų skaičius","Iš viso komandiruotei",null,null,null,{"$f":"SUM(G143:G148)","v":0},{"$f":"ROUND(G142*$D$7,2)","v":0}]
[null,null,"Dienpinigiai",null,null,null,{"$f":"ROUND(E143*F143,2)","v":0}]
[null,null,"Gyvenamojo ploto nuoma",null,null,null,0]
[null,null,"Kelionės išlaidos",null,null,null,0]
[null,null,"Dalyvavimo mokestis",null,null,null,0]
[null,null,"Kitos išlaidų pavadinimas",null,null,null,0]
[null,null,"Kitos išlaidų pavadinimas",null,null,null,0]
["5.6.4","Komandiruotės pavadinimas, vieta, trukmė dienomis, vykstančių asmenų skaičius","Iš viso komandiruotei",null,null,null,{"$f":"SUM(G150:G155)","v":0},{"$f":"ROUND(G149*$D$7,2)","v":0}]
[null,null,"Dienpinigiai",null,null,null,{"$f":"ROUND(E150*F150,2)","v":0}]
[null,null,"Gyvenamojo ploto nuoma",null,null,null,0]
[null,null,"Kelionės išlaidos",null,null,null,0]
[null,null,"Dalyvavimo mokestis",null,null,null,0]
[null,null,"Kitos išlaidų pavadinimas",null,null,null,0]
[null,null,"Kitos išlaidų pavadinimas",null,null,null,0]
["5.6.5","Komandiruotės pavadinimas, vieta, trukmė dienomis, vykstančių asmenų skaičius","Iš viso komandiruotei",null,null,null,{"$f":"SUM(G157:G162)","v":0},{"$f":"ROUND(G156*$D$7,2)","v":0}]
[null,null,"Dienpinigiai",null,null,null,{"$f":"ROUND(E157*F157,2)","v":0}]
[null,null,"Gyvenamojo ploto nuoma",null,null,null,0]
[null,null,"Kelionės išlaidos",null,null,null,0]
[null,null,"Dalyvavimo mokestis",null,null,null,0]
[null,null,"Kitos išlaidų pavadinimas",null,null,null,0]
[null,null,"Kitos išlaidų pavadinimas",null,null,null,0]
["5.6.6","Komandiruotės pavadinimas, vieta, trukmė dienomis, vykstančių asmenų skaičius","Iš viso komandiruotei",null,null,null,{"$f":"SUM(G164:G169)","v":0},{"$f":"ROUND(G163*$D$7,2)","v":0}]
[null,null,"Dienpinigiai",null,null,null,{"$f":"ROUND(E164*F164,2)","v":0}]
[null,null,"Gyvenamojo ploto nuoma",null,null,null,0]
[null,null,"Kelionės išlaidos",null,null,null,0]
[null,null,"Dalyvavimo mokestis",null,null,null,0]
[null,null,"Kitos išlaidų pavadinimas",null,null,null,0]
[null,null,"Kitos išlaidų pavadinimas",null,null,null,0]
["5.6.7","Komandiruotės pavadinimas, vieta, trukmė dienomis, vykstančių asmenų skaičius","Iš viso komandiruotei",null,null,null,{"$f":"SUM(G171:G176)","v":0},{"$f":"ROUND(G170*$D$7,2)","v":0}]
[null,null,"Dienpinigiai",null,null,null,{"$f":"ROUND(E171*F171,2)","v":0}]
[null,null,"Gyvenamojo ploto nuoma",null,null,null,0]
[null,null,"Kelionės išlaidos",null,null,null,0]
[null,null,"Dalyvavimo mokestis",null,null,null,0]
[null,null,"Kitos išlaidų pavadinimas",null,null,null,0]
[null,null,"Kitos išlaidų pavadinimas",null,null,null,0]
["5.6.8","Komandiruotės pavadinimas, vieta, trukmė dienomis, vykstančių asmenų skaičius","Iš viso komandiruotei",null,null,null,{"$f":"SUM(G178:G183)","v":0},{"$f":"ROUND(G177*$D$7,2)","v":0}]
[null,null,"Dienpinigiai",null,null,null,{"$f":"ROUND(E178*F178,2)","v":0}]
[null,null,"Gyvenamojo ploto nuoma",null,null,null,0]
[null,null,"Kelionės išlaidos",null,null,null,0]
[null,null,"Dalyvavimo mokestis",null,null,null,0]
[null,null,"Kitos išlaidų pavadinimas",null,null,null,0]
[null,null,"Kitos išlaidų pavadinimas",null,null,null,0]
["5.6.9","Komandiruotės pavadinimas, vieta, trukmė dienomis, vykstančių asmenų skaičius","Iš viso komandiruotei",null,null,null,{"$f":"SUM(G185:G190)","v":0},{"$f":"ROUND(G184*$D$7,2)","v":0}]
[null,null,"Dienpinigiai",null,null,null,{"$f":"ROUND(E185*F185,2)","v":0}]
[null,null,"Gyvenamojo ploto nuoma",null,null,null,0]
[null,null,"Kelionės išlaidos",null,null,null,0]
[null,null,"Dalyvavimo mokestis",null,null,null,0]
[null,null,"Kitos išlaidų pavadinimas",null,null,null,0]
[null,null,"Kitos išlaidų pavadinimas",null,null,null,0]
["5.6.10","Komandiruotės pavadinimas, vieta, trukmė dienomis, vykstančių asmenų skaičius","Iš viso komandiruotei",null,null,null,{"$f":"SUM(G192:G197)","v":0},{"$f":"ROUND(G191*$D$7,2)","v":0}]
[null,null,"Dienpinigiai",null,null,null,{"$f":"ROUND(E192*F192,2)","v":0}]
[null,null,"Gyvenamojo ploto nuoma",null,null,null,0]
[null,null,"Kelionės išlaidos",null,null,null,0]
[null,null,"Dalyvavimo mokestis",null,null,null,0]
[null,null,"Kitos išlaidų pavadinimas",null,null,null,0]
[null,null,"Kitos išlaidų pavadinimas",null,null,null,0]
["5.7","Įrangos nuomos išlaidos, veiklai priskirtos pro rata principu. Įranga turi būti tiesiogiai susijusi su projekto įgyvendinimu ir negali būti įsigyta iš ES struktūrinių fondų ar kt. ES finansinių priemonių lėšų",null,null,null,null,{"$f":"SUM(G199:G203)","v":0},{"$f":"SUM(H199:H203)","v":0},null,null,"Faktinės 1 mėnesio išlaidos, Eur","Naudojimo projekte trukmė, mėn."]
["5.7.1","Įrangos pavadinimas",null,"pro rata proc.",null,{"$f":"K199*L199","v":0},0,{"$f":"ROUND(G199*$D$7,2)","v":0}]
["5.7.2","Įrangos pavadinimas",null,"pro rata proc.",null,{"$f":"K200*L200","v":0},0,{"$f":"ROUND(G200*$D$7,2)","v":0}]
["5.7.3","Įrangos pavadinimas",null,"pro rata proc.",null,0,0,0]
["5.7.4","Įrangos pavadinimas",null,"pro rata proc.",null,0,0,0]
["5.7.5","Įrangos pavadinimas",null,"pro rata proc.",null,0,0,0]
["5.8","Pastatų ar patalpų nuomos išlaidos, veiklai priskirtos pro rata principu. Pastatai ar patalpos turi būti tiesiogiai susijusi su projekto įgyvendinimu.",null,null,null,null,{"$f":"SUM(G205:G209)","v":0},{"$f":"SUM(H205:H209)","v":0},null,null,"Faktinės 1 mėnesio išlaidos, Eur","Naudojimo projekte trukmė, mėn."]
["5.8.1","Pastato, patalpų adresas",null,"pro rata proc.",null,{"$f":"K205*L205","v":0},{"$f":"ROUND(E205*F205,2)","v":0},{"$f":"ROUND(G205*$D$7,2)","v":0}]
["5.8.2","Pastato, patalpų adresas",null,"pro rata proc.",null,{"$f":"K206*L206","v":0},0,0]
["5.8.3","Pastato, patalpų adresas",null,"pro rata proc.",null,0,0,0]
["5.8.4","Pastato, patalpų adresas",null,"pro rata proc.",null,0,0,0]
["5.8.5","Pastato, patalpų adresas",null,"pro rata proc.",null,0,0,0]
["Iš viso tinkamų finansuoti išlaidų:",null,null,null,null,null,{"$f":"G10+G21","v":0},{"$f":"H10+H21","v":0}]

{"sheet":"13","index":14,"n_rows":210,"n_cols":19,"rows_kept":210,"cut":false,"hidden":false,"merged":[[206,1,206,2],[207,1,207,2],[208,1,208,2],[209,0,209,5],[197,1,197,5],[198,1,198,2],[199,1,199,2],[200,1,200,2],[201,1,201,2],[202,1,202,2],[203,1,203,5],[204,1,204,2],[205,1,205,2],[176,0,182,0],[176,1,182,1],[176,8,182,8],[183,0,189,0],[183,1,189,1],[183,8,189,8],[190,0,196,0],[190,1,196,1],[190,8,196,8],[155,0,161,0],[155,1,161,1],[155,8,161,8],[162,0,168,0],[162,1,168,1],[162,8,168,8],[169,0,175,0],[169,1,175,1],[169,8,175,8],[134,0,140,0],[134,1,140,1],[134,8,140,8],[141,0,147,0],[141,1,147,1],[141,8,147,8],[148,0,154,0],[148,1,154,1],[148,8,154,8],[127,1,133,1],[121,7,125,7],[121,8,125,8],[126,1,126,5],[121,0,125,0],[121,1,125,1],[121,3,125,3],[121,4,125,4],[121,5,125,5],[121,6,125,6],[127,0,133,0],[127,8,133,8],[111,7,115,7],[111,8,115,8],[116,0,120,0],[116,1,120,1],[116,3,120,3],[116,4,120,4],[116,5,120,5],[116,6,120,6],[116,7,120,7],[116,8,120,8],[111,0,115,0],[111,1,115,1],[111,3,115,3],[111,4,115,4],[111,5,115,5],[111,6,115,6],[101,7,105,7],[101,8,105,8],[106,0,110,0],[106,1,110,1],[106,3,110,3],[106,4,110,4],[106,5,110,5],[106,6,110,6],[106,7,110,7],[106,8,110,8],[101,0,105,0],[101,1,105,1],[101,3,105,3],[101,4,105,4],[101,5,105,5],[101,6,105,6],[96,0,100,0],[96,1,100,1],[96,3,100,3],[96,4,100,4],[96,5,100,5],[96,6,100,6],[96,7,100,7],[96,8,100,8],[91,0,95,0],[91,1,95,1],[91,3,95,3],[91,4,95,4],[91,5,95,5],[91,6,95,6],[86,0,90,0],[86,1,90,1],[86,3,90,3],[86,4,90,4],[86,5,90,5],[86,6,90,6],[86,7,90,7],[86,8,90,8],[91,7,95,7],[91,8,95,8],[76,6,80,6],[76,7,80,7],[76,8,80,8],[81,0,85,0],[81,1,85,1],[81,3,85,3],[81,4,85,4],[81,5,85,5],[81,6,85,6],[81,7,85,7],[81,8,85,8],[74,1,74,2],[75,1,75,5],[76,0,80,0],[76,1,80,1],[76,3,80,3],[76,4,80,4],[76,5,80,5],[68,1,68,2],[69,1,69,2],[70,1,70,2],[71,1,71,2],[72,1,72,2],[73,1,73,2],[62,1,62,2],[63,1,63,2],[64,1,64,2],[65,1,65,2],[66,1,66,2],[67,1,67,2],[56,1,56,2],[57,1,57,2],[58,1,58,2],[59,1,59,5],[60,1,60,2],[61,1,61,2],[50,1,50,2],[51,1,51,2],[52,1,52,2],[53,1,53,2],[54,1,54,2],[55,1,55,2],[44,1,44,2],[45,1,45,2],[46,1,46,2],[47,1,47,2],[48,1,48,2],[49,1,49,2],[38,1,38,2],[39,1,39,2],[40,1,40,2],[41,1,41,2],[42,1,42,2],[43,1,43,5],[32,1,32,5],[33,1,33,2],[34,1,34,2],[35,1,35,2],[36,1,36,2],[37,1,37,2],[26,1,26,2],[27,1,27,2],[28,1,28,2],[29,1,29,2],[30,1,30,2],[31,1,31,2],[20,1,20,5],[21,1,21,5],[22,1,22,2],[23,1,23,2],[24,1,24,2],[25,1,25,2],[16,1,16,2],[17,1,17,2],[18,1,18,2],[19,1,19,2],[8,1,8,2],[9,1,9,5],[10,1,10,2],[11,1,11,2],[12,1,12,2],[13,1,13,2],[0,3,0,8],[2,0,2,2],[2,3,2,8],[3,3,3,4],[3,5,3,6],[4,0,4,2],[4,3,4,8],[14,1,14,2],[15,1,15,2]]}
[null,null,"Pasirinkite veiklos tipą:"]
[null,null,"Fizinio rodiklio Nr.:"]
["Fizinio rodiklio pavadinimas:"]
[null,null,"Fizinio rodiklio matavimo vnt.:",null,null,"Fizinio rodiklio vnt. skaičius:"]
["Juridinis asmuo (pareiškėjas, partneris), atsakingas už fizinį rodiklį:"]
[]
[null,null,"Finansavimo intensyvumas:",null,null,null,"Pasirinkite biudžeto išlaidų kategoriją:"]
[]
["Eil. Nr.","Išlaidų kategorijos pavadinimas",null,"Matavimo vnt.","Kiekis","Vieneto kaina be PVM, Eur","Tinkamų finansuoti išlaidų suma be PVM, Eur","Finansavimo suma, Eur","Išlaidų pagrindimo dokumentų pavadinimas, data ir Nr."]
[4,"ĮRANGA, ĮRENGINIAI IR KT. TURTAS (techninių žinių ir išradimų patentų arba teisių pagal licencijų sutartį įsigijimo išlaidos)",null,null,null,null,{"$f":"SUM(G11:G20)","v":0},{"$f":"SUM(H11:H20)","v":0}]
["4.1","Išlaidų pavadinimas",null,null,null,null,{"$f":"ROUND(E11*F11,2)","v":0},{"$f":"ROUND(G11*$D$7,2)","v":0}]
["4.2","Išlaidų pavadinimas",null,null,null,null,0,0]
["4.3","Išlaidų pavadinimas",null,null,null,null,0,0]
["4.4","Išlaidų pavadinimas",null,null,null,null,0,0]
["4.5","Išlaidų pavadinimas",null,null,null,null,0,0]
["4.6","Išlaidų pavadinimas",null,null,null,null,0,0]
["4.7","Išlaidų pavadinimas",null,null,null,null,0,0]
["4.8","Išlaidų pavadinimas",null,null,null,null,0,0]
["4.9","Išlaidų pavadinimas",null,null,null,null,0,0]
["4.10","Išlaidų pavadinimas",null,null,null,null,0,0]
[5,"PROJEKTO VYKDYMAS",null,null,null,null,{"$f":"G22+G33+G44+G60+G76+G127+G198+G204","v":0},{"$f":"H22+H33+H44+H60+H76+H127+H198+H204","v":0}]
["5.1","MTEP paslaugos",null,null,null,null,{"$f":"SUM(G23:G32)","v":0},{"$f":"SUM(H23:H32)","v":0}]
["5.1.1","Paslaugos pavadinimas",null,null,null,null,{"$f":"ROUND(E23*F23,2)","v":0},0]
["5.1.2","Paslaugos pavadinimas",null,null,null,null,0,0]
["5.1.3","Paslaugos pavadinimas",null,null,null,null,0,0]
["5.1.4","Paslaugos pavadinimas",null,null,null,null,0,0]
["5.1.5","Paslaugos pavadinimas",null,null,null,null,0,0]
["5.1.6","Paslaugos pavadinimas",null,null,null,null,0,0]
["5.1.7","Paslaugos pavadinimas",null,null,null,null,0,0]
["5.1.8","Paslaugos pavadinimas",null,null,null,null,0,0]
["5.1.9","Paslaugos pavadinimas",null,null,null,null,0,0]
["5.1.10","Paslaugos pavadinimas",null,null,null,null,0,0]
["5.2","Konsultavimo ir lygiavertės paslaugos, naudojamos vien tik projekto MTEP veiklai",null,null,null,null,{"$f":"SUM(G34:G43)","v":0},{"$f":"SUM(H34:H43)","v":0}]
["5.2.1","Paslaugos pavadinimas",null,null,null,null,{"$f":"ROUND(E34*F34,2)","v":0},0]
["5.2.2","Paslaugos pavadinimas",null,null,null,null,0,0]
["5.2.3","Paslaugos pavadinimas",null,null,null,null,0,0]
["5.2.4","Paslaugos pavadinimas",null,null,null,null,0,0]
["5.2.5","Paslaugos pavadinimas",null,null,null,null,0,0]
["5.2.6","Paslaugos pavadinimas",null,null,null,null,0,0]
["5.2.7","Paslaugos pavadinimas",null,null,null,null,0,0]
["5.2.8","Paslaugos pavadinimas",null,null,null,null,0,0]
["5.2.9","Paslaugos pavadinimas",null,null,null,null,0,0]
["5.2.10","Paslaugos pavadinimas",null,null,null,null,0,0]
["5.3","Medžiagos, mažavertis inventorius, atsargos ir pan. produktai, priskirtini trumpalaikiam turtui ir tiesiogiai susiję su MTEP veikla",null,null,null,null,{"$f":"SUM(G45:G61)","v":0},{"$f":"SUM(H45:H61)","v":0}]
["5.3.1","Išlaidų pavadinimas",null,null,null,null,{"$f":"ROUND(E45*F45,2)","v":0},{"$f":"ROUND(G45*$D$7,2)","v":0}]
["5.3.2","Išlaidų pavadinimas",null,null,null,null,0,0]
["5.3.3","Išlaidų pavadinimas",null,null,null,null,0,0]
["5.3.4","Išlaidų pavadinimas",null,null,null,null,0,0]
["5.3.5","Išlaidų pavadinimas",null,null,null,null,0,0]
["5.3.6","Išlaidų pavadinimas",null,null,null,null,0,0]
["5.3.7","Išlaidų pavadinimas",null,null,null,null,0,0]
["5.3.8","Išlaidų pavadinimas",null,null,null,null,0,0]
["5.3.9","Išlaidų pavadinimas",null,null,null,null,0,0]
["5.3.10","Išlaidų pavadinimas",null,null,null,null,0,0]
["5.3.11","Išlaidų pavadinimas",null,null,null,null,0,0]
["5.3.12","Išlaidų pavadinimas",null,null,null,null,0,0]
["5.3.13","Išlaidų pavadinimas",null,null,null,null,0,0]
["5.3.14","Išlaidų pavadinimas",null,null,null,null,0,0]
["5.3.15","Išlaidų pavadinimas",null,null,null,null,0,0]
["5.4","Projekto MTEP veikloms naudojamo ilgalaikio materialaus turto (įrangos, prietaisų, įrankių, įrenginių, mašinų ir įrengimų, pastatų ir (ar) patalpų), nusidėvėjimo sąnaudos, jeigu šiam turtui įsigyti nebuvo naudojamos viešosios (įskaitant ir kitų valstybių) lėšos",null,null,null,null,{"$f":"SUM(G61:G75)","v":0},{"$f":"SUM(H61:H75)","v":0},null,null,"Turto įvedimo į eksploataciją data","Turto įsigijimo vertė, Eur","Turto nudėvėjimo, amortizacijos laikotarpis, mėn.","Numatoma turto likutinė vertė, Eur","1 mėn. nudėvėjimo, amortizacijos suma, Eur","Turto naudojamo projekto reikmėms laikas, mėn.","Turto panaudojimo projekto reikmėms dalis (proc.)","Projektui priskirta turto nusidėvėjimo, amortizacijos suma per projekto laikotarpį, Eur"]
["5.4.1","Turtas, kurio nusidėvėjimą, amortizaciją prašoma finansuoti",null,null,1,{"$f":"R61","v":0},{"$f":"ROUND(E61*F61,2)","v":0},0,null,null,null,null,null,null,{"$f":"IFERROR(ROUND((L61-N61)/M61,2),\"0\")","v":"0"},null,null,{"$f":"O61*P61*Q61","v":0},{"$f":"IF(K61=0,\" \",IF(K61+(M61*30.5)<TODAY(),\"DĖMESIO! Patikrinkite, ar nurodytas turtas dar nėra nudėvėtas, amortizuotas\",\" \"))","v":" "}]
["5.4.2","Turtas, kurio nusidėvėjimą, amortizaciją prašoma finansuoti",null,null,1,{"$f":"R62","v":0},0,0,null,null,null,null,null,null,{"$f":"IFERROR(ROUND((L62-N62)/M62,2),\"0\")","v":"0"},null,null,{"$f":"O62*P62*Q62","v":0},{"$f":"IF(K62=0,\" \",IF(K62+(M62*30.5)<TODAY(),\"DĖMESIO! Patikrinkite, ar nurodytas turtas dar nėra nudėvėtas, amortizuotas\",\" \"))","v":" "}]
["5.4.3","Turtas, kurio nusidėvėjimą, amortizaciją prašoma finansuoti",null,null,1,0,0,0,null,null,null,null,null,null,"0",null,null,0," "]
["5.4.4","Turtas, kurio nusidėvėjimą, amortizaciją prašoma finansuoti",null,null,1,0,0,0,null,null,null,null,null,null,"0",null,null,0," "]
["5.4.5","Turtas, kurio nusidėvėjimą, amortizaciją prašoma finansuoti",null,null,1,0,0,0,null,null,null,null,null,null,"0",null,null,0," "]
["5.4.6","Turtas, kurio nusidėvėjimą, amortizaciją prašoma finansuoti",null,null,1,0,0,0,null,null,null,null,null,null,"0",null,null,0," "]
["5.4.7","Turtas, kurio nusidėvėjimą, amortizaciją prašoma finansuoti",null,null,1,0,0,0,null,null,null,null,null,null,"0",null,null,0," "]
["5.4.8","Turtas, kurio nusidėvėjimą, amortizaciją prašoma finansuoti",null,null,1,0,0,0,null,null,null,null,null,null,"0",null,null,0," "]
["5.4.9","Turtas, kurio nusidėvėjimą, amortizaciją prašoma finansuoti",null,null,1,0,0,0,null,null,null,null,null,null,"0",null,null,0," "]
["5.4.10","Turtas, kurio nusidėvėjimą, amortizaciją prašoma finansuoti",null,null,1,0,0,0,null,null,null,null,null,null,"0",null,null,0," "]
["5.4.11","Turtas, kurio nusidėvėjimą, amortizaciją prašoma finansuoti",null,null,1,0,0,0,null,null,null,null,null,null,"0",null,null,0," "]
["5.4.12","Turtas, kurio nusidėvėjimą, amortizaciją prašoma finansuoti",null,null,1,0,0,0,null,null,null,null,null,null,"0",null,null,0," "]
["5.4.13","Turtas, kurio nusidėvėjimą, amortizaciją prašoma finansuoti",null,null,1,0,0,0,null,null,null,null,null,null,"0",null,null,0," "]
["5.4.14","Turtas, kurio nusidėvėjimą, amortizaciją prašoma finansuoti",null,null,1,0,0,0,null,null,null,null,null,null,"0",null,null,0," "]
["5.4.15","Turtas, kurio nusidėvėjimą, amortizaciją prašoma finansuoti",null,null,1,0,0,0,null,null,null,null,null,null,"0",null,null,0," "]
["5.5","Projektą vykdančio personalo darbo užmokestis ir išlaidos su darbo santykiais susijusiems darbdavio įsipareigojimams",null,null,null,null,{"$f":"SUM(G77:G126)","v":0},{"$f":"SUM(H77:H126)","v":0},null,null,"Faktiškai gaunamas darbo užmokesti už 1 valandą pagal  pastarųjų 6 mėn. vidurkį, Eur"]
["5.5.1","Pareigybės pavadinimas","Darbuotojo vardas pavardė","val.",null,{"$f":"IFERROR(ROUND(AVERAGE(K77:K81),2),\"0\")","v":"0"},{"$f":"ROUND(E77*F77,2)","v":0},{"$f":"ROUND(G77*$D$7,2)","v":0}]
[null,null,"Darbuotojo vardas pavardė"]
[null,null,"Darbuotojo vardas pavardė"]
[null,null,"Darbuotojo vardas pavardė"]
[null,null,"Darbuotojo vardas pavardė"]
["5.5.2","Pareigybės pavadinimas","Darbuotojo vardas pavardė","val.",null,{"$f":"IFERROR(ROUND(AVERAGE(K82:K86),2),\"0\")","v":"0"},{"$f":"ROUND(E82*F82,2)","v":0},{"$f":"ROUND(G82*$D$7,2)","v":0}]
[null,null,"Darbuotojo vardas pavardė"]
[null,null,"Darbuotojo vardas pavardė"]
[null,null,"Darbuotojo vardas pavardė"]
[null,null,"Darbuotojo vardas pavardė"]
["5.5.3","Pareigybės pavadinimas","Darbuotojo vardas pavardė","val.",null,{"$f":"IFERROR(ROUND(AVERAGE(K87:K91),2),\"0\")","v":"0"},{"$f":"ROUND(E87*F87,2)","v":0},{"$f":"ROUND(G87*$D$7,2)","v":0}]
[null,null,"Darbuotojo vardas pavardė"]
[null,null,"Darbuotojo vardas pavardė"]
[null,null,"Darbuotojo vardas pavardė"]
[null,null,"Darbuotojo vardas pavardė"]
["5.5.4","Pareigybės pavadinimas","Darbuotojo vardas pavardė","val.",null,{"$f":"IFERROR(ROUND(AVERAGE(K92:K96),2),\"0\")","v":"0"},{"$f":"ROUND(E92*F92,2)","v":0},{"$f":"ROUND(G92*$D$7,2)","v":0}]
[null,null,"Darbuotojo vardas pavardė"]
[null,null,"Darbuotojo vardas pavardė"]
[null,null,"Darbuotojo vardas pavardė"]
[null,null,"Darbuotojo vardas pavardė"]
["5.5.5","Pareigybės pavadinimas","Darbuotojo vardas pavardė","val.",null,{"$f":"IFERROR(ROUND(AVERAGE(K97:K101),2),\"0\")","v":"0"},{"$f":"ROUND(E97*F97,2)","v":0},{"$f":"ROUND(G97*$D$7,2)","v":0}]
[null,null,"Darbuotojo vardas pavardė"]
[null,null,"Darbuotojo vardas pavardė"]
[null,null,"Darbuotojo vardas pavardė"]
[null,null,"Darbuotojo vardas pavardė"]
["5.5.6","Pareigybės pavadinimas","Darbuotojo vardas pavardė","val.",null,{"$f":"IFERROR(ROUND(AVERAGE(K102:K106),2),\"0\")","v":"0"},{"$f":"ROUND(E102*F102,2)","v":0},{"$f":"ROUND(G102*$D$7,2)","v":0}]
[null,null,"Darbuotojo vardas pavardė"]
[null,null,"Darbuotojo vardas pavardė"]
[null,null,"Darbuotojo vardas pavardė"]
[null,null,"Darbuotojo vardas pavardė"]
["5.5.7","Pareigybės pavadinimas","Darbuotojo vardas pavardė","val.",null,{"$f":"IFERROR(ROUND(AVERAGE(K107:K111),2),\"0\")","v":"0"},{"$f":"ROUND(E107*F107,2)","v":0},{"$f":"ROUND(G107*$D$7,2)","v":0}]
[null,null,"Darbuotojo vardas pavardė"]
[null,null,"Darbuotojo vardas pavardė"]
[null,null,"Darbuotojo vardas pavardė"]
[null,null,"Darbuotojo vardas pavardė"]
["5.5.8","Pareigybės pavadinimas","Darbuotojo vardas pavardė","val.",null,{"$f":"IFERROR(ROUND(AVERAGE(K112:K116),2),\"0\")","v":"0"},{"$f":"ROUND(E112*F112,2)","v":0},{"$f":"ROUND(G112*$D$7,2)","v":0}]
[null,null,"Darbuotojo vardas pavardė"]
[null,null,"Darbuotojo vardas pavardė"]
[null,null,"Darbuotojo vardas pavardė"]
[null,null,"Darbuotojo vardas pavardė"]
["5.5.9","Pareigybės pavadinimas","Darbuotojo vardas pavardė","val.",null,{"$f":"IFERROR(ROUND(AVERAGE(K117:K121),2),\"0\")","v":"0"},{"$f":"ROUND(E117*F117,2)","v":0},{"$f":"ROUND(G117*$D$7,2)","v":0}]
[null,null,"Darbuotojo vardas pavardė"]
[null,null,"Darbuotojo vardas pavardė"]
[null,null,"Darbuotojo vardas pavardė"]
[null,null,"Darbuotojo vardas pavardė"]
["5.5.10","Pareigybės pavadinimas","Darbuotojo vardas pavardė","val.",null,{"$f":"IFERROR(ROUND(AVERAGE(K122:K126),2),\"0\")","v":"0"},{"$f":"ROUND(E122*F122,2)","v":0},{"$f":"ROUND(G122*$D$7,2)","v":0}]
[null,null,"Darbuotojo vardas pavardė"]
[null,null,"Darbuotojo vardas pavardė"]
[null,null,"Darbuotojo vardas pavardė"]
[null,null,"Darbuotojo vardas pavardė"]
["5.6","Projektą vykdančio personalo komandiruočių išlaidos",null,null,null,null,{"$f":"SUM(G128,G135,G142,G149,G156,G163,G170,G177,G184,G191)","v":0},{"$f":"SUM(H128,H135,H142,H149,H156,H163,H170,H177,H184,H191)","v":0}]
["5.6.1","Komandiruotės pavadinimas, vieta, trukmė dienomis, vykstančių asmenų skaičius","Iš viso komandiruotei",null,null,null,{"$f":"SUM(G129:G134)","v":0},{"$f":"ROUND(G128*$D$7,2)","v":0}]
[null,null,"Dienpinigiai",null,null,null,{"$f":"ROUND(E129*F129,2)","v":0}]
[null,null,"Gyvenamojo ploto nuoma",null,null,null,0]
[null,null,"Kelionės išlaidos",null,null,null,0]
[null,null,"Dalyvavimo mokestis",null,null,null,0]
[null,null,"Kitos išlaidų pavadinimas",null,null,null,0]
[null,null,"Kitos išlaidų pavadinimas",null,null,null,0]
["5.6.2","Komandiruotės pavadinimas, vieta, trukmė dienomis, vykstančių asmenų skaičius","Iš viso komandiruotei",null,null,null,{"$f":"SUM(G136:G141)","v":0},{"$f":"ROUND(G135*$D$7,2)","v":0}]
[null,null,"Dienpinigiai",null,null,null,{"$f":"ROUND(E136*F136,2)","v":0}]
[null,null,"Gyvenamojo ploto nuoma",null,null,null,0]
[null,null,"Kelionės išlaidos",null,null,null,0]
[null,null,"Dalyvavimo mokestis",null,null,null,0]
[null,null,"Kitos išlaidų pavadinimas",null,null,null,0]
[null,null,"Kitos išlaidų pavadinimas",null,null,null,0]
["5.6.3","Komandiruotės pavadinimas, vieta, trukmė dienomis, vykstančių asmenų skaičius","Iš viso komandiruotei",null,null,null,{"$f":"SUM(G143:G148)","v":0},{"$f":"ROUND(G142*$D$7,2)","v":0}]
[null,null,"Dienpinigiai",null,null,null,{"$f":"ROUND(E143*F143,2)","v":0}]
[null,null,"Gyvenamojo ploto nuoma",null,null,null,0]
[null,null,"Kelionės išlaidos",null,null,null,0]
[null,null,"Dalyvavimo mokestis",null,null,null,0]
[null,null,"Kitos išlaidų pavadinimas",null,null,null,0]
[null,null,"Kitos išlaidų pavadinimas",null,null,null,0]
["5.6.4","Komandiruotės pavadinimas, vieta, trukmė dienomis, vykstančių asmenų skaičius","Iš viso komandiruotei",null,null,null,{"$f":"SUM(G150:G155)","v":0},{"$f":"ROUND(G149*$D$7,2)","v":0}]
[null,null,"Dienpinigiai",null,null,null,{"$f":"ROUND(E150*F150,2)","v":0}]
[null,null,"Gyvenamojo ploto nuoma",null,null,null,0]
[null,null,"Kelionės išlaidos",null,null,null,0]
[null,null,"Dalyvavimo mokestis",null,null,null,0]
[null,null,"Kitos išlaidų pavadinimas",null,null,null,0]
[null,null,"Kitos išlaidų pavadinimas",null,null,null,0]
["5.6.5","Komandiruotės pavadinimas, vieta, trukmė dienomis, vykstančių asmenų skaičius","Iš viso komandiruotei",null,null,null,{"$f":"SUM(G157:G162)","v":0},{"$f":"ROUND(G156*$D$7,2)","v":0}]
[null,null,"Dienpinigiai",null,null,null,{"$f":"ROUND(E157*F157,2)","v":0}]
[null,null,"Gyvenamojo ploto nuoma",null,null,null,0]
[null,null,"Kelionės išlaidos",null,null,null,0]
[null,null,"Dalyvavimo mokestis",null,null,null,0]
[null,null,"Kitos išlaidų pavadinimas",null,null,null,0]
[null,null,"Kitos išlaidų pavadinimas",null,null,null,0]
["5.6.6","Komandiruotės pavadinimas, vieta, trukmė dienomis, vykstančių asmenų skaičius","Iš viso komandiruotei",null,null,null,{"$f":"SUM(G164:G169)","v":0},{"$f":"ROUND(G163*$D$7,2)","v":0}]
[null,null,"Dienpinigiai",null,null,null,{"$f":"ROUND(E164*F164,2)","v":0}]
[null,null,"Gyvenamojo ploto nuoma",null,null,null,0]
[null,null,"Kelionės išlaidos",null,null,null,0]
[null,null,"Dalyvavimo mokestis",null,null,null,0]
[null,null,"Kitos išlaidų pavadinimas",null,null,null,0]
[null,null,"Kitos išlaidų pavadinimas",null,null,null,0]
["5.6.7","Komandiruotės pavadinimas, vieta, trukmė dienomis, vykstančių asmenų skaičius","Iš viso komandiruotei",null,null,null,{"$f":"SUM(G171:G176)","v":0},{"$f":"ROUND(G170*$D$7,2)","v":0}]
[null,null,"Dienpinigiai",null,null,null,{"$f":"ROUND(E171*F171,2)","v":0}]
[null,null,"Gyvenamojo ploto nuoma",null,null,null,0]
[null,null,"Kelionės išlaidos",null,null,null,0]
[null,null,"Dalyvavimo mokestis",null,null,null,0]
[null,null,"Kitos išlaidų pavadinimas",null,null,null,0]
[null,null,"Kitos išlaidų pavadinimas",null,null,null,0]
["5.6.8","Komandiruotės pavadinimas, vieta, trukmė dienomis, vykstančių asmenų skaičius","Iš viso komandiruotei",null,null,null,{"$f":"SUM(G178:G183)","v":0},{"$f":"ROUND(G177*$D$7,2)","v":0}]
[null,null,"Dienpinigiai",null,null,null,{"$f":"ROUND(E178*F178,2)","v":0}]
[null,null,"Gyvenamojo ploto nuoma",null,null,null,0]
[null,null,"Kelionės išlaidos",null,null,null,0]
[null,null,"Dalyvavimo mokestis",null,null,null,0]
[null,null,"Kitos išlaidų pavadinimas",null,null,null,0]
[null,null,"Kitos išlaidų pavadinimas",null,null,null,0]
["5.6.9","Komandiruotės pavadinimas, vieta, trukmė dienomis, vykstančių asmenų skaičius","Iš viso komandiruotei",null,null,null,{"$f":"SUM(G185:G190)","v":0},{"$f":"ROUND(G184*$D$7,2)","v":0}]
[null,null,"Dienpinigiai",null,null,null,{"$f":"ROUND(E185*F185,2)","v":0}]
[null,null,"Gyvenamojo ploto nuoma",null,null,null,0]
[null,null,"Kelionės išlaidos",null,null,null,0]
[null,null,"Dalyvavimo mokestis",null,null,null,0]
[null,null,"Kitos išlaidų pavadinimas",null,null,null,0]
[null,null,"Kitos išlaidų pavadinimas",null,null,null,0]
["5.6.10","Komandiruotės pavadinimas, vieta, trukmė dienomis, vykstančių asmenų skaičius","Iš viso komandiruotei",null,null,null,{"$f":"SUM(G192:G197)","v":0},{"$f":"ROUND(G191*$D$7,2)","v":0}]
[null,null,"Dienpinigiai",null,null,null,{"$f":"ROUND(E192*F192,2)","v":0}]
[null,null,"Gyvenamojo ploto nuoma",null,null,null,0]
[null,null,"Kelionės išlaidos",null,null,null,0]
[null,null,"Dalyvavimo mokestis",null,null,null,0]
[null,null,"Kitos išlaidų pavadinimas",null,null,null,0]
[null,null,"Kitos išlaidų pavadinimas",null,null,null,0]
["5.7","Įrangos nuomos išlaidos, veiklai priskirtos pro rata principu. Įranga turi būti tiesiogiai susijusi su projekto įgyvendinimu ir negali būti įsigyta iš ES struktūrinių fondų ar kt. ES finansinių priemonių lėšų",null,null,null,null,{"$f":"SUM(G199:G203)","v":0},{"$f":"SUM(H199:H203)","v":0},null,null,"Faktinės 1 mėnesio išlaidos, Eur","Naudojimo projekte trukmė, mėn."]
["5.7.1","Įrangos pavadinimas",null,"pro rata proc.",null,{"$f":"K199*L199","v":0},0,{"$f":"ROUND(G199*$D$7,2)","v":0}]
["5.7.2","Įrangos pavadinimas",null,"pro rata proc.",null,{"$f":"K200*L200","v":0},0,{"$f":"ROUND(G200*$D$7,2)","v":0}]
["5.7.3","Įrangos pavadinimas",null,"pro rata proc.",null,0,0,0]
["5.7.4","Įrangos pavadinimas",null,"pro rata proc.",null,0,0,0]
["5.7.5","Įrangos pavadinimas",null,"pro rata proc.",null,0,0,0]
["5.8","Pastatų ar patalpų nuomos išlaidos, veiklai priskirtos pro rata principu. Pastatai ar patalpos turi būti tiesiogiai susijusi su projekto įgyvendinimu.",null,null,null,null,{"$f":"SUM(G205:G209)","v":0},{"$f":"SUM(H205:H209)","v":0},null,null,"Faktinės 1 mėnesio išlaidos, Eur","Naudojimo projekte trukmė, mėn."]
["5.8.1","Pastato, patalpų adresas",null,"pro rata proc.",null,{"$f":"K205*L205","v":0},{"$f":"ROUND(E205*F205,2)","v":0},{"$f":"ROUND(G205*$D$7,2)","v":0}]
["5.8.2","Pastato, patalpų adresas",null,"pro rata proc.",null,{"$f":"K206*L206","v":0},0,0]
["5.8.3","Pastato, patalpų adresas",null,"pro rata proc.",null,0,0,0]
["5.8.4","Pastato, patalpų adresas",null,"pro rata proc.",null,0,0,0]
["5.8.5","Pastato, patalpų adresas",null,"pro rata proc.",null,0,0,0]
["Iš viso tinkamų finansuoti išlaidų:",null,null,null,null,null,{"$f":"G10+G21","v":0},{"$f":"H10+H21","v":0}]

{"sheet":"14","index":15,"n_rows":210,"n_cols":19,"rows_kept":210,"cut":false,"hidden":false,"merged":[[206,1,206,2],[207,1,207,2],[208,1,208,2],[209,0,209,5],[197,1,197,5],[198,1,198,2],[199,1,199,2],[200,1,200,2],[201,1,201,2],[202,1,202,2],[203,1,203,5],[204,1,204,2],[205,1,205,2],[176,0,182,0],[176,1,182,1],[176,8,182,8],[183,0,189,0],[183,1,189,1],[183,8,189,8],[190,0,196,0],[190,1,196,1],[190,8,196,8],[155,0,161,0],[155,1,161,1],[155,8,161,8],[162,0,168,0],[162,1,168,1],[162,8,168,8],[169,0,175,0],[169,1,175,1],[169,8,175,8],[134,0,140,0],[134,1,140,1],[134,8,140,8],[141,0,147,0],[141,1,147,1],[141,8,147,8],[148,0,154,0],[148,1,154,1],[148,8,154,8],[127,1,133,1],[121,7,125,7],[121,8,125,8],[126,1,126,5],[121,0,125,0],[121,1,125,1],[121,3,125,3],[121,4,125,4],[121,5,125,5],[121,6,125,6],[127,0,133,0],[127,8,133,8],[111,7,115,7],[111,8,115,8],[116,0,120,0],[116,1,120,1],[116,3,120,3],[116,4,120,4],[116,5,120,5],[116,6,120,6],[116,7,120,7],[116,8,120,8],[111,0,115,0],[111,1,115,1],[111,3,115,3],[111,4,115,4],[111,5,115,5],[111,6,115,6],[101,7,105,7],[101,8,105,8],[106,0,110,0],[106,1,110,1],[106,3,110,3],[106,4,110,4],[106,5,110,5],[106,6,110,6],[106,7,110,7],[106,8,110,8],[101,0,105,0],[101,1,105,1],[101,3,105,3],[101,4,105,4],[101,5,105,5],[101,6,105,6],[96,0,100,0],[96,1,100,1],[96,3,100,3],[96,4,100,4],[96,5,100,5],[96,6,100,6],[96,7,100,7],[96,8,100,8],[91,0,95,0],[91,1,95,1],[91,3,95,3],[91,4,95,4],[91,5,95,5],[91,6,95,6],[86,0,90,0],[86,1,90,1],[86,3,90,3],[86,4,90,4],[86,5,90,5],[86,6,90,6],[86,7,90,7],[86,8,90,8],[91,7,95,7],[91,8,95,8],[76,6,80,6],[76,7,80,7],[76,8,80,8],[81,0,85,0],[81,1,85,1],[81,3,85,3],[81,4,85,4],[81,5,85,5],[81,6,85,6],[81,7,85,7],[81,8,85,8],[74,1,74,2],[75,1,75,5],[76,0,80,0],[76,1,80,1],[76,3,80,3],[76,4,80,4],[76,5,80,5],[68,1,68,2],[69,1,69,2],[70,1,70,2],[71,1,71,2],[72,1,72,2],[73,1,73,2],[62,1,62,2],[63,1,63,2],[64,1,64,2],[65,1,65,2],[66,1,66,2],[67,1,67,2],[56,1,56,2],[57,1,57,2],[58,1,58,2],[59,1,59,5],[60,1,60,2],[61,1,61,2],[50,1,50,2],[51,1,51,2],[52,1,52,2],[53,1,53,2],[54,1,54,2],[55,1,55,2],[44,1,44,2],[45,1,45,2],[46,1,46,2],[47,1,47,2],[48,1,48,2],[49,1,49,2],[38,1,38,2],[39,1,39,2],[40,1,40,2],[41,1,41,2],[42,1,42,2],[43,1,43,5],[32,1,32,5],[33,1,33,2],[34,1,34,2],[35,1,35,2],[36,1,36,2],[37,1,37,2],[26,1,26,2],[27,1,27,2],[28,1,28,2],[29,1,29,2],[30,1,30,2],[31,1,31,2],[20,1,20,5],[21,1,21,5],[22,1,22,2],[23,1,23,2],[24,1,24,2],[25,1,25,2],[16,1,16,2],[17,1,17,2],[18,1,18,2],[19,1,19,2],[8,1,8,2],[9,1,9,5],[10,1,10,2],[11,1,11,2],[12,1,12,2],[13,1,13,2],[0,3,0,8],[2,0,2,2],[2,3,2,8],[3,3,3,4],[3,5,3,6],[4,0,4,2],[4,3,4,8],[14,1,14,2],[15,1,15,2]]}
[null,null,"Pasirinkite veiklos tipą:"]
[null,null,"Fizinio rodiklio Nr.:"]
["Fizinio rodiklio pavadinimas:"]
[null,null,"Fizinio rodiklio matavimo vnt.:",null,null,"Fizinio rodiklio vnt. skaičius:"]
["Juridinis asmuo (pareiškėjas, partneris), atsakingas už fizinį rodiklį:"]
[]
[null,null,"Finansavimo intensyvumas:",null,null,null,"Pasirinkite biudžeto išlaidų kategoriją:"]
[]
["Eil. Nr.","Išlaidų kategorijos pavadinimas",null,"Matavimo vnt.","Kiekis","Vieneto kaina be PVM, Eur","Tinkamų finansuoti išlaidų suma be PVM, Eur","Finansavimo suma, Eur","Išlaidų pagrindimo dokumentų pavadinimas, data ir Nr."]
[4,"ĮRANGA, ĮRENGINIAI IR KT. TURTAS (techninių žinių ir išradimų patentų arba teisių pagal licencijų sutartį įsigijimo išlaidos)",null,null,null,null,{"$f":"SUM(G11:G20)","v":0},{"$f":"SUM(H11:H20)","v":0}]
["4.1","Išlaidų pavadinimas",null,null,null,null,{"$f":"ROUND(E11*F11,2)","v":0},{"$f":"ROUND(G11*$D$7,2)","v":0}]
["4.2","Išlaidų pavadinimas",null,null,null,null,0,0]
["4.3","Išlaidų pavadinimas",null,null,null,null,0,0]
["4.4","Išlaidų pavadinimas",null,null,null,null,0,0]
["4.5","Išlaidų pavadinimas",null,null,null,null,0,0]
["4.6","Išlaidų pavadinimas",null,null,null,null,0,0]
["4.7","Išlaidų pavadinimas",null,null,null,null,0,0]
["4.8","Išlaidų pavadinimas",null,null,null,null,0,0]
["4.9","Išlaidų pavadinimas",null,null,null,null,0,0]
["4.10","Išlaidų pavadinimas",null,null,null,null,0,0]
[5,"PROJEKTO VYKDYMAS",null,null,null,null,{"$f":"G22+G33+G44+G60+G76+G127+G198+G204","v":0},{"$f":"H22+H33+H44+H60+H76+H127+H198+H204","v":0}]
["5.1","MTEP paslaugos",null,null,null,null,{"$f":"SUM(G23:G32)","v":0},{"$f":"SUM(H23:H32)","v":0}]
["5.1.1","Paslaugos pavadinimas",null,null,null,null,{"$f":"ROUND(E23*F23,2)","v":0},0]
["5.1.2","Paslaugos pavadinimas",null,null,null,null,0,0]
["5.1.3","Paslaugos pavadinimas",null,null,null,null,0,0]
["5.1.4","Paslaugos pavadinimas",null,null,null,null,0,0]
["5.1.5","Paslaugos pavadinimas",null,null,null,null,0,0]
["5.1.6","Paslaugos pavadinimas",null,null,null,null,0,0]
["5.1.7","Paslaugos pavadinimas",null,null,null,null,0,0]
["5.1.8","Paslaugos pavadinimas",null,null,null,null,0,0]
["5.1.9","Paslaugos pavadinimas",null,null,null,null,0,0]
["5.1.10","Paslaugos pavadinimas",null,null,null,null,0,0]
["5.2","Konsultavimo ir lygiavertės paslaugos, naudojamos vien tik projekto MTEP veiklai",null,null,null,null,{"$f":"SUM(G34:G43)","v":0},{"$f":"SUM(H34:H43)","v":0}]
["5.2.1","Paslaugos pavadinimas",null,null,null,null,{"$f":"ROUND(E34*F34,2)","v":0},0]
["5.2.2","Paslaugos pavadinimas",null,null,null,null,0,0]
["5.2.3","Paslaugos pavadinimas",null,null,null,null,0,0]
["5.2.4","Paslaugos pavadinimas",null,null,null,null,0,0]
["5.2.5","Paslaugos pavadinimas",null,null,null,null,0,0]
["5.2.6","Paslaugos pavadinimas",null,null,null,null,0,0]
["5.2.7","Paslaugos pavadinimas",null,null,null,null,0,0]
["5.2.8","Paslaugos pavadinimas",null,null,null,null,0,0]
["5.2.9","Paslaugos pavadinimas",null,null,null,null,0,0]
["5.2.10","Paslaugos pavadinimas",null,null,null,null,0,0]
["5.3","Medžiagos, mažavertis inventorius, atsargos ir pan. produktai, priskirtini trumpalaikiam turtui ir tiesiogiai susiję su MTEP veikla",null,null,null,null,{"$f":"SUM(G45:G61)","v":0},{"$f":"SUM(H45:H61)","v":0}]
["5.3.1","Išlaidų pavadinimas",null,null,null,null,{"$f":"ROUND(E45*F45,2)","v":0},{"$f":"ROUND(G45*$D$7,2)","v":0}]
["5.3.2","Išlaidų pavadinimas",null,null,null,null,0,0]
["5.3.3","Išlaidų pavadinimas",null,null,null,null,0,0]
["5.3.4","Išlaidų pavadinimas",null,null,null,null,0,0]
["5.3.5","Išlaidų pavadinimas",null,null,null,null,0,0]
["5.3.6","Išlaidų pavadinimas",null,null,null,null,0,0]
["5.3.7","Išlaidų pavadinimas",null,null,null,null,0,0]
["5.3.8","Išlaidų pavadinimas",null,null,null,null,0,0]
["5.3.9","Išlaidų pavadinimas",null,null,null,null,0,0]
["5.3.10","Išlaidų pavadinimas",null,null,null,null,0,0]
["5.3.11","Išlaidų pavadinimas",null,null,null,null,0,0]
["5.3.12","Išlaidų pavadinimas",null,null,null,null,0,0]
["5.3.13","Išlaidų pavadinimas",null,null,null,null,0,0]
["5.3.14","Išlaidų pavadinimas",null,null,null,null,0,0]
["5.3.15","Išlaidų pavadinimas",null,null,null,null,0,0]
["5.4","Projekto MTEP veikloms naudojamo ilgalaikio materialaus turto (įrangos, prietaisų, įrankių, įrenginių, mašinų ir įrengimų, pastatų ir (ar) patalpų), nusidėvėjimo sąnaudos, jeigu šiam turtui įsigyti nebuvo naudojamos viešosios (įskaitant ir kitų valstybių) lėšos",null,null,null,null,{"$f":"SUM(G61:G75)","v":0},{"$f":"SUM(H61:H75)","v":0},null,null,"Turto įvedimo į eksploataciją data","Turto įsigijimo vertė, Eur","Turto nudėvėjimo, amortizacijos laikotarpis, mėn.","Numatoma turto likutinė vertė, Eur","1 mėn. nudėvėjimo, amortizacijos suma, Eur","Turto naudojamo projekto reikmėms laikas, mėn.","Turto panaudojimo projekto reikmėms dalis (proc.)","Projektui priskirta turto nusidėvėjimo, amortizacijos suma per projekto laikotarpį, Eur"]
["5.4.1","Turtas, kurio nusidėvėjimą, amortizaciją prašoma finansuoti",null,null,1,{"$f":"R61","v":0},{"$f":"ROUND(E61*F61,2)","v":0},0,null,null,null,null,null,null,{"$f":"IFERROR(ROUND((L61-N61)/M61,2),\"0\")","v":"0"},null,null,{"$f":"O61*P61*Q61","v":0},{"$f":"IF(K61=0,\" \",IF(K61+(M61*30.5)<TODAY(),\"DĖMESIO! Patikrinkite, ar nurodytas turtas dar nėra nudėvėtas, amortizuotas\",\" \"))","v":" "}]
["5.4.2","Turtas, kurio nusidėvėjimą, amortizaciją prašoma finansuoti",null,null,1,{"$f":"R62","v":0},0,0,null,null,null,null,null,null,{"$f":"IFERROR(ROUND((L62-N62)/M62,2),\"0\")","v":"0"},null,null,{"$f":"O62*P62*Q62","v":0},{"$f":"IF(K62=0,\" \",IF(K62+(M62*30.5)<TODAY(),\"DĖMESIO! Patikrinkite, ar nurodytas turtas dar nėra nudėvėtas, amortizuotas\",\" \"))","v":" "}]
["5.4.3","Turtas, kurio nusidėvėjimą, amortizaciją prašoma finansuoti",null,null,1,0,0,0,null,null,null,null,null,null,"0",null,null,0," "]
["5.4.4","Turtas, kurio nusidėvėjimą, amortizaciją prašoma finansuoti",null,null,1,0,0,0,null,null,null,null,null,null,"0",null,null,0," "]
["5.4.5","Turtas, kurio nusidėvėjimą, amortizaciją prašoma finansuoti",null,null,1,0,0,0,null,null,null,null,null,null,"0",null,null,0," "]
["5.4.6","Turtas, kurio nusidėvėjimą, amortizaciją prašoma finansuoti",null,null,1,0,0,0,null,null,null,null,null,null,"0",null,null,0," "]
["5.4.7","Turtas, kurio nusidėvėjimą, amortizaciją prašoma finansuoti",null,null,1,0,0,0,null,null,null,null,null,null,"0",null,null,0," "]
["5.4.8","Turtas, kurio nusidėvėjimą, amortizaciją prašoma finansuoti",null,null,1,0,0,0,null,null,null,null,null,null,"0",null,null,0," "]
["5.4.9","Turtas, kurio nusidėvėjimą, amortizaciją prašoma finansuoti",null,null,1,0,0,0,null,null,null,null,null,null,"0",null,null,0," "]
["5.4.10","Turtas, kurio nusidėvėjimą, amortizaciją prašoma finansuoti",null,null,1,0,0,0,null,null,null,null,null,null,"0",null,null,0," "]
["5.4.11","Turtas, kurio nusidėvėjimą, amortizaciją prašoma finansuoti",null,null,1,0,0,0,null,null,null,null,null,null,"0",null,null,0," "]
["5.4.12","Turtas, kurio nusidėvėjimą, amortizaciją prašoma finansuoti",null,null,1,0,0,0,null,null,null,null,null,null,"0",null,null,0," "]
["5.4.13","Turtas, kurio nusidėvėjimą, amortizaciją prašoma finansuoti",null,null,1,0,0,0,null,null,null,null,null,null,"0",null,null,0," "]
["5.4.14","Turtas, kurio nusidėvėjimą, amortizaciją prašoma finansuoti",null,null,1,0,0,0,null,null,null,null,null,null,"0",null,null,0," "]
["5.4.15","Turtas, kurio nusidėvėjimą, amortizaciją prašoma finansuoti",null,null,1,0,0,0,null,null,null,null,null,null,"0",null,null,0," "]
["5.5","Projektą vykdančio personalo darbo užmokestis ir išlaidos su darbo santykiais susijusiems darbdavio įsipareigojimams",null,null,null,null,{"$f":"SUM(G77:G126)","v":0},{"$f":"SUM(H77:H126)","v":0},null,null,"Faktiškai gaunamas darbo užmokesti už 1 valandą pagal  pastarųjų 6 mėn. vidurkį, Eur"]
["5.5.1","Pareigybės pavadinimas","Darbuotojo vardas pavardė","val.",null,{"$f":"IFERROR(ROUND(AVERAGE(K77:K81),2),\"0\")","v":"0"},{"$f":"ROUND(E77*F77,2)","v":0},{"$f":"ROUND(G77*$D$7,2)","v":0}]
[null,null,"Darbuotojo vardas pavardė"]
[null,null,"Darbuotojo vardas pavardė"]
[null,null,"Darbuotojo vardas pavardė"]
[null,null,"Darbuotojo vardas pavardė"]
["5.5.2","Pareigybės pavadinimas","Darbuotojo vardas pavardė","val.",null,{"$f":"IFERROR(ROUND(AVERAGE(K82:K86),2),\"0\")","v":"0"},{"$f":"ROUND(E82*F82,2)","v":0},{"$f":"ROUND(G82*$D$7,2)","v":0}]
[null,null,"Darbuotojo vardas pavardė"]
[null,null,"Darbuotojo vardas pavardė"]
[null,null,"Darbuotojo vardas pavardė"]
[null,null,"Darbuotojo vardas pavardė"]
["5.5.3","Pareigybės pavadinimas","Darbuotojo vardas pavardė","val.",null,{"$f":"IFERROR(ROUND(AVERAGE(K87:K91),2),\"0\")","v":"0"},{"$f":"ROUND(E87*F87,2)","v":0},{"$f":"ROUND(G87*$D$7,2)","v":0}]
[null,null,"Darbuotojo vardas pavardė"]
[null,null,"Darbuotojo vardas pavardė"]
[null,null,"Darbuotojo vardas pavardė"]
[null,null,"Darbuotojo vardas pavardė"]
["5.5.4","Pareigybės pavadinimas","Darbuotojo vardas pavardė","val.",null,{"$f":"IFERROR(ROUND(AVERAGE(K92:K96),2),\"0\")","v":"0"},{"$f":"ROUND(E92*F92,2)","v":0},{"$f":"ROUND(G92*$D$7,2)","v":0}]
[null,null,"Darbuotojo vardas pavardė"]
[null,null,"Darbuotojo vardas pavardė"]
[null,null,"Darbuotojo vardas pavardė"]
[null,null,"Darbuotojo vardas pavardė"]
["5.5.5","Pareigybės pavadinimas","Darbuotojo vardas pavardė","val.",null,{"$f":"IFERROR(ROUND(AVERAGE(K97:K101),2),\"0\")","v":"0"},{"$f":"ROUND(E97*F97,2)","v":0},{"$f":"ROUND(G97*$D$7,2)","v":0}]
[null,null,"Darbuotojo vardas pavardė"]
[null,null,"Darbuotojo vardas pavardė"]
[null,null,"Darbuotojo vardas pavardė"]
[null,null,"Darbuotojo vardas pavardė"]
["5.5.6","Pareigybės pavadinimas","Darbuotojo vardas pavardė","val.",null,{"$f":"IFERROR(ROUND(AVERAGE(K102:K106),2),\"0\")","v":"0"},{"$f":"ROUND(E102*F102,2)","v":0},{"$f":"ROUND(G102*$D$7,2)","v":0}]
[null,null,"Darbuotojo vardas pavardė"]
[null,null,"Darbuotojo vardas pavardė"]
[null,null,"Darbuotojo vardas pavardė"]
[null,null,"Darbuotojo vardas pavardė"]
["5.5.7","Pareigybės pavadinimas","Darbuotojo vardas pavardė","val.",null,{"$f":"IFERROR(ROUND(AVERAGE(K107:K111),2),\"0\")","v":"0"},{"$f":"ROUND(E107*F107,2)","v":0},{"$f":"ROUND(G107*$D$7,2)","v":0}]
[null,null,"Darbuotojo vardas pavardė"]
[null,null,"Darbuotojo vardas pavardė"]
[null,null,"Darbuotojo vardas pavardė"]
[null,null,"Darbuotojo vardas pavardė"]
["5.5.8","Pareigybės pavadinimas","Darbuotojo vardas pavardė","val.",null,{"$f":"IFERROR(ROUND(AVERAGE(K112:K116),2),\"0\")","v":"0"},{"$f":"ROUND(E112*F112,2)","v":0},{"$f":"ROUND(G112*$D$7,2)","v":0}]
[null,null,"Darbuotojo vardas pavardė"]
[null,null,"Darbuotojo vardas pavardė"]
[null,null,"Darbuotojo vardas pavardė"]
[null,null,"Darbuotojo vardas pavardė"]
["5.5.9","Pareigybės pavadinimas","Darbuotojo vardas pavardė","val.",null,{"$f":"IFERROR(ROUND(AVERAGE(K117:K121),2),\"0\")","v":"0"},{"$f":"ROUND(E117*F117,2)","v":0},{"$f":"ROUND(G117*$D$7,2)","v":0}]
[null,null,"Darbuotojo vardas pavardė"]
[null,null,"Darbuotojo vardas pavardė"]
[null,null,"Darbuotojo vardas pavardė"]
[null,null,"Darbuotojo vardas pavardė"]
["5.5.10","Pareigybės pavadinimas","Darbuotojo vardas pavardė","val.",null,{"$f":"IFERROR(ROUND(AVERAGE(K122:K126),2),\"0\")","v":"0"},{"$f":"ROUND(E122*F122,2)","v":0},{"$f":"ROUND(G122*$D$7,2)","v":0}]
[null,null,"Darbuotojo vardas pavardė"]
[null,null,"Darbuotojo vardas pavardė"]
[null,null,"Darbuotojo vardas pavardė"]
[null,null,"Darbuotojo vardas pavardė"]
["5.6","Projektą vykdančio personalo komandiruočių išlaidos",null,null,null,null,{"$f":"SUM(G128,G135,G142,G149,G156,G163,G170,G177,G184,G191)","v":0},{"$f":"SUM(H128,H135,H142,H149,H156,H163,H170,H177,H184,H191)","v":0}]
["5.6.1","Komandiruotės pavadinimas, vieta, trukmė dienomis, vykstančių asmenų skaičius","Iš viso komandiruotei",null,null,null,{"$f":"SUM(G129:G134)","v":0},{"$f":"ROUND(G128*$D$7,2)","v":0}]
[null,null,"Dienpinigiai",null,null,null,{"$f":"ROUND(E129*F129,2)","v":0}]
[null,null,"Gyvenamojo ploto nuoma",null,null,null,0]
[null,null,"Kelionės išlaidos",null,null,null,0]
[null,null,"Dalyvavimo mokestis",null,null,null,0]
[null,null,"Kitos išlaidų pavadinimas",null,null,null,0]
[null,null,"Kitos išlaidų pavadinimas",null,null,null,0]
["5.6.2","Komandiruotės pavadinimas, vieta, trukmė dienomis, vykstančių asmenų skaičius","Iš viso komandiruotei",null,null,null,{"$f":"SUM(G136:G141)","v":0},{"$f":"ROUND(G135*$D$7,2)","v":0}]
[null,null,"Dienpinigiai",null,null,null,{"$f":"ROUND(E136*F136,2)","v":0}]
[null,null,"Gyvenamojo ploto nuoma",null,null,null,0]
[null,null,"Kelionės išlaidos",null,null,null,0]
[null,null,"Dalyvavimo mokestis",null,null,null,0]
[null,null,"Kitos išlaidų pavadinimas",null,null,null,0]
[null,null,"Kitos išlaidų pavadinimas",null,null,null,0]
["5.6.3","Komandiruotės pavadinimas, vieta, trukmė dienomis, vykstančių asmenų skaičius","Iš viso komandiruotei",null,null,null,{"$f":"SUM(G143:G148)","v":0},{"$f":"ROUND(G142*$D$7,2)","v":0}]
[null,null,"Dienpinigiai",null,null,null,{"$f":"ROUND(E143*F143,2)","v":0}]
[null,null,"Gyvenamojo ploto nuoma",null,null,null,0]
[null,null,"Kelionės išlaidos",null,null,null,0]
[null,null,"Dalyvavimo mokestis",null,null,null,0]
[null,null,"Kitos išlaidų pavadinimas",null,null,null,0]
[null,null,"Kitos išlaidų pavadinimas",null,null,null,0]
["5.6.4","Komandiruotės pavadinimas, vieta, trukmė dienomis, vykstančių asmenų skaičius","Iš viso komandiruotei",null,null,null,{"$f":"SUM(G150:G155)","v":0},{"$f":"ROUND(G149*$D$7,2)","v":0}]
[null,null,"Dienpinigiai",null,null,null,{"$f":"ROUND(E150*F150,2)","v":0}]
[null,null,"Gyvenamojo ploto nuoma",null,null,null,0]
[null,null,"Kelionės išlaidos",null,null,null,0]
[null,null,"Dalyvavimo mokestis",null,null,null,0]
[null,null,"Kitos išlaidų pavadinimas",null,null,null,0]
[null,null,"Kitos išlaidų pavadinimas",null,null,null,0]
["5.6.5","Komandiruotės pavadinimas, vieta, trukmė dienomis, vykstančių asmenų skaičius","Iš viso komandiruotei",null,null,null,{"$f":"SUM(G157:G162)","v":0},{"$f":"ROUND(G156*$D$7,2)","v":0}]
[null,null,"Dienpinigiai",null,null,null,{"$f":"ROUND(E157*F157,2)","v":0}]
[null,null,"Gyvenamojo ploto nuoma",null,null,null,0]
[null,null,"Kelionės išlaidos",null,null,null,0]
[null,null,"Dalyvavimo mokestis",null,null,null,0]
[null,null,"Kitos išlaidų pavadinimas",null,null,null,0]
[null,null,"Kitos išlaidų pavadinimas",null,null,null,0]
["5.6.6","Komandiruotės pavadinimas, vieta, trukmė dienomis, vykstančių asmenų skaičius","Iš viso komandiruotei",null,null,null,{"$f":"SUM(G164:G169)","v":0},{"$f":"ROUND(G163*$D$7,2)","v":0}]
[null,null,"Dienpinigiai",null,null,null,{"$f":"ROUND(E164*F164,2)","v":0}]
[null,null,"Gyvenamojo ploto nuoma",null,null,null,0]
[null,null,"Kelionės išlaidos",null,null,null,0]
[null,null,"Dalyvavimo mokestis",null,null,null,0]
[null,null,"Kitos išlaidų pavadinimas",null,null,null,0]
[null,null,"Kitos išlaidų pavadinimas",null,null,null,0]
["5.6.7","Komandiruotės pavadinimas, vieta, trukmė dienomis, vykstančių asmenų skaičius","Iš viso komandiruotei",null,null,null,{"$f":"SUM(G171:G176)","v":0},{"$f":"ROUND(G170*$D$7,2)","v":0}]
[null,null,"Dienpinigiai",null,null,null,{"$f":"ROUND(E171*F171,2)","v":0}]
[null,null,"Gyvenamojo ploto nuoma",null,null,null,0]
[null,null,"Kelionės išlaidos",null,null,null,0]
[null,null,"Dalyvavimo mokestis",null,null,null,0]
[null,null,"Kitos išlaidų pavadinimas",null,null,null,0]
[null,null,"Kitos išlaidų pavadinimas",null,null,null,0]
["5.6.8","Komandiruotės pavadinimas, vieta, trukmė dienomis, vykstančių asmenų skaičius","Iš viso komandiruotei",null,null,null,{"$f":"SUM(G178:G183)","v":0},{"$f":"ROUND(G177*$D$7,2)","v":0}]
[null,null,"Dienpinigiai",null,null,null,{"$f":"ROUND(E178*F178,2)","v":0}]
[null,null,"Gyvenamojo ploto nuoma",null,null,null,0]
[null,null,"Kelionės išlaidos",null,null,null,0]
[null,null,"Dalyvavimo mokestis",null,null,null,0]
[null,null,"Kitos išlaidų pavadinimas",null,null,null,0]
[null,null,"Kitos išlaidų pavadinimas",null,null,null,0]
["5.6.9","Komandiruotės pavadinimas, vieta, trukmė dienomis, vykstančių asmenų skaičius","Iš viso komandiruotei",null,null,null,{"$f":"SUM(G185:G190)","v":0},{"$f":"ROUND(G184*$D$7,2)","v":0}]
[null,null,"Dienpinigiai",null,null,null,{"$f":"ROUND(E185*F185,2)","v":0}]
[null,null,"Gyvenamojo ploto nuoma",null,null,null,0]
[null,null,"Kelionės išlaidos",null,null,null,0]
[null,null,"Dalyvavimo mokestis",null,null,null,0]
[null,null,"Kitos išlaidų pavadinimas",null,null,null,0]
[null,null,"Kitos išlaidų pavadinimas",null,null,null,0]
["5.6.10","Komandiruotės pavadinimas, vieta, trukmė dienomis, vykstančių asmenų skaičius","Iš viso komandiruotei",null,null,null,{"$f":"SUM(G192:G197)","v":0},{"$f":"ROUND(G191*$D$7,2)","v":0}]
[null,null,"Dienpinigiai",null,null,null,{"$f":"ROUND(E192*F192,2)","v":0}]
[null,null,"Gyvenamojo ploto nuoma",null,null,null,0]
[null,null,"Kelionės išlaidos",null,null,null,0]
[null,null,"Dalyvavimo mokestis",null,null,null,0]
[null,null,"Kitos išlaidų pavadinimas",null,null,null,0]
[null,null,"Kitos išlaidų pavadinimas",null,null,null,0]
["5.7","Įrangos nuomos išlaidos, veiklai priskirtos pro rata principu. Įranga turi būti tiesiogiai susijusi su projekto įgyvendinimu ir negali būti įsigyta iš ES struktūrinių fondų ar kt. ES finansinių priemonių lėšų",null,null,null,null,{"$f":"SUM(G199:G203)","v":0},{"$f":"SUM(H199:H203)","v":0},null,null,"Faktinės 1 mėnesio išlaidos, Eur","Naudojimo projekte trukmė, mėn."]
["5.7.1","Įrangos pavadinimas",null,"pro rata proc.",null,{"$f":"K199*L199","v":0},0,{"$f":"ROUND(G199*$D$7,2)","v":0}]
["5.7.2","Įrangos pavadinimas",null,"pro rata proc.",null,{"$f":"K200*L200","v":0},0,{"$f":"ROUND(G200*$D$7,2)","v":0}]
["5.7.3","Įrangos pavadinimas",null,"pro rata proc.",null,0,0,0]
["5.7.4","Įrangos pavadinimas",null,"pro rata proc.",null,0,0,0]
["5.7.5","Įrangos pavadinimas",null,"pro rata proc.",null,0,0,0]
["5.8","Pastatų ar patalpų nuomos išlaidos, veiklai priskirtos pro rata principu. Pastatai ar patalpos turi būti tiesiogiai susijusi su projekto įgyvendinimu.",null,null,null,null,{"$f":"SUM(G205:G209)","v":0},{"$f":"SUM(H205:H209)","v":0},null,null,"Faktinės 1 mėnesio išlaidos, Eur","Naudojimo projekte trukmė, mėn."]
["5.8.1","Pastato, patalpų adresas",null,"pro rata proc.",null,{"$f":"K205*L205","v":0},{"$f":"ROUND(E205*F205,2)","v":0},{"$f":"ROUND(G205*$D$7,2)","v":0}]
["5.8.2","Pastato, patalpų adresas",null,"pro rata proc.",null,{"$f":"K206*L206","v":0},0,0]
["5.8.3","Pastato, patalpų adresas",null,"pro rata proc.",null,0,0,0]
["5.8.4","Pastato, patalpų adresas",null,"pro rata proc.",null,0,0,0]
["5.8.5","Pastato, patalpų adresas",null,"pro rata proc.",null,0,0,0]
["Iš viso tinkamų finansuoti išlaidų:",null,null,null,null,null,{"$f":"G10+G21","v":0},{"$f":"H10+H21","v":0}]

{"sheet":"15","index":16,"n_rows":210,"n_cols":19,"rows_kept":210,"cut":false,"hidden":false,"merged":[[206,1,206,2],[207,1,207,2],[208,1,208,2],[209,0,209,5],[197,1,197,5],[198,1,198,2],[199,1,199,2],[200,1,200,2],[201,1,201,2],[202,1,202,2],[203,1,203,5],[204,1,204,2],[205,1,205,2],[176,0,182,0],[176,1,182,1],[176,8,182,8],[183,0,189,0],[183,1,189,1],[183,8,189,8],[190,0,196,0],[190,1,196,1],[190,8,196,8],[155,0,161,0],[155,1,161,1],[155,8,161,8],[162,0,168,0],[162,1,168,1],[162,8,168,8],[169,0,175,0],[169,1,175,1],[169,8,175,8],[134,0,140,0],[134,1,140,1],[134,8,140,8],[141,0,147,0],[141,1,147,1],[141,8,147,8],[148,0,154,0],[148,1,154,1],[148,8,154,8],[127,1,133,1],[121,7,125,7],[121,8,125,8],[126,1,126,5],[121,0,125,0],[121,1,125,1],[121,3,125,3],[121,4,125,4],[121,5,125,5],[121,6,125,6],[127,0,133,0],[127,8,133,8],[111,7,115,7],[111,8,115,8],[116,0,120,0],[116,1,120,1],[116,3,120,3],[116,4,120,4],[116,5,120,5],[116,6,120,6],[116,7,120,7],[116,8,120,8],[111,0,115,0],[111,1,115,1],[111,3,115,3],[111,4,115,4],[111,5,115,5],[111,6,115,6],[101,7,105,7],[101,8,105,8],[106,0,110,0],[106,1,110,1],[106,3,110,3],[106,4,110,4],[106,5,110,5],[106,6,110,6],[106,7,110,7],[106,8,110,8],[101,0,105,0],[101,1,105,1],[101,3,105,3],[101,4,105,4],[101,5,105,5],[101,6,105,6],[96,0,100,0],[96,1,100,1],[96,3,100,3],[96,4,100,4],[96,5,100,5],[96,6,100,6],[96,7,100,7],[96,8,100,8],[91,0,95,0],[91,1,95,1],[91,3,95,3],[91,4,95,4],[91,5,95,5],[91,6,95,6],[86,0,90,0],[86,1,90,1],[86,3,90,3],[86,4,90,4],[86,5,90,5],[86,6,90,6],[86,7,90,7],[86,8,90,8],[91,7,95,7],[91,8,95,8],[76,6,80,6],[76,7,80,7],[76,8,80,8],[81,0,85,0],[81,1,85,1],[81,3,85,3],[81,4,85,4],[81,5,85,5],[81,6,85,6],[81,7,85,7],[81,8,85,8],[74,1,74,2],[75,1,75,5],[76,0,80,0],[76,1,80,1],[76,3,80,3],[76,4,80,4],[76,5,80,5],[68,1,68,2],[69,1,69,2],[70,1,70,2],[71,1,71,2],[72,1,72,2],[73,1,73,2],[62,1,62,2],[63,1,63,2],[64,1,64,2],[65,1,65,2],[66,1,66,2],[67,1,67,2],[56,1,56,2],[57,1,57,2],[58,1,58,2],[59,1,59,5],[60,1,60,2],[61,1,61,2],[50,1,50,2],[51,1,51,2],[52,1,52,2],[53,1,53,2],[54,1,54,2],[55,1,55,2],[44,1,44,2],[45,1,45,2],[46,1,46,2],[47,1,47,2],[48,1,48,2],[49,1,49,2],[38,1,38,2],[39,1,39,2],[40,1,40,2],[41,1,41,2],[42,1,42,2],[43,1,43,5],[32,1,32,5],[33,1,33,2],[34,1,34,2],[35,1,35,2],[36,1,36,2],[37,1,37,2],[26,1,26,2],[27,1,27,2],[28,1,28,2],[29,1,29,2],[30,1,30,2],[31,1,31,2],[20,1,20,5],[21,1,21,5],[22,1,22,2],[23,1,23,2],[24,1,24,2],[25,1,25,2],[16,1,16,2],[17,1,17,2],[18,1,18,2],[19,1,19,2],[8,1,8,2],[9,1,9,5],[10,1,10,2],[11,1,11,2],[12,1,12,2],[13,1,13,2],[0,3,0,8],[2,0,2,2],[2,3,2,8],[3,3,3,4],[3,5,3,6],[4,0,4,2],[4,3,4,8],[14,1,14,2],[15,1,15,2]]}
[null,null,"Pasirinkite veiklos tipą:"]
[null,null,"Fizinio rodiklio Nr.:"]
["Fizinio rodiklio pavadinimas:"]
[null,null,"Fizinio rodiklio matavimo vnt.:",null,null,"Fizinio rodiklio vnt. skaičius:"]
["Juridinis asmuo (pareiškėjas, partneris), atsakingas už fizinį rodiklį:"]
[]
[null,null,"Finansavimo intensyvumas:",null,null,null,"Pasirinkite biudžeto išlaidų kategoriją:"]
[]
["Eil. Nr.","Išlaidų kategorijos pavadinimas",null,"Matavimo vnt.","Kiekis","Vieneto kaina be PVM, Eur","Tinkamų finansuoti išlaidų suma be PVM, Eur","Finansavimo suma, Eur","Išlaidų pagrindimo dokumentų pavadinimas, data ir Nr."]
[4,"ĮRANGA, ĮRENGINIAI IR KT. TURTAS (techninių žinių ir išradimų patentų arba teisių pagal licencijų sutartį įsigijimo išlaidos)",null,null,null,null,{"$f":"SUM(G11:G20)","v":0},{"$f":"SUM(H11:H20)","v":0}]
["4.1","Išlaidų pavadinimas",null,null,null,null,{"$f":"ROUND(E11*F11,2)","v":0},{"$f":"ROUND(G11*$D$7,2)","v":0}]
["4.2","Išlaidų pavadinimas",null,null,null,null,0,0]
["4.3","Išlaidų pavadinimas",null,null,null,null,0,0]
["4.4","Išlaidų pavadinimas",null,null,null,null,0,0]
["4.5","Išlaidų pavadinimas",null,null,null,null,0,0]
["4.6","Išlaidų pavadinimas",null,null,null,null,0,0]
["4.7","Išlaidų pavadinimas",null,null,null,null,0,0]
["4.8","Išlaidų pavadinimas",null,null,null,null,0,0]
["4.9","Išlaidų pavadinimas",null,null,null,null,0,0]
["4.10","Išlaidų pavadinimas",null,null,null,null,0,0]
[5,"PROJEKTO VYKDYMAS",null,null,null,null,{"$f":"G22+G33+G44+G60+G76+G127+G198+G204","v":0},{"$f":"H22+H33+H44+H60+H76+H127+H198+H204","v":0}]
["5.1","MTEP paslaugos",null,null,null,null,{"$f":"SUM(G23:G32)","v":0},{"$f":"SUM(H23:H32)","v":0}]
["5.1.1","Paslaugos pavadinimas",null,null,null,null,{"$f":"ROUND(E23*F23,2)","v":0},0]
["5.1.2","Paslaugos pavadinimas",null,null,null,null,0,0]
["5.1.3","Paslaugos pavadinimas",null,null,null,null,0,0]
["5.1.4","Paslaugos pavadinimas",null,null,null,null,0,0]
["5.1.5","Paslaugos pavadinimas",null,null,null,null,0,0]
["5.1.6","Paslaugos pavadinimas",null,null,null,null,0,0]
["5.1.7","Paslaugos pavadinimas",null,null,null,null,0,0]
["5.1.8","Paslaugos pavadinimas",null,null,null,null,0,0]
["5.1.9","Paslaugos pavadinimas",null,null,null,null,0,0]
["5.1.10","Paslaugos pavadinimas",null,null,null,null,0,0]
["5.2","Konsultavimo ir lygiavertės paslaugos, naudojamos vien tik projekto MTEP veiklai",null,null,null,null,{"$f":"SUM(G34:G43)","v":0},{"$f":"SUM(H34:H43)","v":0}]
["5.2.1","Paslaugos pavadinimas",null,null,null,null,{"$f":"ROUND(E34*F34,2)","v":0},0]
["5.2.2","Paslaugos pavadinimas",null,null,null,null,0,0]
["5.2.3","Paslaugos pavadinimas",null,null,null,null,0,0]
["5.2.4","Paslaugos pavadinimas",null,null,null,null,0,0]
["5.2.5","Paslaugos pavadinimas",null,null,null,null,0,0]
["5.2.6","Paslaugos pavadinimas",null,null,null,null,0,0]
["5.2.7","Paslaugos pavadinimas",null,null,null,null,0,0]
["5.2.8","Paslaugos pavadinimas",null,null,null,null,0,0]
["5.2.9","Paslaugos pavadinimas",null,null,null,null,0,0]
["5.2.10","Paslaugos pavadinimas",null,null,null,null,0,0]
["5.3","Medžiagos, mažavertis inventorius, atsargos ir pan. produktai, priskirtini trumpalaikiam turtui ir tiesiogiai susiję su MTEP veikla",null,null,null,null,{"$f":"SUM(G45:G61)","v":0},{"$f":"SUM(H45:H61)","v":0}]
["5.3.1","Išlaidų pavadinimas",null,null,null,null,{"$f":"ROUND(E45*F45,2)","v":0},{"$f":"ROUND(G45*$D$7,2)","v":0}]
["5.3.2","Išlaidų pavadinimas",null,null,null,null,0,0]
["5.3.3","Išlaidų pavadinimas",null,null,null,null,0,0]
["5.3.4","Išlaidų pavadinimas",null,null,null,null,0,0]
["5.3.5","Išlaidų pavadinimas",null,null,null,null,0,0]
["5.3.6","Išlaidų pavadinimas",null,null,null,null,0,0]
["5.3.7","Išlaidų pavadinimas",null,null,null,null,0,0]
["5.3.8","Išlaidų pavadinimas",null,null,null,null,0,0]
["5.3.9","Išlaidų pavadinimas",null,null,null,null,0,0]
["5.3.10","Išlaidų pavadinimas",null,null,null,null,0,0]
["5.3.11","Išlaidų pavadinimas",null,null,null,null,0,0]
["5.3.12","Išlaidų pavadinimas",null,null,null,null,0,0]
["5.3.13","Išlaidų pavadinimas",null,null,null,null,0,0]
["5.3.14","Išlaidų pavadinimas",null,null,null,null,0,0]
["5.3.15","Išlaidų pavadinimas",null,null,null,null,0,0]
["5.4","Projekto MTEP veikloms naudojamo ilgalaikio materialaus turto (įrangos, prietaisų, įrankių, įrenginių, mašinų ir įrengimų, pastatų ir (ar) patalpų), nusidėvėjimo sąnaudos, jeigu šiam turtui įsigyti nebuvo naudojamos viešosios (įskaitant ir kitų valstybių) lėšos",null,null,null,null,{"$f":"SUM(G61:G75)","v":0},{"$f":"SUM(H61:H75)","v":0},null,null,"Turto įvedimo į eksploataciją data","Turto įsigijimo vertė, Eur","Turto nudėvėjimo, amortizacijos laikotarpis, mėn.","Numatoma turto likutinė vertė, Eur","1 mėn. nudėvėjimo, amortizacijos suma, Eur","Turto naudojamo projekto reikmėms laikas, mėn.","Turto panaudojimo projekto reikmėms dalis (proc.)","Projektui priskirta turto nusidėvėjimo, amortizacijos suma per projekto laikotarpį, Eur"]
["5.4.1","Turtas, kurio nusidėvėjimą, amortizaciją prašoma finansuoti",null,null,1,{"$f":"R61","v":0},{"$f":"ROUND(E61*F61,2)","v":0},0,null,null,null,null,null,null,{"$f":"IFERROR(ROUND((L61-N61)/M61,2),\"0\")","v":"0"},null,null,{"$f":"O61*P61*Q61","v":0},{"$f":"IF(K61=0,\" \",IF(K61+(M61*30.5)<TODAY(),\"DĖMESIO! Patikrinkite, ar nurodytas turtas dar nėra nudėvėtas, amortizuotas\",\" \"))","v":" "}]
["5.4.2","Turtas, kurio nusidėvėjimą, amortizaciją prašoma finansuoti",null,null,1,{"$f":"R62","v":0},0,0,null,null,null,null,null,null,{"$f":"IFERROR(ROUND((L62-N62)/M62,2),\"0\")","v":"0"},null,null,{"$f":"O62*P62*Q62","v":0},{"$f":"IF(K62=0,\" \",IF(K62+(M62*30.5)<TODAY(),\"DĖMESIO! Patikrinkite, ar nurodytas turtas dar nėra nudėvėtas, amortizuotas\",\" \"))","v":" "}]
["5.4.3","Turtas, kurio nusidėvėjimą, amortizaciją prašoma finansuoti",null,null,1,0,0,0,null,null,null,null,null,null,"0",null,null,0," "]
["5.4.4","Turtas, kurio nusidėvėjimą, amortizaciją prašoma finansuoti",null,null,1,0,0,0,null,null,null,null,null,null,"0",null,null,0," "]
["5.4.5","Turtas, kurio nusidėvėjimą, amortizaciją prašoma finansuoti",null,null,1,0,0,0,null,null,null,null,null,null,"0",null,null,0," "]
["5.4.6","Turtas, kurio nusidėvėjimą, amortizaciją prašoma finansuoti",null,null,1,0,0,0,null,null,null,null,null,null,"0",null,null,0," "]
["5.4.7","Turtas, kurio nusidėvėjimą, amortizaciją prašoma finansuoti",null,null,1,0,0,0,null,null,null,null,null,null,"0",null,null,0," "]
["5.4.8","Turtas, kurio nusidėvėjimą, amortizaciją prašoma finansuoti",null,null,1,0,0,0,null,null,null,null,null,null,"0",null,null,0," "]
["5.4.9","Turtas, kurio nusidėvėjimą, amortizaciją prašoma finansuoti",null,null,1,0,0,0,null,null,null,null,null,null,"0",null,null,0," "]
["5.4.10","Turtas, kurio nusidėvėjimą, amortizaciją prašoma finansuoti",null,null,1,0,0,0,null,null,null,null,null,null,"0",null,null,0," "]
["5.4.11","Turtas, kurio nusidėvėjimą, amortizaciją prašoma finansuoti",null,null,1,0,0,0,null,null,null,null,null,null,"0",null,null,0," "]
["5.4.12","Turtas, kurio nusidėvėjimą, amortizaciją prašoma finansuoti",null,null,1,0,0,0,null,null,null,null,null,null,"0",null,null,0," "]
["5.4.13","Turtas, kurio nusidėvėjimą, amortizaciją prašoma finansuoti",null,null,1,0,0,0,null,null,null,null,null,null,"0",null,null,0," "]
["5.4.14","Turtas, kurio nusidėvėjimą, amortizaciją prašoma finansuoti",null,null,1,0,0,0,null,null,null,null,null,null,"0",null,null,0," "]
["5.4.15","Turtas, kurio nusidėvėjimą, amortizaciją prašoma finansuoti",null,null,1,0,0,0,null,null,null,null,null,null,"0",null,null,0," "]
["5.5","Projektą vykdančio personalo darbo užmokestis ir išlaidos su darbo santykiais susijusiems darbdavio įsipareigojimams",null,null,null,null,{"$f":"SUM(G77:G126)","v":0},{"$f":"SUM(H77:H126)","v":0},null,null,"Faktiškai gaunamas darbo užmokesti už 1 valandą pagal  pastarųjų 6 mėn. vidurkį, Eur"]
["5.5.1","Pareigybės pavadinimas","Darbuotojo vardas pavardė","val.",null,{"$f":"IFERROR(ROUND(AVERAGE(K77:K81),2),\"0\")","v":"0"},{"$f":"ROUND(E77*F77,2)","v":0},{"$f":"ROUND(G77*$D$7,2)","v":0}]
[null,null,"Darbuotojo vardas pavardė"]
[null,null,"Darbuotojo vardas pavardė"]
[null,null,"Darbuotojo vardas pavardė"]
[null,null,"Darbuotojo vardas pavardė"]
["5.5.2","Pareigybės pavadinimas","Darbuotojo vardas pavardė","val.",null,{"$f":"IFERROR(ROUND(AVERAGE(K82:K86),2),\"0\")","v":"0"},{"$f":"ROUND(E82*F82,2)","v":0},{"$f":"ROUND(G82*$D$7,2)","v":0}]
[null,null,"Darbuotojo vardas pavardė"]
[null,null,"Darbuotojo vardas pavardė"]
[null,null,"Darbuotojo vardas pavardė"]
[null,null,"Darbuotojo vardas pavardė"]
["5.5.3","Pareigybės pavadinimas","Darbuotojo vardas pavardė","val.",null,{"$f":"IFERROR(ROUND(AVERAGE(K87:K91),2),\"0\")","v":"0"},{"$f":"ROUND(E87*F87,2)","v":0},{"$f":"ROUND(G87*$D$7,2)","v":0}]
[null,null,"Darbuotojo vardas pavardė"]
[null,null,"Darbuotojo vardas pavardė"]
[null,null,"Darbuotojo vardas pavardė"]
[null,null,"Darbuotojo vardas pavardė"]
["5.5.4","Pareigybės pavadinimas","Darbuotojo vardas pavardė","val.",null,{"$f":"IFERROR(ROUND(AVERAGE(K92:K96),2),\"0\")","v":"0"},{"$f":"ROUND(E92*F92,2)","v":0},{"$f":"ROUND(G92*$D$7,2)","v":0}]
[null,null,"Darbuotojo vardas pavardė"]
[null,null,"Darbuotojo vardas pavardė"]
[null,null,"Darbuotojo vardas pavardė"]
[null,null,"Darbuotojo vardas pavardė"]
["5.5.5","Pareigybės pavadinimas","Darbuotojo vardas pavardė","val.",null,{"$f":"IFERROR(ROUND(AVERAGE(K97:K101),2),\"0\")","v":"0"},{"$f":"ROUND(E97*F97,2)","v":0},{"$f":"ROUND(G97*$D$7,2)","v":0}]
[null,null,"Darbuotojo vardas pavardė"]
[null,null,"Darbuotojo vardas pavardė"]
[null,null,"Darbuotojo vardas pavardė"]
[null,null,"Darbuotojo vardas pavardė"]
["5.5.6","Pareigybės pavadinimas","Darbuotojo vardas pavardė","val.",null,{"$f":"IFERROR(ROUND(AVERAGE(K102:K106),2),\"0\")","v":"0"},{"$f":"ROUND(E102*F102,2)","v":0},{"$f":"ROUND(G102*$D$7,2)","v":0}]
[null,null,"Darbuotojo vardas pavardė"]
[null,null,"Darbuotojo vardas pavardė"]
[null,null,"Darbuotojo vardas pavardė"]
[null,null,"Darbuotojo vardas pavardė"]
["5.5.7","Pareigybės pavadinimas","Darbuotojo vardas pavardė","val.",null,{"$f":"IFERROR(ROUND(AVERAGE(K107:K111),2),\"0\")","v":"0"},{"$f":"ROUND(E107*F107,2)","v":0},{"$f":"ROUND(G107*$D$7,2)","v":0}]
[null,null,"Darbuotojo vardas pavardė"]
[null,null,"Darbuotojo vardas pavardė"]
[null,null,"Darbuotojo vardas pavardė"]
[null,null,"Darbuotojo vardas pavardė"]
["5.5.8","Pareigybės pavadinimas","Darbuotojo vardas pavardė","val.",null,{"$f":"IFERROR(ROUND(AVERAGE(K112:K116),2),\"0\")","v":"0"},{"$f":"ROUND(E112*F112,2)","v":0},{"$f":"ROUND(G112*$D$7,2)","v":0}]
[null,null,"Darbuotojo vardas pavardė"]
[null,null,"Darbuotojo vardas pavardė"]
[null,null,"Darbuotojo vardas pavardė"]
[null,null,"Darbuotojo vardas pavardė"]
["5.5.9","Pareigybės pavadinimas","Darbuotojo vardas pavardė","val.",null,{"$f":"IFERROR(ROUND(AVERAGE(K117:K121),2),\"0\")","v":"0"},{"$f":"ROUND(E117*F117,2)","v":0},{"$f":"ROUND(G117*$D$7,2)","v":0}]
[null,null,"Darbuotojo vardas pavardė"]
[null,null,"Darbuotojo vardas pavardė"]
[null,null,"Darbuotojo vardas pavardė"]
[null,null,"Darbuotojo vardas pavardė"]
["5.5.10","Pareigybės pavadinimas","Darbuotojo vardas pavardė","val.",null,{"$f":"IFERROR(ROUND(AVERAGE(K122:K126),2),\"0\")","v":"0"},{"$f":"ROUND(E122*F122,2)","v":0},{"$f":"ROUND(G122*$D$7,2)","v":0}]
[null,null,"Darbuotojo vardas pavardė"]
[null,null,"Darbuotojo vardas pavardė"]
[null,null,"Darbuotojo vardas pavardė"]
[null,null,"Darbuotojo vardas pavardė"]
["5.6","Projektą vykdančio personalo komandiruočių išlaidos",null,null,null,null,{"$f":"SUM(G128,G135,G142,G149,G156,G163,G170,G177,G184,G191)","v":0},{"$f":"SUM(H128,H135,H142,H149,H156,H163,H170,H177,H184,H191)","v":0}]
["5.6.1","Komandiruotės pavadinimas, vieta, trukmė dienomis, vykstančių asmenų skaičius","Iš viso komandiruotei",null,null,null,{"$f":"SUM(G129:G134)","v":0},{"$f":"ROUND(G128*$D$7,2)","v":0}]
[null,null,"Dienpinigiai",null,null,null,{"$f":"ROUND(E129*F129,2)","v":0}]
[null,null,"Gyvenamojo ploto nuoma",null,null,null,0]
[null,null,"Kelionės išlaidos",null,null,null,0]
[null,null,"Dalyvavimo mokestis",null,null,null,0]
[null,null,"Kitos išlaidų pavadinimas",null,null,null,0]
[null,null,"Kitos išlaidų pavadinimas",null,null,null,0]
["5.6.2","Komandiruotės pavadinimas, vieta, trukmė dienomis, vykstančių asmenų skaičius","Iš viso komandiruotei",null,null,null,{"$f":"SUM(G136:G141)","v":0},{"$f":"ROUND(G135*$D$7,2)","v":0}]
[null,null,"Dienpinigiai",null,null,null,{"$f":"ROUND(E136*F136,2)","v":0}]
[null,null,"Gyvenamojo ploto nuoma",null,null,null,0]
[null,null,"Kelionės išlaidos",null,null,null,0]
[null,null,"Dalyvavimo mokestis",null,null,null,0]
[null,null,"Kitos išlaidų pavadinimas",null,null,null,0]
[null,null,"Kitos išlaidų pavadinimas",null,null,null,0]
["5.6.3","Komandiruotės pavadinimas, vieta, trukmė dienomis, vykstančių asmenų skaičius","Iš viso komandiruotei",null,null,null,{"$f":"SUM(G143:G148)","v":0},{"$f":"ROUND(G142*$D$7,2)","v":0}]
[null,null,"Dienpinigiai",null,null,null,{"$f":"ROUND(E143*F143,2)","v":0}]
[null,null,"Gyvenamojo ploto nuoma",null,null,null,0]
[null,null,"Kelionės išlaidos",null,null,null,0]
[null,null,"Dalyvavimo mokestis",null,null,null,0]
[null,null,"Kitos išlaidų pavadinimas",null,null,null,0]
[null,null,"Kitos išlaidų pavadinimas",null,null,null,0]
["5.6.4","Komandiruotės pavadinimas, vieta, trukmė dienomis, vykstančių asmenų skaičius","Iš viso komandiruotei",null,null,null,{"$f":"SUM(G150:G155)","v":0},{"$f":"ROUND(G149*$D$7,2)","v":0}]
[null,null,"Dienpinigiai",null,null,null,{"$f":"ROUND(E150*F150,2)","v":0}]
[null,null,"Gyvenamojo ploto nuoma",null,null,null,0]
[null,null,"Kelionės išlaidos",null,null,null,0]
[null,null,"Dalyvavimo mokestis",null,null,null,0]
[null,null,"Kitos išlaidų pavadinimas",null,null,null,0]
[null,null,"Kitos išlaidų pavadinimas",null,null,null,0]
["5.6.5","Komandiruotės pavadinimas, vieta, trukmė dienomis, vykstančių asmenų skaičius","Iš viso komandiruotei",null,null,null,{"$f":"SUM(G157:G162)","v":0},{"$f":"ROUND(G156*$D$7,2)","v":0}]
[null,null,"Dienpinigiai",null,null,null,{"$f":"ROUND(E157*F157,2)","v":0}]
[null,null,"Gyvenamojo ploto nuoma",null,null,null,0]
[null,null,"Kelionės išlaidos",null,null,null,0]
[null,null,"Dalyvavimo mokestis",null,null,null,0]
[null,null,"Kitos išlaidų pavadinimas",null,null,null,0]
[null,null,"Kitos išlaidų pavadinimas",null,null,null,0]
["5.6.6","Komandiruotės pavadinimas, vieta, trukmė dienomis, vykstančių asmenų skaičius","Iš viso komandiruotei",null,null,null,{"$f":"SUM(G164:G169)","v":0},{"$f":"ROUND(G163*$D$7,2)","v":0}]
[null,null,"Dienpinigiai",null,null,null,{"$f":"ROUND(E164*F164,2)","v":0}]
[null,null,"Gyvenamojo ploto nuoma",null,null,null,0]
[null,null,"Kelionės išlaidos",null,null,null,0]
[null,null,"Dalyvavimo mokestis",null,null,null,0]
[null,null,"Kitos išlaidų pavadinimas",null,null,null,0]
[null,null,"Kitos išlaidų pavadinimas",null,null,null,0]
["5.6.7","Komandiruotės pavadinimas, vieta, trukmė dienomis, vykstančių asmenų skaičius","Iš viso komandiruotei",null,null,null,{"$f":"SUM(G171:G176)","v":0},{"$f":"ROUND(G170*$D$7,2)","v":0}]
[null,null,"Dienpinigiai",null,null,null,{"$f":"ROUND(E171*F171,2)","v":0}]
[null,null,"Gyvenamojo ploto nuoma",null,null,null,0]
[null,null,"Kelionės išlaidos",null,null,null,0]
[null,null,"Dalyvavimo mokestis",null,null,null,0]
[null,null,"Kitos išlaidų pavadinimas",null,null,null,0]
[null,null,"Kitos išlaidų pavadinimas",null,null,null,0]
["5.6.8","Komandiruotės pavadinimas, vieta, trukmė dienomis, vykstančių asmenų skaičius","Iš viso komandiruotei",null,null,null,{"$f":"SUM(G178:G183)","v":0},{"$f":"ROUND(G177*$D$7,2)","v":0}]
[null,null,"Dienpinigiai",null,null,null,{"$f":"ROUND(E178*F178,2)","v":0}]
[null,null,"Gyvenamojo ploto nuoma",null,null,null,0]
[null,null,"Kelionės išlaidos",null,null,null,0]
[null,null,"Dalyvavimo mokestis",null,null,null,0]
[null,null,"Kitos išlaidų pavadinimas",null,null,null,0]
[null,null,"Kitos išlaidų pavadinimas",null,null,null,0]
["5.6.9","Komandiruotės pavadinimas, vieta, trukmė dienomis, vykstančių asmenų skaičius","Iš viso komandiruotei",null,null,null,{"$f":"SUM(G185:G190)","v":0},{"$f":"ROUND(G184*$D$7,2)","v":0}]
[null,null,"Dienpinigiai",null,null,null,{"$f":"ROUND(E185*F185,2)","v":0}]
[null,null,"Gyvenamojo ploto nuoma",null,null,null,0]
[null,null,"Kelionės išlaidos",null,null,null,0]
[null,null,"Dalyvavimo mokestis",null,null,null,0]
[null,null,"Kitos išlaidų pavadinimas",null,null,null,0]
[null,null,"Kitos išlaidų pavadinimas",null,null,null,0]
["5.6.10","Komandiruotės pavadinimas, vieta, trukmė dienomis, vykstančių asmenų skaičius","Iš viso komandiruotei",null,null,null,{"$f":"SUM(G192:G197)","v":0},{"$f":"ROUND(G191*$D$7,2)","v":0}]
[null,null,"Dienpinigiai",null,null,null,{"$f":"ROUND(E192*F192,2)","v":0}]
[null,null,"Gyvenamojo ploto nuoma",null,null,null,0]
[null,null,"Kelionės išlaidos",null,null,null,0]
[null,null,"Dalyvavimo mokestis",null,null,null,0]
[null,null,"Kitos išlaidų pavadinimas",null,null,null,0]
[null,null,"Kitos išlaidų pavadinimas",null,null,null,0]
["5.7","Įrangos nuomos išlaidos, veiklai priskirtos pro rata principu. Įranga turi būti tiesiogiai susijusi su projekto įgyvendinimu ir negali būti įsigyta iš ES struktūrinių fondų ar kt. ES finansinių priemonių lėšų",null,null,null,null,{"$f":"SUM(G199:G203)","v":0},{"$f":"SUM(H199:H203)","v":0},null,null,"Faktinės 1 mėnesio išlaidos, Eur","Naudojimo projekte trukmė, mėn."]
["5.7.1","Įrangos pavadinimas",null,"pro rata proc.",null,{"$f":"K199*L199","v":0},0,{"$f":"ROUND(G199*$D$7,2)","v":0}]
["5.7.2","Įrangos pavadinimas",null,"pro rata proc.",null,{"$f":"K200*L200","v":0},0,{"$f":"ROUND(G200*$D$7,2)","v":0}]
["5.7.3","Įrangos pavadinimas",null,"pro rata proc.",null,0,0,0]
["5.7.4","Įrangos pavadinimas",null,"pro rata proc.",null,0,0,0]
["5.7.5","Įrangos pavadinimas",null,"pro rata proc.",null,0,0,0]
["5.8","Pastatų ar patalpų nuomos išlaidos, veiklai priskirtos pro rata principu. Pastatai ar patalpos turi būti tiesiogiai susijusi su projekto įgyvendinimu.",null,null,null,null,{"$f":"SUM(G205:G209)","v":0},{"$f":"SUM(H205:H209)","v":0},null,null,"Faktinės 1 mėnesio išlaidos, Eur","Naudojimo projekte trukmė, mėn."]
["5.8.1","Pastato, patalpų adresas",null,"pro rata proc.",null,{"$f":"K205*L205","v":0},{"$f":"ROUND(E205*F205,2)","v":0},{"$f":"ROUND(G205*$D$7,2)","v":0}]
["5.8.2","Pastato, patalpų adresas",null,"pro rata proc.",null,{"$f":"K206*L206","v":0},0,0]
["5.8.3","Pastato, patalpų adresas",null,"pro rata proc.",null,0,0,0]
["5.8.4","Pastato, patalpų adresas",null,"pro rata proc.",null,0,0,0]
["5.8.5","Pastato, patalpų adresas",null,"pro rata proc.",null,0,0,0]
["Iš viso tinkamų finansuoti išlaidų:",null,null,null,null,null,{"$f":"G10+G21","v":0},{"$f":"H10+H21","v":0}]

{"sheet":"16","index":17,"n_rows":210,"n_cols":19,"rows_kept":210,"cut":false,"hidden":false,"merged":[[206,1,206,2],[207,1,207,2],[208,1,208,2],[209,0,209,5],[197,1,197,5],[198,1,198,2],[199,1,199,2],[200,1,200,2],[201,1,201,2],[202,1,202,2],[203,1,203,5],[204,1,204,2],[205,1,205,2],[176,0,182,0],[176,1,182,1],[176,8,182,8],[183,0,189,0],[183,1,189,1],[183,8,189,8],[190,0,196,0],[190,1,196,1],[190,8,196,8],[155,0,161,0],[155,1,161,1],[155,8,161,8],[162,0,168,0],[162,1,168,1],[162,8,168,8],[169,0,175,0],[169,1,175,1],[169,8,175,8],[134,0,140,0],[134,1,140,1],[134,8,140,8],[141,0,147,0],[141,1,147,1],[141,8,147,8],[148,0,154,0],[148,1,154,1],[148,8,154,8],[127,1,133,1],[121,7,125,7],[121,8,125,8],[126,1,126,5],[121,0,125,0],[121,1,125,1],[121,3,125,3],[121,4,125,4],[121,5,125,5],[121,6,125,6],[127,0,133,0],[127,8,133,8],[111,7,115,7],[111,8,115,8],[116,0,120,0],[116,1,120,1],[116,3,120,3],[116,4,120,4],[116,5,120,5],[116,6,120,6],[116,7,120,7],[116,8,120,8],[111,0,115,0],[111,1,115,1],[111,3,115,3],[111,4,115,4],[111,5,115,5],[111,6,115,6],[101,7,105,7],[101,8,105,8],[106,0,110,0],[106,1,110,1],[106,3,110,3],[106,4,110,4],[106,5,110,5],[106,6,110,6],[106,7,110,7],[106,8,110,8],[101,0,105,0],[101,1,105,1],[101,3,105,3],[101,4,105,4],[101,5,105,5],[101,6,105,6],[96,0,100,0],[96,1,100,1],[96,3,100,3],[96,4,100,4],[96,5,100,5],[96,6,100,6],[96,7,100,7],[96,8,100,8],[91,0,95,0],[91,1,95,1],[91,3,95,3],[91,4,95,4],[91,5,95,5],[91,6,95,6],[86,0,90,0],[86,1,90,1],[86,3,90,3],[86,4,90,4],[86,5,90,5],[86,6,90,6],[86,7,90,7],[86,8,90,8],[91,7,95,7],[91,8,95,8],[76,6,80,6],[76,7,80,7],[76,8,80,8],[81,0,85,0],[81,1,85,1],[81,3,85,3],[81,4,85,4],[81,5,85,5],[81,6,85,6],[81,7,85,7],[81,8,85,8],[74,1,74,2],[75,1,75,5],[76,0,80,0],[76,1,80,1],[76,3,80,3],[76,4,80,4],[76,5,80,5],[68,1,68,2],[69,1,69,2],[70,1,70,2],[71,1,71,2],[72,1,72,2],[73,1,73,2],[62,1,62,2],[63,1,63,2],[64,1,64,2],[65,1,65,2],[66,1,66,2],[67,1,67,2],[56,1,56,2],[57,1,57,2],[58,1,58,2],[59,1,59,5],[60,1,60,2],[61,1,61,2],[50,1,50,2],[51,1,51,2],[52,1,52,2],[53,1,53,2],[54,1,54,2],[55,1,55,2],[44,1,44,2],[45,1,45,2],[46,1,46,2],[47,1,47,2],[48,1,48,2],[49,1,49,2],[38,1,38,2],[39,1,39,2],[40,1,40,2],[41,1,41,2],[42,1,42,2],[43,1,43,5],[32,1,32,5],[33,1,33,2],[34,1,34,2],[35,1,35,2],[36,1,36,2],[37,1,37,2],[26,1,26,2],[27,1,27,2],[28,1,28,2],[29,1,29,2],[30,1,30,2],[31,1,31,2],[20,1,20,5],[21,1,21,5],[22,1,22,2],[23,1,23,2],[24,1,24,2],[25,1,25,2],[16,1,16,2],[17,1,17,2],[18,1,18,2],[19,1,19,2],[8,1,8,2],[9,1,9,5],[10,1,10,2],[11,1,11,2],[12,1,12,2],[13,1,13,2],[0,3,0,8],[2,0,2,2],[2,3,2,8],[3,3,3,4],[3,5,3,6],[4,0,4,2],[4,3,4,8],[14,1,14,2],[15,1,15,2]]}
[null,null,"Pasirinkite veiklos tipą:"]
[null,null,"Fizinio rodiklio Nr.:"]
["Fizinio rodiklio pavadinimas:"]
[null,null,"Fizinio rodiklio matavimo vnt.:",null,null,"Fizinio rodiklio vnt. skaičius:"]
["Juridinis asmuo (pareiškėjas, partneris), atsakingas už fizinį rodiklį:"]
[]
[null,null,"Finansavimo intensyvumas:",null,null,null,"Pasirinkite biudžeto išlaidų kategoriją:"]
[]
["Eil. Nr.","Išlaidų kategorijos pavadinimas",null,"Matavimo vnt.","Kiekis","Vieneto kaina be PVM, Eur","Tinkamų finansuoti išlaidų suma be PVM, Eur","Finansavimo suma, Eur","Išlaidų pagrindimo dokumentų pavadinimas, data ir Nr."]
[4,"ĮRANGA, ĮRENGINIAI IR KT. TURTAS (techninių žinių ir išradimų patentų arba teisių pagal licencijų sutartį įsigijimo išlaidos)",null,null,null,null,{"$f":"SUM(G11:G20)","v":0},{"$f":"SUM(H11:H20)","v":0}]
["4.1","Išlaidų pavadinimas",null,null,null,null,{"$f":"ROUND(E11*F11,2)","v":0},{"$f":"ROUND(G11*$D$7,2)","v":0}]
["4.2","Išlaidų pavadinimas",null,null,null,null,0,0]
["4.3","Išlaidų pavadinimas",null,null,null,null,0,0]
["4.4","Išlaidų pavadinimas",null,null,null,null,0,0]
["4.5","Išlaidų pavadinimas",null,null,null,null,0,0]
["4.6","Išlaidų pavadinimas",null,null,null,null,0,0]
["4.7","Išlaidų pavadinimas",null,null,null,null,0,0]
["4.8","Išlaidų pavadinimas",null,null,null,null,0,0]
["4.9","Išlaidų pavadinimas",null,null,null,null,0,0]
["4.10","Išlaidų pavadinimas",null,null,null,null,0,0]
[5,"PROJEKTO VYKDYMAS",null,null,null,null,{"$f":"G22+G33+G44+G60+G76+G127+G198+G204","v":0},{"$f":"H22+H33+H44+H60+H76+H127+H198+H204","v":0}]
["5.1","MTEP paslaugos",null,null,null,null,{"$f":"SUM(G23:G32)","v":0},{"$f":"SUM(H23:H32)","v":0}]
["5.1.1","Paslaugos pavadinimas",null,null,null,null,{"$f":"ROUND(E23*F23,2)","v":0},0]
["5.1.2","Paslaugos pavadinimas",null,null,null,null,0,0]
["5.1.3","Paslaugos pavadinimas",null,null,null,null,0,0]
["5.1.4","Paslaugos pavadinimas",null,null,null,null,0,0]
["5.1.5","Paslaugos pavadinimas",null,null,null,null,0,0]
["5.1.6","Paslaugos pavadinimas",null,null,null,null,0,0]
["5.1.7","Paslaugos pavadinimas",null,null,null,null,0,0]
["5.1.8","Paslaugos pavadinimas",null,null,null,null,0,0]
["5.1.9","Paslaugos pavadinimas",null,null,null,null,0,0]
["5.1.10","Paslaugos pavadinimas",null,null,null,null,0,0]
["5.2","Konsultavimo ir lygiavertės paslaugos, naudojamos vien tik projekto MTEP veiklai",null,null,null,null,{"$f":"SUM(G34:G43)","v":0},{"$f":"SUM(H34:H43)","v":0}]
["5.2.1","Paslaugos pavadinimas",null,null,null,null,{"$f":"ROUND(E34*F34,2)","v":0},0]
["5.2.2","Paslaugos pavadinimas",null,null,null,null,0,0]
["5.2.3","Paslaugos pavadinimas",null,null,null,null,0,0]
["5.2.4","Paslaugos pavadinimas",null,null,null,null,0,0]
["5.2.5","Paslaugos pavadinimas",null,null,null,null,0,0]
["5.2.6","Paslaugos pavadinimas",null,null,null,null,0,0]
["5.2.7","Paslaugos pavadinimas",null,null,null,null,0,0]
["5.2.8","Paslaugos pavadinimas",null,null,null,null,0,0]
["5.2.9","Paslaugos pavadinimas",null,null,null,null,0,0]
["5.2.10","Paslaugos pavadinimas",null,null,null,null,0,0]
["5.3","Medžiagos, mažavertis inventorius, atsargos ir pan. produktai, priskirtini trumpalaikiam turtui ir tiesiogiai susiję su MTEP veikla",null,null,null,null,{"$f":"SUM(G45:G61)","v":0},{"$f":"SUM(H45:H61)","v":0}]
["5.3.1","Išlaidų pavadinimas",null,null,null,null,{"$f":"ROUND(E45*F45,2)","v":0},{"$f":"ROUND(G45*$D$7,2)","v":0}]
["5.3.2","Išlaidų pavadinimas",null,null,null,null,0,0]
["5.3.3","Išlaidų pavadinimas",null,null,null,null,0,0]
["5.3.4","Išlaidų pavadinimas",null,null,null,null,0,0]
["5.3.5","Išlaidų pavadinimas",null,null,null,null,0,0]
["5.3.6","Išlaidų pavadinimas",null,null,null,null,0,0]
["5.3.7","Išlaidų pavadinimas",null,null,null,null,0,0]
["5.3.8","Išlaidų pavadinimas",null,null,null,null,0,0]
["5.3.9","Išlaidų pavadinimas",null,null,null,null,0,0]
["5.3.10","Išlaidų pavadinimas",null,null,null,null,0,0]
["5.3.11","Išlaidų pavadinimas",null,null,null,null,0,0]
["5.3.12","Išlaidų pavadinimas",null,null,null,null,0,0]
["5.3.13","Išlaidų pavadinimas",null,null,null,null,0,0]
["5.3.14","Išlaidų pavadinimas",null,null,null,null,0,0]
["5.3.15","Išlaidų pavadinimas",null,null,null,null,0,0]
["5.4","Projekto MTEP veikloms naudojamo ilgalaikio materialaus turto (įrangos, prietaisų, įrankių, įrenginių, mašinų ir įrengimų, pastatų ir (ar) patalpų), nusidėvėjimo sąnaudos, jeigu šiam turtui įsigyti nebuvo naudojamos viešosios (įskaitant ir kitų valstybių) lėšos",null,null,null,null,{"$f":"SUM(G61:G75)","v":0},{"$f":"SUM(H61:H75)","v":0},null,null,"Turto įvedimo į eksploataciją data","Turto įsigijimo vertė, Eur","Turto nudėvėjimo, amortizacijos laikotarpis, mėn.","Numatoma turto likutinė vertė, Eur","1 mėn. nudėvėjimo, amortizacijos suma, Eur","Turto naudojamo projekto reikmėms laikas, mėn.","Turto panaudojimo projekto reikmėms dalis (proc.)","Projektui priskirta turto nusidėvėjimo, amortizacijos suma per projekto laikotarpį, Eur"]
["5.4.1","Turtas, kurio nusidėvėjimą, amortizaciją prašoma finansuoti",null,null,1,{"$f":"R61","v":0},{"$f":"ROUND(E61*F61,2)","v":0},0,null,null,null,null,null,null,{"$f":"IFERROR(ROUND((L61-N61)/M61,2),\"0\")","v":"0"},null,null,{"$f":"O61*P61*Q61","v":0},{"$f":"IF(K61=0,\" \",IF(K61+(M61*30.5)<TODAY(),\"DĖMESIO! Patikrinkite, ar nurodytas turtas dar nėra nudėvėtas, amortizuotas\",\" \"))","v":" "}]
["5.4.2","Turtas, kurio nusidėvėjimą, amortizaciją prašoma finansuoti",null,null,1,{"$f":"R62","v":0},0,0,null,null,null,null,null,null,{"$f":"IFERROR(ROUND((L62-N62)/M62,2),\"0\")","v":"0"},null,null,{"$f":"O62*P62*Q62","v":0},{"$f":"IF(K62=0,\" \",IF(K62+(M62*30.5)<TODAY(),\"DĖMESIO! Patikrinkite, ar nurodytas turtas dar nėra nudėvėtas, amortizuotas\",\" \"))","v":" "}]
["5.4.3","Turtas, kurio nusidėvėjimą, amortizaciją prašoma finansuoti",null,null,1,0,0,0,null,null,null,null,null,null,"0",null,null,0," "]
["5.4.4","Turtas, kurio nusidėvėjimą, amortizaciją prašoma finansuoti",null,null,1,0,0,0,null,null,null,null,null,null,"0",null,null,0," "]
["5.4.5","Turtas, kurio nusidėvėjimą, amortizaciją prašoma finansuoti",null,null,1,0,0,0,null,null,null,null,null,null,"0",null,null,0," "]
["5.4.6","Turtas, kurio nusidėvėjimą, amortizaciją prašoma finansuoti",null,null,1,0,0,0,null,null,null,null,null,null,"0",null,null,0," "]
["5.4.7","Turtas, kurio nusidėvėjimą, amortizaciją prašoma finansuoti",null,null,1,0,0,0,null,null,null,null,null,null,"0",null,null,0," "]
["5.4.8","Turtas, kurio nusidėvėjimą, amortizaciją prašoma finansuoti",null,null,1,0,0,0,null,null,null,null,null,null,"0",null,null,0," "]
["5.4.9","Turtas, kurio nusidėvėjimą, amortizaciją prašoma finansuoti",null,null,1,0,0,0,null,null,null,null,null,null,"0",null,null,0," "]
["5.4.10","Turtas, kurio nusidėvėjimą, amortizaciją prašoma finansuoti",null,null,1,0,0,0,null,null,null,null,null,null,"0",null,null,0," "]
["5.4.11","Turtas, kurio nusidėvėjimą, amortizaciją prašoma finansuoti",null,null,1,0,0,0,null,null,null,null,null,null,"0",null,null,0," "]
["5.4.12","Turtas, kurio nusidėvėjimą, amortizaciją prašoma finansuoti",null,null,1,0,0,0,null,null,null,null,null,null,"0",null,null,0," "]
["5.4.13","Turtas, kurio nusidėvėjimą, amortizaciją prašoma finansuoti",null,null,1,0,0,0,null,null,null,null,null,null,"0",null,null,0," "]
["5.4.14","Turtas, kurio nusidėvėjimą, amortizaciją prašoma finansuoti",null,null,1,0,0,0,null,null,null,null,null,null,"0",null,null,0," "]
["5.4.15","Turtas, kurio nusidėvėjimą, amortizaciją prašoma finansuoti",null,null,1,0,0,0,null,null,null,null,null,null,"0",null,null,0," "]
["5.5","Projektą vykdančio personalo darbo užmokestis ir išlaidos su darbo santykiais susijusiems darbdavio įsipareigojimams",null,null,null,null,{"$f":"SUM(G77:G126)","v":0},{"$f":"SUM(H77:H126)","v":0},null,null,"Faktiškai gaunamas darbo užmokesti už 1 valandą pagal  pastarųjų 6 mėn. vidurkį, Eur"]
["5.5.1","Pareigybės pavadinimas","Darbuotojo vardas pavardė","val.",null,{"$f":"IFERROR(ROUND(AVERAGE(K77:K81),2),\"0\")","v":"0"},{"$f":"ROUND(E77*F77,2)","v":0},{"$f":"ROUND(G77*$D$7,2)","v":0}]
[null,null,"Darbuotojo vardas pavardė"]
[null,null,"Darbuotojo vardas pavardė"]
[null,null,"Darbuotojo vardas pavardė"]
[null,null,"Darbuotojo vardas pavardė"]
["5.5.2","Pareigybės pavadinimas","Darbuotojo vardas pavardė","val.",null,{"$f":"IFERROR(ROUND(AVERAGE(K82:K86),2),\"0\")","v":"0"},{"$f":"ROUND(E82*F82,2)","v":0},{"$f":"ROUND(G82*$D$7,2)","v":0}]
[null,null,"Darbuotojo vardas pavardė"]
[null,null,"Darbuotojo vardas pavardė"]
[null,null,"Darbuotojo vardas pavardė"]
[null,null,"Darbuotojo vardas pavardė"]
["5.5.3","Pareigybės pavadinimas","Darbuotojo vardas pavardė","val.",null,{"$f":"IFERROR(ROUND(AVERAGE(K87:K91),2),\"0\")","v":"0"},{"$f":"ROUND(E87*F87,2)","v":0},{"$f":"ROUND(G87*$D$7,2)","v":0}]
[null,null,"Darbuotojo vardas pavardė"]
[null,null,"Darbuotojo vardas pavardė"]
[null,null,"Darbuotojo vardas pavardė"]
[null,null,"Darbuotojo vardas pavardė"]
["5.5.4","Pareigybės pavadinimas","Darbuotojo vardas pavardė","val.",null,{"$f":"IFERROR(ROUND(AVERAGE(K92:K96),2),\"0\")","v":"0"},{"$f":"ROUND(E92*F92,2)","v":0},{"$f":"ROUND(G92*$D$7,2)","v":0}]
[null,null,"Darbuotojo vardas pavardė"]
[null,null,"Darbuotojo vardas pavardė"]
[null,null,"Darbuotojo vardas pavardė"]
[null,null,"Darbuotojo vardas pavardė"]
["5.5.5","Pareigybės pavadinimas","Darbuotojo vardas pavardė","val.",null,{"$f":"IFERROR(ROUND(AVERAGE(K97:K101),2),\"0\")","v":"0"},{"$f":"ROUND(E97*F97,2)","v":0},{"$f":"ROUND(G97*$D$7,2)","v":0}]
[null,null,"Darbuotojo vardas pavardė"]
[null,null,"Darbuotojo vardas pavardė"]
[null,null,"Darbuotojo vardas pavardė"]
[null,null,"Darbuotojo vardas pavardė"]
["5.5.6","Pareigybės pavadinimas","Darbuotojo vardas pavardė","val.",null,{"$f":"IFERROR(ROUND(AVERAGE(K102:K106),2),\"0\")","v":"0"},{"$f":"ROUND(E102*F102,2)","v":0},{"$f":"ROUND(G102*$D$7,2)","v":0}]
[null,null,"Darbuotojo vardas pavardė"]
[null,null,"Darbuotojo vardas pavardė"]
[null,null,"Darbuotojo vardas pavardė"]
[null,null,"Darbuotojo vardas pavardė"]
["5.5.7","Pareigybės pavadinimas","Darbuotojo vardas pavardė","val.",null,{"$f":"IFERROR(ROUND(AVERAGE(K107:K111),2),\"0\")","v":"0"},{"$f":"ROUND(E107*F107,2)","v":0},{"$f":"ROUND(G107*$D$7,2)","v":0}]
[null,null,"Darbuotojo vardas pavardė"]
[null,null,"Darbuotojo vardas pavardė"]
[null,null,"Darbuotojo vardas pavardė"]
[null,null,"Darbuotojo vardas pavardė"]
["5.5.8","Pareigybės pavadinimas","Darbuotojo vardas pavardė","val.",null,{"$f":"IFERROR(ROUND(AVERAGE(K112:K116),2),\"0\")","v":"0"},{"$f":"ROUND(E112*F112,2)","v":0},{"$f":"ROUND(G112*$D$7,2)","v":0}]
[null,null,"Darbuotojo vardas pavardė"]
[null,null,"Darbuotojo vardas pavardė"]
[null,null,"Darbuotojo vardas pavardė"]
[null,null,"Darbuotojo vardas pavardė"]
["5.5.9","Pareigybės pavadinimas","Darbuotojo vardas pavardė","val.",null,{"$f":"IFERROR(ROUND(AVERAGE(K117:K121),2),\"0\")","v":"0"},{"$f":"ROUND(E117*F117,2)","v":0},{"$f":"ROUND(G117*$D$7,2)","v":0}]
[null,null,"Darbuotojo vardas pavardė"]
[null,null,"Darbuotojo vardas pavardė"]
[null,null,"Darbuotojo vardas pavardė"]
[null,null,"Darbuotojo vardas pavardė"]
["5.5.10","Pareigybės pavadinimas","Darbuotojo vardas pavardė","val.",null,{"$f":"IFERROR(ROUND(AVERAGE(K122:K126),2),\"0\")","v":"0"},{"$f":"ROUND(E122*F122,2)","v":0},{"$f":"ROUND(G122*$D$7,2)","v":0}]
[null,null,"Darbuotojo vardas pavardė"]
[null,null,"Darbuotojo vardas pavardė"]
[null,null,"Darbuotojo vardas pavardė"]
[null,null,"Darbuotojo vardas pavardė"]
["5.6","Projektą vykdančio personalo komandiruočių išlaidos",null,null,null,null,{"$f":"SUM(G128,G135,G142,G149,G156,G163,G170,G177,G184,G191)","v":0},{"$f":"SUM(H128,H135,H142,H149,H156,H163,H170,H177,H184,H191)","v":0}]
["5.6.1","Komandiruotės pavadinimas, vieta, trukmė dienomis, vykstančių asmenų skaičius","Iš viso komandiruotei",null,null,null,{"$f":"SUM(G129:G134)","v":0},{"$f":"ROUND(G128*$D$7,2)","v":0}]
[null,null,"Dienpinigiai",null,null,null,{"$f":"ROUND(E129*F129,2)","v":0}]
[null,null,"Gyvenamojo ploto nuoma",null,null,null,0]
[null,null,"Kelionės išlaidos",null,null,null,0]
[null,null,"Dalyvavimo mokestis",null,null,null,0]
[null,null,"Kitos išlaidų pavadinimas",null,null,null,0]
[null,null,"Kitos išlaidų pavadinimas",null,null,null,0]
["5.6.2","Komandiruotės pavadinimas, vieta, trukmė dienomis, vykstančių asmenų skaičius","Iš viso komandiruotei",null,null,null,{"$f":"SUM(G136:G141)","v":0},{"$f":"ROUND(G135*$D$7,2)","v":0}]
[null,null,"Dienpinigiai",null,null,null,{"$f":"ROUND(E136*F136,2)","v":0}]
[null,null,"Gyvenamojo ploto nuoma",null,null,null,0]
[null,null,"Kelionės išlaidos",null,null,null,0]
[null,null,"Dalyvavimo mokestis",null,null,null,0]
[null,null,"Kitos išlaidų pavadinimas",null,null,null,0]
[null,null,"Kitos išlaidų pavadinimas",null,null,null,0]
["5.6.3","Komandiruotės pavadinimas, vieta, trukmė dienomis, vykstančių asmenų skaičius","Iš viso komandiruotei",null,null,null,{"$f":"SUM(G143:G148)","v":0},{"$f":"ROUND(G142*$D$7,2)","v":0}]
[null,null,"Dienpinigiai",null,null,null,{"$f":"ROUND(E143*F143,2)","v":0}]
[null,null,"Gyvenamojo ploto nuoma",null,null,null,0]
[null,null,"Kelionės išlaidos",null,null,null,0]
[null,null,"Dalyvavimo mokestis",null,null,null,0]
[null,null,"Kitos išlaidų pavadinimas",null,null,null,0]
[null,null,"Kitos išlaidų pavadinimas",null,null,null,0]
["5.6.4","Komandiruotės pavadinimas, vieta, trukmė dienomis, vykstančių asmenų skaičius","Iš viso komandiruotei",null,null,null,{"$f":"SUM(G150:G155)","v":0},{"$f":"ROUND(G149*$D$7,2)","v":0}]
[null,null,"Dienpinigiai",null,null,null,{"$f":"ROUND(E150*F150,2)","v":0}]
[null,null,"Gyvenamojo ploto nuoma",null,null,null,0]
[null,null,"Kelionės išlaidos",null,null,null,0]
[null,null,"Dalyvavimo mokestis",null,null,null,0]
[null,null,"Kitos išlaidų pavadinimas",null,null,null,0]
[null,null,"Kitos išlaidų pavadinimas",null,null,null,0]
["5.6.5","Komandiruotės pavadinimas, vieta, trukmė dienomis, vykstančių asmenų skaičius","Iš viso komandiruotei",null,null,null,{"$f":"SUM(G157:G162)","v":0},{"$f":"ROUND(G156*$D$7,2)","v":0}]
[null,null,"Dienpinigiai",null,null,null,{"$f":"ROUND(E157*F157,2)","v":0}]
[null,null,"Gyvenamojo ploto nuoma",null,null,null,0]
[null,null,"Kelionės išlaidos",null,null,null,0]
[null,null,"Dalyvavimo mokestis",null,null,null,0]
[null,null,"Kitos išlaidų pavadinimas",null,null,null,0]
[null,null,"Kitos išlaidų pavadinimas",null,null,null,0]
["5.6.6","Komandiruotės pavadinimas, vieta, trukmė dienomis, vykstančių asmenų skaičius","Iš viso komandiruotei",null,null,null,{"$f":"SUM(G164:G169)","v":0},{"$f":"ROUND(G163*$D$7,2)","v":0}]
[null,null,"Dienpinigiai",null,null,null,{"$f":"ROUND(E164*F164,2)","v":0}]
[null,null,"Gyvenamojo ploto nuoma",null,null,null,0]
[null,null,"Kelionės išlaidos",null,null,null,0]
[null,null,"Dalyvavimo mokestis",null,null,null,0]
[null,null,"Kitos išlaidų pavadinimas",null,null,null,0]
[null,null,"Kitos išlaidų pavadinimas",null,null,null,0]
["5.6.7","Komandiruotės pavadinimas, vieta, trukmė dienomis, vykstančių asmenų skaičius","Iš viso komandiruotei",null,null,null,{"$f":"SUM(G171:G176)","v":0},{"$f":"ROUND(G170*$D$7,2)","v":0}]
[null,null,"Dienpinigiai",null,null,null,{"$f":"ROUND(E171*F171,2)","v":0}]
[null,null,"Gyvenamojo ploto nuoma",null,null,null,0]
[null,null,"Kelionės išlaidos",null,null,null,0]
[null,null,"Dalyvavimo mokestis",null,null,null,0]
[null,null,"Kitos išlaidų pavadinimas",null,null,null,0]
[null,null,"Kitos išlaidų pavadinimas",null,null,null,0]
["5.6.8","Komandiruotės pavadinimas, vieta, trukmė dienomis, vykstančių asmenų skaičius","Iš viso komandiruotei",null,null,null,{"$f":"SUM(G178:G183)","v":0},{"$f":"ROUND(G177*$D$7,2)","v":0}]
[null,null,"Dienpinigiai",null,null,null,{"$f":"ROUND(E178*F178,2)","v":0}]
[null,null,"Gyvenamojo ploto nuoma",null,null,null,0]
[null,null,"Kelionės išlaidos",null,null,null,0]
[null,null,"Dalyvavimo mokestis",null,null,null,0]
[null,null,"Kitos išlaidų pavadinimas",null,null,null,0]
[null,null,"Kitos išlaidų pavadinimas",null,null,null,0]
["5.6.9","Komandiruotės pavadinimas, vieta, trukmė dienomis, vykstančių asmenų skaičius","Iš viso komandiruotei",null,null,null,{"$f":"SUM(G185:G190)","v":0},{"$f":"ROUND(G184*$D$7,2)","v":0}]
[null,null,"Dienpinigiai",null,null,null,{"$f":"ROUND(E185*F185,2)","v":0}]
[null,null,"Gyvenamojo ploto nuoma",null,null,null,0]
[null,null,"Kelionės išlaidos",null,null,null,0]
[null,null,"Dalyvavimo mokestis",null,null,null,0]
[null,null,"Kitos išlaidų pavadinimas",null,null,null,0]
[null,null,"Kitos išlaidų pavadinimas",null,null,null,0]
["5.6.10","Komandiruotės pavadinimas, vieta, trukmė dienomis, vykstančių asmenų skaičius","Iš viso komandiruotei",null,null,null,{"$f":"SUM(G192:G197)","v":0},{"$f":"ROUND(G191*$D$7,2)","v":0}]
[null,null,"Dienpinigiai",null,null,null,{"$f":"ROUND(E192*F192,2)","v":0}]
[null,null,"Gyvenamojo ploto nuoma",null,null,null,0]
[null,null,"Kelionės išlaidos",null,null,null,0]
[null,null,"Dalyvavimo mokestis",null,null,null,0]
[null,null,"Kitos išlaidų pavadinimas",null,null,null,0]
[null,null,"Kitos išlaidų pavadinimas",null,null,null,0]
["5.7","Įrangos nuomos išlaidos, veiklai priskirtos pro rata principu. Įranga turi būti tiesiogiai susijusi su projekto įgyvendinimu ir negali būti įsigyta iš ES struktūrinių fondų ar kt. ES finansinių priemonių lėšų",null,null,null,null,{"$f":"SUM(G199:G203)","v":0},{"$f":"SUM(H199:H203)","v":0},null,null,"Faktinės 1 mėnesio išlaidos, Eur","Naudojimo projekte trukmė, mėn."]
["5.7.1","Įrangos pavadinimas",null,"pro rata proc.",null,{"$f":"K199*L199","v":0},0,{"$f":"ROUND(G199*$D$7,2)","v":0}]
["5.7.2","Įrangos pavadinimas",null,"pro rata proc.",null,{"$f":"K200*L200","v":0},0,{"$f":"ROUND(G200*$D$7,2)","v":0}]
["5.7.3","Įrangos pavadinimas",null,"pro rata proc.",null,0,0,0]
["5.7.4","Įrangos pavadinimas",null,"pro rata proc.",null,0,0,0]
["5.7.5","Įrangos pavadinimas",null,"pro rata proc.",null,0,0,0]
["5.8","Pastatų ar patalpų nuomos išlaidos, veiklai priskirtos pro rata principu. Pastatai ar patalpos turi būti tiesiogiai susijusi su projekto įgyvendinimu.",null,null,null,null,{"$f":"SUM(G205:G209)","v":0},{"$f":"SUM(H205:H209)","v":0},null,null,"Faktinės 1 mėnesio išlaidos, Eur","Naudojimo projekte trukmė, mėn."]
["5.8.1","Pastato, patalpų adresas",null,"pro rata proc.",null,{"$f":"K205*L205","v":0},{"$f":"ROUND(E205*F205,2)","v":0},{"$f":"ROUND(G205*$D$7,2)","v":0}]
["5.8.2","Pastato, patalpų adresas",null,"pro rata proc.",null,{"$f":"K206*L206","v":0},0,0]
["5.8.3","Pastato, patalpų adresas",null,"pro rata proc.",null,0,0,0]
["5.8.4","Pastato, patalpų adresas",null,"pro rata proc.",null,0,0,0]
["5.8.5","Pastato, patalpų adresas",null,"pro rata proc.",null,0,0,0]
["Iš viso tinkamų finansuoti išlaidų:",null,null,null,null,null,{"$f":"G10+G21","v":0},{"$f":"H10+H21","v":0}]

{"sheet":"17","index":18,"n_rows":210,"n_cols":19,"rows_kept":210,"cut":false,"hidden":false,"merged":[[206,1,206,2],[207,1,207,2],[208,1,208,2],[209,0,209,5],[197,1,197,5],[198,1,198,2],[199,1,199,2],[200,1,200,2],[201,1,201,2],[202,1,202,2],[203,1,203,5],[204,1,204,2],[205,1,205,2],[176,0,182,0],[176,1,182,1],[176,8,182,8],[183,0,189,0],[183,1,189,1],[183,8,189,8],[190,0,196,0],[190,1,196,1],[190,8,196,8],[155,0,161,0],[155,1,161,1],[155,8,161,8],[162,0,168,0],[162,1,168,1],[162,8,168,8],[169,0,175,0],[169,1,175,1],[169,8,175,8],[134,0,140,0],[134,1,140,1],[134,8,140,8],[141,0,147,0],[141,1,147,1],[141,8,147,8],[148,0,154,0],[148,1,154,1],[148,8,154,8],[127,1,133,1],[121,7,125,7],[121,8,125,8],[126,1,126,5],[121,0,125,0],[121,1,125,1],[121,3,125,3],[121,4,125,4],[121,5,125,5],[121,6,125,6],[127,0,133,0],[127,8,133,8],[111,7,115,7],[111,8,115,8],[116,0,120,0],[116,1,120,1],[116,3,120,3],[116,4,120,4],[116,5,120,5],[116,6,120,6],[116,7,120,7],[116,8,120,8],[111,0,115,0],[111,1,115,1],[111,3,115,3],[111,4,115,4],[111,5,115,5],[111,6,115,6],[101,7,105,7],[101,8,105,8],[106,0,110,0],[106,1,110,1],[106,3,110,3],[106,4,110,4],[106,5,110,5],[106,6,110,6],[106,7,110,7],[106,8,110,8],[101,0,105,0],[101,1,105,1],[101,3,105,3],[101,4,105,4],[101,5,105,5],[101,6,105,6],[96,0,100,0],[96,1,100,1],[96,3,100,3],[96,4,100,4],[96,5,100,5],[96,6,100,6],[96,7,100,7],[96,8,100,8],[91,0,95,0],[91,1,95,1],[91,3,95,3],[91,4,95,4],[91,5,95,5],[91,6,95,6],[86,0,90,0],[86,1,90,1],[86,3,90,3],[86,4,90,4],[86,5,90,5],[86,6,90,6],[86,7,90,7],[86,8,90,8],[91,7,95,7],[91,8,95,8],[76,6,80,6],[76,7,80,7],[76,8,80,8],[81,0,85,0],[81,1,85,1],[81,3,85,3],[81,4,85,4],[81,5,85,5],[81,6,85,6],[81,7,85,7],[81,8,85,8],[74,1,74,2],[75,1,75,5],[76,0,80,0],[76,1,80,1],[76,3,80,3],[76,4,80,4],[76,5,80,5],[68,1,68,2],[69,1,69,2],[70,1,70,2],[71,1,71,2],[72,1,72,2],[73,1,73,2],[62,1,62,2],[63,1,63,2],[64,1,64,2],[65,1,65,2],[66,1,66,2],[67,1,67,2],[56,1,56,2],[57,1,57,2],[58,1,58,2],[59,1,59,5],[60,1,60,2],[61,1,61,2],[50,1,50,2],[51,1,51,2],[52,1,52,2],[53,1,53,2],[54,1,54,2],[55,1,55,2],[44,1,44,2],[45,1,45,2],[46,1,46,2],[47,1,47,2],[48,1,48,2],[49,1,49,2],[38,1,38,2],[39,1,39,2],[40,1,40,2],[41,1,41,2],[42,1,42,2],[43,1,43,5],[32,1,32,5],[33,1,33,2],[34,1,34,2],[35,1,35,2],[36,1,36,2],[37,1,37,2],[26,1,26,2],[27,1,27,2],[28,1,28,2],[29,1,29,2],[30,1,30,2],[31,1,31,2],[20,1,20,5],[21,1,21,5],[22,1,22,2],[23,1,23,2],[24,1,24,2],[25,1,25,2],[16,1,16,2],[17,1,17,2],[18,1,18,2],[19,1,19,2],[8,1,8,2],[9,1,9,5],[10,1,10,2],[11,1,11,2],[12,1,12,2],[13,1,13,2],[0,3,0,8],[2,0,2,2],[2,3,2,8],[3,3,3,4],[3,5,3,6],[4,0,4,2],[4,3,4,8],[14,1,14,2],[15,1,15,2]]}
[null,null,"Pasirinkite veiklos tipą:"]
[null,null,"Fizinio rodiklio Nr.:"]
["Fizinio rodiklio pavadinimas:"]
[null,null,"Fizinio rodiklio matavimo vnt.:",null,null,"Fizinio rodiklio vnt. skaičius:"]
["Juridinis asmuo (pareiškėjas, partneris), atsakingas už fizinį rodiklį:"]
[]
[null,null,"Finansavimo intensyvumas:",null,null,null,"Pasirinkite biudžeto išlaidų kategoriją:"]
[]
["Eil. Nr.","Išlaidų kategorijos pavadinimas",null,"Matavimo vnt.","Kiekis","Vieneto kaina be PVM, Eur","Tinkamų finansuoti išlaidų suma be PVM, Eur","Finansavimo suma, Eur","Išlaidų pagrindimo dokumentų pavadinimas, data ir Nr."]
[4,"ĮRANGA, ĮRENGINIAI IR KT. TURTAS (techninių žinių ir išradimų patentų arba teisių pagal licencijų sutartį įsigijimo išlaidos)",null,null,null,null,{"$f":"SUM(G11:G20)","v":0},{"$f":"SUM(H11:H20)","v":0}]
["4.1","Išlaidų pavadinimas",null,null,null,null,{"$f":"ROUND(E11*F11,2)","v":0},{"$f":"ROUND(G11*$D$7,2)","v":0}]
["4.2","Išlaidų pavadinimas",null,null,null,null,0,0]
["4.3","Išlaidų pavadinimas",null,null,null,null,0,0]
["4.4","Išlaidų pavadinimas",null,null,null,null,0,0]
["4.5","Išlaidų pavadinimas",null,null,null,null,0,0]
["4.6","Išlaidų pavadinimas",null,null,null,null,0,0]
["4.7","Išlaidų pavadinimas",null,null,null,null,0,0]
["4.8","Išlaidų pavadinimas",null,null,null,null,0,0]
["4.9","Išlaidų pavadinimas",null,null,null,null,0,0]
["4.10","Išlaidų pavadinimas",null,null,null,null,0,0]
[5,"PROJEKTO VYKDYMAS",null,null,null,null,{"$f":"G22+G33+G44+G60+G76+G127+G198+G204","v":0},{"$f":"H22+H33+H44+H60+H76+H127+H198+H204","v":0}]
["5.1","MTEP paslaugos",null,null,null,null,{"$f":"SUM(G23:G32)","v":0},{"$f":"SUM(H23:H32)","v":0}]
["5.1.1","Paslaugos pavadinimas",null,null,null,null,{"$f":"ROUND(E23*F23,2)","v":0},0]
["5.1.2","Paslaugos pavadinimas",null,null,null,null,0,0]
["5.1.3","Paslaugos pavadinimas",null,null,null,null,0,0]
["5.1.4","Paslaugos pavadinimas",null,null,null,null,0,0]
["5.1.5","Paslaugos pavadinimas",null,null,null,null,0,0]
["5.1.6","Paslaugos pavadinimas",null,null,null,null,0,0]
["5.1.7","Paslaugos pavadinimas",null,null,null,null,0,0]
["5.1.8","Paslaugos pavadinimas",null,null,null,null,0,0]
["5.1.9","Paslaugos pavadinimas",null,null,null,null,0,0]
["5.1.10","Paslaugos pavadinimas",null,null,null,null,0,0]
["5.2","Konsultavimo ir lygiavertės paslaugos, naudojamos vien tik projekto MTEP veiklai",null,null,null,null,{"$f":"SUM(G34:G43)","v":0},{"$f":"SUM(H34:H43)","v":0}]
["5.2.1","Paslaugos pavadinimas",null,null,null,null,{"$f":"ROUND(E34*F34,2)","v":0},0]
["5.2.2","Paslaugos pavadinimas",null,null,null,null,0,0]
["5.2.3","Paslaugos pavadinimas",null,null,null,null,0,0]
["5.2.4","Paslaugos pavadinimas",null,null,null,null,0,0]
["5.2.5","Paslaugos pavadinimas",null,null,null,null,0,0]
["5.2.6","Paslaugos pavadinimas",null,null,null,null,0,0]
["5.2.7","Paslaugos pavadinimas",null,null,null,null,0,0]
["5.2.8","Paslaugos pavadinimas",null,null,null,null,0,0]
["5.2.9","Paslaugos pavadinimas",null,null,null,null,0,0]
["5.2.10","Paslaugos pavadinimas",null,null,null,null,0,0]
["5.3","Medžiagos, mažavertis inventorius, atsargos ir pan. produktai, priskirtini trumpalaikiam turtui ir tiesiogiai susiję su MTEP veikla",null,null,null,null,{"$f":"SUM(G45:G61)","v":0},{"$f":"SUM(H45:H61)","v":0}]
["5.3.1","Išlaidų pavadinimas",null,null,null,null,{"$f":"ROUND(E45*F45,2)","v":0},{"$f":"ROUND(G45*$D$7,2)","v":0}]
["5.3.2","Išlaidų pavadinimas",null,null,null,null,0,0]
["5.3.3","Išlaidų pavadinimas",null,null,null,null,0,0]
["5.3.4","Išlaidų pavadinimas",null,null,null,null,0,0]
["5.3.5","Išlaidų pavadinimas",null,null,null,null,0,0]
["5.3.6","Išlaidų pavadinimas",null,null,null,null,0,0]
["5.3.7","Išlaidų pavadinimas",null,null,null,null,0,0]
["5.3.8","Išlaidų pavadinimas",null,null,null,null,0,0]
["5.3.9","Išlaidų pavadinimas",null,null,null,null,0,0]
["5.3.10","Išlaidų pavadinimas",null,null,null,null,0,0]
["5.3.11","Išlaidų pavadinimas",null,null,null,null,0,0]
["5.3.12","Išlaidų pavadinimas",null,null,null,null,0,0]
["5.3.13","Išlaidų pavadinimas",null,null,null,null,0,0]
["5.3.14","Išlaidų pavadinimas",null,null,null,null,0,0]
["5.3.15","Išlaidų pavadinimas",null,null,null,null,0,0]
["5.4","Projekto MTEP veikloms naudojamo ilgalaikio materialaus turto (įrangos, prietaisų, įrankių, įrenginių, mašinų ir įrengimų, pastatų ir (ar) patalpų), nusidėvėjimo sąnaudos, jeigu šiam turtui įsigyti nebuvo naudojamos viešosios (įskaitant ir kitų valstybių) lėšos",null,null,null,null,{"$f":"SUM(G61:G75)","v":0},{"$f":"SUM(H61:H75)","v":0},null,null,"Turto įvedimo į eksploataciją data","Turto įsigijimo vertė, Eur","Turto nudėvėjimo, amortizacijos laikotarpis, mėn.","Numatoma turto likutinė vertė, Eur","1 mėn. nudėvėjimo, amortizacijos suma, Eur","Turto naudojamo projekto reikmėms laikas, mėn.","Turto panaudojimo projekto reikmėms dalis (proc.)","Projektui priskirta turto nusidėvėjimo, amortizacijos suma per projekto laikotarpį, Eur"]
["5.4.1","Turtas, kurio nusidėvėjimą, amortizaciją prašoma finansuoti",null,null,1,{"$f":"R61","v":0},{"$f":"ROUND(E61*F61,2)","v":0},0,null,null,null,null,null,null,{"$f":"IFERROR(ROUND((L61-N61)/M61,2),\"0\")","v":"0"},null,null,{"$f":"O61*P61*Q61","v":0},{"$f":"IF(K61=0,\" \",IF(K61+(M61*30.5)<TODAY(),\"DĖMESIO! Patikrinkite, ar nurodytas turtas dar nėra nudėvėtas, amortizuotas\",\" \"))","v":" "}]
["5.4.2","Turtas, kurio nusidėvėjimą, amortizaciją prašoma finansuoti",null,null,1,{"$f":"R62","v":0},0,0,null,null,null,null,null,null,{"$f":"IFERROR(ROUND((L62-N62)/M62,2),\"0\")","v":"0"},null,null,{"$f":"O62*P62*Q62","v":0},{"$f":"IF(K62=0,\" \",IF(K62+(M62*30.5)<TODAY(),\"DĖMESIO! Patikrinkite, ar nurodytas turtas dar nėra nudėvėtas, amortizuotas\",\" \"))","v":" "}]
["5.4.3","Turtas, kurio nusidėvėjimą, amortizaciją prašoma finansuoti",null,null,1,0,0,0,null,null,null,null,null,null,"0",null,null,0," "]
["5.4.4","Turtas, kurio nusidėvėjimą, amortizaciją prašoma finansuoti",null,null,1,0,0,0,null,null,null,null,null,null,"0",null,null,0," "]
["5.4.5","Turtas, kurio nusidėvėjimą, amortizaciją prašoma finansuoti",null,null,1,0,0,0,null,null,null,null,null,null,"0",null,null,0," "]
["5.4.6","Turtas, kurio nusidėvėjimą, amortizaciją prašoma finansuoti",null,null,1,0,0,0,null,null,null,null,null,null,"0",null,null,0," "]
["5.4.7","Turtas, kurio nusidėvėjimą, amortizaciją prašoma finansuoti",null,null,1,0,0,0,null,null,null,null,null,null,"0",null,null,0," "]
["5.4.8","Turtas, kurio nusidėvėjimą, amortizaciją prašoma finansuoti",null,null,1,0,0,0,null,null,null,null,null,null,"0",null,null,0," "]
["5.4.9","Turtas, kurio nusidėvėjimą, amortizaciją prašoma finansuoti",null,null,1,0,0,0,null,null,null,null,null,null,"0",null,null,0," "]
["5.4.10","Turtas, kurio nusidėvėjimą, amortizaciją prašoma finansuoti",null,null,1,0,0,0,null,null,null,null,null,null,"0",null,null,0," "]
["5.4.11","Turtas, kurio nusidėvėjimą, amortizaciją prašoma finansuoti",null,null,1,0,0,0,null,null,null,null,null,null,"0",null,null,0," "]
["5.4.12","Turtas, kurio nusidėvėjimą, amortizaciją prašoma finansuoti",null,null,1,0,0,0,null,null,null,null,null,null,"0",null,null,0," "]
["5.4.13","Turtas, kurio nusidėvėjimą, amortizaciją prašoma finansuoti",null,null,1,0,0,0,null,null,null,null,null,null,"0",null,null,0," "]
["5.4.14","Turtas, kurio nusidėvėjimą, amortizaciją prašoma finansuoti",null,null,1,0,0,0,null,null,null,null,null,null,"0",null,null,0," "]
["5.4.15","Turtas, kurio nusidėvėjimą, amortizaciją prašoma finansuoti",null,null,1,0,0,0,null,null,null,null,null,null,"0",null,null,0," "]
["5.5","Projektą vykdančio personalo darbo užmokestis ir išlaidos su darbo santykiais susijusiems darbdavio įsipareigojimams",null,null,null,null,{"$f":"SUM(G77:G126)","v":0},{"$f":"SUM(H77:H126)","v":0},null,null,"Faktiškai gaunamas darbo užmokesti už 1 valandą pagal  pastarųjų 6 mėn. vidurkį, Eur"]
["5.5.1","Pareigybės pavadinimas","Darbuotojo vardas pavardė","val.",null,{"$f":"IFERROR(ROUND(AVERAGE(K77:K81),2),\"0\")","v":"0"},{"$f":"ROUND(E77*F77,2)","v":0},{"$f":"ROUND(G77*$D$7,2)","v":0}]
[null,null,"Darbuotojo vardas pavardė"]
[null,null,"Darbuotojo vardas pavardė"]
[null,null,"Darbuotojo vardas pavardė"]
[null,null,"Darbuotojo vardas pavardė"]
["5.5.2","Pareigybės pavadinimas","Darbuotojo vardas pavardė","val.",null,{"$f":"IFERROR(ROUND(AVERAGE(K82:K86),2),\"0\")","v":"0"},{"$f":"ROUND(E82*F82,2)","v":0},{"$f":"ROUND(G82*$D$7,2)","v":0}]
[null,null,"Darbuotojo vardas pavardė"]
[null,null,"Darbuotojo vardas pavardė"]
[null,null,"Darbuotojo vardas pavardė"]
[null,null,"Darbuotojo vardas pavardė"]
["5.5.3","Pareigybės pavadinimas","Darbuotojo vardas pavardė","val.",null,{"$f":"IFERROR(ROUND(AVERAGE(K87:K91),2),\"0\")","v":"0"},{"$f":"ROUND(E87*F87,2)","v":0},{"$f":"ROUND(G87*$D$7,2)","v":0}]
[null,null,"Darbuotojo vardas pavardė"]
[null,null,"Darbuotojo vardas pavardė"]
[null,null,"Darbuotojo vardas pavardė"]
[null,null,"Darbuotojo vardas pavardė"]
["5.5.4","Pareigybės pavadinimas","Darbuotojo vardas pavardė","val.",null,{"$f":"IFERROR(ROUND(AVERAGE(K92:K96),2),\"0\")","v":"0"},{"$f":"ROUND(E92*F92,2)","v":0},{"$f":"ROUND(G92*$D$7,2)","v":0}]
[null,null,"Darbuotojo vardas pavardė"]
[null,null,"Darbuotojo vardas pavardė"]
[null,null,"Darbuotojo vardas pavardė"]
[null,null,"Darbuotojo vardas pavardė"]
["5.5.5","Pareigybės pavadinimas","Darbuotojo vardas pavardė","val.",null,{"$f":"IFERROR(ROUND(AVERAGE(K97:K101),2),\"0\")","v":"0"},{"$f":"ROUND(E97*F97,2)","v":0},{"$f":"ROUND(G97*$D$7,2)","v":0}]
[null,null,"Darbuotojo vardas pavardė"]
[null,null,"Darbuotojo vardas pavardė"]
[null,null,"Darbuotojo vardas pavardė"]
[null,null,"Darbuotojo vardas pavardė"]
["5.5.6","Pareigybės pavadinimas","Darbuotojo vardas pavardė","val.",null,{"$f":"IFERROR(ROUND(AVERAGE(K102:K106),2),\"0\")","v":"0"},{"$f":"ROUND(E102*F102,2)","v":0},{"$f":"ROUND(G102*$D$7,2)","v":0}]
[null,null,"Darbuotojo vardas pavardė"]
[null,null,"Darbuotojo vardas pavardė"]
[null,null,"Darbuotojo vardas pavardė"]
[null,null,"Darbuotojo vardas pavardė"]
["5.5.7","Pareigybės pavadinimas","Darbuotojo vardas pavardė","val.",null,{"$f":"IFERROR(ROUND(AVERAGE(K107:K111),2),\"0\")","v":"0"},{"$f":"ROUND(E107*F107,2)","v":0},{"$f":"ROUND(G107*$D$7,2)","v":0}]
[null,null,"Darbuotojo vardas pavardė"]
[null,null,"Darbuotojo vardas pavardė"]
[null,null,"Darbuotojo vardas pavardė"]
[null,null,"Darbuotojo vardas pavardė"]
["5.5.8","Pareigybės pavadinimas","Darbuotojo vardas pavardė","val.",null,{"$f":"IFERROR(ROUND(AVERAGE(K112:K116),2),\"0\")","v":"0"},{"$f":"ROUND(E112*F112,2)","v":0},{"$f":"ROUND(G112*$D$7,2)","v":0}]
[null,null,"Darbuotojo vardas pavardė"]
[null,null,"Darbuotojo vardas pavardė"]
[null,null,"Darbuotojo vardas pavardė"]
[null,null,"Darbuotojo vardas pavardė"]
["5.5.9","Pareigybės pavadinimas","Darbuotojo vardas pavardė","val.",null,{"$f":"IFERROR(ROUND(AVERAGE(K117:K121),2),\"0\")","v":"0"},{"$f":"ROUND(E117*F117,2)","v":0},{"$f":"ROUND(G117*$D$7,2)","v":0}]
[null,null,"Darbuotojo vardas pavardė"]
[null,null,"Darbuotojo vardas pavardė"]
[null,null,"Darbuotojo vardas pavardė"]
[null,null,"Darbuotojo vardas pavardė"]
["5.5.10","Pareigybės pavadinimas","Darbuotojo vardas pavardė","val.",null,{"$f":"IFERROR(ROUND(AVERAGE(K122:K126),2),\"0\")","v":"0"},{"$f":"ROUND(E122*F122,2)","v":0},{"$f":"ROUND(G122*$D$7,2)","v":0}]
[null,null,"Darbuotojo vardas pavardė"]
[null,null,"Darbuotojo vardas pavardė"]
[null,null,"Darbuotojo vardas pavardė"]
[null,null,"Darbuotojo vardas pavardė"]
["5.6","Projektą vykdančio personalo komandiruočių išlaidos",null,null,null,null,{"$f":"SUM(G128,G135,G142,G149,G156,G163,G170,G177,G184,G191)","v":0},{"$f":"SUM(H128,H135,H142,H149,H156,H163,H170,H177,H184,H191)","v":0}]
["5.6.1","Komandiruotės pavadinimas, vieta, trukmė dienomis, vykstančių asmenų skaičius","Iš viso komandiruotei",null,null,null,{"$f":"SUM(G129:G134)","v":0},{"$f":"ROUND(G128*$D$7,2)","v":0}]
[null,null,"Dienpinigiai",null,null,null,{"$f":"ROUND(E129*F129,2)","v":0}]
[null,null,"Gyvenamojo ploto nuoma",null,null,null,0]
[null,null,"Kelionės išlaidos",null,null,null,0]
[null,null,"Dalyvavimo mokestis",null,null,null,0]
[null,null,"Kitos išlaidų pavadinimas",null,null,null,0]
[null,null,"Kitos išlaidų pavadinimas",null,null,null,0]
["5.6.2","Komandiruotės pavadinimas, vieta, trukmė dienomis, vykstančių asmenų skaičius","Iš viso komandiruotei",null,null,null,{"$f":"SUM(G136:G141)","v":0},{"$f":"ROUND(G135*$D$7,2)","v":0}]
[null,null,"Dienpinigiai",null,null,null,{"$f":"ROUND(E136*F136,2)","v":0}]
[null,null,"Gyvenamojo ploto nuoma",null,null,null,0]
[null,null,"Kelionės išlaidos",null,null,null,0]
[null,null,"Dalyvavimo mokestis",null,null,null,0]
[null,null,"Kitos išlaidų pavadinimas",null,null,null,0]
[null,null,"Kitos išlaidų pavadinimas",null,null,null,0]
["5.6.3","Komandiruotės pavadinimas, vieta, trukmė dienomis, vykstančių asmenų skaičius","Iš viso komandiruotei",null,null,null,{"$f":"SUM(G143:G148)","v":0},{"$f":"ROUND(G142*$D$7,2)","v":0}]
[null,null,"Dienpinigiai",null,null,null,{"$f":"ROUND(E143*F143,2)","v":0}]
[null,null,"Gyvenamojo ploto nuoma",null,null,null,0]
[null,null,"Kelionės išlaidos",null,null,null,0]
[null,null,"Dalyvavimo mokestis",null,null,null,0]
[null,null,"Kitos išlaidų pavadinimas",null,null,null,0]
[null,null,"Kitos išlaidų pavadinimas",null,null,null,0]
["5.6.4","Komandiruotės pavadinimas, vieta, trukmė dienomis, vykstančių asmenų skaičius","Iš viso komandiruotei",null,null,null,{"$f":"SUM(G150:G155)","v":0},{"$f":"ROUND(G149*$D$7,2)","v":0}]
[null,null,"Dienpinigiai",null,null,null,{"$f":"ROUND(E150*F150,2)","v":0}]
[null,null,"Gyvenamojo ploto nuoma",null,null,null,0]
[null,null,"Kelionės išlaidos",null,null,null,0]
[null,null,"Dalyvavimo mokestis",null,null,null,0]
[null,null,"Kitos išlaidų pavadinimas",null,null,null,0]
[null,null,"Kitos išlaidų pavadinimas",null,null,null,0]
["5.6.5","Komandiruotės pavadinimas, vieta, trukmė dienomis, vykstančių asmenų skaičius","Iš viso komandiruotei",null,null,null,{"$f":"SUM(G157:G162)","v":0},{"$f":"ROUND(G156*$D$7,2)","v":0}]
[null,null,"Dienpinigiai",null,null,null,{"$f":"ROUND(E157*F157,2)","v":0}]
[null,null,"Gyvenamojo ploto nuoma",null,null,null,0]
[null,null,"Kelionės išlaidos",null,null,null,0]
[null,null,"Dalyvavimo mokestis",null,null,null,0]
[null,null,"Kitos išlaidų pavadinimas",null,null,null,0]
[null,null,"Kitos išlaidų pavadinimas",null,null,null,0]
["5.6.6","Komandiruotės pavadinimas, vieta, trukmė dienomis, vykstančių asmenų skaičius","Iš viso komandiruotei",null,null,null,{"$f":"SUM(G164:G169)","v":0},{"$f":"ROUND(G163*$D$7,2)","v":0}]
[null,null,"Dienpinigiai",null,null,null,{"$f":"ROUND(E164*F164,2)","v":0}]
[null,null,"Gyvenamojo ploto nuoma",null,null,null,0]
[null,null,"Kelionės išlaidos",null,null,null,0]
[null,null,"Dalyvavimo mokestis",null,null,null,0]
[null,null,"Kitos išlaidų pavadinimas",null,null,null,0]
[null,null,"Kitos išlaidų pavadinimas",null,null,null,0]
["5.6.7","Komandiruotės pavadinimas, vieta, trukmė dienomis, vykstančių asmenų skaičius","Iš viso komandiruotei",null,null,null,{"$f":"SUM(G171:G176)","v":0},{"$f":"ROUND(G170*$D$7,2)","v":0}]
[null,null,"Dienpinigiai",null,null,null,{"$f":"ROUND(E171*F171,2)","v":0}]
[null,null,"Gyvenamojo ploto nuoma",null,null,null,0]
[null,null,"Kelionės išlaidos",null,null,null,0]
[null,null,"Dalyvavimo mokestis",null,null,null,0]
[null,null,"Kitos išlaidų pavadinimas",null,null,null,0]
[null,null,"Kitos išlaidų pavadinimas",null,null,null,0]
["5.6.8","Komandiruotės pavadinimas, vieta, trukmė dienomis, vykstančių asmenų skaičius","Iš viso komandiruotei",null,null,null,{"$f":"SUM(G178:G183)","v":0},{"$f":"ROUND(G177*$D$7,2)","v":0}]
[null,null,"Dienpinigiai",null,null,null,{"$f":"ROUND(E178*F178,2)","v":0}]
[null,null,"Gyvenamojo ploto nuoma",null,null,null,0]
[null,null,"Kelionės išlaidos",null,null,null,0]
[null,null,"Dalyvavimo mokestis",null,null,null,0]
[null,null,"Kitos išlaidų pavadinimas",null,null,null,0]
[null,null,"Kitos išlaidų pavadinimas",null,null,null,0]
["5.6.9","Komandiruotės pavadinimas, vieta, trukmė dienomis, vykstančių asmenų skaičius","Iš viso komandiruotei",null,null,null,{"$f":"SUM(G185:G190)","v":0},{"$f":"ROUND(G184*$D$7,2)","v":0}]
[null,null,"Dienpinigiai",null,null,null,{"$f":"ROUND(E185*F185,2)","v":0}]
[null,null,"Gyvenamojo ploto nuoma",null,null,null,0]
[null,null,"Kelionės išlaidos",null,null,null,0]
[null,null,"Dalyvavimo mokestis",null,null,null,0]
[null,null,"Kitos išlaidų pavadinimas",null,null,null,0]
[null,null,"Kitos išlaidų pavadinimas",null,null,null,0]
["5.6.10","Komandiruotės pavadinimas, vieta, trukmė dienomis, vykstančių asmenų skaičius","Iš viso komandiruotei",null,null,null,{"$f":"SUM(G192:G197)","v":0},{"$f":"ROUND(G191*$D$7,2)","v":0}]
[null,null,"Dienpinigiai",null,null,null,{"$f":"ROUND(E192*F192,2)","v":0}]
[null,null,"Gyvenamojo ploto nuoma",null,null,null,0]
[null,null,"Kelionės išlaidos",null,null,null,0]
[null,null,"Dalyvavimo mokestis",null,null,null,0]
[null,null,"Kitos išlaidų pavadinimas",null,null,null,0]
[null,null,"Kitos išlaidų pavadinimas",null,null,null,0]
["5.7","Įrangos nuomos išlaidos, veiklai priskirtos pro rata principu. Įranga turi būti tiesiogiai susijusi su projekto įgyvendinimu ir negali būti įsigyta iš ES struktūrinių fondų ar kt. ES finansinių priemonių lėšų",null,null,null,null,{"$f":"SUM(G199:G203)","v":0},{"$f":"SUM(H199:H203)","v":0},null,null,"Faktinės 1 mėnesio išlaidos, Eur","Naudojimo projekte trukmė, mėn."]
["5.7.1","Įrangos pavadinimas",null,"pro rata proc.",null,{"$f":"K199*L199","v":0},0,{"$f":"ROUND(G199*$D$7,2)","v":0}]
["5.7.2","Įrangos pavadinimas",null,"pro rata proc.",null,{"$f":"K200*L200","v":0},0,{"$f":"ROUND(G200*$D$7,2)","v":0}]
["5.7.3","Įrangos pavadinimas",null,"pro rata proc.",null,0,0,0]
["5.7.4","Įrangos pavadinimas",null,"pro rata proc.",null,0,0,0]
["5.7.5","Įrangos pavadinimas",null,"pro rata proc.",null,0,0,0]
["5.8","Pastatų ar patalpų nuomos išlaidos, veiklai priskirtos pro rata principu. Pastatai ar patalpos turi būti tiesiogiai susijusi su projekto įgyvendinimu.",null,null,null,null,{"$f":"SUM(G205:G209)","v":0},{"$f":"SUM(H205:H209)","v":0},null,null,"Faktinės 1 mėnesio išlaidos, Eur","Naudojimo projekte trukmė, mėn."]
["5.8.1","Pastato, patalpų adresas",null,"pro rata proc.",null,{"$f":"K205*L205","v":0},{"$f":"ROUND(E205*F205,2)","v":0},{"$f":"ROUND(G205*$D$7,2)","v":0}]
["5.8.2","Pastato, patalpų adresas",null,"pro rata proc.",null,{"$f":"K206*L206","v":0},0,0]
["5.8.3","Pastato, patalpų adresas",null,"pro rata proc.",null,0,0,0]
["5.8.4","Pastato, patalpų adresas",null,"pro rata proc.",null,0,0,0]
["5.8.5","Pastato, patalpų adresas",null,"pro rata proc.",null,0,0,0]
["Iš viso tinkamų finansuoti išlaidų:",null,null,null,null,null,{"$f":"G10+G21","v":0},{"$f":"H10+H21","v":0}]

{"sheet":"18","index":19,"n_rows":210,"n_cols":19,"rows_kept":210,"cut":false,"hidden":false,"merged":[[206,1,206,2],[207,1,207,2],[208,1,208,2],[209,0,209,5],[197,1,197,5],[198,1,198,2],[199,1,199,2],[200,1,200,2],[201,1,201,2],[202,1,202,2],[203,1,203,5],[204,1,204,2],[205,1,205,2],[176,0,182,0],[176,1,182,1],[176,8,182,8],[183,0,189,0],[183,1,189,1],[183,8,189,8],[190,0,196,0],[190,1,196,1],[190,8,196,8],[155,0,161,0],[155,1,161,1],[155,8,161,8],[162,0,168,0],[162,1,168,1],[162,8,168,8],[169,0,175,0],[169,1,175,1],[169,8,175,8],[134,0,140,0],[134,1,140,1],[134,8,140,8],[141,0,147,0],[141,1,147,1],[141,8,147,8],[148,0,154,0],[148,1,154,1],[148,8,154,8],[127,1,133,1],[121,7,125,7],[121,8,125,8],[126,1,126,5],[121,0,125,0],[121,1,125,1],[121,3,125,3],[121,4,125,4],[121,5,125,5],[121,6,125,6],[127,0,133,0],[127,8,133,8],[111,7,115,7],[111,8,115,8],[116,0,120,0],[116,1,120,1],[116,3,120,3],[116,4,120,4],[116,5,120,5],[116,6,120,6],[116,7,120,7],[116,8,120,8],[111,0,115,0],[111,1,115,1],[111,3,115,3],[111,4,115,4],[111,5,115,5],[111,6,115,6],[101,7,105,7],[101,8,105,8],[106,0,110,0],[106,1,110,1],[106,3,110,3],[106,4,110,4],[106,5,110,5],[106,6,110,6],[106,7,110,7],[106,8,110,8],[101,0,105,0],[101,1,105,1],[101,3,105,3],[101,4,105,4],[101,5,105,5],[101,6,105,6],[96,0,100,0],[96,1,100,1],[96,3,100,3],[96,4,100,4],[96,5,100,5],[96,6,100,6],[96,7,100,7],[96,8,100,8],[91,0,95,0],[91,1,95,1],[91,3,95,3],[91,4,95,4],[91,5,95,5],[91,6,95,6],[86,0,90,0],[86,1,90,1],[86,3,90,3],[86,4,90,4],[86,5,90,5],[86,6,90,6],[86,7,90,7],[86,8,90,8],[91,7,95,7],[91,8,95,8],[76,6,80,6],[76,7,80,7],[76,8,80,8],[81,0,85,0],[81,1,85,1],[81,3,85,3],[81,4,85,4],[81,5,85,5],[81,6,85,6],[81,7,85,7],[81,8,85,8],[74,1,74,2],[75,1,75,5],[76,0,80,0],[76,1,80,1],[76,3,80,3],[76,4,80,4],[76,5,80,5],[68,1,68,2],[69,1,69,2],[70,1,70,2],[71,1,71,2],[72,1,72,2],[73,1,73,2],[62,1,62,2],[63,1,63,2],[64,1,64,2],[65,1,65,2],[66,1,66,2],[67,1,67,2],[56,1,56,2],[57,1,57,2],[58,1,58,2],[59,1,59,5],[60,1,60,2],[61,1,61,2],[50,1,50,2],[51,1,51,2],[52,1,52,2],[53,1,53,2],[54,1,54,2],[55,1,55,2],[44,1,44,2],[45,1,45,2],[46,1,46,2],[47,1,47,2],[48,1,48,2],[49,1,49,2],[38,1,38,2],[39,1,39,2],[40,1,40,2],[41,1,41,2],[42,1,42,2],[43,1,43,5],[32,1,32,5],[33,1,33,2],[34,1,34,2],[35,1,35,2],[36,1,36,2],[37,1,37,2],[26,1,26,2],[27,1,27,2],[28,1,28,2],[29,1,29,2],[30,1,30,2],[31,1,31,2],[20,1,20,5],[21,1,21,5],[22,1,22,2],[23,1,23,2],[24,1,24,2],[25,1,25,2],[16,1,16,2],[17,1,17,2],[18,1,18,2],[19,1,19,2],[8,1,8,2],[9,1,9,5],[10,1,10,2],[11,1,11,2],[12,1,12,2],[13,1,13,2],[0,3,0,8],[2,0,2,2],[2,3,2,8],[3,3,3,4],[3,5,3,6],[4,0,4,2],[4,3,4,8],[14,1,14,2],[15,1,15,2]]}
[null,null,"Pasirinkite veiklos tipą:"]
[null,null,"Fizinio rodiklio Nr.:"]
["Fizinio rodiklio pavadinimas:"]
[null,null,"Fizinio rodiklio matavimo vnt.:",null,null,"Fizinio rodiklio vnt. skaičius:"]
["Juridinis asmuo (pareiškėjas, partneris), atsakingas už fizinį rodiklį:"]
[]
[null,null,"Finansavimo intensyvumas:",null,null,null,"Pasirinkite biudžeto išlaidų kategoriją:"]
[]
["Eil. Nr.","Išlaidų kategorijos pavadinimas",null,"Matavimo vnt.","Kiekis","Vieneto kaina be PVM, Eur","Tinkamų finansuoti išlaidų suma be PVM, Eur","Finansavimo suma, Eur","Išlaidų pagrindimo dokumentų pavadinimas, data ir Nr."]
[4,"ĮRANGA, ĮRENGINIAI IR KT. TURTAS (techninių žinių ir išradimų patentų arba teisių pagal licencijų sutartį įsigijimo išlaidos)",null,null,null,null,{"$f":"SUM(G11:G20)","v":0},{"$f":"SUM(H11:H20)","v":0}]
["4.1","Išlaidų pavadinimas",null,null,null,null,{"$f":"ROUND(E11*F11,2)","v":0},{"$f":"ROUND(G11*$D$7,2)","v":0}]
["4.2","Išlaidų pavadinimas",null,null,null,null,0,0]
["4.3","Išlaidų pavadinimas",null,null,null,null,0,0]
["4.4","Išlaidų pavadinimas",null,null,null,null,0,0]
["4.5","Išlaidų pavadinimas",null,null,null,null,0,0]
["4.6","Išlaidų pavadinimas",null,null,null,null,0,0]
["4.7","Išlaidų pavadinimas",null,null,null,null,0,0]
["4.8","Išlaidų pavadinimas",null,null,null,null,0,0]
["4.9","Išlaidų pavadinimas",null,null,null,null,0,0]
["4.10","Išlaidų pavadinimas",null,null,null,null,0,0]
[5,"PROJEKTO VYKDYMAS",null,null,null,null,{"$f":"G22+G33+G44+G60+G76+G127+G198+G204","v":0},{"$f":"H22+H33+H44+H60+H76+H127+H198+H204","v":0}]
["5.1","MTEP paslaugos",null,null,null,null,{"$f":"SUM(G23:G32)","v":0},{"$f":"SUM(H23:H32)","v":0}]
["5.1.1","Paslaugos pavadinimas",null,null,null,null,{"$f":"ROUND(E23*F23,2)","v":0},0]
["5.1.2","Paslaugos pavadinimas",null,null,null,null,0,0]
["5.1.3","Paslaugos pavadinimas",null,null,null,null,0,0]
["5.1.4","Paslaugos pavadinimas",null,null,null,null,0,0]
["5.1.5","Paslaugos pavadinimas",null,null,null,null,0,0]
["5.1.6","Paslaugos pavadinimas",null,null,null,null,0,0]
["5.1.7","Paslaugos pavadinimas",null,null,null,null,0,0]
["5.1.8","Paslaugos pavadinimas",null,null,null,null,0,0]
["5.1.9","Paslaugos pavadinimas",null,null,null,null,0,0]
["5.1.10","Paslaugos pavadinimas",null,null,null,null,0,0]
["5.2","Konsultavimo ir lygiavertės paslaugos, naudojamos vien tik projekto MTEP veiklai",null,null,null,null,{"$f":"SUM(G34:G43)","v":0},{"$f":"SUM(H34:H43)","v":0}]
["5.2.1","Paslaugos pavadinimas",null,null,null,null,{"$f":"ROUND(E34*F34,2)","v":0},0]
["5.2.2","Paslaugos pavadinimas",null,null,null,null,0,0]
["5.2.3","Paslaugos pavadinimas",null,null,null,null,0,0]
["5.2.4","Paslaugos pavadinimas",null,null,null,null,0,0]
["5.2.5","Paslaugos pavadinimas",null,null,null,null,0,0]
["5.2.6","Paslaugos pavadinimas",null,null,null,null,0,0]
["5.2.7","Paslaugos pavadinimas",null,null,null,null,0,0]
["5.2.8","Paslaugos pavadinimas",null,null,null,null,0,0]
["5.2.9","Paslaugos pavadinimas",null,null,null,null,0,0]
["5.2.10","Paslaugos pavadinimas",null,null,null,null,0,0]
["5.3","Medžiagos, mažavertis inventorius, atsargos ir pan. produktai, priskirtini trumpalaikiam turtui ir tiesiogiai susiję su MTEP veikla",null,null,null,null,{"$f":"SUM(G45:G61)","v":0},{"$f":"SUM(H45:H61)","v":0}]
["5.3.1","Išlaidų pavadinimas",null,null,null,null,{"$f":"ROUND(E45*F45,2)","v":0},{"$f":"ROUND(G45*$D$7,2)","v":0}]
["5.3.2","Išlaidų pavadinimas",null,null,null,null,0,0]
["5.3.3","Išlaidų pavadinimas",null,null,null,null,0,0]
["5.3.4","Išlaidų pavadinimas",null,null,null,null,0,0]
["5.3.5","Išlaidų pavadinimas",null,null,null,null,0,0]
["5.3.6","Išlaidų pavadinimas",null,null,null,null,0,0]
["5.3.7","Išlaidų pavadinimas",null,null,null,null,0,0]
["5.3.8","Išlaidų pavadinimas",null,null,null,null,0,0]
["5.3.9","Išlaidų pavadinimas",null,null,null,null,0,0]
["5.3.10","Išlaidų pavadinimas",null,null,null,null,0,0]
["5.3.11","Išlaidų pavadinimas",null,null,null,null,0,0]
["5.3.12","Išlaidų pavadinimas",null,null,null,null,0,0]
["5.3.13","Išlaidų pavadinimas",null,null,null,null,0,0]
["5.3.14","Išlaidų pavadinimas",null,null,null,null,0,0]
["5.3.15","Išlaidų pavadinimas",null,null,null,null,0,0]
["5.4","Projekto MTEP veikloms naudojamo ilgalaikio materialaus turto (įrangos, prietaisų, įrankių, įrenginių, mašinų ir įrengimų, pastatų ir (ar) patalpų), nusidėvėjimo sąnaudos, jeigu šiam turtui įsigyti nebuvo naudojamos viešosios (įskaitant ir kitų valstybių) lėšos",null,null,null,null,{"$f":"SUM(G61:G75)","v":0},{"$f":"SUM(H61:H75)","v":0},null,null,"Turto įvedimo į eksploataciją data","Turto įsigijimo vertė, Eur","Turto nudėvėjimo, amortizacijos laikotarpis, mėn.","Numatoma turto likutinė vertė, Eur","1 mėn. nudėvėjimo, amortizacijos suma, Eur","Turto naudojamo projekto reikmėms laikas, mėn.","Turto panaudojimo projekto reikmėms dalis (proc.)","Projektui priskirta turto nusidėvėjimo, amortizacijos suma per projekto laikotarpį, Eur"]
["5.4.1","Turtas, kurio nusidėvėjimą, amortizaciją prašoma finansuoti",null,null,1,{"$f":"R61","v":0},{"$f":"ROUND(E61*F61,2)","v":0},0,null,null,null,null,null,null,{"$f":"IFERROR(ROUND((L61-N61)/M61,2),\"0\")","v":"0"},null,null,{"$f":"O61*P61*Q61","v":0},{"$f":"IF(K61=0,\" \",IF(K61+(M61*30.5)<TODAY(),\"DĖMESIO! Patikrinkite, ar nurodytas turtas dar nėra nudėvėtas, amortizuotas\",\" \"))","v":" "}]
["5.4.2","Turtas, kurio nusidėvėjimą, amortizaciją prašoma finansuoti",null,null,1,{"$f":"R62","v":0},0,0,null,null,null,null,null,null,{"$f":"IFERROR(ROUND((L62-N62)/M62,2),\"0\")","v":"0"},null,null,{"$f":"O62*P62*Q62","v":0},{"$f":"IF(K62=0,\" \",IF(K62+(M62*30.5)<TODAY(),\"DĖMESIO! Patikrinkite, ar nurodytas turtas dar nėra nudėvėtas, amortizuotas\",\" \"))","v":" "}]
["5.4.3","Turtas, kurio nusidėvėjimą, amortizaciją prašoma finansuoti",null,null,1,0,0,0,null,null,null,null,null,null,"0",null,null,0," "]
["5.4.4","Turtas, kurio nusidėvėjimą, amortizaciją prašoma finansuoti",null,null,1,0,0,0,null,null,null,null,null,null,"0",null,null,0," "]
["5.4.5","Turtas, kurio nusidėvėjimą, amortizaciją prašoma finansuoti",null,null,1,0,0,0,null,null,null,null,null,null,"0",null,null,0," "]
["5.4.6","Turtas, kurio nusidėvėjimą, amortizaciją prašoma finansuoti",null,null,1,0,0,0,null,null,null,null,null,null,"0",null,null,0," "]
["5.4.7","Turtas, kurio nusidėvėjimą, amortizaciją prašoma finansuoti",null,null,1,0,0,0,null,null,null,null,null,null,"0",null,null,0," "]
["5.4.8","Turtas, kurio nusidėvėjimą, amortizaciją prašoma finansuoti",null,null,1,0,0,0,null,null,null,null,null,null,"0",null,null,0," "]
["5.4.9","Turtas, kurio nusidėvėjimą, amortizaciją prašoma finansuoti",null,null,1,0,0,0,null,null,null,null,null,null,"0",null,null,0," "]
["5.4.10","Turtas, kurio nusidėvėjimą, amortizaciją prašoma finansuoti",null,null,1,0,0,0,null,null,null,null,null,null,"0",null,null,0," "]
["5.4.11","Turtas, kurio nusidėvėjimą, amortizaciją prašoma finansuoti",null,null,1,0,0,0,null,null,null,null,null,null,"0",null,null,0," "]
["5.4.12","Turtas, kurio nusidėvėjimą, amortizaciją prašoma finansuoti",null,null,1,0,0,0,null,null,null,null,null,null,"0",null,null,0," "]
["5.4.13","Turtas, kurio nusidėvėjimą, amortizaciją prašoma finansuoti",null,null,1,0,0,0,null,null,null,null,null,null,"0",null,null,0," "]
["5.4.14","Turtas, kurio nusidėvėjimą, amortizaciją prašoma finansuoti",null,null,1,0,0,0,null,null,null,null,null,null,"0",null,null,0," "]
["5.4.15","Turtas, kurio nusidėvėjimą, amortizaciją prašoma finansuoti",null,null,1,0,0,0,null,null,null,null,null,null,"0",null,null,0," "]
["5.5","Projektą vykdančio personalo darbo užmokestis ir išlaidos su darbo santykiais susijusiems darbdavio įsipareigojimams",null,null,null,null,{"$f":"SUM(G77:G126)","v":0},{"$f":"SUM(H77:H126)","v":0},null,null,"Faktiškai gaunamas darbo užmokesti už 1 valandą pagal  pastarųjų 6 mėn. vidurkį, Eur"]
["5.5.1","Pareigybės pavadinimas","Darbuotojo vardas pavardė","val.",null,{"$f":"IFERROR(ROUND(AVERAGE(K77:K81),2),\"0\")","v":"0"},{"$f":"ROUND(E77*F77,2)","v":0},{"$f":"ROUND(G77*$D$7,2)","v":0}]
[null,null,"Darbuotojo vardas pavardė"]
[null,null,"Darbuotojo vardas pavardė"]
[null,null,"Darbuotojo vardas pavardė"]
[null,null,"Darbuotojo vardas pavardė"]
["5.5.2","Pareigybės pavadinimas","Darbuotojo vardas pavardė","val.",null,{"$f":"IFERROR(ROUND(AVERAGE(K82:K86),2),\"0\")","v":"0"},{"$f":"ROUND(E82*F82,2)","v":0},{"$f":"ROUND(G82*$D$7,2)","v":0}]
[null,null,"Darbuotojo vardas pavardė"]
[null,null,"Darbuotojo vardas pavardė"]
[null,null,"Darbuotojo vardas pavardė"]
[null,null,"Darbuotojo vardas pavardė"]
["5.5.3","Pareigybės pavadinimas","Darbuotojo vardas pavardė","val.",null,{"$f":"IFERROR(ROUND(AVERAGE(K87:K91),2),\"0\")","v":"0"},{"$f":"ROUND(E87*F87,2)","v":0},{"$f":"ROUND(G87*$D$7,2)","v":0}]
[null,null,"Darbuotojo vardas pavardė"]
[null,null,"Darbuotojo vardas pavardė"]
[null,null,"Darbuotojo vardas pavardė"]
[null,null,"Darbuotojo vardas pavardė"]
["5.5.4","Pareigybės pavadinimas","Darbuotojo vardas pavardė","val.",null,{"$f":"IFERROR(ROUND(AVERAGE(K92:K96),2),\"0\")","v":"0"},{"$f":"ROUND(E92*F92,2)","v":0},{"$f":"ROUND(G92*$D$7,2)","v":0}]
[null,null,"Darbuotojo vardas pavardė"]
[null,null,"Darbuotojo vardas pavardė"]
[null,null,"Darbuotojo vardas pavardė"]
[null,null,"Darbuotojo vardas pavardė"]
["5.5.5","Pareigybės pavadinimas","Darbuotojo vardas pavardė","val.",null,{"$f":"IFERROR(ROUND(AVERAGE(K97:K101),2),\"0\")","v":"0"},{"$f":"ROUND(E97*F97,2)","v":0},{"$f":"ROUND(G97*$D$7,2)","v":0}]
[null,null,"Darbuotojo vardas pavardė"]
[null,null,"Darbuotojo vardas pavardė"]
[null,null,"Darbuotojo vardas pavardė"]
[null,null,"Darbuotojo vardas pavardė"]
["5.5.6","Pareigybės pavadinimas","Darbuotojo vardas pavardė","val.",null,{"$f":"IFERROR(ROUND(AVERAGE(K102:K106),2),\"0\")","v":"0"},{"$f":"ROUND(E102*F102,2)","v":0},{"$f":"ROUND(G102*$D$7,2)","v":0}]
[null,null,"Darbuotojo vardas pavardė"]
[null,null,"Darbuotojo vardas pavardė"]
[null,null,"Darbuotojo vardas pavardė"]
[null,null,"Darbuotojo vardas pavardė"]
["5.5.7","Pareigybės pavadinimas","Darbuotojo vardas pavardė","val.",null,{"$f":"IFERROR(ROUND(AVERAGE(K107:K111),2),\"0\")","v":"0"},{"$f":"ROUND(E107*F107,2)","v":0},{"$f":"ROUND(G107*$D$7,2)","v":0}]
[null,null,"Darbuotojo vardas pavardė"]
[null,null,"Darbuotojo vardas pavardė"]
[null,null,"Darbuotojo vardas pavardė"]
[null,null,"Darbuotojo vardas pavardė"]
["5.5.8","Pareigybės pavadinimas","Darbuotojo vardas pavardė","val.",null,{"$f":"IFERROR(ROUND(AVERAGE(K112:K116),2),\"0\")","v":"0"},{"$f":"ROUND(E112*F112,2)","v":0},{"$f":"ROUND(G112*$D$7,2)","v":0}]
[null,null,"Darbuotojo vardas pavardė"]
[null,null,"Darbuotojo vardas pavardė"]
[null,null,"Darbuotojo vardas pavardė"]
[null,null,"Darbuotojo vardas pavardė"]
["5.5.9","Pareigybės pavadinimas","Darbuotojo vardas pavardė","val.",null,{"$f":"IFERROR(ROUND(AVERAGE(K117:K121),2),\"0\")","v":"0"},{"$f":"ROUND(E117*F117,2)","v":0},{"$f":"ROUND(G117*$D$7,2)","v":0}]
[null,null,"Darbuotojo vardas pavardė"]
[null,null,"Darbuotojo vardas pavardė"]
[null,null,"Darbuotojo vardas pavardė"]
[null,null,"Darbuotojo vardas pavardė"]
["5.5.10","Pareigybės pavadinimas","Darbuotojo vardas pavardė","val.",null,{"$f":"IFERROR(ROUND(AVERAGE(K122:K126),2),\"0\")","v":"0"},{"$f":"ROUND(E122*F122,2)","v":0},{"$f":"ROUND(G122*$D$7,2)","v":0}]
[null,null,"Darbuotojo vardas pavardė"]
[null,null,"Darbuotojo vardas pavardė"]
[null,null,"Darbuotojo vardas pavardė"]
[null,null,"Darbuotojo vardas pavardė"]
["5.6","Projektą vykdančio personalo komandiruočių išlaidos",null,null,null,null,{"$f":"SUM(G128,G135,G142,G149,G156,G163,G170,G177,G184,G191)","v":0},{"$f":"SUM(H128,H135,H142,H149,H156,H163,H170,H177,H184,H191)","v":0}]
["5.6.1","Komandiruotės pavadinimas, vieta, trukmė dienomis, vykstančių asmenų skaičius","Iš viso komandiruotei",null,null,null,{"$f":"SUM(G129:G134)","v":0},{"$f":"ROUND(G128*$D$7,2)","v":0}]
[null,null,"Dienpinigiai",null,null,null,{"$f":"ROUND(E129*F129,2)","v":0}]
[null,null,"Gyvenamojo ploto nuoma",null,null,null,0]
[null,null,"Kelionės išlaidos",null,null,null,0]
[null,null,"Dalyvavimo mokestis",null,null,null,0]
[null,null,"Kitos išlaidų pavadinimas",null,null,null,0]
[null,null,"Kitos išlaidų pavadinimas",null,null,null,0]
["5.6.2","Komandiruotės pavadinimas, vieta, trukmė dienomis, vykstančių asmenų skaičius","Iš viso komandiruotei",null,null,null,{"$f":"SUM(G136:G141)","v":0},{"$f":"ROUND(G135*$D$7,2)","v":0}]
[null,null,"Dienpinigiai",null,null,null,{"$f":"ROUND(E136*F136,2)","v":0}]
[null,null,"Gyvenamojo ploto nuoma",null,null,null,0]
[null,null,"Kelionės išlaidos",null,null,null,0]
[null,null,"Dalyvavimo mokestis",null,null,null,0]
[null,null,"Kitos išlaidų pavadinimas",null,null,null,0]
[null,null,"Kitos išlaidų pavadinimas",null,null,null,0]
["5.6.3","Komandiruotės pavadinimas, vieta, trukmė dienomis, vykstančių asmenų skaičius","Iš viso komandiruotei",null,null,null,{"$f":"SUM(G143:G148)","v":0},{"$f":"ROUND(G142*$D$7,2)","v":0}]
[null,null,"Dienpinigiai",null,null,null,{"$f":"ROUND(E143*F143,2)","v":0}]
[null,null,"Gyvenamojo ploto nuoma",null,null,null,0]
[null,null,"Kelionės išlaidos",null,null,null,0]
[null,null,"Dalyvavimo mokestis",null,null,null,0]
[null,null,"Kitos išlaidų pavadinimas",null,null,null,0]
[null,null,"Kitos išlaidų pavadinimas",null,null,null,0]
["5.6.4","Komandiruotės pavadinimas, vieta, trukmė dienomis, vykstančių asmenų skaičius","Iš viso komandiruotei",null,null,null,{"$f":"SUM(G150:G155)","v":0},{"$f":"ROUND(G149*$D$7,2)","v":0}]
[null,null,"Dienpinigiai",null,null,null,{"$f":"ROUND(E150*F150,2)","v":0}]
[null,null,"Gyvenamojo ploto nuoma",null,null,null,0]
[null,null,"Kelionės išlaidos",null,null,null,0]
[null,null,"Dalyvavimo mokestis",null,null,null,0]
[null,null,"Kitos išlaidų pavadinimas",null,null,null,0]
[null,null,"Kitos išlaidų pavadinimas",null,null,null,0]
["5.6.5","Komandiruotės pavadinimas, vieta, trukmė dienomis, vykstančių asmenų skaičius","Iš viso komandiruotei",null,null,null,{"$f":"SUM(G157:G162)","v":0},{"$f":"ROUND(G156*$D$7,2)","v":0}]
[null,null,"Dienpinigiai",null,null,null,{"$f":"ROUND(E157*F157,2)","v":0}]
[null,null,"Gyvenamojo ploto nuoma",null,null,null,0]
[null,null,"Kelionės išlaidos",null,null,null,0]
[null,null,"Dalyvavimo mokestis",null,null,null,0]
[null,null,"Kitos išlaidų pavadinimas",null,null,null,0]
[null,null,"Kitos išlaidų pavadinimas",null,null,null,0]
["5.6.6","Komandiruotės pavadinimas, vieta, trukmė dienomis, vykstančių asmenų skaičius","Iš viso komandiruotei",null,null,null,{"$f":"SUM(G164:G169)","v":0},{"$f":"ROUND(G163*$D$7,2)","v":0}]
[null,null,"Dienpinigiai",null,null,null,{"$f":"ROUND(E164*F164,2)","v":0}]
[null,null,"Gyvenamojo ploto nuoma",null,null,null,0]
[null,null,"Kelionės išlaidos",null,null,null,0]
[null,null,"Dalyvavimo mokestis",null,null,null,0]
[null,null,"Kitos išlaidų pavadinimas",null,null,null,0]
[null,null,"Kitos išlaidų pavadinimas",null,null,null,0]
["5.6.7","Komandiruotės pavadinimas, vieta, trukmė dienomis, vykstančių asmenų skaičius","Iš viso komandiruotei",null,null,null,{"$f":"SUM(G171:G176)","v":0},{"$f":"ROUND(G170*$D$7,2)","v":0}]
[null,null,"Dienpinigiai",null,null,null,{"$f":"ROUND(E171*F171,2)","v":0}]
[null,null,"Gyvenamojo ploto nuoma",null,null,null,0]
[null,null,"Kelionės išlaidos",null,null,null,0]
[null,null,"Dalyvavimo mokestis",null,null,null,0]
[null,null,"Kitos išlaidų pavadinimas",null,null,null,0]
[null,null,"Kitos išlaidų pavadinimas",null,null,null,0]
["5.6.8","Komandiruotės pavadinimas, vieta, trukmė dienomis, vykstančių asmenų skaičius","Iš viso komandiruotei",null,null,null,{"$f":"SUM(G178:G183)","v":0},{"$f":"ROUND(G177*$D$7,2)","v":0}]
[null,null,"Dienpinigiai",null,null,null,{"$f":"ROUND(E178*F178,2)","v":0}]
[null,null,"Gyvenamojo ploto nuoma",null,null,null,0]
[null,null,"Kelionės išlaidos",null,null,null,0]
[null,null,"Dalyvavimo mokestis",null,null,null,0]
[null,null,"Kitos išlaidų pavadinimas",null,null,null,0]
[null,null,"Kitos išlaidų pavadinimas",null,null,null,0]
["5.6.9","Komandiruotės pavadinimas, vieta, trukmė dienomis, vykstančių asmenų skaičius","Iš viso komandiruotei",null,null,null,{"$f":"SUM(G185:G190)","v":0},{"$f":"ROUND(G184*$D$7,2)","v":0}]
[null,null,"Dienpinigiai",null,null,null,{"$f":"ROUND(E185*F185,2)","v":0}]
[null,null,"Gyvenamojo ploto nuoma",null,null,null,0]
[null,null,"Kelionės išlaidos",null,null,null,0]
[null,null,"Dalyvavimo mokestis",null,null,null,0]
[null,null,"Kitos išlaidų pavadinimas",null,null,null,0]
[null,null,"Kitos išlaidų pavadinimas",null,null,null,0]
["5.6.10","Komandiruotės pavadinimas, vieta, trukmė dienomis, vykstančių asmenų skaičius","Iš viso komandiruotei",null,null,null,{"$f":"SUM(G192:G197)","v":0},{"$f":"ROUND(G191*$D$7,2)","v":0}]
[null,null,"Dienpinigiai",null,null,null,{"$f":"ROUND(E192*F192,2)","v":0}]
[null,null,"Gyvenamojo ploto nuoma",null,null,null,0]
[null,null,"Kelionės išlaidos",null,null,null,0]
[null,null,"Dalyvavimo mokestis",null,null,null,0]
[null,null,"Kitos išlaidų pavadinimas",null,null,null,0]
[null,null,"Kitos išlaidų pavadinimas",null,null,null,0]
["5.7","Įrangos nuomos išlaidos, veiklai priskirtos pro rata principu. Įranga turi būti tiesiogiai susijusi su projekto įgyvendinimu ir negali būti įsigyta iš ES struktūrinių fondų ar kt. ES finansinių priemonių lėšų",null,null,null,null,{"$f":"SUM(G199:G203)","v":0},{"$f":"SUM(H199:H203)","v":0},null,null,"Faktinės 1 mėnesio išlaidos, Eur","Naudojimo projekte trukmė, mėn."]
["5.7.1","Įrangos pavadinimas",null,"pro rata proc.",null,{"$f":"K199*L199","v":0},0,{"$f":"ROUND(G199*$D$7,2)","v":0}]
["5.7.2","Įrangos pavadinimas",null,"pro rata proc.",null,{"$f":"K200*L200","v":0},0,{"$f":"ROUND(G200*$D$7,2)","v":0}]
["5.7.3","Įrangos pavadinimas",null,"pro rata proc.",null,0,0,0]
["5.7.4","Įrangos pavadinimas",null,"pro rata proc.",null,0,0,0]
["5.7.5","Įrangos pavadinimas",null,"pro rata proc.",null,0,0,0]
["5.8","Pastatų ar patalpų nuomos išlaidos, veiklai priskirtos pro rata principu. Pastatai ar patalpos turi būti tiesiogiai susijusi su projekto įgyvendinimu.",null,null,null,null,{"$f":"SUM(G205:G209)","v":0},{"$f":"SUM(H205:H209)","v":0},null,null,"Faktinės 1 mėnesio išlaidos, Eur","Naudojimo projekte trukmė, mėn."]
["5.8.1","Pastato, patalpų adresas",null,"pro rata proc.",null,{"$f":"K205*L205","v":0},{"$f":"ROUND(E205*F205,2)","v":0},{"$f":"ROUND(G205*$D$7,2)","v":0}]
["5.8.2","Pastato, patalpų adresas",null,"pro rata proc.",null,{"$f":"K206*L206","v":0},0,0]
["5.8.3","Pastato, patalpų adresas",null,"pro rata proc.",null,0,0,0]
["5.8.4","Pastato, patalpų adresas",null,"pro rata proc.",null,0,0,0]
["5.8.5","Pastato, patalpų adresas",null,"pro rata proc.",null,0,0,0]
["Iš viso tinkamų finansuoti išlaidų:",null,null,null,null,null,{"$f":"G10+G21","v":0},{"$f":"H10+H21","v":0}]

{"sheet":"19","index":20,"n_rows":210,"n_cols":19,"rows_kept":210,"cut":false,"hidden":false,"merged":[[206,1,206,2],[207,1,207,2],[208,1,208,2],[209,0,209,5],[197,1,197,5],[198,1,198,2],[199,1,199,2],[200,1,200,2],[201,1,201,2],[202,1,202,2],[203,1,203,5],[204,1,204,2],[205,1,205,2],[176,0,182,0],[176,1,182,1],[176,8,182,8],[183,0,189,0],[183,1,189,1],[183,8,189,8],[190,0,196,0],[190,1,196,1],[190,8,196,8],[155,0,161,0],[155,1,161,1],[155,8,161,8],[162,0,168,0],[162,1,168,1],[162,8,168,8],[169,0,175,0],[169,1,175,1],[169,8,175,8],[134,0,140,0],[134,1,140,1],[134,8,140,8],[141,0,147,0],[141,1,147,1],[141,8,147,8],[148,0,154,0],[148,1,154,1],[148,8,154,8],[127,1,133,1],[121,7,125,7],[121,8,125,8],[126,1,126,5],[121,0,125,0],[121,1,125,1],[121,3,125,3],[121,4,125,4],[121,5,125,5],[121,6,125,6],[127,0,133,0],[127,8,133,8],[111,7,115,7],[111,8,115,8],[116,0,120,0],[116,1,120,1],[116,3,120,3],[116,4,120,4],[116,5,120,5],[116,6,120,6],[116,7,120,7],[116,8,120,8],[111,0,115,0],[111,1,115,1],[111,3,115,3],[111,4,115,4],[111,5,115,5],[111,6,115,6],[101,7,105,7],[101,8,105,8],[106,0,110,0],[106,1,110,1],[106,3,110,3],[106,4,110,4],[106,5,110,5],[106,6,110,6],[106,7,110,7],[106,8,110,8],[101,0,105,0],[101,1,105,1],[101,3,105,3],[101,4,105,4],[101,5,105,5],[101,6,105,6],[96,0,100,0],[96,1,100,1],[96,3,100,3],[96,4,100,4],[96,5,100,5],[96,6,100,6],[96,7,100,7],[96,8,100,8],[91,0,95,0],[91,1,95,1],[91,3,95,3],[91,4,95,4],[91,5,95,5],[91,6,95,6],[86,0,90,0],[86,1,90,1],[86,3,90,3],[86,4,90,4],[86,5,90,5],[86,6,90,6],[86,7,90,7],[86,8,90,8],[91,7,95,7],[91,8,95,8],[76,6,80,6],[76,7,80,7],[76,8,80,8],[81,0,85,0],[81,1,85,1],[81,3,85,3],[81,4,85,4],[81,5,85,5],[81,6,85,6],[81,7,85,7],[81,8,85,8],[74,1,74,2],[75,1,75,5],[76,0,80,0],[76,1,80,1],[76,3,80,3],[76,4,80,4],[76,5,80,5],[68,1,68,2],[69,1,69,2],[70,1,70,2],[71,1,71,2],[72,1,72,2],[73,1,73,2],[62,1,62,2],[63,1,63,2],[64,1,64,2],[65,1,65,2],[66,1,66,2],[67,1,67,2],[56,1,56,2],[57,1,57,2],[58,1,58,2],[59,1,59,5],[60,1,60,2],[61,1,61,2],[50,1,50,2],[51,1,51,2],[52,1,52,2],[53,1,53,2],[54,1,54,2],[55,1,55,2],[44,1,44,2],[45,1,45,2],[46,1,46,2],[47,1,47,2],[48,1,48,2],[49,1,49,2],[38,1,38,2],[39,1,39,2],[40,1,40,2],[41,1,41,2],[42,1,42,2],[43,1,43,5],[32,1,32,5],[33,1,33,2],[34,1,34,2],[35,1,35,2],[36,1,36,2],[37,1,37,2],[26,1,26,2],[27,1,27,2],[28,1,28,2],[29,1,29,2],[30,1,30,2],[31,1,31,2],[20,1,20,5],[21,1,21,5],[22,1,22,2],[23,1,23,2],[24,1,24,2],[25,1,25,2],[16,1,16,2],[17,1,17,2],[18,1,18,2],[19,1,19,2],[8,1,8,2],[9,1,9,5],[10,1,10,2],[11,1,11,2],[12,1,12,2],[13,1,13,2],[0,3,0,8],[2,0,2,2],[2,3,2,8],[3,3,3,4],[3,5,3,6],[4,0,4,2],[4,3,4,8],[14,1,14,2],[15,1,15,2]]}
[null,null,"Pasirinkite veiklos tipą:"]
[null,null,"Fizinio rodiklio Nr.:"]
["Fizinio rodiklio pavadinimas:"]
[null,null,"Fizinio rodiklio matavimo vnt.:",null,null,"Fizinio rodiklio vnt. skaičius:"]
["Juridinis asmuo (pareiškėjas, partneris), atsakingas už fizinį rodiklį:"]
[]
[null,null,"Finansavimo intensyvumas:",null,null,null,"Pasirinkite biudžeto išlaidų kategoriją:"]
[]
["Eil. Nr.","Išlaidų kategorijos pavadinimas",null,"Matavimo vnt.","Kiekis","Vieneto kaina be PVM, Eur","Tinkamų finansuoti išlaidų suma be PVM, Eur","Finansavimo suma, Eur","Išlaidų pagrindimo dokumentų pavadinimas, data ir Nr."]
[4,"ĮRANGA, ĮRENGINIAI IR KT. TURTAS (techninių žinių ir išradimų patentų arba teisių pagal licencijų sutartį įsigijimo išlaidos)",null,null,null,null,{"$f":"SUM(G11:G20)","v":0},{"$f":"SUM(H11:H20)","v":0}]
["4.1","Išlaidų pavadinimas",null,null,null,null,{"$f":"ROUND(E11*F11,2)","v":0},{"$f":"ROUND(G11*$D$7,2)","v":0}]
["4.2","Išlaidų pavadinimas",null,null,null,null,0,0]
["4.3","Išlaidų pavadinimas",null,null,null,null,0,0]
["4.4","Išlaidų pavadinimas",null,null,null,null,0,0]
["4.5","Išlaidų pavadinimas",null,null,null,null,0,0]
["4.6","Išlaidų pavadinimas",null,null,null,null,0,0]
["4.7","Išlaidų pavadinimas",null,null,null,null,0,0]
["4.8","Išlaidų pavadinimas",null,null,null,null,0,0]
["4.9","Išlaidų pavadinimas",null,null,null,null,0,0]
["4.10","Išlaidų pavadinimas",null,null,null,null,0,0]
[5,"PROJEKTO VYKDYMAS",null,null,null,null,{"$f":"G22+G33+G44+G60+G76+G127+G198+G204","v":0},{"$f":"H22+H33+H44+H60+H76+H127+H198+H204","v":0}]
["5.1","MTEP paslaugos",null,null,null,null,{"$f":"SUM(G23:G32)","v":0},{"$f":"SUM(H23:H32)","v":0}]
["5.1.1","Paslaugos pavadinimas",null,null,null,null,{"$f":"ROUND(E23*F23,2)","v":0},0]
["5.1.2","Paslaugos pavadinimas",null,null,null,null,0,0]
["5.1.3","Paslaugos pavadinimas",null,null,null,null,0,0]
["5.1.4","Paslaugos pavadinimas",null,null,null,null,0,0]
["5.1.5","Paslaugos pavadinimas",null,null,null,null,0,0]
["5.1.6","Paslaugos pavadinimas",null,null,null,null,0,0]
["5.1.7","Paslaugos pavadinimas",null,null,null,null,0,0]
["5.1.8","Paslaugos pavadinimas",null,null,null,null,0,0]
["5.1.9","Paslaugos pavadinimas",null,null,null,null,0,0]
["5.1.10","Paslaugos pavadinimas",null,null,null,null,0,0]
["5.2","Konsultavimo ir lygiavertės paslaugos, naudojamos vien tik projekto MTEP veiklai",null,null,null,null,{"$f":"SUM(G34:G43)","v":0},{"$f":"SUM(H34:H43)","v":0}]
["5.2.1","Paslaugos pavadinimas",null,null,null,null,{"$f":"ROUND(E34*F34,2)","v":0},0]
["5.2.2","Paslaugos pavadinimas",null,null,null,null,0,0]
["5.2.3","Paslaugos pavadinimas",null,null,null,null,0,0]
["5.2.4","Paslaugos pavadinimas",null,null,null,null,0,0]
["5.2.5","Paslaugos pavadinimas",null,null,null,null,0,0]
["5.2.6","Paslaugos pavadinimas",null,null,null,null,0,0]
["5.2.7","Paslaugos pavadinimas",null,null,null,null,0,0]
["5.2.8","Paslaugos pavadinimas",null,null,null,null,0,0]
["5.2.9","Paslaugos pavadinimas",null,null,null,null,0,0]
["5.2.10","Paslaugos pavadinimas",null,null,null,null,0,0]
["5.3","Medžiagos, mažavertis inventorius, atsargos ir pan. produktai, priskirtini trumpalaikiam turtui ir tiesiogiai susiję su MTEP veikla",null,null,null,null,{"$f":"SUM(G45:G61)","v":0},{"$f":"SUM(H45:H61)","v":0}]
["5.3.1","Išlaidų pavadinimas",null,null,null,null,{"$f":"ROUND(E45*F45,2)","v":0},{"$f":"ROUND(G45*$D$7,2)","v":0}]
["5.3.2","Išlaidų pavadinimas",null,null,null,null,0,0]
["5.3.3","Išlaidų pavadinimas",null,null,null,null,0,0]
["5.3.4","Išlaidų pavadinimas",null,null,null,null,0,0]
["5.3.5","Išlaidų pavadinimas",null,null,null,null,0,0]
["5.3.6","Išlaidų pavadinimas",null,null,null,null,0,0]
["5.3.7","Išlaidų pavadinimas",null,null,null,null,0,0]
["5.3.8","Išlaidų pavadinimas",null,null,null,null,0,0]
["5.3.9","Išlaidų pavadinimas",null,null,null,null,0,0]
["5.3.10","Išlaidų pavadinimas",null,null,null,null,0,0]
["5.3.11","Išlaidų pavadinimas",null,null,null,null,0,0]
["5.3.12","Išlaidų pavadinimas",null,null,null,null,0,0]
["5.3.13","Išlaidų pavadinimas",null,null,null,null,0,0]
["5.3.14","Išlaidų pavadinimas",null,null,null,null,0,0]
["5.3.15","Išlaidų pavadinimas",null,null,null,null,0,0]
["5.4","Projekto MTEP veikloms naudojamo ilgalaikio materialaus turto (įrangos, prietaisų, įrankių, įrenginių, mašinų ir įrengimų, pastatų ir (ar) patalpų), nusidėvėjimo sąnaudos, jeigu šiam turtui įsigyti nebuvo naudojamos viešosios (įskaitant ir kitų valstybių) lėšos",null,null,null,null,{"$f":"SUM(G61:G75)","v":0},{"$f":"SUM(H61:H75)","v":0},null,null,"Turto įvedimo į eksploataciją data","Turto įsigijimo vertė, Eur","Turto nudėvėjimo, amortizacijos laikotarpis, mėn.","Numatoma turto likutinė vertė, Eur","1 mėn. nudėvėjimo, amortizacijos suma, Eur","Turto naudojamo projekto reikmėms laikas, mėn.","Turto panaudojimo projekto reikmėms dalis (proc.)","Projektui priskirta turto nusidėvėjimo, amortizacijos suma per projekto laikotarpį, Eur"]
["5.4.1","Turtas, kurio nusidėvėjimą, amortizaciją prašoma finansuoti",null,null,1,{"$f":"R61","v":0},{"$f":"ROUND(E61*F61,2)","v":0},0,null,null,null,null,null,null,{"$f":"IFERROR(ROUND((L61-N61)/M61,2),\"0\")","v":"0"},null,null,{"$f":"O61*P61*Q61","v":0},{"$f":"IF(K61=0,\" \",IF(K61+(M61*30.5)<TODAY(),\"DĖMESIO! Patikrinkite, ar nurodytas turtas dar nėra nudėvėtas, amortizuotas\",\" \"))","v":" "}]
["5.4.2","Turtas, kurio nusidėvėjimą, amortizaciją prašoma finansuoti",null,null,1,{"$f":"R62","v":0},0,0,null,null,null,null,null,null,{"$f":"IFERROR(ROUND((L62-N62)/M62,2),\"0\")","v":"0"},null,null,{"$f":"O62*P62*Q62","v":0},{"$f":"IF(K62=0,\" \",IF(K62+(M62*30.5)<TODAY(),\"DĖMESIO! Patikrinkite, ar nurodytas turtas dar nėra nudėvėtas, amortizuotas\",\" \"))","v":" "}]
["5.4.3","Turtas, kurio nusidėvėjimą, amortizaciją prašoma finansuoti",null,null,1,0,0,0,null,null,null,null,null,null,"0",null,null,0," "]
["5.4.4","Turtas, kurio nusidėvėjimą, amortizaciją prašoma finansuoti",null,null,1,0,0,0,null,null,null,null,null,null,"0",null,null,0," "]
["5.4.5","Turtas, kurio nusidėvėjimą, amortizaciją prašoma finansuoti",null,null,1,0,0,0,null,null,null,null,null,null,"0",null,null,0," "]
["5.4.6","Turtas, kurio nusidėvėjimą, amortizaciją prašoma finansuoti",null,null,1,0,0,0,null,null,null,null,null,null,"0",null,null,0," "]
["5.4.7","Turtas, kurio nusidėvėjimą, amortizaciją prašoma finansuoti",null,null,1,0,0,0,null,null,null,null,null,null,"0",null,null,0," "]
["5.4.8","Turtas, kurio nusidėvėjimą, amortizaciją prašoma finansuoti",null,null,1,0,0,0,null,null,null,null,null,null,"0",null,null,0," "]
["5.4.9","Turtas, kurio nusidėvėjimą, amortizaciją prašoma finansuoti",null,null,1,0,0,0,null,null,null,null,null,null,"0",null,null,0," "]
["5.4.10","Turtas, kurio nusidėvėjimą, amortizaciją prašoma finansuoti",null,null,1,0,0,0,null,null,null,null,null,null,"0",null,null,0," "]
["5.4.11","Turtas, kurio nusidėvėjimą, amortizaciją prašoma finansuoti",null,null,1,0,0,0,null,null,null,null,null,null,"0",null,null,0," "]
["5.4.12","Turtas, kurio nusidėvėjimą, amortizaciją prašoma finansuoti",null,null,1,0,0,0,null,null,null,null,null,null,"0",null,null,0," "]
["5.4.13","Turtas, kurio nusidėvėjimą, amortizaciją prašoma finansuoti",null,null,1,0,0,0,null,null,null,null,null,null,"0",null,null,0," "]
["5.4.14","Turtas, kurio nusidėvėjimą, amortizaciją prašoma finansuoti",null,null,1,0,0,0,null,null,null,null,null,null,"0",null,null,0," "]
["5.4.15","Turtas, kurio nusidėvėjimą, amortizaciją prašoma finansuoti",null,null,1,0,0,0,null,null,null,null,null,null,"0",null,null,0," "]
["5.5","Projektą vykdančio personalo darbo užmokestis ir išlaidos su darbo santykiais susijusiems darbdavio įsipareigojimams",null,null,null,null,{"$f":"SUM(G77:G126)","v":0},{"$f":"SUM(H77:H126)","v":0},null,null,"Faktiškai gaunamas darbo užmokesti už 1 valandą pagal  pastarųjų 6 mėn. vidurkį, Eur"]
["5.5.1","Pareigybės pavadinimas","Darbuotojo vardas pavardė","val.",null,{"$f":"IFERROR(ROUND(AVERAGE(K77:K81),2),\"0\")","v":"0"},{"$f":"ROUND(E77*F77,2)","v":0},{"$f":"ROUND(G77*$D$7,2)","v":0}]
[null,null,"Darbuotojo vardas pavardė"]
[null,null,"Darbuotojo vardas pavardė"]
[null,null,"Darbuotojo vardas pavardė"]
[null,null,"Darbuotojo vardas pavardė"]
["5.5.2","Pareigybės pavadinimas","Darbuotojo vardas pavardė","val.",null,{"$f":"IFERROR(ROUND(AVERAGE(K82:K86),2),\"0\")","v":"0"},{"$f":"ROUND(E82*F82,2)","v":0},{"$f":"ROUND(G82*$D$7,2)","v":0}]
[null,null,"Darbuotojo vardas pavardė"]
[null,null,"Darbuotojo vardas pavardė"]
[null,null,"Darbuotojo vardas pavardė"]
[null,null,"Darbuotojo vardas pavardė"]
["5.5.3","Pareigybės pavadinimas","Darbuotojo vardas pavardė","val.",null,{"$f":"IFERROR(ROUND(AVERAGE(K87:K91),2),\"0\")","v":"0"},{"$f":"ROUND(E87*F87,2)","v":0},{"$f":"ROUND(G87*$D$7,2)","v":0}]
[null,null,"Darbuotojo vardas pavardė"]
[null,null,"Darbuotojo vardas pavardė"]
[null,null,"Darbuotojo vardas pavardė"]
[null,null,"Darbuotojo vardas pavardė"]
["5.5.4","Pareigybės pavadinimas","Darbuotojo vardas pavardė","val.",null,{"$f":"IFERROR(ROUND(AVERAGE(K92:K96),2),\"0\")","v":"0"},{"$f":"ROUND(E92*F92,2)","v":0},{"$f":"ROUND(G92*$D$7,2)","v":0}]
[null,null,"Darbuotojo vardas pavardė"]
[null,null,"Darbuotojo vardas pavardė"]
[null,null,"Darbuotojo vardas pavardė"]
[null,null,"Darbuotojo vardas pavardė"]
["5.5.5","Pareigybės pavadinimas","Darbuotojo vardas pavardė","val.",null,{"$f":"IFERROR(ROUND(AVERAGE(K97:K101),2),\"0\")","v":"0"},{"$f":"ROUND(E97*F97,2)","v":0},{"$f":"ROUND(G97*$D$7,2)","v":0}]
[null,null,"Darbuotojo vardas pavardė"]
[null,null,"Darbuotojo vardas pavardė"]
[null,null,"Darbuotojo vardas pavardė"]
[null,null,"Darbuotojo vardas pavardė"]
["5.5.6","Pareigybės pavadinimas","Darbuotojo vardas pavardė","val.",null,{"$f":"IFERROR(ROUND(AVERAGE(K102:K106),2),\"0\")","v":"0"},{"$f":"ROUND(E102*F102,2)","v":0},{"$f":"ROUND(G102*$D$7,2)","v":0}]
[null,null,"Darbuotojo vardas pavardė"]
[null,null,"Darbuotojo vardas pavardė"]
[null,null,"Darbuotojo vardas pavardė"]
[null,null,"Darbuotojo vardas pavardė"]
["5.5.7","Pareigybės pavadinimas","Darbuotojo vardas pavardė","val.",null,{"$f":"IFERROR(ROUND(AVERAGE(K107:K111),2),\"0\")","v":"0"},{"$f":"ROUND(E107*F107,2)","v":0},{"$f":"ROUND(G107*$D$7,2)","v":0}]
[null,null,"Darbuotojo vardas pavardė"]
[null,null,"Darbuotojo vardas pavardė"]
[null,null,"Darbuotojo vardas pavardė"]
[null,null,"Darbuotojo vardas pavardė"]
["5.5.8","Pareigybės pavadinimas","Darbuotojo vardas pavardė","val.",null,{"$f":"IFERROR(ROUND(AVERAGE(K112:K116),2),\"0\")","v":"0"},{"$f":"ROUND(E112*F112,2)","v":0},{"$f":"ROUND(G112*$D$7,2)","v":0}]
[null,null,"Darbuotojo vardas pavardė"]
[null,null,"Darbuotojo vardas pavardė"]
[null,null,"Darbuotojo vardas pavardė"]
[null,null,"Darbuotojo vardas pavardė"]
["5.5.9","Pareigybės pavadinimas","Darbuotojo vardas pavardė","val.",null,{"$f":"IFERROR(ROUND(AVERAGE(K117:K121),2),\"0\")","v":"0"},{"$f":"ROUND(E117*F117,2)","v":0},{"$f":"ROUND(G117*$D$7,2)","v":0}]
[null,null,"Darbuotojo vardas pavardė"]
[null,null,"Darbuotojo vardas pavardė"]
[null,null,"Darbuotojo vardas pavardė"]
[null,null,"Darbuotojo vardas pavardė"]
["5.5.10","Pareigybės pavadinimas","Darbuotojo vardas pavardė","val.",null,{"$f":"IFERROR(ROUND(AVERAGE(K122:K126),2),\"0\")","v":"0"},{"$f":"ROUND(E122*F122,2)","v":0},{"$f":"ROUND(G122*$D$7,2)","v":0}]
[null,null,"Darbuotojo vardas pavardė"]
[null,null,"Darbuotojo vardas pavardė"]
[null,null,"Darbuotojo vardas pavardė"]
[null,null,"Darbuotojo vardas pavardė"]
["5.6","Projektą vykdančio personalo komandiruočių išlaidos",null,null,null,null,{"$f":"SUM(G128,G135,G142,G149,G156,G163,G170,G177,G184,G191)","v":0},{"$f":"SUM(H128,H135,H142,H149,H156,H163,H170,H177,H184,H191)","v":0}]
["111","Komandiruotės pavadinimas, vieta, trukmė dienomis, vykstančių asmenų skaičius","Iš viso komandiruotei",null,null,null,{"$f":"SUM(G129:G134)","v":0},{"$f":"ROUND(G128*$D$7,2)","v":0}]
[null,null,"Dienpinigiai",null,null,null,{"$f":"ROUND(E129*F129,2)","v":0}]
[null,null,"Gyvenamojo ploto nuoma",null,null,null,0]
[null,null,"Kelionės išlaidos",null,null,null,0]
[null,null,"Dalyvavimo mokestis",null,null,null,0]
[null,null,"Kitos išlaidų pavadinimas",null,null,null,0]
[null,null,"Kitos išlaidų pavadinimas",null,null,null,0]
["5.6.2","Komandiruotės pavadinimas, vieta, trukmė dienomis, vykstančių asmenų skaičius","Iš viso komandiruotei",null,null,null,{"$f":"SUM(G136:G141)","v":0},{"$f":"ROUND(G135*$D$7,2)","v":0}]
[null,null,"Dienpinigiai",null,null,null,{"$f":"ROUND(E136*F136,2)","v":0}]
[null,null,"Gyvenamojo ploto nuoma",null,null,null,0]
[null,null,"Kelionės išlaidos",null,null,null,0]
[null,null,"Dalyvavimo mokestis",null,null,null,0]
[null,null,"Kitos išlaidų pavadinimas",null,null,null,0]
[null,null,"Kitos išlaidų pavadinimas",null,null,null,0]
["5.6.3","Komandiruotės pavadinimas, vieta, trukmė dienomis, vykstančių asmenų skaičius","Iš viso komandiruotei",null,null,null,{"$f":"SUM(G143:G148)","v":0},{"$f":"ROUND(G142*$D$7,2)","v":0}]
[null,null,"Dienpinigiai",null,null,null,{"$f":"ROUND(E143*F143,2)","v":0}]
[null,null,"Gyvenamojo ploto nuoma",null,null,null,0]
[null,null,"Kelionės išlaidos",null,null,null,0]
[null,null,"Dalyvavimo mokestis",null,null,null,0]
[null,null,"Kitos išlaidų pavadinimas",null,null,null,0]
[null,null,"Kitos išlaidų pavadinimas",null,null,null,0]
["5.6.4","Komandiruotės pavadinimas, vieta, trukmė dienomis, vykstančių asmenų skaičius","Iš viso komandiruotei",null,null,null,{"$f":"SUM(G150:G155)","v":0},{"$f":"ROUND(G149*$D$7,2)","v":0}]
[null,null,"Dienpinigiai",null,null,null,{"$f":"ROUND(E150*F150,2)","v":0}]
[null,null,"Gyvenamojo ploto nuoma",null,null,null,0]
[null,null,"Kelionės išlaidos",null,null,null,0]
[null,null,"Dalyvavimo mokestis",null,null,null,0]
[null,null,"Kitos išlaidų pavadinimas",null,null,null,0]
[null,null,"Kitos išlaidų pavadinimas",null,null,null,0]
["5.6.5","Komandiruotės pavadinimas, vieta, trukmė dienomis, vykstančių asmenų skaičius","Iš viso komandiruotei",null,null,null,{"$f":"SUM(G157:G162)","v":0},{"$f":"ROUND(G156*$D$7,2)","v":0}]
[null,null,"Dienpinigiai",null,null,null,{"$f":"ROUND(E157*F157,2)","v":0}]
[null,null,"Gyvenamojo ploto nuoma",null,null,null,0]
[null,null,"Kelionės išlaidos",null,null,null,0]
[null,null,"Dalyvavimo mokestis",null,null,null,0]
[null,null,"Kitos išlaidų pavadinimas",null,null,null,0]
[null,null,"Kitos išlaidų pavadinimas",null,null,null,0]
["5.6.6","Komandiruotės pavadinimas, vieta, trukmė dienomis, vykstančių asmenų skaičius","Iš viso komandiruotei",null,null,null,{"$f":"SUM(G164:G169)","v":0},{"$f":"ROUND(G163*$D$7,2)","v":0}]
[null,null,"Dienpinigiai",null,null,null,{"$f":"ROUND(E164*F164,2)","v":0}]
[null,null,"Gyvenamojo ploto nuoma",null,null,null,0]
[null,null,"Kelionės išlaidos",null,null,null,0]
[null,null,"Dalyvavimo mokestis",null,null,null,0]
[null,null,"Kitos išlaidų pavadinimas",null,null,null,0]
[null,null,"Kitos išlaidų pavadinimas",null,null,null,0]
["5.6.7","Komandiruotės pavadinimas, vieta, trukmė dienomis, vykstančių asmenų skaičius","Iš viso komandiruotei",null,null,null,{"$f":"SUM(G171:G176)","v":0},{"$f":"ROUND(G170*$D$7,2)","v":0}]
[null,null,"Dienpinigiai",null,null,null,{"$f":"ROUND(E171*F171,2)","v":0}]
[null,null,"Gyvenamojo ploto nuoma",null,null,null,0]
[null,null,"Kelionės išlaidos",null,null,null,0]
[null,null,"Dalyvavimo mokestis",null,null,null,0]
[null,null,"Kitos išlaidų pavadinimas",null,null,null,0]
[null,null,"Kitos išlaidų pavadinimas",null,null,null,0]
["5.6.8","Komandiruotės pavadinimas, vieta, trukmė dienomis, vykstančių asmenų skaičius","Iš viso komandiruotei",null,null,null,{"$f":"SUM(G178:G183)","v":0},{"$f":"ROUND(G177*$D$7,2)","v":0}]
[null,null,"Dienpinigiai",null,null,null,{"$f":"ROUND(E178*F178,2)","v":0}]
[null,null,"Gyvenamojo ploto nuoma",null,null,null,0]
[null,null,"Kelionės išlaidos",null,null,null,0]
[null,null,"Dalyvavimo mokestis",null,null,null,0]
[null,null,"Kitos išlaidų pavadinimas",null,null,null,0]
[null,null,"Kitos išlaidų pavadinimas",null,null,null,0]
["5.6.9","Komandiruotės pavadinimas, vieta, trukmė dienomis, vykstančių asmenų skaičius","Iš viso komandiruotei",null,null,null,{"$f":"SUM(G185:G190)","v":0},{"$f":"ROUND(G184*$D$7,2)","v":0}]
[null,null,"Dienpinigiai",null,null,null,{"$f":"ROUND(E185*F185,2)","v":0}]
[null,null,"Gyvenamojo ploto nuoma",null,null,null,0]
[null,null,"Kelionės išlaidos",null,null,null,0]
[null,null,"Dalyvavimo mokestis",null,null,null,0]
[null,null,"Kitos išlaidų pavadinimas",null,null,null,0]
[null,null,"Kitos išlaidų pavadinimas",null,null,null,0]
["5.6.10","Komandiruotės pavadinimas, vieta, trukmė dienomis, vykstančių asmenų skaičius","Iš viso komandiruotei",null,null,null,{"$f":"SUM(G192:G197)","v":0},{"$f":"ROUND(G191*$D$7,2)","v":0}]
[null,null,"Dienpinigiai",null,null,null,{"$f":"ROUND(E192*F192,2)","v":0}]
[null,null,"Gyvenamojo ploto nuoma",null,null,null,0]
[null,null,"Kelionės išlaidos",null,null,null,0]
[null,null,"Dalyvavimo mokestis",null,null,null,0]
[null,null,"Kitos išlaidų pavadinimas",null,null,null,0]
[null,null,"Kitos išlaidų pavadinimas",null,null,null,0]
["5.7","Įrangos nuomos išlaidos, veiklai priskirtos pro rata principu. Įranga turi būti tiesiogiai susijusi su projekto įgyvendinimu ir negali būti įsigyta iš ES struktūrinių fondų ar kt. ES finansinių priemonių lėšų",null,null,null,null,{"$f":"SUM(G199:G203)","v":0},{"$f":"SUM(H199:H203)","v":0},null,null,"Faktinės 1 mėnesio išlaidos, Eur","Naudojimo projekte trukmė, mėn."]
["5.7.1","Įrangos pavadinimas",null,"pro rata proc.",null,{"$f":"K199*L199","v":0},0,{"$f":"ROUND(G199*$D$7,2)","v":0}]
["5.7.2","Įrangos pavadinimas",null,"pro rata proc.",null,{"$f":"K200*L200","v":0},0,{"$f":"ROUND(G200*$D$7,2)","v":0}]
["5.7.3","Įrangos pavadinimas",null,"pro rata proc.",null,0,0,0]
["5.7.4","Įrangos pavadinimas",null,"pro rata proc.",null,0,0,0]
["5.7.5","Įrangos pavadinimas",null,"pro rata proc.",null,0,0,0]
["5.8","Pastatų ar patalpų nuomos išlaidos, veiklai priskirtos pro rata principu. Pastatai ar patalpos turi būti tiesiogiai susijusi su projekto įgyvendinimu.",null,null,null,null,{"$f":"SUM(G205:G209)","v":0},{"$f":"SUM(H205:H209)","v":0},null,null,"Faktinės 1 mėnesio išlaidos, Eur","Naudojimo projekte trukmė, mėn."]
["5.8.1","Pastato, patalpų adresas",null,"pro rata proc.",null,{"$f":"K205*L205","v":0},{"$f":"ROUND(E205*F205,2)","v":0},{"$f":"ROUND(G205*$D$7,2)","v":0}]
["5.8.2","Pastato, patalpų adresas",null,"pro rata proc.",null,{"$f":"K206*L206","v":0},0,0]
["5.8.3","Pastato, patalpų adresas",null,"pro rata proc.",null,0,0,0]
["5.8.4","Pastato, patalpų adresas",null,"pro rata proc.",null,0,0,0]
["5.8.5","Pastato, patalpų adresas",null,"pro rata proc.",null,0,0,0]
["Iš viso tinkamų finansuoti išlaidų:",null,null,null,null,null,{"$f":"G10+G21","v":0},{"$f":"H10+H21","v":0}]

{"sheet":"20","index":21,"n_rows":210,"n_cols":19,"rows_kept":210,"cut":false,"hidden":false,"merged":[[206,1,206,2],[207,1,207,2],[208,1,208,2],[209,0,209,5],[197,1,197,5],[198,1,198,2],[199,1,199,2],[200,1,200,2],[201,1,201,2],[202,1,202,2],[203,1,203,5],[204,1,204,2],[205,1,205,2],[176,0,182,0],[176,1,182,1],[176,8,182,8],[183,0,189,0],[183,1,189,1],[183,8,189,8],[190,0,196,0],[190,1,196,1],[190,8,196,8],[155,0,161,0],[155,1,161,1],[155,8,161,8],[162,0,168,0],[162,1,168,1],[162,8,168,8],[169,0,175,0],[169,1,175,1],[169,8,175,8],[134,0,140,0],[134,1,140,1],[134,8,140,8],[141,0,147,0],[141,1,147,1],[141,8,147,8],[148,0,154,0],[148,1,154,1],[148,8,154,8],[127,1,133,1],[121,7,125,7],[121,8,125,8],[126,1,126,5],[121,0,125,0],[121,1,125,1],[121,3,125,3],[121,4,125,4],[121,5,125,5],[121,6,125,6],[127,0,133,0],[127,8,133,8],[111,7,115,7],[111,8,115,8],[116,0,120,0],[116,1,120,1],[116,3,120,3],[116,4,120,4],[116,5,120,5],[116,6,120,6],[116,7,120,7],[116,8,120,8],[111,0,115,0],[111,1,115,1],[111,3,115,3],[111,4,115,4],[111,5,115,5],[111,6,115,6],[101,7,105,7],[101,8,105,8],[106,0,110,0],[106,1,110,1],[106,3,110,3],[106,4,110,4],[106,5,110,5],[106,6,110,6],[106,7,110,7],[106,8,110,8],[101,0,105,0],[101,1,105,1],[101,3,105,3],[101,4,105,4],[101,5,105,5],[101,6,105,6],[96,0,100,0],[96,1,100,1],[96,3,100,3],[96,4,100,4],[96,5,100,5],[96,6,100,6],[96,7,100,7],[96,8,100,8],[91,0,95,0],[91,1,95,1],[91,3,95,3],[91,4,95,4],[91,5,95,5],[91,6,95,6],[86,0,90,0],[86,1,90,1],[86,3,90,3],[86,4,90,4],[86,5,90,5],[86,6,90,6],[86,7,90,7],[86,8,90,8],[91,7,95,7],[91,8,95,8],[76,6,80,6],[76,7,80,7],[76,8,80,8],[81,0,85,0],[81,1,85,1],[81,3,85,3],[81,4,85,4],[81,5,85,5],[81,6,85,6],[81,7,85,7],[81,8,85,8],[74,1,74,2],[75,1,75,5],[76,0,80,0],[76,1,80,1],[76,3,80,3],[76,4,80,4],[76,5,80,5],[68,1,68,2],[69,1,69,2],[70,1,70,2],[71,1,71,2],[72,1,72,2],[73,1,73,2],[62,1,62,2],[63,1,63,2],[64,1,64,2],[65,1,65,2],[66,1,66,2],[67,1,67,2],[56,1,56,2],[57,1,57,2],[58,1,58,2],[59,1,59,5],[60,1,60,2],[61,1,61,2],[50,1,50,2],[51,1,51,2],[52,1,52,2],[53,1,53,2],[54,1,54,2],[55,1,55,2],[44,1,44,2],[45,1,45,2],[46,1,46,2],[47,1,47,2],[48,1,48,2],[49,1,49,2],[38,1,38,2],[39,1,39,2],[40,1,40,2],[41,1,41,2],[42,1,42,2],[43,1,43,5],[32,1,32,5],[33,1,33,2],[34,1,34,2],[35,1,35,2],[36,1,36,2],[37,1,37,2],[26,1,26,2],[27,1,27,2],[28,1,28,2],[29,1,29,2],[30,1,30,2],[31,1,31,2],[20,1,20,5],[21,1,21,5],[22,1,22,2],[23,1,23,2],[24,1,24,2],[25,1,25,2],[16,1,16,2],[17,1,17,2],[18,1,18,2],[19,1,19,2],[8,1,8,2],[9,1,9,5],[10,1,10,2],[11,1,11,2],[12,1,12,2],[13,1,13,2],[0,3,0,8],[2,0,2,2],[2,3,2,8],[3,3,3,4],[3,5,3,6],[4,0,4,2],[4,3,4,8],[14,1,14,2],[15,1,15,2]]}
[null,null,"Pasirinkite veiklos tipą:"]
[null,null,"Fizinio rodiklio Nr.:"]
["Fizinio rodiklio pavadinimas:"]
[null,null,"Fizinio rodiklio matavimo vnt.:",null,null,"Fizinio rodiklio vnt. skaičius:"]
["Juridinis asmuo (pareiškėjas, partneris), atsakingas už fizinį rodiklį:"]
[]
[null,null,"Finansavimo intensyvumas:",null,null,null,"Pasirinkite biudžeto išlaidų kategoriją:"]
[]
["Eil. Nr.","Išlaidų kategorijos pavadinimas",null,"Matavimo vnt.","Kiekis","Vieneto kaina be PVM, Eur","Tinkamų finansuoti išlaidų suma be PVM, Eur","Finansavimo suma, Eur","Išlaidų pagrindimo dokumentų pavadinimas, data ir Nr."]
[4,"ĮRANGA, ĮRENGINIAI IR KT. TURTAS (techninių žinių ir išradimų patentų arba teisių pagal licencijų sutartį įsigijimo išlaidos)",null,null,null,null,{"$f":"SUM(G11:G20)","v":0},{"$f":"SUM(H11:H20)","v":0}]
["4.1","Išlaidų pavadinimas",null,null,null,null,{"$f":"ROUND(E11*F11,2)","v":0},{"$f":"ROUND(G11*$D$7,2)","v":0}]
["4.2","Išlaidų pavadinimas",null,null,null,null,0,0]
["4.3","Išlaidų pavadinimas",null,null,null,null,0,0]
["4.4","Išlaidų pavadinimas",null,null,null,null,0,0]
["4.5","Išlaidų pavadinimas",null,null,null,null,0,0]
["4.6","Išlaidų pavadinimas",null,null,null,null,0,0]
["4.7","Išlaidų pavadinimas",null,null,null,null,0,0]
["4.8","Išlaidų pavadinimas",null,null,null,null,0,0]
["4.9","Išlaidų pavadinimas",null,null,null,null,0,0]
["4.10","Išlaidų pavadinimas",null,null,null,null,0,0]
[5,"PROJEKTO VYKDYMAS",null,null,null,null,{"$f":"G22+G33+G44+G60+G76+G127+G198+G204","v":0},{"$f":"H22+H33+H44+H60+H76+H127+H198+H204","v":0}]
["5.1","MTEP paslaugos",null,null,null,null,{"$f":"SUM(G23:G32)","v":0},{"$f":"SUM(H23:H32)","v":0}]
["5.1.1","Paslaugos pavadinimas",null,null,null,null,{"$f":"ROUND(E23*F23,2)","v":0},0]
["5.1.2","Paslaugos pavadinimas",null,null,null,null,0,0]
["5.1.3","Paslaugos pavadinimas",null,null,null,null,0,0]
["5.1.4","Paslaugos pavadinimas",null,null,null,null,0,0]
["5.1.5","Paslaugos pavadinimas",null,null,null,null,0,0]
["5.1.6","Paslaugos pavadinimas",null,null,null,null,0,0]
["5.1.7","Paslaugos pavadinimas",null,null,null,null,0,0]
["5.1.8","Paslaugos pavadinimas",null,null,null,null,0,0]
["5.1.9","Paslaugos pavadinimas",null,null,null,null,0,0]
["5.1.10","Paslaugos pavadinimas",null,null,null,null,0,0]
["5.2","Konsultavimo ir lygiavertės paslaugos, naudojamos vien tik projekto MTEP veiklai",null,null,null,null,{"$f":"SUM(G34:G43)","v":0},{"$f":"SUM(H34:H43)","v":0}]
["5.2.1","Paslaugos pavadinimas",null,null,null,null,{"$f":"ROUND(E34*F34,2)","v":0},0]
["5.2.2","Paslaugos pavadinimas",null,null,null,null,0,0]
["5.2.3","Paslaugos pavadinimas",null,null,null,null,0,0]
["5.2.4","Paslaugos pavadinimas",null,null,null,null,0,0]
["5.2.5","Paslaugos pavadinimas",null,null,null,null,0,0]
["5.2.6","Paslaugos pavadinimas",null,null,null,null,0,0]
["5.2.7","Paslaugos pavadinimas",null,null,null,null,0,0]
["5.2.8","Paslaugos pavadinimas",null,null,null,null,0,0]
["5.2.9","Paslaugos pavadinimas",null,null,null,null,0,0]
["5.2.10","Paslaugos pavadinimas",null,null,null,null,0,0]
["5.3","Medžiagos, mažavertis inventorius, atsargos ir pan. produktai, priskirtini trumpalaikiam turtui ir tiesiogiai susiję su MTEP veikla",null,null,null,null,{"$f":"SUM(G45:G61)","v":0},{"$f":"SUM(H45:H61)","v":0}]
["5.3.1","Išlaidų pavadinimas",null,null,null,null,{"$f":"ROUND(E45*F45,2)","v":0},{"$f":"ROUND(G45*$D$7,2)","v":0}]
["5.3.2","Išlaidų pavadinimas",null,null,null,null,0,0]
["5.3.3","Išlaidų pavadinimas",null,null,null,null,0,0]
["5.3.4","Išlaidų pavadinimas",null,null,null,null,0,0]
["5.3.5","Išlaidų pavadinimas",null,null,null,null,0,0]
["5.3.6","Išlaidų pavadinimas",null,null,null,null,0,0]
["5.3.7","Išlaidų pavadinimas",null,null,null,null,0,0]
["5.3.8","Išlaidų pavadinimas",null,null,null,null,0,0]
["5.3.9","Išlaidų pavadinimas",null,null,null,null,0,0]
["5.3.10","Išlaidų pavadinimas",null,null,null,null,0,0]
["5.3.11","Išlaidų pavadinimas",null,null,null,null,0,0]
["5.3.12","Išlaidų pavadinimas",null,null,null,null,0,0]
["5.3.13","Išlaidų pavadinimas",null,null,null,null,0,0]
["5.3.14","Išlaidų pavadinimas",null,null,null,null,0,0]
["5.3.15","Išlaidų pavadinimas",null,null,null,null,0,0]
["5.4","Projekto MTEP veikloms naudojamo ilgalaikio materialaus turto (įrangos, prietaisų, įrankių, įrenginių, mašinų ir įrengimų, pastatų ir (ar) patalpų), nusidėvėjimo sąnaudos, jeigu šiam turtui įsigyti nebuvo naudojamos viešosios (įskaitant ir kitų valstybių) lėšos",null,null,null,null,{"$f":"SUM(G61:G75)","v":0},{"$f":"SUM(H61:H75)","v":0},null,null,"Turto įvedimo į eksploataciją data","Turto įsigijimo vertė, Eur","Turto nudėvėjimo, amortizacijos laikotarpis, mėn.","Numatoma turto likutinė vertė, Eur","1 mėn. nudėvėjimo, amortizacijos suma, Eur","Turto naudojamo projekto reikmėms laikas, mėn.","Turto panaudojimo projekto reikmėms dalis (proc.)","Projektui priskirta turto nusidėvėjimo, amortizacijos suma per projekto laikotarpį, Eur"]
["5.4.1","Turtas, kurio nusidėvėjimą, amortizaciją prašoma finansuoti",null,null,1,{"$f":"R61","v":0},{"$f":"ROUND(E61*F61,2)","v":0},0,null,null,null,null,null,null,{"$f":"IFERROR(ROUND((L61-N61)/M61,2),\"0\")","v":"0"},null,null,{"$f":"O61*P61*Q61","v":0},{"$f":"IF(K61=0,\" \",IF(K61+(M61*30.5)<TODAY(),\"DĖMESIO! Patikrinkite, ar nurodytas turtas dar nėra nudėvėtas, amortizuotas\",\" \"))","v":" "}]
["5.4.2","Turtas, kurio nusidėvėjimą, amortizaciją prašoma finansuoti",null,null,1,{"$f":"R62","v":0},0,0,null,null,null,null,null,null,{"$f":"IFERROR(ROUND((L62-N62)/M62,2),\"0\")","v":"0"},null,null,{"$f":"O62*P62*Q62","v":0},{"$f":"IF(K62=0,\" \",IF(K62+(M62*30.5)<TODAY(),\"DĖMESIO! Patikrinkite, ar nurodytas turtas dar nėra nudėvėtas, amortizuotas\",\" \"))","v":" "}]
["5.4.3","Turtas, kurio nusidėvėjimą, amortizaciją prašoma finansuoti",null,null,1,0,0,0,null,null,null,null,null,null,"0",null,null,0," "]
["5.4.4","Turtas, kurio nusidėvėjimą, amortizaciją prašoma finansuoti",null,null,1,0,0,0,null,null,null,null,null,null,"0",null,null,0," "]
["5.4.5","Turtas, kurio nusidėvėjimą, amortizaciją prašoma finansuoti",null,null,1,0,0,0,null,null,null,null,null,null,"0",null,null,0," "]
["5.4.6","Turtas, kurio nusidėvėjimą, amortizaciją prašoma finansuoti",null,null,1,0,0,0,null,null,null,null,null,null,"0",null,null,0," "]
["5.4.7","Turtas, kurio nusidėvėjimą, amortizaciją prašoma finansuoti",null,null,1,0,0,0,null,null,null,null,null,null,"0",null,null,0," "]
["5.4.8","Turtas, kurio nusidėvėjimą, amortizaciją prašoma finansuoti",null,null,1,0,0,0,null,null,null,null,null,null,"0",null,null,0," "]
["5.4.9","Turtas, kurio nusidėvėjimą, amortizaciją prašoma finansuoti",null,null,1,0,0,0,null,null,null,null,null,null,"0",null,null,0," "]
["5.4.10","Turtas, kurio nusidėvėjimą, amortizaciją prašoma finansuoti",null,null,1,0,0,0,null,null,null,null,null,null,"0",null,null,0," "]
["5.4.11","Turtas, kurio nusidėvėjimą, amortizaciją prašoma finansuoti",null,null,1,0,0,0,null,null,null,null,null,null,"0",null,null,0," "]
["5.4.12","Turtas, kurio nusidėvėjimą, amortizaciją prašoma finansuoti",null,null,1,0,0,0,null,null,null,null,null,null,"0",null,null,0," "]
["5.4.13","Turtas, kurio nusidėvėjimą, amortizaciją prašoma finansuoti",null,null,1,0,0,0,null,null,null,null,null,null,"0",null,null,0," "]
["5.4.14","Turtas, kurio nusidėvėjimą, amortizaciją prašoma finansuoti",null,null,1,0,0,0,null,null,null,null,null,null,"0",null,null,0," "]
["5.4.15","Turtas, kurio nusidėvėjimą, amortizaciją prašoma finansuoti",null,null,1,0,0,0,null,null,null,null,null,null,"0",null,null,0," "]
["5.5","Projektą vykdančio personalo darbo užmokestis ir išlaidos su darbo santykiais susijusiems darbdavio įsipareigojimams",null,null,null,null,{"$f":"SUM(G77:G126)","v":0},{"$f":"SUM(H77:H126)","v":0},null,null,"Faktiškai gaunamas darbo užmokesti už 1 valandą pagal  pastarųjų 6 mėn. vidurkį, Eur"]
["5.5.1","Pareigybės pavadinimas","Darbuotojo vardas pavardė","val.",null,{"$f":"IFERROR(ROUND(AVERAGE(K77:K81),2),\"0\")","v":"0"},{"$f":"ROUND(E77*F77,2)","v":0},{"$f":"ROUND(G77*$D$7,2)","v":0}]
[null,null,"Darbuotojo vardas pavardė"]
[null,null,"Darbuotojo vardas pavardė"]
[null,null,"Darbuotojo vardas pavardė"]
[null,null,"Darbuotojo vardas pavardė"]
["5.5.2","Pareigybės pavadinimas","Darbuotojo vardas pavardė","val.",null,{"$f":"IFERROR(ROUND(AVERAGE(K82:K86),2),\"0\")","v":"0"},{"$f":"ROUND(E82*F82,2)","v":0},{"$f":"ROUND(G82*$D$7,2)","v":0}]
[null,null,"Darbuotojo vardas pavardė"]
[null,null,"Darbuotojo vardas pavardė"]
[null,null,"Darbuotojo vardas pavardė"]
[null,null,"Darbuotojo vardas pavardė"]
["5.5.3","Pareigybės pavadinimas","Darbuotojo vardas pavardė","val.",null,{"$f":"IFERROR(ROUND(AVERAGE(K87:K91),2),\"0\")","v":"0"},{"$f":"ROUND(E87*F87,2)","v":0},{"$f":"ROUND(G87*$D$7,2)","v":0}]
[null,null,"Darbuotojo vardas pavardė"]
[null,null,"Darbuotojo vardas pavardė"]
[null,null,"Darbuotojo vardas pavardė"]
[null,null,"Darbuotojo vardas pavardė"]
["5.5.4","Pareigybės pavadinimas","Darbuotojo vardas pavardė","val.",null,{"$f":"IFERROR(ROUND(AVERAGE(K92:K96),2),\"0\")","v":"0"},{"$f":"ROUND(E92*F92,2)","v":0},{"$f":"ROUND(G92*$D$7,2)","v":0}]
[null,null,"Darbuotojo vardas pavardė"]
[null,null,"Darbuotojo vardas pavardė"]
[null,null,"Darbuotojo vardas pavardė"]
[null,null,"Darbuotojo vardas pavardė"]
["5.5.5","Pareigybės pavadinimas","Darbuotojo vardas pavardė","val.",null,{"$f":"IFERROR(ROUND(AVERAGE(K97:K101),2),\"0\")","v":"0"},{"$f":"ROUND(E97*F97,2)","v":0},{"$f":"ROUND(G97*$D$7,2)","v":0}]
[null,null,"Darbuotojo vardas pavardė"]
[null,null,"Darbuotojo vardas pavardė"]
[null,null,"Darbuotojo vardas pavardė"]
[null,null,"Darbuotojo vardas pavardė"]
["5.5.6","Pareigybės pavadinimas","Darbuotojo vardas pavardė","val.",null,{"$f":"IFERROR(ROUND(AVERAGE(K102:K106),2),\"0\")","v":"0"},{"$f":"ROUND(E102*F102,2)","v":0},{"$f":"ROUND(G102*$D$7,2)","v":0}]
[null,null,"Darbuotojo vardas pavardė"]
[null,null,"Darbuotojo vardas pavardė"]
[null,null,"Darbuotojo vardas pavardė"]
[null,null,"Darbuotojo vardas pavardė"]
["5.5.7","Pareigybės pavadinimas","Darbuotojo vardas pavardė","val.",null,{"$f":"IFERROR(ROUND(AVERAGE(K107:K111),2),\"0\")","v":"0"},{"$f":"ROUND(E107*F107,2)","v":0},{"$f":"ROUND(G107*$D$7,2)","v":0}]
[null,null,"Darbuotojo vardas pavardė"]
[null,null,"Darbuotojo vardas pavardė"]
[null,null,"Darbuotojo vardas pavardė"]
[null,null,"Darbuotojo vardas pavardė"]
["5.5.8","Pareigybės pavadinimas","Darbuotojo vardas pavardė","val.",null,{"$f":"IFERROR(ROUND(AVERAGE(K112:K116),2),\"0\")","v":"0"},{"$f":"ROUND(E112*F112,2)","v":0},{"$f":"ROUND(G112*$D$7,2)","v":0}]
[null,null,"Darbuotojo vardas pavardė"]
[null,null,"Darbuotojo vardas pavardė"]
[null,null,"Darbuotojo vardas pavardė"]
[null,null,"Darbuotojo vardas pavardė"]
["5.5.9","Pareigybės pavadinimas","Darbuotojo vardas pavardė","val.",null,{"$f":"IFERROR(ROUND(AVERAGE(K117:K121),2),\"0\")","v":"0"},{"$f":"ROUND(E117*F117,2)","v":0},{"$f":"ROUND(G117*$D$7,2)","v":0}]
[null,null,"Darbuotojo vardas pavardė"]
[null,null,"Darbuotojo vardas pavardė"]
[null,null,"Darbuotojo vardas pavardė"]
[null,null,"Darbuotojo vardas pavardė"]
["5.5.10","Pareigybės pavadinimas","Darbuotojo vardas pavardė","val.",null,{"$f":"IFERROR(ROUND(AVERAGE(K122:K126),2),\"0\")","v":"0"},{"$f":"ROUND(E122*F122,2)","v":0},{"$f":"ROUND(G122*$D$7,2)","v":0}]
[null,null,"Darbuotojo vardas pavardė"]
[null,null,"Darbuotojo vardas pavardė"]
[null,null,"Darbuotojo vardas pavardė"]
[null,null,"Darbuotojo vardas pavardė"]
["5.6","Projektą vykdančio personalo komandiruočių išlaidos",null,null,null,null,{"$f":"SUM(G128,G135,G142,G149,G156,G163,G170,G177,G184,G191)","v":0},{"$f":"SUM(H128,H135,H142,H149,H156,H163,H170,H177,H184,H191)","v":0}]
["5.6.1","Komandiruotės pavadinimas, vieta, trukmė dienomis, vykstančių asmenų skaičius","Iš viso komandiruotei",null,null,null,{"$f":"SUM(G129:G134)","v":0},{"$f":"ROUND(G128*$D$7,2)","v":0}]
[null,null,"Dienpinigiai",null,null,null,{"$f":"ROUND(E129*F129,2)","v":0}]
[null,null,"Gyvenamojo ploto nuoma",null,null,null,0]
[null,null,"Kelionės išlaidos",null,null,null,0]
[null,null,"Dalyvavimo mokestis",null,null,null,0]
[null,null,"Kitos išlaidų pavadinimas",null,null,null,0]
[null,null,"Kitos išlaidų pavadinimas",null,null,null,0]
["5.6.2","Komandiruotės pavadinimas, vieta, trukmė dienomis, vykstančių asmenų skaičius","Iš viso komandiruotei",null,null,null,{"$f":"SUM(G136:G141)","v":0},{"$f":"ROUND(G135*$D$7,2)","v":0}]
[null,null,"Dienpinigiai",null,null,null,{"$f":"ROUND(E136*F136,2)","v":0}]
[null,null,"Gyvenamojo ploto nuoma",null,null,null,0]
[null,null,"Kelionės išlaidos",null,null,null,0]
[null,null,"Dalyvavimo mokestis",null,null,null,0]
[null,null,"Kitos išlaidų pavadinimas",null,null,null,0]
[null,null,"Kitos išlaidų pavadinimas",null,null,null,0]
["5.6.3","Komandiruotės pavadinimas, vieta, trukmė dienomis, vykstančių asmenų skaičius","Iš viso komandiruotei",null,null,null,{"$f":"SUM(G143:G148)","v":0},{"$f":"ROUND(G142*$D$7,2)","v":0}]
[null,null,"Dienpinigiai",null,null,null,{"$f":"ROUND(E143*F143,2)","v":0}]
[null,null,"Gyvenamojo ploto nuoma",null,null,null,0]
[null,null,"Kelionės išlaidos",null,null,null,0]
[null,null,"Dalyvavimo mokestis",null,null,null,0]
[null,null,"Kitos išlaidų pavadinimas",null,null,null,0]
[null,null,"Kitos išlaidų pavadinimas",null,null,null,0]
["5.6.4","Komandiruotės pavadinimas, vieta, trukmė dienomis, vykstančių asmenų skaičius","Iš viso komandiruotei",null,null,null,{"$f":"SUM(G150:G155)","v":0},{"$f":"ROUND(G149*$D$7,2)","v":0}]
[null,null,"Dienpinigiai",null,null,null,{"$f":"ROUND(E150*F150,2)","v":0}]
[null,null,"Gyvenamojo ploto nuoma",null,null,null,0]
[null,null,"Kelionės išlaidos",null,null,null,0]
[null,null,"Dalyvavimo mokestis",null,null,null,0]
[null,null,"Kitos išlaidų pavadinimas",null,null,null,0]
[null,null,"Kitos išlaidų pavadinimas",null,null,null,0]
["5.6.5","Komandiruotės pavadinimas, vieta, trukmė dienomis, vykstančių asmenų skaičius","Iš viso komandiruotei",null,null,null,{"$f":"SUM(G157:G162)","v":0},{"$f":"ROUND(G156*$D$7,2)","v":0}]
[null,null,"Dienpinigiai",null,null,null,{"$f":"ROUND(E157*F157,2)","v":0}]
[null,null,"Gyvenamojo ploto nuoma",null,null,null,0]
[null,null,"Kelionės išlaidos",null,null,null,0]
[null,null,"Dalyvavimo mokestis",null,null,null,0]
[null,null,"Kitos išlaidų pavadinimas",null,null,null,0]
[null,null,"Kitos išlaidų pavadinimas",null,null,null,0]
["5.6.6","Komandiruotės pavadinimas, vieta, trukmė dienomis, vykstančių asmenų skaičius","Iš viso komandiruotei",null,null,null,{"$f":"SUM(G164:G169)","v":0},{"$f":"ROUND(G163*$D$7,2)","v":0}]
[null,null,"Dienpinigiai",null,null,null,{"$f":"ROUND(E164*F164,2)","v":0}]
[null,null,"Gyvenamojo ploto nuoma",null,null,null,0]
[null,null,"Kelionės išlaidos",null,null,null,0]
[null,null,"Dalyvavimo mokestis",null,null,null,0]
[null,null,"Kitos išlaidų pavadinimas",null,null,null,0]
[null,null,"Kitos išlaidų pavadinimas",null,null,null,0]
["5.6.7","Komandiruotės pavadinimas, vieta, trukmė dienomis, vykstančių asmenų skaičius","Iš viso komandiruotei",null,null,null,{"$f":"SUM(G171:G176)","v":0},{"$f":"ROUND(G170*$D$7,2)","v":0}]
[null,null,"Dienpinigiai",null,null,null,{"$f":"ROUND(E171*F171,2)","v":0}]
[null,null,"Gyvenamojo ploto nuoma",null,null,null,0]
[null,null,"Kelionės išlaidos",null,null,null,0]
[null,null,"Dalyvavimo mokestis",null,null,null,0]
[null,null,"Kitos išlaidų pavadinimas",null,null,null,0]
[null,null,"Kitos išlaidų pavadinimas",null,null,null,0]
["5.6.8","Komandiruotės pavadinimas, vieta, trukmė dienomis, vykstančių asmenų skaičius","Iš viso komandiruotei",null,null,null,{"$f":"SUM(G178:G183)","v":0},{"$f":"ROUND(G177*$D$7,2)","v":0}]
[null,null,"Dienpinigiai",null,null,null,{"$f":"ROUND(E178*F178,2)","v":0}]
[null,null,"Gyvenamojo ploto nuoma",null,null,null,0]
[null,null,"Kelionės išlaidos",null,null,null,0]
[null,null,"Dalyvavimo mokestis",null,null,null,0]
[null,null,"Kitos išlaidų pavadinimas",null,null,null,0]
[null,null,"Kitos išlaidų pavadinimas",null,null,null,0]
["5.6.9","Komandiruotės pavadinimas, vieta, trukmė dienomis, vykstančių asmenų skaičius","Iš viso komandiruotei",null,null,null,{"$f":"SUM(G185:G190)","v":0},{"$f":"ROUND(G184*$D$7,2)","v":0}]
[null,null,"Dienpinigiai",null,null,null,{"$f":"ROUND(E185*F185,2)","v":0}]
[null,null,"Gyvenamojo ploto nuoma",null,null,null,0]
[null,null,"Kelionės išlaidos",null,null,null,0]
[null,null,"Dalyvavimo mokestis",null,null,null,0]
[null,null,"Kitos išlaidų pavadinimas",null,null,null,0]
[null,null,"Kitos išlaidų pavadinimas",null,null,null,0]
["5.6.10","Komandiruotės pavadinimas, vieta, trukmė dienomis, vykstančių asmenų skaičius","Iš viso komandiruotei",null,null,null,{"$f":"SUM(G192:G197)","v":0},{"$f":"ROUND(G191*$D$7,2)","v":0}]
[null,null,"Dienpinigiai",null,null,null,{"$f":"ROUND(E192*F192,2)","v":0}]
[null,null,"Gyvenamojo ploto nuoma",null,null,null,0]
[null,null,"Kelionės išlaidos",null,null,null,0]
[null,null,"Dalyvavimo mokestis",null,null,null,0]
[null,null,"Kitos išlaidų pavadinimas",null,null,null,0]
[null,null,"Kitos išlaidų pavadinimas",null,null,null,0]
["5.7","Įrangos nuomos išlaidos, veiklai priskirtos pro rata principu. Įranga turi būti tiesiogiai susijusi su projekto įgyvendinimu ir negali būti įsigyta iš ES struktūrinių fondų ar kt. ES finansinių priemonių lėšų",null,null,null,null,{"$f":"SUM(G199:G203)","v":0},{"$f":"SUM(H199:H203)","v":0},null,null,"Faktinės 1 mėnesio išlaidos, Eur","Naudojimo projekte trukmė, mėn."]
["5.7.1","Įrangos pavadinimas",null,"pro rata proc.",null,{"$f":"K199*L199","v":0},0,{"$f":"ROUND(G199*$D$7,2)","v":0}]
["5.7.2","Įrangos pavadinimas",null,"pro rata proc.",null,{"$f":"K200*L200","v":0},0,{"$f":"ROUND(G200*$D$7,2)","v":0}]
["5.7.3","Įrangos pavadinimas",null,"pro rata proc.",null,0,0,0]
["5.7.4","Įrangos pavadinimas",null,"pro rata proc.",null,0,0,0]
["5.7.5","Įrangos pavadinimas",null,"pro rata proc.",null,0,0,0]
["5.8","Pastatų ar patalpų nuomos išlaidos, veiklai priskirtos pro rata principu. Pastatai ar patalpos turi būti tiesiogiai susijusi su projekto įgyvendinimu.",null,null,null,null,{"$f":"SUM(G205:G209)","v":0},{"$f":"SUM(H205:H209)","v":0},null,null,"Faktinės 1 mėnesio išlaidos, Eur","Naudojimo projekte trukmė, mėn."]
["5.8.1","Pastato, patalpų adresas",null,"pro rata proc.",null,{"$f":"K205*L205","v":0},{"$f":"ROUND(E205*F205,2)","v":0},{"$f":"ROUND(G205*$D$7,2)","v":0}]
["5.8.2","Pastato, patalpų adresas",null,"pro rata proc.",null,{"$f":"K206*L206","v":0},0,0]
["5.8.3","Pastato, patalpų adresas",null,"pro rata proc.",null,0,0,0]
["5.8.4","Pastato, patalpų adresas",null,"pro rata proc.",null,0,0,0]
["5.8.5","Pastato, patalpų adresas",null,"pro rata proc.",null,0,0,0]
["Iš viso tinkamų finansuoti išlaidų:",null,null,null,null,null,{"$f":"G10+G21","v":0},{"$f":"H10+H21","v":0}]

{"sheet":"21","index":22,"n_rows":210,"n_cols":19,"rows_kept":210,"cut":false,"hidden":false,"merged":[[206,1,206,2],[207,1,207,2],[208,1,208,2],[209,0,209,5],[197,1,197,5],[198,1,198,2],[199,1,199,2],[200,1,200,2],[201,1,201,2],[202,1,202,2],[203,1,203,5],[204,1,204,2],[205,1,205,2],[176,0,182,0],[176,1,182,1],[176,8,182,8],[183,0,189,0],[183,1,189,1],[183,8,189,8],[190,0,196,0],[190,1,196,1],[190,8,196,8],[155,0,161,0],[155,1,161,1],[155,8,161,8],[162,0,168,0],[162,1,168,1],[162,8,168,8],[169,0,175,0],[169,1,175,1],[169,8,175,8],[134,0,140,0],[134,1,140,1],[134,8,140,8],[141,0,147,0],[141,1,147,1],[141,8,147,8],[148,0,154,0],[148,1,154,1],[148,8,154,8],[127,1,133,1],[121,7,125,7],[121,8,125,8],[126,1,126,5],[121,0,125,0],[121,1,125,1],[121,3,125,3],[121,4,125,4],[121,5,125,5],[121,6,125,6],[127,0,133,0],[127,8,133,8],[111,7,115,7],[111,8,115,8],[116,0,120,0],[116,1,120,1],[116,3,120,3],[116,4,120,4],[116,5,120,5],[116,6,120,6],[116,7,120,7],[116,8,120,8],[111,0,115,0],[111,1,115,1],[111,3,115,3],[111,4,115,4],[111,5,115,5],[111,6,115,6],[101,7,105,7],[101,8,105,8],[106,0,110,0],[106,1,110,1],[106,3,110,3],[106,4,110,4],[106,5,110,5],[106,6,110,6],[106,7,110,7],[106,8,110,8],[101,0,105,0],[101,1,105,1],[101,3,105,3],[101,4,105,4],[101,5,105,5],[101,6,105,6],[96,0,100,0],[96,1,100,1],[96,3,100,3],[96,4,100,4],[96,5,100,5],[96,6,100,6],[96,7,100,7],[96,8,100,8],[91,0,95,0],[91,1,95,1],[91,3,95,3],[91,4,95,4],[91,5,95,5],[91,6,95,6],[86,0,90,0],[86,1,90,1],[86,3,90,3],[86,4,90,4],[86,5,90,5],[86,6,90,6],[86,7,90,7],[86,8,90,8],[91,7,95,7],[91,8,95,8],[76,6,80,6],[76,7,80,7],[76,8,80,8],[81,0,85,0],[81,1,85,1],[81,3,85,3],[81,4,85,4],[81,5,85,5],[81,6,85,6],[81,7,85,7],[81,8,85,8],[74,1,74,2],[75,1,75,5],[76,0,80,0],[76,1,80,1],[76,3,80,3],[76,4,80,4],[76,5,80,5],[68,1,68,2],[69,1,69,2],[70,1,70,2],[71,1,71,2],[72,1,72,2],[73,1,73,2],[62,1,62,2],[63,1,63,2],[64,1,64,2],[65,1,65,2],[66,1,66,2],[67,1,67,2],[56,1,56,2],[57,1,57,2],[58,1,58,2],[59,1,59,5],[60,1,60,2],[61,1,61,2],[50,1,50,2],[51,1,51,2],[52,1,52,2],[53,1,53,2],[54,1,54,2],[55,1,55,2],[44,1,44,2],[45,1,45,2],[46,1,46,2],[47,1,47,2],[48,1,48,2],[49,1,49,2],[38,1,38,2],[39,1,39,2],[40,1,40,2],[41,1,41,2],[42,1,42,2],[43,1,43,5],[32,1,32,5],[33,1,33,2],[34,1,34,2],[35,1,35,2],[36,1,36,2],[37,1,37,2],[26,1,26,2],[27,1,27,2],[28,1,28,2],[29,1,29,2],[30,1,30,2],[31,1,31,2],[20,1,20,5],[21,1,21,5],[22,1,22,2],[23,1,23,2],[24,1,24,2],[25,1,25,2],[16,1,16,2],[17,1,17,2],[18,1,18,2],[19,1,19,2],[8,1,8,2],[9,1,9,5],[10,1,10,2],[11,1,11,2],[12,1,12,2],[13,1,13,2],[0,3,0,8],[2,0,2,2],[2,3,2,8],[3,3,3,4],[3,5,3,6],[4,0,4,2],[4,3,4,8],[14,1,14,2],[15,1,15,2]]}
[null,null,"Pasirinkite veiklos tipą:"]
[null,null,"Fizinio rodiklio Nr.:"]
["Fizinio rodiklio pavadinimas:"]
[null,null,"Fizinio rodiklio matavimo vnt.:",null,null,"Fizinio rodiklio vnt. skaičius:"]
["Juridinis asmuo (pareiškėjas, partneris), atsakingas už fizinį rodiklį:"]
[]
[null,null,"Finansavimo intensyvumas:",null,null,null,"Pasirinkite biudžeto išlaidų kategoriją:"]
[]
["Eil. Nr.","Išlaidų kategorijos pavadinimas",null,"Matavimo vnt.","Kiekis","Vieneto kaina be PVM, Eur","Tinkamų finansuoti išlaidų suma be PVM, Eur","Finansavimo suma, Eur","Išlaidų pagrindimo dokumentų pavadinimas, data ir Nr."]
[4,"ĮRANGA, ĮRENGINIAI IR KT. TURTAS (techninių žinių ir išradimų patentų arba teisių pagal licencijų sutartį įsigijimo išlaidos)",null,null,null,null,{"$f":"SUM(G11:G20)","v":0},{"$f":"SUM(H11:H20)","v":0}]
["4.1","Išlaidų pavadinimas",null,null,null,null,{"$f":"ROUND(E11*F11,2)","v":0},{"$f":"ROUND(G11*$D$7,2)","v":0}]
["4.2","Išlaidų pavadinimas",null,null,null,null,0,0]
["4.3","Išlaidų pavadinimas",null,null,null,null,0,0]
["4.4","Išlaidų pavadinimas",null,null,null,null,0,0]
["4.5","Išlaidų pavadinimas",null,null,null,null,0,0]
["4.6","Išlaidų pavadinimas",null,null,null,null,0,0]
["4.7","Išlaidų pavadinimas",null,null,null,null,0,0]
["4.8","Išlaidų pavadinimas",null,null,null,null,0,0]
["4.9","Išlaidų pavadinimas",null,null,null,null,0,0]
["4.10","Išlaidų pavadinimas",null,null,null,null,0,0]
[5,"PROJEKTO VYKDYMAS",null,null,null,null,{"$f":"G22+G33+G44+G60+G76+G127+G198+G204","v":0},{"$f":"H22+H33+H44+H60+H76+H127+H198+H204","v":0}]
["5.1","MTEP paslaugos",null,null,null,null,{"$f":"SUM(G23:G32)","v":0},{"$f":"SUM(H23:H32)","v":0}]
["5.1.1","Paslaugos pavadinimas",null,null,null,null,{"$f":"ROUND(E23*F23,2)","v":0},0]
["5.1.2","Paslaugos pavadinimas",null,null,null,null,0,0]
["5.1.3","Paslaugos pavadinimas",null,null,null,null,0,0]
["5.1.4","Paslaugos pavadinimas",null,null,null,null,0,0]
["5.1.5","Paslaugos pavadinimas",null,null,null,null,0,0]
["5.1.6","Paslaugos pavadinimas",null,null,null,null,0,0]
["5.1.7","Paslaugos pavadinimas",null,null,null,null,0,0]
["5.1.8","Paslaugos pavadinimas",null,null,null,null,0,0]
["5.1.9","Paslaugos pavadinimas",null,null,null,null,0,0]
["5.1.10","Paslaugos pavadinimas",null,null,null,null,0,0]
["5.2","Konsultavimo ir lygiavertės paslaugos, naudojamos vien tik projekto MTEP veiklai",null,null,null,null,{"$f":"SUM(G34:G43)","v":0},{"$f":"SUM(H34:H43)","v":0}]
["5.2.1","Paslaugos pavadinimas",null,null,null,null,{"$f":"ROUND(E34*F34,2)","v":0},0]
["5.2.2","Paslaugos pavadinimas",null,null,null,null,0,0]
["5.2.3","Paslaugos pavadinimas",null,null,null,null,0,0]
["5.2.4","Paslaugos pavadinimas",null,null,null,null,0,0]
["5.2.5","Paslaugos pavadinimas",null,null,null,null,0,0]
["5.2.6","Paslaugos pavadinimas",null,null,null,null,0,0]
["5.2.7","Paslaugos pavadinimas",null,null,null,null,0,0]
["5.2.8","Paslaugos pavadinimas",null,null,null,null,0,0]
["5.2.9","Paslaugos pavadinimas",null,null,null,null,0,0]
["5.2.10","Paslaugos pavadinimas",null,null,null,null,0,0]
["5.3","Medžiagos, mažavertis inventorius, atsargos ir pan. produktai, priskirtini trumpalaikiam turtui ir tiesiogiai susiję su MTEP veikla",null,null,null,null,{"$f":"SUM(G45:G61)","v":0},{"$f":"SUM(H45:H61)","v":0}]
["5.3.1","Išlaidų pavadinimas",null,null,null,null,{"$f":"ROUND(E45*F45,2)","v":0},{"$f":"ROUND(G45*$D$7,2)","v":0}]
["5.3.2","Išlaidų pavadinimas",null,null,null,null,0,0]
["5.3.3","Išlaidų pavadinimas",null,null,null,null,0,0]
["5.3.4","Išlaidų pavadinimas",null,null,null,null,0,0]
["5.3.5","Išlaidų pavadinimas",null,null,null,null,0,0]
["5.3.6","Išlaidų pavadinimas",null,null,null,null,0,0]
["5.3.7","Išlaidų pavadinimas",null,null,null,null,0,0]
["5.3.8","Išlaidų pavadinimas",null,null,null,null,0,0]
["5.3.9","Išlaidų pavadinimas",null,null,null,null,0,0]
["5.3.10","Išlaidų pavadinimas",null,null,null,null,0,0]
["5.3.11","Išlaidų pavadinimas",null,null,null,null,0,0]
["5.3.12","Išlaidų pavadinimas",null,null,null,null,0,0]
["5.3.13","Išlaidų pavadinimas",null,null,null,null,0,0]
["5.3.14","Išlaidų pavadinimas",null,null,null,null,0,0]
["5.3.15","Išlaidų pavadinimas",null,null,null,null,0,0]
["5.4","Projekto MTEP veikloms naudojamo ilgalaikio materialaus turto (įrangos, prietaisų, įrankių, įrenginių, mašinų ir įrengimų, pastatų ir (ar) patalpų), nusidėvėjimo sąnaudos, jeigu šiam turtui įsigyti nebuvo naudojamos viešosios (įskaitant ir kitų valstybių) lėšos",null,null,null,null,{"$f":"SUM(G61:G75)","v":0},{"$f":"SUM(H61:H75)","v":0},null,null,"Turto įvedimo į eksploataciją data","Turto įsigijimo vertė, Eur","Turto nudėvėjimo, amortizacijos laikotarpis, mėn.","Numatoma turto likutinė vertė, Eur","1 mėn. nudėvėjimo, amortizacijos suma, Eur","Turto naudojamo projekto reikmėms laikas, mėn.","Turto panaudojimo projekto reikmėms dalis (proc.)","Projektui priskirta turto nusidėvėjimo, amortizacijos suma per projekto laikotarpį, Eur"]
["5.4.1","Turtas, kurio nusidėvėjimą, amortizaciją prašoma finansuoti",null,null,1,{"$f":"R61","v":0},{"$f":"ROUND(E61*F61,2)","v":0},0,null,null,null,null,null,null,{"$f":"IFERROR(ROUND((L61-N61)/M61,2),\"0\")","v":"0"},null,null,{"$f":"O61*P61*Q61","v":0},{"$f":"IF(K61=0,\" \",IF(K61+(M61*30.5)<TODAY(),\"DĖMESIO! Patikrinkite, ar nurodytas turtas dar nėra nudėvėtas, amortizuotas\",\" \"))","v":" "}]
["5.4.2","Turtas, kurio nusidėvėjimą, amortizaciją prašoma finansuoti",null,null,1,{"$f":"R62","v":0},0,0,null,null,null,null,null,null,{"$f":"IFERROR(ROUND((L62-N62)/M62,2),\"0\")","v":"0"},null,null,{"$f":"O62*P62*Q62","v":0},{"$f":"IF(K62=0,\" \",IF(K62+(M62*30.5)<TODAY(),\"DĖMESIO! Patikrinkite, ar nurodytas turtas dar nėra nudėvėtas, amortizuotas\",\" \"))","v":" "}]
["5.4.3","Turtas, kurio nusidėvėjimą, amortizaciją prašoma finansuoti",null,null,1,0,0,0,null,null,null,null,null,null,"0",null,null,0," "]
["5.4.4","Turtas, kurio nusidėvėjimą, amortizaciją prašoma finansuoti",null,null,1,0,0,0,null,null,null,null,null,null,"0",null,null,0," "]
["5.4.5","Turtas, kurio nusidėvėjimą, amortizaciją prašoma finansuoti",null,null,1,0,0,0,null,null,null,null,null,null,"0",null,null,0," "]
["5.4.6","Turtas, kurio nusidėvėjimą, amortizaciją prašoma finansuoti",null,null,1,0,0,0,null,null,null,null,null,null,"0",null,null,0," "]
["5.4.7","Turtas, kurio nusidėvėjimą, amortizaciją prašoma finansuoti",null,null,1,0,0,0,null,null,null,null,null,null,"0",null,null,0," "]
["5.4.8","Turtas, kurio nusidėvėjimą, amortizaciją prašoma finansuoti",null,null,1,0,0,0,null,null,null,null,null,null,"0",null,null,0," "]
["5.4.9","Turtas, kurio nusidėvėjimą, amortizaciją prašoma finansuoti",null,null,1,0,0,0,null,null,null,null,null,null,"0",null,null,0," "]
["5.4.10","Turtas, kurio nusidėvėjimą, amortizaciją prašoma finansuoti",null,null,1,0,0,0,null,null,null,null,null,null,"0",null,null,0," "]
["5.4.11","Turtas, kurio nusidėvėjimą, amortizaciją prašoma finansuoti",null,null,1,0,0,0,null,null,null,null,null,null,"0",null,null,0," "]
["5.4.12","Turtas, kurio nusidėvėjimą, amortizaciją prašoma finansuoti",null,null,1,0,0,0,null,null,null,null,null,null,"0",null,null,0," "]
["5.4.13","Turtas, kurio nusidėvėjimą, amortizaciją prašoma finansuoti",null,null,1,0,0,0,null,null,null,null,null,null,"0",null,null,0," "]
["5.4.14","Turtas, kurio nusidėvėjimą, amortizaciją prašoma finansuoti",null,null,1,0,0,0,null,null,null,null,null,null,"0",null,null,0," "]
["5.4.15","Turtas, kurio nusidėvėjimą, amortizaciją prašoma finansuoti",null,null,1,0,0,0,null,null,null,null,null,null,"0",null,null,0," "]
["5.5","Projektą vykdančio personalo darbo užmokestis ir išlaidos su darbo santykiais susijusiems darbdavio įsipareigojimams",null,null,null,null,{"$f":"SUM(G77:G126)","v":0},{"$f":"SUM(H77:H126)","v":0},null,null,"Faktiškai gaunamas darbo užmokesti už 1 valandą pagal  pastarųjų 6 mėn. vidurkį, Eur"]
["5.5.1","Pareigybės pavadinimas","Darbuotojo vardas pavardė","val.",null,{"$f":"IFERROR(ROUND(AVERAGE(K77:K81),2),\"0\")","v":"0"},{"$f":"ROUND(E77*F77,2)","v":0},{"$f":"ROUND(G77*$D$7,2)","v":0}]
[null,null,"Darbuotojo vardas pavardė"]
[null,null,"Darbuotojo vardas pavardė"]
[null,null,"Darbuotojo vardas pavardė"]
[null,null,"Darbuotojo vardas pavardė"]
["5.5.2","Pareigybės pavadinimas","Darbuotojo vardas pavardė","val.",null,{"$f":"IFERROR(ROUND(AVERAGE(K82:K86),2),\"0\")","v":"0"},{"$f":"ROUND(E82*F82,2)","v":0},{"$f":"ROUND(G82*$D$7,2)","v":0}]
[null,null,"Darbuotojo vardas pavardė"]
[null,null,"Darbuotojo vardas pavardė"]
[null,null,"Darbuotojo vardas pavardė"]
[null,null,"Darbuotojo vardas pavardė"]
["5.5.3","Pareigybės pavadinimas","Darbuotojo vardas pavardė","val.",null,{"$f":"IFERROR(ROUND(AVERAGE(K87:K91),2),\"0\")","v":"0"},{"$f":"ROUND(E87*F87,2)","v":0},{"$f":"ROUND(G87*$D$7,2)","v":0}]
[null,null,"Darbuotojo vardas pavardė"]
[null,null,"Darbuotojo vardas pavardė"]
[null,null,"Darbuotojo vardas pavardė"]
[null,null,"Darbuotojo vardas pavardė"]
["5.5.4","Pareigybės pavadinimas","Darbuotojo vardas pavardė","val.",null,{"$f":"IFERROR(ROUND(AVERAGE(K92:K96),2),\"0\")","v":"0"},{"$f":"ROUND(E92*F92,2)","v":0},{"$f":"ROUND(G92*$D$7,2)","v":0}]
[null,null,"Darbuotojo vardas pavardė"]
[null,null,"Darbuotojo vardas pavardė"]
[null,null,"Darbuotojo vardas pavardė"]
[null,null,"Darbuotojo vardas pavardė"]
["5.5.5","Pareigybės pavadinimas","Darbuotojo vardas pavardė","val.",null,{"$f":"IFERROR(ROUND(AVERAGE(K97:K101),2),\"0\")","v":"0"},{"$f":"ROUND(E97*F97,2)","v":0},{"$f":"ROUND(G97*$D$7,2)","v":0}]
[null,null,"Darbuotojo vardas pavardė"]
[null,null,"Darbuotojo vardas pavardė"]
[null,null,"Darbuotojo vardas pavardė"]
[null,null,"Darbuotojo vardas pavardė"]
["5.5.6","Pareigybės pavadinimas","Darbuotojo vardas pavardė","val.",null,{"$f":"IFERROR(ROUND(AVERAGE(K102:K106),2),\"0\")","v":"0"},{"$f":"ROUND(E102*F102,2)","v":0},{"$f":"ROUND(G102*$D$7,2)","v":0}]
[null,null,"Darbuotojo vardas pavardė"]
[null,null,"Darbuotojo vardas pavardė"]
[null,null,"Darbuotojo vardas pavardė"]
[null,null,"Darbuotojo vardas pavardė"]
["5.5.7","Pareigybės pavadinimas","Darbuotojo vardas pavardė","val.",null,{"$f":"IFERROR(ROUND(AVERAGE(K107:K111),2),\"0\")","v":"0"},{"$f":"ROUND(E107*F107,2)","v":0},{"$f":"ROUND(G107*$D$7,2)","v":0}]
[null,null,"Darbuotojo vardas pavardė"]
[null,null,"Darbuotojo vardas pavardė"]
[null,null,"Darbuotojo vardas pavardė"]
[null,null,"Darbuotojo vardas pavardė"]
["5.5.8","Pareigybės pavadinimas","Darbuotojo vardas pavardė","val.",null,{"$f":"IFERROR(ROUND(AVERAGE(K112:K116),2),\"0\")","v":"0"},{"$f":"ROUND(E112*F112,2)","v":0},{"$f":"ROUND(G112*$D$7,2)","v":0}]
[null,null,"Darbuotojo vardas pavardė"]
[null,null,"Darbuotojo vardas pavardė"]
[null,null,"Darbuotojo vardas pavardė"]
[null,null,"Darbuotojo vardas pavardė"]
["5.5.9","Pareigybės pavadinimas","Darbuotojo vardas pavardė","val.",null,{"$f":"IFERROR(ROUND(AVERAGE(K117:K121),2),\"0\")","v":"0"},{"$f":"ROUND(E117*F117,2)","v":0},{"$f":"ROUND(G117*$D$7,2)","v":0}]
[null,null,"Darbuotojo vardas pavardė"]
[null,null,"Darbuotojo vardas pavardė"]
[null,null,"Darbuotojo vardas pavardė"]
[null,null,"Darbuotojo vardas pavardė"]
["5.5.10","Pareigybės pavadinimas","Darbuotojo vardas pavardė","val.",null,{"$f":"IFERROR(ROUND(AVERAGE(K122:K126),2),\"0\")","v":"0"},{"$f":"ROUND(E122*F122,2)","v":0},{"$f":"ROUND(G122*$D$7,2)","v":0}]
[null,null,"Darbuotojo vardas pavardė"]
[null,null,"Darbuotojo vardas pavardė"]
[null,null,"Darbuotojo vardas pavardė"]
[null,null,"Darbuotojo vardas pavardė"]
["5.6","Projektą vykdančio personalo komandiruočių išlaidos",null,null,null,null,{"$f":"SUM(G128,G135,G142,G149,G156,G163,G170,G177,G184,G191)","v":0},{"$f":"SUM(H128,H135,H142,H149,H156,H163,H170,H177,H184,H191)","v":0}]
["5.6.1","Komandiruotės pavadinimas, vieta, trukmė dienomis, vykstančių asmenų skaičius","Iš viso komandiruotei",null,null,null,{"$f":"SUM(G129:G134)","v":0},{"$f":"ROUND(G128*$D$7,2)","v":0}]
[null,null,"Dienpinigiai",null,null,null,{"$f":"ROUND(E129*F129,2)","v":0}]
[null,null,"Gyvenamojo ploto nuoma",null,null,null,0]
[null,null,"Kelionės išlaidos",null,null,null,0]
[null,null,"Dalyvavimo mokestis",null,null,null,0]
[null,null,"Kitos išlaidų pavadinimas",null,null,null,0]
[null,null,"Kitos išlaidų pavadinimas",null,null,null,0]
["5.6.2","Komandiruotės pavadinimas, vieta, trukmė dienomis, vykstančių asmenų skaičius","Iš viso komandiruotei",null,null,null,{"$f":"SUM(G136:G141)","v":0},{"$f":"ROUND(G135*$D$7,2)","v":0}]
[null,null,"Dienpinigiai",null,null,null,{"$f":"ROUND(E136*F136,2)","v":0}]
[null,null,"Gyvenamojo ploto nuoma",null,null,null,0]
[null,null,"Kelionės išlaidos",null,null,null,0]
[null,null,"Dalyvavimo mokestis",null,null,null,0]
[null,null,"Kitos išlaidų pavadinimas",null,null,null,0]
[null,null,"Kitos išlaidų pavadinimas",null,null,null,0]
["5.6.3","Komandiruotės pavadinimas, vieta, trukmė dienomis, vykstančių asmenų skaičius","Iš viso komandiruotei",null,null,null,{"$f":"SUM(G143:G148)","v":0},{"$f":"ROUND(G142*$D$7,2)","v":0}]
[null,null,"Dienpinigiai",null,null,null,{"$f":"ROUND(E143*F143,2)","v":0}]
[null,null,"Gyvenamojo ploto nuoma",null,null,null,0]
[null,null,"Kelionės išlaidos",null,null,null,0]
[null,null,"Dalyvavimo mokestis",null,null,null,0]
[null,null,"Kitos išlaidų pavadinimas",null,null,null,0]
[null,null,"Kitos išlaidų pavadinimas",null,null,null,0]
["5.6.4","Komandiruotės pavadinimas, vieta, trukmė dienomis, vykstančių asmenų skaičius","Iš viso komandiruotei",null,null,null,{"$f":"SUM(G150:G155)","v":0},{"$f":"ROUND(G149*$D$7,2)","v":0}]
[null,null,"Dienpinigiai",null,null,null,{"$f":"ROUND(E150*F150,2)","v":0}]
[null,null,"Gyvenamojo ploto nuoma",null,null,null,0]
[null,null,"Kelionės išlaidos",null,null,null,0]
[null,null,"Dalyvavimo mokestis",null,null,null,0]
[null,null,"Kitos išlaidų pavadinimas",null,null,null,0]
[null,null,"Kitos išlaidų pavadinimas",null,null,null,0]
["5.6.5","Komandiruotės pavadinimas, vieta, trukmė dienomis, vykstančių asmenų skaičius","Iš viso komandiruotei",null,null,null,{"$f":"SUM(G157:G162)","v":0},{"$f":"ROUND(G156*$D$7,2)","v":0}]
[null,null,"Dienpinigiai",null,null,null,{"$f":"ROUND(E157*F157,2)","v":0}]
[null,null,"Gyvenamojo ploto nuoma",null,null,null,0]
[null,null,"Kelionės išlaidos",null,null,null,0]
[null,null,"Dalyvavimo mokestis",null,null,null,0]
[null,null,"Kitos išlaidų pavadinimas",null,null,null,0]
[null,null,"Kitos išlaidų pavadinimas",null,null,null,0]
["5.6.6","Komandiruotės pavadinimas, vieta, trukmė dienomis, vykstančių asmenų skaičius","Iš viso komandiruotei",null,null,null,{"$f":"SUM(G164:G169)","v":0},{"$f":"ROUND(G163*$D$7,2)","v":0}]
[null,null,"Dienpinigiai",null,null,null,{"$f":"ROUND(E164*F164,2)","v":0}]
[null,null,"Gyvenamojo ploto nuoma",null,null,null,0]
[null,null,"Kelionės išlaidos",null,null,null,0]
[null,null,"Dalyvavimo mokestis",null,null,null,0]
[null,null,"Kitos išlaidų pavadinimas",null,null,null,0]
[null,null,"Kitos išlaidų pavadinimas",null,null,null,0]
["5.6.7","Komandiruotės pavadinimas, vieta, trukmė dienomis, vykstančių asmenų skaičius","Iš viso komandiruotei",null,null,null,{"$f":"SUM(G171:G176)","v":0},{"$f":"ROUND(G170*$D$7,2)","v":0}]
[null,null,"Dienpinigiai",null,null,null,{"$f":"ROUND(E171*F171,2)","v":0}]
[null,null,"Gyvenamojo ploto nuoma",null,null,null,0]
[null,null,"Kelionės išlaidos",null,null,null,0]
[null,null,"Dalyvavimo mokestis",null,null,null,0]
[null,null,"Kitos išlaidų pavadinimas",null,null,null,0]
[null,null,"Kitos išlaidų pavadinimas",null,null,null,0]
["5.6.8","Komandiruotės pavadinimas, vieta, trukmė dienomis, vykstančių asmenų skaičius","Iš viso komandiruotei",null,null,null,{"$f":"SUM(G178:G183)","v":0},{"$f":"ROUND(G177*$D$7,2)","v":0}]
[null,null,"Dienpinigiai",null,null,null,{"$f":"ROUND(E178*F178,2)","v":0}]
[null,null,"Gyvenamojo ploto nuoma",null,null,null,0]
[null,null,"Kelionės išlaidos",null,null,null,0]
[null,null,"Dalyvavimo mokestis",null,null,null,0]
[null,null,"Kitos išlaidų pavadinimas",null,null,null,0]
[null,null,"Kitos išlaidų pavadinimas",null,null,null,0]
["5.6.9","Komandiruotės pavadinimas, vieta, trukmė dienomis, vykstančių asmenų skaičius","Iš viso komandiruotei",null,null,null,{"$f":"SUM(G185:G190)","v":0},{"$f":"ROUND(G184*$D$7,2)","v":0}]
[null,null,"Dienpinigiai",null,null,null,{"$f":"ROUND(E185*F185,2)","v":0}]
[null,null,"Gyvenamojo ploto nuoma",null,null,null,0]
[null,null,"Kelionės išlaidos",null,null,null,0]
[null,null,"Dalyvavimo mokestis",null,null,null,0]
[null,null,"Kitos išlaidų pavadinimas",null,null,null,0]
[null,null,"Kitos išlaidų pavadinimas",null,null,null,0]
["5.6.10","Komandiruotės pavadinimas, vieta, trukmė dienomis, vykstančių asmenų skaičius","Iš viso komandiruotei",null,null,null,{"$f":"SUM(G192:G197)","v":0},{"$f":"ROUND(G191*$D$7,2)","v":0}]
[null,null,"Dienpinigiai",null,null,null,{"$f":"ROUND(E192*F192,2)","v":0}]
[null,null,"Gyvenamojo ploto nuoma",null,null,null,0]
[null,null,"Kelionės išlaidos",null,null,null,0]
[null,null,"Dalyvavimo mokestis",null,null,null,0]
[null,null,"Kitos išlaidų pavadinimas",null,null,null,0]
[null,null,"Kitos išlaidų pavadinimas",null,null,null,0]
["5.7","Įrangos nuomos išlaidos, veiklai priskirtos pro rata principu. Įranga turi būti tiesiogiai susijusi su projekto įgyvendinimu ir negali būti įsigyta iš ES struktūrinių fondų ar kt. ES finansinių priemonių lėšų",null,null,null,null,{"$f":"SUM(G199:G203)","v":0},{"$f":"SUM(H199:H203)","v":0},null,null,"Faktinės 1 mėnesio išlaidos, Eur","Naudojimo projekte trukmė, mėn."]
["5.7.1","Įrangos pavadinimas",null,"pro rata proc.",null,{"$f":"K199*L199","v":0},0,{"$f":"ROUND(G199*$D$7,2)","v":0}]
["5.7.2","Įrangos pavadinimas",null,"pro rata proc.",null,{"$f":"K200*L200","v":0},0,{"$f":"ROUND(G200*$D$7,2)","v":0}]
["5.7.3","Įrangos pavadinimas",null,"pro rata proc.",null,0,0,0]
["5.7.4","Įrangos pavadinimas",null,"pro rata proc.",null,0,0,0]
["5.7.5","Įrangos pavadinimas",null,"pro rata proc.",null,0,0,0]
["5.8","Pastatų ar patalpų nuomos išlaidos, veiklai priskirtos pro rata principu. Pastatai ar patalpos turi būti tiesiogiai susijusi su projekto įgyvendinimu.",null,null,null,null,{"$f":"SUM(G205:G209)","v":0},{"$f":"SUM(H205:H209)","v":0},null,null,"Faktinės 1 mėnesio išlaidos, Eur","Naudojimo projekte trukmė, mėn."]
["5.8.1","Pastato, patalpų adresas",null,"pro rata proc.",null,{"$f":"K205*L205","v":0},{"$f":"ROUND(E205*F205,2)","v":0},{"$f":"ROUND(G205*$D$7,2)","v":0}]
["5.8.2","Pastato, patalpų adresas",null,"pro rata proc.",null,{"$f":"K206*L206","v":0},0,0]
["5.8.3","Pastato, patalpų adresas",null,"pro rata proc.",null,0,0,0]
["5.8.4","Pastato, patalpų adresas",null,"pro rata proc.",null,0,0,0]
["5.8.5","Pastato, patalpų adresas",null,"pro rata proc.",null,0,0,0]
["Iš viso tinkamų finansuoti išlaidų:",null,null,null,null,null,{"$f":"G10+G21","v":0},{"$f":"H10+H21","v":0}]

{"sheet":"22","index":23,"n_rows":210,"n_cols":19,"rows_kept":210,"cut":false,"hidden":false,"merged":[[206,1,206,2],[207,1,207,2],[208,1,208,2],[209,0,209,5],[197,1,197,5],[198,1,198,2],[199,1,199,2],[200,1,200,2],[201,1,201,2],[202,1,202,2],[203,1,203,5],[204,1,204,2],[205,1,205,2],[176,0,182,0],[176,1,182,1],[176,8,182,8],[183,0,189,0],[183,1,189,1],[183,8,189,8],[190,0,196,0],[190,1,196,1],[190,8,196,8],[155,0,161,0],[155,1,161,1],[155,8,161,8],[162,0,168,0],[162,1,168,1],[162,8,168,8],[169,0,175,0],[169,1,175,1],[169,8,175,8],[134,0,140,0],[134,1,140,1],[134,8,140,8],[141,0,147,0],[141,1,147,1],[141,8,147,8],[148,0,154,0],[148,1,154,1],[148,8,154,8],[127,1,133,1],[121,7,125,7],[121,8,125,8],[126,1,126,5],[121,0,125,0],[121,1,125,1],[121,3,125,3],[121,4,125,4],[121,5,125,5],[121,6,125,6],[127,0,133,0],[127,8,133,8],[111,7,115,7],[111,8,115,8],[116,0,120,0],[116,1,120,1],[116,3,120,3],[116,4,120,4],[116,5,120,5],[116,6,120,6],[116,7,120,7],[116,8,120,8],[111,0,115,0],[111,1,115,1],[111,3,115,3],[111,4,115,4],[111,5,115,5],[111,6,115,6],[101,7,105,7],[101,8,105,8],[106,0,110,0],[106,1,110,1],[106,3,110,3],[106,4,110,4],[106,5,110,5],[106,6,110,6],[106,7,110,7],[106,8,110,8],[101,0,105,0],[101,1,105,1],[101,3,105,3],[101,4,105,4],[101,5,105,5],[101,6,105,6],[96,0,100,0],[96,1,100,1],[96,3,100,3],[96,4,100,4],[96,5,100,5],[96,6,100,6],[96,7,100,7],[96,8,100,8],[91,0,95,0],[91,1,95,1],[91,3,95,3],[91,4,95,4],[91,5,95,5],[91,6,95,6],[86,0,90,0],[86,1,90,1],[86,3,90,3],[86,4,90,4],[86,5,90,5],[86,6,90,6],[86,7,90,7],[86,8,90,8],[91,7,95,7],[91,8,95,8],[76,6,80,6],[76,7,80,7],[76,8,80,8],[81,0,85,0],[81,1,85,1],[81,3,85,3],[81,4,85,4],[81,5,85,5],[81,6,85,6],[81,7,85,7],[81,8,85,8],[74,1,74,2],[75,1,75,5],[76,0,80,0],[76,1,80,1],[76,3,80,3],[76,4,80,4],[76,5,80,5],[68,1,68,2],[69,1,69,2],[70,1,70,2],[71,1,71,2],[72,1,72,2],[73,1,73,2],[62,1,62,2],[63,1,63,2],[64,1,64,2],[65,1,65,2],[66,1,66,2],[67,1,67,2],[56,1,56,2],[57,1,57,2],[58,1,58,2],[59,1,59,5],[60,1,60,2],[61,1,61,2],[50,1,50,2],[51,1,51,2],[52,1,52,2],[53,1,53,2],[54,1,54,2],[55,1,55,2],[44,1,44,2],[45,1,45,2],[46,1,46,2],[47,1,47,2],[48,1,48,2],[49,1,49,2],[38,1,38,2],[39,1,39,2],[40,1,40,2],[41,1,41,2],[42,1,42,2],[43,1,43,5],[32,1,32,5],[33,1,33,2],[34,1,34,2],[35,1,35,2],[36,1,36,2],[37,1,37,2],[26,1,26,2],[27,1,27,2],[28,1,28,2],[29,1,29,2],[30,1,30,2],[31,1,31,2],[20,1,20,5],[21,1,21,5],[22,1,22,2],[23,1,23,2],[24,1,24,2],[25,1,25,2],[16,1,16,2],[17,1,17,2],[18,1,18,2],[19,1,19,2],[8,1,8,2],[9,1,9,5],[10,1,10,2],[11,1,11,2],[12,1,12,2],[13,1,13,2],[0,3,0,8],[2,0,2,2],[2,3,2,8],[3,3,3,4],[3,5,3,6],[4,0,4,2],[4,3,4,8],[14,1,14,2],[15,1,15,2]]}
[null,null,"Pasirinkite veiklos tipą:"]
[null,null,"Fizinio rodiklio Nr.:"]
["Fizinio rodiklio pavadinimas:"]
[null,null,"Fizinio rodiklio matavimo vnt.:",null,null,"Fizinio rodiklio vnt. skaičius:"]
["Juridinis asmuo (pareiškėjas, partneris), atsakingas už fizinį rodiklį:"]
[]
[null,null,"Finansavimo intensyvumas:",null,null,null,"Pasirinkite biudžeto išlaidų kategoriją:"]
[]
["Eil. Nr.","Išlaidų kategorijos pavadinimas",null,"Matavimo vnt.","Kiekis","Vieneto kaina be PVM, Eur","Tinkamų finansuoti išlaidų suma be PVM, Eur","Finansavimo suma, Eur","Išlaidų pagrindimo dokumentų pavadinimas, data ir Nr."]
[4,"ĮRANGA, ĮRENGINIAI IR KT. TURTAS (techninių žinių ir išradimų patentų arba teisių pagal licencijų sutartį įsigijimo išlaidos)",null,null,null,null,{"$f":"SUM(G11:G20)","v":0},{"$f":"SUM(H11:H20)","v":0}]
["4.1","Išlaidų pavadinimas",null,null,null,null,{"$f":"ROUND(E11*F11,2)","v":0},{"$f":"ROUND(G11*$D$7,2)","v":0}]
["4.2","Išlaidų pavadinimas",null,null,null,null,0,0]
["4.3","Išlaidų pavadinimas",null,null,null,null,0,0]
["4.4","Išlaidų pavadinimas",null,null,null,null,0,0]
["4.5","Išlaidų pavadinimas",null,null,null,null,0,0]
["4.6","Išlaidų pavadinimas",null,null,null,null,0,0]
["4.7","Išlaidų pavadinimas",null,null,null,null,0,0]
["4.8","Išlaidų pavadinimas",null,null,null,null,0,0]
["4.9","Išlaidų pavadinimas",null,null,null,null,0,0]
["4.10","Išlaidų pavadinimas",null,null,null,null,0,0]
[5,"PROJEKTO VYKDYMAS",null,null,null,null,{"$f":"G22+G33+G44+G60+G76+G127+G198+G204","v":0},{"$f":"H22+H33+H44+H60+H76+H127+H198+H204","v":0}]
["5.1","MTEP paslaugos",null,null,null,null,{"$f":"SUM(G23:G32)","v":0},{"$f":"SUM(H23:H32)","v":0}]
["5.1.1","Paslaugos pavadinimas",null,null,null,null,{"$f":"ROUND(E23*F23,2)","v":0},0]
["5.1.2","Paslaugos pavadinimas",null,null,null,null,0,0]
["5.1.3","Paslaugos pavadinimas",null,null,null,null,0,0]
["5.1.4","Paslaugos pavadinimas",null,null,null,null,0,0]
["5.1.5","Paslaugos pavadinimas",null,null,null,null,0,0]
["5.1.6","Paslaugos pavadinimas",null,null,null,null,0,0]
["5.1.7","Paslaugos pavadinimas",null,null,null,null,0,0]
["5.1.8","Paslaugos pavadinimas",null,null,null,null,0,0]
["5.1.9","Paslaugos pavadinimas",null,null,null,null,0,0]
["5.1.10","Paslaugos pavadinimas",null,null,null,null,0,0]
["5.2","Konsultavimo ir lygiavertės paslaugos, naudojamos vien tik projekto MTEP veiklai",null,null,null,null,{"$f":"SUM(G34:G43)","v":0},{"$f":"SUM(H34:H43)","v":0}]
["5.2.1","Paslaugos pavadinimas",null,null,null,null,{"$f":"ROUND(E34*F34,2)","v":0},0]
["5.2.2","Paslaugos pavadinimas",null,null,null,null,0,0]
["5.2.3","Paslaugos pavadinimas",null,null,null,null,0,0]
["5.2.4","Paslaugos pavadinimas",null,null,null,null,0,0]
["5.2.5","Paslaugos pavadinimas",null,null,null,null,0,0]
["5.2.6","Paslaugos pavadinimas",null,null,null,null,0,0]
["5.2.7","Paslaugos pavadinimas",null,null,null,null,0,0]
["5.2.8","Paslaugos pavadinimas",null,null,null,null,0,0]
["5.2.9","Paslaugos pavadinimas",null,null,null,null,0,0]
["5.2.10","Paslaugos pavadinimas",null,null,null,null,0,0]
["5.3","Medžiagos, mažavertis inventorius, atsargos ir pan. produktai, priskirtini trumpalaikiam turtui ir tiesiogiai susiję su MTEP veikla",null,null,null,null,{"$f":"SUM(G45:G61)","v":0},{"$f":"SUM(H45:H61)","v":0}]
["5.3.1","Išlaidų pavadinimas",null,null,null,null,{"$f":"ROUND(E45*F45,2)","v":0},{"$f":"ROUND(G45*$D$7,2)","v":0}]
["5.3.2","Išlaidų pavadinimas",null,null,null,null,0,0]
["5.3.3","Išlaidų pavadinimas",null,null,null,null,0,0]
["5.3.4","Išlaidų pavadinimas",null,null,null,null,0,0]
["5.3.5","Išlaidų pavadinimas",null,null,null,null,0,0]
["5.3.6","Išlaidų pavadinimas",null,null,null,null,0,0]
["5.3.7","Išlaidų pavadinimas",null,null,null,null,0,0]
["5.3.8","Išlaidų pavadinimas",null,null,null,null,0,0]
["5.3.9","Išlaidų pavadinimas",null,null,null,null,0,0]
["5.3.10","Išlaidų pavadinimas",null,null,null,null,0,0]
["5.3.11","Išlaidų pavadinimas",null,null,null,null,0,0]
["5.3.12","Išlaidų pavadinimas",null,null,null,null,0,0]
["5.3.13","Išlaidų pavadinimas",null,null,null,null,0,0]
["5.3.14","Išlaidų pavadinimas",null,null,null,null,0,0]
["5.3.15","Išlaidų pavadinimas",null,null,null,null,0,0]
["5.4","Projekto MTEP veikloms naudojamo ilgalaikio materialaus turto (įrangos, prietaisų, įrankių, įrenginių, mašinų ir įrengimų, pastatų ir (ar) patalpų), nusidėvėjimo sąnaudos, jeigu šiam turtui įsigyti nebuvo naudojamos viešosios (įskaitant ir kitų valstybių) lėšos",null,null,null,null,{"$f":"SUM(G61:G75)","v":0},{"$f":"SUM(H61:H75)","v":0},null,null,"Turto įvedimo į eksploataciją data","Turto įsigijimo vertė, Eur","Turto nudėvėjimo, amortizacijos laikotarpis, mėn.","Numatoma turto likutinė vertė, Eur","1 mėn. nudėvėjimo, amortizacijos suma, Eur","Turto naudojamo projekto reikmėms laikas, mėn.","Turto panaudojimo projekto reikmėms dalis (proc.)","Projektui priskirta turto nusidėvėjimo, amortizacijos suma per projekto laikotarpį, Eur"]
["5.4.1","Turtas, kurio nusidėvėjimą, amortizaciją prašoma finansuoti",null,null,1,{"$f":"R61","v":0},{"$f":"ROUND(E61*F61,2)","v":0},0,null,null,null,null,null,null,{"$f":"IFERROR(ROUND((L61-N61)/M61,2),\"0\")","v":"0"},null,null,{"$f":"O61*P61*Q61","v":0},{"$f":"IF(K61=0,\" \",IF(K61+(M61*30.5)<TODAY(),\"DĖMESIO! Patikrinkite, ar nurodytas turtas dar nėra nudėvėtas, amortizuotas\",\" \"))","v":" "}]
["5.4.2","Turtas, kurio nusidėvėjimą, amortizaciją prašoma finansuoti",null,null,1,{"$f":"R62","v":0},0,0,null,null,null,null,null,null,{"$f":"IFERROR(ROUND((L62-N62)/M62,2),\"0\")","v":"0"},null,null,{"$f":"O62*P62*Q62","v":0},{"$f":"IF(K62=0,\" \",IF(K62+(M62*30.5)<TODAY(),\"DĖMESIO! Patikrinkite, ar nurodytas turtas dar nėra nudėvėtas, amortizuotas\",\" \"))","v":" "}]
["5.4.3","Turtas, kurio nusidėvėjimą, amortizaciją prašoma finansuoti",null,null,1,0,0,0,null,null,null,null,null,null,"0",null,null,0," "]
["5.4.4","Turtas, kurio nusidėvėjimą, amortizaciją prašoma finansuoti",null,null,1,0,0,0,null,null,null,null,null,null,"0",null,null,0," "]
["5.4.5","Turtas, kurio nusidėvėjimą, amortizaciją prašoma finansuoti",null,null,1,0,0,0,null,null,null,null,null,null,"0",null,null,0," "]
["5.4.6","Turtas, kurio nusidėvėjimą, amortizaciją prašoma finansuoti",null,null,1,0,0,0,null,null,null,null,null,null,"0",null,null,0," "]
["5.4.7","Turtas, kurio nusidėvėjimą, amortizaciją prašoma finansuoti",null,null,1,0,0,0,null,null,null,null,null,null,"0",null,null,0," "]
["5.4.8","Turtas, kurio nusidėvėjimą, amortizaciją prašoma finansuoti",null,null,1,0,0,0,null,null,null,null,null,null,"0",null,null,0," "]
["5.4.9","Turtas, kurio nusidėvėjimą, amortizaciją prašoma finansuoti",null,null,1,0,0,0,null,null,null,null,null,null,"0",null,null,0," "]
["5.4.10","Turtas, kurio nusidėvėjimą, amortizaciją prašoma finansuoti",null,null,1,0,0,0,null,null,null,null,null,null,"0",null,null,0," "]
["5.4.11","Turtas, kurio nusidėvėjimą, amortizaciją prašoma finansuoti",null,null,1,0,0,0,null,null,null,null,null,null,"0",null,null,0," "]
["5.4.12","Turtas, kurio nusidėvėjimą, amortizaciją prašoma finansuoti",null,null,1,0,0,0,null,null,null,null,null,null,"0",null,null,0," "]
["5.4.13","Turtas, kurio nusidėvėjimą, amortizaciją prašoma finansuoti",null,null,1,0,0,0,null,null,null,null,null,null,"0",null,null,0," "]
["5.4.14","Turtas, kurio nusidėvėjimą, amortizaciją prašoma finansuoti",null,null,1,0,0,0,null,null,null,null,null,null,"0",null,null,0," "]
["5.4.15","Turtas, kurio nusidėvėjimą, amortizaciją prašoma finansuoti",null,null,1,0,0,0,null,null,null,null,null,null,"0",null,null,0," "]
["5.5","Projektą vykdančio personalo darbo užmokestis ir išlaidos su darbo santykiais susijusiems darbdavio įsipareigojimams",null,null,null,null,{"$f":"SUM(G77:G126)","v":0},{"$f":"SUM(H77:H126)","v":0},null,null,"Faktiškai gaunamas darbo užmokesti už 1 valandą pagal  pastarųjų 6 mėn. vidurkį, Eur"]
["5.5.1","Pareigybės pavadinimas","Darbuotojo vardas pavardė","val.",null,{"$f":"IFERROR(ROUND(AVERAGE(K77:K81),2),\"0\")","v":"0"},{"$f":"ROUND(E77*F77,2)","v":0},{"$f":"ROUND(G77*$D$7,2)","v":0}]
[null,null,"Darbuotojo vardas pavardė"]
[null,null,"Darbuotojo vardas pavardė"]
[null,null,"Darbuotojo vardas pavardė"]
[null,null,"Darbuotojo vardas pavardė"]
["5.5.2","Pareigybės pavadinimas","Darbuotojo vardas pavardė","val.",null,{"$f":"IFERROR(ROUND(AVERAGE(K82:K86),2),\"0\")","v":"0"},{"$f":"ROUND(E82*F82,2)","v":0},{"$f":"ROUND(G82*$D$7,2)","v":0}]
[null,null,"Darbuotojo vardas pavardė"]
[null,null,"Darbuotojo vardas pavardė"]
[null,null,"Darbuotojo vardas pavardė"]
[null,null,"Darbuotojo vardas pavardė"]
["5.5.3","Pareigybės pavadinimas","Darbuotojo vardas pavardė","val.",null,{"$f":"IFERROR(ROUND(AVERAGE(K87:K91),2),\"0\")","v":"0"},{"$f":"ROUND(E87*F87,2)","v":0},{"$f":"ROUND(G87*$D$7,2)","v":0}]
[null,null,"Darbuotojo vardas pavardė"]
[null,null,"Darbuotojo vardas pavardė"]
[null,null,"Darbuotojo vardas pavardė"]
[null,null,"Darbuotojo vardas pavardė"]
["5.5.4","Pareigybės pavadinimas","Darbuotojo vardas pavardė","val.",null,{"$f":"IFERROR(ROUND(AVERAGE(K92:K96),2),\"0\")","v":"0"},{"$f":"ROUND(E92*F92,2)","v":0},{"$f":"ROUND(G92*$D$7,2)","v":0}]
[null,null,"Darbuotojo vardas pavardė"]
[null,null,"Darbuotojo vardas pavardė"]
[null,null,"Darbuotojo vardas pavardė"]
[null,null,"Darbuotojo vardas pavardė"]
["5.5.5","Pareigybės pavadinimas","Darbuotojo vardas pavardė","val.",null,{"$f":"IFERROR(ROUND(AVERAGE(K97:K101),2),\"0\")","v":"0"},{"$f":"ROUND(E97*F97,2)","v":0},{"$f":"ROUND(G97*$D$7,2)","v":0}]
[null,null,"Darbuotojo vardas pavardė"]
[null,null,"Darbuotojo vardas pavardė"]
[null,null,"Darbuotojo vardas pavardė"]
[null,null,"Darbuotojo vardas pavardė"]
["5.5.6","Pareigybės pavadinimas","Darbuotojo vardas pavardė","val.",null,{"$f":"IFERROR(ROUND(AVERAGE(K102:K106),2),\"0\")","v":"0"},{"$f":"ROUND(E102*F102,2)","v":0},{"$f":"ROUND(G102*$D$7,2)","v":0}]
[null,null,"Darbuotojo vardas pavardė"]
[null,null,"Darbuotojo vardas pavardė"]
[null,null,"Darbuotojo vardas pavardė"]
[null,null,"Darbuotojo vardas pavardė"]
["5.5.7","Pareigybės pavadinimas","Darbuotojo vardas pavardė","val.",null,{"$f":"IFERROR(ROUND(AVERAGE(K107:K111),2),\"0\")","v":"0"},{"$f":"ROUND(E107*F107,2)","v":0},{"$f":"ROUND(G107*$D$7,2)","v":0}]
[null,null,"Darbuotojo vardas pavardė"]
[null,null,"Darbuotojo vardas pavardė"]
[null,null,"Darbuotojo vardas pavardė"]
[null,null,"Darbuotojo vardas pavardė"]
["5.5.8","Pareigybės pavadinimas","Darbuotojo vardas pavardė","val.",null,{"$f":"IFERROR(ROUND(AVERAGE(K112:K116),2),\"0\")","v":"0"},{"$f":"ROUND(E112*F112,2)","v":0},{"$f":"ROUND(G112*$D$7,2)","v":0}]
[null,null,"Darbuotojo vardas pavardė"]
[null,null,"Darbuotojo vardas pavardė"]
[null,null,"Darbuotojo vardas pavardė"]
[null,null,"Darbuotojo vardas pavardė"]
["5.5.9","Pareigybės pavadinimas","Darbuotojo vardas pavardė","val.",null,{"$f":"IFERROR(ROUND(AVERAGE(K117:K121),2),\"0\")","v":"0"},{"$f":"ROUND(E117*F117,2)","v":0},{"$f":"ROUND(G117*$D$7,2)","v":0}]
[null,null,"Darbuotojo vardas pavardė"]
[null,null,"Darbuotojo vardas pavardė"]
[null,null,"Darbuotojo vardas pavardė"]
[null,null,"Darbuotojo vardas pavardė"]
["5.5.10","Pareigybės pavadinimas","Darbuotojo vardas pavardė","val.",null,{"$f":"IFERROR(ROUND(AVERAGE(K122:K126),2),\"0\")","v":"0"},{"$f":"ROUND(E122*F122,2)","v":0},{"$f":"ROUND(G122*$D$7,2)","v":0}]
[null,null,"Darbuotojo vardas pavardė"]
[null,null,"Darbuotojo vardas pavardė"]
[null,null,"Darbuotojo vardas pavardė"]
[null,null,"Darbuotojo vardas pavardė"]
["5.6","Projektą vykdančio personalo komandiruočių išlaidos",null,null,null,null,{"$f":"SUM(G128,G135,G142,G149,G156,G163,G170,G177,G184,G191)","v":0},{"$f":"SUM(H128,H135,H142,H149,H156,H163,H170,H177,H184,H191)","v":0}]
["5.6.1","Komandiruotės pavadinimas, vieta, trukmė dienomis, vykstančių asmenų skaičius","Iš viso komandiruotei",null,null,null,{"$f":"SUM(G129:G134)","v":0},{"$f":"ROUND(G128*$D$7,2)","v":0}]
[null,null,"Dienpinigiai",null,null,null,{"$f":"ROUND(E129*F129,2)","v":0}]
[null,null,"Gyvenamojo ploto nuoma",null,null,null,0]
[null,null,"Kelionės išlaidos",null,null,null,0]
[null,null,"Dalyvavimo mokestis",null,null,null,0]
[null,null,"Kitos išlaidų pavadinimas",null,null,null,0]
[null,null,"Kitos išlaidų pavadinimas",null,null,null,0]
["5.6.2","Komandiruotės pavadinimas, vieta, trukmė dienomis, vykstančių asmenų skaičius","Iš viso komandiruotei",null,null,null,{"$f":"SUM(G136:G141)","v":0},{"$f":"ROUND(G135*$D$7,2)","v":0}]
[null,null,"Dienpinigiai",null,null,null,{"$f":"ROUND(E136*F136,2)","v":0}]
[null,null,"Gyvenamojo ploto nuoma",null,null,null,0]
[null,null,"Kelionės išlaidos",null,null,null,0]
[null,null,"Dalyvavimo mokestis",null,null,null,0]
[null,null,"Kitos išlaidų pavadinimas",null,null,null,0]
[null,null,"Kitos išlaidų pavadinimas",null,null,null,0]
["5.6.3","Komandiruotės pavadinimas, vieta, trukmė dienomis, vykstančių asmenų skaičius","Iš viso komandiruotei",null,null,null,{"$f":"SUM(G143:G148)","v":0},{"$f":"ROUND(G142*$D$7,2)","v":0}]
[null,null,"Dienpinigiai",null,null,null,{"$f":"ROUND(E143*F143,2)","v":0}]
[null,null,"Gyvenamojo ploto nuoma",null,null,null,0]
[null,null,"Kelionės išlaidos",null,null,null,0]
[null,null,"Dalyvavimo mokestis",null,null,null,0]
[null,null,"Kitos išlaidų pavadinimas",null,null,null,0]
[null,null,"Kitos išlaidų pavadinimas",null,null,null,0]
["5.6.4","Komandiruotės pavadinimas, vieta, trukmė dienomis, vykstančių asmenų skaičius","Iš viso komandiruotei",null,null,null,{"$f":"SUM(G150:G155)","v":0},{"$f":"ROUND(G149*$D$7,2)","v":0}]
[null,null,"Dienpinigiai",null,null,null,{"$f":"ROUND(E150*F150,2)","v":0}]
[null,null,"Gyvenamojo ploto nuoma",null,null,null,0]
[null,null,"Kelionės išlaidos",null,null,null,0]
[null,null,"Dalyvavimo mokestis",null,null,null,0]
[null,null,"Kitos išlaidų pavadinimas",null,null,null,0]
[null,null,"Kitos išlaidų pavadinimas",null,null,null,0]
["5.6.5","Komandiruotės pavadinimas, vieta, trukmė dienomis, vykstančių asmenų skaičius","Iš viso komandiruotei",null,null,null,{"$f":"SUM(G157:G162)","v":0},{"$f":"ROUND(G156*$D$7,2)","v":0}]
[null,null,"Dienpinigiai",null,null,null,{"$f":"ROUND(E157*F157,2)","v":0}]
[null,null,"Gyvenamojo ploto nuoma",null,null,null,0]
[null,null,"Kelionės išlaidos",null,null,null,0]
[null,null,"Dalyvavimo mokestis",null,null,null,0]
[null,null,"Kitos išlaidų pavadinimas",null,null,null,0]
[null,null,"Kitos išlaidų pavadinimas",null,null,null,0]
["5.6.6","Komandiruotės pavadinimas, vieta, trukmė dienomis, vykstančių asmenų skaičius","Iš viso komandiruotei",null,null,null,{"$f":"SUM(G164:G169)","v":0},{"$f":"ROUND(G163*$D$7,2)","v":0}]
[null,null,"Dienpinigiai",null,null,null,{"$f":"ROUND(E164*F164,2)","v":0}]
[null,null,"Gyvenamojo ploto nuoma",null,null,null,0]
[null,null,"Kelionės išlaidos",null,null,null,0]
[null,null,"Dalyvavimo mokestis",null,null,null,0]
[null,null,"Kitos išlaidų pavadinimas",null,null,null,0]
[null,null,"Kitos išlaidų pavadinimas",null,null,null,0]
["5.6.7","Komandiruotės pavadinimas, vieta, trukmė dienomis, vykstančių asmenų skaičius","Iš viso komandiruotei",null,null,null,{"$f":"SUM(G171:G176)","v":0},{"$f":"ROUND(G170*$D$7,2)","v":0}]
[null,null,"Dienpinigiai",null,null,null,{"$f":"ROUND(E171*F171,2)","v":0}]
[null,null,"Gyvenamojo ploto nuoma",null,null,null,0]
[null,null,"Kelionės išlaidos",null,null,null,0]
[null,null,"Dalyvavimo mokestis",null,null,null,0]
[null,null,"Kitos išlaidų pavadinimas",null,null,null,0]
[null,null,"Kitos išlaidų pavadinimas",null,null,null,0]
["5.6.8","Komandiruotės pavadinimas, vieta, trukmė dienomis, vykstančių asmenų skaičius","Iš viso komandiruotei",null,null,null,{"$f":"SUM(G178:G183)","v":0},{"$f":"ROUND(G177*$D$7,2)","v":0}]
[null,null,"Dienpinigiai",null,null,null,{"$f":"ROUND(E178*F178,2)","v":0}]
[null,null,"Gyvenamojo ploto nuoma",null,null,null,0]
[null,null,"Kelionės išlaidos",null,null,null,0]
[null,null,"Dalyvavimo mokestis",null,null,null,0]
[null,null,"Kitos išlaidų pavadinimas",null,null,null,0]
[null,null,"Kitos išlaidų pavadinimas",null,null,null,0]
["5.6.9","Komandiruotės pavadinimas, vieta, trukmė dienomis, vykstančių asmenų skaičius","Iš viso komandiruotei",null,null,null,{"$f":"SUM(G185:G190)","v":0},{"$f":"ROUND(G184*$D$7,2)","v":0}]
[null,null,"Dienpinigiai",null,null,null,{"$f":"ROUND(E185*F185,2)","v":0}]
[null,null,"Gyvenamojo ploto nuoma",null,null,null,0]
[null,null,"Kelionės išlaidos",null,null,null,0]
[null,null,"Dalyvavimo mokestis",null,null,null,0]
[null,null,"Kitos išlaidų pavadinimas",null,null,null,0]
[null,null,"Kitos išlaidų pavadinimas",null,null,null,0]
["5.6.10","Komandiruotės pavadinimas, vieta, trukmė dienomis, vykstančių asmenų skaičius","Iš viso komandiruotei",null,null,null,{"$f":"SUM(G192:G197)","v":0},{"$f":"ROUND(G191*$D$7,2)","v":0}]
[null,null,"Dienpinigiai",null,null,null,{"$f":"ROUND(E192*F192,2)","v":0}]
[null,null,"Gyvenamojo ploto nuoma",null,null,null,0]
[null,null,"Kelionės išlaidos",null,null,null,0]
[null,null,"Dalyvavimo mokestis",null,null,null,0]
[null,null,"Kitos išlaidų pavadinimas",null,null,null,0]
[null,null,"Kitos išlaidų pavadinimas",null,null,null,0]
["5.7","Įrangos nuomos išlaidos, veiklai priskirtos pro rata principu. Įranga turi būti tiesiogiai susijusi su projekto įgyvendinimu ir negali būti įsigyta iš ES struktūrinių fondų ar kt. ES finansinių priemonių lėšų",null,null,null,null,{"$f":"SUM(G199:G203)","v":0},{"$f":"SUM(H199:H203)","v":0},null,null,"Faktinės 1 mėnesio išlaidos, Eur","Naudojimo projekte trukmė, mėn."]
["5.7.1","Įrangos pavadinimas",null,"pro rata proc.",null,{"$f":"K199*L199","v":0},0,{"$f":"ROUND(G199*$D$7,2)","v":0}]
["5.7.2","Įrangos pavadinimas",null,"pro rata proc.",null,{"$f":"K200*L200","v":0},0,{"$f":"ROUND(G200*$D$7,2)","v":0}]
["5.7.3","Įrangos pavadinimas",null,"pro rata proc.",null,0,0,0]
["5.7.4","Įrangos pavadinimas",null,"pro rata proc.",null,0,0,0]
["5.7.5","Įrangos pavadinimas",null,"pro rata proc.",null,0,0,0]
["5.8","Pastatų ar patalpų nuomos išlaidos, veiklai priskirtos pro rata principu. Pastatai ar patalpos turi būti tiesiogiai susijusi su projekto įgyvendinimu.",null,null,null,null,{"$f":"SUM(G205:G209)","v":0},{"$f":"SUM(H205:H209)","v":0},null,null,"Faktinės 1 mėnesio išlaidos, Eur","Naudojimo projekte trukmė, mėn."]
["5.8.1","Pastato, patalpų adresas",null,"pro rata proc.",null,{"$f":"K205*L205","v":0},{"$f":"ROUND(E205*F205,2)","v":0},{"$f":"ROUND(G205*$D$7,2)","v":0}]
["5.8.2","Pastato, patalpų adresas",null,"pro rata proc.",null,{"$f":"K206*L206","v":0},0,0]
["5.8.3","Pastato, patalpų adresas",null,"pro rata proc.",null,0,0,0]
["5.8.4","Pastato, patalpų adresas",null,"pro rata proc.",null,0,0,0]
["5.8.5","Pastato, patalpų adresas",null,"pro rata proc.",null,0,0,0]
["Iš viso tinkamų finansuoti išlaidų:",null,null,null,null,null,{"$f":"G10+G21","v":0},{"$f":"H10+H21","v":0}]

{"sheet":"23","index":24,"n_rows":210,"n_cols":19,"rows_kept":210,"cut":false,"hidden":false,"merged":[[206,1,206,2],[207,1,207,2],[208,1,208,2],[209,0,209,5],[197,1,197,5],[198,1,198,2],[199,1,199,2],[200,1,200,2],[201,1,201,2],[202,1,202,2],[203,1,203,5],[204,1,204,2],[205,1,205,2],[176,0,182,0],[176,1,182,1],[176,8,182,8],[183,0,189,0],[183,1,189,1],[183,8,189,8],[190,0,196,0],[190,1,196,1],[190,8,196,8],[155,0,161,0],[155,1,161,1],[155,8,161,8],[162,0,168,0],[162,1,168,1],[162,8,168,8],[169,0,175,0],[169,1,175,1],[169,8,175,8],[134,0,140,0],[134,1,140,1],[134,8,140,8],[141,0,147,0],[141,1,147,1],[141,8,147,8],[148,0,154,0],[148,1,154,1],[148,8,154,8],[127,1,133,1],[121,7,125,7],[121,8,125,8],[126,1,126,5],[121,0,125,0],[121,1,125,1],[121,3,125,3],[121,4,125,4],[121,5,125,5],[121,6,125,6],[127,0,133,0],[127,8,133,8],[111,7,115,7],[111,8,115,8],[116,0,120,0],[116,1,120,1],[116,3,120,3],[116,4,120,4],[116,5,120,5],[116,6,120,6],[116,7,120,7],[116,8,120,8],[111,0,115,0],[111,1,115,1],[111,3,115,3],[111,4,115,4],[111,5,115,5],[111,6,115,6],[101,7,105,7],[101,8,105,8],[106,0,110,0],[106,1,110,1],[106,3,110,3],[106,4,110,4],[106,5,110,5],[106,6,110,6],[106,7,110,7],[106,8,110,8],[101,0,105,0],[101,1,105,1],[101,3,105,3],[101,4,105,4],[101,5,105,5],[101,6,105,6],[96,0,100,0],[96,1,100,1],[96,3,100,3],[96,4,100,4],[96,5,100,5],[96,6,100,6],[96,7,100,7],[96,8,100,8],[91,0,95,0],[91,1,95,1],[91,3,95,3],[91,4,95,4],[91,5,95,5],[91,6,95,6],[86,0,90,0],[86,1,90,1],[86,3,90,3],[86,4,90,4],[86,5,90,5],[86,6,90,6],[86,7,90,7],[86,8,90,8],[91,7,95,7],[91,8,95,8],[76,6,80,6],[76,7,80,7],[76,8,80,8],[81,0,85,0],[81,1,85,1],[81,3,85,3],[81,4,85,4],[81,5,85,5],[81,6,85,6],[81,7,85,7],[81,8,85,8],[74,1,74,2],[75,1,75,5],[76,0,80,0],[76,1,80,1],[76,3,80,3],[76,4,80,4],[76,5,80,5],[68,1,68,2],[69,1,69,2],[70,1,70,2],[71,1,71,2],[72,1,72,2],[73,1,73,2],[62,1,62,2],[63,1,63,2],[64,1,64,2],[65,1,65,2],[66,1,66,2],[67,1,67,2],[56,1,56,2],[57,1,57,2],[58,1,58,2],[59,1,59,5],[60,1,60,2],[61,1,61,2],[50,1,50,2],[51,1,51,2],[52,1,52,2],[53,1,53,2],[54,1,54,2],[55,1,55,2],[44,1,44,2],[45,1,45,2],[46,1,46,2],[47,1,47,2],[48,1,48,2],[49,1,49,2],[38,1,38,2],[39,1,39,2],[40,1,40,2],[41,1,41,2],[42,1,42,2],[43,1,43,5],[32,1,32,5],[33,1,33,2],[34,1,34,2],[35,1,35,2],[36,1,36,2],[37,1,37,2],[26,1,26,2],[27,1,27,2],[28,1,28,2],[29,1,29,2],[30,1,30,2],[31,1,31,2],[20,1,20,5],[21,1,21,5],[22,1,22,2],[23,1,23,2],[24,1,24,2],[25,1,25,2],[16,1,16,2],[17,1,17,2],[18,1,18,2],[19,1,19,2],[8,1,8,2],[9,1,9,5],[10,1,10,2],[11,1,11,2],[12,1,12,2],[13,1,13,2],[0,3,0,8],[2,0,2,2],[2,3,2,8],[3,3,3,4],[3,5,3,6],[4,0,4,2],[4,3,4,8],[14,1,14,2],[15,1,15,2]]}
[null,null,"Pasirinkite veiklos tipą:"]
[null,null,"Fizinio rodiklio Nr.:"]
["Fizinio rodiklio pavadinimas:"]
[null,null,"Fizinio rodiklio matavimo vnt.:",null,null,"Fizinio rodiklio vnt. skaičius:"]
["Juridinis asmuo (pareiškėjas, partneris), atsakingas už fizinį rodiklį:"]
[]
[null,null,"Finansavimo intensyvumas:",null,null,null,"Pasirinkite biudžeto išlaidų kategoriją:"]
[]
["Eil. Nr.","Išlaidų kategorijos pavadinimas",null,"Matavimo vnt.","Kiekis","Vieneto kaina be PVM, Eur","Tinkamų finansuoti išlaidų suma be PVM, Eur","Finansavimo suma, Eur","Išlaidų pagrindimo dokumentų pavadinimas, data ir Nr."]
[4,"ĮRANGA, ĮRENGINIAI IR KT. TURTAS (techninių žinių ir išradimų patentų arba teisių pagal licencijų sutartį įsigijimo išlaidos)",null,null,null,null,{"$f":"SUM(G11:G20)","v":0},{"$f":"SUM(H11:H20)","v":0}]
["4.1","Išlaidų pavadinimas",null,null,null,null,{"$f":"ROUND(E11*F11,2)","v":0},{"$f":"ROUND(G11*$D$7,2)","v":0}]
["4.2","Išlaidų pavadinimas",null,null,null,null,0,0]
["4.3","Išlaidų pavadinimas",null,null,null,null,0,0]
["4.4","Išlaidų pavadinimas",null,null,null,null,0,0]
["4.5","Išlaidų pavadinimas",null,null,null,null,0,0]
["4.6","Išlaidų pavadinimas",null,null,null,null,0,0]
["4.7","Išlaidų pavadinimas",null,null,null,null,0,0]
["4.8","Išlaidų pavadinimas",null,null,null,null,0,0]
["4.9","Išlaidų pavadinimas",null,null,null,null,0,0]
["4.10","Išlaidų pavadinimas",null,null,null,null,0,0]
[5,"PROJEKTO VYKDYMAS",null,null,null,null,{"$f":"G22+G33+G44+G60+G76+G127+G198+G204","v":0},{"$f":"H22+H33+H44+H60+H76+H127+H198+H204","v":0}]
["5.1","MTEP paslaugos",null,null,null,null,{"$f":"SUM(G23:G32)","v":0},{"$f":"SUM(H23:H32)","v":0}]
["5.1.1","Paslaugos pavadinimas",null,null,null,null,{"$f":"ROUND(E23*F23,2)","v":0},0]
["5.1.2","Paslaugos pavadinimas",null,null,null,null,0,0]
["5.1.3","Paslaugos pavadinimas",null,null,null,null,0,0]
["5.1.4","Paslaugos pavadinimas",null,null,null,null,0,0]
["5.1.5","Paslaugos pavadinimas",null,null,null,null,0,0]
["5.1.6","Paslaugos pavadinimas",null,null,null,null,0,0]
["5.1.7","Paslaugos pavadinimas",null,null,null,null,0,0]
["5.1.8","Paslaugos pavadinimas",null,null,null,null,0,0]
["5.1.9","Paslaugos pavadinimas",null,null,null,null,0,0]
["5.1.10","Paslaugos pavadinimas",null,null,null,null,0,0]
["5.2","Konsultavimo ir lygiavertės paslaugos, naudojamos vien tik projekto MTEP veiklai",null,null,null,null,{"$f":"SUM(G34:G43)","v":0},{"$f":"SUM(H34:H43)","v":0}]
["5.2.1","Paslaugos pavadinimas",null,null,null,null,{"$f":"ROUND(E34*F34,2)","v":0},0]
["5.2.2","Paslaugos pavadinimas",null,null,null,null,0,0]
["5.2.3","Paslaugos pavadinimas",null,null,null,null,0,0]
["5.2.4","Paslaugos pavadinimas",null,null,null,null,0,0]
["5.2.5","Paslaugos pavadinimas",null,null,null,null,0,0]
["5.2.6","Paslaugos pavadinimas",null,null,null,null,0,0]
["5.2.7","Paslaugos pavadinimas",null,null,null,null,0,0]
["5.2.8","Paslaugos pavadinimas",null,null,null,null,0,0]
["5.2.9","Paslaugos pavadinimas",null,null,null,null,0,0]
["5.2.10","Paslaugos pavadinimas",null,null,null,null,0,0]
["5.3","Medžiagos, mažavertis inventorius, atsargos ir pan. produktai, priskirtini trumpalaikiam turtui ir tiesiogiai susiję su MTEP veikla",null,null,null,null,{"$f":"SUM(G45:G61)","v":0},{"$f":"SUM(H45:H61)","v":0}]
["5.3.1","Išlaidų pavadinimas",null,null,null,null,{"$f":"ROUND(E45*F45,2)","v":0},{"$f":"ROUND(G45*$D$7,2)","v":0}]
["5.3.2","Išlaidų pavadinimas",null,null,null,null,0,0]
["5.3.3","Išlaidų pavadinimas",null,null,null,null,0,0]
["5.3.4","Išlaidų pavadinimas",null,null,null,null,0,0]
["5.3.5","Išlaidų pavadinimas",null,null,null,null,0,0]
["5.3.6","Išlaidų pavadinimas",null,null,null,null,0,0]
["5.3.7","Išlaidų pavadinimas",null,null,null,null,0,0]
["5.3.8","Išlaidų pavadinimas",null,null,null,null,0,0]
["5.3.9","Išlaidų pavadinimas",null,null,null,null,0,0]
["5.3.10","Išlaidų pavadinimas",null,null,null,null,0,0]
["5.3.11","Išlaidų pavadinimas",null,null,null,null,0,0]
["5.3.12","Išlaidų pavadinimas",null,null,null,null,0,0]
["5.3.13","Išlaidų pavadinimas",null,null,null,null,0,0]
["5.3.14","Išlaidų pavadinimas",null,null,null,null,0,0]
["5.3.15","Išlaidų pavadinimas",null,null,null,null,0,0]
["5.4","Projekto MTEP veikloms naudojamo ilgalaikio materialaus turto (įrangos, prietaisų, įrankių, įrenginių, mašinų ir įrengimų, pastatų ir (ar) patalpų), nusidėvėjimo sąnaudos, jeigu šiam turtui įsigyti nebuvo naudojamos viešosios (įskaitant ir kitų valstybių) lėšos",null,null,null,null,{"$f":"SUM(G61:G75)","v":0},{"$f":"SUM(H61:H75)","v":0},null,null,"Turto įvedimo į eksploataciją data","Turto įsigijimo vertė, Eur","Turto nudėvėjimo, amortizacijos laikotarpis, mėn.","Numatoma turto likutinė vertė, Eur","1 mėn. nudėvėjimo, amortizacijos suma, Eur","Turto naudojamo projekto reikmėms laikas, mėn.","Turto panaudojimo projekto reikmėms dalis (proc.)","Projektui priskirta turto nusidėvėjimo, amortizacijos suma per projekto laikotarpį, Eur"]
["5.4.1","Turtas, kurio nusidėvėjimą, amortizaciją prašoma finansuoti",null,null,1,{"$f":"R61","v":0},{"$f":"ROUND(E61*F61,2)","v":0},0,null,null,null,null,null,null,{"$f":"IFERROR(ROUND((L61-N61)/M61,2),\"0\")","v":"0"},null,null,{"$f":"O61*P61*Q61","v":0},{"$f":"IF(K61=0,\" \",IF(K61+(M61*30.5)<TODAY(),\"DĖMESIO! Patikrinkite, ar nurodytas turtas dar nėra nudėvėtas, amortizuotas\",\" \"))","v":" "}]
["5.4.2","Turtas, kurio nusidėvėjimą, amortizaciją prašoma finansuoti",null,null,1,{"$f":"R62","v":0},0,0,null,null,null,null,null,null,{"$f":"IFERROR(ROUND((L62-N62)/M62,2),\"0\")","v":"0"},null,null,{"$f":"O62*P62*Q62","v":0},{"$f":"IF(K62=0,\" \",IF(K62+(M62*30.5)<TODAY(),\"DĖMESIO! Patikrinkite, ar nurodytas turtas dar nėra nudėvėtas, amortizuotas\",\" \"))","v":" "}]
["5.4.3","Turtas, kurio nusidėvėjimą, amortizaciją prašoma finansuoti",null,null,1,0,0,0,null,null,null,null,null,null,"0",null,null,0," "]
["5.4.4","Turtas, kurio nusidėvėjimą, amortizaciją prašoma finansuoti",null,null,1,0,0,0,null,null,null,null,null,null,"0",null,null,0," "]
["5.4.5","Turtas, kurio nusidėvėjimą, amortizaciją prašoma finansuoti",null,null,1,0,0,0,null,null,null,null,null,null,"0",null,null,0," "]
["5.4.6","Turtas, kurio nusidėvėjimą, amortizaciją prašoma finansuoti",null,null,1,0,0,0,null,null,null,null,null,null,"0",null,null,0," "]
["5.4.7","Turtas, kurio nusidėvėjimą, amortizaciją prašoma finansuoti",null,null,1,0,0,0,null,null,null,null,null,null,"0",null,null,0," "]
["5.4.8","Turtas, kurio nusidėvėjimą, amortizaciją prašoma finansuoti",null,null,1,0,0,0,null,null,null,null,null,null,"0",null,null,0," "]
["5.4.9","Turtas, kurio nusidėvėjimą, amortizaciją prašoma finansuoti",null,null,1,0,0,0,null,null,null,null,null,null,"0",null,null,0," "]
["5.4.10","Turtas, kurio nusidėvėjimą, amortizaciją prašoma finansuoti",null,null,1,0,0,0,null,null,null,null,null,null,"0",null,null,0," "]
["5.4.11","Turtas, kurio nusidėvėjimą, amortizaciją prašoma finansuoti",null,null,1,0,0,0,null,null,null,null,null,null,"0",null,null,0," "]
["5.4.12","Turtas, kurio nusidėvėjimą, amortizaciją prašoma finansuoti",null,null,1,0,0,0,null,null,null,null,null,null,"0",null,null,0," "]
["5.4.13","Turtas, kurio nusidėvėjimą, amortizaciją prašoma finansuoti",null,null,1,0,0,0,null,null,null,null,null,null,"0",null,null,0," "]
["5.4.14","Turtas, kurio nusidėvėjimą, amortizaciją prašoma finansuoti",null,null,1,0,0,0,null,null,null,null,null,null,"0",null,null,0," "]
["5.4.15","Turtas, kurio nusidėvėjimą, amortizaciją prašoma finansuoti",null,null,1,0,0,0,null,null,null,null,null,null,"0",null,null,0," "]
["5.5","Projektą vykdančio personalo darbo užmokestis ir išlaidos su darbo santykiais susijusiems darbdavio įsipareigojimams",null,null,null,null,{"$f":"SUM(G77:G126)","v":0},{"$f":"SUM(H77:H126)","v":0},null,null,"Faktiškai gaunamas darbo užmokesti už 1 valandą pagal  pastarųjų 6 mėn. vidurkį, Eur"]
["5.5.1","Pareigybės pavadinimas","Darbuotojo vardas pavardė","val.",null,{"$f":"IFERROR(ROUND(AVERAGE(K77:K81),2),\"0\")","v":"0"},{"$f":"ROUND(E77*F77,2)","v":0},{"$f":"ROUND(G77*$D$7,2)","v":0}]
[null,null,"Darbuotojo vardas pavardė"]
[null,null,"Darbuotojo vardas pavardė"]
[null,null,"Darbuotojo vardas pavardė"]
[null,null,"Darbuotojo vardas pavardė"]
["5.5.2","Pareigybės pavadinimas","Darbuotojo vardas pavardė","val.",null,{"$f":"IFERROR(ROUND(AVERAGE(K82:K86),2),\"0\")","v":"0"},{"$f":"ROUND(E82*F82,2)","v":0},{"$f":"ROUND(G82*$D$7,2)","v":0}]
[null,null,"Darbuotojo vardas pavardė"]
[null,null,"Darbuotojo vardas pavardė"]
[null,null,"Darbuotojo vardas pavardė"]
[null,null,"Darbuotojo vardas pavardė"]
["5.5.3","Pareigybės pavadinimas","Darbuotojo vardas pavardė","val.",null,{"$f":"IFERROR(ROUND(AVERAGE(K87:K91),2),\"0\")","v":"0"},{"$f":"ROUND(E87*F87,2)","v":0},{"$f":"ROUND(G87*$D$7,2)","v":0}]
[null,null,"Darbuotojo vardas pavardė"]
[null,null,"Darbuotojo vardas pavardė"]
[null,null,"Darbuotojo vardas pavardė"]
[null,null,"Darbuotojo vardas pavardė"]
["5.5.4","Pareigybės pavadinimas","Darbuotojo vardas pavardė","val.",null,{"$f":"IFERROR(ROUND(AVERAGE(K92:K96),2),\"0\")","v":"0"},{"$f":"ROUND(E92*F92,2)","v":0},{"$f":"ROUND(G92*$D$7,2)","v":0}]
[null,null,"Darbuotojo vardas pavardė"]
[null,null,"Darbuotojo vardas pavardė"]
[null,null,"Darbuotojo vardas pavardė"]
[null,null,"Darbuotojo vardas pavardė"]
["5.5.5","Pareigybės pavadinimas","Darbuotojo vardas pavardė","val.",null,{"$f":"IFERROR(ROUND(AVERAGE(K97:K101),2),\"0\")","v":"0"},{"$f":"ROUND(E97*F97,2)","v":0},{"$f":"ROUND(G97*$D$7,2)","v":0}]
[null,null,"Darbuotojo vardas pavardė"]
[null,null,"Darbuotojo vardas pavardė"]
[null,null,"Darbuotojo vardas pavardė"]
[null,null,"Darbuotojo vardas pavardė"]
["5.5.6","Pareigybės pavadinimas","Darbuotojo vardas pavardė","val.",null,{"$f":"IFERROR(ROUND(AVERAGE(K102:K106),2),\"0\")","v":"0"},{"$f":"ROUND(E102*F102,2)","v":0},{"$f":"ROUND(G102*$D$7,2)","v":0}]
[null,null,"Darbuotojo vardas pavardė"]
[null,null,"Darbuotojo vardas pavardė"]
[null,null,"Darbuotojo vardas pavardė"]
[null,null,"Darbuotojo vardas pavardė"]
["5.5.7","Pareigybės pavadinimas","Darbuotojo vardas pavardė","val.",null,{"$f":"IFERROR(ROUND(AVERAGE(K107:K111),2),\"0\")","v":"0"},{"$f":"ROUND(E107*F107,2)","v":0},{"$f":"ROUND(G107*$D$7,2)","v":0}]
[null,null,"Darbuotojo vardas pavardė"]
[null,null,"Darbuotojo vardas pavardė"]
[null,null,"Darbuotojo vardas pavardė"]
[null,null,"Darbuotojo vardas pavardė"]
["5.5.8","Pareigybės pavadinimas","Darbuotojo vardas pavardė","val.",null,{"$f":"IFERROR(ROUND(AVERAGE(K112:K116),2),\"0\")","v":"0"},{"$f":"ROUND(E112*F112,2)","v":0},{"$f":"ROUND(G112*$D$7,2)","v":0}]
[null,null,"Darbuotojo vardas pavardė"]
[null,null,"Darbuotojo vardas pavardė"]
[null,null,"Darbuotojo vardas pavardė"]
[null,null,"Darbuotojo vardas pavardė"]
["5.5.9","Pareigybės pavadinimas","Darbuotojo vardas pavardė","val.",null,{"$f":"IFERROR(ROUND(AVERAGE(K117:K121),2),\"0\")","v":"0"},{"$f":"ROUND(E117*F117,2)","v":0},{"$f":"ROUND(G117*$D$7,2)","v":0}]
[null,null,"Darbuotojo vardas pavardė"]
[null,null,"Darbuotojo vardas pavardė"]
[null,null,"Darbuotojo vardas pavardė"]
[null,null,"Darbuotojo vardas pavardė"]
["5.5.10","Pareigybės pavadinimas","Darbuotojo vardas pavardė","val.",null,{"$f":"IFERROR(ROUND(AVERAGE(K122:K126),2),\"0\")","v":"0"},{"$f":"ROUND(E122*F122,2)","v":0},{"$f":"ROUND(G122*$D$7,2)","v":0}]
[null,null,"Darbuotojo vardas pavardė"]
[null,null,"Darbuotojo vardas pavardė"]
[null,null,"Darbuotojo vardas pavardė"]
[null,null,"Darbuotojo vardas pavardė"]
["5.6","Projektą vykdančio personalo komandiruočių išlaidos",null,null,null,null,{"$f":"SUM(G128,G135,G142,G149,G156,G163,G170,G177,G184,G191)","v":0},{"$f":"SUM(H128,H135,H142,H149,H156,H163,H170,H177,H184,H191)","v":0}]
["5.6.1","Komandiruotės pavadinimas, vieta, trukmė dienomis, vykstančių asmenų skaičius","Iš viso komandiruotei",null,null,null,{"$f":"SUM(G129:G134)","v":0},{"$f":"ROUND(G128*$D$7,2)","v":0}]
[null,null,"Dienpinigiai",null,null,null,{"$f":"ROUND(E129*F129,2)","v":0}]
[null,null,"Gyvenamojo ploto nuoma",null,null,null,0]
[null,null,"Kelionės išlaidos",null,null,null,0]
[null,null,"Dalyvavimo mokestis",null,null,null,0]
[null,null,"Kitos išlaidų pavadinimas",null,null,null,0]
[null,null,"Kitos išlaidų pavadinimas",null,null,null,0]
["5.6.2","Komandiruotės pavadinimas, vieta, trukmė dienomis, vykstančių asmenų skaičius","Iš viso komandiruotei",null,null,null,{"$f":"SUM(G136:G141)","v":0},{"$f":"ROUND(G135*$D$7,2)","v":0}]
[null,null,"Dienpinigiai",null,null,null,{"$f":"ROUND(E136*F136,2)","v":0}]
[null,null,"Gyvenamojo ploto nuoma",null,null,null,0]
[null,null,"Kelionės išlaidos",null,null,null,0]
[null,null,"Dalyvavimo mokestis",null,null,null,0]
[null,null,"Kitos išlaidų pavadinimas",null,null,null,0]
[null,null,"Kitos išlaidų pavadinimas",null,null,null,0]
["5.6.3","Komandiruotės pavadinimas, vieta, trukmė dienomis, vykstančių asmenų skaičius","Iš viso komandiruotei",null,null,null,{"$f":"SUM(G143:G148)","v":0},{"$f":"ROUND(G142*$D$7,2)","v":0}]
[null,null,"Dienpinigiai",null,null,null,{"$f":"ROUND(E143*F143,2)","v":0}]
[null,null,"Gyvenamojo ploto nuoma",null,null,null,0]
[null,null,"Kelionės išlaidos",null,null,null,0]
[null,null,"Dalyvavimo mokestis",null,null,null,0]
[null,null,"Kitos išlaidų pavadinimas",null,null,null,0]
[null,null,"Kitos išlaidų pavadinimas",null,null,null,0]
["5.6.4","Komandiruotės pavadinimas, vieta, trukmė dienomis, vykstančių asmenų skaičius","Iš viso komandiruotei",null,null,null,{"$f":"SUM(G150:G155)","v":0},{"$f":"ROUND(G149*$D$7,2)","v":0}]
[null,null,"Dienpinigiai",null,null,null,{"$f":"ROUND(E150*F150,2)","v":0}]
[null,null,"Gyvenamojo ploto nuoma",null,null,null,0]
[null,null,"Kelionės išlaidos",null,null,null,0]
[null,null,"Dalyvavimo mokestis",null,null,null,0]
[null,null,"Kitos išlaidų pavadinimas",null,null,null,0]
[null,null,"Kitos išlaidų pavadinimas",null,null,null,0]
["5.6.5","Komandiruotės pavadinimas, vieta, trukmė dienomis, vykstančių asmenų skaičius","Iš viso komandiruotei",null,null,null,{"$f":"SUM(G157:G162)","v":0},{"$f":"ROUND(G156*$D$7,2)","v":0}]
[null,null,"Dienpinigiai",null,null,null,{"$f":"ROUND(E157*F157,2)","v":0}]
[null,null,"Gyvenamojo ploto nuoma",null,null,null,0]
[null,null,"Kelionės išlaidos",null,null,null,0]
[null,null,"Dalyvavimo mokestis",null,null,null,0]
[null,null,"Kitos išlaidų pavadinimas",null,null,null,0]
[null,null,"Kitos išlaidų pavadinimas",null,null,null,0]
["5.6.6","Komandiruotės pavadinimas, vieta, trukmė dienomis, vykstančių asmenų skaičius","Iš viso komandiruotei",null,null,null,{"$f":"SUM(G164:G169)","v":0},{"$f":"ROUND(G163*$D$7,2)","v":0}]
[null,null,"Dienpinigiai",null,null,null,{"$f":"ROUND(E164*F164,2)","v":0}]
[null,null,"Gyvenamojo ploto nuoma",null,null,null,0]
[null,null,"Kelionės išlaidos",null,null,null,0]
[null,null,"Dalyvavimo mokestis",null,null,null,0]
[null,null,"Kitos išlaidų pavadinimas",null,null,null,0]
[null,null,"Kitos išlaidų pavadinimas",null,null,null,0]
["5.6.7","Komandiruotės pavadinimas, vieta, trukmė dienomis, vykstančių asmenų skaičius","Iš viso komandiruotei",null,null,null,{"$f":"SUM(G171:G176)","v":0},{"$f":"ROUND(G170*$D$7,2)","v":0}]
[null,null,"Dienpinigiai",null,null,null,{"$f":"ROUND(E171*F171,2)","v":0}]
[null,null,"Gyvenamojo ploto nuoma",null,null,null,0]
[null,null,"Kelionės išlaidos",null,null,null,0]
[null,null,"Dalyvavimo mokestis",null,null,null,0]
[null,null,"Kitos išlaidų pavadinimas",null,null,null,0]
[null,null,"Kitos išlaidų pavadinimas",null,null,null,0]
["5.6.8","Komandiruotės pavadinimas, vieta, trukmė dienomis, vykstančių asmenų skaičius","Iš viso komandiruotei",null,null,null,{"$f":"SUM(G178:G183)","v":0},{"$f":"ROUND(G177*$D$7,2)","v":0}]
[null,null,"Dienpinigiai",null,null,null,{"$f":"ROUND(E178*F178,2)","v":0}]
[null,null,"Gyvenamojo ploto nuoma",null,null,null,0]
[null,null,"Kelionės išlaidos",null,null,null,0]
[null,null,"Dalyvavimo mokestis",null,null,null,0]
[null,null,"Kitos išlaidų pavadinimas",null,null,null,0]
[null,null,"Kitos išlaidų pavadinimas",null,null,null,0]
["5.6.9","Komandiruotės pavadinimas, vieta, trukmė dienomis, vykstančių asmenų skaičius","Iš viso komandiruotei",null,null,null,{"$f":"SUM(G185:G190)","v":0},{"$f":"ROUND(G184*$D$7,2)","v":0}]
[null,null,"Dienpinigiai",null,null,null,{"$f":"ROUND(E185*F185,2)","v":0}]
[null,null,"Gyvenamojo ploto nuoma",null,null,null,0]
[null,null,"Kelionės išlaidos",null,null,null,0]
[null,null,"Dalyvavimo mokestis",null,null,null,0]
[null,null,"Kitos išlaidų pavadinimas",null,null,null,0]
[null,null,"Kitos išlaidų pavadinimas",null,null,null,0]
["5.6.10","Komandiruotės pavadinimas, vieta, trukmė dienomis, vykstančių asmenų skaičius","Iš viso komandiruotei",null,null,null,{"$f":"SUM(G192:G197)","v":0},{"$f":"ROUND(G191*$D$7,2)","v":0}]
[null,null,"Dienpinigiai",null,null,null,{"$f":"ROUND(E192*F192,2)","v":0}]
[null,null,"Gyvenamojo ploto nuoma",null,null,null,0]
[null,null,"Kelionės išlaidos",null,null,null,0]
[null,null,"Dalyvavimo mokestis",null,null,null,0]
[null,null,"Kitos išlaidų pavadinimas",null,null,null,0]
[null,null,"Kitos išlaidų pavadinimas",null,null,null,0]
["5.7","Įrangos nuomos išlaidos, veiklai priskirtos pro rata principu. Įranga turi būti tiesiogiai susijusi su projekto įgyvendinimu ir negali būti įsigyta iš ES struktūrinių fondų ar kt. ES finansinių priemonių lėšų",null,null,null,null,{"$f":"SUM(G199:G203)","v":0},{"$f":"SUM(H199:H203)","v":0},null,null,"Faktinės 1 mėnesio išlaidos, Eur","Naudojimo projekte trukmė, mėn."]
["5.7.1","Įrangos pavadinimas",null,"pro rata proc.",null,{"$f":"K199*L199","v":0},0,{"$f":"ROUND(G199*$D$7,2)","v":0}]
["5.7.2","Įrangos pavadinimas",null,"pro rata proc.",null,{"$f":"K200*L200","v":0},0,{"$f":"ROUND(G200*$D$7,2)","v":0}]
["5.7.3","Įrangos pavadinimas",null,"pro rata proc.",null,0,0,0]
["5.7.4","Įrangos pavadinimas",null,"pro rata proc.",null,0,0,0]
["5.7.5","Įrangos pavadinimas",null,"pro rata proc.",null,0,0,0]
["5.8","Pastatų ar patalpų nuomos išlaidos, veiklai priskirtos pro rata principu. Pastatai ar patalpos turi būti tiesiogiai susijusi su projekto įgyvendinimu.",null,null,null,null,{"$f":"SUM(G205:G209)","v":0},{"$f":"SUM(H205:H209)","v":0},null,null,"Faktinės 1 mėnesio išlaidos, Eur","Naudojimo projekte trukmė, mėn."]
["5.8.1","Pastato, patalpų adresas",null,"pro rata proc.",null,{"$f":"K205*L205","v":0},{"$f":"ROUND(E205*F205,2)","v":0},{"$f":"ROUND(G205*$D$7,2)","v":0}]
["5.8.2","Pastato, patalpų adresas",null,"pro rata proc.",null,{"$f":"K206*L206","v":0},0,0]
["5.8.3","Pastato, patalpų adresas",null,"pro rata proc.",null,0,0,0]
["5.8.4","Pastato, patalpų adresas",null,"pro rata proc.",null,0,0,0]
["5.8.5","Pastato, patalpų adresas",null,"pro rata proc.",null,0,0,0]
["Iš viso tinkamų finansuoti išlaidų:",null,null,null,null,null,{"$f":"G10+G21","v":0},{"$f":"H10+H21","v":0}]

{"sheet":"24","index":25,"n_rows":210,"n_cols":19,"rows_kept":210,"cut":false,"hidden":false,"merged":[[206,1,206,2],[207,1,207,2],[208,1,208,2],[209,0,209,5],[197,1,197,5],[198,1,198,2],[199,1,199,2],[200,1,200,2],[201,1,201,2],[202,1,202,2],[203,1,203,5],[204,1,204,2],[205,1,205,2],[176,0,182,0],[176,1,182,1],[176,8,182,8],[183,0,189,0],[183,1,189,1],[183,8,189,8],[190,0,196,0],[190,1,196,1],[190,8,196,8],[155,0,161,0],[155,1,161,1],[155,8,161,8],[162,0,168,0],[162,1,168,1],[162,8,168,8],[169,0,175,0],[169,1,175,1],[169,8,175,8],[134,0,140,0],[134,1,140,1],[134,8,140,8],[141,0,147,0],[141,1,147,1],[141,8,147,8],[148,0,154,0],[148,1,154,1],[148,8,154,8],[127,1,133,1],[121,7,125,7],[121,8,125,8],[126,1,126,5],[121,0,125,0],[121,1,125,1],[121,3,125,3],[121,4,125,4],[121,5,125,5],[121,6,125,6],[127,0,133,0],[127,8,133,8],[111,7,115,7],[111,8,115,8],[116,0,120,0],[116,1,120,1],[116,3,120,3],[116,4,120,4],[116,5,120,5],[116,6,120,6],[116,7,120,7],[116,8,120,8],[111,0,115,0],[111,1,115,1],[111,3,115,3],[111,4,115,4],[111,5,115,5],[111,6,115,6],[101,7,105,7],[101,8,105,8],[106,0,110,0],[106,1,110,1],[106,3,110,3],[106,4,110,4],[106,5,110,5],[106,6,110,6],[106,7,110,7],[106,8,110,8],[101,0,105,0],[101,1,105,1],[101,3,105,3],[101,4,105,4],[101,5,105,5],[101,6,105,6],[96,0,100,0],[96,1,100,1],[96,3,100,3],[96,4,100,4],[96,5,100,5],[96,6,100,6],[96,7,100,7],[96,8,100,8],[91,0,95,0],[91,1,95,1],[91,3,95,3],[91,4,95,4],[91,5,95,5],[91,6,95,6],[86,0,90,0],[86,1,90,1],[86,3,90,3],[86,4,90,4],[86,5,90,5],[86,6,90,6],[86,7,90,7],[86,8,90,8],[91,7,95,7],[91,8,95,8],[76,6,80,6],[76,7,80,7],[76,8,80,8],[81,0,85,0],[81,1,85,1],[81,3,85,3],[81,4,85,4],[81,5,85,5],[81,6,85,6],[81,7,85,7],[81,8,85,8],[74,1,74,2],[75,1,75,5],[76,0,80,0],[76,1,80,1],[76,3,80,3],[76,4,80,4],[76,5,80,5],[68,1,68,2],[69,1,69,2],[70,1,70,2],[71,1,71,2],[72,1,72,2],[73,1,73,2],[62,1,62,2],[63,1,63,2],[64,1,64,2],[65,1,65,2],[66,1,66,2],[67,1,67,2],[56,1,56,2],[57,1,57,2],[58,1,58,2],[59,1,59,5],[60,1,60,2],[61,1,61,2],[50,1,50,2],[51,1,51,2],[52,1,52,2],[53,1,53,2],[54,1,54,2],[55,1,55,2],[44,1,44,2],[45,1,45,2],[46,1,46,2],[47,1,47,2],[48,1,48,2],[49,1,49,2],[38,1,38,2],[39,1,39,2],[40,1,40,2],[41,1,41,2],[42,1,42,2],[43,1,43,5],[32,1,32,5],[33,1,33,2],[34,1,34,2],[35,1,35,2],[36,1,36,2],[37,1,37,2],[26,1,26,2],[27,1,27,2],[28,1,28,2],[29,1,29,2],[30,1,30,2],[31,1,31,2],[20,1,20,5],[21,1,21,5],[22,1,22,2],[23,1,23,2],[24,1,24,2],[25,1,25,2],[16,1,16,2],[17,1,17,2],[18,1,18,2],[19,1,19,2],[8,1,8,2],[9,1,9,5],[10,1,10,2],[11,1,11,2],[12,1,12,2],[13,1,13,2],[0,3,0,8],[2,0,2,2],[2,3,2,8],[3,3,3,4],[3,5,3,6],[4,0,4,2],[4,3,4,8],[14,1,14,2],[15,1,15,2]]}
[null,null,"Pasirinkite veiklos tipą:"]
[null,null,"Fizinio rodiklio Nr.:"]
["Fizinio rodiklio pavadinimas:"]
[null,null,"Fizinio rodiklio matavimo vnt.:",null,null,"Fizinio rodiklio vnt. skaičius:"]
["Juridinis asmuo (pareiškėjas, partneris), atsakingas už fizinį rodiklį:"]
[]
[null,null,"Finansavimo intensyvumas:",null,null,null,"Pasirinkite biudžeto išlaidų kategoriją:"]
[]
["Eil. Nr.","Išlaidų kategorijos pavadinimas",null,"Matavimo vnt.","Kiekis","Vieneto kaina be PVM, Eur","Tinkamų finansuoti išlaidų suma be PVM, Eur","Finansavimo suma, Eur","Išlaidų pagrindimo dokumentų pavadinimas, data ir Nr."]
[4,"ĮRANGA, ĮRENGINIAI IR KT. TURTAS (techninių žinių ir išradimų patentų arba teisių pagal licencijų sutartį įsigijimo išlaidos)",null,null,null,null,{"$f":"SUM(G11:G20)","v":0},{"$f":"SUM(H11:H20)","v":0}]
["4.1","Išlaidų pavadinimas",null,null,null,null,{"$f":"ROUND(E11*F11,2)","v":0},{"$f":"ROUND(G11*$D$7,2)","v":0}]
["4.2","Išlaidų pavadinimas",null,null,null,null,0,0]
["4.3","Išlaidų pavadinimas",null,null,null,null,0,0]
["4.4","Išlaidų pavadinimas",null,null,null,null,0,0]
["4.5","Išlaidų pavadinimas",null,null,null,null,0,0]
["4.6","Išlaidų pavadinimas",null,null,null,null,0,0]
["4.7","Išlaidų pavadinimas",null,null,null,null,0,0]
["4.8","Išlaidų pavadinimas",null,null,null,null,0,0]
["4.9","Išlaidų pavadinimas",null,null,null,null,0,0]
["4.10","Išlaidų pavadinimas",null,null,null,null,0,0]
[5,"PROJEKTO VYKDYMAS",null,null,null,null,{"$f":"G22+G33+G44+G60+G76+G127+G198+G204","v":0},{"$f":"H22+H33+H44+H60+H76+H127+H198+H204","v":0}]
["5.1","MTEP paslaugos",null,null,null,null,{"$f":"SUM(G23:G32)","v":0},{"$f":"SUM(H23:H32)","v":0}]
["5.1.1","Paslaugos pavadinimas",null,null,null,null,{"$f":"ROUND(E23*F23,2)","v":0},0]
["5.1.2","Paslaugos pavadinimas",null,null,null,null,0,0]
["5.1.3","Paslaugos pavadinimas",null,null,null,null,0,0]
["5.1.4","Paslaugos pavadinimas",null,null,null,null,0,0]
["5.1.5","Paslaugos pavadinimas",null,null,null,null,0,0]
["5.1.6","Paslaugos pavadinimas",null,null,null,null,0,0]
["5.1.7","Paslaugos pavadinimas",null,null,null,null,0,0]
["5.1.8","Paslaugos pavadinimas",null,null,null,null,0,0]
["5.1.9","Paslaugos pavadinimas",null,null,null,null,0,0]
["5.1.10","Paslaugos pavadinimas",null,null,null,null,0,0]
["5.2","Konsultavimo ir lygiavertės paslaugos, naudojamos vien tik projekto MTEP veiklai",null,null,null,null,{"$f":"SUM(G34:G43)","v":0},{"$f":"SUM(H34:H43)","v":0}]
["5.2.1","Paslaugos pavadinimas",null,null,null,null,{"$f":"ROUND(E34*F34,2)","v":0},0]
["5.2.2","Paslaugos pavadinimas",null,null,null,null,0,0]
["5.2.3","Paslaugos pavadinimas",null,null,null,null,0,0]
["5.2.4","Paslaugos pavadinimas",null,null,null,null,0,0]
["5.2.5","Paslaugos pavadinimas",null,null,null,null,0,0]
["5.2.6","Paslaugos pavadinimas",null,null,null,null,0,0]
["5.2.7","Paslaugos pavadinimas",null,null,null,null,0,0]
["5.2.8","Paslaugos pavadinimas",null,null,null,null,0,0]
["5.2.9","Paslaugos pavadinimas",null,null,null,null,0,0]
["5.2.10","Paslaugos pavadinimas",null,null,null,null,0,0]
["5.3","Medžiagos, mažavertis inventorius, atsargos ir pan. produktai, priskirtini trumpalaikiam turtui ir tiesiogiai susiję su MTEP veikla",null,null,null,null,{"$f":"SUM(G45:G61)","v":0},{"$f":"SUM(H45:H61)","v":0}]
["5.3.1","Išlaidų pavadinimas",null,null,null,null,{"$f":"ROUND(E45*F45,2)","v":0},{"$f":"ROUND(G45*$D$7,2)","v":0}]
["5.3.2","Išlaidų pavadinimas",null,null,null,null,0,0]
["5.3.3","Išlaidų pavadinimas",null,null,null,null,0,0]
["5.3.4","Išlaidų pavadinimas",null,null,null,null,0,0]
["5.3.5","Išlaidų pavadinimas",null,null,null,null,0,0]
["5.3.6","Išlaidų pavadinimas",null,null,null,null,0,0]
["5.3.7","Išlaidų pavadinimas",null,null,null,null,0,0]
["5.3.8","Išlaidų pavadinimas",null,null,null,null,0,0]
["5.3.9","Išlaidų pavadinimas",null,null,null,null,0,0]
["5.3.10","Išlaidų pavadinimas",null,null,null,null,0,0]
["5.3.11","Išlaidų pavadinimas",null,null,null,null,0,0]
["5.3.12","Išlaidų pavadinimas",null,null,null,null,0,0]
["5.3.13","Išlaidų pavadinimas",null,null,null,null,0,0]
["5.3.14","Išlaidų pavadinimas",null,null,null,null,0,0]
["5.3.15","Išlaidų pavadinimas",null,null,null,null,0,0]
["5.4","Projekto MTEP veikloms naudojamo ilgalaikio materialaus turto (įrangos, prietaisų, įrankių, įrenginių, mašinų ir įrengimų, pastatų ir (ar) patalpų), nusidėvėjimo sąnaudos, jeigu šiam turtui įsigyti nebuvo naudojamos viešosios (įskaitant ir kitų valstybių) lėšos",null,null,null,null,{"$f":"SUM(G61:G75)","v":0},{"$f":"SUM(H61:H75)","v":0},null,null,"Turto įvedimo į eksploataciją data","Turto įsigijimo vertė, Eur","Turto nudėvėjimo, amortizacijos laikotarpis, mėn.","Numatoma turto likutinė vertė, Eur","1 mėn. nudėvėjimo, amortizacijos suma, Eur","Turto naudojamo projekto reikmėms laikas, mėn.","Turto panaudojimo projekto reikmėms dalis (proc.)","Projektui priskirta turto nusidėvėjimo, amortizacijos suma per projekto laikotarpį, Eur"]
["5.4.1","Turtas, kurio nusidėvėjimą, amortizaciją prašoma finansuoti",null,null,1,{"$f":"R61","v":0},{"$f":"ROUND(E61*F61,2)","v":0},0,null,null,null,null,null,null,{"$f":"IFERROR(ROUND((L61-N61)/M61,2),\"0\")","v":"0"},null,null,{"$f":"O61*P61*Q61","v":0},{"$f":"IF(K61=0,\" \",IF(K61+(M61*30.5)<TODAY(),\"DĖMESIO! Patikrinkite, ar nurodytas turtas dar nėra nudėvėtas, amortizuotas\",\" \"))","v":" "}]
["5.4.2","Turtas, kurio nusidėvėjimą, amortizaciją prašoma finansuoti",null,null,1,{"$f":"R62","v":0},0,0,null,null,null,null,null,null,{"$f":"IFERROR(ROUND((L62-N62)/M62,2),\"0\")","v":"0"},null,null,{"$f":"O62*P62*Q62","v":0},{"$f":"IF(K62=0,\" \",IF(K62+(M62*30.5)<TODAY(),\"DĖMESIO! Patikrinkite, ar nurodytas turtas dar nėra nudėvėtas, amortizuotas\",\" \"))","v":" "}]
["5.4.3","Turtas, kurio nusidėvėjimą, amortizaciją prašoma finansuoti",null,null,1,0,0,0,null,null,null,null,null,null,"0",null,null,0," "]
["5.4.4","Turtas, kurio nusidėvėjimą, amortizaciją prašoma finansuoti",null,null,1,0,0,0,null,null,null,null,null,null,"0",null,null,0," "]
["5.4.5","Turtas, kurio nusidėvėjimą, amortizaciją prašoma finansuoti",null,null,1,0,0,0,null,null,null,null,null,null,"0",null,null,0," "]
["5.4.6","Turtas, kurio nusidėvėjimą, amortizaciją prašoma finansuoti",null,null,1,0,0,0,null,null,null,null,null,null,"0",null,null,0," "]
["5.4.7","Turtas, kurio nusidėvėjimą, amortizaciją prašoma finansuoti",null,null,1,0,0,0,null,null,null,null,null,null,"0",null,null,0," "]
["5.4.8","Turtas, kurio nusidėvėjimą, amortizaciją prašoma finansuoti",null,null,1,0,0,0,null,null,null,null,null,null,"0",null,null,0," "]
["5.4.9","Turtas, kurio nusidėvėjimą, amortizaciją prašoma finansuoti",null,null,1,0,0,0,null,null,null,null,null,null,"0",null,null,0," "]
["5.4.10","Turtas, kurio nusidėvėjimą, amortizaciją prašoma finansuoti",null,null,1,0,0,0,null,null,null,null,null,null,"0",null,null,0," "]
["5.4.11","Turtas, kurio nusidėvėjimą, amortizaciją prašoma finansuoti",null,null,1,0,0,0,null,null,null,null,null,null,"0",null,null,0," "]
["5.4.12","Turtas, kurio nusidėvėjimą, amortizaciją prašoma finansuoti",null,null,1,0,0,0,null,null,null,null,null,null,"0",null,null,0," "]
["5.4.13","Turtas, kurio nusidėvėjimą, amortizaciją prašoma finansuoti",null,null,1,0,0,0,null,null,null,null,null,null,"0",null,null,0," "]
["5.4.14","Turtas, kurio nusidėvėjimą, amortizaciją prašoma finansuoti",null,null,1,0,0,0,null,null,null,null,null,null,"0",null,null,0," "]
["5.4.15","Turtas, kurio nusidėvėjimą, amortizaciją prašoma finansuoti",null,null,1,0,0,0,null,null,null,null,null,null,"0",null,null,0," "]
["5.5","Projektą vykdančio personalo darbo užmokestis ir išlaidos su darbo santykiais susijusiems darbdavio įsipareigojimams",null,null,null,null,{"$f":"SUM(G77:G126)","v":0},{"$f":"SUM(H77:H126)","v":0},null,null,"Faktiškai gaunamas darbo užmokesti už 1 valandą pagal  pastarųjų 6 mėn. vidurkį, Eur"]
["5.5.1","Pareigybės pavadinimas","Darbuotojo vardas pavardė","val.",null,{"$f":"IFERROR(ROUND(AVERAGE(K77:K81),2),\"0\")","v":"0"},{"$f":"ROUND(E77*F77,2)","v":0},{"$f":"ROUND(G77*$D$7,2)","v":0}]
[null,null,"Darbuotojo vardas pavardė"]
[null,null,"Darbuotojo vardas pavardė"]
[null,null,"Darbuotojo vardas pavardė"]
[null,null,"Darbuotojo vardas pavardė"]
["5.5.2","Pareigybės pavadinimas","Darbuotojo vardas pavardė","val.",null,{"$f":"IFERROR(ROUND(AVERAGE(K82:K86),2),\"0\")","v":"0"},{"$f":"ROUND(E82*F82,2)","v":0},{"$f":"ROUND(G82*$D$7,2)","v":0}]
[null,null,"Darbuotojo vardas pavardė"]
[null,null,"Darbuotojo vardas pavardė"]
[null,null,"Darbuotojo vardas pavardė"]
[null,null,"Darbuotojo vardas pavardė"]
["5.5.3","Pareigybės pavadinimas","Darbuotojo vardas pavardė","val.",null,{"$f":"IFERROR(ROUND(AVERAGE(K87:K91),2),\"0\")","v":"0"},{"$f":"ROUND(E87*F87,2)","v":0},{"$f":"ROUND(G87*$D$7,2)","v":0}]
[null,null,"Darbuotojo vardas pavardė"]
[null,null,"Darbuotojo vardas pavardė"]
[null,null,"Darbuotojo vardas pavardė"]
[null,null,"Darbuotojo vardas pavardė"]
["5.5.4","Pareigybės pavadinimas","Darbuotojo vardas pavardė","val.",null,{"$f":"IFERROR(ROUND(AVERAGE(K92:K96),2),\"0\")","v":"0"},{"$f":"ROUND(E92*F92,2)","v":0},{"$f":"ROUND(G92*$D$7,2)","v":0}]
[null,null,"Darbuotojo vardas pavardė"]
[null,null,"Darbuotojo vardas pavardė"]
[null,null,"Darbuotojo vardas pavardė"]
[null,null,"Darbuotojo vardas pavardė"]
["5.5.5","Pareigybės pavadinimas","Darbuotojo vardas pavardė","val.",null,{"$f":"IFERROR(ROUND(AVERAGE(K97:K101),2),\"0\")","v":"0"},{"$f":"ROUND(E97*F97,2)","v":0},{"$f":"ROUND(G97*$D$7,2)","v":0}]
[null,null,"Darbuotojo vardas pavardė"]
[null,null,"Darbuotojo vardas pavardė"]
[null,null,"Darbuotojo vardas pavardė"]
[null,null,"Darbuotojo vardas pavardė"]
["5.5.6","Pareigybės pavadinimas","Darbuotojo vardas pavardė","val.",null,{"$f":"IFERROR(ROUND(AVERAGE(K102:K106),2),\"0\")","v":"0"},{"$f":"ROUND(E102*F102,2)","v":0},{"$f":"ROUND(G102*$D$7,2)","v":0}]
[null,null,"Darbuotojo vardas pavardė"]
[null,null,"Darbuotojo vardas pavardė"]
[null,null,"Darbuotojo vardas pavardė"]
[null,null,"Darbuotojo vardas pavardė"]
["5.5.7","Pareigybės pavadinimas","Darbuotojo vardas pavardė","val.",null,{"$f":"IFERROR(ROUND(AVERAGE(K107:K111),2),\"0\")","v":"0"},{"$f":"ROUND(E107*F107,2)","v":0},{"$f":"ROUND(G107*$D$7,2)","v":0}]
[null,null,"Darbuotojo vardas pavardė"]
[null,null,"Darbuotojo vardas pavardė"]
[null,null,"Darbuotojo vardas pavardė"]
[null,null,"Darbuotojo vardas pavardė"]
["5.5.8","Pareigybės pavadinimas","Darbuotojo vardas pavardė","val.",null,{"$f":"IFERROR(ROUND(AVERAGE(K112:K116),2),\"0\")","v":"0"},{"$f":"ROUND(E112*F112,2)","v":0},{"$f":"ROUND(G112*$D$7,2)","v":0}]
[null,null,"Darbuotojo vardas pavardė"]
[null,null,"Darbuotojo vardas pavardė"]
[null,null,"Darbuotojo vardas pavardė"]
[null,null,"Darbuotojo vardas pavardė"]
["5.5.9","Pareigybės pavadinimas","Darbuotojo vardas pavardė","val.",null,{"$f":"IFERROR(ROUND(AVERAGE(K117:K121),2),\"0\")","v":"0"},{"$f":"ROUND(E117*F117,2)","v":0},{"$f":"ROUND(G117*$D$7,2)","v":0}]
[null,null,"Darbuotojo vardas pavardė"]
[null,null,"Darbuotojo vardas pavardė"]
[null,null,"Darbuotojo vardas pavardė"]
[null,null,"Darbuotojo vardas pavardė"]
["5.5.10","Pareigybės pavadinimas","Darbuotojo vardas pavardė","val.",null,{"$f":"IFERROR(ROUND(AVERAGE(K122:K126),2),\"0\")","v":"0"},{"$f":"ROUND(E122*F122,2)","v":0},{"$f":"ROUND(G122*$D$7,2)","v":0}]
[null,null,"Darbuotojo vardas pavardė"]
[null,null,"Darbuotojo vardas pavardė"]
[null,null,"Darbuotojo vardas pavardė"]
[null,null,"Darbuotojo vardas pavardė"]
["5.6","Projektą vykdančio personalo komandiruočių išlaidos",null,null,null,null,{"$f":"SUM(G128,G135,G142,G149,G156,G163,G170,G177,G184,G191)","v":0},{"$f":"SUM(H128,H135,H142,H149,H156,H163,H170,H177,H184,H191)","v":0}]
["5.6.1","Komandiruotės pavadinimas, vieta, trukmė dienomis, vykstančių asmenų skaičius","Iš viso komandiruotei",null,null,null,{"$f":"SUM(G129:G134)","v":0},{"$f":"ROUND(G128*$D$7,2)","v":0}]
[null,null,"Dienpinigiai",null,null,null,{"$f":"ROUND(E129*F129,2)","v":0}]
[null,null,"Gyvenamojo ploto nuoma",null,null,null,0]
[null,null,"Kelionės išlaidos",null,null,null,0]
[null,null,"Dalyvavimo mokestis",null,null,null,0]
[null,null,"Kitos išlaidų pavadinimas",null,null,null,0]
[null,null,"Kitos išlaidų pavadinimas",null,null,null,0]
["5.6.2","Komandiruotės pavadinimas, vieta, trukmė dienomis, vykstančių asmenų skaičius","Iš viso komandiruotei",null,null,null,{"$f":"SUM(G136:G141)","v":0},{"$f":"ROUND(G135*$D$7,2)","v":0}]
[null,null,"Dienpinigiai",null,null,null,{"$f":"ROUND(E136*F136,2)","v":0}]
[null,null,"Gyvenamojo ploto nuoma",null,null,null,0]
[null,null,"Kelionės išlaidos",null,null,null,0]
[null,null,"Dalyvavimo mokestis",null,null,null,0]
[null,null,"Kitos išlaidų pavadinimas",null,null,null,0]
[null,null,"Kitos išlaidų pavadinimas",null,null,null,0]
["5.6.3","Komandiruotės pavadinimas, vieta, trukmė dienomis, vykstančių asmenų skaičius","Iš viso komandiruotei",null,null,null,{"$f":"SUM(G143:G148)","v":0},{"$f":"ROUND(G142*$D$7,2)","v":0}]
[null,null,"Dienpinigiai",null,null,null,{"$f":"ROUND(E143*F143,2)","v":0}]
[null,null,"Gyvenamojo ploto nuoma",null,null,null,0]
[null,null,"Kelionės išlaidos",null,null,null,0]
[null,null,"Dalyvavimo mokestis",null,null,null,0]
[null,null,"Kitos išlaidų pavadinimas",null,null,null,0]
[null,null,"Kitos išlaidų pavadinimas",null,null,null,0]
["5.6.4","Komandiruotės pavadinimas, vieta, trukmė dienomis, vykstančių asmenų skaičius","Iš viso komandiruotei",null,null,null,{"$f":"SUM(G150:G155)","v":0},{"$f":"ROUND(G149*$D$7,2)","v":0}]
[null,null,"Dienpinigiai",null,null,null,{"$f":"ROUND(E150*F150,2)","v":0}]
[null,null,"Gyvenamojo ploto nuoma",null,null,null,0]
[null,null,"Kelionės išlaidos",null,null,null,0]
[null,null,"Dalyvavimo mokestis",null,null,null,0]
[null,null,"Kitos išlaidų pavadinimas",null,null,null,0]
[null,null,"Kitos išlaidų pavadinimas",null,null,null,0]
["5.6.5","Komandiruotės pavadinimas, vieta, trukmė dienomis, vykstančių asmenų skaičius","Iš viso komandiruotei",null,null,null,{"$f":"SUM(G157:G162)","v":0},{"$f":"ROUND(G156*$D$7,2)","v":0}]
[null,null,"Dienpinigiai",null,null,null,{"$f":"ROUND(E157*F157,2)","v":0}]
[null,null,"Gyvenamojo ploto nuoma",null,null,null,0]
[null,null,"Kelionės išlaidos",null,null,null,0]
[null,null,"Dalyvavimo mokestis",null,null,null,0]
[null,null,"Kitos išlaidų pavadinimas",null,null,null,0]
[null,null,"Kitos išlaidų pavadinimas",null,null,null,0]
["5.6.6","Komandiruotės pavadinimas, vieta, trukmė dienomis, vykstančių asmenų skaičius","Iš viso komandiruotei",null,null,null,{"$f":"SUM(G164:G169)","v":0},{"$f":"ROUND(G163*$D$7,2)","v":0}]
[null,null,"Dienpinigiai",null,null,null,{"$f":"ROUND(E164*F164,2)","v":0}]
[null,null,"Gyvenamojo ploto nuoma",null,null,null,0]
[null,null,"Kelionės išlaidos",null,null,null,0]
[null,null,"Dalyvavimo mokestis",null,null,null,0]
[null,null,"Kitos išlaidų pavadinimas",null,null,null,0]
[null,null,"Kitos išlaidų pavadinimas",null,null,null,0]
["5.6.7","Komandiruotės pavadinimas, vieta, trukmė dienomis, vykstančių asmenų skaičius","Iš viso komandiruotei",null,null,null,{"$f":"SUM(G171:G176)","v":0},{"$f":"ROUND(G170*$D$7,2)","v":0}]
[null,null,"Dienpinigiai",null,null,null,{"$f":"ROUND(E171*F171,2)","v":0}]
[null,null,"Gyvenamojo ploto nuoma",null,null,null,0]
[null,null,"Kelionės išlaidos",null,null,null,0]
[null,null,"Dalyvavimo mokestis",null,null,null,0]
[null,null,"Kitos išlaidų pavadinimas",null,null,null,0]
[null,null,"Kitos išlaidų pavadinimas",null,null,null,0]
["5.6.8","Komandiruotės pavadinimas, vieta, trukmė dienomis, vykstančių asmenų skaičius","Iš viso komandiruotei",null,null,null,{"$f":"SUM(G178:G183)","v":0},{"$f":"ROUND(G177*$D$7,2)","v":0}]
[null,null,"Dienpinigiai",null,null,null,{"$f":"ROUND(E178*F178,2)","v":0}]
[null,null,"Gyvenamojo ploto nuoma",null,null,null,0]
[null,null,"Kelionės išlaidos",null,null,null,0]
[null,null,"Dalyvavimo mokestis",null,null,null,0]
[null,null,"Kitos išlaidų pavadinimas",null,null,null,0]
[null,null,"Kitos išlaidų pavadinimas",null,null,null,0]
["5.6.9","Komandiruotės pavadinimas, vieta, trukmė dienomis, vykstančių asmenų skaičius","Iš viso komandiruotei",null,null,null,{"$f":"SUM(G185:G190)","v":0},{"$f":"ROUND(G184*$D$7,2)","v":0}]
[null,null,"Dienpinigiai",null,null,null,{"$f":"ROUND(E185*F185,2)","v":0}]
[null,null,"Gyvenamojo ploto nuoma",null,null,null,0]
[null,null,"Kelionės išlaidos",null,null,null,0]
[null,null,"Dalyvavimo mokestis",null,null,null,0]
[null,null,"Kitos išlaidų pavadinimas",null,null,null,0]
[null,null,"Kitos išlaidų pavadinimas",null,null,null,0]
["5.6.10","Komandiruotės pavadinimas, vieta, trukmė dienomis, vykstančių asmenų skaičius","Iš viso komandiruotei",null,null,null,{"$f":"SUM(G192:G197)","v":0},{"$f":"ROUND(G191*$D$7,2)","v":0}]
[null,null,"Dienpinigiai",null,null,null,{"$f":"ROUND(E192*F192,2)","v":0}]
[null,null,"Gyvenamojo ploto nuoma",null,null,null,0]
[null,null,"Kelionės išlaidos",null,null,null,0]
[null,null,"Dalyvavimo mokestis",null,null,null,0]
[null,null,"Kitos išlaidų pavadinimas",null,null,null,0]
[null,null,"Kitos išlaidų pavadinimas",null,null,null,0]
["5.7","Įrangos nuomos išlaidos, veiklai priskirtos pro rata principu. Įranga turi būti tiesiogiai susijusi su projekto įgyvendinimu ir negali būti įsigyta iš ES struktūrinių fondų ar kt. ES finansinių priemonių lėšų",null,null,null,null,{"$f":"SUM(G199:G203)","v":0},{"$f":"SUM(H199:H203)","v":0},null,null,"Faktinės 1 mėnesio išlaidos, Eur","Naudojimo projekte trukmė, mėn."]
["5.7.1","Įrangos pavadinimas",null,"pro rata proc.",null,{"$f":"K199*L199","v":0},0,{"$f":"ROUND(G199*$D$7,2)","v":0}]
["5.7.2","Įrangos pavadinimas",null,"pro rata proc.",null,{"$f":"K200*L200","v":0},0,{"$f":"ROUND(G200*$D$7,2)","v":0}]
["5.7.3","Įrangos pavadinimas",null,"pro rata proc.",null,0,0,0]
["5.7.4","Įrangos pavadinimas",null,"pro rata proc.",null,0,0,0]
["5.7.5","Įrangos pavadinimas",null,"pro rata proc.",null,0,0,0]
["5.8","Pastatų ar patalpų nuomos išlaidos, veiklai priskirtos pro rata principu. Pastatai ar patalpos turi būti tiesiogiai susijusi su projekto įgyvendinimu.",null,null,null,null,{"$f":"SUM(G205:G209)","v":0},{"$f":"SUM(H205:H209)","v":0},null,null,"Faktinės 1 mėnesio išlaidos, Eur","Naudojimo projekte trukmė, mėn."]
["5.8.1","Pastato, patalpų adresas",null,"pro rata proc.",null,{"$f":"K205*L205","v":0},{"$f":"ROUND(E205*F205,2)","v":0},{"$f":"ROUND(G205*$D$7,2)","v":0}]
["5.8.2","Pastato, patalpų adresas",null,"pro rata proc.",null,{"$f":"K206*L206","v":0},0,0]
["5.8.3","Pastato, patalpų adresas",null,"pro rata proc.",null,0,0,0]
["5.8.4","Pastato, patalpų adresas",null,"pro rata proc.",null,0,0,0]
["5.8.5","Pastato, patalpų adresas",null,"pro rata proc.",null,0,0,0]
["Iš viso tinkamų finansuoti išlaidų:",null,null,null,null,null,{"$f":"G10+G21","v":0},{"$f":"H10+H21","v":0}]

{"sheet":"25","index":26,"n_rows":210,"n_cols":19,"rows_kept":210,"cut":false,"hidden":false,"merged":[[206,1,206,2],[207,1,207,2],[208,1,208,2],[209,0,209,5],[197,1,197,5],[198,1,198,2],[199,1,199,2],[200,1,200,2],[201,1,201,2],[202,1,202,2],[203,1,203,5],[204,1,204,2],[205,1,205,2],[176,0,182,0],[176,1,182,1],[176,8,182,8],[183,0,189,0],[183,1,189,1],[183,8,189,8],[190,0,196,0],[190,1,196,1],[190,8,196,8],[155,0,161,0],[155,1,161,1],[155,8,161,8],[162,0,168,0],[162,1,168,1],[162,8,168,8],[169,0,175,0],[169,1,175,1],[169,8,175,8],[134,0,140,0],[134,1,140,1],[134,8,140,8],[141,0,147,0],[141,1,147,1],[141,8,147,8],[148,0,154,0],[148,1,154,1],[148,8,154,8],[127,1,133,1],[121,7,125,7],[121,8,125,8],[126,1,126,5],[121,0,125,0],[121,1,125,1],[121,3,125,3],[121,4,125,4],[121,5,125,5],[121,6,125,6],[127,0,133,0],[127,8,133,8],[111,7,115,7],[111,8,115,8],[116,0,120,0],[116,1,120,1],[116,3,120,3],[116,4,120,4],[116,5,120,5],[116,6,120,6],[116,7,120,7],[116,8,120,8],[111,0,115,0],[111,1,115,1],[111,3,115,3],[111,4,115,4],[111,5,115,5],[111,6,115,6],[101,7,105,7],[101,8,105,8],[106,0,110,0],[106,1,110,1],[106,3,110,3],[106,4,110,4],[106,5,110,5],[106,6,110,6],[106,7,110,7],[106,8,110,8],[101,0,105,0],[101,1,105,1],[101,3,105,3],[101,4,105,4],[101,5,105,5],[101,6,105,6],[96,0,100,0],[96,1,100,1],[96,3,100,3],[96,4,100,4],[96,5,100,5],[96,6,100,6],[96,7,100,7],[96,8,100,8],[91,0,95,0],[91,1,95,1],[91,3,95,3],[91,4,95,4],[91,5,95,5],[91,6,95,6],[86,0,90,0],[86,1,90,1],[86,3,90,3],[86,4,90,4],[86,5,90,5],[86,6,90,6],[86,7,90,7],[86,8,90,8],[91,7,95,7],[91,8,95,8],[76,6,80,6],[76,7,80,7],[76,8,80,8],[81,0,85,0],[81,1,85,1],[81,3,85,3],[81,4,85,4],[81,5,85,5],[81,6,85,6],[81,7,85,7],[81,8,85,8],[74,1,74,2],[75,1,75,5],[76,0,80,0],[76,1,80,1],[76,3,80,3],[76,4,80,4],[76,5,80,5],[68,1,68,2],[69,1,69,2],[70,1,70,2],[71,1,71,2],[72,1,72,2],[73,1,73,2],[62,1,62,2],[63,1,63,2],[64,1,64,2],[65,1,65,2],[66,1,66,2],[67,1,67,2],[56,1,56,2],[57,1,57,2],[58,1,58,2],[59,1,59,5],[60,1,60,2],[61,1,61,2],[50,1,50,2],[51,1,51,2],[52,1,52,2],[53,1,53,2],[54,1,54,2],[55,1,55,2],[44,1,44,2],[45,1,45,2],[46,1,46,2],[47,1,47,2],[48,1,48,2],[49,1,49,2],[38,1,38,2],[39,1,39,2],[40,1,40,2],[41,1,41,2],[42,1,42,2],[43,1,43,5],[32,1,32,5],[33,1,33,2],[34,1,34,2],[35,1,35,2],[36,1,36,2],[37,1,37,2],[26,1,26,2],[27,1,27,2],[28,1,28,2],[29,1,29,2],[30,1,30,2],[31,1,31,2],[20,1,20,5],[21,1,21,5],[22,1,22,2],[23,1,23,2],[24,1,24,2],[25,1,25,2],[16,1,16,2],[17,1,17,2],[18,1,18,2],[19,1,19,2],[8,1,8,2],[9,1,9,5],[10,1,10,2],[11,1,11,2],[12,1,12,2],[13,1,13,2],[0,3,0,8],[2,0,2,2],[2,3,2,8],[3,3,3,4],[3,5,3,6],[4,0,4,2],[4,3,4,8],[14,1,14,2],[15,1,15,2]]}
[null,null,"Pasirinkite veiklos tipą:"]
[null,null,"Fizinio rodiklio Nr.:"]
["Fizinio rodiklio pavadinimas:"]
[null,null,"Fizinio rodiklio matavimo vnt.:",null,null,"Fizinio rodiklio vnt. skaičius:"]
["Juridinis asmuo (pareiškėjas, partneris), atsakingas už fizinį rodiklį:"]
[]
[null,null,"Finansavimo intensyvumas:",null,null,null,"Pasirinkite biudžeto išlaidų kategoriją:"]
[]
["Eil. Nr.","Išlaidų kategorijos pavadinimas",null,"Matavimo vnt.","Kiekis","Vieneto kaina be PVM, Eur","Tinkamų finansuoti išlaidų suma be PVM, Eur","Finansavimo suma, Eur","Išlaidų pagrindimo dokumentų pavadinimas, data ir Nr."]
[4,"ĮRANGA, ĮRENGINIAI IR KT. TURTAS (techninių žinių ir išradimų patentų arba teisių pagal licencijų sutartį įsigijimo išlaidos)",null,null,null,null,{"$f":"SUM(G11:G20)","v":0},{"$f":"SUM(H11:H20)","v":0}]
["4.1","Išlaidų pavadinimas",null,null,null,null,{"$f":"ROUND(E11*F11,2)","v":0},{"$f":"ROUND(G11*$D$7,2)","v":0}]
["4.2","Išlaidų pavadinimas",null,null,null,null,0,0]
["4.3","Išlaidų pavadinimas",null,null,null,null,0,0]
["4.4","Išlaidų pavadinimas",null,null,null,null,0,0]
["4.5","Išlaidų pavadinimas",null,null,null,null,0,0]
["4.6","Išlaidų pavadinimas",null,null,null,null,0,0]
["4.7","Išlaidų pavadinimas",null,null,null,null,0,0]
["4.8","Išlaidų pavadinimas",null,null,null,null,0,0]
["4.9","Išlaidų pavadinimas",null,null,null,null,0,0]
["4.10","Išlaidų pavadinimas",null,null,null,null,0,0]
[5,"PROJEKTO VYKDYMAS",null,null,null,null,{"$f":"G22+G33+G44+G60+G76+G127+G198+G204","v":0},{"$f":"H22+H33+H44+H60+H76+H127+H198+H204","v":0}]
["5.1","MTEP paslaugos",null,null,null,null,{"$f":"SUM(G23:G32)","v":0},{"$f":"SUM(H23:H32)","v":0}]
["5.1.1","Paslaugos pavadinimas",null,null,null,null,{"$f":"ROUND(E23*F23,2)","v":0},0]
["5.1.2","Paslaugos pavadinimas",null,null,null,null,0,0]
["5.1.3","Paslaugos pavadinimas",null,null,null,null,0,0]
["5.1.4","Paslaugos pavadinimas",null,null,null,null,0,0]
["5.1.5","Paslaugos pavadinimas",null,null,null,null,0,0]
["5.1.6","Paslaugos pavadinimas",null,null,null,null,0,0]
["5.1.7","Paslaugos pavadinimas",null,null,null,null,0,0]
["5.1.8","Paslaugos pavadinimas",null,null,null,null,0,0]
["5.1.9","Paslaugos pavadinimas",null,null,null,null,0,0]
["5.1.10","Paslaugos pavadinimas",null,null,null,null,0,0]
["5.2","Konsultavimo ir lygiavertės paslaugos, naudojamos vien tik projekto MTEP veiklai",null,null,null,null,{"$f":"SUM(G34:G43)","v":0},{"$f":"SUM(H34:H43)","v":0}]
["5.2.1","Paslaugos pavadinimas",null,null,null,null,{"$f":"ROUND(E34*F34,2)","v":0},0]
["5.2.2","Paslaugos pavadinimas",null,null,null,null,0,0]
["5.2.3","Paslaugos pavadinimas",null,null,null,null,0,0]
["5.2.4","Paslaugos pavadinimas",null,null,null,null,0,0]
["5.2.5","Paslaugos pavadinimas",null,null,null,null,0,0]
["5.2.6","Paslaugos pavadinimas",null,null,null,null,0,0]
["5.2.7","Paslaugos pavadinimas",null,null,null,null,0,0]
["5.2.8","Paslaugos pavadinimas",null,null,null,null,0,0]
["5.2.9","Paslaugos pavadinimas",null,null,null,null,0,0]
["5.2.10","Paslaugos pavadinimas",null,null,null,null,0,0]
["5.3","Medžiagos, mažavertis inventorius, atsargos ir pan. produktai, priskirtini trumpalaikiam turtui ir tiesiogiai susiję su MTEP veikla",null,null,null,null,{"$f":"SUM(G45:G61)","v":0},{"$f":"SUM(H45:H61)","v":0}]
["5.3.1","Išlaidų pavadinimas",null,null,null,null,{"$f":"ROUND(E45*F45,2)","v":0},{"$f":"ROUND(G45*$D$7,2)","v":0}]
["5.3.2","Išlaidų pavadinimas",null,null,null,null,0,0]
["5.3.3","Išlaidų pavadinimas",null,null,null,null,0,0]
["5.3.4","Išlaidų pavadinimas",null,null,null,null,0,0]
["5.3.5","Išlaidų pavadinimas",null,null,null,null,0,0]
["5.3.6","Išlaidų pavadinimas",null,null,null,null,0,0]
["5.3.7","Išlaidų pavadinimas",null,null,null,null,0,0]
["5.3.8","Išlaidų pavadinimas",null,null,null,null,0,0]
["5.3.9","Išlaidų pavadinimas",null,null,null,null,0,0]
["5.3.10","Išlaidų pavadinimas",null,null,null,null,0,0]
["5.3.11","Išlaidų pavadinimas",null,null,null,null,0,0]
["5.3.12","Išlaidų pavadinimas",null,null,null,null,0,0]
["5.3.13","Išlaidų pavadinimas",null,null,null,null,0,0]
["5.3.14","Išlaidų pavadinimas",null,null,null,null,0,0]
["5.3.15","Išlaidų pavadinimas",null,null,null,null,0,0]
["5.4","Projekto MTEP veikloms naudojamo ilgalaikio materialaus turto (įrangos, prietaisų, įrankių, įrenginių, mašinų ir įrengimų, pastatų ir (ar) patalpų), nusidėvėjimo sąnaudos, jeigu šiam turtui įsigyti nebuvo naudojamos viešosios (įskaitant ir kitų valstybių) lėšos",null,null,null,null,{"$f":"SUM(G61:G75)","v":0},{"$f":"SUM(H61:H75)","v":0},null,null,"Turto įvedimo į eksploataciją data","Turto įsigijimo vertė, Eur","Turto nudėvėjimo, amortizacijos laikotarpis, mėn.","Numatoma turto likutinė vertė, Eur","1 mėn. nudėvėjimo, amortizacijos suma, Eur","Turto naudojamo projekto reikmėms laikas, mėn.","Turto panaudojimo projekto reikmėms dalis (proc.)","Projektui priskirta turto nusidėvėjimo, amortizacijos suma per projekto laikotarpį, Eur"]
["5.4.1","Turtas, kurio nusidėvėjimą, amortizaciją prašoma finansuoti",null,null,1,{"$f":"R61","v":0},{"$f":"ROUND(E61*F61,2)","v":0},0,null,null,null,null,null,null,{"$f":"IFERROR(ROUND((L61-N61)/M61,2),\"0\")","v":"0"},null,null,{"$f":"O61*P61*Q61","v":0},{"$f":"IF(K61=0,\" \",IF(K61+(M61*30.5)<TODAY(),\"DĖMESIO! Patikrinkite, ar nurodytas turtas dar nėra nudėvėtas, amortizuotas\",\" \"))","v":" "}]
["5.4.2","Turtas, kurio nusidėvėjimą, amortizaciją prašoma finansuoti",null,null,1,{"$f":"R62","v":0},0,0,null,null,null,null,null,null,{"$f":"IFERROR(ROUND((L62-N62)/M62,2),\"0\")","v":"0"},null,null,{"$f":"O62*P62*Q62","v":0},{"$f":"IF(K62=0,\" \",IF(K62+(M62*30.5)<TODAY(),\"DĖMESIO! Patikrinkite, ar nurodytas turtas dar nėra nudėvėtas, amortizuotas\",\" \"))","v":" "}]
["5.4.3","Turtas, kurio nusidėvėjimą, amortizaciją prašoma finansuoti",null,null,1,0,0,0,null,null,null,null,null,null,"0",null,null,0," "]
["5.4.4","Turtas, kurio nusidėvėjimą, amortizaciją prašoma finansuoti",null,null,1,0,0,0,null,null,null,null,null,null,"0",null,null,0," "]
["5.4.5","Turtas, kurio nusidėvėjimą, amortizaciją prašoma finansuoti",null,null,1,0,0,0,null,null,null,null,null,null,"0",null,null,0," "]
["5.4.6","Turtas, kurio nusidėvėjimą, amortizaciją prašoma finansuoti",null,null,1,0,0,0,null,null,null,null,null,null,"0",null,null,0," "]
["5.4.7","Turtas, kurio nusidėvėjimą, amortizaciją prašoma finansuoti",null,null,1,0,0,0,null,null,null,null,null,null,"0",null,null,0," "]
["5.4.8","Turtas, kurio nusidėvėjimą, amortizaciją prašoma finansuoti",null,null,1,0,0,0,null,null,null,null,null,null,"0",null,null,0," "]
["5.4.9","Turtas, kurio nusidėvėjimą, amortizaciją prašoma finansuoti",null,null,1,0,0,0,null,null,null,null,null,null,"0",null,null,0," "]
["5.4.10","Turtas, kurio nusidėvėjimą, amortizaciją prašoma finansuoti",null,null,1,0,0,0,null,null,null,null,null,null,"0",null,null,0," "]
["5.4.11","Turtas, kurio nusidėvėjimą, amortizaciją prašoma finansuoti",null,null,1,0,0,0,null,null,null,null,null,null,"0",null,null,0," "]
["5.4.12","Turtas, kurio nusidėvėjimą, amortizaciją prašoma finansuoti",null,null,1,0,0,0,null,null,null,null,null,null,"0",null,null,0," "]
["5.4.13","Turtas, kurio nusidėvėjimą, amortizaciją prašoma finansuoti",null,null,1,0,0,0,null,null,null,null,null,null,"0",null,null,0," "]
["5.4.14","Turtas, kurio nusidėvėjimą, amortizaciją prašoma finansuoti",null,null,1,0,0,0,null,null,null,null,null,null,"0",null,null,0," "]
["5.4.15","Turtas, kurio nusidėvėjimą, amortizaciją prašoma finansuoti",null,null,1,0,0,0,null,null,null,null,null,null,"0",null,null,0," "]
["5.5","Projektą vykdančio personalo darbo užmokestis ir išlaidos su darbo santykiais susijusiems darbdavio įsipareigojimams",null,null,null,null,{"$f":"SUM(G77:G126)","v":0},{"$f":"SUM(H77:H126)","v":0},null,null,"Faktiškai gaunamas darbo užmokesti už 1 valandą pagal  pastarųjų 6 mėn. vidurkį, Eur"]
["5.5.1","Pareigybės pavadinimas","Darbuotojo vardas pavardė","val.",null,{"$f":"IFERROR(ROUND(AVERAGE(K77:K81),2),\"0\")","v":"0"},{"$f":"ROUND(E77*F77,2)","v":0},{"$f":"ROUND(G77*$D$7,2)","v":0}]
[null,null,"Darbuotojo vardas pavardė"]
[null,null,"Darbuotojo vardas pavardė"]
[null,null,"Darbuotojo vardas pavardė"]
[null,null,"Darbuotojo vardas pavardė"]
["5.5.2","Pareigybės pavadinimas","Darbuotojo vardas pavardė","val.",null,{"$f":"IFERROR(ROUND(AVERAGE(K82:K86),2),\"0\")","v":"0"},{"$f":"ROUND(E82*F82,2)","v":0},{"$f":"ROUND(G82*$D$7,2)","v":0}]
[null,null,"Darbuotojo vardas pavardė"]
[null,null,"Darbuotojo vardas pavardė"]
[null,null,"Darbuotojo vardas pavardė"]
[null,null,"Darbuotojo vardas pavardė"]
["5.5.3","Pareigybės pavadinimas","Darbuotojo vardas pavardė","val.",null,{"$f":"IFERROR(ROUND(AVERAGE(K87:K91),2),\"0\")","v":"0"},{"$f":"ROUND(E87*F87,2)","v":0},{"$f":"ROUND(G87*$D$7,2)","v":0}]
[null,null,"Darbuotojo vardas pavardė"]
[null,null,"Darbuotojo vardas pavardė"]
[null,null,"Darbuotojo vardas pavardė"]
[null,null,"Darbuotojo vardas pavardė"]
["5.5.4","Pareigybės pavadinimas","Darbuotojo vardas pavardė","val.",null,{"$f":"IFERROR(ROUND(AVERAGE(K92:K96),2),\"0\")","v":"0"},{"$f":"ROUND(E92*F92,2)","v":0},{"$f":"ROUND(G92*$D$7,2)","v":0}]
[null,null,"Darbuotojo vardas pavardė"]
[null,null,"Darbuotojo vardas pavardė"]
[null,null,"Darbuotojo vardas pavardė"]
[null,null,"Darbuotojo vardas pavardė"]
["5.5.5","Pareigybės pavadinimas","Darbuotojo vardas pavardė","val.",null,{"$f":"IFERROR(ROUND(AVERAGE(K97:K101),2),\"0\")","v":"0"},{"$f":"ROUND(E97*F97,2)","v":0},{"$f":"ROUND(G97*$D$7,2)","v":0}]
[null,null,"Darbuotojo vardas pavardė"]
[null,null,"Darbuotojo vardas pavardė"]
[null,null,"Darbuotojo vardas pavardė"]
[null,null,"Darbuotojo vardas pavardė"]
["5.5.6","Pareigybės pavadinimas","Darbuotojo vardas pavardė","val.",null,{"$f":"IFERROR(ROUND(AVERAGE(K102:K106),2),\"0\")","v":"0"},{"$f":"ROUND(E102*F102,2)","v":0},{"$f":"ROUND(G102*$D$7,2)","v":0}]
[null,null,"Darbuotojo vardas pavardė"]
[null,null,"Darbuotojo vardas pavardė"]
[null,null,"Darbuotojo vardas pavardė"]
[null,null,"Darbuotojo vardas pavardė"]
["5.5.7","Pareigybės pavadinimas","Darbuotojo vardas pavardė","val.",null,{"$f":"IFERROR(ROUND(AVERAGE(K107:K111),2),\"0\")","v":"0"},{"$f":"ROUND(E107*F107,2)","v":0},{"$f":"ROUND(G107*$D$7,2)","v":0}]
[null,null,"Darbuotojo vardas pavardė"]
[null,null,"Darbuotojo vardas pavardė"]
[null,null,"Darbuotojo vardas pavardė"]
[null,null,"Darbuotojo vardas pavardė"]
["5.5.8","Pareigybės pavadinimas","Darbuotojo vardas pavardė","val.",null,{"$f":"IFERROR(ROUND(AVERAGE(K112:K116),2),\"0\")","v":"0"},{"$f":"ROUND(E112*F112,2)","v":0},{"$f":"ROUND(G112*$D$7,2)","v":0}]
[null,null,"Darbuotojo vardas pavardė"]
[null,null,"Darbuotojo vardas pavardė"]
[null,null,"Darbuotojo vardas pavardė"]
[null,null,"Darbuotojo vardas pavardė"]
["5.5.9","Pareigybės pavadinimas","Darbuotojo vardas pavardė","val.",null,{"$f":"IFERROR(ROUND(AVERAGE(K117:K121),2),\"0\")","v":"0"},{"$f":"ROUND(E117*F117,2)","v":0},{"$f":"ROUND(G117*$D$7,2)","v":0}]
[null,null,"Darbuotojo vardas pavardė"]
[null,null,"Darbuotojo vardas pavardė"]
[null,null,"Darbuotojo vardas pavardė"]
[null,null,"Darbuotojo vardas pavardė"]
["5.5.10","Pareigybės pavadinimas","Darbuotojo vardas pavardė","val.",null,{"$f":"IFERROR(ROUND(AVERAGE(K122:K126),2),\"0\")","v":"0"},{"$f":"ROUND(E122*F122,2)","v":0},{"$f":"ROUND(G122*$D$7,2)","v":0}]
[null,null,"Darbuotojo vardas pavardė"]
[null,null,"Darbuotojo vardas pavardė"]
[null,null,"Darbuotojo vardas pavardė"]
[null,null,"Darbuotojo vardas pavardė"]
["5.6","Projektą vykdančio personalo komandiruočių išlaidos",null,null,null,null,{"$f":"SUM(G128,G135,G142,G149,G156,G163,G170,G177,G184,G191)","v":0},{"$f":"SUM(H128,H135,H142,H149,H156,H163,H170,H177,H184,H191)","v":0}]
["5.6.1","Komandiruotės pavadinimas, vieta, trukmė dienomis, vykstančių asmenų skaičius","Iš viso komandiruotei",null,null,null,{"$f":"SUM(G129:G134)","v":0},{"$f":"ROUND(G128*$D$7,2)","v":0}]
[null,null,"Dienpinigiai",null,null,null,{"$f":"ROUND(E129*F129,2)","v":0}]
[null,null,"Gyvenamojo ploto nuoma",null,null,null,0]
[null,null,"Kelionės išlaidos",null,null,null,0]
[null,null,"Dalyvavimo mokestis",null,null,null,0]
[null,null,"Kitos išlaidų pavadinimas",null,null,null,0]
[null,null,"Kitos išlaidų pavadinimas",null,null,null,0]
["5.6.2","Komandiruotės pavadinimas, vieta, trukmė dienomis, vykstančių asmenų skaičius","Iš viso komandiruotei",null,null,null,{"$f":"SUM(G136:G141)","v":0},{"$f":"ROUND(G135*$D$7,2)","v":0}]
[null,null,"Dienpinigiai",null,null,null,{"$f":"ROUND(E136*F136,2)","v":0}]
[null,null,"Gyvenamojo ploto nuoma",null,null,null,0]
[null,null,"Kelionės išlaidos",null,null,null,0]
[null,null,"Dalyvavimo mokestis",null,null,null,0]
[null,null,"Kitos išlaidų pavadinimas",null,null,null,0]
[null,null,"Kitos išlaidų pavadinimas",null,null,null,0]
["5.6.3","Komandiruotės pavadinimas, vieta, trukmė dienomis, vykstančių asmenų skaičius","Iš viso komandiruotei",null,null,null,{"$f":"SUM(G143:G148)","v":0},{"$f":"ROUND(G142*$D$7,2)","v":0}]
[null,null,"Dienpinigiai",null,null,null,{"$f":"ROUND(E143*F143,2)","v":0}]
[null,null,"Gyvenamojo ploto nuoma",null,null,null,0]
[null,null,"Kelionės išlaidos",null,null,null,0]
[null,null,"Dalyvavimo mokestis",null,null,null,0]
[null,null,"Kitos išlaidų pavadinimas",null,null,null,0]
[null,null,"Kitos išlaidų pavadinimas",null,null,null,0]
["5.6.4","Komandiruotės pavadinimas, vieta, trukmė dienomis, vykstančių asmenų skaičius","Iš viso komandiruotei",null,null,null,{"$f":"SUM(G150:G155)","v":0},{"$f":"ROUND(G149*$D$7,2)","v":0}]
[null,null,"Dienpinigiai",null,null,null,{"$f":"ROUND(E150*F150,2)","v":0}]
[null,null,"Gyvenamojo ploto nuoma",null,null,null,0]
[null,null,"Kelionės išlaidos",null,null,null,0]
[null,null,"Dalyvavimo mokestis",null,null,null,0]
[null,null,"Kitos išlaidų pavadinimas",null,null,null,0]
[null,null,"Kitos išlaidų pavadinimas",null,null,null,0]
["5.6.5","Komandiruotės pavadinimas, vieta, trukmė dienomis, vykstančių asmenų skaičius","Iš viso komandiruotei",null,null,null,{"$f":"SUM(G157:G162)","v":0},{"$f":"ROUND(G156*$D$7,2)","v":0}]
[null,null,"Dienpinigiai",null,null,null,{"$f":"ROUND(E157*F157,2)","v":0}]
[null,null,"Gyvenamojo ploto nuoma",null,null,null,0]
[null,null,"Kelionės išlaidos",null,null,null,0]
[null,null,"Dalyvavimo mokestis",null,null,null,0]
[null,null,"Kitos išlaidų pavadinimas",null,null,null,0]
[null,null,"Kitos išlaidų pavadinimas",null,null,null,0]
["5.6.6","Komandiruotės pavadinimas, vieta, trukmė dienomis, vykstančių asmenų skaičius","Iš viso komandiruotei",null,null,null,{"$f":"SUM(G164:G169)","v":0},{"$f":"ROUND(G163*$D$7,2)","v":0}]
[null,null,"Dienpinigiai",null,null,null,{"$f":"ROUND(E164*F164,2)","v":0}]
[null,null,"Gyvenamojo ploto nuoma",null,null,null,0]
[null,null,"Kelionės išlaidos",null,null,null,0]
[null,null,"Dalyvavimo mokestis",null,null,null,0]
[null,null,"Kitos išlaidų pavadinimas",null,null,null,0]
[null,null,"Kitos išlaidų pavadinimas",null,null,null,0]
["5.6.7","Komandiruotės pavadinimas, vieta, trukmė dienomis, vykstančių asmenų skaičius","Iš viso komandiruotei",null,null,null,{"$f":"SUM(G171:G176)","v":0},{"$f":"ROUND(G170*$D$7,2)","v":0}]
[null,null,"Dienpinigiai",null,null,null,{"$f":"ROUND(E171*F171,2)","v":0}]
[null,null,"Gyvenamojo ploto nuoma",null,null,null,0]
[null,null,"Kelionės išlaidos",null,null,null,0]
[null,null,"Dalyvavimo mokestis",null,null,null,0]
[null,null,"Kitos išlaidų pavadinimas",null,null,null,0]
[null,null,"Kitos išlaidų pavadinimas",null,null,null,0]
["5.6.8","Komandiruotės pavadinimas, vieta, trukmė dienomis, vykstančių asmenų skaičius","Iš viso komandiruotei",null,null,null,{"$f":"SUM(G178:G183)","v":0},{"$f":"ROUND(G177*$D$7,2)","v":0}]
[null,null,"Dienpinigiai",null,null,null,{"$f":"ROUND(E178*F178,2)","v":0}]
[null,null,"Gyvenamojo ploto nuoma",null,null,null,0]
[null,null,"Kelionės išlaidos",null,null,null,0]
[null,null,"Dalyvavimo mokestis",null,null,null,0]
[null,null,"Kitos išlaidų pavadinimas",null,null,null,0]
[null,null,"Kitos išlaidų pavadinimas",null,null,null,0]
["5.6.9","Komandiruotės pavadinimas, vieta, trukmė dienomis, vykstančių asmenų skaičius","Iš viso komandiruotei",null,null,null,{"$f":"SUM(G185:G190)","v":0},{"$f":"ROUND(G184*$D$7,2)","v":0}]
[null,null,"Dienpinigiai",null,null,null,{"$f":"ROUND(E185*F185,2)","v":0}]
[null,null,"Gyvenamojo ploto nuoma",null,null,null,0]
[null,null,"Kelionės išlaidos",null,null,null,0]
[null,null,"Dalyvavimo mokestis",null,null,null,0]
[null,null,"Kitos išlaidų pavadinimas",null,null,null,0]
[null,null,"Kitos išlaidų pavadinimas",null,null,null,0]
["5.6.10","Komandiruotės pavadinimas, vieta, trukmė dienomis, vykstančių asmenų skaičius","Iš viso komandiruotei",null,null,null,{"$f":"SUM(G192:G197)","v":0},{"$f":"ROUND(G191*$D$7,2)","v":0}]
[null,null,"Dienpinigiai",null,null,null,{"$f":"ROUND(E192*F192,2)","v":0}]
[null,null,"Gyvenamojo ploto nuoma",null,null,null,0]
[null,null,"Kelionės išlaidos",null,null,null,0]
[null,null,"Dalyvavimo mokestis",null,null,null,0]
[null,null,"Kitos išlaidų pavadinimas",null,null,null,0]
[null,null,"Kitos išlaidų pavadinimas",null,null,null,0]
["5.7","Įrangos nuomos išlaidos, veiklai priskirtos pro rata principu. Įranga turi būti tiesiogiai susijusi su projekto įgyvendinimu ir negali būti įsigyta iš ES struktūrinių fondų ar kt. ES finansinių priemonių lėšų",null,null,null,null,{"$f":"SUM(G199:G203)","v":0},{"$f":"SUM(H199:H203)","v":0},null,null,"Faktinės 1 mėnesio išlaidos, Eur","Naudojimo projekte trukmė, mėn."]
["5.7.1","Įrangos pavadinimas",null,"pro rata proc.",null,{"$f":"K199*L199","v":0},0,{"$f":"ROUND(G199*$D$7,2)","v":0}]
["5.7.2","Įrangos pavadinimas",null,"pro rata proc.",null,{"$f":"K200*L200","v":0},0,{"$f":"ROUND(G200*$D$7,2)","v":0}]
["5.7.3","Įrangos pavadinimas",null,"pro rata proc.",null,0,0,0]
["5.7.4","Įrangos pavadinimas",null,"pro rata proc.",null,0,0,0]
["5.7.5","Įrangos pavadinimas",null,"pro rata proc.",null,0,0,0]
["5.8","Pastatų ar patalpų nuomos išlaidos, veiklai priskirtos pro rata principu. Pastatai ar patalpos turi būti tiesiogiai susijusi su projekto įgyvendinimu.",null,null,null,null,{"$f":"SUM(G205:G209)","v":0},{"$f":"SUM(H205:H209)","v":0},null,null,"Faktinės 1 mėnesio išlaidos, Eur","Naudojimo projekte trukmė, mėn."]
["5.8.1","Pastato, patalpų adresas",null,"pro rata proc.",null,{"$f":"K205*L205","v":0},{"$f":"ROUND(E205*F205,2)","v":0},{"$f":"ROUND(G205*$D$7,2)","v":0}]
["5.8.2","Pastato, patalpų adresas",null,"pro rata proc.",null,{"$f":"K206*L206","v":0},0,0]
["5.8.3","Pastato, patalpų adresas",null,"pro rata proc.",null,0,0,0]
["5.8.4","Pastato, patalpų adresas",null,"pro rata proc.",null,0,0,0]
["5.8.5","Pastato, patalpų adresas",null,"pro rata proc.",null,0,0,0]
["Iš viso tinkamų finansuoti išlaidų:",null,null,null,null,null,{"$f":"G10+G21","v":0},{"$f":"H10+H21","v":0}]

{"sheet":"Netiesioginės išlaidos","index":27,"n_rows":48,"n_cols":10,"rows_kept":48,"cut":false,"hidden":false,"merged":[[7,0,7,7],[8,1,8,2],[0,0,0,5],[5,0,5,2],[4,0,4,5],[2,0,2,7],[6,0,6,7],[19,6,19,7],[19,8,19,9],[9,0,9,2],[10,0,10,2],[12,0,12,2],[13,0,13,2],[46,0,46,1],[47,0,47,1],[18,0,18,5],[19,2,19,3],[19,4,19,5]]}
["7. Netiesioginių išlaidų ir kt. išlaidų pagal fiksuotąją projekto išlaidų normą apskaičiavimas"]
[]
["Žemiau esančios lentelės žaliuose laukuose įrašykite planuojamas patirti su projekto administravimu susijusias išlaidas. \nNetiesioginių išlaidų finansavimo suma bus apskaičiuojama automatiškai, po to, kai užpildysite šiame lape esančią lentelę"]
[]
["lentelė: Netiesioginių išlaidų pasiskirstymas pagal projekto vykdytojus"]
["Netiesioginės išlaidos",null,null,"Pareiškėjo","Partnerio Nr. 1","Partnerio Nr. 2","Partnerio Nr. 3","Iš viso, Eur"]
[]
["Organizacinių ir/ar procesų inovacijų veiklos"]
["7.","Netiesioginės išlaidos",null,null,null,null,null,{"$f":"SUM(D9:G9)","v":0}]
["Iš viso netiesioginės išlaidos:",null,null,{"$f":"D9","v":0},{"$f":"E9","v":0},0,0,0]
["Finansavimo suma, Eur",null,null,{"$f":"D10*D48","v":0},{"$f":"E10*F48","v":0},{"$f":"F10*H48","v":0},{"$f":"G10*J48","v":0},{"$f":"SUM(D11:G11)","v":0}]
[]
["Iš viso netiesioginių išlaidų:",null,null,{"$f":"+D10","v":0},{"$f":"+E10","v":0},0,0,0]
["Bendra finansavimo suma, Eur",null,null,{"$f":"D11","v":0},{"$f":"E11","v":0},0,0,0]
[]
[]
[]
[]
["lentelė: Kiekvieno projekto vykdytojo veiklų tinkamų finansuoti išlaidų pasiskirstymas pagal fizinius rodiklius"]
[null,null,"Pareiškėjo išlaidos",null,"Projekto partnerio Nr. 1 išlaidos",null,"Projekto partnerio Nr. 2 išlaidos",null,"Projekto partnerio Nr. 3 išlaidos"]
["Fizinio rodiklio Nr.","Organizacinių ir/ar procesų inovacijų veiklų fizinio rodiklio pavadinimas","Tinkamų finansuoti išlaidų suma be PVM, Eur","Finansavimo suma, Eur","Tinkamų finansuoti išlaidų suma be PVM, Eur","Finansavimo suma, Eur","Tinkamų finansuoti išlaidų suma be PVM, Eur","Finansavimo suma, Eur","Tinkamų finansuoti išlaidų suma be PVM, Eur","Finansavimo suma, Eur"]
[]
[]
[]
[]
[]
[]
[]
[]
[]
[]
[]
[]
[]
[]
[]
[]
[]
[]
[]
[]
[]
[]
[]
[]
[]
["Iš viso:",null,{"$f":"SUM(C22:C46)","v":0},{"$f":"SUM(D22:D46)","v":0},0,0,0,0,0,0]
["Vidutinis finansavimo intensyvumo vidurkis:",null,null,{"$f":"IFERROR(D47/C47,\"0,00%\")","v":"0,00%"},null,{"$f":"IFERROR(F47/E47,\"0,00%\")","v":"0,00%"},null,{"$f":"IFERROR(H47/G47,\"0,00%\")","v":"0,00%"},null,{"$f":"IFERROR(J47/I47,\"0,00%\")","v":"0,00%"}]