{"text_format":"1","workbook":"xlsx","n_sheets":29,"sheets":["DATA","Instrukcija","Suvestine","1","2","3","4","5","6","7","16","17","18","19","20","21","22","23","24","25","8","9","10","11","12","13","14","15","Netiesioginės išlaidos"],"not_rendered":{"charts":0,"images":1,"macros":1,"external_links":0,"defined_names":26,"comments":1,"pivot_tables":0},"unopened":[],"bounds":{"document_bytes":16777216,"sheet_cells":100000,"rows_first":2000,"rows_last":500,"rows_between":2000,"halvings":0,"cell_chars":16384,"cell_head_chars":4096},"cells_cut":0,"cells_raw":0,"read":"whole","date_system":"1900"}

{"sheet":"DATA","index":0,"n_rows":22,"n_cols":15,"rows_kept":22,"cut":false,"hidden":true,"merged":[]}
[null,"Vykdytojo tipas","Įranga","Sertifikavimas","Netiesioginės",null,null,"Vykdytojo tipas","TIS","FS",null,null,null,"Vykdytojo tipas","Juridinis asmuo"]
[null,"Pareiškėjas",{"$f":"IF(ISERROR(AVERAGEIFS($D$8:$D$15,$C$8:$C$15,B2,$B$8:$B$15,\"MTEP įranga\")),0,(AVERAGEIFS($D$8:$D$15,$C$8:$C$15,B2,$B$8:$B$15,\"MTEP įranga\")))","v":0},{"$f":"IF(ISERROR(AVERAGEIFS($D$8:$D$15,$C$8:$C$15,B2,$B$8:$B$15,\"MTEP ir sertifikavimas\")),0,(AVERAGEIFS($D$8:$D$15,$C$8:$C$15,B2,$B$8:$B$15,\"MTEP ir sertifikavimas\")))","v":0},{"$f":"MAX(C2:D2)","v":0},null,null,"Pareiškėjas",{"$f":"SUMIF($H$8:$H$15,H2,$I$8:$I$15)","v":0},{"$f":"SUMIF($H$8:$H$15,H2,$J$8:$J$15)","v":0},null,null,null,"Pareiškėjas",{"$f":"VLOOKUP(N2,$N$8:$O$22,2,FALSE)","v":{"$error":"#N/A"}}]
[null,"Partneris Nr. 1",{"$f":"IF(ISERROR(AVERAGEIFS($D$8:$D$15,$C$8:$C$15,B3,$B$8:$B$15,\"MTEP įranga\")),0,(AVERAGEIFS($D$8:$D$15,$C$8:$C$15,B3,$B$8:$B$15,\"MTEP įranga\")))","v":0},{"$f":"IF(ISERROR(AVERAGEIFS($D$8:$D$22,$C$8:$C$22,B3,$B$8:$B$22,\"MTEP ir sertifikavimas\")),0,AVERAGEIFS($D$8:$D$22,$C$8:$C$22,B3,$B$8:$B$22,\"MTEP ir sertifikavimas\"))","v":0},{"$f":"MAX(C3:D3)","v":0},null,null,"Partneris Nr. 1",{"$f":"SUMIF($H$8:$H$15,H3,$I$8:$I$15)","v":0},{"$f":"SUMIF($H$8:$H$15,H3,$J$8:$J$15)","v":0},null,null,null,"Partneris Nr. 1",{"$f":"VLOOKUP(N3,$N$8:$O$22,2,FALSE)","v":{"$error":"#N/A"}}]
[null,"Partneris Nr. 2",{"$f":"IF(ISERROR(AVERAGEIFS($D$8:$D$15,$C$8:$C$15,B4,$B$8:$B$15,\"MTEP įranga\")),0,(AVERAGEIFS($D$8:$D$15,$C$8:$C$15,B4,$B$8:$B$15,\"MTEP įranga\")))","v":0},{"$f":"IF(ISERROR(AVERAGEIFS($D$8:$D$22,$C$8:$C$22,B4,$B$8:$B$22,\"MTEP ir sertifikavimas\")),0,AVERAGEIFS($D$8:$D$22,$C$8:$C$22,B4,$B$8:$B$22,\"MTEP ir sertifikavimas\"))","v":0},0,null,null,"Partneris Nr. 2",{"$f":"SUMIF($H$8:$H$15,H4,$I$8:$I$15)","v":0},{"$f":"SUMIF($H$8:$H$15,H4,$J$8:$J$15)","v":0},null,null,null,"Partneris Nr. 2",{"$f":"VLOOKUP(N4,$N$8:$O$22,2,FALSE)","v":{"$error":"#N/A"}}]
[null,"Partneris Nr. 3",{"$f":"IF(ISERROR(AVERAGEIFS($D$8:$D$15,$C$8:$C$15,B5,$B$8:$B$15,\"MTEP įranga\")),0,(AVERAGEIFS($D$8:$D$15,$C$8:$C$15,B5,$B$8:$B$15,\"MTEP įranga\")))","v":0},{"$f":"IF(ISERROR(AVERAGEIFS($D$8:$D$22,$C$8:$C$22,B5,$B$8:$B$22,\"MTEP ir sertifikavimas\")),0,AVERAGEIFS($D$8:$D$22,$C$8:$C$22,B5,$B$8:$B$22,\"MTEP ir sertifikavimas\"))","v":0},0,null,null,"Partneris Nr. 3",{"$f":"SUMIF($H$8:$H$15,H5,$I$8:$I$15)","v":0},{"$f":"SUMIF($H$8:$H$15,H5,$J$8:$J$15)","v":0},null,null,null,"Partneris Nr. 3",{"$f":"VLOOKUP(N5,$N$8:$O$22,2,FALSE)","v":{"$error":"#N/A"}}]
[]
["Veiklos Nr.","Veiklos tipas","Vykdytojo tipas","Intensyvumas",null,null,"Veiklos Nr.","Vykdytojo tipas","TIS","FS",null,null,"Veiklos Nr.","Vykdytojo tipas","Juridinis asmuo"]
[1,{"$f":"IF('1'!$D$1=\"\",\"\",'1'!$D$1)","v":""},{"$f":"IF('1'!$D$6=\"\",\"\",'1'!$D$6)","v":""},{"$f":"IF('1'!$D$7=\"\",\"\",'1'!$D$7)","v":""},null,null,1,{"$f":"IF('1'!$D$6=\"\",\"\",'1'!$D$6)","v":""},{"$f":"'1'!$G$319","v":0},{"$f":"'1'!$H$319","v":0},null,null,1,{"$f":"IF('1'!$D$6=\"\",\"\",'1'!$D$6)","v":""},{"$f":"IF('1'!$D$5=\"\",\"\",'1'!$D$5)","v":""}]
[2,{"$f":"IF('2'!$D$1=\"\",\"\",'2'!$D$1)","v":""},{"$f":"IF('2'!$D$6=\"\",\"\",'2'!$D$6)","v":""},{"$f":"IF('2'!$D$7=\"\",\"\",'2'!$D$7)","v":""},null,null,2,{"$f":"IF('2'!$D$6=\"\",\"\",'2'!$D$6)","v":""},{"$f":"'2'!$G$319","v":0},{"$f":"'2'!$H$319","v":0},null,null,2,{"$f":"IF('2'!$D$6=\"\",\"\",'2'!$D$6)","v":""},{"$f":"IF('2'!$D$5=\"\",\"\",'2'!$D$5)","v":""}]
[3,{"$f":"IF('3'!$D$1=\"\",\"\",'3'!$D$1)","v":""},{"$f":"IF('3'!$D$6=\"\",\"\",'3'!$D$6)","v":""},{"$f":"IF('3'!$D$7=\"\",\"\",'3'!$D$7)","v":""},null,null,3,{"$f":"IF('3'!$D$6=\"\",\"\",'3'!$D$6)","v":""},{"$f":"'3'!$G$319","v":0},{"$f":"'3'!$H$319","v":0},null,null,3,{"$f":"IF('3'!$D$6=\"\",\"\",'3'!$D$6)","v":""},{"$f":"IF('3'!$D$5=\"\",\"\",'3'!$D$5)","v":""}]
[4,{"$f":"IF('4'!$D$1=\"\",\"\",'4'!$D$1)","v":""},{"$f":"IF('4'!$D$6=\"\",\"\",'4'!$D$6)","v":""},{"$f":"IF('4'!$D$7=\"\",\"\",'4'!$D$7)","v":""},null,null,4,{"$f":"IF('4'!$D$6=\"\",\"\",'4'!$D$6)","v":""},{"$f":"'4'!$G$319","v":0},{"$f":"'4'!$H$319","v":0},null,null,4,{"$f":"IF('4'!$D$6=\"\",\"\",'4'!$D$6)","v":""},{"$f":"IF('4'!$D$5=\"\",\"\",'4'!$D$5)","v":""}]
[5,{"$f":"IF('5'!$D$1=\"\",\"\",'5'!$D$1)","v":""},{"$f":"IF('5'!$D$6=\"\",\"\",'5'!$D$6)","v":""},{"$f":"IF('5'!$D$7=\"\",\"\",'5'!$D$7)","v":""},null,null,5,{"$f":"IF('5'!$D$6=\"\",\"\",'5'!$D$6)","v":""},{"$f":"'5'!$G$319","v":0},{"$f":"'5'!$H$319","v":0},null,null,5,{"$f":"IF('5'!$D$6=\"\",\"\",'5'!$D$6)","v":""},{"$f":"IF('5'!$D$5=\"\",\"\",'5'!$D$5)","v":""}]
[6,{"$f":"IF('6'!$D$1=\"\",\"\",'6'!$D$1)","v":""},{"$f":"IF('6'!$D$6=\"\",\"\",'6'!$D$6)","v":""},{"$f":"IF('6'!$D$7=\"\",\"\",'6'!$D$7)","v":""},null,null,6,{"$f":"IF('6'!$D$6=\"\",\"\",'6'!$D$6)","v":""},{"$f":"'6'!$G$319","v":0},{"$f":"'6'!$H$319","v":0},null,null,6,{"$f":"IF('6'!$D$6=\"\",\"\",'6'!$D$6)","v":""},{"$f":"IF('6'!$D$5=\"\",\"\",'6'!$D$5)","v":""}]
[7,{"$f":"IF('7'!$D$1=\"\",\"\",'7'!$D$1)","v":""},{"$f":"IF('7'!$D$6=\"\",\"\",'7'!$D$6)","v":""},{"$f":"IF('7'!$D$7=\"\",\"\",'7'!$D$7)","v":""},null,null,7,{"$f":"IF('7'!$D$6=\"\",\"\",'7'!$D$6)","v":""},{"$f":"'7'!$G$319","v":0},{"$f":"'7'!$H$319","v":0},null,null,7,{"$f":"IF('7'!$D$6=\"\",\"\",'7'!$D$6)","v":""},{"$f":"IF('7'!$D$5=\"\",\"\",'7'!$D$5)","v":""}]
[8,{"$f":"IF('8'!$D$1=\"\",\"\",'8'!$D$1)","v":""},{"$f":"IF('8'!$D$6=\"\",\"\",'8'!$D$6)","v":""},{"$f":"IF('8'!$D$7=\"\",\"\",'8'!$D$7)","v":""},null,null,8,{"$f":"IF('8'!$D$6=\"\",\"\",'8'!$D$6)","v":""},{"$f":"'8'!$G$319","v":0},{"$f":"'8'!$H$319","v":0},null,null,8,{"$f":"IF('8'!$D$6=\"\",\"\",'8'!$D$6)","v":""},{"$f":"IF('8'!$D$5=\"\",\"\",'8'!$D$5)","v":""}]
[9,{"$f":"IF('9'!$D$1=\"\",\"\",'9'!$D$1)","v":""},{"$f":"IF('9'!$D$6=\"\",\"\",'9'!$D$6)","v":""},{"$f":"IF(C2>0,(C2+D2)/2),C2+D2","v":{"$error":"#VALUE!"}},null,null,9,{"$f":"IF('9'!$D$6=\"\",\"\",'9'!$D$6)","v":""},{"$f":"'9'!$G$254","v":0},{"$f":"'9'!$H$254","v":0},null,null,9,{"$f":"IF('9'!$D$6=\"\",\"\",'9'!$D$6)","v":""},{"$f":"IF('9'!$D$5=\"\",\"\",'9'!$D$5)","v":""}]
[10,{"$f":"IF('10'!$D$1=\"\",\"\",'10'!$D$1)","v":""},{"$f":"IF('10'!$D$6=\"\",\"\",'10'!$D$6)","v":""},{"$f":"IF('10'!$D$7=\"\",\"\",'10'!$D$7)","v":""},null,null,10,{"$f":"IF('10'!$D$6=\"\",\"\",'10'!$D$6)","v":""},{"$f":"'10'!$G$254","v":0},{"$f":"'10'!$H$254","v":0},null,null,10,{"$f":"IF('10'!$D$6=\"\",\"\",'10'!$D$6)","v":""},{"$f":"IF('10'!$D$5=\"\",\"\",'10'!$D$5)","v":""}]
[11,{"$f":"IF('11'!$D$1=\"\",\"\",'11'!$D$1)","v":""},{"$f":"IF('11'!$D$6=\"\",\"\",'11'!$D$6)","v":""},{"$f":"IF('11'!$D$7=\"\",\"\",'11'!$D$7)","v":""},null,null,11,{"$f":"IF('11'!$D$6=\"\",\"\",'11'!$D$6)","v":""},{"$f":"'11'!$G$254","v":0},{"$f":"'11'!$H$254","v":0},null,null,11,{"$f":"IF('11'!$D$6=\"\",\"\",'11'!$D$6)","v":""},{"$f":"IF('11'!$D$5=\"\",\"\",'11'!$D$5)","v":""}]
[12,{"$f":"IF('12'!$D$1=\"\",\"\",'12'!$D$1)","v":""},{"$f":"IF('12'!$D$6=\"\",\"\",'12'!$D$6)","v":""},{"$f":"IF('12'!$D$7=\"\",\"\",'12'!$D$7)","v":""},null,null,12,{"$f":"IF('12'!$D$6=\"\",\"\",'12'!$D$6)","v":""},{"$f":"'12'!$G$254","v":0},{"$f":"'12'!$H$254","v":0},null,null,12,{"$f":"IF('12'!$D$6=\"\",\"\",'12'!$D$6)","v":""},{"$f":"IF('12'!$D$5=\"\",\"\",'12'!$D$5)","v":""}]
[13,{"$f":"IF('13'!$D$1=\"\",\"\",'13'!$D$1)","v":""},{"$f":"IF('13'!$D$6=\"\",\"\",'13'!$D$6)","v":""},{"$f":"IF('13'!$D$7=\"\",\"\",'13'!$D$7)","v":""},null,null,13,{"$f":"IF('13'!$D$6=\"\",\"\",'13'!$D$6)","v":""},{"$f":"'13'!$G$254","v":0},{"$f":"'13'!$H$254","v":0},null,null,13,{"$f":"IF('13'!$D$6=\"\",\"\",'13'!$D$6)","v":""},{"$f":"IF('13'!$D$5=\"\",\"\",'13'!$D$5)","v":""}]
[14,{"$f":"IF('14'!$D$1=\"\",\"\",'14'!$D$1)","v":""},{"$f":"IF('14'!$D$6=\"\",\"\",'14'!$D$6)","v":""},{"$f":"IF('14'!$D$7=\"\",\"\",'14'!$D$7)","v":""},null,null,14,{"$f":"IF('14'!$D$6=\"\",\"\",'14'!$D$6)","v":""},{"$f":"'14'!$G$254","v":0},{"$f":"'14'!$H$254","v":0},null,null,14,{"$f":"IF('14'!$D$6=\"\",\"\",'14'!$D$6)","v":""},{"$f":"IF('14'!$D$5=\"\",\"\",'14'!$D$5)","v":""}]
[15,{"$f":"IF('15'!$D$1=\"\",\"\",'15'!$D$1)","v":""},{"$f":"IF('15'!$D$6=\"\",\"\",'15'!$D$6)","v":""},{"$f":"IF('15'!$D$7=\"\",\"\",'15'!$D$7)","v":""},null,null,15,{"$f":"IF('15'!$D$6=\"\",\"\",'15'!$D$6)","v":""},{"$f":"'15'!$G$254","v":0},{"$f":"'15'!$H$254","v":0},null,null,15,{"$f":"IF('15'!$D$6=\"\",\"\",'15'!$D$6)","v":""},{"$f":"IF('15'!$D$5=\"\",\"\",'15'!$D$5)","v":""}]

{"sheet":"Instrukcija","index":1,"n_rows":11,"n_cols":4,"rows_kept":11,"cut":false,"hidden":false,"merged":[[0,3,0,5],[5,1,5,5],[8,1,8,5],[10,1,10,5],[2,0,2,5],[4,1,4,5],[6,1,6,5],[7,1,7,5],[9,1,9,5]]}
[null,null,null,"Projekto biudžeto lentelė"]
[]
["Pildymo instrukcija"]
[]
[1,"Ši projekto biudžeto lentelė pildoma projekto veikloms, nurodytoms 2014–2020 metų Europos Sąjungos fondų investicijų veiksmų programos 1 prioriteto „Mokslinių tyrimų, eksperimentinės plėtros ir inovacijų skatinimas“ priemonės Nr. 01.2.1-LVPA-T-858 \"COVID-19 MTEP tyrimai\" projektų finansavimo sąlygų aprašo (toliau – Aprašas) 10 punkte."]
[2,"Pildykite tik žalia spalva pažymėtus laukus."]
[3,"Nereikalingų eilučių, stulpelių netrinkite, esant poreikiui eilutes, stulpelius galite tik paslėpti (hide)."]
[4,"Kiekvienam pirmo lygio (kurio paraiškoje nurodytas numeris susideda iš trijų skaitmenų) fiziniam rodikliui, nurodytam paraiškos 6 dalyje „Projekto loginis pagrindimas“, pildykite atskirą lapą. Fizinio rodiklio pavadinimas ir numeris turi sutapti su paraiškoje nurodytais fizinių rodiklių pavadinimais ir numeriais. Jei projektas vykdomas kartu su partneriu(-iais), veikloms, kurios vykdomos kartu su partneriu(-iais) rekomenduojama atskirai numatyti pareiškėjui ir partneriui(-iams) tenkančius fizinius rodiklius.\nAtkreipiame dėmesį, kad vienam fiziniam rodikliui gali būti priskirta tik viena biudžeto išlaidų kategorija."]
[5,"Jei projektas vykdomas kartu su partneriu(-iais), rekomenduojama pareiškėjui ir partneriui(-iams) numatyti atskirus  pirmo lygio fizinius rodiklius."]
[6,"Kai užpildysite visas fizinių rodiklių išlaidas, kortelėje „Suvestinė“ paspauskite viršuje kairėje pusėje esantį mygtuką „Tvarkyti lentelę“, kad užsipildytų suminė informacija šioje kortelėje."]
[7,"Kartu su paraiška turi būti pateikta ir ši projekto išlaidų lentelė. LVPA teikiamoje elektroninėje versijoje turi likti visos skaičiavimams naudotos formulės."]

{"sheet":"Suvestine","index":2,"n_rows":84,"n_cols":6,"rows_kept":84,"cut":false,"hidden":false,"merged":[[83,0,83,1],[0,1,0,5],[56,0,56,1],[58,0,58,5],[78,0,78,1],[82,0,82,1]]}
[null,"Veiklų, vykdomų pagal Aprašo 10 punktą, išlaidų suvestinė lentelė pagal fizinius rodiklius (lentelė užsipildo automatiškai)"]
[]
["Fizinio rodiklio Nr.","Fizinio rodiklio pavadinimas","Fizinio rodiklio matavimo vnt.","Fizinio rodiklio vnt. skaičius","Tinkamų finansuoti išlaidų suma, Eur","Finansavimo suma, Eur"]
["4","Įranga, įrenginiai ir kt. turtas",null,null,{"$f":"SUM(E5:E32)","v":0},{"$f":"SUM(F5:F32)","v":0}]
[{"$f":"'1'!$D$2","v":0},{"$f":"'1'!$D$3","v":0},{"$f":"'1'!$D$4","v":0},{"$f":"'1'!$H$4","v":0},{"$f":"'1'!$G$10","v":0},{"$f":"'1'!$H$10","v":0}]
[{"$f":"'2'!$D$2","v":0},{"$f":"'2'!$D$3","v":0},{"$f":"'2'!$D$4","v":0},{"$f":"'2'!$H$4","v":0},{"$f":"'2'!$G$10","v":0},{"$f":"'2'!$H$10","v":0}]
[{"$f":"'3'!$D$2","v":0},{"$f":"'3'!$D$3","v":0},{"$f":"'3'!$D$4","v":0},{"$f":"'3'!$H$4","v":0},{"$f":"'3'!$G$10","v":0},{"$f":"'3'!$H$10","v":0}]
[{"$f":"'4'!$D$2","v":0},{"$f":"'4'!$D$3","v":0},{"$f":"'4'!$D$4","v":0},{"$f":"'4'!$H$4","v":0},{"$f":"'4'!$G$10","v":0},{"$f":"'4'!$H$10","v":0}]
[{"$f":"'5'!$D$2","v":0},{"$f":"'5'!$D$3","v":0},{"$f":"'5'!$D$4","v":0},{"$f":"'5'!$H$4","v":0},{"$f":"'5'!$G$10","v":0},{"$f":"'5'!$H$10","v":0}]
[{"$f":"'6'!$D$2","v":0},{"$f":"'6'!$D$3","v":0},{"$f":"'6'!$D$4","v":0},{"$f":"'6'!$H$4","v":0},{"$f":"'6'!$G$10","v":0},{"$f":"'6'!$H$10","v":0}]
[{"$f":"'7'!$D$2","v":0},{"$f":"'7'!$D$3","v":0},{"$f":"'7'!$D$4","v":0},{"$f":"'7'!$H$4","v":0},{"$f":"'7'!$G$10","v":0},{"$f":"'7'!$H$10","v":0}]
[{"$f":"'8'!$D$2","v":0},{"$f":"'8'!$D$3","v":0},{"$f":"'7'!$D$4","v":0},{"$f":"'8'!$H$4","v":0},{"$f":"'8'!$G$10","v":0},{"$f":"'8'!$H$10","v":0}]
[{"$f":"'9'!$D$2","v":0},{"$f":"'9'!$D$3","v":0},{"$f":"'9'!$D$4","v":0},{"$f":"'9'!$H$4","v":0},{"$f":"'9'!$G$10","v":0},{"$f":"'9'!$H$10","v":0}]
[{"$f":"'10'!$D$2","v":0},{"$f":"'10'!$D$3","v":0},{"$f":"'10'!$D$4","v":0},{"$f":"'10'!$H$4","v":0},{"$f":"'10'!$G$10","v":0},{"$f":"'10'!$H$10","v":0}]
[{"$f":"'11'!$D$2","v":0},{"$f":"'11'!$D$3","v":0},{"$f":"'11'!$D$4","v":0},{"$f":"'11'!$H$4","v":0},{"$f":"'11'!$G$10","v":0},{"$f":"'11'!$H$10","v":0}]
[{"$f":"'12'!$D$2","v":0},{"$f":"'12'!$D$3","v":0},{"$f":"'12'!$D$4","v":0},{"$f":"'12'!$H$4","v":0},{"$f":"'12'!$G$10","v":0},{"$f":"'12'!$H$10","v":0}]
[{"$f":"'13'!$D$2","v":0},{"$f":"'13'!$D$3","v":0},{"$f":"'13'!$D$4","v":0},{"$f":"'13'!$H$4","v":0},{"$f":"'13'!$G$10","v":0},{"$f":"'13'!$H$10","v":0}]
[{"$f":"'14'!$D$2","v":0},{"$f":"'14'!$D$3","v":0},{"$f":"'14'!$D$4","v":0},{"$f":"'14'!$H$4","v":0},{"$f":"'14'!$G$10","v":0},{"$f":"'14'!$H$10","v":0}]
[{"$f":"'15'!$D$2","v":0},{"$f":"'15'!$D$3","v":0},{"$f":"'15'!$D$4","v":0},{"$f":"'15'!$H$4","v":0},{"$f":"'15'!$G$10","v":0},{"$f":"'15'!$H$10","v":0}]
[]
[]
[]
[]
[]
[]
[]
[]
[]
[]
[]
[]
[]
["5","Projekto vykdymas",null,null,{"$f":"SUM(E34:E56)","v":0},{"$f":"SUM(F34:F56)","v":0}]
[{"$f":"'1'!$D$2","v":0},{"$f":"'1'!$D$3","v":0},{"$f":"'1'!$D$4","v":0},{"$f":"'1'!$H$4","v":0},{"$f":"'1'!$G$44","v":0},{"$f":"'1'!$H$44","v":0}]
[{"$f":"'2'!$D$2","v":0},{"$f":"'2'!$D$3","v":0},{"$f":"'2'!$D$4","v":0},{"$f":"'2'!$H$4","v":0},{"$f":"'2'!$G$44","v":0},{"$f":"'2'!$H$44","v":0}]
[{"$f":"'3'!$D$2","v":0},{"$f":"'3'!$D$3","v":0},{"$f":"'3'!$D$4","v":0},{"$f":"'3'!$H$4","v":0},{"$f":"'3'!$G$44","v":0},{"$f":"'3'!$H$44","v":0}]
[{"$f":"'4'!$D$2","v":0},{"$f":"'4'!$D$3","v":0},{"$f":"'4'!$D$4","v":0},{"$f":"'4'!$H$4","v":0},{"$f":"'4'!$G$44","v":0},{"$f":"'4'!$H$44","v":0}]
[{"$f":"'5'!$D$2","v":0},{"$f":"'5'!$D$3","v":0},{"$f":"'5'!$D$4","v":0},{"$f":"'5'!$H$4","v":0},{"$f":"'5'!$G$44","v":0},{"$f":"'5'!$H$44","v":0}]
[{"$f":"'6'!$D$2","v":0},{"$f":"'6'!$D$3","v":0},{"$f":"'6'!$D$4","v":0},{"$f":"'6'!$H$4","v":0},{"$f":"'6'!$G$44","v":0},{"$f":"'6'!$H$44","v":0}]
[{"$f":"'7'!$D$2","v":0},{"$f":"'7'!$D$3","v":0},{"$f":"'7'!$D$4","v":0},{"$f":"'7'!$H$4","v":0},{"$f":"'7'!$G$44","v":0},{"$f":"'7'!$H$44","v":0}]
[{"$f":"'8'!$D$2","v":0},{"$f":"'8'!$D$3","v":0},{"$f":"'8'!$D$4","v":0},{"$f":"'8'!$H$4","v":0},{"$f":"'8'!$G$44","v":0},{"$f":"'8'!$H$44","v":0}]
[{"$f":"'9'!$D$2","v":0},{"$f":"'9'!$D$3","v":0},{"$f":"'9'!$D$4","v":0},{"$f":"'9'!$H$4","v":0},{"$f":"'9'!$G$21","v":0},{"$f":"'9'!$H$21","v":0}]
[{"$f":"'10'!$D$2","v":0},{"$f":"'10'!$D$3","v":0},{"$f":"'10'!$D$4","v":0},{"$f":"'10'!$H$4","v":0},{"$f":"'10'!$G$21","v":0},{"$f":"'10'!$H$21","v":0}]
[{"$f":"'11'!$D$2","v":0},{"$f":"'11'!$D$3","v":0},{"$f":"'11'!$D$4","v":0},{"$f":"'11'!$H$4","v":0},{"$f":"'11'!$G$21","v":0},{"$f":"'11'!$H$21","v":0}]
[{"$f":"'12'!$D$2","v":0},{"$f":"'12'!$D$3","v":0},{"$f":"'12'!$D$4","v":0},{"$f":"'12'!$H$4","v":0},{"$f":"'12'!$G$21","v":0},{"$f":"'12'!$H$21","v":0}]
[{"$f":"'13'!$D$2","v":0},{"$f":"'13'!$D$3","v":0},{"$f":"'13'!$D$4","v":0},{"$f":"'13'!$H$4","v":0},{"$f":"'13'!$G$21","v":0},{"$f":"'13'!$H$21","v":0}]
[{"$f":"'14'!$D$2","v":0},{"$f":"'14'!$D$3","v":0},{"$f":"'14'!$D$4","v":0},{"$f":"'14'!$H$4","v":0},{"$f":"'14'!$G$21","v":0},{"$f":"'14'!$H$21","v":0}]
[{"$f":"'15'!$D$2","v":0},{"$f":"'15'!$D$3","v":0},{"$f":"'15'!$D$4","v":0},{"$f":"'15'!$H$4","v":0},{"$f":"'15'!$G$21","v":0},{"$f":"'15'!$H$21","v":0}]
[]
[]
[]
[]
[]
[]
[]
[]
["Iš viso:",null,null,null,{"$f":"E4+E33","v":0},{"$f":"F4+F33","v":0}]
[]
["Veiklų, vykdomų pagal Aprašo 10 punktą, išlaidų suvestinė lentelė pagal išlaidų kategorijas (lentelė užsipildo automatiškai)"]
[]
["Fizinio rodiklio Nr.","Fizinio rodiklio pavadinimas","Tinkamų finansuoti išlaidų suma, Eur","Finansavimo suma, Eur"]
[4,"Įranga, įrenginiai ir kt. turtas",{"$f":"'1'!G10+'2'!G10+'3'!G10+'4'!G10+'5'!G10+'6'!G10+'7'!G10+'8'!G10","v":0},{"$f":"'1'!H10+'2'!H10+'3'!H10+'4'!H10+'5'!H10+'6'!H10+'7'!H10+'8'!H10","v":0}]
["4.1","Skaitmeninė ir kompiuterinė įranga",{"$f":"'1'!G11+'2'!G11+'3'!G11+'4'!G11+'5'!G11+'6'!G11+'7'!G11+'8'!G11","v":0},{"$f":"'1'!H11+'2'!H11+'3'!H11+'4'!H11+'5'!H11+'6'!H11+'7'!H11+'8'!H11","v":0}]
["4.2","Diagnostikos priemonės, duomenų rinkimo ir tvarkymo priemonės",{"$f":"'1'!G22+'2'!G22+'3'!G22+'4'!G22+'5'!G22+'6'!G22+'7'!G22+'8'!G22","v":0},{"$f":"'1'!H22+'2'!H22+'3'!H22+'4'!H22+'5'!H22+'6'!H22+'7'!H22+'8'!H22","v":0}]
["4.3","Patentų ir kito nematerialiojo turto įsigijimui, patvirtinimui ir apsaugai priskiriamos išlaidos",{"$f":"'1'!G33+'2'!G33+'3'!G33+'4'!G33+'5'!G33+'6'!G33+'7'!G33+'8'!G33","v":0},{"$f":"'1'!H33+'2'!H33+'3'!H33+'4'!H33+'5'!H33+'6'!H33+'7'!H33+'8'!H33","v":0}]
["5","Projekto vykdymas",{"$f":"'1'!G44+'2'!G44+'3'!G44+'4'!G44+'5'!G44+'6'!G44+'7'!G44+'8'!G44","v":0},{"$f":"'1'!H44+'2'!H44+'3'!H44+'4'!H44+'5'!H44+'6'!H44+'7'!H44+'8'!H44","v":0}]
["5.1","MTEP paslaugos",{"$f":"'1'!G45+'2'!G45+'3'!G45+'4'!G45+'5'!G45+'6'!G45+'7'!G45+'8'!G45","v":0},{"$f":"'1'!H45+'2'!H45+'3'!H45+'4'!H45+'5'!H45+'6'!H45+'7'!H45+'8'!H45","v":0}]
["5.2","Konsultavimo ir lygiavertės paslaugos, naudojamos vien tik projekto MTEP veiklai",{"$f":"'1'!G56+'2'!G56+'3'!G56+'4'!G56+'5'!G56+'6'!G56+'7'!G56+'8'!G56","v":0},{"$f":"'1'!H56+'2'!H56+'3'!H56+'4'!H56+'5'!H56+'6'!H56+'7'!H56+'8'!H56","v":0}]
["5.3","Ikiklinikinių ir klinikinių tyrimų (I–IV tyrimų etapais) paslaugos ",{"$f":"'1'!G67+'2'!G67+'3'!G67+'4'!G67+'5'!G67+'6'!G67+'7'!G67+'8'!G67","v":0},{"$f":"'1'!H67+'2'!H67+'3'!H67+'4'!H67+'5'!H67+'6'!H67+'7'!H67+'8'!H67","v":0}]
["5.4","Naujiems produktams ir technologijoms sertifikuoti būtinos išlaidos",{"$f":"'1'!G78+'2'!G78+'3'!G78+'4'!G78+'5'!G78+'6'!G78+'7'!G78+'8'!G78","v":0},{"$f":"'1'!H78+'2'!H78+'3'!H78+'4'!H78+'5'!H78+'6'!H78+'7'!H78+'8'!H78","v":0}]
["5.5","Paslaugų išlaidos, patirtos siekiant gauti atitikties vertinimus ir (arba) leidimus",{"$f":"'1'!G89+'2'!G89+'3'!G89+'4'!G89+'5'!G89+'6'!G89+'7'!G89+'8'!G89","v":0},{"$f":"'1'!H89+'2'!H89+'3'!H89+'4'!H89+'5'!H89+'6'!H89+'7'!H89+'8'!H89","v":0}]
["5.6","Medžiagos, mažavertis inventorius, atsargos ir pan. produktai, priskirtini trumpalaikiam turtui ir tiesiogiai susiję su MTEP veikla",{"$f":"'1'!G100+'2'!G100+'3'!G100+'4'!G100+'5'!G100+'6'!G100+'7'!G100+'8'!G100","v":0},{"$f":"'1'!H100+'2'!H100+'3'!H100+'4'!H100+'5'!H100+'6'!H100+'7'!H100+'8'!H100","v":0}]
["5.7","Projekto MTEP veikloms naudojamo ilgalaikio materialaus turto (įrangos, prietaisų, įrankių, įrenginių, mašinų ir įrengimų, pastatų ir (ar) patalpų), nusidėvėjimo sąnaudos, jeigu šiam turtui įsigyti nebuvo naudojamos viešosios (įskaitant ir kitų valstybių) lėšos",{"$f":"'1'!G128+'2'!G128+'3'!G128+'4'!G128+'5'!G128+'6'!G128+'7'!G128+'8'!G128","v":0},{"$f":"'1'!H128+'2'!H128+'3'!H128+'4'!H128+'5'!H128+'6'!H128+'7'!H128+'8'!H128","v":0}]
["5.8","Projektą vykdančio personalo darbo užmokestis ir išlaidos su darbo santykiais susijusiems darbdavio įsipareigojimams",{"$f":"'1'!G158+'2'!G158+'3'!G158+'4'!G158+'5'!G158+'6'!G158+'7'!G158+'8'!G158","v":0},{"$f":"'1'!H158+'2'!H158+'3'!H158+'4'!H158+'5'!H158+'6'!H158+'7'!H158+'8'!H158","v":0}]
["5.9","Projektą vykdančio personalo komandiruočių išlaidos",{"$f":"'1'!G224+'2'!G224+'3'!G224+'4'!G224+'5'!G224+'6'!G224+'7'!G224+'8'!G224","v":0},{"$f":"'1'!H224+'2'!H224+'3'!H224+'4'!H224+'5'!H224+'6'!H224+'7'!H224+'8'!H224","v":0}]
["5.10","Įrangos nuomos išlaidos, veiklai priskirtos pro rata principu",{"$f":"'1'!G295+'2'!G295+'3'!G295+'4'!G295+'5'!G295+'6'!G295+'7'!G295+'8'!G295","v":0},{"$f":"'1'!H295+'2'!H295+'3'!H295+'4'!H295+'5'!H295+'6'!H295+'7'!H295+'8'!H295","v":0}]
["5.11","Pastatų ar patalpų nuomos išlaidos, veiklai priskirtos pro rata principu",{"$f":"'1'!G313+'2'!G313+'3'!G313+'4'!G313+'5'!G313+'6'!G313+'7'!G313+'8'!G313","v":0},{"$f":"'1'!H313+'2'!H313+'3'!H313+'4'!H313+'5'!H313+'6'!H313+'7'!H313+'8'!H313","v":0}]
["7","Netiesioginės išlaidos ir kt. išlaidos pagal fiksuotąją projekto išlaidų normą",{"$f":"'Netiesioginės išlaidos'!H8","v":0},{"$f":"'Netiesioginės išlaidos'!H9","v":0}]
["Iš viso:",null,{"$f":"C62+C66+C78","v":0},{"$f":"D62+D66+D78","v":0}]
[]
[]
[]
["4, 5.1, 5.2 ir 5.7 biudžeto eilučių suma ir procentinė dalis",null,{"$f":"C62+C67+C68+C73","v":0},{"$f":"IFERROR(C83/C79, \"0%\")","v":"0%"},{"$f":"IF(C83>(C79*0.5),\"DĖMESIO! Patikrinkite, ar biudžeto eilučių Nr. 4, 5.1, 5.2 ir 5.7 suma neviršija 50 proc. Aprašo 10 veiklai skirtų tinkamų finansuoti išlaidų\",\"\")","v":""}]
["5.11 ir 7 biudžeto eilučių suma ir procentinė dalis",null,{"$f":"C77+C78","v":0},{"$f":"IFERROR(C84/C79, \"0%\")","v":"0%"},{"$f":"IF(C84>(C79*0.1),\"DĖMESIO! Patikrinkite, ar biudžeto eilučių Nr. 5.11 ir 7 suma neviršija 10 proc. Aprašo 10 veiklai skirtų tinkamų finansuoti išlaidų\",\"\")","v":""}]

{"sheet":"1","index":3,"n_rows":319,"n_cols":39,"rows_kept":319,"cut":false,"hidden":false,"merged":[[95,1,95,2],[96,1,96,2],[97,1,97,2],[98,1,98,2],[75,1,75,2],[76,1,76,2],[88,1,88,5],[89,1,89,2],[90,1,90,2],[91,1,91,2],[92,1,92,2],[93,1,93,2],[94,1,94,2],[86,1,86,2],[87,1,87,2],[77,1,77,5],[78,1,78,2],[79,1,79,2],[80,1,80,2],[81,1,81,2],[82,1,82,2],[83,1,83,2],[84,1,84,2],[85,1,85,2],[66,1,66,5],[67,1,67,2],[68,1,68,2],[69,1,69,2],[70,1,70,2],[71,1,71,2],[72,1,72,2],[73,1,73,2],[74,1,74,2],[213,0,217,0],[213,1,217,1],[213,3,217,3],[213,4,217,4],[213,5,217,5],[213,6,217,6],[213,7,217,7],[213,8,217,8],[218,0,222,0],[218,1,222,1],[218,3,222,3],[218,4,222,4],[218,5,222,5],[218,6,222,6],[218,7,222,7],[218,8,222,8],[208,0,212,0],[208,1,212,1],[208,3,212,3],[208,4,212,4],[208,5,212,5],[208,6,212,6],[208,7,212,7],[198,0,202,0],[203,0,207,0],[193,0,197,0],[193,4,197,4],[193,5,197,5],[188,0,192,0],[188,1,192,1],[188,3,192,3],[188,4,192,4],[188,5,192,5],[183,0,187,0],[183,1,187,1],[183,3,187,3],[183,4,187,4],[183,5,187,5],[10,1,10,5],[21,1,21,5],[32,1,32,5],[11,1,11,2],[12,1,12,2],[13,1,13,2],[14,1,14,2],[15,1,15,2],[16,1,16,2],[17,1,17,2],[18,1,18,2],[19,1,19,2],[20,1,20,2],[22,1,22,2],[23,1,23,2],[24,1,24,2],[25,1,25,2],[296,1,296,2],[145,1,145,2],[156,1,156,2],[157,1,157,5],[223,1,223,5],[132,1,132,2],[133,1,133,2],[134,1,134,2],[135,1,135,2],[136,1,136,2],[137,1,137,2],[138,1,138,2],[139,1,139,2],[140,1,140,2],[198,1,202,1],[198,3,202,3],[198,4,202,4],[198,5,202,5],[203,1,207,1],[203,3,207,3],[203,4,207,4],[203,5,207,5],[193,1,197,1],[193,3,197,3],[238,8,244,8],[245,8,251,8],[252,8,258,8],[259,8,265,8],[266,8,272,8],[203,6,207,6],[203,7,207,7],[203,8,207,8],[188,6,192,6],[188,7,192,7],[188,8,192,8],[224,8,230,8],[231,8,237,8],[208,8,212,8],[198,6,202,6],[198,7,202,7],[198,8,202,8],[193,6,197,6],[193,7,197,7],[193,8,197,8],[273,8,279,8],[280,8,286,8],[287,8,293,8],[259,0,265,0],[259,1,265,1],[266,0,272,0],[266,1,272,1],[273,0,279,0],[273,1,279,1],[280,0,286,0],[280,1,286,1],[287,0,293,0],[287,1,293,1],[224,0,230,0],[224,1,230,1],[231,0,237,0],[231,1,237,1],[238,0,244,0],[238,1,244,1],[245,0,251,0],[245,1,251,1],[252,0,258,0],[252,1,258,1],[183,6,187,6],[183,7,187,7],[183,8,187,8],[178,0,182,0],[178,1,182,1],[178,3,182,3],[178,4,182,4],[178,5,182,5],[178,6,182,6],[178,7,182,7],[178,8,182,8],[173,0,177,0],[173,1,177,1],[173,3,177,3],[173,4,177,4],[173,5,177,5],[173,6,177,6],[173,7,177,7],[173,8,177,8],[168,0,172,0],[168,1,172,1],[168,3,172,3],[168,4,172,4],[168,5,172,5],[168,6,172,6],[168,7,172,7],[168,8,172,8],[163,0,167,0],[163,1,167,1],[163,3,167,3],[163,4,167,4],[163,5,167,5],[163,6,167,6],[163,7,167,7],[163,8,167,8],[158,1,162,1],[158,3,162,3],[158,4,162,4],[158,5,162,5],[158,0,162,0],[147,1,147,2],[148,1,148,2],[149,1,149,2],[99,1,99,5],[141,1,141,2],[142,1,142,2],[158,6,162,6],[158,7,162,7],[158,8,162,8],[115,1,115,2],[130,1,130,2],[116,1,116,2],[117,1,117,2],[118,1,118,2],[107,1,107,2],[108,1,108,2],[155,1,155,2],[144,1,144,2],[150,1,150,2],[151,1,151,2],[152,1,152,2],[153,1,153,2],[154,1,154,2],[121,1,121,2],[53,1,53,2],[45,1,45,2],[46,1,46,2],[47,1,47,2],[48,1,48,2],[49,1,49,2],[43,1,43,5],[50,1,50,2],[51,1,51,2],[52,1,52,2],[44,1,44,5],[2,0,2,2],[2,3,2,8],[8,1,8,2],[0,3,0,8],[9,1,9,5],[4,0,4,2],[4,3,4,8],[3,3,3,4],[3,5,3,6],[5,3,5,8],[56,1,56,2],[57,1,57,2],[58,1,58,2],[59,1,59,2],[60,1,60,2],[54,1,54,2],[143,1,143,2],[63,1,63,2],[64,1,64,2],[65,1,65,2],[100,1,100,2],[101,1,101,2],[102,1,102,2],[103,1,103,2],[104,1,104,2],[126,1,126,2],[128,1,128,2],[61,1,61,2],[124,1,124,2],[55,1,55,5],[127,1,127,5],[105,1,105,2],[106,1,106,2],[62,1,62,2],[318,0,318,5],[294,1,294,5],[295,1,295,2],[308,1,308,2],[309,1,309,2],[310,1,310,2],[311,1,311,2],[316,1,316,2],[317,1,317,2],[312,1,312,5],[313,1,313,2],[314,1,314,2],[315,1,315,2],[297,1,297,2],[298,1,298,2],[299,1,299,2],[300,1,300,2],[301,1,301,2],[302,1,302,2],[303,1,303,2],[304,1,304,2],[305,1,305,2],[306,1,306,2],[307,1,307,2],[129,1,129,2],[131,1,131,2],[125,1,125,2],[146,1,146,2],[122,1,122,2],[123,1,123,2],[109,1,109,2],[110,1,110,2],[111,1,111,2],[112,1,112,2],[113,1,113,2],[114,1,114,2],[119,1,119,2],[120,1,120,2],[36,1,36,2],[37,1,37,2],[38,1,38,2],[39,1,39,2],[40,1,40,2],[41,1,41,2],[42,1,42,2],[26,1,26,2],[27,1,27,2],[28,1,28,2],[29,1,29,2],[30,1,30,2],[31,1,31,2],[33,1,33,2],[34,1,34,2],[35,1,35,2]]}
[null,null,"Pasirinkite veiklos tipą:"]
[null,null,"Fizinio rodiklio Nr.:"]
["Fizinio rodiklio pavadinimas:"]
[null,null,"Fizinio rodiklio matavimo vnt.:",null,null,"Fizinio rodiklio vnt. skaičius:"]
["Juridinis asmuo (pareiškėjas, partneris), atsakingas už fizinį rodiklį:"]
[null,null,"Vykdytojo tipas:"]
[null,null,"Finansavimo intensyvumas:",null,null,null,"Pasirinkite biudžeto išlaidų kategoriją:","Visos"]
[]
["Eil. Nr.","Išlaidų kategorijos pavadinimas",null,"Matavimo vnt.","Kiekis","Vieneto kaina be PVM, Eur","Tinkamų finansuoti išlaidų suma be PVM, Eur","Finansavimo suma, Eur","Išlaidų pagrindimo dokumentų pavadinimas, data ir Nr.",null,null,null,null,null,null,null,null,"Apmokėta","Likutis","MP001","MP002","MP003","MP004","MP005","MP006","MP007","MP008","MP009","MP010","MP011","MP012","MP013","MP014","MP015","MP016","MP017","MP018","MP019","MP020"]
[4,"ĮRANGA, ĮRENGINIAI IR KT. TURTAS (tinkamos finansuoti išlaidos, susijusios su COVID-19, yra išlaidos, tiesiogiai susijusios su projekto įgyvendinimu, ir paskirstytos proporcingai veiklai (pro rata principu)",null,null,null,null,{"$f":"SUM(G11+G22+G33)","v":0},{"$f":"SUM(H11+H22+H33)","v":0},null,null,null,null,null,null,null,null,null,{"$f":"SUM(T10:AM10)","v":0},{"$f":"H10-R10","v":0}]
["4.1","Skaitmeninė ir kompiuterinė įranga",null,null,null,null,{"$f":"SUM(G12:G21)","v":0},{"$f":"SUM(H12:H21)","v":0},null,null,null,null,null,null,null,null,null,0,0]
["4.1.1","Išlaidų pavadinimas",null,null,null,null,{"$f":"ROUND(E12*F12,2)","v":0},{"$f":"ROUND(G12*$D$7*J12,2)","v":0},null,1,null,null,null,null,null,null,null,{"$f":"SUM(T12:AM12)","v":0},{"$f":"H12-R12","v":0}]
["4.1.2","Išlaidų pavadinimas",null,null,null,null,{"$f":"ROUND(E13*F13,2)","v":0},{"$f":"ROUND(G13*$D$7*J13,2)","v":0},null,1,null,null,null,null,null,null,null,{"$f":"SUM(T13:AM13)","v":0},{"$f":"H13-R13","v":0}]
["4.1.3","Išlaidų pavadinimas",null,null,null,null,{"$f":"ROUND(E14*F14,2)","v":0},{"$f":"ROUND(G14*$D$7*J14,2)","v":0},null,1,null,null,null,null,null,null,null,0,0]
["4.1.4","Išlaidų pavadinimas",null,null,null,null,0,0,null,1,null,null,null,null,null,null,null,0,0]
["4.1.5","Išlaidų pavadinimas",null,null,null,null,0,0,null,1,null,null,null,null,null,null,null,0,0]
["4.1.6","Išlaidų pavadinimas",null,null,null,null,0,0,null,1,null,null,null,null,null,null,null,0,0]
["4.1.7","Išlaidų pavadinimas",null,null,null,null,0,0,null,1,null,null,null,null,null,null,null,0,0]
["4.1.8","Išlaidų pavadinimas",null,null,null,null,0,0,null,1,null,null,null,null,null,null,null,0,0]
["4.1.9","Išlaidų pavadinimas",null,null,null,null,0,0,null,1,null,null,null,null,null,null,null,0,0]
["4.1.10","Išlaidų pavadinimas",null,null,null,null,0,0,null,1,null,null,null,null,null,null,null,0,0]
["4.2","Diagnostikos priemonės, duomenų rinkimo ir tvarkymo priemonės",null,null,null,null,{"$f":"SUM(G23:G32)","v":0},{"$f":"SUM(H23:H32)","v":0},null,null,null,null,null,null,null,null,null,0,0]
["4.2.1","Išlaidų pavadinimas",null,null,null,null,{"$f":"ROUND(E23*F23,2)","v":0},{"$f":"ROUND(G23*$D$7*J23,2)","v":0},null,1,null,null,null,null,null,null,null,{"$f":"SUM(T23:AM23)","v":0},{"$f":"H23-R23","v":0}]
["4.2.2","Išlaidų pavadinimas",null,null,null,null,{"$f":"ROUND(E24*F24,2)","v":0},{"$f":"ROUND(G24*$D$7*J24,2)","v":0},null,1,null,null,null,null,null,null,null,{"$f":"SUM(T24:AM24)","v":0},{"$f":"H24-R24","v":0}]
["4.2.3","Išlaidų pavadinimas",null,null,null,null,{"$f":"ROUND(E25*F25,2)","v":0},0,null,1,null,null,null,null,null,null,null,0,0]
["4.2.4","Išlaidų pavadinimas",null,null,null,null,0,0,null,1,null,null,null,null,null,null,null,0,0]
["4.2.5","Išlaidų pavadinimas",null,null,null,null,0,0,null,1,null,null,null,null,null,null,null,0,0]
["4.2.6","Išlaidų pavadinimas",null,null,null,null,0,0,null,1,null,null,null,null,null,null,null,0,0]
["4.2.7","Išlaidų pavadinimas",null,null,null,null,0,0,null,1,null,null,null,null,null,null,null,0,0]
["4.2.8","Išlaidų pavadinimas",null,null,null,null,0,0,null,1,null,null,null,null,null,null,null,0,0]
["4.2.9","Išlaidų pavadinimas",null,null,null,null,0,0,null,1,null,null,null,null,null,null,null,0,0]
["4.2.10","Išlaidų pavadinimas",null,null,null,null,0,0,null,1,null,null,null,null,null,null,null,0,0]
["4.3","Patentų ir kito nematerialiojo turto įsigijimui, patvirtinimui ir apsaugai priskiriamos išlaidos",null,null,null,null,{"$f":"SUM(G34:G43)","v":0},{"$f":"SUM(H34:H43)","v":0},null,null,null,null,null,null,null,null,null,0,0]
["4.3.1","Išlaidų pavadinimas",null,null,null,null,{"$f":"ROUND(E34*F34,2)","v":0},{"$f":"ROUND(G34*$D$7*J34,2)","v":0},null,1,null,null,null,null,null,null,null,{"$f":"SUM(T34:AM34)","v":0},{"$f":"H34-R34","v":0}]
["4.3.2","Išlaidų pavadinimas",null,null,null,null,{"$f":"ROUND(E35*F35,2)","v":0},{"$f":"ROUND(G35*$D$7*J35,2)","v":0},null,1,null,null,null,null,null,null,null,{"$f":"SUM(T35:AM35)","v":0},{"$f":"H35-R35","v":0}]
["4.3.3","Išlaidų pavadinimas",null,null,null,null,{"$f":"ROUND(E36*F36,2)","v":0},0,null,1,null,null,null,null,null,null,null,0,0]
["4.3.4","Išlaidų pavadinimas",null,null,null,null,0,0,null,1,null,null,null,null,null,null,null,0,0]
["4.3.5","Išlaidų pavadinimas",null,null,null,null,0,0,null,1,null,null,null,null,null,null,null,0,0]
["4.3.6","Išlaidų pavadinimas",null,null,null,null,0,0,null,1,null,null,null,null,null,null,null,0,0]
["4.3.7","Išlaidų pavadinimas",null,null,null,null,0,0,null,1,null,null,null,null,null,null,null,0,0]
["4.3.8","Išlaidų pavadinimas",null,null,null,null,0,0,null,1,null,null,null,null,null,null,null,0,0]
["4.3.9","Išlaidų pavadinimas",null,null,null,null,0,0,null,1,null,null,null,null,null,null,null,0,0]
["4.3.10","Išlaidų pavadinimas",null,null,null,null,0,0,null,1,null,null,null,null,null,null,null,0,0]
[5,"PROJEKTO VYKDYMAS",null,null,null,null,{"$f":"G45+G56+G100+G128+G158+G224+G295+G313+G78+G67+G89","v":0},{"$f":"H45+H56+H100+H128+H158+H224+H295+H313+H78+H67+H89","v":0},null,null,null,null,null,null,null,null,null,0,0]
["5.1","MTEP paslaugos",null,null,null,null,{"$f":"SUM(G46:G55)","v":0},{"$f":"SUM(H46:H55)","v":0},null,null,null,null,null,null,null,null,null,0,0]
["5.1.1","Paslaugos pavadinimas",null,null,null,null,{"$f":"ROUND(E46*F46,2)","v":0},{"$f":"ROUND(G46*$D$7,2)","v":0},null,null,null,null,null,null,null,null,null,{"$f":"SUM(T46:AM46)","v":0},{"$f":"H46-R46","v":0}]
["5.1.2","Paslaugos pavadinimas",null,null,null,null,0,0,null,null,null,null,null,null,null,null,null,{"$f":"SUM(T47:AM47)","v":0},{"$f":"H47-R47","v":0}]
["5.1.3","Paslaugos pavadinimas",null,null,null,null,0,0,null,null,null,null,null,null,null,null,null,0,0]
["5.1.4","Paslaugos pavadinimas",null,null,null,null,0,0,null,null,null,null,null,null,null,null,null,0,0]
["5.1.5","Paslaugos pavadinimas",null,null,null,null,0,0,null,null,null,null,null,null,null,null,null,0,0]
["5.1.6","Paslaugos pavadinimas",null,null,null,null,0,0,null,null,null,null,null,null,null,null,null,0,0]
["5.1.7","Paslaugos pavadinimas",null,null,null,null,0,0,null,null,null,null,null,null,null,null,null,0,0]
["5.1.8","Paslaugos pavadinimas",null,null,null,null,0,0,null,null,null,null,null,null,null,null,null,0,0]
["5.1.9","Paslaugos pavadinimas",null,null,null,null,0,0,null,null,null,null,null,null,null,null,null,0,0]
["5.1.10","Paslaugos pavadinimas",null,null,null,null,0,0,null,null,null,null,null,null,null,null,null,0,0]
["5.2","Konsultavimo ir lygiavertės paslaugos, teikiamos vien tik projekto MTEP veiklai.",null,null,null,null,{"$f":"SUM(G57:G66)","v":0},{"$f":"SUM(H57:H66)","v":0},null,null,null,null,null,null,null,null,null,0,0]
["5.2.1","Paslaugos pavadinimas",null,null,null,null,{"$f":"ROUND(E57*F57,2)","v":0},0,null,null,null,null,null,null,null,null,null,{"$f":"SUM(T57:AM57)","v":0},{"$f":"H57-R57","v":0}]
["5.2.2","Paslaugos pavadinimas",null,null,null,null,0,0,null,null,null,null,null,null,null,null,null,{"$f":"SUM(T58:AM58)","v":0},{"$f":"H58-R58","v":0}]
["5.2.3","Paslaugos pavadinimas",null,null,null,null,0,0,null,null,null,null,null,null,null,null,null,0,0]
["5.2.4","Paslaugos pavadinimas",null,null,null,null,0,0,null,null,null,null,null,null,null,null,null,0,0]
["5.2.5","Paslaugos pavadinimas",null,null,null,null,0,0,null,null,null,null,null,null,null,null,null,0,0]
["5.2.6","Paslaugos pavadinimas",null,null,null,null,0,0,null,null,null,null,null,null,null,null,null,0,0]
["5.2.7","Paslaugos pavadinimas",null,null,null,null,0,0,null,null,null,null,null,null,null,null,null,0,0]
["5.2.8","Paslaugos pavadinimas",null,null,null,null,0,0,null,null,null,null,null,null,null,null,null,0,0]
["5.2.9","Paslaugos pavadinimas",null,null,null,null,0,0,null,null,null,null,null,null,null,null,null,0,0]
["5.2.10","Paslaugos pavadinimas",null,null,null,null,0,0,null,null,null,null,null,null,null,null,null,0,0]
["5.3","Ikiklinikinių ir klinikinių tyrimų (I–IV tyrimų etapais) paslaugos (IV etapo tyrimų išlaidos yra tinkamos finansuoti, jei šiais tyrimais sudaromos sąlygos tolesnei mokslinei ar technologinei pažangai)",null,null,null,null,{"$f":"SUM(G68:G77)","v":0},{"$f":"SUM(H68:H77)","v":0},null,null,null,null,null,null,null,null,null,0,0]
["5.3.1","Paslaugos pavadinimas",null,null,null,null,{"$f":"ROUND(E68*F68,2)","v":0},{"$f":"ROUND(G68*$D$7,2)","v":0},null,null,null,null,null,null,null,null,null,{"$f":"SUM(T68:AM68)","v":0},{"$f":"H68-R68","v":0}]
["5.3.2","Paslaugos pavadinimas",null,null,null,null,0,0,null,null,null,null,null,null,null,null,null,{"$f":"SUM(T69:AM69)","v":0},{"$f":"H69-R69","v":0}]
["5.3.3","Paslaugos pavadinimas",null,null,null,null,0,0,null,null,null,null,null,null,null,null,null,0,0]
["5.3.4","Paslaugos pavadinimas",null,null,null,null,0,0,null,null,null,null,null,null,null,null,null,0,0]
["5.3.5","Paslaugos pavadinimas",null,null,null,null,0,0,null,null,null,null,null,null,null,null,null,0,0]
["5.3.6","Paslaugos pavadinimas",null,null,null,null,0,0,null,null,null,null,null,null,null,null,null,0,0]
["5.3.7","Paslaugos pavadinimas",null,null,null,null,0,0,null,null,null,null,null,null,null,null,null,0,0]
["5.3.8","Paslaugos pavadinimas",null,null,null,null,0,0,null,null,null,null,null,null,null,null,null,0,0]
["5.3.9","Paslaugos pavadinimas",null,null,null,null,0,0,null,null,null,null,null,null,null,null,null,0,0]
["5.3.10","Paslaugos pavadinimas",null,null,null,null,0,0,null,null,null,null,null,null,null,null,null,0,0]
["5.4","Naujiems produktams ir technologijoms sertifikuoti būtinos išlaidos",null,null,null,null,{"$f":"SUM(G79:G88)","v":0},{"$f":"SUM(H79:H88)","v":0},null,null,null,null,null,null,null,null,null,0,0]
["5.4.1","Išlaidų pavadinimas",null,null,null,null,{"$f":"ROUND(E79*F79,2)","v":0},{"$f":"ROUND(G79*$D$7,2)","v":0},null,null,null,null,null,null,null,null,null,{"$f":"SUM(T79:AM79)","v":0},{"$f":"H79-R79","v":0}]
["5.4.2","Išlaidų pavadinimas",null,null,null,null,0,0,null,null,null,null,null,null,null,null,null,{"$f":"SUM(T80:AM80)","v":0},{"$f":"H80-R80","v":0}]
["5.4.3","Išlaidų pavadinimas",null,null,null,null,0,0,null,null,null,null,null,null,null,null,null,0,0]
["5.4.4","Išlaidų pavadinimas",null,null,null,null,0,0,null,null,null,null,null,null,null,null,null,0,0]
["5.4.5","Išlaidų pavadinimas",null,null,null,null,0,0,null,null,null,null,null,null,null,null,null,0,0]
["5.4.6","Išlaidų pavadinimas",null,null,null,null,0,0,null,null,null,null,null,null,null,null,null,0,0]
["5.4.7","Išlaidų pavadinimas",null,null,null,null,0,0,null,null,null,null,null,null,null,null,null,0,0]
["5.4.8","Išlaidų pavadinimas",null,null,null,null,0,0,null,null,null,null,null,null,null,null,null,0,0]
["5.4.9","Išlaidų pavadinimas",null,null,null,null,0,0,null,null,null,null,null,null,null,null,null,0,0]
["5.4.10","Išlaidų pavadinimas",null,null,null,null,0,0,null,null,null,null,null,null,null,null,null,0,0]
["5.5","Paslaugų išlaidos, patirtos siekiant gauti atitikties vertinimus ir (arba) leidimus, būtinus prekybai naujomis ir patobulintomis vakcinomis ir vaistiniais preparatais, medicinos priemonėmis, ligoninių ir medicinos reikmenimis, dezinfekavimo priemonėmis ir asmeninėmis apsaugos priemonėmis",null,null,null,null,{"$f":"SUM(G90:G99)","v":0},{"$f":"SUM(H90:H99)","v":0},null,null,null,null,null,null,null,null,null,0,0]
["5.5.1","Paslaugos pavadinimas",null,null,null,null,{"$f":"ROUND(E90*F90,2)","v":0},{"$f":"ROUND(G90*$D$7,2)","v":0},null,null,null,null,null,null,null,null,null,{"$f":"SUM(T90:AM90)","v":0},{"$f":"H90-R90","v":0}]
["5.5.2","Paslaugos pavadinimas",null,null,null,null,0,0,null,null,null,null,null,null,null,null,null,{"$f":"SUM(T91:AM91)","v":0},{"$f":"H91-R91","v":0}]
["5.5.3","Paslaugos pavadinimas",null,null,null,null,0,0,null,null,null,null,null,null,null,null,null,0,0]
["5.5.4","Paslaugos pavadinimas",null,null,null,null,0,0,null,null,null,null,null,null,null,null,null,0,0]
["5.5.5","Paslaugos pavadinimas",null,null,null,null,0,0,null,null,null,null,null,null,null,null,null,0,0]
["5.5.6","Paslaugos pavadinimas",null,null,null,null,0,0,null,null,null,null,null,null,null,null,null,0,0]
["5.5.7","Paslaugos pavadinimas",null,null,null,null,0,0,null,null,null,null,null,null,null,null,null,0,0]
["5.5.8","Paslaugos pavadinimas",null,null,null,null,0,0,null,null,null,null,null,null,null,null,null,0,0]
["5.5.9","Paslaugos pavadinimas",null,null,null,null,0,0,null,null,null,null,null,null,null,null,null,0,0]
["5.5.10","Paslaugos pavadinimas",null,null,null,null,0,0,null,null,null,null,null,null,null,null,null,0,0]
["5.6","Medžiagos, mažavertis inventorius, atsargos ir pan. produktai, priskirtini trumpalaikiam turtui ir tiesiogiai susiję su MTEP veikla",null,null,null,null,{"$f":"SUM(G101:G127)","v":0},{"$f":"SUM(H101:H127)","v":0},null,null,null,null,null,null,null,null,null,0,0]
["5.6.1","Išlaidų pavadinimas",null,null,null,null,{"$f":"ROUND(E101*F101,2)","v":0},{"$f":"ROUND(G101*$D$7,2)","v":0},null,null,null,null,null,null,null,null,null,{"$f":"SUM(T101:AM101)","v":0},{"$f":"H101-R101","v":0}]
["5.6.2","Išlaidų pavadinimas",null,null,null,null,{"$f":"ROUND(E102*F102,2)","v":0},{"$f":"ROUND(G102*$D$7,2)","v":0},null,null,null,null,null,null,null,null,null,{"$f":"SUM(T102:AM102)","v":0},{"$f":"H102-R102","v":0}]
["5.6.3","Išlaidų pavadinimas",null,null,null,null,{"$f":"ROUND(E103*F103,2)","v":0},{"$f":"ROUND(G103*$D$7,2)","v":0},null,null,null,null,null,null,null,null,null,0,0]
["5.6.4","Išlaidų pavadinimas",null,null,null,null,{"$f":"ROUND(E104*F104,2)","v":0},{"$f":"ROUND(G104*$D$7,2)","v":0},null,null,null,null,null,null,null,null,null,0,0]
["5.6.5","Išlaidų pavadinimas",null,null,null,null,{"$f":"ROUND(E105*F105,2)","v":0},{"$f":"ROUND(G105*$D$7,2)","v":0},null,null,null,null,null,null,null,null,null,0,0]
["5.6.6","Išlaidų pavadinimas",null,null,null,null,0,0,null,null,null,null,null,null,null,null,null,{"$f":"SUM(T106:AM106)","v":0},{"$f":"H106-R106","v":0}]
["5.6.7","Išlaidų pavadinimas",null,null,null,null,0,0,null,null,null,null,null,null,null,null,null,{"$f":"SUM(T107:AM107)","v":0},{"$f":"H107-R107","v":0}]
["5.6.8","Išlaidų pavadinimas",null,null,null,null,0,0,null,null,null,null,null,null,null,null,null,0,0]
["5.6.9","Išlaidų pavadinimas",null,null,null,null,0,0,null,null,null,null,null,null,null,null,null,0,0]
["5.6.10","Išlaidų pavadinimas",null,null,null,null,0,0,null,null,null,null,null,null,null,null,null,0,0]
["5.6.11","Išlaidų pavadinimas",null,null,null,null,0,0,null,null,null,null,null,null,null,null,null,0,0]
["5.6.12","Išlaidų pavadinimas",null,null,null,null,0,0,null,null,null,null,null,null,null,null,null,0,0]
["5.6.13","Išlaidų pavadinimas",null,null,null,null,0,0,null,null,null,null,null,null,null,null,null,0,0]
["5.6.14","Išlaidų pavadinimas",null,null,null,null,0,0,null,null,null,null,null,null,null,null,null,0,0]
["5.6.15","Išlaidų pavadinimas",null,null,null,null,0,0,null,null,null,null,null,null,null,null,null,{"$f":"SUM(T115:AM115)","v":0},{"$f":"H115-R115","v":0}]
["5.6.16","Išlaidų pavadinimas",null,null,null,null,0,0,null,null,null,null,null,null,null,null,null,{"$f":"SUM(T116:AM116)","v":0},{"$f":"H116-R116","v":0}]
["5.6.17","Išlaidų pavadinimas",null,null,null,null,0,0,null,null,null,null,null,null,null,null,null,{"$f":"SUM(T117:AM117)","v":0},{"$f":"H117-R117","v":0}]
["5.6.18","Išlaidų pavadinimas",null,null,null,null,0,0,null,null,null,null,null,null,null,null,null,{"$f":"SUM(T118:AM118)","v":0},{"$f":"H118-R118","v":0}]
["5.6.19","Išlaidų pavadinimas",null,null,null,null,0,0,null,null,null,null,null,null,null,null,null,{"$f":"SUM(T119:AM119)","v":0},{"$f":"H119-R119","v":0}]
["5.6.20","Išlaidų pavadinimas",null,null,null,null,0,0,null,null,null,null,null,null,null,null,null,0,0]
["5.6.21","Išlaidų pavadinimas",null,null,null,null,0,0,null,null,null,null,null,null,null,null,null,0,0]
["5.6.22","Išlaidų pavadinimas",null,null,null,null,0,0,null,null,null,null,null,null,null,null,null,0,0]
["5.6.23","Išlaidų pavadinimas",null,null,null,null,0,0,null,null,null,null,null,null,null,null,null,0,0]
["5.6.24","Išlaidų pavadinimas",null,null,null,null,0,0,null,null,null,null,null,null,null,null,null,0,0]
["5.6.25","Išlaidų pavadinimas",null,null,null,null,0,0,null,null,null,null,null,null,null,null,null,0,0]
["5.6.26","Išlaidų pavadinimas",null,null,null,null,0,0,null,null,null,null,null,null,null,null,null,0,0]
["5.6.27","Išlaidų pavadinimas",null,null,null,null,0,0,null,null,null,null,null,null,null,null,null,0,0]
["5.7","Projekto MTEP veikloms naudojamo ilgalaikio materialaus turto (įrangos, prietaisų, įrankių, įrenginių, mašinų ir įrengimų, pastatų ir (ar) patalpų), nusidėvėjimo sąnaudos, jeigu šiam turtui įsigyti nebuvo naudojamos viešosios (įskaitant ir kitų valstybių) lėšos",null,null,null,null,{"$f":"SUM(G129:G157)","v":0},{"$f":"SUM(H129:H157)","v":0},null,"Turto įvedimo į eksploataciją data","Turto įsigijimo vertė, Eur","Turto nudėvėjimo, amortizacijos laikotarpis, mėn.","Numatoma turto likutinė vertė, Eur","1 mėn. nudėvėjimo, amortizacijos suma, Eur","Turto naudojamo projekto reikmėms laikas, mėn.","Turto panaudojimo projekto reikmėms dalis (proc.)","Projektui priskirta turto nusidėvėjimo, amortizacijos suma per projekto laikotarpį, Eur",0,0]
["5.7.1","Turtas, kurio nusidėvėjimą, amortizaciją prašoma finansuoti",null,null,1,{"$f":"Q129","v":0},0,0,null,null,null,null,null,{"$f":"IFERROR(ROUND((K129-M129)/L129,2),\"0\")","v":"0"},null,null,{"$f":"N129*O129*P129","v":0},{"$f":"SUM(T129:AM129)","v":0},{"$f":"H129-R129","v":0}]
["5.7.2","Turtas, kurio nusidėvėjimą, amortizaciją prašoma finansuoti",null,null,1,0,0,0,null,null,null,null,null,{"$f":"IFERROR(ROUND((K130-M130)/L130,2),\"0\")","v":"0"},null,null,{"$f":"N130*O130*P130","v":0},{"$f":"SUM(T130:AM130)","v":0},{"$f":"H130-R130","v":0}]
["5.7.3","Turtas, kurio nusidėvėjimą, amortizaciją prašoma finansuoti",null,null,1,0,0,0,null,null,null,null,null,"0",null,null,0,0,0]
["5.7.4","Turtas, kurio nusidėvėjimą, amortizaciją prašoma finansuoti",null,null,1,0,0,0,null,null,null,null,null,"0",null,null,0,0,0]
["5.7.5","Turtas, kurio nusidėvėjimą, amortizaciją prašoma finansuoti",null,null,1,0,0,0,null,null,null,null,null,"0",null,null,0,0,0]
["5.7.6","Turtas, kurio nusidėvėjimą, amortizaciją prašoma finansuoti",null,null,1,0,0,0,null,null,null,null,null,"0",null,null,0,0,0]
["5.7.7","Turtas, kurio nusidėvėjimą, amortizaciją prašoma finansuoti",null,null,1,0,0,0,null,null,null,null,null,"0",null,null,0,0,0]
["5.7.8","Turtas, kurio nusidėvėjimą, amortizaciją prašoma finansuoti",null,null,1,0,0,0,null,null,null,null,null,"0",null,null,0,0,0]
["5.7.9","Turtas, kurio nusidėvėjimą, amortizaciją prašoma finansuoti",null,null,1,0,0,0,null,null,null,null,null,"0",null,null,0,0,0]
["5.7.10","Turtas, kurio nusidėvėjimą, amortizaciją prašoma finansuoti",null,null,1,0,0,0,null,null,null,null,null,"0",null,null,0,0,0]
["5.7.11","Turtas, kurio nusidėvėjimą, amortizaciją prašoma finansuoti",null,null,1,0,0,0,null,null,null,null,null,"0",null,null,0,{"$f":"SUM(T139:AM139)","v":0},{"$f":"H139-R139","v":0}]
["5.7.12","Turtas, kurio nusidėvėjimą, amortizaciją prašoma finansuoti",null,null,1,0,0,0,null,null,null,null,null,"0",null,null,0,{"$f":"SUM(T140:AM140)","v":0},{"$f":"H140-R140","v":0}]
["5.7.13","Turtas, kurio nusidėvėjimą, amortizaciją prašoma finansuoti",null,null,1,0,0,0,null,null,null,null,null,"0",null,null,0,0,0]
["5.7.14","Turtas, kurio nusidėvėjimą, amortizaciją prašoma finansuoti",null,null,1,0,0,0,null,null,null,null,null,"0",null,null,0,0,0]
["5.7.15","Turtas, kurio nusidėvėjimą, amortizaciją prašoma finansuoti",null,null,1,0,0,0,null,null,null,null,null,"0",null,null,0,0,0]
["5.7.16","Turtas, kurio nusidėvėjimą, amortizaciją prašoma finansuoti",null,null,1,0,0,0,null,null,null,null,null,"0",null,null,0,0,0]
["5.7.17","Turtas, kurio nusidėvėjimą, amortizaciją prašoma finansuoti",null,null,1,0,0,0,null,null,null,null,null,"0",null,null,0,0,0]
["5.7.18","Turtas, kurio nusidėvėjimą, amortizaciją prašoma finansuoti",null,null,1,0,0,0,null,null,null,null,null,"0",null,null,0,0,0]
["5.7.19","Turtas, kurio nusidėvėjimą, amortizaciją prašoma finansuoti",null,null,1,0,0,0,null,null,null,null,null,"0",null,null,0,0,0]
["5.7.20","Turtas, kurio nusidėvėjimą, amortizaciją prašoma finansuoti",null,null,1,0,0,0,null,null,null,null,null,"0",null,null,0,{"$f":"SUM(T148:AM148)","v":0},{"$f":"H148-R148","v":0}]
["5.7.21","Turtas, kurio nusidėvėjimą, amortizaciją prašoma finansuoti",null,null,1,0,0,0,null,null,null,null,null,"0",null,null,0,{"$f":"SUM(T149:AM149)","v":0},{"$f":"H149-R149","v":0}]
["5.7.22","Turtas, kurio nusidėvėjimą, amortizaciją prašoma finansuoti",null,null,1,0,0,0,null,null,null,null,null,"0",null,null,0,0,0]
["5.7.23","Turtas, kurio nusidėvėjimą, amortizaciją prašoma finansuoti",null,null,1,0,0,0,null,null,null,null,null,"0",null,null,0,0,0]
["5.7.24","Turtas, kurio nusidėvėjimą, amortizaciją prašoma finansuoti",null,null,1,0,0,0,null,null,null,null,null,"0",null,null,0,0,0]
["5.7.25","Turtas, kurio nusidėvėjimą, amortizaciją prašoma finansuoti",null,null,1,0,0,0,null,null,null,null,null,"0",null,null,0,0,0]
["5.7.26","Turtas, kurio nusidėvėjimą, amortizaciją prašoma finansuoti",null,null,1,0,0,0,null,null,null,null,null,"0",null,null,0,0,0]
["5.7.27","Turtas, kurio nusidėvėjimą, amortizaciją prašoma finansuoti",null,null,1,0,0,0,null,null,null,null,null,"0",null,null,0,0,0]
["5.7.28","Turtas, kurio nusidėvėjimą, amortizaciją prašoma finansuoti",null,null,1,0,0,0,null,null,null,null,null,"0",null,null,0,0,0]
["5.7.29","Turtas, kurio nusidėvėjimą, amortizaciją prašoma finansuoti",null,null,1,0,0,0,null,null,null,null,null,"0",null,null,0,0,0]
["5.8","Projektą vykdančio personalo darbo užmokestis ir išlaidos su darbo santykiais susijusiems darbdavio įsipareigojimams",null,null,null,null,{"$f":"SUM(G159:G223)","v":0},{"$f":"SUM(H159:H223)","v":0},null,"Faktiškai gaunamas darbo užmokesti už 1 valandą pagal  pastarųjų 6 mėn. vidurkį, Eur",null,null,null,null,null,null,null,0,0]
["5.8.1","Pareigybės pavadinimas","Darbuotojo vardas pavardė","val.",null,{"$f":"IFERROR(ROUND(AVERAGE(J159:J163),2),\"0\")","v":"0"},{"$f":"ROUND(E159*F159,2)","v":0},{"$f":"ROUND(G159*$D$7,2)","v":0},null,null,null,null,null,null,null,null,null,{"$f":"SUM(T159:AM159)","v":0},{"$f":"H159-R159","v":0}]
[null,null,"Darbuotojo vardas pavardė",null,null,null,null,null,null,null,null,null,null,null,null,null,null,{"$f":"SUM(T160:AM160)","v":0},{"$f":"H160-R160","v":0}]
[null,null,"Darbuotojo vardas pavardė",null,null,null,null,null,null,null,null,null,null,null,null,null,null,0,0]
[null,null,"Darbuotojo vardas pavardė",null,null,null,null,null,null,null,null,null,null,null,null,null,null,0,0]
[null,null,"Darbuotojo vardas pavardė",null,null,null,null,null,null,null,null,null,null,null,null,null,null,0,0]
["5.8.2","Pareigybės pavadinimas","Darbuotojo vardas pavardė","val.",null,{"$f":"IFERROR(ROUND(AVERAGE(J164:J168),2),\"0\")","v":"0"},{"$f":"ROUND(E164*F164,2)","v":0},{"$f":"ROUND(G164*$D$7,2)","v":0},null,null,null,null,null,null,null,null,null,0,0]
[null,null,"Darbuotojo vardas pavardė",null,null,null,null,null,null,null,null,null,null,null,null,null,null,0,0]
[null,null,"Darbuotojo vardas pavardė",null,null,null,null,null,null,null,null,null,null,null,null,null,null,0,0]
[null,null,"Darbuotojo vardas pavardė",null,null,null,null,null,null,null,null,null,null,null,null,null,null,0,0]
[null,null,"Darbuotojo vardas pavardė",null,null,null,null,null,null,null,null,null,null,null,null,null,null,0,0]
["5.8.3","Pareigybės pavadinimas","Darbuotojo vardas pavardė","val.",null,{"$f":"IFERROR(ROUND(AVERAGE(J169:J173),2),\"0\")","v":"0"},{"$f":"ROUND(E169*F169,2)","v":0},{"$f":"ROUND(G169*$D$7,2)","v":0},null,null,null,null,null,null,null,null,null,{"$f":"SUM(T169:AM169)","v":0},{"$f":"H169-R169","v":0}]
[null,null,"Darbuotojo vardas pavardė",null,null,null,null,null,null,null,null,null,null,null,null,null,null,{"$f":"SUM(T170:AM170)","v":0},{"$f":"H170-R170","v":0}]
[null,null,"Darbuotojo vardas pavardė",null,null,null,null,null,null,null,null,null,null,null,null,null,null,0,0]
[null,null,"Darbuotojo vardas pavardė",null,null,null,null,null,null,null,null,null,null,null,null,null,null,0,0]
[null,null,"Darbuotojo vardas pavardė",null,null,null,null,null,null,null,null,null,null,null,null,null,null,0,0]
["5.8.4","Pareigybės pavadinimas","Darbuotojo vardas pavardė","val.",null,{"$f":"IFERROR(ROUND(AVERAGE(J174:J178),2),\"0\")","v":"0"},{"$f":"ROUND(E174*F174,2)","v":0},{"$f":"ROUND(G174*$D$7,2)","v":0},null,null,null,null,null,null,null,null,null,0,0]
[null,null,"Darbuotojo vardas pavardė",null,null,null,null,null,null,null,null,null,null,null,null,null,null,0,0]
[null,null,"Darbuotojo vardas pavardė",null,null,null,null,null,null,null,null,null,null,null,null,null,null,0,0]
[null,null,"Darbuotojo vardas pavardė",null,null,null,null,null,null,null,null,null,null,null,null,null,null,0,0]
[null,null,"Darbuotojo vardas pavardė",null,null,null,null,null,null,null,null,null,null,null,null,null,null,0,0]
["5.8.5","Pareigybės pavadinimas","Darbuotojo vardas pavardė","val.",null,{"$f":"IFERROR(ROUND(AVERAGE(J179:J183),2),\"0\")","v":"0"},{"$f":"ROUND(E179*F179,2)","v":0},{"$f":"ROUND(G179*$D$7,2)","v":0},null,null,null,null,null,null,null,null,null,{"$f":"SUM(T179:AM179)","v":0},{"$f":"H179-R179","v":0}]
[null,null,"Darbuotojo vardas pavardė",null,null,null,null,null,null,null,null,null,null,null,null,null,null,{"$f":"SUM(T180:AM180)","v":0},{"$f":"H180-R180","v":0}]
[null,null,"Darbuotojo vardas pavardė",null,null,null,null,null,null,null,null,null,null,null,null,null,null,0,0]
[null,null,"Darbuotojo vardas pavardė",null,null,null,null,null,null,null,null,null,null,null,null,null,null,0,0]
[null,null,"Darbuotojo vardas pavardė",null,null,null,null,null,null,null,null,null,null,null,null,null,null,0,0]
["5.8.6","Pareigybės pavadinimas","Darbuotojo vardas pavardė","val.",null,{"$f":"IFERROR(ROUND(AVERAGE(J184:J188),2),\"0\")","v":"0"},{"$f":"ROUND(E184*F184,2)","v":0},{"$f":"ROUND(G184*$D$7,2)","v":0},null,null,null,null,null,null,null,null,null,0,0]
[null,null,"Darbuotojo vardas pavardė",null,null,null,null,null,null,null,null,null,null,null,null,null,null,0,0]
[null,null,"Darbuotojo vardas pavardė",null,null,null,null,null,null,null,null,null,null,null,null,null,null,0,0]
[null,null,"Darbuotojo vardas pavardė",null,null,null,null,null,null,null,null,null,null,null,null,null,null,0,0]
[null,null,"Darbuotojo vardas pavardė",null,null,null,null,null,null,null,null,null,null,null,null,null,null,0,0]
["5.8.7","Pareigybės pavadinimas","Darbuotojo vardas pavardė","val.",null,{"$f":"IFERROR(ROUND(AVERAGE(J189:J193),2),\"0\")","v":"0"},{"$f":"ROUND(E189*F189,2)","v":0},{"$f":"ROUND(G189*$D$7,2)","v":0},null,null,null,null,null,null,null,null,null,{"$f":"SUM(T189:AM189)","v":0},{"$f":"H189-R189","v":0}]
[null,null,"Darbuotojo vardas pavardė",null,null,null,null,null,null,null,null,null,null,null,null,null,null,{"$f":"SUM(T190:AM190)","v":0},{"$f":"H190-R190","v":0}]
[null,null,"Darbuotojo vardas pavardė",null,null,null,null,null,null,null,null,null,null,null,null,null,null,0,0]
[null,null,"Darbuotojo vardas pavardė",null,null,null,null,null,null,null,null,null,null,null,null,null,null,0,0]
[null,null,"Darbuotojo vardas pavardė",null,null,null,null,null,null,null,null,null,null,null,null,null,null,0,0]
["5.8.8","Pareigybės pavadinimas","Darbuotojo vardas pavardė","val.",null,{"$f":"IFERROR(ROUND(AVERAGE(J194:J198),2),\"0\")","v":"0"},{"$f":"ROUND(E194*F194,2)","v":0},{"$f":"ROUND(G194*$D$7,2)","v":0},null,null,null,null,null,null,null,null,null,0,0]
[null,null,"Darbuotojo vardas pavardė",null,null,null,null,null,null,null,null,null,null,null,null,null,null,0,0]
[null,null,"Darbuotojo vardas pavardė",null,null,null,null,null,null,null,null,null,null,null,null,null,null,0,0]
[null,null,"Darbuotojo vardas pavardė",null,null,null,null,null,null,null,null,null,null,null,null,null,null,0,0]
[null,null,"Darbuotojo vardas pavardė",null,null,null,null,null,null,null,null,null,null,null,null,null,null,0,0]
["5.8.9","Pareigybės pavadinimas","Darbuotojo vardas pavardė","val.",null,{"$f":"IFERROR(ROUND(AVERAGE(J199:J203),2),\"0\")","v":"0"},{"$f":"ROUND(E199*F199,2)","v":0},{"$f":"ROUND(G199*$D$7,2)","v":0},null,null,null,null,null,null,null,null,null,{"$f":"SUM(T199:AM199)","v":0},{"$f":"H199-R199","v":0}]
[null,null,"Darbuotojo vardas pavardė",null,null,null,null,null,null,null,null,null,null,null,null,null,null,{"$f":"SUM(T200:AM200)","v":0},{"$f":"H200-R200","v":0}]
[null,null,"Darbuotojo vardas pavardė",null,null,null,null,null,null,null,null,null,null,null,null,null,null,0,0]
[null,null,"Darbuotojo vardas pavardė",null,null,null,null,null,null,null,null,null,null,null,null,null,null,0,0]
[null,null,"Darbuotojo vardas pavardė",null,null,null,null,null,null,null,null,null,null,null,null,null,null,0,0]
["5.8.10","Pareigybės pavadinimas","Darbuotojo vardas pavardė","val.",null,{"$f":"IFERROR(ROUND(AVERAGE(J204:J208),2),\"0\")","v":"0"},{"$f":"ROUND(E204*F204,2)","v":0},{"$f":"ROUND(G204*$D$7,2)","v":0},null,null,null,null,null,null,null,null,null,0,0]
[null,null,"Darbuotojo vardas pavardė",null,null,null,null,null,null,null,null,null,null,null,null,null,null,0,0]
[null,null,"Darbuotojo vardas pavardė",null,null,null,null,null,null,null,null,null,null,null,null,null,null,0,0]
[null,null,"Darbuotojo vardas pavardė",null,null,null,null,null,null,null,null,null,null,null,null,null,null,0,0]
[null,null,"Darbuotojo vardas pavardė",null,null,null,null,null,null,null,null,null,null,null,null,null,null,{"$f":"SUM(T208:AM208)","v":0},{"$f":"H208-R208","v":0}]
["5.8.11","Pareigybės pavadinimas","Darbuotojo vardas pavardė","val.",null,{"$f":"IFERROR(ROUND(AVERAGE(J209:J213),2),\"0\")","v":"0"},{"$f":"ROUND(E209*F209,2)","v":0},{"$f":"ROUND(G209*$D$7,2)","v":0},null,null,null,null,null,null,null,null,null,{"$f":"SUM(T209:AM209)","v":0},{"$f":"H209-R209","v":0}]
[null,null,"Darbuotojo vardas pavardė",null,null,null,null,null,null,null,null,null,null,null,null,null,null,0,0]
[null,null,"Darbuotojo vardas pavardė",null,null,null,null,null,null,null,null,null,null,null,null,null,null,0,0]
[null,null,"Darbuotojo vardas pavardė",null,null,null,null,null,null,null,null,null,null,null,null,null,null,0,0]
[null,null,"Darbuotojo vardas pavardė",null,null,null,null,null,null,null,null,null,null,null,null,null,null,0,0]
["5.8.12","Pareigybės pavadinimas","Darbuotojo vardas pavardė","val.",null,{"$f":"IFERROR(ROUND(AVERAGE(J214:J218),2),\"0\")","v":"0"},{"$f":"ROUND(E214*F214,2)","v":0},{"$f":"ROUND(G214*$D$7,2)","v":0},null,null,null,null,null,null,null,null,null,0,0]
[null,null,"Darbuotojo vardas pavardė",null,null,null,null,null,null,null,null,null,null,null,null,null,null,0,0]
[null,null,"Darbuotojo vardas pavardė",null,null,null,null,null,null,null,null,null,null,null,null,null,null,0,0]
[null,null,"Darbuotojo vardas pavardė",null,null,null,null,null,null,null,null,null,null,null,null,null,null,0,0]
[null,null,"Darbuotojo vardas pavardė",null,null,null,null,null,null,null,null,null,null,null,null,null,null,{"$f":"SUM(T218:AM218)","v":0},{"$f":"H218-R218","v":0}]
["5.8.13","Pareigybės pavadinimas","Darbuotojo vardas pavardė","val.",null,{"$f":"IFERROR(ROUND(AVERAGE(J219:J223),2),\"0\")","v":"0"},{"$f":"ROUND(E219*F219,2)","v":0},{"$f":"ROUND(G219*$D$7,2)","v":0},null,null,null,null,null,null,null,null,null,{"$f":"SUM(T219:AM219)","v":0},{"$f":"H219-R219","v":0}]
[null,null,"Darbuotojo vardas pavardė",null,null,null,null,null,null,null,null,null,null,null,null,null,null,0,0]
[null,null,"Darbuotojo vardas pavardė",null,null,null,null,null,null,null,null,null,null,null,null,null,null,0,0]
[null,null,"Darbuotojo vardas pavardė",null,null,null,null,null,null,null,null,null,null,null,null,null,null,0,0]
[null,null,"Darbuotojo vardas pavardė",null,null,null,null,null,null,null,null,null,null,null,null,null,null,0,0]
["5.9","Projektą vykdančio personalo komandiruočių išlaidos",null,null,null,null,{"$f":"SUM(G225,G232,G239,G246,G253,G260,G267,G274,G281,G288)","v":0},{"$f":"SUM(H225,H232,H239,H246,H253,H260,H267,H274,H281,H288)","v":0},null,null,null,null,null,null,null,null,null,0,0]
["5.9.1","Komandiruotės pavadinimas, vieta, trukmė dienomis, vykstančių asmenų skaičius","Iš viso komandiruotei",null,null,null,{"$f":"SUM(G226:G231)","v":0},{"$f":"ROUND(G225*$D$7,2)","v":0},null,null,null,null,null,null,null,null,null,0,0]
[null,null,"Dienpinigiai",null,null,null,{"$f":"ROUND(E226*F226,2)","v":0},null,null,null,null,null,null,null,null,null,null,0,0]
[null,null,"Gyvenamojo ploto nuoma",null,null,null,0,null,null,null,null,null,null,null,null,null,null,0,0]
[null,null,"Kelionės išlaidos",null,null,null,0,null,null,null,null,null,null,null,null,null,null,{"$f":"SUM(T228:AM228)","v":0},{"$f":"H228-R228","v":0}]
[null,null,"Dalyvavimo mokestis",null,null,null,0,null,null,null,null,null,null,null,null,null,null,{"$f":"SUM(T229:AM229)","v":0},{"$f":"H229-R229","v":0}]
[null,null,"Kitos išlaidų pavadinimas",null,null,null,0,null,null,null,null,null,null,null,null,null,null,0,0]
[null,null,"Kitos išlaidų pavadinimas",null,null,null,0,null,null,null,null,null,null,null,null,null,null,0,0]
["5.9.2","Komandiruotės pavadinimas, vieta, trukmė dienomis, vykstančių asmenų skaičius","Iš viso komandiruotei",null,null,null,{"$f":"SUM(G233:G238)","v":0},{"$f":"ROUND(G232*$D$7,2)","v":0},null,null,null,null,null,null,null,null,null,0,0]
[null,null,"Dienpinigiai",null,null,null,0,null,null,null,null,null,null,null,null,null,null,0,0]
[null,null,"Gyvenamojo ploto nuoma",null,null,null,0,null,null,null,null,null,null,null,null,null,null,0,0]
[null,null,"Kelionės išlaidos",null,null,null,0,null,null,null,null,null,null,null,null,null,null,0,0]
[null,null,"Dalyvavimo mokestis",null,null,null,0,null,null,null,null,null,null,null,null,null,null,0,0]
[null,null,"Kitos išlaidų pavadinimas",null,null,null,0,null,null,null,null,null,null,null,null,null,null,0,0]
[null,null,"Kitos išlaidų pavadinimas",null,null,null,0,null,null,null,null,null,null,null,null,null,null,{"$f":"SUM(T238:AM238)","v":0},{"$f":"H238-R238","v":0}]
["5.9.3","Komandiruotės pavadinimas, vieta, trukmė dienomis, vykstančių asmenų skaičius","Iš viso komandiruotei",null,null,null,{"$f":"SUM(G240:G245)","v":0},{"$f":"ROUND(G239*$D$7,2)","v":0},null,null,null,null,null,null,null,null,null,{"$f":"SUM(T239:AM239)","v":0},{"$f":"H239-R239","v":0}]
[null,null,"Dienpinigiai",null,null,null,0,null,null,null,null,null,null,null,null,null,null,0,0]
[null,null,"Gyvenamojo ploto nuoma",null,null,null,0,null,null,null,null,null,null,null,null,null,null,0,0]
[null,null,"Kelionės išlaidos",null,null,null,0,null,null,null,null,null,null,null,null,null,null,0,0]
[null,null,"Dalyvavimo mokestis",null,null,null,0,null,null,null,null,null,null,null,null,null,null,0,0]
[null,null,"Kitos išlaidų pavadinimas",null,null,null,0,null,null,null,null,null,null,null,null,null,null,0,0]
[null,null,"Kitos išlaidų pavadinimas",null,null,null,0,null,null,null,null,null,null,null,null,null,null,0,0]
["5.9.4","Komandiruotės pavadinimas, vieta, trukmė dienomis, vykstančių asmenų skaičius","Iš viso komandiruotei",null,null,null,{"$f":"SUM(G247:G252)","v":0},{"$f":"ROUND(G246*$D$7,2)","v":0},null,null,null,null,null,null,null,null,null,0,0]
[null,null,"Dienpinigiai",null,null,null,0,null,null,null,null,null,null,null,null,null,null,0,0]
[null,null,"Gyvenamojo ploto nuoma",null,null,null,0,null,null,null,null,null,null,null,null,null,null,{"$f":"SUM(T248:AM248)","v":0},{"$f":"H248-R248","v":0}]
[null,null,"Kelionės išlaidos",null,null,null,0,null,null,null,null,null,null,null,null,null,null,{"$f":"SUM(T249:AM249)","v":0},{"$f":"H249-R249","v":0}]
[null,null,"Dalyvavimo mokestis",null,null,null,0,null,null,null,null,null,null,null,null,null,null,0,0]
[null,null,"Kitos išlaidų pavadinimas",null,null,null,0,null,null,null,null,null,null,null,null,null,null,0,0]
[null,null,"Kitos išlaidų pavadinimas",null,null,null,0,null,null,null,null,null,null,null,null,null,null,0,0]
["5.9.5","Komandiruotės pavadinimas, vieta, trukmė dienomis, vykstančių asmenų skaičius","Iš viso komandiruotei",null,null,null,{"$f":"SUM(G254:G259)","v":0},{"$f":"ROUND(G253*$D$7,2)","v":0},null,null,null,null,null,null,null,null,null,0,0]
[null,null,"Dienpinigiai",null,null,null,0,null,null,null,null,null,null,null,null,null,null,0,0]
[null,null,"Gyvenamojo ploto nuoma",null,null,null,0,null,null,null,null,null,null,null,null,null,null,0,0]
[null,null,"Kelionės išlaidos",null,null,null,0,null,null,null,null,null,null,null,null,null,null,0,0]
[null,null,"Dalyvavimo mokestis",null,null,null,0,null,null,null,null,null,null,null,null,null,null,0,0]
[null,null,"Kitos išlaidų pavadinimas",null,null,null,0,null,null,null,null,null,null,null,null,null,null,{"$f":"SUM(T258:AM258)","v":0},{"$f":"H258-R258","v":0}]
[null,null,"Kitos išlaidų pavadinimas",null,null,null,0,null,null,null,null,null,null,null,null,null,null,{"$f":"SUM(T259:AM259)","v":0},{"$f":"H259-R259","v":0}]
["5.9.6","Komandiruotės pavadinimas, vieta, trukmė dienomis, vykstančių asmenų skaičius","Iš viso komandiruotei",null,null,null,{"$f":"SUM(G261:G266)","v":0},{"$f":"ROUND(G260*$D$7,2)","v":0},null,null,null,null,null,null,null,null,null,0,0]
[null,null,"Dienpinigiai",null,null,null,0,null,null,null,null,null,null,null,null,null,null,0,0]
[null,null,"Gyvenamojo ploto nuoma",null,null,null,0,null,null,null,null,null,null,null,null,null,null,0,0]
[null,null,"Kelionės išlaidos",null,null,null,0,null,null,null,null,null,null,null,null,null,null,0,0]
[null,null,"Dalyvavimo mokestis",null,null,null,0,null,null,null,null,null,null,null,null,null,null,0,0]
[null,null,"Kitos išlaidų pavadinimas",null,null,null,0,null,null,null,null,null,null,null,null,null,null,0,0]
[null,null,"Kitos išlaidų pavadinimas",null,null,null,0,null,null,null,null,null,null,null,null,null,null,0,0]
["5.9.7","Komandiruotės pavadinimas, vieta, trukmė dienomis, vykstančių asmenų skaičius","Iš viso komandiruotei",null,null,null,{"$f":"SUM(G268:G273)","v":0},{"$f":"ROUND(G267*$D$7,2)","v":0},null,null,null,null,null,null,null,null,null,0,0]
[null,null,"Dienpinigiai",null,null,null,0,null,null,null,null,null,null,null,null,null,null,{"$f":"SUM(T268:AM268)","v":0},{"$f":"H268-R268","v":0}]
[null,null,"Gyvenamojo ploto nuoma",null,null,null,0,null,null,null,null,null,null,null,null,null,null,{"$f":"SUM(T269:AM269)","v":0},{"$f":"H269-R269","v":0}]
[null,null,"Kelionės išlaidos",null,null,null,0,null,null,null,null,null,null,null,null,null,null,0,0]
[null,null,"Dalyvavimo mokestis",null,null,null,0,null,null,null,null,null,null,null,null,null,null,0,0]
[null,null,"Kitos išlaidų pavadinimas",null,null,null,0,null,null,null,null,null,null,null,null,null,null,0,0]
[null,null,"Kitos išlaidų pavadinimas",null,null,null,0,null,null,null,null,null,null,null,null,null,null,0,0]
["5.9.8","Komandiruotės pavadinimas, vieta, trukmė dienomis, vykstančių asmenų skaičius","Iš viso komandiruotei",null,null,null,{"$f":"SUM(G275:G280)","v":0},{"$f":"ROUND(G274*$D$7,2)","v":0},null,null,null,null,null,null,null,null,null,0,0]
[null,null,"Dienpinigiai",null,null,null,0,null,null,null,null,null,null,null,null,null,null,0,0]
[null,null,"Gyvenamojo ploto nuoma",null,null,null,0,null,null,null,null,null,null,null,null,null,null,0,0]
[null,null,"Kelionės išlaidos",null,null,null,0,null,null,null,null,null,null,null,null,null,null,0,0]
[null,null,"Dalyvavimo mokestis",null,null,null,0,null,null,null,null,null,null,null,null,null,null,{"$f":"SUM(T278:AM278)","v":0},{"$f":"H278-R278","v":0}]
[null,null,"Kitos išlaidų pavadinimas",null,null,null,0,null,null,null,null,null,null,null,null,null,null,{"$f":"SUM(T279:AM279)","v":0},{"$f":"H279-R279","v":0}]
[null,null,"Kitos išlaidų pavadinimas",null,null,null,0,null,null,null,null,null,null,null,null,null,null,0,0]
["5.9.9","Komandiruotės pavadinimas, vieta, trukmė dienomis, vykstančių asmenų skaičius","Iš viso komandiruotei",null,null,null,{"$f":"SUM(G282:G287)","v":0},{"$f":"ROUND(G281*$D$7,2)","v":0},null,null,null,null,null,null,null,null,null,0,0]
[null,null,"Dienpinigiai",null,null,null,0,null,null,null,null,null,null,null,null,null,null,0,0]
[null,null,"Gyvenamojo ploto nuoma",null,null,null,0,null,null,null,null,null,null,null,null,null,null,{"$f":"SUM(T283:AM283)","v":0},{"$f":"H283-R283","v":0}]
[null,null,"Kelionės išlaidos",null,null,null,0,null,null,null,null,null,null,null,null,null,null,{"$f":"SUM(T284:AM284)","v":0},{"$f":"H284-R284","v":0}]
[null,null,"Dalyvavimo mokestis",null,null,null,0,null,null,null,null,null,null,null,null,null,null,{"$f":"SUM(T285:AM285)","v":0},{"$f":"H285-R285","v":0}]
[null,null,"Kitos išlaidų pavadinimas",null,null,null,0,null,null,null,null,null,null,null,null,null,null,{"$f":"SUM(T286:AM286)","v":0},{"$f":"H286-R286","v":0}]
[null,null,"Kitos išlaidų pavadinimas",null,null,null,0,null,null,null,null,null,null,null,null,null,null,0,0]
["5.9.10","Komandiruotės pavadinimas, vieta, trukmė dienomis, vykstančių asmenų skaičius","Iš viso komandiruotei",null,null,null,{"$f":"SUM(G289:G294)","v":0},{"$f":"ROUND(G288*$D$7,2)","v":0},null,null,null,null,null,null,null,null,null,0,0]
[null,null,"Dienpinigiai",null,null,null,0,null,null,null,null,null,null,null,null,null,null,0,0]
[null,null,"Gyvenamojo ploto nuoma",null,null,null,0,null,null,null,null,null,null,null,null,null,null,0,0]
[null,null,"Kelionės išlaidos",null,null,null,{"$f":"ROUND(E291*F291,2)","v":0},null,null,null,null,null,null,null,null,null,null,0,0]
[null,null,"Dalyvavimo mokestis",null,null,null,0,null,null,null,null,null,null,null,null,null,null,0,0]
[null,null,"Kitos išlaidų pavadinimas",null,null,null,0,null,null,null,null,null,null,null,null,null,null,0,0]
[null,null,"Kitos išlaidų pavadinimas",null,null,null,0,null,null,null,null,null,null,null,null,null,null,0,0]
["5.10","Įrangos nuomos išlaidos, veiklai priskirtos pro rata principu. Įranga turi būti tiesiogiai susijusi su projekto įgyvendinimu ir negali būti įsigyta iš ES struktūrinių fondų ar kt. ES finansinių priemonių lėšų",null,null,null,null,{"$f":"SUM(G296:G312)","v":0},{"$f":"SUM(H296:H312)","v":0},null,"Faktinės 1 mėnesio išlaidos, Eur","Naudojimo projekte trukmė, mėn.",null,null,null,null,null,null,0,0]
["5.10.1","Įrangos pavadinimas",null,"pro rata proc.",null,{"$f":"J296*K296","v":0},{"$f":"ROUND(E296*F296,2)","v":0},{"$f":"ROUND(G296*$D$7,2)","v":0},null,null,null,null,null,null,null,null,null,{"$f":"SUM(T296:AM296)","v":0},{"$f":"H296-R296","v":0}]
["5.10.2","Įrangos pavadinimas",null,"pro rata proc.",null,{"$f":"J297*K297","v":0},0,{"$f":"ROUND(G297*$D$7,2)","v":0},null,null,null,null,null,null,null,null,null,{"$f":"SUM(T297:AM297)","v":0},{"$f":"H297-R297","v":0}]
["5.10.3","Įrangos pavadinimas",null,"pro rata proc.",null,0,0,0,null,null,null,null,null,null,null,null,null,0,0]
["5.10.4","Įrangos pavadinimas",null,"pro rata proc.",null,0,0,0,null,null,null,null,null,null,null,null,null,0,0]
["5.10.5","Įrangos pavadinimas",null,"pro rata proc.",null,0,0,0,null,null,null,null,null,null,null,null,null,0,0]
["5.10.6","Įrangos pavadinimas",null,"pro rata proc.",null,0,0,0,null,null,null,null,null,null,null,null,null,0,0]
["5.10.7","Įrangos pavadinimas",null,"pro rata proc.",null,0,0,0,null,null,null,null,null,null,null,null,null,{"$f":"SUM(T302:AM302)","v":0},{"$f":"H302-R302","v":0}]
["5.10.8","Įrangos pavadinimas",null,"pro rata proc.",null,0,0,0,null,null,null,null,null,null,null,null,null,{"$f":"SUM(T303:AM303)","v":0},{"$f":"H303-R303","v":0}]
["5.10.9","Įrangos pavadinimas",null,"pro rata proc.",null,0,0,0,null,null,null,null,null,null,null,null,null,{"$f":"SUM(T304:AM304)","v":0},{"$f":"H304-R304","v":0}]
["5.10.10","Įrangos pavadinimas",null,"pro rata proc.",null,0,0,0,null,null,null,null,null,null,null,null,null,0,0]
["5.10.11","Įrangos pavadinimas",null,"pro rata proc.",null,0,0,0,null,null,null,null,null,null,null,null,null,0,0]
["5.10.12","Įrangos pavadinimas",null,"pro rata proc.",null,0,0,0,null,null,null,null,null,null,null,null,null,{"$f":"SUM(T307:AM307)","v":0},{"$f":"H307-R307","v":0}]
["5.10.13","Įrangos pavadinimas",null,"pro rata proc.",null,0,0,0,null,null,null,null,null,null,null,null,null,{"$f":"SUM(T308:AM308)","v":0},{"$f":"H308-R308","v":0}]
["5.10.14","Įrangos pavadinimas",null,"pro rata proc.",null,0,0,0,null,null,null,null,null,null,null,null,null,{"$f":"SUM(T309:AM309)","v":0},{"$f":"H309-R309","v":0}]
["5.10.15","Įrangos pavadinimas",null,"pro rata proc.",null,0,0,0,null,null,null,null,null,null,null,null,null,{"$f":"SUM(T310:AM310)","v":0},{"$f":"H310-R310","v":0}]
["5.10.16","Įrangos pavadinimas",null,"pro rata proc.",null,0,0,0,null,null,null,null,null,null,null,null,null,0,0]
["5.10.17","Įrangos pavadinimas",null,"pro rata proc.",null,0,0,0,null,null,null,null,null,null,null,null,null,0,0]
["5.11","Pastatų ar patalpų nuomos išlaidos, veiklai priskirtos pro rata principu. Pastatai ar patalpos turi būti tiesiogiai susijusi su projekto įgyvendinimu.",null,null,null,null,{"$f":"SUM(G314:G318)","v":0},{"$f":"SUM(H314:H318)","v":0},null,"Faktinės 1 mėnesio išlaidos, Eur","Naudojimo projekte trukmė, mėn.",null,null,null,null,null,null,0,0]
["5.11.1","Pastato, patalpų adresas",null,"pro rata proc.",null,{"$f":"J314*K314","v":0},{"$f":"ROUND(E314*F314,2)","v":0},{"$f":"ROUND(G314*$D$7,2)","v":0},null,null,null,null,null,null,null,null,null,0,0]
["5.11.2","Pastato, patalpų adresas",null,"pro rata proc.",null,{"$f":"J315*K315","v":0},{"$f":"ROUND(E315*F315,2)","v":0},{"$f":"ROUND(G315*$D$7,2)","v":0},null,null,null,null,null,null,null,null,null,0,0]
["5.11.3","Pastato, patalpų adresas",null,"pro rata proc.",null,0,0,0,null,null,null,null,null,null,null,null,null,0,0]
["5.11.4","Pastato, patalpų adresas",null,"pro rata proc.",null,0,0,0,null,null,null,null,null,null,null,null,null,0,0]
["5.11.5","Pastato, patalpų adresas",null,"pro rata proc.",null,0,0,0,null,null,null,null,null,null,null,null,null,0,0]
["Iš viso tinkamų finansuoti išlaidų:",null,null,null,null,null,{"$f":"G10+G44","v":0},{"$f":"H10+H44","v":0}]

{"sheet":"2","index":4,"n_rows":319,"n_cols":39,"rows_kept":319,"cut":false,"hidden":false,"merged":[[315,1,315,2],[316,1,316,2],[317,1,317,2],[318,0,318,5],[306,1,306,2],[307,1,307,2],[308,1,308,2],[309,1,309,2],[310,1,310,2],[311,1,311,2],[312,1,312,5],[313,1,313,2],[314,1,314,2],[297,1,297,2],[298,1,298,2],[299,1,299,2],[300,1,300,2],[301,1,301,2],[302,1,302,2],[303,1,303,2],[304,1,304,2],[305,1,305,2],[224,0,230,0],[224,1,230,1],[224,8,230,8],[231,0,237,0],[231,1,237,1],[231,8,237,8],[238,0,244,0],[238,1,244,1],[238,8,244,8],[218,0,222,0],[218,1,222,1],[218,3,222,3],[218,4,222,4],[218,5,222,5],[218,6,222,6],[218,7,222,7],[218,8,222,8],[223,1,223,5],[208,0,212,0],[208,1,212,1],[208,3,212,3],[208,4,212,4],[208,5,212,5],[208,6,212,6],[208,7,212,7],[208,8,212,8],[213,0,217,0],[213,1,217,1],[213,3,217,3],[213,4,217,4],[213,5,217,5],[213,6,217,6],[213,7,217,7],[213,8,217,8],[203,0,207,0],[203,1,207,1],[203,3,207,3],[203,4,207,4],[203,5,207,5],[203,6,207,6],[203,7,207,7],[203,8,207,8],[198,0,202,0],[198,1,202,1],[198,3,202,3],[198,4,202,4],[198,5,202,5],[188,0,192,0],[188,1,192,1],[188,3,192,3],[188,4,192,4],[188,5,192,5],[188,6,192,6],[188,7,192,7],[188,8,192,8],[198,6,202,6],[198,7,202,7],[198,8,202,8],[193,0,197,0],[193,1,197,1],[193,3,197,3],[193,4,197,4],[193,5,197,5],[193,6,197,6],[193,7,197,7],[193,8,197,8],[168,0,172,0],[168,1,172,1],[168,3,172,3],[168,4,172,4],[168,5,172,5],[168,6,172,6],[168,7,172,7],[168,8,172,8],[173,0,177,0],[173,1,177,1],[173,3,177,3],[173,4,177,4],[173,5,177,5],[173,6,177,6],[173,7,177,7],[173,8,177,8],[158,8,162,8],[163,0,167,0],[163,1,167,1],[163,3,167,3],[163,4,167,4],[163,5,167,5],[163,6,167,6],[163,7,167,7],[163,8,167,8],[158,6,162,6],[158,7,162,7],[142,1,142,2],[143,1,143,2],[144,1,144,2],[145,1,145,2],[146,1,146,2],[147,1,147,2],[148,1,148,2],[149,1,149,2],[150,1,150,2],[295,1,295,2],[294,1,294,5],[296,1,296,2],[266,1,272,1],[245,0,251,0],[245,1,251,1],[245,8,251,8],[252,0,258,0],[252,1,258,1],[252,8,258,8],[259,0,265,0],[259,1,265,1],[259,8,265,8],[266,0,272,0],[266,8,272,8],[273,0,279,0],[273,1,279,1],[273,8,279,8],[280,0,286,0],[280,1,286,1],[280,8,286,8],[287,0,293,0],[287,1,293,1],[287,8,293,8],[178,0,182,0],[178,1,182,1],[178,3,182,3],[178,4,182,4],[178,5,182,5],[178,6,182,6],[178,7,182,7],[178,8,182,8],[183,0,187,0],[183,1,187,1],[183,3,187,3],[183,4,187,4],[183,5,187,5],[183,6,187,6],[183,7,187,7],[183,8,187,8],[5,3,5,8],[8,1,8,2],[9,1,9,5],[11,1,11,2],[12,1,12,2],[0,3,0,8],[2,0,2,2],[2,3,2,8],[3,3,3,4],[3,5,3,6],[4,0,4,2],[4,3,4,8],[10,1,10,5],[19,1,19,2],[21,1,21,5],[22,1,22,2],[23,1,23,2],[24,1,24,2],[13,1,13,2],[14,1,14,2],[15,1,15,2],[16,1,16,2],[17,1,17,2],[18,1,18,2],[20,1,20,2],[31,1,31,2],[32,1,32,5],[33,1,33,2],[34,1,34,2],[35,1,35,2],[36,1,36,2],[25,1,25,2],[26,1,26,2],[27,1,27,2],[28,1,28,2],[29,1,29,2],[30,1,30,2],[43,1,43,5],[45,1,45,2],[46,1,46,2],[47,1,47,2],[48,1,48,2],[37,1,37,2],[38,1,38,2],[39,1,39,2],[40,1,40,2],[41,1,41,2],[42,1,42,2],[44,1,44,5],[56,1,56,2],[57,1,57,2],[58,1,58,2],[59,1,59,2],[60,1,60,2],[49,1,49,2],[50,1,50,2],[51,1,51,2],[52,1,52,2],[53,1,53,2],[54,1,54,2],[55,1,55,5],[67,1,67,2],[68,1,68,2],[69,1,69,2],[70,1,70,2],[72,1,72,2],[61,1,61,2],[62,1,62,2],[63,1,63,2],[64,1,64,2],[65,1,65,2],[66,1,66,5],[71,1,71,2],[79,1,79,2],[80,1,80,2],[81,1,81,2],[82,1,82,2],[83,1,83,2],[84,1,84,2],[73,1,73,2],[74,1,74,2],[75,1,75,2],[76,1,76,2],[78,1,78,2],[77,1,77,5],[91,1,91,2],[92,1,92,2],[93,1,93,2],[94,1,94,2],[95,1,95,2],[96,1,96,2],[85,1,85,2],[86,1,86,2],[87,1,87,2],[89,1,89,2],[90,1,90,2],[88,1,88,5],[97,1,97,2],[98,1,98,2],[100,1,100,2],[101,1,101,2],[102,1,102,2],[103,1,103,2],[104,1,104,2],[99,1,99,5],[105,1,105,2],[106,1,106,2],[107,1,107,2],[108,1,108,2],[109,1,109,2],[110,1,110,2],[111,1,111,2],[112,1,112,2],[113,1,113,2],[114,1,114,2],[115,1,115,2],[116,1,116,2],[117,1,117,2],[118,1,118,2],[119,1,119,2],[120,1,120,2],[121,1,121,2],[122,1,122,2],[123,1,123,2],[124,1,124,2],[125,1,125,2],[126,1,126,2],[128,1,128,2],[129,1,129,2],[130,1,130,2],[131,1,131,2],[132,1,132,2],[127,1,127,5],[133,1,133,2],[134,1,134,2],[135,1,135,2],[136,1,136,2],[137,1,137,2],[138,1,138,2],[139,1,139,2],[140,1,140,2],[141,1,141,2],[151,1,151,2],[152,1,152,2],[153,1,153,2],[154,1,154,2],[155,1,155,2],[156,1,156,2],[157,1,157,5],[158,0,162,0],[158,1,162,1],[158,3,162,3],[158,4,162,4],[158,5,162,5]]}
[null,null,"Pasirinkite veiklos tipą:"]
[null,null,"Fizinio rodiklio Nr.:"]
["Fizinio rodiklio pavadinimas:"]
[null,null,"Fizinio rodiklio matavimo vnt.:",null,null,"Fizinio rodiklio vnt. skaičius:"]
["Juridinis asmuo (pareiškėjas, partneris), atsakingas už fizinį rodiklį:"]
[null,null,"Vykdytojo tipas:"]
[null,null,"Finansavimo intensyvumas:",null,null,null,"Pasirinkite biudžeto išlaidų kategoriją:"]
[]
["Eil. Nr.","Išlaidų kategorijos pavadinimas",null,"Matavimo vnt.","Kiekis","Vieneto kaina be PVM, Eur","Tinkamų finansuoti išlaidų suma be PVM, Eur","Finansavimo suma, Eur","Išlaidų pagrindimo dokumentų pavadinimas, data ir Nr.",null,null,null,null,null,null,null,null,"Apmokėta","Likutis","MP001","MP002","MP003","MP004","MP005","MP006","MP007","MP008","MP009","MP010","MP011","MP012","MP013","MP014","MP015","MP016","MP017","MP018","MP019","MP020"]
[4,"ĮRANGA, ĮRENGINIAI IR KT. TURTAS (tinkamos finansuoti išlaidos, susijusios su COVID-19, yra išlaidos, tiesiogiai susijusios su projekto įgyvendinimu, ir paskirstytos proporcingai veiklai (pro rata principu)",null,null,null,null,{"$f":"SUM(G11+G22+G33)","v":0},{"$f":"SUM(H11+H22+H33)","v":0},null,null,null,null,null,null,null,null,null,{"$f":"SUM(T10:AM10)","v":0},{"$f":"H10-R10","v":0}]
["4.1","Skaitmeninė ir kompiuterinė įranga",null,null,null,null,{"$f":"SUM(G12:G21)","v":0},{"$f":"SUM(H12:H21)","v":0},null,"Infrastruktūros naudojimo laiko dalis, skirta išimtinai MTEP, proc.",null,null,null,null,null,null,null,0,0]
["4.1.1","Išlaidų pavadinimas",null,null,null,null,{"$f":"ROUND(E12*F12,2)","v":0},{"$f":"ROUND(G12*$D$7*J12,2)","v":0},null,1,null,null,null,null,null,null,null,{"$f":"SUM(T12:AM12)","v":0},{"$f":"H12-R12","v":0}]
["4.1.2","Išlaidų pavadinimas",null,null,null,null,{"$f":"ROUND(E13*F13,2)","v":0},{"$f":"ROUND(G13*$D$7*J13,2)","v":0},null,1,null,null,null,null,null,null,null,{"$f":"SUM(T13:AM13)","v":0},{"$f":"H13-R13","v":0}]
["4.1.3","Išlaidų pavadinimas",null,null,null,null,{"$f":"ROUND(E14*F14,2)","v":0},0,null,1,null,null,null,null,null,null,null,0,0]
["4.1.4","Išlaidų pavadinimas",null,null,null,null,0,0,null,1,null,null,null,null,null,null,null,0,0]
["4.1.5","Išlaidų pavadinimas",null,null,null,null,0,0,null,1,null,null,null,null,null,null,null,0,0]
["4.1.6","Išlaidų pavadinimas",null,null,null,null,0,0,null,1,null,null,null,null,null,null,null,0,0]
["4.1.7","Išlaidų pavadinimas",null,null,null,null,0,0,null,1,null,null,null,null,null,null,null,0,0]
["4.1.8","Išlaidų pavadinimas",null,null,null,null,0,0,null,1,null,null,null,null,null,null,null,0,0]
["4.1.9","Išlaidų pavadinimas",null,null,null,null,0,0,null,1,null,null,null,null,null,null,null,0,0]
["4.1.10","Išlaidų pavadinimas",null,null,null,null,0,0,null,1,null,null,null,null,null,null,null,0,0]
["4.2","Diagnostikos priemonės, duomenų rinkimo ir tvarkymo priemonės",null,null,null,null,{"$f":"SUM(G23:G32)","v":0},{"$f":"SUM(H23:H32)","v":0},null,null,null,null,null,null,null,null,null,0,0]
["4.2.1","Išlaidų pavadinimas",null,null,null,null,{"$f":"ROUND(E23*F23,2)","v":0},{"$f":"ROUND(G23*$D$7*J23,2)","v":0},null,1,null,null,null,null,null,null,null,{"$f":"SUM(T23:AM23)","v":0},{"$f":"H23-R23","v":0}]
["4.2.2","Išlaidų pavadinimas",null,null,null,null,{"$f":"ROUND(E24*F24,2)","v":0},{"$f":"ROUND(G24*$D$7*J24,2)","v":0},null,1,null,null,null,null,null,null,null,{"$f":"SUM(T24:AM24)","v":0},{"$f":"H24-R24","v":0}]
["4.2.3","Išlaidų pavadinimas",null,null,null,null,{"$f":"ROUND(E25*F25,2)","v":0},0,null,1,null,null,null,null,null,null,null,0,0]
["4.2.4","Išlaidų pavadinimas",null,null,null,null,0,0,null,1,null,null,null,null,null,null,null,0,0]
["4.2.5","Išlaidų pavadinimas",null,null,null,null,0,0,null,1,null,null,null,null,null,null,null,0,0]
["4.2.6","Išlaidų pavadinimas",null,null,null,null,0,0,null,1,null,null,null,null,null,null,null,0,0]
["4.2.7","Išlaidų pavadinimas",null,null,null,null,0,0,null,1,null,null,null,null,null,null,null,0,0]
["4.2.8","Išlaidų pavadinimas",null,null,null,null,0,0,null,1,null,null,null,null,null,null,null,0,0]
["4.2.9","Išlaidų pavadinimas",null,null,null,null,0,0,null,1,null,null,null,null,null,null,null,0,0]
["4.2.10","Išlaidų pavadinimas",null,null,null,null,0,0,null,1,null,null,null,null,null,null,null,0,0]
["4.3","Patentų ir kito nematerialiojo turto įsigijimui, patvirtinimui ir apsaugai priskiriamos išlaidos",null,null,null,null,{"$f":"SUM(G34:G43)","v":0},{"$f":"SUM(H34:H43)","v":0},null,null,null,null,null,null,null,null,null,0,0]
["4.3.1","Išlaidų pavadinimas",null,null,null,null,{"$f":"ROUND(E34*F34,2)","v":0},{"$f":"ROUND(G34*$D$7*J34,2)","v":0},null,1,null,null,null,null,null,null,null,{"$f":"SUM(T34:AM34)","v":0},{"$f":"H34-R34","v":0}]
["4.3.2","Išlaidų pavadinimas",null,null,null,null,{"$f":"ROUND(E35*F35,2)","v":0},{"$f":"ROUND(G35*$D$7*J35,2)","v":0},null,1,null,null,null,null,null,null,null,{"$f":"SUM(T35:AM35)","v":0},{"$f":"H35-R35","v":0}]
["4.3.3","Išlaidų pavadinimas",null,null,null,null,{"$f":"ROUND(E36*F36,2)","v":0},0,null,1,null,null,null,null,null,null,null,0,0]
["4.3.4","Išlaidų pavadinimas",null,null,null,null,0,0,null,1,null,null,null,null,null,null,null,0,0]
["4.3.5","Išlaidų pavadinimas",null,null,null,null,0,0,null,1,null,null,null,null,null,null,null,0,0]
["4.3.6","Išlaidų pavadinimas",null,null,null,null,0,0,null,1,null,null,null,null,null,null,null,0,0]
["4.3.7","Išlaidų pavadinimas",null,null,null,null,0,0,null,1,null,null,null,null,null,null,null,0,0]
["4.3.8","Išlaidų pavadinimas",null,null,null,null,0,0,null,1,null,null,null,null,null,null,null,0,0]
["4.3.9","Išlaidų pavadinimas",null,null,null,null,0,0,null,1,null,null,null,null,null,null,null,0,0]
["4.3.10","Išlaidų pavadinimas",null,null,null,null,0,0,null,1,null,null,null,null,null,null,null,0,0]
[5,"PROJEKTO VYKDYMAS",null,null,null,null,{"$f":"G45+G56+G100+G128+G158+G224+G295+G313+G78+G67+G89","v":0},{"$f":"H45+H56+H100+H128+H158+H224+H295+H313+H78+H67+H89","v":0},null,null,null,null,null,null,null,null,null,0,0]
["5.1","MTEP paslaugos",null,null,null,null,{"$f":"SUM(G46:G55)","v":0},{"$f":"SUM(H46:H55)","v":0},null,null,null,null,null,null,null,null,null,0,0]
["5.1.1","Paslaugos pavadinimas",null,null,null,null,{"$f":"ROUND(E46*F46,2)","v":0},{"$f":"ROUND(G46*$D$7,2)","v":0},null,null,null,null,null,null,null,null,null,{"$f":"SUM(T46:AM46)","v":0},{"$f":"H46-R46","v":0}]
["5.1.2","Paslaugos pavadinimas",null,null,null,null,0,0,null,null,null,null,null,null,null,null,null,{"$f":"SUM(T47:AM47)","v":0},{"$f":"H47-R47","v":0}]
["5.1.3","Paslaugos pavadinimas",null,null,null,null,0,0,null,null,null,null,null,null,null,null,null,0,0]
["5.1.4","Paslaugos pavadinimas",null,null,null,null,0,0,null,null,null,null,null,null,null,null,null,0,0]
["5.1.5","Paslaugos pavadinimas",null,null,null,null,0,0,null,null,null,null,null,null,null,null,null,0,0]
["5.1.6","Paslaugos pavadinimas",null,null,null,null,0,0,null,null,null,null,null,null,null,null,null,0,0]
["5.1.7","Paslaugos pavadinimas",null,null,null,null,0,0,null,null,null,null,null,null,null,null,null,0,0]
["5.1.8","Paslaugos pavadinimas",null,null,null,null,0,0,null,null,null,null,null,null,null,null,null,0,0]
["5.1.9","Paslaugos pavadinimas",null,null,null,null,0,0,null,null,null,null,null,null,null,null,null,0,0]
["5.1.10","Paslaugos pavadinimas",null,null,null,null,0,0,null,null,null,null,null,null,null,null,null,0,0]
["5.2","Konsultavimo ir lygiavertės paslaugos, teikiamos vien tik projekto MTEP veiklai.",null,null,null,null,{"$f":"SUM(G57:G66)","v":0},{"$f":"SUM(H57:H66)","v":0},null,null,null,null,null,null,null,null,null,0,0]
["5.2.1","Paslaugos pavadinimas",null,null,null,null,{"$f":"ROUND(E57*F57,2)","v":0},0,null,null,null,null,null,null,null,null,null,{"$f":"SUM(T57:AM57)","v":0},{"$f":"H57-R57","v":0}]
["5.2.2","Paslaugos pavadinimas",null,null,null,null,0,0,null,null,null,null,null,null,null,null,null,{"$f":"SUM(T58:AM58)","v":0},{"$f":"H58-R58","v":0}]
["5.2.3","Paslaugos pavadinimas",null,null,null,null,0,0,null,null,null,null,null,null,null,null,null,0,0]
["5.2.4","Paslaugos pavadinimas",null,null,null,null,0,0,null,null,null,null,null,null,null,null,null,0,0]
["5.2.5","Paslaugos pavadinimas",null,null,null,null,0,0,null,null,null,null,null,null,null,null,null,0,0]
["5.2.6","Paslaugos pavadinimas",null,null,null,null,0,0,null,null,null,null,null,null,null,null,null,0,0]
["5.2.7","Paslaugos pavadinimas",null,null,null,null,0,0,null,null,null,null,null,null,null,null,null,0,0]
["5.2.8","Paslaugos pavadinimas",null,null,null,null,0,0,null,null,null,null,null,null,null,null,null,0,0]
["5.2.9","Paslaugos pavadinimas",null,null,null,null,0,0,null,null,null,null,null,null,null,null,null,0,0]
["5.2.10","Paslaugos pavadinimas",null,null,null,null,0,0,null,null,null,null,null,null,null,null,null,0,0]
["5.3","Ikiklinikinių ir klinikinių tyrimų (I–IV tyrimų etapais) paslaugos (IV etapo tyrimų išlaidos yra tinkamos finansuoti, jei šiais tyrimais sudaromos sąlygos tolesnei mokslinei ar technologinei pažangai)",null,null,null,null,{"$f":"SUM(G68:G77)","v":0},{"$f":"SUM(H68:H77)","v":0},null,null,null,null,null,null,null,null,null,0,0]
["5.3.1","Paslaugos pavadinimas",null,null,null,null,{"$f":"ROUND(E68*F68,2)","v":0},{"$f":"ROUND(G68*$D$7,2)","v":0},null,null,null,null,null,null,null,null,null,{"$f":"SUM(T68:AM68)","v":0},{"$f":"H68-R68","v":0}]
["5.3.2","Paslaugos pavadinimas",null,null,null,null,0,0,null,null,null,null,null,null,null,null,null,{"$f":"SUM(T69:AM69)","v":0},{"$f":"H69-R69","v":0}]
["5.3.3","Paslaugos pavadinimas",null,null,null,null,0,0,null,null,null,null,null,null,null,null,null,0,0]
["5.3.4","Paslaugos pavadinimas",null,null,null,null,0,0,null,null,null,null,null,null,null,null,null,0,0]
["5.3.5","Paslaugos pavadinimas",null,null,null,null,0,0,null,null,null,null,null,null,null,null,null,0,0]
["5.3.6","Paslaugos pavadinimas",null,null,null,null,0,0,null,null,null,null,null,null,null,null,null,0,0]
["5.3.7","Paslaugos pavadinimas",null,null,null,null,0,0,null,null,null,null,null,null,null,null,null,0,0]
["5.3.8","Paslaugos pavadinimas",null,null,null,null,0,0,null,null,null,null,null,null,null,null,null,0,0]
["5.3.9","Paslaugos pavadinimas",null,null,null,null,0,0,null,null,null,null,null,null,null,null,null,0,0]
["5.3.10","Paslaugos pavadinimas",null,null,null,null,0,0,null,null,null,null,null,null,null,null,null,0,0]
["5.4","Naujiems produktams ir technologijoms sertifikuoti būtinos išlaidos",null,null,null,null,{"$f":"SUM(G79:G88)","v":0},{"$f":"SUM(H79:H88)","v":0},null,null,null,null,null,null,null,null,null,0,0]
["5.4.1","Išlaidų pavadinimas",null,null,null,null,{"$f":"ROUND(E79*F79,2)","v":0},{"$f":"ROUND(G79*$D$7,2)","v":0},null,null,null,null,null,null,null,null,null,{"$f":"SUM(T79:AM79)","v":0},{"$f":"H79-R79","v":0}]
["5.4.2","Išlaidų pavadinimas",null,null,null,null,0,0,null,null,null,null,null,null,null,null,null,{"$f":"SUM(T80:AM80)","v":0},{"$f":"H80-R80","v":0}]
["5.4.3","Išlaidų pavadinimas",null,null,null,null,0,0,null,null,null,null,null,null,null,null,null,0,0]
["5.4.4","Išlaidų pavadinimas",null,null,null,null,0,0,null,null,null,null,null,null,null,null,null,0,0]
["5.4.5","Išlaidų pavadinimas",null,null,null,null,0,0,null,null,null,null,null,null,null,null,null,0,0]
["5.4.6","Išlaidų pavadinimas",null,null,null,null,0,0,null,null,null,null,null,null,null,null,null,0,0]
["5.4.7","Išlaidų pavadinimas",null,null,null,null,0,0,null,null,null,null,null,null,null,null,null,0,0]
["5.4.8","Išlaidų pavadinimas",null,null,null,null,0,0,null,null,null,null,null,null,null,null,null,0,0]
["5.4.9","Išlaidų pavadinimas",null,null,null,null,0,0,null,null,null,null,null,null,null,null,null,0,0]
["5.4.10","Išlaidų pavadinimas",null,null,null,null,0,0,null,null,null,null,null,null,null,null,null,0,0]
["5.5","Paslaugų išlaidos, patirtos siekiant gauti atitikties vertinimus ir (arba) leidimus, būtinus prekybai naujomis ir patobulintomis vakcinomis ir vaistiniais preparatais, medicinos priemonėmis, ligoninių ir medicinos reikmenimis, dezinfekavimo priemonėmis ir asmeninėmis apsaugos priemonėmis",null,null,null,null,{"$f":"SUM(G90:G99)","v":0},{"$f":"SUM(H90:H99)","v":0},null,null,null,null,null,null,null,null,null,0,0]
["5.5.1","Paslaugos pavadinimas",null,null,null,null,{"$f":"ROUND(E90*F90,2)","v":0},{"$f":"ROUND(G90*$D$7,2)","v":0},null,null,null,null,null,null,null,null,null,{"$f":"SUM(T90:AM90)","v":0},{"$f":"H90-R90","v":0}]
["5.5.2","Paslaugos pavadinimas",null,null,null,null,0,0,null,null,null,null,null,null,null,null,null,{"$f":"SUM(T91:AM91)","v":0},{"$f":"H91-R91","v":0}]
["5.5.3","Paslaugos pavadinimas",null,null,null,null,0,0,null,null,null,null,null,null,null,null,null,0,0]
["5.5.4","Paslaugos pavadinimas",null,null,null,null,0,0,null,null,null,null,null,null,null,null,null,0,0]
["5.5.5","Paslaugos pavadinimas",null,null,null,null,0,0,null,null,null,null,null,null,null,null,null,0,0]
["5.5.6","Paslaugos pavadinimas",null,null,null,null,0,0,null,null,null,null,null,null,null,null,null,0,0]
["5.5.7","Paslaugos pavadinimas",null,null,null,null,0,0,null,null,null,null,null,null,null,null,null,0,0]
["5.5.8","Paslaugos pavadinimas",null,null,null,null,0,0,null,null,null,null,null,null,null,null,null,0,0]
["5.5.9","Paslaugos pavadinimas",null,null,null,null,0,0,null,null,null,null,null,null,null,null,null,0,0]
["5.5.10","Paslaugos pavadinimas",null,null,null,null,0,0,null,null,null,null,null,null,null,null,null,0,0]
["5.6","Medžiagos, mažavertis inventorius, atsargos ir pan. produktai, priskirtini trumpalaikiam turtui ir tiesiogiai susiję su MTEP veikla",null,null,null,null,{"$f":"SUM(G101:G127)","v":0},{"$f":"SUM(H101:H127)","v":0},null,null,null,null,null,null,null,null,null,0,0]
["5.6.1","Išlaidų pavadinimas",null,null,null,null,{"$f":"ROUND(E101*F101,2)","v":0},{"$f":"ROUND(G101*$D$7,2)","v":0},null,null,null,null,null,null,null,null,null,{"$f":"SUM(T101:AM101)","v":0},{"$f":"H101-R101","v":0}]
["5.6.2","Išlaidų pavadinimas",null,null,null,null,{"$f":"ROUND(E102*F102,2)","v":0},{"$f":"ROUND(G102*$D$7,2)","v":0},null,null,null,null,null,null,null,null,null,{"$f":"SUM(T102:AM102)","v":0},{"$f":"H102-R102","v":0}]
["5.6.3","Išlaidų pavadinimas",null,null,null,null,{"$f":"ROUND(E103*F103,2)","v":0},{"$f":"ROUND(G103*$D$7,2)","v":0},null,null,null,null,null,null,null,null,null,0,0]
["5.6.4","Išlaidų pavadinimas",null,null,null,null,{"$f":"ROUND(E104*F104,2)","v":0},{"$f":"ROUND(G104*$D$7,2)","v":0},null,null,null,null,null,null,null,null,null,0,0]
["5.6.5","Išlaidų pavadinimas",null,null,null,null,{"$f":"ROUND(E105*F105,2)","v":0},{"$f":"ROUND(G105*$D$7,2)","v":0},null,null,null,null,null,null,null,null,null,0,0]
["5.6.6","Išlaidų pavadinimas",null,null,null,null,0,0,null,null,null,null,null,null,null,null,null,{"$f":"SUM(T106:AM106)","v":0},{"$f":"H106-R106","v":0}]
["5.6.7","Išlaidų pavadinimas",null,null,null,null,0,0,null,null,null,null,null,null,null,null,null,{"$f":"SUM(T107:AM107)","v":0},{"$f":"H107-R107","v":0}]
["5.6.8","Išlaidų pavadinimas",null,null,null,null,0,0,null,null,null,null,null,null,null,null,null,0,0]
["5.6.9","Išlaidų pavadinimas",null,null,null,null,0,0,null,null,null,null,null,null,null,null,null,0,0]
["5.6.10","Išlaidų pavadinimas",null,null,null,null,0,0,null,null,null,null,null,null,null,null,null,0,0]
["5.6.11","Išlaidų pavadinimas",null,null,null,null,0,0,null,null,null,null,null,null,null,null,null,0,0]
["5.6.12","Išlaidų pavadinimas",null,null,null,null,0,0,null,null,null,null,null,null,null,null,null,0,0]
["5.6.13","Išlaidų pavadinimas",null,null,null,null,0,0,null,null,null,null,null,null,null,null,null,0,0]
["5.6.14","Išlaidų pavadinimas",null,null,null,null,0,0,null,null,null,null,null,null,null,null,null,0,0]
["5.6.15","Išlaidų pavadinimas",null,null,null,null,0,0,null,null,null,null,null,null,null,null,null,{"$f":"SUM(T115:AM115)","v":0},{"$f":"H115-R115","v":0}]
["5.6.16","Išlaidų pavadinimas",null,null,null,null,0,0,null,null,null,null,null,null,null,null,null,{"$f":"SUM(T116:AM116)","v":0},{"$f":"H116-R116","v":0}]
["5.6.17","Išlaidų pavadinimas",null,null,null,null,0,0,null,null,null,null,null,null,null,null,null,{"$f":"SUM(T117:AM117)","v":0},{"$f":"H117-R117","v":0}]
["5.6.18","Išlaidų pavadinimas",null,null,null,null,0,0,null,null,null,null,null,null,null,null,null,{"$f":"SUM(T118:AM118)","v":0},{"$f":"H118-R118","v":0}]
["5.6.19","Išlaidų pavadinimas",null,null,null,null,0,0,null,null,null,null,null,null,null,null,null,{"$f":"SUM(T119:AM119)","v":0},{"$f":"H119-R119","v":0}]
["5.6.20","Išlaidų pavadinimas",null,null,null,null,0,0,null,null,null,null,null,null,null,null,null,0,0]
["5.6.21","Išlaidų pavadinimas",null,null,null,null,0,0,null,null,null,null,null,null,null,null,null,0,0]
["5.6.22","Išlaidų pavadinimas",null,null,null,null,0,0,null,null,null,null,null,null,null,null,null,0,0]
["5.6.23","Išlaidų pavadinimas",null,null,null,null,0,0,null,null,null,null,null,null,null,null,null,0,0]
["5.6.24","Išlaidų pavadinimas",null,null,null,null,0,0,null,null,null,null,null,null,null,null,null,0,0]
["5.6.25","Išlaidų pavadinimas",null,null,null,null,0,0,null,null,null,null,null,null,null,null,null,0,0]
["5.6.26","Išlaidų pavadinimas",null,null,null,null,0,0,null,null,null,null,null,null,null,null,null,0,0]
["5.6.27","Išlaidų pavadinimas",null,null,null,null,0,0,null,null,null,null,null,null,null,null,null,0,0]
["5.7","Projekto MTEP veikloms naudojamo ilgalaikio materialaus turto (įrangos, prietaisų, įrankių, įrenginių, mašinų ir įrengimų, pastatų ir (ar) patalpų), nusidėvėjimo sąnaudos, jeigu šiam turtui įsigyti nebuvo naudojamos viešosios (įskaitant ir kitų valstybių) lėšos",null,null,null,null,{"$f":"SUM(G129:G157)","v":0},{"$f":"SUM(H129:H157)","v":0},null,"Turto įvedimo į eksploataciją data","Turto įsigijimo vertė, Eur","Turto nudėvėjimo, amortizacijos laikotarpis, mėn.","Numatoma turto likutinė vertė, Eur","1 mėn. nudėvėjimo, amortizacijos suma, Eur","Turto naudojamo projekto reikmėms laikas, mėn.","Turto panaudojimo projekto reikmėms dalis (proc.)","Projektui priskirta turto nusidėvėjimo, amortizacijos suma per projekto laikotarpį, Eur",0,0]
["5.7.1","Turtas, kurio nusidėvėjimą, amortizaciją prašoma finansuoti",null,null,1,{"$f":"Q129","v":0},0,0,null,null,null,null,null,{"$f":"IFERROR(ROUND((K129-M129)/L129,2),\"0\")","v":"0"},null,null,{"$f":"N129*O129*P129","v":0},{"$f":"SUM(T129:AM129)","v":0},{"$f":"H129-R129","v":0}]
["5.7.2","Turtas, kurio nusidėvėjimą, amortizaciją prašoma finansuoti",null,null,1,0,0,0,null,null,null,null,null,{"$f":"IFERROR(ROUND((K130-M130)/L130,2),\"0\")","v":"0"},null,null,{"$f":"N130*O130*P130","v":0},{"$f":"SUM(T130:AM130)","v":0},{"$f":"H130-R130","v":0}]
["5.7.3","Turtas, kurio nusidėvėjimą, amortizaciją prašoma finansuoti",null,null,1,0,0,0,null,null,null,null,null,"0",null,null,0,0,0]
["5.7.4","Turtas, kurio nusidėvėjimą, amortizaciją prašoma finansuoti",null,null,1,0,0,0,null,null,null,null,null,"0",null,null,0,0,0]
["5.7.5","Turtas, kurio nusidėvėjimą, amortizaciją prašoma finansuoti",null,null,1,0,0,0,null,null,null,null,null,"0",null,null,0,0,0]
["5.7.6","Turtas, kurio nusidėvėjimą, amortizaciją prašoma finansuoti",null,null,1,0,0,0,null,null,null,null,null,"0",null,null,0,0,0]
["5.7.7","Turtas, kurio nusidėvėjimą, amortizaciją prašoma finansuoti",null,null,1,0,0,0,null,null,null,null,null,"0",null,null,0,0,0]
["5.7.8","Turtas, kurio nusidėvėjimą, amortizaciją prašoma finansuoti",null,null,1,0,0,0,null,null,null,null,null,"0",null,null,0,0,0]
["5.7.9","Turtas, kurio nusidėvėjimą, amortizaciją prašoma finansuoti",null,null,1,0,0,0,null,null,null,null,null,"0",null,null,0,0,0]
["5.7.10","Turtas, kurio nusidėvėjimą, amortizaciją prašoma finansuoti",null,null,1,0,0,0,null,null,null,null,null,"0",null,null,0,0,0]
["5.7.11","Turtas, kurio nusidėvėjimą, amortizaciją prašoma finansuoti",null,null,1,0,0,0,null,null,null,null,null,"0",null,null,0,{"$f":"SUM(T139:AM139)","v":0},{"$f":"H139-R139","v":0}]
["5.7.12","Turtas, kurio nusidėvėjimą, amortizaciją prašoma finansuoti",null,null,1,0,0,0,null,null,null,null,null,"0",null,null,0,{"$f":"SUM(T140:AM140)","v":0},{"$f":"H140-R140","v":0}]
["5.7.13","Turtas, kurio nusidėvėjimą, amortizaciją prašoma finansuoti",null,null,1,0,0,0,null,null,null,null,null,"0",null,null,0,0,0]
["5.7.14","Turtas, kurio nusidėvėjimą, amortizaciją prašoma finansuoti",null,null,1,0,0,0,null,null,null,null,null,"0",null,null,0,0,0]
["5.7.15","Turtas, kurio nusidėvėjimą, amortizaciją prašoma finansuoti",null,null,1,0,0,0,null,null,null,null,null,"0",null,null,0,0,0]
["5.7.16","Turtas, kurio nusidėvėjimą, amortizaciją prašoma finansuoti",null,null,1,0,0,0,null,null,null,null,null,"0",null,null,0,0,0]
["5.7.17","Turtas, kurio nusidėvėjimą, amortizaciją prašoma finansuoti",null,null,1,0,0,0,null,null,null,null,null,"0",null,null,0,0,0]
["5.7.18","Turtas, kurio nusidėvėjimą, amortizaciją prašoma finansuoti",null,null,1,0,0,0,null,null,null,null,null,"0",null,null,0,0,0]
["5.7.19","Turtas, kurio nusidėvėjimą, amortizaciją prašoma finansuoti",null,null,1,0,0,0,null,null,null,null,null,"0",null,null,0,0,0]
["5.7.20","Turtas, kurio nusidėvėjimą, amortizaciją prašoma finansuoti",null,null,1,0,0,0,null,null,null,null,null,"0",null,null,0,{"$f":"SUM(T148:AM148)","v":0},{"$f":"H148-R148","v":0}]
["5.7.21","Turtas, kurio nusidėvėjimą, amortizaciją prašoma finansuoti",null,null,1,0,0,0,null,null,null,null,null,"0",null,null,0,{"$f":"SUM(T149:AM149)","v":0},{"$f":"H149-R149","v":0}]
["5.7.22","Turtas, kurio nusidėvėjimą, amortizaciją prašoma finansuoti",null,null,1,0,0,0,null,null,null,null,null,"0",null,null,0,0,0]
["5.7.23","Turtas, kurio nusidėvėjimą, amortizaciją prašoma finansuoti",null,null,1,0,0,0,null,null,null,null,null,"0",null,null,0,0,0]
["5.7.24","Turtas, kurio nusidėvėjimą, amortizaciją prašoma finansuoti",null,null,1,0,0,0,null,null,null,null,null,"0",null,null,0,0,0]
["5.7.25","Turtas, kurio nusidėvėjimą, amortizaciją prašoma finansuoti",null,null,1,0,0,0,null,null,null,null,null,"0",null,null,0,0,0]
["5.7.26","Turtas, kurio nusidėvėjimą, amortizaciją prašoma finansuoti",null,null,1,0,0,0,null,null,null,null,null,"0",null,null,0,0,0]
["5.7.27","Turtas, kurio nusidėvėjimą, amortizaciją prašoma finansuoti",null,null,1,0,0,0,null,null,null,null,null,"0",null,null,0,0,0]
["5.7.28","Turtas, kurio nusidėvėjimą, amortizaciją prašoma finansuoti",null,null,1,0,0,0,null,null,null,null,null,"0",null,null,0,0,0]
["5.7.29","Turtas, kurio nusidėvėjimą, amortizaciją prašoma finansuoti",null,null,1,0,0,0,null,null,null,null,null,"0",null,null,0,0,0]
["5.8","Projektą vykdančio personalo darbo užmokestis ir išlaidos su darbo santykiais susijusiems darbdavio įsipareigojimams",null,null,null,null,{"$f":"SUM(G159:G223)","v":0},{"$f":"SUM(H159:H223)","v":0},null,"Faktiškai gaunamas darbo užmokesti už 1 valandą pagal  pastarųjų 6 mėn. vidurkį, Eur",null,null,null,null,null,null,null,0,0]
["5.8.1","Pareigybės pavadinimas","Darbuotojo vardas pavardė","val.",null,{"$f":"IFERROR(ROUND(AVERAGE(J159:J163),2),\"0\")","v":"0"},{"$f":"ROUND(E159*F159,2)","v":0},{"$f":"ROUND(G159*$D$7,2)","v":0},null,null,null,null,null,null,null,null,null,{"$f":"SUM(T159:AM159)","v":0},{"$f":"H159-R159","v":0}]
[null,null,"Darbuotojo vardas pavardė",null,null,null,null,null,null,null,null,null,null,null,null,null,null,{"$f":"SUM(T160:AM160)","v":0},{"$f":"H160-R160","v":0}]
[null,null,"Darbuotojo vardas pavardė",null,null,null,null,null,null,null,null,null,null,null,null,null,null,0,0]
[null,null,"Darbuotojo vardas pavardė",null,null,null,null,null,null,null,null,null,null,null,null,null,null,0,0]
[null,null,"Darbuotojo vardas pavardė",null,null,null,null,null,null,null,null,null,null,null,null,null,null,0,0]
["5.8.2","Pareigybės pavadinimas","Darbuotojo vardas pavardė","val.",null,{"$f":"IFERROR(ROUND(AVERAGE(J164:J168),2),\"0\")","v":"0"},{"$f":"ROUND(E164*F164,2)","v":0},{"$f":"ROUND(G164*$D$7,2)","v":0},null,null,null,null,null,null,null,null,null,0,0]
[null,null,"Darbuotojo vardas pavardė",null,null,null,null,null,null,null,null,null,null,null,null,null,null,0,0]
[null,null,"Darbuotojo vardas pavardė",null,null,null,null,null,null,null,null,null,null,null,null,null,null,0,0]
[null,null,"Darbuotojo vardas pavardė",null,null,null,null,null,null,null,null,null,null,null,null,null,null,0,0]
[null,null,"Darbuotojo vardas pavardė",null,null,null,null,null,null,null,null,null,null,null,null,null,null,0,0]
["5.8.3","Pareigybės pavadinimas","Darbuotojo vardas pavardė","val.",null,{"$f":"IFERROR(ROUND(AVERAGE(J169:J173),2),\"0\")","v":"0"},{"$f":"ROUND(E169*F169,2)","v":0},{"$f":"ROUND(G169*$D$7,2)","v":0},null,null,null,null,null,null,null,null,null,{"$f":"SUM(T169:AM169)","v":0},{"$f":"H169-R169","v":0}]
[null,null,"Darbuotojo vardas pavardė",null,null,null,null,null,null,null,null,null,null,null,null,null,null,{"$f":"SUM(T170:AM170)","v":0},{"$f":"H170-R170","v":0}]
[null,null,"Darbuotojo vardas pavardė",null,null,null,null,null,null,null,null,null,null,null,null,null,null,0,0]
[null,null,"Darbuotojo vardas pavardė",null,null,null,null,null,null,null,null,null,null,null,null,null,null,0,0]
[null,null,"Darbuotojo vardas pavardė",null,null,null,null,null,null,null,null,null,null,null,null,null,null,0,0]
["5.8.4","Pareigybės pavadinimas","Darbuotojo vardas pavardė","val.",null,{"$f":"IFERROR(ROUND(AVERAGE(J174:J178),2),\"0\")","v":"0"},{"$f":"ROUND(E174*F174,2)","v":0},{"$f":"ROUND(G174*$D$7,2)","v":0},null,null,null,null,null,null,null,null,null,0,0]
[null,null,"Darbuotojo vardas pavardė",null,null,null,null,null,null,null,null,null,null,null,null,null,null,0,0]
[null,null,"Darbuotojo vardas pavardė",null,null,null,null,null,null,null,null,null,null,null,null,null,null,0,0]
[null,null,"Darbuotojo vardas pavardė",null,null,null,null,null,null,null,null,null,null,null,null,null,null,0,0]
[null,null,"Darbuotojo vardas pavardė",null,null,null,null,null,null,null,null,null,null,null,null,null,null,0,0]
["5.8.5","Pareigybės pavadinimas","Darbuotojo vardas pavardė","val.",null,{"$f":"IFERROR(ROUND(AVERAGE(J179:J183),2),\"0\")","v":"0"},{"$f":"ROUND(E179*F179,2)","v":0},{"$f":"ROUND(G179*$D$7,2)","v":0},null,null,null,null,null,null,null,null,null,{"$f":"SUM(T179:AM179)","v":0},{"$f":"H179-R179","v":0}]
[null,null,"Darbuotojo vardas pavardė",null,null,null,null,null,null,null,null,null,null,null,null,null,null,{"$f":"SUM(T180:AM180)","v":0},{"$f":"H180-R180","v":0}]
[null,null,"Darbuotojo vardas pavardė",null,null,null,null,null,null,null,null,null,null,null,null,null,null,0,0]
[null,null,"Darbuotojo vardas pavardė",null,null,null,null,null,null,null,null,null,null,null,null,null,null,0,0]
[null,null,"Darbuotojo vardas pavardė",null,null,null,null,null,null,null,null,null,null,null,null,null,null,0,0]
["5.8.6","Pareigybės pavadinimas","Darbuotojo vardas pavardė","val.",null,{"$f":"IFERROR(ROUND(AVERAGE(J184:J188),2),\"0\")","v":"0"},{"$f":"ROUND(E184*F184,2)","v":0},{"$f":"ROUND(G184*$D$7,2)","v":0},null,null,null,null,null,null,null,null,null,0,0]
[null,null,"Darbuotojo vardas pavardė",null,null,null,null,null,null,null,null,null,null,null,null,null,null,0,0]
[null,null,"Darbuotojo vardas pavardė",null,null,null,null,null,null,null,null,null,null,null,null,null,null,0,0]
[null,null,"Darbuotojo vardas pavardė",null,null,null,null,null,null,null,null,null,null,null,null,null,null,0,0]
[null,null,"Darbuotojo vardas pavardė",null,null,null,null,null,null,null,null,null,null,null,null,null,null,0,0]
["5.8.7","Pareigybės pavadinimas","Darbuotojo vardas pavardė","val.",null,{"$f":"IFERROR(ROUND(AVERAGE(J189:J193),2),\"0\")","v":"0"},{"$f":"ROUND(E189*F189,2)","v":0},{"$f":"ROUND(G189*$D$7,2)","v":0},null,null,null,null,null,null,null,null,null,{"$f":"SUM(T189:AM189)","v":0},{"$f":"H189-R189","v":0}]
[null,null,"Darbuotojo vardas pavardė",null,null,null,null,null,null,null,null,null,null,null,null,null,null,{"$f":"SUM(T190:AM190)","v":0},{"$f":"H190-R190","v":0}]
[null,null,"Darbuotojo vardas pavardė",null,null,null,null,null,null,null,null,null,null,null,null,null,null,0,0]
[null,null,"Darbuotojo vardas pavardė",null,null,null,null,null,null,null,null,null,null,null,null,null,null,0,0]
[null,null,"Darbuotojo vardas pavardė",null,null,null,null,null,null,null,null,null,null,null,null,null,null,0,0]
["5.8.8","Pareigybės pavadinimas","Darbuotojo vardas pavardė","val.",null,{"$f":"IFERROR(ROUND(AVERAGE(J194:J198),2),\"0\")","v":"0"},{"$f":"ROUND(E194*F194,2)","v":0},{"$f":"ROUND(G194*$D$7,2)","v":0},null,null,null,null,null,null,null,null,null,0,0]
[null,null,"Darbuotojo vardas pavardė",null,null,null,null,null,null,null,null,null,null,null,null,null,null,0,0]
[null,null,"Darbuotojo vardas pavardė",null,null,null,null,null,null,null,null,null,null,null,null,null,null,0,0]
[null,null,"Darbuotojo vardas pavardė",null,null,null,null,null,null,null,null,null,null,null,null,null,null,0,0]
[null,null,"Darbuotojo vardas pavardė",null,null,null,null,null,null,null,null,null,null,null,null,null,null,0,0]
["5.8.9","Pareigybės pavadinimas","Darbuotojo vardas pavardė","val.",null,{"$f":"IFERROR(ROUND(AVERAGE(J199:J203),2),\"0\")","v":"0"},{"$f":"ROUND(E199*F199,2)","v":0},{"$f":"ROUND(G199*$D$7,2)","v":0},null,null,null,null,null,null,null,null,null,{"$f":"SUM(T199:AM199)","v":0},{"$f":"H199-R199","v":0}]
[null,null,"Darbuotojo vardas pavardė",null,null,null,null,null,null,null,null,null,null,null,null,null,null,{"$f":"SUM(T200:AM200)","v":0},{"$f":"H200-R200","v":0}]
[null,null,"Darbuotojo vardas pavardė",null,null,null,null,null,null,null,null,null,null,null,null,null,null,0,0]
[null,null,"Darbuotojo vardas pavardė",null,null,null,null,null,null,null,null,null,null,null,null,null,null,0,0]
[null,null,"Darbuotojo vardas pavardė",null,null,null,null,null,null,null,null,null,null,null,null,null,null,0,0]
["5.8.10","Pareigybės pavadinimas","Darbuotojo vardas pavardė","val.",null,{"$f":"IFERROR(ROUND(AVERAGE(J204:J208),2),\"0\")","v":"0"},{"$f":"ROUND(E204*F204,2)","v":0},{"$f":"ROUND(G204*$D$7,2)","v":0},null,null,null,null,null,null,null,null,null,0,0]
[null,null,"Darbuotojo vardas pavardė",null,null,null,null,null,null,null,null,null,null,null,null,null,null,0,0]
[null,null,"Darbuotojo vardas pavardė",null,null,null,null,null,null,null,null,null,null,null,null,null,null,0,0]
[null,null,"Darbuotojo vardas pavardė",null,null,null,null,null,null,null,null,null,null,null,null,null,null,0,0]
[null,null,"Darbuotojo vardas pavardė",null,null,null,null,null,null,null,null,null,null,null,null,null,null,{"$f":"SUM(T208:AM208)","v":0},{"$f":"H208-R208","v":0}]
["5.8.11","Pareigybės pavadinimas","Darbuotojo vardas pavardė","val.",null,{"$f":"IFERROR(ROUND(AVERAGE(J209:J213),2),\"0\")","v":"0"},{"$f":"ROUND(E209*F209,2)","v":0},{"$f":"ROUND(G209*$D$7,2)","v":0},null,null,null,null,null,null,null,null,null,{"$f":"SUM(T209:AM209)","v":0},{"$f":"H209-R209","v":0}]
[null,null,"Darbuotojo vardas pavardė",null,null,null,null,null,null,null,null,null,null,null,null,null,null,0,0]
[null,null,"Darbuotojo vardas pavardė",null,null,null,null,null,null,null,null,null,null,null,null,null,null,0,0]
[null,null,"Darbuotojo vardas pavardė",null,null,null,null,null,null,null,null,null,null,null,null,null,null,0,0]
[null,null,"Darbuotojo vardas pavardė",null,null,null,null,null,null,null,null,null,null,null,null,null,null,0,0]
["5.8.12","Pareigybės pavadinimas","Darbuotojo vardas pavardė","val.",null,{"$f":"IFERROR(ROUND(AVERAGE(J214:J218),2),\"0\")","v":"0"},{"$f":"ROUND(E214*F214,2)","v":0},{"$f":"ROUND(G214*$D$7,2)","v":0},null,null,null,null,null,null,null,null,null,0,0]
[null,null,"Darbuotojo vardas pavardė",null,null,null,null,null,null,null,null,null,null,null,null,null,null,0,0]
[null,null,"Darbuotojo vardas pavardė",null,null,null,null,null,null,null,null,null,null,null,null,null,null,0,0]
[null,null,"Darbuotojo vardas pavardė",null,null,null,null,null,null,null,null,null,null,null,null,null,null,0,0]
[null,null,"Darbuotojo vardas pavardė",null,null,null,null,null,null,null,null,null,null,null,null,null,null,{"$f":"SUM(T218:AM218)","v":0},{"$f":"H218-R218","v":0}]
["5.8.13","Pareigybės pavadinimas","Darbuotojo vardas pavardė","val.",null,{"$f":"IFERROR(ROUND(AVERAGE(J219:J223),2),\"0\")","v":"0"},{"$f":"ROUND(E219*F219,2)","v":0},{"$f":"ROUND(G219*$D$7,2)","v":0},null,null,null,null,null,null,null,null,null,{"$f":"SUM(T219:AM219)","v":0},{"$f":"H219-R219","v":0}]
[null,null,"Darbuotojo vardas pavardė",null,null,null,null,null,null,null,null,null,null,null,null,null,null,0,0]
[null,null,"Darbuotojo vardas pavardė",null,null,null,null,null,null,null,null,null,null,null,null,null,null,0,0]
[null,null,"Darbuotojo vardas pavardė",null,null,null,null,null,null,null,null,null,null,null,null,null,null,0,0]
[null,null,"Darbuotojo vardas pavardė",null,null,null,null,null,null,null,null,null,null,null,null,null,null,0,0]
["5.9","Projektą vykdančio personalo komandiruočių išlaidos",null,null,null,null,{"$f":"SUM(G225,G232,G239,G246,G253,G260,G267,G274,G281,G288)","v":0},{"$f":"SUM(H225,H232,H239,H246,H253,H260,H267,H274,H281,H288)","v":0},null,null,null,null,null,null,null,null,null,0,0]
["5.9.1","Komandiruotės pavadinimas, vieta, trukmė dienomis, vykstančių asmenų skaičius","Iš viso komandiruotei",null,null,null,{"$f":"SUM(G226:G231)","v":0},{"$f":"ROUND(G225*$D$7,2)","v":0},null,null,null,null,null,null,null,null,null,0,0]
[null,null,"Dienpinigiai",null,null,null,{"$f":"ROUND(E226*F226,2)","v":0},null,null,null,null,null,null,null,null,null,null,0,0]
[null,null,"Gyvenamojo ploto nuoma",null,null,null,0,null,null,null,null,null,null,null,null,null,null,0,0]
[null,null,"Kelionės išlaidos",null,null,null,0,null,null,null,null,null,null,null,null,null,null,{"$f":"SUM(T228:AM228)","v":0},{"$f":"H228-R228","v":0}]
[null,null,"Dalyvavimo mokestis",null,null,null,0,null,null,null,null,null,null,null,null,null,null,{"$f":"SUM(T229:AM229)","v":0},{"$f":"H229-R229","v":0}]
[null,null,"Kitos išlaidų pavadinimas",null,null,null,0,null,null,null,null,null,null,null,null,null,null,0,0]
[null,null,"Kitos išlaidų pavadinimas",null,null,null,0,null,null,null,null,null,null,null,null,null,null,0,0]
["5.9.2","Komandiruotės pavadinimas, vieta, trukmė dienomis, vykstančių asmenų skaičius","Iš viso komandiruotei",null,null,null,{"$f":"SUM(G233:G238)","v":0},{"$f":"ROUND(G232*$D$7,2)","v":0},null,null,null,null,null,null,null,null,null,0,0]
[null,null,"Dienpinigiai",null,null,null,0,null,null,null,null,null,null,null,null,null,null,0,0]
[null,null,"Gyvenamojo ploto nuoma",null,null,null,0,null,null,null,null,null,null,null,null,null,null,0,0]
[null,null,"Kelionės išlaidos",null,null,null,0,null,null,null,null,null,null,null,null,null,null,0,0]
[null,null,"Dalyvavimo mokestis",null,null,null,0,null,null,null,null,null,null,null,null,null,null,0,0]
[null,null,"Kitos išlaidų pavadinimas",null,null,null,0,null,null,null,null,null,null,null,null,null,null,0,0]
[null,null,"Kitos išlaidų pavadinimas",null,null,null,0,null,null,null,null,null,null,null,null,null,null,{"$f":"SUM(T238:AM238)","v":0},{"$f":"H238-R238","v":0}]
["5.9.3","Komandiruotės pavadinimas, vieta, trukmė dienomis, vykstančių asmenų skaičius","Iš viso komandiruotei",null,null,null,{"$f":"SUM(G240:G245)","v":0},{"$f":"ROUND(G239*$D$7,2)","v":0},null,null,null,null,null,null,null,null,null,{"$f":"SUM(T239:AM239)","v":0},{"$f":"H239-R239","v":0}]
[null,null,"Dienpinigiai",null,null,null,0,null,null,null,null,null,null,null,null,null,null,0,0]
[null,null,"Gyvenamojo ploto nuoma",null,null,null,0,null,null,null,null,null,null,null,null,null,null,0,0]
[null,null,"Kelionės išlaidos",null,null,null,0,null,null,null,null,null,null,null,null,null,null,0,0]
[null,null,"Dalyvavimo mokestis",null,null,null,0,null,null,null,null,null,null,null,null,null,null,0,0]
[null,null,"Kitos išlaidų pavadinimas",null,null,null,0,null,null,null,null,null,null,null,null,null,null,0,0]
[null,null,"Kitos išlaidų pavadinimas",null,null,null,0,null,null,null,null,null,null,null,null,null,null,0,0]
["5.9.4","Komandiruotės pavadinimas, vieta, trukmė dienomis, vykstančių asmenų skaičius","Iš viso komandiruotei",null,null,null,{"$f":"SUM(G247:G252)","v":0},{"$f":"ROUND(G246*$D$7,2)","v":0},null,null,null,null,null,null,null,null,null,0,0]
[null,null,"Dienpinigiai",null,null,null,0,null,null,null,null,null,null,null,null,null,null,0,0]
[null,null,"Gyvenamojo ploto nuoma",null,null,null,0,null,null,null,null,null,null,null,null,null,null,{"$f":"SUM(T248:AM248)","v":0},{"$f":"H248-R248","v":0}]
[null,null,"Kelionės išlaidos",null,null,null,0,null,null,null,null,null,null,null,null,null,null,{"$f":"SUM(T249:AM249)","v":0},{"$f":"H249-R249","v":0}]
[null,null,"Dalyvavimo mokestis",null,null,null,0,null,null,null,null,null,null,null,null,null,null,0,0]
[null,null,"Kitos išlaidų pavadinimas",null,null,null,0,null,null,null,null,null,null,null,null,null,null,0,0]
[null,null,"Kitos išlaidų pavadinimas",null,null,null,0,null,null,null,null,null,null,null,null,null,null,0,0]
["5.9.5","Komandiruotės pavadinimas, vieta, trukmė dienomis, vykstančių asmenų skaičius","Iš viso komandiruotei",null,null,null,{"$f":"SUM(G254:G259)","v":0},{"$f":"ROUND(G253*$D$7,2)","v":0},null,null,null,null,null,null,null,null,null,0,0]
[null,null,"Dienpinigiai",null,null,null,0,null,null,null,null,null,null,null,null,null,null,0,0]
[null,null,"Gyvenamojo ploto nuoma",null,null,null,0,null,null,null,null,null,null,null,null,null,null,0,0]
[null,null,"Kelionės išlaidos",null,null,null,0,null,null,null,null,null,null,null,null,null,null,0,0]
[null,null,"Dalyvavimo mokestis",null,null,null,0,null,null,null,null,null,null,null,null,null,null,0,0]
[null,null,"Kitos išlaidų pavadinimas",null,null,null,0,null,null,null,null,null,null,null,null,null,null,{"$f":"SUM(T258:AM258)","v":0},{"$f":"H258-R258","v":0}]
[null,null,"Kitos išlaidų pavadinimas",null,null,null,0,null,null,null,null,null,null,null,null,null,null,{"$f":"SUM(T259:AM259)","v":0},{"$f":"H259-R259","v":0}]
["5.9.6","Komandiruotės pavadinimas, vieta, trukmė dienomis, vykstančių asmenų skaičius","Iš viso komandiruotei",null,null,null,{"$f":"SUM(G261:G266)","v":0},{"$f":"ROUND(G260*$D$7,2)","v":0},null,null,null,null,null,null,null,null,null,0,0]
[null,null,"Dienpinigiai",null,null,null,0,null,null,null,null,null,null,null,null,null,null,0,0]
[null,null,"Gyvenamojo ploto nuoma",null,null,null,0,null,null,null,null,null,null,null,null,null,null,0,0]
[null,null,"Kelionės išlaidos",null,null,null,0,null,null,null,null,null,null,null,null,null,null,0,0]
[null,null,"Dalyvavimo mokestis",null,null,null,0,null,null,null,null,null,null,null,null,null,null,0,0]
[null,null,"Kitos išlaidų pavadinimas",null,null,null,0,null,null,null,null,null,null,null,null,null,null,0,0]
[null,null,"Kitos išlaidų pavadinimas",null,null,null,0,null,null,null,null,null,null,null,null,null,null,0,0]
["5.9.7","Komandiruotės pavadinimas, vieta, trukmė dienomis, vykstančių asmenų skaičius","Iš viso komandiruotei",null,null,null,{"$f":"SUM(G268:G273)","v":0},{"$f":"ROUND(G267*$D$7,2)","v":0},null,null,null,null,null,null,null,null,null,0,0]
[null,null,"Dienpinigiai",null,null,null,0,null,null,null,null,null,null,null,null,null,null,{"$f":"SUM(T268:AM268)","v":0},{"$f":"H268-R268","v":0}]
[null,null,"Gyvenamojo ploto nuoma",null,null,null,0,null,null,null,null,null,null,null,null,null,null,{"$f":"SUM(T269:AM269)","v":0},{"$f":"H269-R269","v":0}]
[null,null,"Kelionės išlaidos",null,null,null,0,null,null,null,null,null,null,null,null,null,null,0,0]
[null,null,"Dalyvavimo mokestis",null,null,null,0,null,null,null,null,null,null,null,null,null,null,0,0]
[null,null,"Kitos išlaidų pavadinimas",null,null,null,0,null,null,null,null,null,null,null,null,null,null,0,0]
[null,null,"Kitos išlaidų pavadinimas",null,null,null,0,null,null,null,null,null,null,null,null,null,null,0,0]
["5.9.8","Komandiruotės pavadinimas, vieta, trukmė dienomis, vykstančių asmenų skaičius","Iš viso komandiruotei",null,null,null,{"$f":"SUM(G275:G280)","v":0},{"$f":"ROUND(G274*$D$7,2)","v":0},null,null,null,null,null,null,null,null,null,0,0]
[null,null,"Dienpinigiai",null,null,null,0,null,null,null,null,null,null,null,null,null,null,0,0]
[null,null,"Gyvenamojo ploto nuoma",null,null,null,0,null,null,null,null,null,null,null,null,null,null,0,0]
[null,null,"Kelionės išlaidos",null,null,null,0,null,null,null,null,null,null,null,null,null,null,0,0]
[null,null,"Dalyvavimo mokestis",null,null,null,0,null,null,null,null,null,null,null,null,null,null,{"$f":"SUM(T278:AM278)","v":0},{"$f":"H278-R278","v":0}]
[null,null,"Kitos išlaidų pavadinimas",null,null,null,0,null,null,null,null,null,null,null,null,null,null,{"$f":"SUM(T279:AM279)","v":0},{"$f":"H279-R279","v":0}]
[null,null,"Kitos išlaidų pavadinimas",null,null,null,0,null,null,null,null,null,null,null,null,null,null,0,0]
["5.9.9","Komandiruotės pavadinimas, vieta, trukmė dienomis, vykstančių asmenų skaičius","Iš viso komandiruotei",null,null,null,{"$f":"SUM(G282:G287)","v":0},{"$f":"ROUND(G281*$D$7,2)","v":0},null,null,null,null,null,null,null,null,null,0,0]
[null,null,"Dienpinigiai",null,null,null,0,null,null,null,null,null,null,null,null,null,null,0,0]
[null,null,"Gyvenamojo ploto nuoma",null,null,null,0,null,null,null,null,null,null,null,null,null,null,{"$f":"SUM(T283:AM283)","v":0},{"$f":"H283-R283","v":0}]
[null,null,"Kelionės išlaidos",null,null,null,0,null,null,null,null,null,null,null,null,null,null,{"$f":"SUM(T284:AM284)","v":0},{"$f":"H284-R284","v":0}]
[null,null,"Dalyvavimo mokestis",null,null,null,0,null,null,null,null,null,null,null,null,null,null,{"$f":"SUM(T285:AM285)","v":0},{"$f":"H285-R285","v":0}]
[null,null,"Kitos išlaidų pavadinimas",null,null,null,0,null,null,null,null,null,null,null,null,null,null,{"$f":"SUM(T286:AM286)","v":0},{"$f":"H286-R286","v":0}]
[null,null,"Kitos išlaidų pavadinimas",null,null,null,0,null,null,null,null,null,null,null,null,null,null,0,0]
["5.9.10","Komandiruotės pavadinimas, vieta, trukmė dienomis, vykstančių asmenų skaičius","Iš viso komandiruotei",null,null,null,{"$f":"SUM(G289:G294)","v":0},{"$f":"ROUND(G288*$D$7,2)","v":0},null,null,null,null,null,null,null,null,null,0,0]
[null,null,"Dienpinigiai",null,null,null,0,null,null,null,null,null,null,null,null,null,null,0,0]
[null,null,"Gyvenamojo ploto nuoma",null,null,null,0,null,null,null,null,null,null,null,null,null,null,0,0]
[null,null,"Kelionės išlaidos",null,null,null,{"$f":"ROUND(E291*F291,2)","v":0},null,null,null,null,null,null,null,null,null,null,0,0]
[null,null,"Dalyvavimo mokestis",null,null,null,0,null,null,null,null,null,null,null,null,null,null,0,0]
[null,null,"Kitos išlaidų pavadinimas",null,null,null,0,null,null,null,null,null,null,null,null,null,null,0,0]
[null,null,"Kitos išlaidų pavadinimas",null,null,null,0,null,null,null,null,null,null,null,null,null,null,0,0]
["5.10","Įrangos nuomos išlaidos, veiklai priskirtos pro rata principu. Įranga turi būti tiesiogiai susijusi su projekto įgyvendinimu ir negali būti įsigyta iš ES struktūrinių fondų ar kt. ES finansinių priemonių lėšų",null,null,null,null,{"$f":"SUM(G296:G312)","v":0},{"$f":"SUM(H296:H312)","v":0},null,"Faktinės 1 mėnesio išlaidos, Eur","Naudojimo projekte trukmė, mėn.",null,null,null,null,null,null,0,0]
["5.10.1","Įrangos pavadinimas",null,"pro rata proc.",null,{"$f":"J296*K296","v":0},{"$f":"ROUND(E296*F296,2)","v":0},{"$f":"ROUND(G296*$D$7,2)","v":0},null,null,null,null,null,null,null,null,null,{"$f":"SUM(T296:AM296)","v":0},{"$f":"H296-R296","v":0}]
["5.10.2","Įrangos pavadinimas",null,"pro rata proc.",null,{"$f":"J297*K297","v":0},0,{"$f":"ROUND(G297*$D$7,2)","v":0},null,null,null,null,null,null,null,null,null,{"$f":"SUM(T297:AM297)","v":0},{"$f":"H297-R297","v":0}]
["5.10.3","Įrangos pavadinimas",null,"pro rata proc.",null,0,0,0,null,null,null,null,null,null,null,null,null,0,0]
["5.10.4","Įrangos pavadinimas",null,"pro rata proc.",null,0,0,0,null,null,null,null,null,null,null,null,null,0,0]
["5.10.5","Įrangos pavadinimas",null,"pro rata proc.",null,0,0,0,null,null,null,null,null,null,null,null,null,0,0]
["5.10.6","Įrangos pavadinimas",null,"pro rata proc.",null,0,0,0,null,null,null,null,null,null,null,null,null,0,0]
["5.10.7","Įrangos pavadinimas",null,"pro rata proc.",null,0,0,0,null,null,null,null,null,null,null,null,null,{"$f":"SUM(T302:AM302)","v":0},{"$f":"H302-R302","v":0}]
["5.10.8","Įrangos pavadinimas",null,"pro rata proc.",null,0,0,0,null,null,null,null,null,null,null,null,null,{"$f":"SUM(T303:AM303)","v":0},{"$f":"H303-R303","v":0}]
["5.10.9","Įrangos pavadinimas",null,"pro rata proc.",null,0,0,0,null,null,null,null,null,null,null,null,null,{"$f":"SUM(T304:AM304)","v":0},{"$f":"H304-R304","v":0}]
["5.10.10","Įrangos pavadinimas",null,"pro rata proc.",null,0,0,0,null,null,null,null,null,null,null,null,null,0,0]
["5.10.11","Įrangos pavadinimas",null,"pro rata proc.",null,0,0,0,null,null,null,null,null,null,null,null,null,0,0]
["5.10.12","Įrangos pavadinimas",null,"pro rata proc.",null,0,0,0,null,null,null,null,null,null,null,null,null,{"$f":"SUM(T307:AM307)","v":0},{"$f":"H307-R307","v":0}]
["5.10.13","Įrangos pavadinimas",null,"pro rata proc.",null,0,0,0,null,null,null,null,null,null,null,null,null,{"$f":"SUM(T308:AM308)","v":0},{"$f":"H308-R308","v":0}]
["5.10.14","Įrangos pavadinimas",null,"pro rata proc.",null,0,0,0,null,null,null,null,null,null,null,null,null,{"$f":"SUM(T309:AM309)","v":0},{"$f":"H309-R309","v":0}]
["5.10.15","Įrangos pavadinimas",null,"pro rata proc.",null,0,0,0,null,null,null,null,null,null,null,null,null,{"$f":"SUM(T310:AM310)","v":0},{"$f":"H310-R310","v":0}]
["5.10.16","Įrangos pavadinimas",null,"pro rata proc.",null,0,0,0,null,null,null,null,null,null,null,null,null,0,0]
["5.10.17","Įrangos pavadinimas",null,"pro rata proc.",null,0,0,0,null,null,null,null,null,null,null,null,null,0,0]
["5.11","Pastatų ar patalpų nuomos išlaidos, veiklai priskirtos pro rata principu. Pastatai ar patalpos turi būti tiesiogiai susijusi su projekto įgyvendinimu.",null,null,null,null,{"$f":"SUM(G314:G318)","v":0},{"$f":"SUM(H314:H318)","v":0},null,"Faktinės 1 mėnesio išlaidos, Eur","Naudojimo projekte trukmė, mėn.",null,null,null,null,null,null,0,0]
["5.11.1","Pastato, patalpų adresas",null,"pro rata proc.",null,{"$f":"J314*K314","v":0},{"$f":"ROUND(E314*F314,2)","v":0},{"$f":"ROUND(G314*$D$7,2)","v":0},null,null,null,null,null,null,null,null,null,0,0]
["5.11.2","Pastato, patalpų adresas",null,"pro rata proc.",null,{"$f":"J315*K315","v":0},{"$f":"ROUND(E315*F315,2)","v":0},{"$f":"ROUND(G315*$D$7,2)","v":0},null,null,null,null,null,null,null,null,null,0,0]
["5.11.3","Pastato, patalpų adresas",null,"pro rata proc.",null,0,0,0,null,null,null,null,null,null,null,null,null,0,0]
["5.11.4","Pastato, patalpų adresas",null,"pro rata proc.",null,0,0,0,null,null,null,null,null,null,null,null,null,0,0]
["5.11.5","Pastato, patalpų adresas",null,"pro rata proc.",null,0,0,0,null,null,null,null,null,null,null,null,null,0,0]
["Iš viso tinkamų finansuoti išlaidų:",null,null,null,null,null,{"$f":"G10+G44","v":0},{"$f":"H10+H44","v":0}]

{"sheet":"3","index":5,"n_rows":319,"n_cols":39,"rows_kept":319,"cut":false,"hidden":false,"merged":[[315,1,315,2],[316,1,316,2],[317,1,317,2],[318,0,318,5],[306,1,306,2],[307,1,307,2],[308,1,308,2],[309,1,309,2],[310,1,310,2],[311,1,311,2],[312,1,312,5],[313,1,313,2],[314,1,314,2],[297,1,297,2],[298,1,298,2],[299,1,299,2],[300,1,300,2],[301,1,301,2],[302,1,302,2],[303,1,303,2],[304,1,304,2],[305,1,305,2],[224,0,230,0],[224,1,230,1],[224,8,230,8],[231,0,237,0],[231,1,237,1],[231,8,237,8],[238,0,244,0],[238,1,244,1],[238,8,244,8],[218,0,222,0],[218,1,222,1],[218,3,222,3],[218,4,222,4],[218,5,222,5],[218,6,222,6],[218,7,222,7],[218,8,222,8],[223,1,223,5],[208,0,212,0],[208,1,212,1],[208,3,212,3],[208,4,212,4],[208,5,212,5],[208,6,212,6],[208,7,212,7],[208,8,212,8],[213,0,217,0],[213,1,217,1],[213,3,217,3],[213,4,217,4],[213,5,217,5],[213,6,217,6],[213,7,217,7],[213,8,217,8],[203,0,207,0],[203,1,207,1],[203,3,207,3],[203,4,207,4],[203,5,207,5],[203,6,207,6],[203,7,207,7],[203,8,207,8],[198,0,202,0],[198,1,202,1],[198,3,202,3],[198,4,202,4],[198,5,202,5],[188,0,192,0],[188,1,192,1],[188,3,192,3],[188,4,192,4],[188,5,192,5],[188,6,192,6],[188,7,192,7],[188,8,192,8],[198,6,202,6],[198,7,202,7],[198,8,202,8],[193,0,197,0],[193,1,197,1],[193,3,197,3],[193,4,197,4],[193,5,197,5],[193,6,197,6],[193,7,197,7],[193,8,197,8],[168,0,172,0],[168,1,172,1],[168,3,172,3],[168,4,172,4],[168,5,172,5],[168,6,172,6],[168,7,172,7],[168,8,172,8],[173,0,177,0],[173,1,177,1],[173,3,177,3],[173,4,177,4],[173,5,177,5],[173,6,177,6],[173,7,177,7],[173,8,177,8],[158,8,162,8],[163,0,167,0],[163,1,167,1],[163,3,167,3],[163,4,167,4],[163,5,167,5],[163,6,167,6],[163,7,167,7],[163,8,167,8],[158,6,162,6],[158,7,162,7],[142,1,142,2],[143,1,143,2],[144,1,144,2],[145,1,145,2],[146,1,146,2],[147,1,147,2],[148,1,148,2],[149,1,149,2],[150,1,150,2],[295,1,295,2],[294,1,294,5],[296,1,296,2],[266,1,272,1],[245,0,251,0],[245,1,251,1],[245,8,251,8],[252,0,258,0],[252,1,258,1],[252,8,258,8],[259,0,265,0],[259,1,265,1],[259,8,265,8],[266,0,272,0],[266,8,272,8],[273,0,279,0],[273,1,279,1],[273,8,279,8],[280,0,286,0],[280,1,286,1],[280,8,286,8],[287,0,293,0],[287,1,293,1],[287,8,293,8],[178,0,182,0],[178,1,182,1],[178,3,182,3],[178,4,182,4],[178,5,182,5],[178,6,182,6],[178,7,182,7],[178,8,182,8],[183,0,187,0],[183,1,187,1],[183,3,187,3],[183,4,187,4],[183,5,187,5],[183,6,187,6],[183,7,187,7],[183,8,187,8],[5,3,5,8],[8,1,8,2],[9,1,9,5],[11,1,11,2],[12,1,12,2],[0,3,0,8],[2,0,2,2],[2,3,2,8],[3,3,3,4],[3,5,3,6],[4,0,4,2],[4,3,4,8],[10,1,10,5],[19,1,19,2],[21,1,21,5],[22,1,22,2],[23,1,23,2],[24,1,24,2],[13,1,13,2],[14,1,14,2],[15,1,15,2],[16,1,16,2],[17,1,17,2],[18,1,18,2],[20,1,20,2],[31,1,31,2],[32,1,32,5],[33,1,33,2],[34,1,34,2],[35,1,35,2],[36,1,36,2],[25,1,25,2],[26,1,26,2],[27,1,27,2],[28,1,28,2],[29,1,29,2],[30,1,30,2],[43,1,43,5],[45,1,45,2],[46,1,46,2],[47,1,47,2],[48,1,48,2],[37,1,37,2],[38,1,38,2],[39,1,39,2],[40,1,40,2],[41,1,41,2],[42,1,42,2],[44,1,44,5],[56,1,56,2],[57,1,57,2],[58,1,58,2],[59,1,59,2],[60,1,60,2],[49,1,49,2],[50,1,50,2],[51,1,51,2],[52,1,52,2],[53,1,53,2],[54,1,54,2],[55,1,55,5],[67,1,67,2],[68,1,68,2],[69,1,69,2],[70,1,70,2],[72,1,72,2],[61,1,61,2],[62,1,62,2],[63,1,63,2],[64,1,64,2],[65,1,65,2],[66,1,66,5],[71,1,71,2],[79,1,79,2],[80,1,80,2],[81,1,81,2],[82,1,82,2],[83,1,83,2],[84,1,84,2],[73,1,73,2],[74,1,74,2],[75,1,75,2],[76,1,76,2],[78,1,78,2],[77,1,77,5],[91,1,91,2],[92,1,92,2],[93,1,93,2],[94,1,94,2],[95,1,95,2],[96,1,96,2],[85,1,85,2],[86,1,86,2],[87,1,87,2],[89,1,89,2],[90,1,90,2],[88,1,88,5],[97,1,97,2],[98,1,98,2],[100,1,100,2],[101,1,101,2],[102,1,102,2],[103,1,103,2],[104,1,104,2],[99,1,99,5],[105,1,105,2],[106,1,106,2],[107,1,107,2],[108,1,108,2],[109,1,109,2],[110,1,110,2],[111,1,111,2],[112,1,112,2],[113,1,113,2],[114,1,114,2],[115,1,115,2],[116,1,116,2],[117,1,117,2],[118,1,118,2],[119,1,119,2],[120,1,120,2],[121,1,121,2],[122,1,122,2],[123,1,123,2],[124,1,124,2],[125,1,125,2],[126,1,126,2],[128,1,128,2],[129,1,129,2],[130,1,130,2],[131,1,131,2],[132,1,132,2],[127,1,127,5],[133,1,133,2],[134,1,134,2],[135,1,135,2],[136,1,136,2],[137,1,137,2],[138,1,138,2],[139,1,139,2],[140,1,140,2],[141,1,141,2],[151,1,151,2],[152,1,152,2],[153,1,153,2],[154,1,154,2],[155,1,155,2],[156,1,156,2],[157,1,157,5],[158,0,162,0],[158,1,162,1],[158,3,162,3],[158,4,162,4],[158,5,162,5]]}
[null,null,"Pasirinkite veiklos tipą:"]
[null,null,"Fizinio rodiklio Nr.:"]
["Fizinio rodiklio pavadinimas:"]
[null,null,"Fizinio rodiklio matavimo vnt.:",null,null,"Fizinio rodiklio vnt. skaičius:"]
["Juridinis asmuo (pareiškėjas, partneris), atsakingas už fizinį rodiklį:"]
[null,null,"Vykdytojo tipas:"]
[null,null,"Finansavimo intensyvumas:",null,null,null,"Pasirinkite biudžeto išlaidų kategoriją:","Visos"]
[]
["Eil. Nr.","Išlaidų kategorijos pavadinimas",null,"Matavimo vnt.","Kiekis","Vieneto kaina be PVM, Eur","Tinkamų finansuoti išlaidų suma be PVM, Eur","Finansavimo suma, Eur","Išlaidų pagrindimo dokumentų pavadinimas, data ir Nr.",null,null,null,null,null,null,null,null,"Apmokėta","Likutis","MP001","MP002","MP003","MP004","MP005","MP006","MP007","MP008","MP009","MP010","MP011","MP012","MP013","MP014","MP015","MP016","MP017","MP018","MP019","MP020"]
[4,"ĮRANGA, ĮRENGINIAI IR KT. TURTAS (tinkamos finansuoti išlaidos, susijusios su COVID-19, yra išlaidos, tiesiogiai susijusios su projekto įgyvendinimu, ir paskirstytos proporcingai veiklai (pro rata principu)",null,null,null,null,{"$f":"SUM(G11+G22+G33)","v":0},{"$f":"SUM(H11+H22+H33)","v":0},null,null,null,null,null,null,null,null,null,{"$f":"SUM(T10:AM10)","v":0},{"$f":"H10-R10","v":0}]
["4.1","Skaitmeninė ir kompiuterinė įranga",null,null,null,null,{"$f":"SUM(G12:G21)","v":0},{"$f":"SUM(H12:H21)","v":0},null,"Infrastruktūros naudojimo laiko dalis, skirta išimtinai MTEP, proc.",null,null,null,null,null,null,null,0,0]
["4.1.1","Išlaidų pavadinimas",null,null,null,null,{"$f":"ROUND(E12*F12,2)","v":0},{"$f":"ROUND(G12*$D$7*J12,2)","v":0},null,1,null,null,null,null,null,null,null,{"$f":"SUM(T12:AM12)","v":0},{"$f":"H12-R12","v":0}]
["4.1.2","Išlaidų pavadinimas",null,null,null,null,{"$f":"ROUND(E13*F13,2)","v":0},{"$f":"ROUND(G13*$D$7*J13,2)","v":0},null,1,null,null,null,null,null,null,null,{"$f":"SUM(T13:AM13)","v":0},{"$f":"H13-R13","v":0}]
["4.1.3","Išlaidų pavadinimas",null,null,null,null,{"$f":"ROUND(E14*F14,2)","v":0},0,null,1,null,null,null,null,null,null,null,0,0]
["4.1.4","Išlaidų pavadinimas",null,null,null,null,0,0,null,1,null,null,null,null,null,null,null,0,0]
["4.1.5","Išlaidų pavadinimas",null,null,null,null,0,0,null,1,null,null,null,null,null,null,null,0,0]
["4.1.6","Išlaidų pavadinimas",null,null,null,null,0,0,null,1,null,null,null,null,null,null,null,0,0]
["4.1.7","Išlaidų pavadinimas",null,null,null,null,0,0,null,1,null,null,null,null,null,null,null,0,0]
["4.1.8","Išlaidų pavadinimas",null,null,null,null,0,0,null,1,null,null,null,null,null,null,null,0,0]
["4.1.9","Išlaidų pavadinimas",null,null,null,null,0,0,null,1,null,null,null,null,null,null,null,0,0]
["4.1.10","Išlaidų pavadinimas",null,null,null,null,0,0,null,1,null,null,null,null,null,null,null,0,0]
["4.2","Diagnostikos priemonės, duomenų rinkimo ir tvarkymo priemonės",null,null,null,null,{"$f":"SUM(G23:G32)","v":0},{"$f":"SUM(H23:H32)","v":0},null,null,null,null,null,null,null,null,null,0,0]
["4.2.1","Išlaidų pavadinimas",null,null,null,null,{"$f":"ROUND(E23*F23,2)","v":0},{"$f":"ROUND(G23*$D$7*J23,2)","v":0},null,1,null,null,null,null,null,null,null,{"$f":"SUM(T23:AM23)","v":0},{"$f":"H23-R23","v":0}]
["4.2.2","Išlaidų pavadinimas",null,null,null,null,{"$f":"ROUND(E24*F24,2)","v":0},{"$f":"ROUND(G24*$D$7*J24,2)","v":0},null,1,null,null,null,null,null,null,null,{"$f":"SUM(T24:AM24)","v":0},{"$f":"H24-R24","v":0}]
["4.2.3","Išlaidų pavadinimas",null,null,null,null,{"$f":"ROUND(E25*F25,2)","v":0},0,null,1,null,null,null,null,null,null,null,0,0]
["4.2.4","Išlaidų pavadinimas",null,null,null,null,0,0,null,1,null,null,null,null,null,null,null,0,0]
["4.2.5","Išlaidų pavadinimas",null,null,null,null,0,0,null,1,null,null,null,null,null,null,null,0,0]
["4.2.6","Išlaidų pavadinimas",null,null,null,null,0,0,null,1,null,null,null,null,null,null,null,0,0]
["4.2.7","Išlaidų pavadinimas",null,null,null,null,0,0,null,1,null,null,null,null,null,null,null,0,0]
["4.2.8","Išlaidų pavadinimas",null,null,null,null,0,0,null,1,null,null,null,null,null,null,null,0,0]
["4.2.9","Išlaidų pavadinimas",null,null,null,null,0,0,null,1,null,null,null,null,null,null,null,0,0]
["4.2.10","Išlaidų pavadinimas",null,null,null,null,0,0,null,1,null,null,null,null,null,null,null,0,0]
["4.3","Patentų ir kito nematerialiojo turto įsigijimui, patvirtinimui ir apsaugai priskiriamos išlaidos",null,null,null,null,{"$f":"SUM(G34:G43)","v":0},{"$f":"SUM(H34:H43)","v":0},null,null,null,null,null,null,null,null,null,0,0]
["4.3.1","Išlaidų pavadinimas",null,null,null,null,{"$f":"ROUND(E34*F34,2)","v":0},{"$f":"ROUND(G34*$D$7*J34,2)","v":0},null,1,null,null,null,null,null,null,null,{"$f":"SUM(T34:AM34)","v":0},{"$f":"H34-R34","v":0}]
["4.3.2","Išlaidų pavadinimas",null,null,null,null,{"$f":"ROUND(E35*F35,2)","v":0},{"$f":"ROUND(G35*$D$7*J35,2)","v":0},null,1,null,null,null,null,null,null,null,{"$f":"SUM(T35:AM35)","v":0},{"$f":"H35-R35","v":0}]
["4.3.3","Išlaidų pavadinimas",null,null,null,null,{"$f":"ROUND(E36*F36,2)","v":0},0,null,1,null,null,null,null,null,null,null,0,0]
["4.3.4","Išlaidų pavadinimas",null,null,null,null,0,0,null,1,null,null,null,null,null,null,null,0,0]
["4.3.5","Išlaidų pavadinimas",null,null,null,null,0,0,null,1,null,null,null,null,null,null,null,0,0]
["4.3.6","Išlaidų pavadinimas",null,null,null,null,0,0,null,1,null,null,null,null,null,null,null,0,0]
["4.3.7","Išlaidų pavadinimas",null,null,null,null,0,0,null,1,null,null,null,null,null,null,null,0,0]
["4.3.8","Išlaidų pavadinimas",null,null,null,null,0,0,null,1,null,null,null,null,null,null,null,0,0]
["4.3.9","Išlaidų pavadinimas",null,null,null,null,0,0,null,1,null,null,null,null,null,null,null,0,0]
["4.3.10","Išlaidų pavadinimas",null,null,null,null,0,0,null,1,null,null,null,null,null,null,null,0,0]
[5,"PROJEKTO VYKDYMAS",null,null,null,null,{"$f":"G45+G56+G100+G128+G158+G224+G295+G313+G78+G67+G89","v":0},{"$f":"H45+H56+H100+H128+H158+H224+H295+H313+H78+H67+H89","v":0},null,null,null,null,null,null,null,null,null,0,0]
["5.1","MTEP paslaugos",null,null,null,null,{"$f":"SUM(G46:G55)","v":0},{"$f":"SUM(H46:H55)","v":0},null,null,null,null,null,null,null,null,null,0,0]
["5.1.1","Paslaugos pavadinimas",null,null,null,null,{"$f":"ROUND(E46*F46,2)","v":0},{"$f":"ROUND(G46*$D$7,2)","v":0},null,null,null,null,null,null,null,null,null,{"$f":"SUM(T46:AM46)","v":0},{"$f":"H46-R46","v":0}]
["5.1.2","Paslaugos pavadinimas",null,null,null,null,0,0,null,null,null,null,null,null,null,null,null,{"$f":"SUM(T47:AM47)","v":0},{"$f":"H47-R47","v":0}]
["5.1.3","Paslaugos pavadinimas",null,null,null,null,0,0,null,null,null,null,null,null,null,null,null,0,0]
["5.1.4","Paslaugos pavadinimas",null,null,null,null,0,0,null,null,null,null,null,null,null,null,null,0,0]
["5.1.5","Paslaugos pavadinimas",null,null,null,null,0,0,null,null,null,null,null,null,null,null,null,0,0]
["5.1.6","Paslaugos pavadinimas",null,null,null,null,0,0,null,null,null,null,null,null,null,null,null,0,0]
["5.1.7","Paslaugos pavadinimas",null,null,null,null,0,0,null,null,null,null,null,null,null,null,null,0,0]
["5.1.8","Paslaugos pavadinimas",null,null,null,null,0,0,null,null,null,null,null,null,null,null,null,0,0]
["5.1.9","Paslaugos pavadinimas",null,null,null,null,0,0,null,null,null,null,null,null,null,null,null,0,0]
["5.1.10","Paslaugos pavadinimas",null,null,null,null,0,0,null,null,null,null,null,null,null,null,null,0,0]
["5.2","Konsultavimo ir lygiavertės paslaugos, teikiamos vien tik projekto MTEP veiklai.",null,null,null,null,{"$f":"SUM(G57:G66)","v":0},{"$f":"SUM(H57:H66)","v":0},null,null,null,null,null,null,null,null,null,0,0]
["5.2.1","Paslaugos pavadinimas",null,null,null,null,{"$f":"ROUND(E57*F57,2)","v":0},0,null,null,null,null,null,null,null,null,null,{"$f":"SUM(T57:AM57)","v":0},{"$f":"H57-R57","v":0}]
["5.2.2","Paslaugos pavadinimas",null,null,null,null,0,0,null,null,null,null,null,null,null,null,null,{"$f":"SUM(T58:AM58)","v":0},{"$f":"H58-R58","v":0}]
["5.2.3","Paslaugos pavadinimas",null,null,null,null,0,0,null,null,null,null,null,null,null,null,null,0,0]
["5.2.4","Paslaugos pavadinimas",null,null,null,null,0,0,null,null,null,null,null,null,null,null,null,0,0]
["5.2.5","Paslaugos pavadinimas",null,null,null,null,0,0,null,null,null,null,null,null,null,null,null,0,0]
["5.2.6","Paslaugos pavadinimas",null,null,null,null,0,0,null,null,null,null,null,null,null,null,null,0,0]
["5.2.7","Paslaugos pavadinimas",null,null,null,null,0,0,null,null,null,null,null,null,null,null,null,0,0]
["5.2.8","Paslaugos pavadinimas",null,null,null,null,0,0,null,null,null,null,null,null,null,null,null,0,0]
["5.2.9","Paslaugos pavadinimas",null,null,null,null,0,0,null,null,null,null,null,null,null,null,null,0,0]
["5.2.10","Paslaugos pavadinimas",null,null,null,null,0,0,null,null,null,null,null,null,null,null,null,0,0]
["5.3","Ikiklinikinių ir klinikinių tyrimų (I–IV tyrimų etapais) paslaugos (IV etapo tyrimų išlaidos yra tinkamos finansuoti, jei šiais tyrimais sudaromos sąlygos tolesnei mokslinei ar technologinei pažangai)",null,null,null,null,{"$f":"SUM(G68:G77)","v":0},{"$f":"SUM(H68:H77)","v":0},null,null,null,null,null,null,null,null,null,0,0]
["5.3.1","Paslaugos pavadinimas",null,null,null,null,{"$f":"ROUND(E68*F68,2)","v":0},{"$f":"ROUND(G68*$D$7,2)","v":0},null,null,null,null,null,null,null,null,null,{"$f":"SUM(T68:AM68)","v":0},{"$f":"H68-R68","v":0}]
["5.3.2","Paslaugos pavadinimas",null,null,null,null,0,0,null,null,null,null,null,null,null,null,null,{"$f":"SUM(T69:AM69)","v":0},{"$f":"H69-R69","v":0}]
["5.3.3","Paslaugos pavadinimas",null,null,null,null,0,0,null,null,null,null,null,null,null,null,null,0,0]
["5.3.4","Paslaugos pavadinimas",null,null,null,null,0,0,null,null,null,null,null,null,null,null,null,0,0]
["5.3.5","Paslaugos pavadinimas",null,null,null,null,0,0,null,null,null,null,null,null,null,null,null,0,0]
["5.3.6","Paslaugos pavadinimas",null,null,null,null,0,0,null,null,null,null,null,null,null,null,null,0,0]
["5.3.7","Paslaugos pavadinimas",null,null,null,null,0,0,null,null,null,null,null,null,null,null,null,0,0]
["5.3.8","Paslaugos pavadinimas",null,null,null,null,0,0,null,null,null,null,null,null,null,null,null,0,0]
["5.3.9","Paslaugos pavadinimas",null,null,null,null,0,0,null,null,null,null,null,null,null,null,null,0,0]
["5.3.10","Paslaugos pavadinimas",null,null,null,null,0,0,null,null,null,null,null,null,null,null,null,0,0]
["5.4","Naujiems produktams ir technologijoms sertifikuoti būtinos išlaidos",null,null,null,null,{"$f":"SUM(G79:G88)","v":0},{"$f":"SUM(H79:H88)","v":0},null,null,null,null,null,null,null,null,null,0,0]
["5.4.1","Išlaidų pavadinimas",null,null,null,null,{"$f":"ROUND(E79*F79,2)","v":0},{"$f":"ROUND(G79*$D$7,2)","v":0},null,null,null,null,null,null,null,null,null,{"$f":"SUM(T79:AM79)","v":0},{"$f":"H79-R79","v":0}]
["5.4.2","Išlaidų pavadinimas",null,null,null,null,0,0,null,null,null,null,null,null,null,null,null,{"$f":"SUM(T80:AM80)","v":0},{"$f":"H80-R80","v":0}]
["5.4.3","Išlaidų pavadinimas",null,null,null,null,0,0,null,null,null,null,null,null,null,null,null,0,0]
["5.4.4","Išlaidų pavadinimas",null,null,null,null,0,0,null,null,null,null,null,null,null,null,null,0,0]
["5.4.5","Išlaidų pavadinimas",null,null,null,null,0,0,null,null,null,null,null,null,null,null,null,0,0]
["5.4.6","Išlaidų pavadinimas",null,null,null,null,0,0,null,null,null,null,null,null,null,null,null,0,0]
["5.4.7","Išlaidų pavadinimas",null,null,null,null,0,0,null,null,null,null,null,null,null,null,null,0,0]
["5.4.8","Išlaidų pavadinimas",null,null,null,null,0,0,null,null,null,null,null,null,null,null,null,0,0]
["5.4.9","Išlaidų pavadinimas",null,null,null,null,0,0,null,null,null,null,null,null,null,null,null,0,0]
["5.4.10","Išlaidų pavadinimas",null,null,null,null,0,0,null,null,null,null,null,null,null,null,null,0,0]
["5.5","Paslaugų išlaidos, patirtos siekiant gauti atitikties vertinimus ir (arba) leidimus, būtinus prekybai naujomis ir patobulintomis vakcinomis ir vaistiniais preparatais, medicinos priemonėmis, ligoninių ir medicinos reikmenimis, dezinfekavimo priemonėmis ir asmeninėmis apsaugos priemonėmis",null,null,null,null,{"$f":"SUM(G90:G99)","v":0},{"$f":"SUM(H90:H99)","v":0},null,null,null,null,null,null,null,null,null,0,0]
["5.5.1","Paslaugos pavadinimas",null,null,null,null,{"$f":"ROUND(E90*F90,2)","v":0},{"$f":"ROUND(G90*$D$7,2)","v":0},null,null,null,null,null,null,null,null,null,{"$f":"SUM(T90:AM90)","v":0},{"$f":"H90-R90","v":0}]
["5.5.2","Paslaugos pavadinimas",null,null,null,null,0,0,null,null,null,null,null,null,null,null,null,{"$f":"SUM(T91:AM91)","v":0},{"$f":"H91-R91","v":0}]
["5.5.3","Paslaugos pavadinimas",null,null,null,null,0,0,null,null,null,null,null,null,null,null,null,0,0]
["5.5.4","Paslaugos pavadinimas",null,null,null,null,0,0,null,null,null,null,null,null,null,null,null,0,0]
["5.5.5","Paslaugos pavadinimas",null,null,null,null,0,0,null,null,null,null,null,null,null,null,null,0,0]
["5.5.6","Paslaugos pavadinimas",null,null,null,null,0,0,null,null,null,null,null,null,null,null,null,0,0]
["5.5.7","Paslaugos pavadinimas",null,null,null,null,0,0,null,null,null,null,null,null,null,null,null,0,0]
["5.5.8","Paslaugos pavadinimas",null,null,null,null,0,0,null,null,null,null,null,null,null,null,null,0,0]
["5.5.9","Paslaugos pavadinimas",null,null,null,null,0,0,null,null,null,null,null,null,null,null,null,0,0]
["5.5.10","Paslaugos pavadinimas",null,null,null,null,0,0,null,null,null,null,null,null,null,null,null,0,0]
["5.6","Medžiagos, mažavertis inventorius, atsargos ir pan. produktai, priskirtini trumpalaikiam turtui ir tiesiogiai susiję su MTEP veikla",null,null,null,null,{"$f":"SUM(G101:G127)","v":0},{"$f":"SUM(H101:H127)","v":0},null,null,null,null,null,null,null,null,null,0,0]
["5.6.1","Išlaidų pavadinimas",null,null,null,null,{"$f":"ROUND(E101*F101,2)","v":0},{"$f":"ROUND(G101*$D$7,2)","v":0},null,null,null,null,null,null,null,null,null,{"$f":"SUM(T101:AM101)","v":0},{"$f":"H101-R101","v":0}]
["5.6.2","Išlaidų pavadinimas",null,null,null,null,{"$f":"ROUND(E102*F102,2)","v":0},{"$f":"ROUND(G102*$D$7,2)","v":0},null,null,null,null,null,null,null,null,null,{"$f":"SUM(T102:AM102)","v":0},{"$f":"H102-R102","v":0}]
["5.6.3","Išlaidų pavadinimas",null,null,null,null,{"$f":"ROUND(E103*F103,2)","v":0},{"$f":"ROUND(G103*$D$7,2)","v":0},null,null,null,null,null,null,null,null,null,0,0]
["5.6.4","Išlaidų pavadinimas",null,null,null,null,{"$f":"ROUND(E104*F104,2)","v":0},{"$f":"ROUND(G104*$D$7,2)","v":0},null,null,null,null,null,null,null,null,null,0,0]
["5.6.5","Išlaidų pavadinimas",null,null,null,null,{"$f":"ROUND(E105*F105,2)","v":0},{"$f":"ROUND(G105*$D$7,2)","v":0},null,null,null,null,null,null,null,null,null,0,0]
["5.6.6","Išlaidų pavadinimas",null,null,null,null,0,0,null,null,null,null,null,null,null,null,null,{"$f":"SUM(T106:AM106)","v":0},{"$f":"H106-R106","v":0}]
["5.6.7","Išlaidų pavadinimas",null,null,null,null,0,0,null,null,null,null,null,null,null,null,null,{"$f":"SUM(T107:AM107)","v":0},{"$f":"H107-R107","v":0}]
["5.6.8","Išlaidų pavadinimas",null,null,null,null,0,0,null,null,null,null,null,null,null,null,null,0,0]
["5.6.9","Išlaidų pavadinimas",null,null,null,null,0,0,null,null,null,null,null,null,null,null,null,0,0]
["5.6.10","Išlaidų pavadinimas",null,null,null,null,0,0,null,null,null,null,null,null,null,null,null,0,0]
["5.6.11","Išlaidų pavadinimas",null,null,null,null,0,0,null,null,null,null,null,null,null,null,null,0,0]
["5.6.12","Išlaidų pavadinimas",null,null,null,null,0,0,null,null,null,null,null,null,null,null,null,0,0]
["5.6.13","Išlaidų pavadinimas",null,null,null,null,0,0,null,null,null,null,null,null,null,null,null,0,0]
["5.6.14","Išlaidų pavadinimas",null,null,null,null,0,0,null,null,null,null,null,null,null,null,null,0,0]
["5.6.15","Išlaidų pavadinimas",null,null,null,null,0,0,null,null,null,null,null,null,null,null,null,{"$f":"SUM(T115:AM115)","v":0},{"$f":"H115-R115","v":0}]
["5.6.16","Išlaidų pavadinimas",null,null,null,null,0,0,null,null,null,null,null,null,null,null,null,{"$f":"SUM(T116:AM116)","v":0},{"$f":"H116-R116","v":0}]
["5.6.17","Išlaidų pavadinimas",null,null,null,null,0,0,null,null,null,null,null,null,null,null,null,{"$f":"SUM(T117:AM117)","v":0},{"$f":"H117-R117","v":0}]
["5.6.18","Išlaidų pavadinimas",null,null,null,null,0,0,null,null,null,null,null,null,null,null,null,{"$f":"SUM(T118:AM118)","v":0},{"$f":"H118-R118","v":0}]
["5.6.19","Išlaidų pavadinimas",null,null,null,null,0,0,null,null,null,null,null,null,null,null,null,{"$f":"SUM(T119:AM119)","v":0},{"$f":"H119-R119","v":0}]
["5.6.20","Išlaidų pavadinimas",null,null,null,null,0,0,null,null,null,null,null,null,null,null,null,0,0]
["5.6.21","Išlaidų pavadinimas",null,null,null,null,0,0,null,null,null,null,null,null,null,null,null,0,0]
["5.6.22","Išlaidų pavadinimas",null,null,null,null,0,0,null,null,null,null,null,null,null,null,null,0,0]
["5.6.23","Išlaidų pavadinimas",null,null,null,null,0,0,null,null,null,null,null,null,null,null,null,0,0]
["5.6.24","Išlaidų pavadinimas",null,null,null,null,0,0,null,null,null,null,null,null,null,null,null,0,0]
["5.6.25","Išlaidų pavadinimas",null,null,null,null,0,0,null,null,null,null,null,null,null,null,null,0,0]
["5.6.26","Išlaidų pavadinimas",null,null,null,null,0,0,null,null,null,null,null,null,null,null,null,0,0]
["5.6.27","Išlaidų pavadinimas",null,null,null,null,0,0,null,null,null,null,null,null,null,null,null,0,0]
["5.7","Projekto MTEP veikloms naudojamo ilgalaikio materialaus turto (įrangos, prietaisų, įrankių, įrenginių, mašinų ir įrengimų, pastatų ir (ar) patalpų), nusidėvėjimo sąnaudos, jeigu šiam turtui įsigyti nebuvo naudojamos viešosios (įskaitant ir kitų valstybių) lėšos",null,null,null,null,{"$f":"SUM(G129:G157)","v":0},{"$f":"SUM(H129:H157)","v":0},null,"Turto įvedimo į eksploataciją data","Turto įsigijimo vertė, Eur","Turto nudėvėjimo, amortizacijos laikotarpis, mėn.","Numatoma turto likutinė vertė, Eur","1 mėn. nudėvėjimo, amortizacijos suma, Eur","Turto naudojamo projekto reikmėms laikas, mėn.","Turto panaudojimo projekto reikmėms dalis (proc.)","Projektui priskirta turto nusidėvėjimo, amortizacijos suma per projekto laikotarpį, Eur",0,0]
["5.7.1","Turtas, kurio nusidėvėjimą, amortizaciją prašoma finansuoti",null,null,1,{"$f":"Q129","v":0},0,0,null,null,null,null,null,{"$f":"IFERROR(ROUND((K129-M129)/L129,2),\"0\")","v":"0"},null,null,{"$f":"N129*O129*P129","v":0},{"$f":"SUM(T129:AM129)","v":0},{"$f":"H129-R129","v":0}]
["5.7.2","Turtas, kurio nusidėvėjimą, amortizaciją prašoma finansuoti",null,null,1,0,0,0,null,null,null,null,null,{"$f":"IFERROR(ROUND((K130-M130)/L130,2),\"0\")","v":"0"},null,null,{"$f":"N130*O130*P130","v":0},{"$f":"SUM(T130:AM130)","v":0},{"$f":"H130-R130","v":0}]
["5.7.3","Turtas, kurio nusidėvėjimą, amortizaciją prašoma finansuoti",null,null,1,0,0,0,null,null,null,null,null,"0",null,null,0,0,0]
["5.7.4","Turtas, kurio nusidėvėjimą, amortizaciją prašoma finansuoti",null,null,1,0,0,0,null,null,null,null,null,"0",null,null,0,0,0]
["5.7.5","Turtas, kurio nusidėvėjimą, amortizaciją prašoma finansuoti",null,null,1,0,0,0,null,null,null,null,null,"0",null,null,0,0,0]
["5.7.6","Turtas, kurio nusidėvėjimą, amortizaciją prašoma finansuoti",null,null,1,0,0,0,null,null,null,null,null,"0",null,null,0,0,0]
["5.7.7","Turtas, kurio nusidėvėjimą, amortizaciją prašoma finansuoti",null,null,1,0,0,0,null,null,null,null,null,"0",null,null,0,0,0]
["5.7.8","Turtas, kurio nusidėvėjimą, amortizaciją prašoma finansuoti",null,null,1,0,0,0,null,null,null,null,null,"0",null,null,0,0,0]
["5.7.9","Turtas, kurio nusidėvėjimą, amortizaciją prašoma finansuoti",null,null,1,0,0,0,null,null,null,null,null,"0",null,null,0,0,0]
["5.7.10","Turtas, kurio nusidėvėjimą, amortizaciją prašoma finansuoti",null,null,1,0,0,0,null,null,null,null,null,"0",null,null,0,0,0]
["5.7.11","Turtas, kurio nusidėvėjimą, amortizaciją prašoma finansuoti",null,null,1,0,0,0,null,null,null,null,null,"0",null,null,0,{"$f":"SUM(T139:AM139)","v":0},{"$f":"H139-R139","v":0}]
["5.7.12","Turtas, kurio nusidėvėjimą, amortizaciją prašoma finansuoti",null,null,1,0,0,0,null,null,null,null,null,"0",null,null,0,{"$f":"SUM(T140:AM140)","v":0},{"$f":"H140-R140","v":0}]
["5.7.13","Turtas, kurio nusidėvėjimą, amortizaciją prašoma finansuoti",null,null,1,0,0,0,null,null,null,null,null,"0",null,null,0,0,0]
["5.7.14","Turtas, kurio nusidėvėjimą, amortizaciją prašoma finansuoti",null,null,1,0,0,0,null,null,null,null,null,"0",null,null,0,0,0]
["5.7.15","Turtas, kurio nusidėvėjimą, amortizaciją prašoma finansuoti",null,null,1,0,0,0,null,null,null,null,null,"0",null,null,0,0,0]
["5.7.16","Turtas, kurio nusidėvėjimą, amortizaciją prašoma finansuoti",null,null,1,0,0,0,null,null,null,null,null,"0",null,null,0,0,0]
["5.7.17","Turtas, kurio nusidėvėjimą, amortizaciją prašoma finansuoti",null,null,1,0,0,0,null,null,null,null,null,"0",null,null,0,0,0]
["5.7.18","Turtas, kurio nusidėvėjimą, amortizaciją prašoma finansuoti",null,null,1,0,0,0,null,null,null,null,null,"0",null,null,0,0,0]
["5.7.19","Turtas, kurio nusidėvėjimą, amortizaciją prašoma finansuoti",null,null,1,0,0,0,null,null,null,null,null,"0",null,null,0,0,0]
["5.7.20","Turtas, kurio nusidėvėjimą, amortizaciją prašoma finansuoti",null,null,1,0,0,0,null,null,null,null,null,"0",null,null,0,{"$f":"SUM(T148:AM148)","v":0},{"$f":"H148-R148","v":0}]
["5.7.21","Turtas, kurio nusidėvėjimą, amortizaciją prašoma finansuoti",null,null,1,0,0,0,null,null,null,null,null,"0",null,null,0,{"$f":"SUM(T149:AM149)","v":0},{"$f":"H149-R149","v":0}]
["5.7.22","Turtas, kurio nusidėvėjimą, amortizaciją prašoma finansuoti",null,null,1,0,0,0,null,null,null,null,null,"0",null,null,0,0,0]
["5.7.23","Turtas, kurio nusidėvėjimą, amortizaciją prašoma finansuoti",null,null,1,0,0,0,null,null,null,null,null,"0",null,null,0,0,0]
["5.7.24","Turtas, kurio nusidėvėjimą, amortizaciją prašoma finansuoti",null,null,1,0,0,0,null,null,null,null,null,"0",null,null,0,0,0]
["5.7.25","Turtas, kurio nusidėvėjimą, amortizaciją prašoma finansuoti",null,null,1,0,0,0,null,null,null,null,null,"0",null,null,0,0,0]
["5.7.26","Turtas, kurio nusidėvėjimą, amortizaciją prašoma finansuoti",null,null,1,0,0,0,null,null,null,null,null,"0",null,null,0,0,0]
["5.7.27","Turtas, kurio nusidėvėjimą, amortizaciją prašoma finansuoti",null,null,1,0,0,0,null,null,null,null,null,"0",null,null,0,0,0]
["5.7.28","Turtas, kurio nusidėvėjimą, amortizaciją prašoma finansuoti",null,null,1,0,0,0,null,null,null,null,null,"0",null,null,0,0,0]
["5.7.29","Turtas, kurio nusidėvėjimą, amortizaciją prašoma finansuoti",null,null,1,0,0,0,null,null,null,null,null,"0",null,null,0,0,0]
["5.8","Projektą vykdančio personalo darbo užmokestis ir išlaidos su darbo santykiais susijusiems darbdavio įsipareigojimams",null,null,null,null,{"$f":"SUM(G159:G223)","v":0},{"$f":"SUM(H159:H223)","v":0},null,"Faktiškai gaunamas darbo užmokesti už 1 valandą pagal  pastarųjų 6 mėn. vidurkį, Eur",null,null,null,null,null,null,null,0,0]
["5.8.1","Pareigybės pavadinimas","Darbuotojo vardas pavardė","val.",null,{"$f":"IFERROR(ROUND(AVERAGE(J159:J163),2),\"0\")","v":"0"},{"$f":"ROUND(E159*F159,2)","v":0},{"$f":"ROUND(G159*$D$7,2)","v":0},null,null,null,null,null,null,null,null,null,{"$f":"SUM(T159:AM159)","v":0},{"$f":"H159-R159","v":0}]
[null,null,"Darbuotojo vardas pavardė",null,null,null,null,null,null,null,null,null,null,null,null,null,null,{"$f":"SUM(T160:AM160)","v":0},{"$f":"H160-R160","v":0}]
[null,null,"Darbuotojo vardas pavardė",null,null,null,null,null,null,null,null,null,null,null,null,null,null,0,0]
[null,null,"Darbuotojo vardas pavardė",null,null,null,null,null,null,null,null,null,null,null,null,null,null,0,0]
[null,null,"Darbuotojo vardas pavardė",null,null,null,null,null,null,null,null,null,null,null,null,null,null,0,0]
["5.8.2","Pareigybės pavadinimas","Darbuotojo vardas pavardė","val.",null,{"$f":"IFERROR(ROUND(AVERAGE(J164:J168),2),\"0\")","v":"0"},{"$f":"ROUND(E164*F164,2)","v":0},{"$f":"ROUND(G164*$D$7,2)","v":0},null,null,null,null,null,null,null,null,null,0,0]
[null,null,"Darbuotojo vardas pavardė",null,null,null,null,null,null,null,null,null,null,null,null,null,null,0,0]
[null,null,"Darbuotojo vardas pavardė",null,null,null,null,null,null,null,null,null,null,null,null,null,null,0,0]
[null,null,"Darbuotojo vardas pavardė",null,null,null,null,null,null,null,null,null,null,null,null,null,null,0,0]
[null,null,"Darbuotojo vardas pavardė",null,null,null,null,null,null,null,null,null,null,null,null,null,null,0,0]
["5.8.3","Pareigybės pavadinimas","Darbuotojo vardas pavardė","val.",null,{"$f":"IFERROR(ROUND(AVERAGE(J169:J173),2),\"0\")","v":"0"},{"$f":"ROUND(E169*F169,2)","v":0},{"$f":"ROUND(G169*$D$7,2)","v":0},null,null,null,null,null,null,null,null,null,{"$f":"SUM(T169:AM169)","v":0},{"$f":"H169-R169","v":0}]
[null,null,"Darbuotojo vardas pavardė",null,null,null,null,null,null,null,null,null,null,null,null,null,null,{"$f":"SUM(T170:AM170)","v":0},{"$f":"H170-R170","v":0}]
[null,null,"Darbuotojo vardas pavardė",null,null,null,null,null,null,null,null,null,null,null,null,null,null,0,0]
[null,null,"Darbuotojo vardas pavardė",null,null,null,null,null,null,null,null,null,null,null,null,null,null,0,0]
[null,null,"Darbuotojo vardas pavardė",null,null,null,null,null,null,null,null,null,null,null,null,null,null,0,0]
["5.8.4","Pareigybės pavadinimas","Darbuotojo vardas pavardė","val.",null,{"$f":"IFERROR(ROUND(AVERAGE(J174:J178),2),\"0\")","v":"0"},{"$f":"ROUND(E174*F174,2)","v":0},{"$f":"ROUND(G174*$D$7,2)","v":0},null,null,null,null,null,null,null,null,null,0,0]
[null,null,"Darbuotojo vardas pavardė",null,null,null,null,null,null,null,null,null,null,null,null,null,null,0,0]
[null,null,"Darbuotojo vardas pavardė",null,null,null,null,null,null,null,null,null,null,null,null,null,null,0,0]
[null,null,"Darbuotojo vardas pavardė",null,null,null,null,null,null,null,null,null,null,null,null,null,null,0,0]
[null,null,"Darbuotojo vardas pavardė",null,null,null,null,null,null,null,null,null,null,null,null,null,null,0,0]
["5.8.5","Pareigybės pavadinimas","Darbuotojo vardas pavardė","val.",null,{"$f":"IFERROR(ROUND(AVERAGE(J179:J183),2),\"0\")","v":"0"},{"$f":"ROUND(E179*F179,2)","v":0},{"$f":"ROUND(G179*$D$7,2)","v":0},null,null,null,null,null,null,null,null,null,{"$f":"SUM(T179:AM179)","v":0},{"$f":"H179-R179","v":0}]
[null,null,"Darbuotojo vardas pavardė",null,null,null,null,null,null,null,null,null,null,null,null,null,null,{"$f":"SUM(T180:AM180)","v":0},{"$f":"H180-R180","v":0}]
[null,null,"Darbuotojo vardas pavardė",null,null,null,null,null,null,null,null,null,null,null,null,null,null,0,0]
[null,null,"Darbuotojo vardas pavardė",null,null,null,null,null,null,null,null,null,null,null,null,null,null,0,0]
[null,null,"Darbuotojo vardas pavardė",null,null,null,null,null,null,null,null,null,null,null,null,null,null,0,0]
["5.8.6","Pareigybės pavadinimas","Darbuotojo vardas pavardė","val.",null,{"$f":"IFERROR(ROUND(AVERAGE(J184:J188),2),\"0\")","v":"0"},{"$f":"ROUND(E184*F184,2)","v":0},{"$f":"ROUND(G184*$D$7,2)","v":0},null,null,null,null,null,null,null,null,null,0,0]
[null,null,"Darbuotojo vardas pavardė",null,null,null,null,null,null,null,null,null,null,null,null,null,null,0,0]
[null,null,"Darbuotojo vardas pavardė",null,null,null,null,null,null,null,null,null,null,null,null,null,null,0,0]
[null,null,"Darbuotojo vardas pavardė",null,null,null,null,null,null,null,null,null,null,null,null,null,null,0,0]
[null,null,"Darbuotojo vardas pavardė",null,null,null,null,null,null,null,null,null,null,null,null,null,null,0,0]
["5.8.7","Pareigybės pavadinimas","Darbuotojo vardas pavardė","val.",null,{"$f":"IFERROR(ROUND(AVERAGE(J189:J193),2),\"0\")","v":"0"},{"$f":"ROUND(E189*F189,2)","v":0},{"$f":"ROUND(G189*$D$7,2)","v":0},null,null,null,null,null,null,null,null,null,{"$f":"SUM(T189:AM189)","v":0},{"$f":"H189-R189","v":0}]
[null,null,"Darbuotojo vardas pavardė",null,null,null,null,null,null,null,null,null,null,null,null,null,null,{"$f":"SUM(T190:AM190)","v":0},{"$f":"H190-R190","v":0}]
[null,null,"Darbuotojo vardas pavardė",null,null,null,null,null,null,null,null,null,null,null,null,null,null,0,0]
[null,null,"Darbuotojo vardas pavardė",null,null,null,null,null,null,null,null,null,null,null,null,null,null,0,0]
[null,null,"Darbuotojo vardas pavardė",null,null,null,null,null,null,null,null,null,null,null,null,null,null,0,0]
["5.8.8","Pareigybės pavadinimas","Darbuotojo vardas pavardė","val.",null,{"$f":"IFERROR(ROUND(AVERAGE(J194:J198),2),\"0\")","v":"0"},{"$f":"ROUND(E194*F194,2)","v":0},{"$f":"ROUND(G194*$D$7,2)","v":0},null,null,null,null,null,null,null,null,null,0,0]
[null,null,"Darbuotojo vardas pavardė",null,null,null,null,null,null,null,null,null,null,null,null,null,null,0,0]
[null,null,"Darbuotojo vardas pavardė",null,null,null,null,null,null,null,null,null,null,null,null,null,null,0,0]
[null,null,"Darbuotojo vardas pavardė",null,null,null,null,null,null,null,null,null,null,null,null,null,null,0,0]
[null,null,"Darbuotojo vardas pavardė",null,null,null,null,null,null,null,null,null,null,null,null,null,null,0,0]
["5.8.9","Pareigybės pavadinimas","Darbuotojo vardas pavardė","val.",null,{"$f":"IFERROR(ROUND(AVERAGE(J199:J203),2),\"0\")","v":"0"},{"$f":"ROUND(E199*F199,2)","v":0},{"$f":"ROUND(G199*$D$7,2)","v":0},null,null,null,null,null,null,null,null,null,{"$f":"SUM(T199:AM199)","v":0},{"$f":"H199-R199","v":0}]
[null,null,"Darbuotojo vardas pavardė",null,null,null,null,null,null,null,null,null,null,null,null,null,null,{"$f":"SUM(T200:AM200)","v":0},{"$f":"H200-R200","v":0}]
[null,null,"Darbuotojo vardas pavardė",null,null,null,null,null,null,null,null,null,null,null,null,null,null,0,0]
[null,null,"Darbuotojo vardas pavardė",null,null,null,null,null,null,null,null,null,null,null,null,null,null,0,0]
[null,null,"Darbuotojo vardas pavardė",null,null,null,null,null,null,null,null,null,null,null,null,null,null,0,0]
["5.8.10","Pareigybės pavadinimas","Darbuotojo vardas pavardė","val.",null,{"$f":"IFERROR(ROUND(AVERAGE(J204:J208),2),\"0\")","v":"0"},{"$f":"ROUND(E204*F204,2)","v":0},{"$f":"ROUND(G204*$D$7,2)","v":0},null,null,null,null,null,null,null,null,null,0,0]
[null,null,"Darbuotojo vardas pavardė",null,null,null,null,null,null,null,null,null,null,null,null,null,null,0,0]
[null,null,"Darbuotojo vardas pavardė",null,null,null,null,null,null,null,null,null,null,null,null,null,null,0,0]
[null,null,"Darbuotojo vardas pavardė",null,null,null,null,null,null,null,null,null,null,null,null,null,null,0,0]
[null,null,"Darbuotojo vardas pavardė",null,null,null,null,null,null,null,null,null,null,null,null,null,null,{"$f":"SUM(T208:AM208)","v":0},{"$f":"H208-R208","v":0}]
["5.8.11","Pareigybės pavadinimas","Darbuotojo vardas pavardė","val.",null,{"$f":"IFERROR(ROUND(AVERAGE(J209:J213),2),\"0\")","v":"0"},{"$f":"ROUND(E209*F209,2)","v":0},{"$f":"ROUND(G209*$D$7,2)","v":0},null,null,null,null,null,null,null,null,null,{"$f":"SUM(T209:AM209)","v":0},{"$f":"H209-R209","v":0}]
[null,null,"Darbuotojo vardas pavardė",null,null,null,null,null,null,null,null,null,null,null,null,null,null,0,0]
[null,null,"Darbuotojo vardas pavardė",null,null,null,null,null,null,null,null,null,null,null,null,null,null,0,0]
[null,null,"Darbuotojo vardas pavardė",null,null,null,null,null,null,null,null,null,null,null,null,null,null,0,0]
[null,null,"Darbuotojo vardas pavardė",null,null,null,null,null,null,null,null,null,null,null,null,null,null,0,0]
["5.8.12","Pareigybės pavadinimas","Darbuotojo vardas pavardė","val.",null,{"$f":"IFERROR(ROUND(AVERAGE(J214:J218),2),\"0\")","v":"0"},{"$f":"ROUND(E214*F214,2)","v":0},{"$f":"ROUND(G214*$D$7,2)","v":0},null,null,null,null,null,null,null,null,null,0,0]
[null,null,"Darbuotojo vardas pavardė",null,null,null,null,null,null,null,null,null,null,null,null,null,null,0,0]
[null,null,"Darbuotojo vardas pavardė",null,null,null,null,null,null,null,null,null,null,null,null,null,null,0,0]
[null,null,"Darbuotojo vardas pavardė",null,null,null,null,null,null,null,null,null,null,null,null,null,null,0,0]
[null,null,"Darbuotojo vardas pavardė",null,null,null,null,null,null,null,null,null,null,null,null,null,null,{"$f":"SUM(T218:AM218)","v":0},{"$f":"H218-R218","v":0}]
["5.8.13","Pareigybės pavadinimas","Darbuotojo vardas pavardė","val.",null,{"$f":"IFERROR(ROUND(AVERAGE(J219:J223),2),\"0\")","v":"0"},{"$f":"ROUND(E219*F219,2)","v":0},{"$f":"ROUND(G219*$D$7,2)","v":0},null,null,null,null,null,null,null,null,null,{"$f":"SUM(T219:AM219)","v":0},{"$f":"H219-R219","v":0}]
[null,null,"Darbuotojo vardas pavardė",null,null,null,null,null,null,null,null,null,null,null,null,null,null,0,0]
[null,null,"Darbuotojo vardas pavardė",null,null,null,null,null,null,null,null,null,null,null,null,null,null,0,0]
[null,null,"Darbuotojo vardas pavardė",null,null,null,null,null,null,null,null,null,null,null,null,null,null,0,0]
[null,null,"Darbuotojo vardas pavardė",null,null,null,null,null,null,null,null,null,null,null,null,null,null,0,0]
["5.9","Projektą vykdančio personalo komandiruočių išlaidos",null,null,null,null,{"$f":"SUM(G225,G232,G239,G246,G253,G260,G267,G274,G281,G288)","v":0},{"$f":"SUM(H225,H232,H239,H246,H253,H260,H267,H274,H281,H288)","v":0},null,null,null,null,null,null,null,null,null,0,0]
["5.9.1","Komandiruotės pavadinimas, vieta, trukmė dienomis, vykstančių asmenų skaičius","Iš viso komandiruotei",null,null,null,{"$f":"SUM(G226:G231)","v":0},{"$f":"ROUND(G225*$D$7,2)","v":0},null,null,null,null,null,null,null,null,null,0,0]
[null,null,"Dienpinigiai",null,null,null,{"$f":"ROUND(E226*F226,2)","v":0},null,null,null,null,null,null,null,null,null,null,0,0]
[null,null,"Gyvenamojo ploto nuoma",null,null,null,0,null,null,null,null,null,null,null,null,null,null,0,0]
[null,null,"Kelionės išlaidos",null,null,null,0,null,null,null,null,null,null,null,null,null,null,{"$f":"SUM(T228:AM228)","v":0},{"$f":"H228-R228","v":0}]
[null,null,"Dalyvavimo mokestis",null,null,null,0,null,null,null,null,null,null,null,null,null,null,{"$f":"SUM(T229:AM229)","v":0},{"$f":"H229-R229","v":0}]
[null,null,"Kitos išlaidų pavadinimas",null,null,null,0,null,null,null,null,null,null,null,null,null,null,0,0]
[null,null,"Kitos išlaidų pavadinimas",null,null,null,0,null,null,null,null,null,null,null,null,null,null,0,0]
["5.9.2","Komandiruotės pavadinimas, vieta, trukmė dienomis, vykstančių asmenų skaičius","Iš viso komandiruotei",null,null,null,{"$f":"SUM(G233:G238)","v":0},{"$f":"ROUND(G232*$D$7,2)","v":0},null,null,null,null,null,null,null,null,null,0,0]
[null,null,"Dienpinigiai",null,null,null,0,null,null,null,null,null,null,null,null,null,null,0,0]
[null,null,"Gyvenamojo ploto nuoma",null,null,null,0,null,null,null,null,null,null,null,null,null,null,0,0]
[null,null,"Kelionės išlaidos",null,null,null,0,null,null,null,null,null,null,null,null,null,null,0,0]
[null,null,"Dalyvavimo mokestis",null,null,null,0,null,null,null,null,null,null,null,null,null,null,0,0]
[null,null,"Kitos išlaidų pavadinimas",null,null,null,0,null,null,null,null,null,null,null,null,null,null,0,0]
[null,null,"Kitos išlaidų pavadinimas",null,null,null,0,null,null,null,null,null,null,null,null,null,null,{"$f":"SUM(T238:AM238)","v":0},{"$f":"H238-R238","v":0}]
["5.9.3","Komandiruotės pavadinimas, vieta, trukmė dienomis, vykstančių asmenų skaičius","Iš viso komandiruotei",null,null,null,{"$f":"SUM(G240:G245)","v":0},{"$f":"ROUND(G239*$D$7,2)","v":0},null,null,null,null,null,null,null,null,null,{"$f":"SUM(T239:AM239)","v":0},{"$f":"H239-R239","v":0}]
[null,null,"Dienpinigiai",null,null,null,0,null,null,null,null,null,null,null,null,null,null,0,0]
[null,null,"Gyvenamojo ploto nuoma",null,null,null,0,null,null,null,null,null,null,null,null,null,null,0,0]
[null,null,"Kelionės išlaidos",null,null,null,0,null,null,null,null,null,null,null,null,null,null,0,0]
[null,null,"Dalyvavimo mokestis",null,null,null,0,null,null,null,null,null,null,null,null,null,null,0,0]
[null,null,"Kitos išlaidų pavadinimas",null,null,null,0,null,null,null,null,null,null,null,null,null,null,0,0]
[null,null,"Kitos išlaidų pavadinimas",null,null,null,0,null,null,null,null,null,null,null,null,null,null,0,0]
["5.9.4","Komandiruotės pavadinimas, vieta, trukmė dienomis, vykstančių asmenų skaičius","Iš viso komandiruotei",null,null,null,{"$f":"SUM(G247:G252)","v":0},{"$f":"ROUND(G246*$D$7,2)","v":0},null,null,null,null,null,null,null,null,null,0,0]
[null,null,"Dienpinigiai",null,null,null,0,null,null,null,null,null,null,null,null,null,null,0,0]
[null,null,"Gyvenamojo ploto nuoma",null,null,null,0,null,null,null,null,null,null,null,null,null,null,{"$f":"SUM(T248:AM248)","v":0},{"$f":"H248-R248","v":0}]
[null,null,"Kelionės išlaidos",null,null,null,0,null,null,null,null,null,null,null,null,null,null,{"$f":"SUM(T249:AM249)","v":0},{"$f":"H249-R249","v":0}]
[null,null,"Dalyvavimo mokestis",null,null,null,0,null,null,null,null,null,null,null,null,null,null,0,0]
[null,null,"Kitos išlaidų pavadinimas",null,null,null,0,null,null,null,null,null,null,null,null,null,null,0,0]
[null,null,"Kitos išlaidų pavadinimas",null,null,null,0,null,null,null,null,null,null,null,null,null,null,0,0]
["5.9.5","Komandiruotės pavadinimas, vieta, trukmė dienomis, vykstančių asmenų skaičius","Iš viso komandiruotei",null,null,null,{"$f":"SUM(G254:G259)","v":0},{"$f":"ROUND(G253*$D$7,2)","v":0},null,null,null,null,null,null,null,null,null,0,0]
[null,null,"Dienpinigiai",null,null,null,0,null,null,null,null,null,null,null,null,null,null,0,0]
[null,null,"Gyvenamojo ploto nuoma",null,null,null,0,null,null,null,null,null,null,null,null,null,null,0,0]
[null,null,"Kelionės išlaidos",null,null,null,0,null,null,null,null,null,null,null,null,null,null,0,0]
[null,null,"Dalyvavimo mokestis",null,null,null,0,null,null,null,null,null,null,null,null,null,null,0,0]
[null,null,"Kitos išlaidų pavadinimas",null,null,null,0,null,null,null,null,null,null,null,null,null,null,{"$f":"SUM(T258:AM258)","v":0},{"$f":"H258-R258","v":0}]
[null,null,"Kitos išlaidų pavadinimas",null,null,null,0,null,null,null,null,null,null,null,null,null,null,{"$f":"SUM(T259:AM259)","v":0},{"$f":"H259-R259","v":0}]
["5.9.6","Komandiruotės pavadinimas, vieta, trukmė dienomis, vykstančių asmenų skaičius","Iš viso komandiruotei",null,null,null,{"$f":"SUM(G261:G266)","v":0},{"$f":"ROUND(G260*$D$7,2)","v":0},null,null,null,null,null,null,null,null,null,0,0]
[null,null,"Dienpinigiai",null,null,null,0,null,null,null,null,null,null,null,null,null,null,0,0]
[null,null,"Gyvenamojo ploto nuoma",null,null,null,0,null,null,null,null,null,null,null,null,null,null,0,0]
[null,null,"Kelionės išlaidos",null,null,null,0,null,null,null,null,null,null,null,null,null,null,0,0]
[null,null,"Dalyvavimo mokestis",null,null,null,0,null,null,null,null,null,null,null,null,null,null,0,0]
[null,null,"Kitos išlaidų pavadinimas",null,null,null,0,null,null,null,null,null,null,null,null,null,null,0,0]
[null,null,"Kitos išlaidų pavadinimas",null,null,null,0,null,null,null,null,null,null,null,null,null,null,0,0]
["5.9.7","Komandiruotės pavadinimas, vieta, trukmė dienomis, vykstančių asmenų skaičius","Iš viso komandiruotei",null,null,null,{"$f":"SUM(G268:G273)","v":0},{"$f":"ROUND(G267*$D$7,2)","v":0},null,null,null,null,null,null,null,null,null,0,0]
[null,null,"Dienpinigiai",null,null,null,0,null,null,null,null,null,null,null,null,null,null,{"$f":"SUM(T268:AM268)","v":0},{"$f":"H268-R268","v":0}]
[null,null,"Gyvenamojo ploto nuoma",null,null,null,0,null,null,null,null,null,null,null,null,null,null,{"$f":"SUM(T269:AM269)","v":0},{"$f":"H269-R269","v":0}]
[null,null,"Kelionės išlaidos",null,null,null,0,null,null,null,null,null,null,null,null,null,null,0,0]
[null,null,"Dalyvavimo mokestis",null,null,null,0,null,null,null,null,null,null,null,null,null,null,0,0]
[null,null,"Kitos išlaidų pavadinimas",null,null,null,0,null,null,null,null,null,null,null,null,null,null,0,0]
[null,null,"Kitos išlaidų pavadinimas",null,null,null,0,null,null,null,null,null,null,null,null,null,null,0,0]
["5.9.8","Komandiruotės pavadinimas, vieta, trukmė dienomis, vykstančių asmenų skaičius","Iš viso komandiruotei",null,null,null,{"$f":"SUM(G275:G280)","v":0},{"$f":"ROUND(G274*$D$7,2)","v":0},null,null,null,null,null,null,null,null,null,0,0]
[null,null,"Dienpinigiai",null,null,null,0,null,null,null,null,null,null,null,null,null,null,0,0]
[null,null,"Gyvenamojo ploto nuoma",null,null,null,0,null,null,null,null,null,null,null,null,null,null,0,0]
[null,null,"Kelionės išlaidos",null,null,null,0,null,null,null,null,null,null,null,null,null,null,0,0]
[null,null,"Dalyvavimo mokestis",null,null,null,0,null,null,null,null,null,null,null,null,null,null,{"$f":"SUM(T278:AM278)","v":0},{"$f":"H278-R278","v":0}]
[null,null,"Kitos išlaidų pavadinimas",null,null,null,0,null,null,null,null,null,null,null,null,null,null,{"$f":"SUM(T279:AM279)","v":0},{"$f":"H279-R279","v":0}]
[null,null,"Kitos išlaidų pavadinimas",null,null,null,0,null,null,null,null,null,null,null,null,null,null,0,0]
["5.9.9","Komandiruotės pavadinimas, vieta, trukmė dienomis, vykstančių asmenų skaičius","Iš viso komandiruotei",null,null,null,{"$f":"SUM(G282:G287)","v":0},{"$f":"ROUND(G281*$D$7,2)","v":0},null,null,null,null,null,null,null,null,null,0,0]
[null,null,"Dienpinigiai",null,null,null,0,null,null,null,null,null,null,null,null,null,null,0,0]
[null,null,"Gyvenamojo ploto nuoma",null,null,null,0,null,null,null,null,null,null,null,null,null,null,{"$f":"SUM(T283:AM283)","v":0},{"$f":"H283-R283","v":0}]
[null,null,"Kelionės išlaidos",null,null,null,0,null,null,null,null,null,null,null,null,null,null,{"$f":"SUM(T284:AM284)","v":0},{"$f":"H284-R284","v":0}]
[null,null,"Dalyvavimo mokestis",null,null,null,0,null,null,null,null,null,null,null,null,null,null,{"$f":"SUM(T285:AM285)","v":0},{"$f":"H285-R285","v":0}]
[null,null,"Kitos išlaidų pavadinimas",null,null,null,0,null,null,null,null,null,null,null,null,null,null,{"$f":"SUM(T286:AM286)","v":0},{"$f":"H286-R286","v":0}]
[null,null,"Kitos išlaidų pavadinimas",null,null,null,0,null,null,null,null,null,null,null,null,null,null,0,0]
["5.9.10","Komandiruotės pavadinimas, vieta, trukmė dienomis, vykstančių asmenų skaičius","Iš viso komandiruotei",null,null,null,{"$f":"SUM(G289:G294)","v":0},{"$f":"ROUND(G288*$D$7,2)","v":0},null,null,null,null,null,null,null,null,null,0,0]
[null,null,"Dienpinigiai",null,null,null,0,null,null,null,null,null,null,null,null,null,null,0,0]
[null,null,"Gyvenamojo ploto nuoma",null,null,null,0,null,null,null,null,null,null,null,null,null,null,0,0]
[null,null,"Kelionės išlaidos",null,null,null,{"$f":"ROUND(E291*F291,2)","v":0},null,null,null,null,null,null,null,null,null,null,0,0]
[null,null,"Dalyvavimo mokestis",null,null,null,0,null,null,null,null,null,null,null,null,null,null,0,0]
[null,null,"Kitos išlaidų pavadinimas",null,null,null,0,null,null,null,null,null,null,null,null,null,null,0,0]
[null,null,"Kitos išlaidų pavadinimas",null,null,null,0,null,null,null,null,null,null,null,null,null,null,0,0]
["5.10","Įrangos nuomos išlaidos, veiklai priskirtos pro rata principu. Įranga turi būti tiesiogiai susijusi su projekto įgyvendinimu ir negali būti įsigyta iš ES struktūrinių fondų ar kt. ES finansinių priemonių lėšų",null,null,null,null,{"$f":"SUM(G296:G312)","v":0},{"$f":"SUM(H296:H312)","v":0},null,"Faktinės 1 mėnesio išlaidos, Eur","Naudojimo projekte trukmė, mėn.",null,null,null,null,null,null,0,0]
["5.10.1","Įrangos pavadinimas",null,"pro rata proc.",null,{"$f":"J296*K296","v":0},{"$f":"ROUND(E296*F296,2)","v":0},{"$f":"ROUND(G296*$D$7,2)","v":0},null,null,null,null,null,null,null,null,null,{"$f":"SUM(T296:AM296)","v":0},{"$f":"H296-R296","v":0}]
["5.10.2","Įrangos pavadinimas",null,"pro rata proc.",null,{"$f":"J297*K297","v":0},0,{"$f":"ROUND(G297*$D$7,2)","v":0},null,null,null,null,null,null,null,null,null,{"$f":"SUM(T297:AM297)","v":0},{"$f":"H297-R297","v":0}]
["5.10.3","Įrangos pavadinimas",null,"pro rata proc.",null,0,0,0,null,null,null,null,null,null,null,null,null,0,0]
["5.10.4","Įrangos pavadinimas",null,"pro rata proc.",null,0,0,0,null,null,null,null,null,null,null,null,null,0,0]
["5.10.5","Įrangos pavadinimas",null,"pro rata proc.",null,0,0,0,null,null,null,null,null,null,null,null,null,0,0]
["5.10.6","Įrangos pavadinimas",null,"pro rata proc.",null,0,0,0,null,null,null,null,null,null,null,null,null,0,0]
["5.10.7","Įrangos pavadinimas",null,"pro rata proc.",null,0,0,0,null,null,null,null,null,null,null,null,null,{"$f":"SUM(T302:AM302)","v":0},{"$f":"H302-R302","v":0}]
["5.10.8","Įrangos pavadinimas",null,"pro rata proc.",null,0,0,0,null,null,null,null,null,null,null,null,null,{"$f":"SUM(T303:AM303)","v":0},{"$f":"H303-R303","v":0}]
["5.10.9","Įrangos pavadinimas",null,"pro rata proc.",null,0,0,0,null,null,null,null,null,null,null,null,null,{"$f":"SUM(T304:AM304)","v":0},{"$f":"H304-R304","v":0}]
["5.10.10","Įrangos pavadinimas",null,"pro rata proc.",null,0,0,0,null,null,null,null,null,null,null,null,null,0,0]
["5.10.11","Įrangos pavadinimas",null,"pro rata proc.",null,0,0,0,null,null,null,null,null,null,null,null,null,0,0]
["5.10.12","Įrangos pavadinimas",null,"pro rata proc.",null,0,0,0,null,null,null,null,null,null,null,null,null,{"$f":"SUM(T307:AM307)","v":0},{"$f":"H307-R307","v":0}]
["5.10.13","Įrangos pavadinimas",null,"pro rata proc.",null,0,0,0,null,null,null,null,null,null,null,null,null,{"$f":"SUM(T308:AM308)","v":0},{"$f":"H308-R308","v":0}]
["5.10.14","Įrangos pavadinimas",null,"pro rata proc.",null,0,0,0,null,null,null,null,null,null,null,null,null,{"$f":"SUM(T309:AM309)","v":0},{"$f":"H309-R309","v":0}]
["5.10.15","Įrangos pavadinimas",null,"pro rata proc.",null,0,0,0,null,null,null,null,null,null,null,null,null,{"$f":"SUM(T310:AM310)","v":0},{"$f":"H310-R310","v":0}]
["5.10.16","Įrangos pavadinimas",null,"pro rata proc.",null,0,0,0,null,null,null,null,null,null,null,null,null,0,0]
["5.10.17","Įrangos pavadinimas",null,"pro rata proc.",null,0,0,0,null,null,null,null,null,null,null,null,null,0,0]
["5.11","Pastatų ar patalpų nuomos išlaidos, veiklai priskirtos pro rata principu. Pastatai ar patalpos turi būti tiesiogiai susijusi su projekto įgyvendinimu.",null,null,null,null,{"$f":"SUM(G314:G318)","v":0},{"$f":"SUM(H314:H318)","v":0},null,"Faktinės 1 mėnesio išlaidos, Eur","Naudojimo projekte trukmė, mėn.",null,null,null,null,null,null,0,0]
["5.11.1","Pastato, patalpų adresas",null,"pro rata proc.",null,{"$f":"J314*K314","v":0},{"$f":"ROUND(E314*F314,2)","v":0},{"$f":"ROUND(G314*$D$7,2)","v":0},null,null,null,null,null,null,null,null,null,0,0]
["5.11.2","Pastato, patalpų adresas",null,"pro rata proc.",null,{"$f":"J315*K315","v":0},{"$f":"ROUND(E315*F315,2)","v":0},{"$f":"ROUND(G315*$D$7,2)","v":0},null,null,null,null,null,null,null,null,null,0,0]
["5.11.3","Pastato, patalpų adresas",null,"pro rata proc.",null,0,0,0,null,null,null,null,null,null,null,null,null,0,0]
["5.11.4","Pastato, patalpų adresas",null,"pro rata proc.",null,0,0,0,null,null,null,null,null,null,null,null,null,0,0]
["5.11.5","Pastato, patalpų adresas",null,"pro rata proc.",null,0,0,0,null,null,null,null,null,null,null,null,null,0,0]
["Iš viso tinkamų finansuoti išlaidų:",null,null,null,null,null,{"$f":"G10+G44","v":0},{"$f":"H10+H44","v":0}]

{"sheet":"4","index":6,"n_rows":319,"n_cols":39,"rows_kept":319,"cut":false,"hidden":false,"merged":[[315,1,315,2],[316,1,316,2],[317,1,317,2],[318,0,318,5],[306,1,306,2],[307,1,307,2],[308,1,308,2],[309,1,309,2],[310,1,310,2],[311,1,311,2],[312,1,312,5],[313,1,313,2],[314,1,314,2],[297,1,297,2],[298,1,298,2],[299,1,299,2],[300,1,300,2],[301,1,301,2],[302,1,302,2],[303,1,303,2],[304,1,304,2],[305,1,305,2],[224,0,230,0],[224,1,230,1],[224,8,230,8],[231,0,237,0],[231,1,237,1],[231,8,237,8],[238,0,244,0],[238,1,244,1],[238,8,244,8],[218,0,222,0],[218,1,222,1],[218,3,222,3],[218,4,222,4],[218,5,222,5],[218,6,222,6],[218,7,222,7],[218,8,222,8],[223,1,223,5],[208,0,212,0],[208,1,212,1],[208,3,212,3],[208,4,212,4],[208,5,212,5],[208,6,212,6],[208,7,212,7],[208,8,212,8],[213,0,217,0],[213,1,217,1],[213,3,217,3],[213,4,217,4],[213,5,217,5],[213,6,217,6],[213,7,217,7],[213,8,217,8],[203,0,207,0],[203,1,207,1],[203,3,207,3],[203,4,207,4],[203,5,207,5],[203,6,207,6],[203,7,207,7],[203,8,207,8],[198,0,202,0],[198,1,202,1],[198,3,202,3],[198,4,202,4],[198,5,202,5],[188,0,192,0],[188,1,192,1],[188,3,192,3],[188,4,192,4],[188,5,192,5],[188,6,192,6],[188,7,192,7],[188,8,192,8],[198,6,202,6],[198,7,202,7],[198,8,202,8],[193,0,197,0],[193,1,197,1],[193,3,197,3],[193,4,197,4],[193,5,197,5],[193,6,197,6],[193,7,197,7],[193,8,197,8],[168,0,172,0],[168,1,172,1],[168,3,172,3],[168,4,172,4],[168,5,172,5],[168,6,172,6],[168,7,172,7],[168,8,172,8],[173,0,177,0],[173,1,177,1],[173,3,177,3],[173,4,177,4],[173,5,177,5],[173,6,177,6],[173,7,177,7],[173,8,177,8],[158,8,162,8],[163,0,167,0],[163,1,167,1],[163,3,167,3],[163,4,167,4],[163,5,167,5],[163,6,167,6],[163,7,167,7],[163,8,167,8],[158,6,162,6],[158,7,162,7],[142,1,142,2],[143,1,143,2],[144,1,144,2],[145,1,145,2],[146,1,146,2],[147,1,147,2],[148,1,148,2],[149,1,149,2],[150,1,150,2],[295,1,295,2],[294,1,294,5],[296,1,296,2],[266,1,272,1],[245,0,251,0],[245,1,251,1],[245,8,251,8],[252,0,258,0],[252,1,258,1],[252,8,258,8],[259,0,265,0],[259,1,265,1],[259,8,265,8],[266,0,272,0],[266,8,272,8],[273,0,279,0],[273,1,279,1],[273,8,279,8],[280,0,286,0],[280,1,286,1],[280,8,286,8],[287,0,293,0],[287,1,293,1],[287,8,293,8],[178,0,182,0],[178,1,182,1],[178,3,182,3],[178,4,182,4],[178,5,182,5],[178,6,182,6],[178,7,182,7],[178,8,182,8],[183,0,187,0],[183,1,187,1],[183,3,187,3],[183,4,187,4],[183,5,187,5],[183,6,187,6],[183,7,187,7],[183,8,187,8],[5,3,5,8],[8,1,8,2],[9,1,9,5],[11,1,11,2],[12,1,12,2],[0,3,0,8],[2,0,2,2],[2,3,2,8],[3,3,3,4],[3,5,3,6],[4,0,4,2],[4,3,4,8],[10,1,10,5],[19,1,19,2],[21,1,21,5],[22,1,22,2],[23,1,23,2],[24,1,24,2],[13,1,13,2],[14,1,14,2],[15,1,15,2],[16,1,16,2],[17,1,17,2],[18,1,18,2],[20,1,20,2],[31,1,31,2],[32,1,32,5],[33,1,33,2],[34,1,34,2],[35,1,35,2],[36,1,36,2],[25,1,25,2],[26,1,26,2],[27,1,27,2],[28,1,28,2],[29,1,29,2],[30,1,30,2],[43,1,43,5],[45,1,45,2],[46,1,46,2],[47,1,47,2],[48,1,48,2],[37,1,37,2],[38,1,38,2],[39,1,39,2],[40,1,40,2],[41,1,41,2],[42,1,42,2],[44,1,44,5],[56,1,56,2],[57,1,57,2],[58,1,58,2],[59,1,59,2],[60,1,60,2],[49,1,49,2],[50,1,50,2],[51,1,51,2],[52,1,52,2],[53,1,53,2],[54,1,54,2],[55,1,55,5],[67,1,67,2],[68,1,68,2],[69,1,69,2],[70,1,70,2],[72,1,72,2],[61,1,61,2],[62,1,62,2],[63,1,63,2],[64,1,64,2],[65,1,65,2],[66,1,66,5],[71,1,71,2],[79,1,79,2],[80,1,80,2],[81,1,81,2],[82,1,82,2],[83,1,83,2],[84,1,84,2],[73,1,73,2],[74,1,74,2],[75,1,75,2],[76,1,76,2],[78,1,78,2],[77,1,77,5],[91,1,91,2],[92,1,92,2],[93,1,93,2],[94,1,94,2],[95,1,95,2],[96,1,96,2],[85,1,85,2],[86,1,86,2],[87,1,87,2],[89,1,89,2],[90,1,90,2],[88,1,88,5],[97,1,97,2],[98,1,98,2],[100,1,100,2],[101,1,101,2],[102,1,102,2],[103,1,103,2],[104,1,104,2],[99,1,99,5],[105,1,105,2],[106,1,106,2],[107,1,107,2],[108,1,108,2],[109,1,109,2],[110,1,110,2],[111,1,111,2],[112,1,112,2],[113,1,113,2],[114,1,114,2],[115,1,115,2],[116,1,116,2],[117,1,117,2],[118,1,118,2],[119,1,119,2],[120,1,120,2],[121,1,121,2],[122,1,122,2],[123,1,123,2],[124,1,124,2],[125,1,125,2],[126,1,126,2],[128,1,128,2],[129,1,129,2],[130,1,130,2],[131,1,131,2],[132,1,132,2],[127,1,127,5],[133,1,133,2],[134,1,134,2],[135,1,135,2],[136,1,136,2],[137,1,137,2],[138,1,138,2],[139,1,139,2],[140,1,140,2],[141,1,141,2],[151,1,151,2],[152,1,152,2],[153,1,153,2],[154,1,154,2],[155,1,155,2],[156,1,156,2],[157,1,157,5],[158,0,162,0],[158,1,162,1],[158,3,162,3],[158,4,162,4],[158,5,162,5]]}
[null,null,"Pasirinkite veiklos tipą:"]
[null,null,"Fizinio rodiklio Nr.:"]
["Fizinio rodiklio pavadinimas:"]
[null,null,"Fizinio rodiklio matavimo vnt.:",null,null,"Fizinio rodiklio vnt. skaičius:"]
["Juridinis asmuo (pareiškėjas, partneris), atsakingas už fizinį rodiklį:"]
[null,null,"Vykdytojo tipas:"]
[null,null,"Finansavimo intensyvumas:",null,null,null,"Pasirinkite biudžeto išlaidų kategoriją:","Visos"]
[]
["Eil. Nr.","Išlaidų kategorijos pavadinimas",null,"Matavimo vnt.","Kiekis","Vieneto kaina be PVM, Eur","Tinkamų finansuoti išlaidų suma be PVM, Eur","Finansavimo suma, Eur","Išlaidų pagrindimo dokumentų pavadinimas, data ir Nr.",null,null,null,null,null,null,null,null,"Apmokėta","Likutis","MP001","MP002","MP003","MP004","MP005","MP006","MP007","MP008","MP009","MP010","MP011","MP012","MP013","MP014","MP015","MP016","MP017","MP018","MP019","MP020"]
[4,"ĮRANGA, ĮRENGINIAI IR KT. TURTAS (tinkamos finansuoti išlaidos, susijusios su COVID-19, yra išlaidos, tiesiogiai susijusios su projekto įgyvendinimu, ir paskirstytos proporcingai veiklai (pro rata principu)",null,null,null,null,{"$f":"SUM(G11+G22+G33)","v":0},{"$f":"SUM(H11+H22+H33)","v":0},null,null,null,null,null,null,null,null,null,{"$f":"SUM(T10:AM10)","v":0},{"$f":"H10-R10","v":0}]
["4.1","Skaitmeninė ir kompiuterinė įranga",null,null,null,null,{"$f":"SUM(G12:G21)","v":0},{"$f":"SUM(H12:H21)","v":0},null,"Infrastruktūros naudojimo laiko dalis, skirta išimtinai MTEP, proc.",null,null,null,null,null,null,null,0,0]
["4.1.1","Išlaidų pavadinimas",null,null,null,null,{"$f":"ROUND(E12*F12,2)","v":0},{"$f":"ROUND(G12*$D$7*J12,2)","v":0},null,1,null,null,null,null,null,null,null,{"$f":"SUM(T12:AM12)","v":0},{"$f":"H12-R12","v":0}]
["4.1.2","Išlaidų pavadinimas",null,null,null,null,{"$f":"ROUND(E13*F13,2)","v":0},{"$f":"ROUND(G13*$D$7*J13,2)","v":0},null,1,null,null,null,null,null,null,null,{"$f":"SUM(T13:AM13)","v":0},{"$f":"H13-R13","v":0}]
["4.1.3","Išlaidų pavadinimas",null,null,null,null,{"$f":"ROUND(E14*F14,2)","v":0},0,null,1,null,null,null,null,null,null,null,0,0]
["4.1.4","Išlaidų pavadinimas",null,null,null,null,0,0,null,1,null,null,null,null,null,null,null,0,0]
["4.1.5","Išlaidų pavadinimas",null,null,null,null,0,0,null,1,null,null,null,null,null,null,null,0,0]
["4.1.6","Išlaidų pavadinimas",null,null,null,null,0,0,null,1,null,null,null,null,null,null,null,0,0]
["4.1.7","Išlaidų pavadinimas",null,null,null,null,0,0,null,1,null,null,null,null,null,null,null,0,0]
["4.1.8","Išlaidų pavadinimas",null,null,null,null,0,0,null,1,null,null,null,null,null,null,null,0,0]
["4.1.9","Išlaidų pavadinimas",null,null,null,null,0,0,null,1,null,null,null,null,null,null,null,0,0]
["4.1.10","Išlaidų pavadinimas",null,null,null,null,0,0,null,1,null,null,null,null,null,null,null,0,0]
["4.2","Diagnostikos priemonės, duomenų rinkimo ir tvarkymo priemonės",null,null,null,null,{"$f":"SUM(G23:G32)","v":0},{"$f":"SUM(H23:H32)","v":0},null,null,null,null,null,null,null,null,null,0,0]
["4.2.1","Išlaidų pavadinimas",null,null,null,null,{"$f":"ROUND(E23*F23,2)","v":0},{"$f":"ROUND(G23*$D$7*J23,2)","v":0},null,1,null,null,null,null,null,null,null,{"$f":"SUM(T23:AM23)","v":0},{"$f":"H23-R23","v":0}]
["4.2.2","Išlaidų pavadinimas",null,null,null,null,{"$f":"ROUND(E24*F24,2)","v":0},{"$f":"ROUND(G24*$D$7*J24,2)","v":0},null,1,null,null,null,null,null,null,null,{"$f":"SUM(T24:AM24)","v":0},{"$f":"H24-R24","v":0}]
["4.2.3","Išlaidų pavadinimas",null,null,null,null,{"$f":"ROUND(E25*F25,2)","v":0},0,null,1,null,null,null,null,null,null,null,0,0]
["4.2.4","Išlaidų pavadinimas",null,null,null,null,0,0,null,1,null,null,null,null,null,null,null,0,0]
["4.2.5","Išlaidų pavadinimas",null,null,null,null,0,0,null,1,null,null,null,null,null,null,null,0,0]
["4.2.6","Išlaidų pavadinimas",null,null,null,null,0,0,null,1,null,null,null,null,null,null,null,0,0]
["4.2.7","Išlaidų pavadinimas",null,null,null,null,0,0,null,1,null,null,null,null,null,null,null,0,0]
["4.2.8","Išlaidų pavadinimas",null,null,null,null,0,0,null,1,null,null,null,null,null,null,null,0,0]
["4.2.9","Išlaidų pavadinimas",null,null,null,null,0,0,null,1,null,null,null,null,null,null,null,0,0]
["4.2.10","Išlaidų pavadinimas",null,null,null,null,0,0,null,1,null,null,null,null,null,null,null,0,0]
["4.3","Patentų ir kito nematerialiojo turto įsigijimui, patvirtinimui ir apsaugai priskiriamos išlaidos",null,null,null,null,{"$f":"SUM(G34:G43)","v":0},{"$f":"SUM(H34:H43)","v":0},null,null,null,null,null,null,null,null,null,0,0]
["4.3.1","Išlaidų pavadinimas",null,null,null,null,{"$f":"ROUND(E34*F34,2)","v":0},{"$f":"ROUND(G34*$D$7*J34,2)","v":0},null,1,null,null,null,null,null,null,null,{"$f":"SUM(T34:AM34)","v":0},{"$f":"H34-R34","v":0}]
["4.3.2","Išlaidų pavadinimas",null,null,null,null,{"$f":"ROUND(E35*F35,2)","v":0},{"$f":"ROUND(G35*$D$7*J35,2)","v":0},null,1,null,null,null,null,null,null,null,{"$f":"SUM(T35:AM35)","v":0},{"$f":"H35-R35","v":0}]
["4.3.3","Išlaidų pavadinimas",null,null,null,null,{"$f":"ROUND(E36*F36,2)","v":0},0,null,1,null,null,null,null,null,null,null,0,0]
["4.3.4","Išlaidų pavadinimas",null,null,null,null,0,0,null,1,null,null,null,null,null,null,null,0,0]
["4.3.5","Išlaidų pavadinimas",null,null,null,null,0,0,null,1,null,null,null,null,null,null,null,0,0]
["4.3.6","Išlaidų pavadinimas",null,null,null,null,0,0,null,1,null,null,null,null,null,null,null,0,0]
["4.3.7","Išlaidų pavadinimas",null,null,null,null,0,0,null,1,null,null,null,null,null,null,null,0,0]
["4.3.8","Išlaidų pavadinimas",null,null,null,null,0,0,null,1,null,null,null,null,null,null,null,0,0]
["4.3.9","Išlaidų pavadinimas",null,null,null,null,0,0,null,1,null,null,null,null,null,null,null,0,0]
["4.3.10","Išlaidų pavadinimas",null,null,null,null,0,0,null,1,null,null,null,null,null,null,null,0,0]
[5,"PROJEKTO VYKDYMAS",null,null,null,null,{"$f":"G45+G56+G100+G128+G158+G224+G295+G313+G78+G67+G89","v":0},{"$f":"H45+H56+H100+H128+H158+H224+H295+H313+H78+H67+H89","v":0},null,null,null,null,null,null,null,null,null,0,0]
["5.1","MTEP paslaugos",null,null,null,null,{"$f":"SUM(G46:G55)","v":0},{"$f":"SUM(H46:H55)","v":0},null,null,null,null,null,null,null,null,null,0,0]
["5.1.1","Paslaugos pavadinimas",null,null,null,null,{"$f":"ROUND(E46*F46,2)","v":0},{"$f":"ROUND(G46*$D$7,2)","v":0},null,null,null,null,null,null,null,null,null,{"$f":"SUM(T46:AM46)","v":0},{"$f":"H46-R46","v":0}]
["5.1.2","Paslaugos pavadinimas",null,null,null,null,0,0,null,null,null,null,null,null,null,null,null,{"$f":"SUM(T47:AM47)","v":0},{"$f":"H47-R47","v":0}]
["5.1.3","Paslaugos pavadinimas",null,null,null,null,0,0,null,null,null,null,null,null,null,null,null,0,0]
["5.1.4","Paslaugos pavadinimas",null,null,null,null,0,0,null,null,null,null,null,null,null,null,null,0,0]
["5.1.5","Paslaugos pavadinimas",null,null,null,null,0,0,null,null,null,null,null,null,null,null,null,0,0]
["5.1.6","Paslaugos pavadinimas",null,null,null,null,0,0,null,null,null,null,null,null,null,null,null,0,0]
["5.1.7","Paslaugos pavadinimas",null,null,null,null,0,0,null,null,null,null,null,null,null,null,null,0,0]
["5.1.8","Paslaugos pavadinimas",null,null,null,null,0,0,null,null,null,null,null,null,null,null,null,0,0]
["5.1.9","Paslaugos pavadinimas",null,null,null,null,0,0,null,null,null,null,null,null,null,null,null,0,0]
["5.1.10","Paslaugos pavadinimas",null,null,null,null,0,0,null,null,null,null,null,null,null,null,null,0,0]
["5.2","Konsultavimo ir lygiavertės paslaugos, teikiamos vien tik projekto MTEP veiklai.",null,null,null,null,{"$f":"SUM(G57:G66)","v":0},{"$f":"SUM(H57:H66)","v":0},null,null,null,null,null,null,null,null,null,0,0]
["5.2.1","Paslaugos pavadinimas",null,null,null,null,{"$f":"ROUND(E57*F57,2)","v":0},0,null,null,null,null,null,null,null,null,null,{"$f":"SUM(T57:AM57)","v":0},{"$f":"H57-R57","v":0}]
["5.2.2","Paslaugos pavadinimas",null,null,null,null,0,0,null,null,null,null,null,null,null,null,null,{"$f":"SUM(T58:AM58)","v":0},{"$f":"H58-R58","v":0}]
["5.2.3","Paslaugos pavadinimas",null,null,null,null,0,0,null,null,null,null,null,null,null,null,null,0,0]
["5.2.4","Paslaugos pavadinimas",null,null,null,null,0,0,null,null,null,null,null,null,null,null,null,0,0]
["5.2.5","Paslaugos pavadinimas",null,null,null,null,0,0,null,null,null,null,null,null,null,null,null,0,0]
["5.2.6","Paslaugos pavadinimas",null,null,null,null,0,0,null,null,null,null,null,null,null,null,null,0,0]
["5.2.7","Paslaugos pavadinimas",null,null,null,null,0,0,null,null,null,null,null,null,null,null,null,0,0]
["5.2.8","Paslaugos pavadinimas",null,null,null,null,0,0,null,null,null,null,null,null,null,null,null,0,0]
["5.2.9","Paslaugos pavadinimas",null,null,null,null,0,0,null,null,null,null,null,null,null,null,null,0,0]
["5.2.10","Paslaugos pavadinimas",null,null,null,null,0,0,null,null,null,null,null,null,null,null,null,0,0]
["5.3","Ikiklinikinių ir klinikinių tyrimų (I–IV tyrimų etapais) paslaugos (IV etapo tyrimų išlaidos yra tinkamos finansuoti, jei šiais tyrimais sudaromos sąlygos tolesnei mokslinei ar technologinei pažangai)",null,null,null,null,{"$f":"SUM(G68:G77)","v":0},{"$f":"SUM(H68:H77)","v":0},null,null,null,null,null,null,null,null,null,0,0]
["5.3.1","Paslaugos pavadinimas",null,null,null,null,{"$f":"ROUND(E68*F68,2)","v":0},{"$f":"ROUND(G68*$D$7,2)","v":0},null,null,null,null,null,null,null,null,null,{"$f":"SUM(T68:AM68)","v":0},{"$f":"H68-R68","v":0}]
["5.3.2","Paslaugos pavadinimas",null,null,null,null,0,0,null,null,null,null,null,null,null,null,null,{"$f":"SUM(T69:AM69)","v":0},{"$f":"H69-R69","v":0}]
["5.3.3","Paslaugos pavadinimas",null,null,null,null,0,0,null,null,null,null,null,null,null,null,null,0,0]
["5.3.4","Paslaugos pavadinimas",null,null,null,null,0,0,null,null,null,null,null,null,null,null,null,0,0]
["5.3.5","Paslaugos pavadinimas",null,null,null,null,0,0,null,null,null,null,null,null,null,null,null,0,0]
["5.3.6","Paslaugos pavadinimas",null,null,null,null,0,0,null,null,null,null,null,null,null,null,null,0,0]
["5.3.7","Paslaugos pavadinimas",null,null,null,null,0,0,null,null,null,null,null,null,null,null,null,0,0]
["5.3.8","Paslaugos pavadinimas",null,null,null,null,0,0,null,null,null,null,null,null,null,null,null,0,0]
["5.3.9","Paslaugos pavadinimas",null,null,null,null,0,0,null,null,null,null,null,null,null,null,null,0,0]
["5.3.10","Paslaugos pavadinimas",null,null,null,null,0,0,null,null,null,null,null,null,null,null,null,0,0]
["5.4","Naujiems produktams ir technologijoms sertifikuoti būtinos išlaidos",null,null,null,null,{"$f":"SUM(G79:G88)","v":0},{"$f":"SUM(H79:H88)","v":0},null,null,null,null,null,null,null,null,null,0,0]
["5.4.1","Išlaidų pavadinimas",null,null,null,null,{"$f":"ROUND(E79*F79,2)","v":0},{"$f":"ROUND(G79*$D$7,2)","v":0},null,null,null,null,null,null,null,null,null,{"$f":"SUM(T79:AM79)","v":0},{"$f":"H79-R79","v":0}]
["5.4.2","Išlaidų pavadinimas",null,null,null,null,0,0,null,null,null,null,null,null,null,null,null,{"$f":"SUM(T80:AM80)","v":0},{"$f":"H80-R80","v":0}]
["5.4.3","Išlaidų pavadinimas",null,null,null,null,0,0,null,null,null,null,null,null,null,null,null,0,0]
["5.4.4","Išlaidų pavadinimas",null,null,null,null,0,0,null,null,null,null,null,null,null,null,null,0,0]
["5.4.5","Išlaidų pavadinimas",null,null,null,null,0,0,null,null,null,null,null,null,null,null,null,0,0]
["5.4.6","Išlaidų pavadinimas",null,null,null,null,0,0,null,null,null,null,null,null,null,null,null,0,0]
["5.4.7","Išlaidų pavadinimas",null,null,null,null,0,0,null,null,null,null,null,null,null,null,null,0,0]
["5.4.8","Išlaidų pavadinimas",null,null,null,null,0,0,null,null,null,null,null,null,null,null,null,0,0]
["5.4.9","Išlaidų pavadinimas",null,null,null,null,0,0,null,null,null,null,null,null,null,null,null,0,0]
["5.4.10","Išlaidų pavadinimas",null,null,null,null,0,0,null,null,null,null,null,null,null,null,null,0,0]
["5.5","Paslaugų išlaidos, patirtos siekiant gauti atitikties vertinimus ir (arba) leidimus, būtinus prekybai naujomis ir patobulintomis vakcinomis ir vaistiniais preparatais, medicinos priemonėmis, ligoninių ir medicinos reikmenimis, dezinfekavimo priemonėmis ir asmeninėmis apsaugos priemonėmis",null,null,null,null,{"$f":"SUM(G90:G99)","v":0},{"$f":"SUM(H90:H99)","v":0},null,null,null,null,null,null,null,null,null,0,0]
["5.5.1","Paslaugos pavadinimas",null,null,null,null,{"$f":"ROUND(E90*F90,2)","v":0},{"$f":"ROUND(G90*$D$7,2)","v":0},null,null,null,null,null,null,null,null,null,{"$f":"SUM(T90:AM90)","v":0},{"$f":"H90-R90","v":0}]
["5.5.2","Paslaugos pavadinimas",null,null,null,null,0,0,null,null,null,null,null,null,null,null,null,{"$f":"SUM(T91:AM91)","v":0},{"$f":"H91-R91","v":0}]
["5.5.3","Paslaugos pavadinimas",null,null,null,null,0,0,null,null,null,null,null,null,null,null,null,0,0]
["5.5.4","Paslaugos pavadinimas",null,null,null,null,0,0,null,null,null,null,null,null,null,null,null,0,0]
["5.5.5","Paslaugos pavadinimas",null,null,null,null,0,0,null,null,null,null,null,null,null,null,null,0,0]
["5.5.6","Paslaugos pavadinimas",null,null,null,null,0,0,null,null,null,null,null,null,null,null,null,0,0]
["5.5.7","Paslaugos pavadinimas",null,null,null,null,0,0,null,null,null,null,null,null,null,null,null,0,0]
["5.5.8","Paslaugos pavadinimas",null,null,null,null,0,0,null,null,null,null,null,null,null,null,null,0,0]
["5.5.9","Paslaugos pavadinimas",null,null,null,null,0,0,null,null,null,null,null,null,null,null,null,0,0]
["5.5.10","Paslaugos pavadinimas",null,null,null,null,0,0,null,null,null,null,null,null,null,null,null,0,0]
["5.6","Medžiagos, mažavertis inventorius, atsargos ir pan. produktai, priskirtini trumpalaikiam turtui ir tiesiogiai susiję su MTEP veikla",null,null,null,null,{"$f":"SUM(G101:G127)","v":0},{"$f":"SUM(H101:H127)","v":0},null,null,null,null,null,null,null,null,null,0,0]
["5.6.1","Išlaidų pavadinimas",null,null,null,null,{"$f":"ROUND(E101*F101,2)","v":0},{"$f":"ROUND(G101*$D$7,2)","v":0},null,null,null,null,null,null,null,null,null,{"$f":"SUM(T101:AM101)","v":0},{"$f":"H101-R101","v":0}]
["5.6.2","Išlaidų pavadinimas",null,null,null,null,{"$f":"ROUND(E102*F102,2)","v":0},{"$f":"ROUND(G102*$D$7,2)","v":0},null,null,null,null,null,null,null,null,null,{"$f":"SUM(T102:AM102)","v":0},{"$f":"H102-R102","v":0}]
["5.6.3","Išlaidų pavadinimas",null,null,null,null,{"$f":"ROUND(E103*F103,2)","v":0},{"$f":"ROUND(G103*$D$7,2)","v":0},null,null,null,null,null,null,null,null,null,0,0]
["5.6.4","Išlaidų pavadinimas",null,null,null,null,{"$f":"ROUND(E104*F104,2)","v":0},{"$f":"ROUND(G104*$D$7,2)","v":0},null,null,null,null,null,null,null,null,null,0,0]
["5.6.5","Išlaidų pavadinimas",null,null,null,null,{"$f":"ROUND(E105*F105,2)","v":0},{"$f":"ROUND(G105*$D$7,2)","v":0},null,null,null,null,null,null,null,null,null,0,0]
["5.6.6","Išlaidų pavadinimas",null,null,null,null,0,0,null,null,null,null,null,null,null,null,null,{"$f":"SUM(T106:AM106)","v":0},{"$f":"H106-R106","v":0}]
["5.6.7","Išlaidų pavadinimas",null,null,null,null,0,0,null,null,null,null,null,null,null,null,null,{"$f":"SUM(T107:AM107)","v":0},{"$f":"H107-R107","v":0}]
["5.6.8","Išlaidų pavadinimas",null,null,null,null,0,0,null,null,null,null,null,null,null,null,null,0,0]
["5.6.9","Išlaidų pavadinimas",null,null,null,null,0,0,null,null,null,null,null,null,null,null,null,0,0]
["5.6.10","Išlaidų pavadinimas",null,null,null,null,0,0,null,null,null,null,null,null,null,null,null,0,0]
["5.6.11","Išlaidų pavadinimas",null,null,null,null,0,0,null,null,null,null,null,null,null,null,null,0,0]
["5.6.12","Išlaidų pavadinimas",null,null,null,null,0,0,null,null,null,null,null,null,null,null,null,0,0]
["5.6.13","Išlaidų pavadinimas",null,null,null,null,0,0,null,null,null,null,null,null,null,null,null,0,0]
["5.6.14","Išlaidų pavadinimas",null,null,null,null,0,0,null,null,null,null,null,null,null,null,null,0,0]
["5.6.15","Išlaidų pavadinimas",null,null,null,null,0,0,null,null,null,null,null,null,null,null,null,{"$f":"SUM(T115:AM115)","v":0},{"$f":"H115-R115","v":0}]
["5.6.16","Išlaidų pavadinimas",null,null,null,null,0,0,null,null,null,null,null,null,null,null,null,{"$f":"SUM(T116:AM116)","v":0},{"$f":"H116-R116","v":0}]
["5.6.17","Išlaidų pavadinimas",null,null,null,null,0,0,null,null,null,null,null,null,null,null,null,{"$f":"SUM(T117:AM117)","v":0},{"$f":"H117-R117","v":0}]
["5.6.18","Išlaidų pavadinimas",null,null,null,null,0,0,null,null,null,null,null,null,null,null,null,{"$f":"SUM(T118:AM118)","v":0},{"$f":"H118-R118","v":0}]
["5.6.19","Išlaidų pavadinimas",null,null,null,null,0,0,null,null,null,null,null,null,null,null,null,{"$f":"SUM(T119:AM119)","v":0},{"$f":"H119-R119","v":0}]
["5.6.20","Išlaidų pavadinimas",null,null,null,null,0,0,null,null,null,null,null,null,null,null,null,0,0]
["5.6.21","Išlaidų pavadinimas",null,null,null,null,0,0,null,null,null,null,null,null,null,null,null,0,0]
["5.6.22","Išlaidų pavadinimas",null,null,null,null,0,0,null,null,null,null,null,null,null,null,null,0,0]
["5.6.23","Išlaidų pavadinimas",null,null,null,null,0,0,null,null,null,null,null,null,null,null,null,0,0]
["5.6.24","Išlaidų pavadinimas",null,null,null,null,0,0,null,null,null,null,null,null,null,null,null,0,0]
["5.6.25","Išlaidų pavadinimas",null,null,null,null,0,0,null,null,null,null,null,null,null,null,null,0,0]
["5.6.26","Išlaidų pavadinimas",null,null,null,null,0,0,null,null,null,null,null,null,null,null,null,0,0]
["5.6.27","Išlaidų pavadinimas",null,null,null,null,0,0,null,null,null,null,null,null,null,null,null,0,0]
["5.7","Projekto MTEP veikloms naudojamo ilgalaikio materialaus turto (įrangos, prietaisų, įrankių, įrenginių, mašinų ir įrengimų, pastatų ir (ar) patalpų), nusidėvėjimo sąnaudos, jeigu šiam turtui įsigyti nebuvo naudojamos viešosios (įskaitant ir kitų valstybių) lėšos",null,null,null,null,{"$f":"SUM(G129:G157)","v":0},{"$f":"SUM(H129:H157)","v":0},null,"Turto įvedimo į eksploataciją data","Turto įsigijimo vertė, Eur","Turto nudėvėjimo, amortizacijos laikotarpis, mėn.","Numatoma turto likutinė vertė, Eur","1 mėn. nudėvėjimo, amortizacijos suma, Eur","Turto naudojamo projekto reikmėms laikas, mėn.","Turto panaudojimo projekto reikmėms dalis (proc.)","Projektui priskirta turto nusidėvėjimo, amortizacijos suma per projekto laikotarpį, Eur",0,0]
["5.7.1","Turtas, kurio nusidėvėjimą, amortizaciją prašoma finansuoti",null,null,1,{"$f":"Q129","v":0},0,0,null,null,null,null,null,{"$f":"IFERROR(ROUND((K129-M129)/L129,2),\"0\")","v":"0"},null,null,{"$f":"N129*O129*P129","v":0},{"$f":"SUM(T129:AM129)","v":0},{"$f":"H129-R129","v":0}]
["5.7.2","Turtas, kurio nusidėvėjimą, amortizaciją prašoma finansuoti",null,null,1,0,0,0,null,null,null,null,null,{"$f":"IFERROR(ROUND((K130-M130)/L130,2),\"0\")","v":"0"},null,null,{"$f":"N130*O130*P130","v":0},{"$f":"SUM(T130:AM130)","v":0},{"$f":"H130-R130","v":0}]
["5.7.3","Turtas, kurio nusidėvėjimą, amortizaciją prašoma finansuoti",null,null,1,0,0,0,null,null,null,null,null,"0",null,null,0,0,0]
["5.7.4","Turtas, kurio nusidėvėjimą, amortizaciją prašoma finansuoti",null,null,1,0,0,0,null,null,null,null,null,"0",null,null,0,0,0]
["5.7.5","Turtas, kurio nusidėvėjimą, amortizaciją prašoma finansuoti",null,null,1,0,0,0,null,null,null,null,null,"0",null,null,0,0,0]
["5.7.6","Turtas, kurio nusidėvėjimą, amortizaciją prašoma finansuoti",null,null,1,0,0,0,null,null,null,null,null,"0",null,null,0,0,0]
["5.7.7","Turtas, kurio nusidėvėjimą, amortizaciją prašoma finansuoti",null,null,1,0,0,0,null,null,null,null,null,"0",null,null,0,0,0]
["5.7.8","Turtas, kurio nusidėvėjimą, amortizaciją prašoma finansuoti",null,null,1,0,0,0,null,null,null,null,null,"0",null,null,0,0,0]
["5.7.9","Turtas, kurio nusidėvėjimą, amortizaciją prašoma finansuoti",null,null,1,0,0,0,null,null,null,null,null,"0",null,null,0,0,0]
["5.7.10","Turtas, kurio nusidėvėjimą, amortizaciją prašoma finansuoti",null,null,1,0,0,0,null,null,null,null,null,"0",null,null,0,0,0]
["5.7.11","Turtas, kurio nusidėvėjimą, amortizaciją prašoma finansuoti",null,null,1,0,0,0,null,null,null,null,null,"0",null,null,0,{"$f":"SUM(T139:AM139)","v":0},{"$f":"H139-R139","v":0}]
["5.7.12","Turtas, kurio nusidėvėjimą, amortizaciją prašoma finansuoti",null,null,1,0,0,0,null,null,null,null,null,"0",null,null,0,{"$f":"SUM(T140:AM140)","v":0},{"$f":"H140-R140","v":0}]
["5.7.13","Turtas, kurio nusidėvėjimą, amortizaciją prašoma finansuoti",null,null,1,0,0,0,null,null,null,null,null,"0",null,null,0,0,0]
["5.7.14","Turtas, kurio nusidėvėjimą, amortizaciją prašoma finansuoti",null,null,1,0,0,0,null,null,null,null,null,"0",null,null,0,0,0]
["5.7.15","Turtas, kurio nusidėvėjimą, amortizaciją prašoma finansuoti",null,null,1,0,0,0,null,null,null,null,null,"0",null,null,0,0,0]
["5.7.16","Turtas, kurio nusidėvėjimą, amortizaciją prašoma finansuoti",null,null,1,0,0,0,null,null,null,null,null,"0",null,null,0,0,0]
["5.7.17","Turtas, kurio nusidėvėjimą, amortizaciją prašoma finansuoti",null,null,1,0,0,0,null,null,null,null,null,"0",null,null,0,0,0]
["5.7.18","Turtas, kurio nusidėvėjimą, amortizaciją prašoma finansuoti",null,null,1,0,0,0,null,null,null,null,null,"0",null,null,0,0,0]
["5.7.19","Turtas, kurio nusidėvėjimą, amortizaciją prašoma finansuoti",null,null,1,0,0,0,null,null,null,null,null,"0",null,null,0,0,0]
["5.7.20","Turtas, kurio nusidėvėjimą, amortizaciją prašoma finansuoti",null,null,1,0,0,0,null,null,null,null,null,"0",null,null,0,{"$f":"SUM(T148:AM148)","v":0},{"$f":"H148-R148","v":0}]
["5.7.21","Turtas, kurio nusidėvėjimą, amortizaciją prašoma finansuoti",null,null,1,0,0,0,null,null,null,null,null,"0",null,null,0,{"$f":"SUM(T149:AM149)","v":0},{"$f":"H149-R149","v":0}]
["5.7.22","Turtas, kurio nusidėvėjimą, amortizaciją prašoma finansuoti",null,null,1,0,0,0,null,null,null,null,null,"0",null,null,0,0,0]
["5.7.23","Turtas, kurio nusidėvėjimą, amortizaciją prašoma finansuoti",null,null,1,0,0,0,null,null,null,null,null,"0",null,null,0,0,0]
["5.7.24","Turtas, kurio nusidėvėjimą, amortizaciją prašoma finansuoti",null,null,1,0,0,0,null,null,null,null,null,"0",null,null,0,0,0]
["5.7.25","Turtas, kurio nusidėvėjimą, amortizaciją prašoma finansuoti",null,null,1,0,0,0,null,null,null,null,null,"0",null,null,0,0,0]
["5.7.26","Turtas, kurio nusidėvėjimą, amortizaciją prašoma finansuoti",null,null,1,0,0,0,null,null,null,null,null,"0",null,null,0,0,0]
["5.7.27","Turtas, kurio nusidėvėjimą, amortizaciją prašoma finansuoti",null,null,1,0,0,0,null,null,null,null,null,"0",null,null,0,0,0]
["5.7.28","Turtas, kurio nusidėvėjimą, amortizaciją prašoma finansuoti",null,null,1,0,0,0,null,null,null,null,null,"0",null,null,0,0,0]
["5.7.29","Turtas, kurio nusidėvėjimą, amortizaciją prašoma finansuoti",null,null,1,0,0,0,null,null,null,null,null,"0",null,null,0,0,0]
["5.8","Projektą vykdančio personalo darbo užmokestis ir išlaidos su darbo santykiais susijusiems darbdavio įsipareigojimams",null,null,null,null,{"$f":"SUM(G159:G223)","v":0},{"$f":"SUM(H159:H223)","v":0},null,"Faktiškai gaunamas darbo užmokesti už 1 valandą pagal  pastarųjų 6 mėn. vidurkį, Eur",null,null,null,null,null,null,null,0,0]
["5.8.1","Pareigybės pavadinimas","Darbuotojo vardas pavardė","val.",null,{"$f":"IFERROR(ROUND(AVERAGE(J159:J163),2),\"0\")","v":"0"},{"$f":"ROUND(E159*F159,2)","v":0},{"$f":"ROUND(G159*$D$7,2)","v":0},null,null,null,null,null,null,null,null,null,{"$f":"SUM(T159:AM159)","v":0},{"$f":"H159-R159","v":0}]
[null,null,"Darbuotojo vardas pavardė",null,null,null,null,null,null,null,null,null,null,null,null,null,null,{"$f":"SUM(T160:AM160)","v":0},{"$f":"H160-R160","v":0}]
[null,null,"Darbuotojo vardas pavardė",null,null,null,null,null,null,null,null,null,null,null,null,null,null,0,0]
[null,null,"Darbuotojo vardas pavardė",null,null,null,null,null,null,null,null,null,null,null,null,null,null,0,0]
[null,null,"Darbuotojo vardas pavardė",null,null,null,null,null,null,null,null,null,null,null,null,null,null,0,0]
["5.8.2","Pareigybės pavadinimas","Darbuotojo vardas pavardė","val.",null,{"$f":"IFERROR(ROUND(AVERAGE(J164:J168),2),\"0\")","v":"0"},{"$f":"ROUND(E164*F164,2)","v":0},{"$f":"ROUND(G164*$D$7,2)","v":0},null,null,null,null,null,null,null,null,null,0,0]
[null,null,"Darbuotojo vardas pavardė",null,null,null,null,null,null,null,null,null,null,null,null,null,null,0,0]
[null,null,"Darbuotojo vardas pavardė",null,null,null,null,null,null,null,null,null,null,null,null,null,null,0,0]
[null,null,"Darbuotojo vardas pavardė",null,null,null,null,null,null,null,null,null,null,null,null,null,null,0,0]
[null,null,"Darbuotojo vardas pavardė",null,null,null,null,null,null,null,null,null,null,null,null,null,null,0,0]
["5.8.3","Pareigybės pavadinimas","Darbuotojo vardas pavardė","val.",null,{"$f":"IFERROR(ROUND(AVERAGE(J169:J173),2),\"0\")","v":"0"},{"$f":"ROUND(E169*F169,2)","v":0},{"$f":"ROUND(G169*$D$7,2)","v":0},null,null,null,null,null,null,null,null,null,{"$f":"SUM(T169:AM169)","v":0},{"$f":"H169-R169","v":0}]
[null,null,"Darbuotojo vardas pavardė",null,null,null,null,null,null,null,null,null,null,null,null,null,null,{"$f":"SUM(T170:AM170)","v":0},{"$f":"H170-R170","v":0}]
[null,null,"Darbuotojo vardas pavardė",null,null,null,null,null,null,null,null,null,null,null,null,null,null,0,0]
[null,null,"Darbuotojo vardas pavardė",null,null,null,null,null,null,null,null,null,null,null,null,null,null,0,0]
[null,null,"Darbuotojo vardas pavardė",null,null,null,null,null,null,null,null,null,null,null,null,null,null,0,0]
["5.8.4","Pareigybės pavadinimas","Darbuotojo vardas pavardė","val.",null,{"$f":"IFERROR(ROUND(AVERAGE(J174:J178),2),\"0\")","v":"0"},{"$f":"ROUND(E174*F174,2)","v":0},{"$f":"ROUND(G174*$D$7,2)","v":0},null,null,null,null,null,null,null,null,null,0,0]
[null,null,"Darbuotojo vardas pavardė",null,null,null,null,null,null,null,null,null,null,null,null,null,null,0,0]
[null,null,"Darbuotojo vardas pavardė",null,null,null,null,null,null,null,null,null,null,null,null,null,null,0,0]
[null,null,"Darbuotojo vardas pavardė",null,null,null,null,null,null,null,null,null,null,null,null,null,null,0,0]
[null,null,"Darbuotojo vardas pavardė",null,null,null,null,null,null,null,null,null,null,null,null,null,null,0,0]
["5.8.5","Pareigybės pavadinimas","Darbuotojo vardas pavardė","val.",null,{"$f":"IFERROR(ROUND(AVERAGE(J179:J183),2),\"0\")","v":"0"},{"$f":"ROUND(E179*F179,2)","v":0},{"$f":"ROUND(G179*$D$7,2)","v":0},null,null,null,null,null,null,null,null,null,{"$f":"SUM(T179:AM179)","v":0},{"$f":"H179-R179","v":0}]
[null,null,"Darbuotojo vardas pavardė",null,null,null,null,null,null,null,null,null,null,null,null,null,null,{"$f":"SUM(T180:AM180)","v":0},{"$f":"H180-R180","v":0}]
[null,null,"Darbuotojo vardas pavardė",null,null,null,null,null,null,null,null,null,null,null,null,null,null,0,0]
[null,null,"Darbuotojo vardas pavardė",null,null,null,null,null,null,null,null,null,null,null,null,null,null,0,0]
[null,null,"Darbuotojo vardas pavardė",null,null,null,null,null,null,null,null,null,null,null,null,null,null,0,0]
["5.8.6","Pareigybės pavadinimas","Darbuotojo vardas pavardė","val.",null,{"$f":"IFERROR(ROUND(AVERAGE(J184:J188),2),\"0\")","v":"0"},{"$f":"ROUND(E184*F184,2)","v":0},{"$f":"ROUND(G184*$D$7,2)","v":0},null,null,null,null,null,null,null,null,null,0,0]
[null,null,"Darbuotojo vardas pavardė",null,null,null,null,null,null,null,null,null,null,null,null,null,null,0,0]
[null,null,"Darbuotojo vardas pavardė",null,null,null,null,null,null,null,null,null,null,null,null,null,null,0,0]
[null,null,"Darbuotojo vardas pavardė",null,null,null,null,null,null,null,null,null,null,null,null,null,null,0,0]
[null,null,"Darbuotojo vardas pavardė",null,null,null,null,null,null,null,null,null,null,null,null,null,null,0,0]
["5.8.7","Pareigybės pavadinimas","Darbuotojo vardas pavardė","val.",null,{"$f":"IFERROR(ROUND(AVERAGE(J189:J193),2),\"0\")","v":"0"},{"$f":"ROUND(E189*F189,2)","v":0},{"$f":"ROUND(G189*$D$7,2)","v":0},null,null,null,null,null,null,null,null,null,{"$f":"SUM(T189:AM189)","v":0},{"$f":"H189-R189","v":0}]
[null,null,"Darbuotojo vardas pavardė",null,null,null,null,null,null,null,null,null,null,null,null,null,null,{"$f":"SUM(T190:AM190)","v":0},{"$f":"H190-R190","v":0}]
[null,null,"Darbuotojo vardas pavardė",null,null,null,null,null,null,null,null,null,null,null,null,null,null,0,0]
[null,null,"Darbuotojo vardas pavardė",null,null,null,null,null,null,null,null,null,null,null,null,null,null,0,0]
[null,null,"Darbuotojo vardas pavardė",null,null,null,null,null,null,null,null,null,null,null,null,null,null,0,0]
["5.8.8","Pareigybės pavadinimas","Darbuotojo vardas pavardė","val.",null,{"$f":"IFERROR(ROUND(AVERAGE(J194:J198),2),\"0\")","v":"0"},{"$f":"ROUND(E194*F194,2)","v":0},{"$f":"ROUND(G194*$D$7,2)","v":0},null,null,null,null,null,null,null,null,null,0,0]
[null,null,"Darbuotojo vardas pavardė",null,null,null,null,null,null,null,null,null,null,null,null,null,null,0,0]
[null,null,"Darbuotojo vardas pavardė",null,null,null,null,null,null,null,null,null,null,null,null,null,null,0,0]
[null,null,"Darbuotojo vardas pavardė",null,null,null,null,null,null,null,null,null,null,null,null,null,null,0,0]
[null,null,"Darbuotojo vardas pavardė",null,null,null,null,null,null,null,null,null,null,null,null,null,null,0,0]
["5.8.9","Pareigybės pavadinimas","Darbuotojo vardas pavardė","val.",null,{"$f":"IFERROR(ROUND(AVERAGE(J199:J203),2),\"0\")","v":"0"},{"$f":"ROUND(E199*F199,2)","v":0},{"$f":"ROUND(G199*$D$7,2)","v":0},null,null,null,null,null,null,null,null,null,{"$f":"SUM(T199:AM199)","v":0},{"$f":"H199-R199","v":0}]
[null,null,"Darbuotojo vardas pavardė",null,null,null,null,null,null,null,null,null,null,null,null,null,null,{"$f":"SUM(T200:AM200)","v":0},{"$f":"H200-R200","v":0}]
[null,null,"Darbuotojo vardas pavardė",null,null,null,null,null,null,null,null,null,null,null,null,null,null,0,0]
[null,null,"Darbuotojo vardas pavardė",null,null,null,null,null,null,null,null,null,null,null,null,null,null,0,0]
[null,null,"Darbuotojo vardas pavardė",null,null,null,null,null,null,null,null,null,null,null,null,null,null,0,0]
["5.8.10","Pareigybės pavadinimas","Darbuotojo vardas pavardė","val.",null,{"$f":"IFERROR(ROUND(AVERAGE(J204:J208),2),\"0\")","v":"0"},{"$f":"ROUND(E204*F204,2)","v":0},{"$f":"ROUND(G204*$D$7,2)","v":0},null,null,null,null,null,null,null,null,null,0,0]
[null,null,"Darbuotojo vardas pavardė",null,null,null,null,null,null,null,null,null,null,null,null,null,null,0,0]
[null,null,"Darbuotojo vardas pavardė",null,null,null,null,null,null,null,null,null,null,null,null,null,null,0,0]
[null,null,"Darbuotojo vardas pavardė",null,null,null,null,null,null,null,null,null,null,null,null,null,null,0,0]
[null,null,"Darbuotojo vardas pavardė",null,null,null,null,null,null,null,null,null,null,null,null,null,null,{"$f":"SUM(T208:AM208)","v":0},{"$f":"H208-R208","v":0}]
["5.8.11","Pareigybės pavadinimas","Darbuotojo vardas pavardė","val.",null,{"$f":"IFERROR(ROUND(AVERAGE(J209:J213),2),\"0\")","v":"0"},{"$f":"ROUND(E209*F209,2)","v":0},{"$f":"ROUND(G209*$D$7,2)","v":0},null,null,null,null,null,null,null,null,null,{"$f":"SUM(T209:AM209)","v":0},{"$f":"H209-R209","v":0}]
[null,null,"Darbuotojo vardas pavardė",null,null,null,null,null,null,null,null,null,null,null,null,null,null,0,0]
[null,null,"Darbuotojo vardas pavardė",null,null,null,null,null,null,null,null,null,null,null,null,null,null,0,0]
[null,null,"Darbuotojo vardas pavardė",null,null,null,null,null,null,null,null,null,null,null,null,null,null,0,0]
[null,null,"Darbuotojo vardas pavardė",null,null,null,null,null,null,null,null,null,null,null,null,null,null,0,0]
["5.8.12","Pareigybės pavadinimas","Darbuotojo vardas pavardė","val.",null,{"$f":"IFERROR(ROUND(AVERAGE(J214:J218),2),\"0\")","v":"0"},{"$f":"ROUND(E214*F214,2)","v":0},{"$f":"ROUND(G214*$D$7,2)","v":0},null,null,null,null,null,null,null,null,null,0,0]
[null,null,"Darbuotojo vardas pavardė",null,null,null,null,null,null,null,null,null,null,null,null,null,null,0,0]
[null,null,"Darbuotojo vardas pavardė",null,null,null,null,null,null,null,null,null,null,null,null,null,null,0,0]
[null,null,"Darbuotojo vardas pavardė",null,null,null,null,null,null,null,null,null,null,null,null,null,null,0,0]
[null,null,"Darbuotojo vardas pavardė",null,null,null,null,null,null,null,null,null,null,null,null,null,null,{"$f":"SUM(T218:AM218)","v":0},{"$f":"H218-R218","v":0}]
["5.8.13","Pareigybės pavadinimas","Darbuotojo vardas pavardė","val.",null,{"$f":"IFERROR(ROUND(AVERAGE(J219:J223),2),\"0\")","v":"0"},{"$f":"ROUND(E219*F219,2)","v":0},{"$f":"ROUND(G219*$D$7,2)","v":0},null,null,null,null,null,null,null,null,null,{"$f":"SUM(T219:AM219)","v":0},{"$f":"H219-R219","v":0}]
[null,null,"Darbuotojo vardas pavardė",null,null,null,null,null,null,null,null,null,null,null,null,null,null,0,0]
[null,null,"Darbuotojo vardas pavardė",null,null,null,null,null,null,null,null,null,null,null,null,null,null,0,0]
[null,null,"Darbuotojo vardas pavardė",null,null,null,null,null,null,null,null,null,null,null,null,null,null,0,0]
[null,null,"Darbuotojo vardas pavardė",null,null,null,null,null,null,null,null,null,null,null,null,null,null,0,0]
["5.9","Projektą vykdančio personalo komandiruočių išlaidos",null,null,null,null,{"$f":"SUM(G225,G232,G239,G246,G253,G260,G267,G274,G281,G288)","v":0},{"$f":"SUM(H225,H232,H239,H246,H253,H260,H267,H274,H281,H288)","v":0},null,null,null,null,null,null,null,null,null,0,0]
["5.9.1","Komandiruotės pavadinimas, vieta, trukmė dienomis, vykstančių asmenų skaičius","Iš viso komandiruotei",null,null,null,{"$f":"SUM(G226:G231)","v":0},{"$f":"ROUND(G225*$D$7,2)","v":0},null,null,null,null,null,null,null,null,null,0,0]
[null,null,"Dienpinigiai",null,null,null,{"$f":"ROUND(E226*F226,2)","v":0},null,null,null,null,null,null,null,null,null,null,0,0]
[null,null,"Gyvenamojo ploto nuoma",null,null,null,0,null,null,null,null,null,null,null,null,null,null,0,0]
[null,null,"Kelionės išlaidos",null,null,null,0,null,null,null,null,null,null,null,null,null,null,{"$f":"SUM(T228:AM228)","v":0},{"$f":"H228-R228","v":0}]
[null,null,"Dalyvavimo mokestis",null,null,null,0,null,null,null,null,null,null,null,null,null,null,{"$f":"SUM(T229:AM229)","v":0},{"$f":"H229-R229","v":0}]
[null,null,"Kitos išlaidų pavadinimas",null,null,null,0,null,null,null,null,null,null,null,null,null,null,0,0]
[null,null,"Kitos išlaidų pavadinimas",null,null,null,0,null,null,null,null,null,null,null,null,null,null,0,0]
["5.9.2","Komandiruotės pavadinimas, vieta, trukmė dienomis, vykstančių asmenų skaičius","Iš viso komandiruotei",null,null,null,{"$f":"SUM(G233:G238)","v":0},{"$f":"ROUND(G232*$D$7,2)","v":0},null,null,null,null,null,null,null,null,null,0,0]
[null,null,"Dienpinigiai",null,null,null,0,null,null,null,null,null,null,null,null,null,null,0,0]
[null,null,"Gyvenamojo ploto nuoma",null,null,null,0,null,null,null,null,null,null,null,null,null,null,0,0]
[null,null,"Kelionės išlaidos",null,null,null,0,null,null,null,null,null,null,null,null,null,null,0,0]
[null,null,"Dalyvavimo mokestis",null,null,null,0,null,null,null,null,null,null,null,null,null,null,0,0]
[null,null,"Kitos išlaidų pavadinimas",null,null,null,0,null,null,null,null,null,null,null,null,null,null,0,0]
[null,null,"Kitos išlaidų pavadinimas",null,null,null,0,null,null,null,null,null,null,null,null,null,null,{"$f":"SUM(T238:AM238)","v":0},{"$f":"H238-R238","v":0}]
["5.9.3","Komandiruotės pavadinimas, vieta, trukmė dienomis, vykstančių asmenų skaičius","Iš viso komandiruotei",null,null,null,{"$f":"SUM(G240:G245)","v":0},{"$f":"ROUND(G239*$D$7,2)","v":0},null,null,null,null,null,null,null,null,null,{"$f":"SUM(T239:AM239)","v":0},{"$f":"H239-R239","v":0}]
[null,null,"Dienpinigiai",null,null,null,0,null,null,null,null,null,null,null,null,null,null,0,0]
[null,null,"Gyvenamojo ploto nuoma",null,null,null,0,null,null,null,null,null,null,null,null,null,null,0,0]
[null,null,"Kelionės išlaidos",null,null,null,0,null,null,null,null,null,null,null,null,null,null,0,0]
[null,null,"Dalyvavimo mokestis",null,null,null,0,null,null,null,null,null,null,null,null,null,null,0,0]
[null,null,"Kitos išlaidų pavadinimas",null,null,null,0,null,null,null,null,null,null,null,null,null,null,0,0]
[null,null,"Kitos išlaidų pavadinimas",null,null,null,0,null,null,null,null,null,null,null,null,null,null,0,0]
["5.9.4","Komandiruotės pavadinimas, vieta, trukmė dienomis, vykstančių asmenų skaičius","Iš viso komandiruotei",null,null,null,{"$f":"SUM(G247:G252)","v":0},{"$f":"ROUND(G246*$D$7,2)","v":0},null,null,null,null,null,null,null,null,null,0,0]
[null,null,"Dienpinigiai",null,null,null,0,null,null,null,null,null,null,null,null,null,null,0,0]
[null,null,"Gyvenamojo ploto nuoma",null,null,null,0,null,null,null,null,null,null,null,null,null,null,{"$f":"SUM(T248:AM248)","v":0},{"$f":"H248-R248","v":0}]
[null,null,"Kelionės išlaidos",null,null,null,0,null,null,null,null,null,null,null,null,null,null,{"$f":"SUM(T249:AM249)","v":0},{"$f":"H249-R249","v":0}]
[null,null,"Dalyvavimo mokestis",null,null,null,0,null,null,null,null,null,null,null,null,null,null,0,0]
[null,null,"Kitos išlaidų pavadinimas",null,null,null,0,null,null,null,null,null,null,null,null,null,null,0,0]
[null,null,"Kitos išlaidų pavadinimas",null,null,null,0,null,null,null,null,null,null,null,null,null,null,0,0]
["5.9.5","Komandiruotės pavadinimas, vieta, trukmė dienomis, vykstančių asmenų skaičius","Iš viso komandiruotei",null,null,null,{"$f":"SUM(G254:G259)","v":0},{"$f":"ROUND(G253*$D$7,2)","v":0},null,null,null,null,null,null,null,null,null,0,0]
[null,null,"Dienpinigiai",null,null,null,0,null,null,null,null,null,null,null,null,null,null,0,0]
[null,null,"Gyvenamojo ploto nuoma",null,null,null,0,null,null,null,null,null,null,null,null,null,null,0,0]
[null,null,"Kelionės išlaidos",null,null,null,0,null,null,null,null,null,null,null,null,null,null,0,0]
[null,null,"Dalyvavimo mokestis",null,null,null,0,null,null,null,null,null,null,null,null,null,null,0,0]
[null,null,"Kitos išlaidų pavadinimas",null,null,null,0,null,null,null,null,null,null,null,null,null,null,{"$f":"SUM(T258:AM258)","v":0},{"$f":"H258-R258","v":0}]
[null,null,"Kitos išlaidų pavadinimas",null,null,null,0,null,null,null,null,null,null,null,null,null,null,{"$f":"SUM(T259:AM259)","v":0},{"$f":"H259-R259","v":0}]
["5.9.6","Komandiruotės pavadinimas, vieta, trukmė dienomis, vykstančių asmenų skaičius","Iš viso komandiruotei",null,null,null,{"$f":"SUM(G261:G266)","v":0},{"$f":"ROUND(G260*$D$7,2)","v":0},null,null,null,null,null,null,null,null,null,0,0]
[null,null,"Dienpinigiai",null,null,null,0,null,null,null,null,null,null,null,null,null,null,0,0]
[null,null,"Gyvenamojo ploto nuoma",null,null,null,0,null,null,null,null,null,null,null,null,null,null,0,0]
[null,null,"Kelionės išlaidos",null,null,null,0,null,null,null,null,null,null,null,null,null,null,0,0]
[null,null,"Dalyvavimo mokestis",null,null,null,0,null,null,null,null,null,null,null,null,null,null,0,0]
[null,null,"Kitos išlaidų pavadinimas",null,null,null,0,null,null,null,null,null,null,null,null,null,null,0,0]
[null,null,"Kitos išlaidų pavadinimas",null,null,null,0,null,null,null,null,null,null,null,null,null,null,0,0]
["5.9.7","Komandiruotės pavadinimas, vieta, trukmė dienomis, vykstančių asmenų skaičius","Iš viso komandiruotei",null,null,null,{"$f":"SUM(G268:G273)","v":0},{"$f":"ROUND(G267*$D$7,2)","v":0},null,null,null,null,null,null,null,null,null,0,0]
[null,null,"Dienpinigiai",null,null,null,0,null,null,null,null,null,null,null,null,null,null,{"$f":"SUM(T268:AM268)","v":0},{"$f":"H268-R268","v":0}]
[null,null,"Gyvenamojo ploto nuoma",null,null,null,0,null,null,null,null,null,null,null,null,null,null,{"$f":"SUM(T269:AM269)","v":0},{"$f":"H269-R269","v":0}]
[null,null,"Kelionės išlaidos",null,null,null,0,null,null,null,null,null,null,null,null,null,null,0,0]
[null,null,"Dalyvavimo mokestis",null,null,null,0,null,null,null,null,null,null,null,null,null,null,0,0]
[null,null,"Kitos išlaidų pavadinimas",null,null,null,0,null,null,null,null,null,null,null,null,null,null,0,0]
[null,null,"Kitos išlaidų pavadinimas",null,null,null,0,null,null,null,null,null,null,null,null,null,null,0,0]
["5.9.8","Komandiruotės pavadinimas, vieta, trukmė dienomis, vykstančių asmenų skaičius","Iš viso komandiruotei",null,null,null,{"$f":"SUM(G275:G280)","v":0},{"$f":"ROUND(G274*$D$7,2)","v":0},null,null,null,null,null,null,null,null,null,0,0]
[null,null,"Dienpinigiai",null,null,null,0,null,null,null,null,null,null,null,null,null,null,0,0]
[null,null,"Gyvenamojo ploto nuoma",null,null,null,0,null,null,null,null,null,null,null,null,null,null,0,0]
[null,null,"Kelionės išlaidos",null,null,null,0,null,null,null,null,null,null,null,null,null,null,0,0]
[null,null,"Dalyvavimo mokestis",null,null,null,0,null,null,null,null,null,null,null,null,null,null,{"$f":"SUM(T278:AM278)","v":0},{"$f":"H278-R278","v":0}]
[null,null,"Kitos išlaidų pavadinimas",null,null,null,0,null,null,null,null,null,null,null,null,null,null,{"$f":"SUM(T279:AM279)","v":0},{"$f":"H279-R279","v":0}]
[null,null,"Kitos išlaidų pavadinimas",null,null,null,0,null,null,null,null,null,null,null,null,null,null,0,0]
["5.9.9","Komandiruotės pavadinimas, vieta, trukmė dienomis, vykstančių asmenų skaičius","Iš viso komandiruotei",null,null,null,{"$f":"SUM(G282:G287)","v":0},{"$f":"ROUND(G281*$D$7,2)","v":0},null,null,null,null,null,null,null,null,null,0,0]
[null,null,"Dienpinigiai",null,null,null,0,null,null,null,null,null,null,null,null,null,null,0,0]
[null,null,"Gyvenamojo ploto nuoma",null,null,null,0,null,null,null,null,null,null,null,null,null,null,{"$f":"SUM(T283:AM283)","v":0},{"$f":"H283-R283","v":0}]
[null,null,"Kelionės išlaidos",null,null,null,0,null,null,null,null,null,null,null,null,null,null,{"$f":"SUM(T284:AM284)","v":0},{"$f":"H284-R284","v":0}]
[null,null,"Dalyvavimo mokestis",null,null,null,0,null,null,null,null,null,null,null,null,null,null,{"$f":"SUM(T285:AM285)","v":0},{"$f":"H285-R285","v":0}]
[null,null,"Kitos išlaidų pavadinimas",null,null,null,0,null,null,null,null,null,null,null,null,null,null,{"$f":"SUM(T286:AM286)","v":0},{"$f":"H286-R286","v":0}]
[null,null,"Kitos išlaidų pavadinimas",null,null,null,0,null,null,null,null,null,null,null,null,null,null,0,0]
["5.9.10","Komandiruotės pavadinimas, vieta, trukmė dienomis, vykstančių asmenų skaičius","Iš viso komandiruotei",null,null,null,{"$f":"SUM(G289:G294)","v":0},{"$f":"ROUND(G288*$D$7,2)","v":0},null,null,null,null,null,null,null,null,null,0,0]
[null,null,"Dienpinigiai",null,null,null,0,null,null,null,null,null,null,null,null,null,null,0,0]
[null,null,"Gyvenamojo ploto nuoma",null,null,null,0,null,null,null,null,null,null,null,null,null,null,0,0]
[null,null,"Kelionės išlaidos",null,null,null,{"$f":"ROUND(E291*F291,2)","v":0},null,null,null,null,null,null,null,null,null,null,0,0]
[null,null,"Dalyvavimo mokestis",null,null,null,0,null,null,null,null,null,null,null,null,null,null,0,0]
[null,null,"Kitos išlaidų pavadinimas",null,null,null,0,null,null,null,null,null,null,null,null,null,null,0,0]
[null,null,"Kitos išlaidų pavadinimas",null,null,null,0,null,null,null,null,null,null,null,null,null,null,0,0]
["5.10","Įrangos nuomos išlaidos, veiklai priskirtos pro rata principu. Įranga turi būti tiesiogiai susijusi su projekto įgyvendinimu ir negali būti įsigyta iš ES struktūrinių fondų ar kt. ES finansinių priemonių lėšų",null,null,null,null,{"$f":"SUM(G296:G312)","v":0},{"$f":"SUM(H296:H312)","v":0},null,"Faktinės 1 mėnesio išlaidos, Eur","Naudojimo projekte trukmė, mėn.",null,null,null,null,null,null,0,0]
["5.10.1","Įrangos pavadinimas",null,"pro rata proc.",null,{"$f":"J296*K296","v":0},{"$f":"ROUND(E296*F296,2)","v":0},{"$f":"ROUND(G296*$D$7,2)","v":0},null,null,null,null,null,null,null,null,null,{"$f":"SUM(T296:AM296)","v":0},{"$f":"H296-R296","v":0}]
["5.10.2","Įrangos pavadinimas",null,"pro rata proc.",null,{"$f":"J297*K297","v":0},0,{"$f":"ROUND(G297*$D$7,2)","v":0},null,null,null,null,null,null,null,null,null,{"$f":"SUM(T297:AM297)","v":0},{"$f":"H297-R297","v":0}]
["5.10.3","Įrangos pavadinimas",null,"pro rata proc.",null,0,0,0,null,null,null,null,null,null,null,null,null,0,0]
["5.10.4","Įrangos pavadinimas",null,"pro rata proc.",null,0,0,0,null,null,null,null,null,null,null,null,null,0,0]
["5.10.5","Įrangos pavadinimas",null,"pro rata proc.",null,0,0,0,null,null,null,null,null,null,null,null,null,0,0]
["5.10.6","Įrangos pavadinimas",null,"pro rata proc.",null,0,0,0,null,null,null,null,null,null,null,null,null,0,0]
["5.10.7","Įrangos pavadinimas",null,"pro rata proc.",null,0,0,0,null,null,null,null,null,null,null,null,null,{"$f":"SUM(T302:AM302)","v":0},{"$f":"H302-R302","v":0}]
["5.10.8","Įrangos pavadinimas",null,"pro rata proc.",null,0,0,0,null,null,null,null,null,null,null,null,null,{"$f":"SUM(T303:AM303)","v":0},{"$f":"H303-R303","v":0}]
["5.10.9","Įrangos pavadinimas",null,"pro rata proc.",null,0,0,0,null,null,null,null,null,null,null,null,null,{"$f":"SUM(T304:AM304)","v":0},{"$f":"H304-R304","v":0}]
["5.10.10","Įrangos pavadinimas",null,"pro rata proc.",null,0,0,0,null,null,null,null,null,null,null,null,null,0,0]
["5.10.11","Įrangos pavadinimas",null,"pro rata proc.",null,0,0,0,null,null,null,null,null,null,null,null,null,0,0]
["5.10.12","Įrangos pavadinimas",null,"pro rata proc.",null,0,0,0,null,null,null,null,null,null,null,null,null,{"$f":"SUM(T307:AM307)","v":0},{"$f":"H307-R307","v":0}]
["5.10.13","Įrangos pavadinimas",null,"pro rata proc.",null,0,0,0,null,null,null,null,null,null,null,null,null,{"$f":"SUM(T308:AM308)","v":0},{"$f":"H308-R308","v":0}]
["5.10.14","Įrangos pavadinimas",null,"pro rata proc.",null,0,0,0,null,null,null,null,null,null,null,null,null,{"$f":"SUM(T309:AM309)","v":0},{"$f":"H309-R309","v":0}]
["5.10.15","Įrangos pavadinimas",null,"pro rata proc.",null,0,0,0,null,null,null,null,null,null,null,null,null,{"$f":"SUM(T310:AM310)","v":0},{"$f":"H310-R310","v":0}]
["5.10.16","Įrangos pavadinimas",null,"pro rata proc.",null,0,0,0,null,null,null,null,null,null,null,null,null,0,0]
["5.10.17","Įrangos pavadinimas",null,"pro rata proc.",null,0,0,0,null,null,null,null,null,null,null,null,null,0,0]
["5.11","Pastatų ar patalpų nuomos išlaidos, veiklai priskirtos pro rata principu. Pastatai ar patalpos turi būti tiesiogiai susijusi su projekto įgyvendinimu.",null,null,null,null,{"$f":"SUM(G314:G318)","v":0},{"$f":"SUM(H314:H318)","v":0},null,"Faktinės 1 mėnesio išlaidos, Eur","Naudojimo projekte trukmė, mėn.",null,null,null,null,null,null,0,0]
["5.11.1","Pastato, patalpų adresas",null,"pro rata proc.",null,{"$f":"J314*K314","v":0},{"$f":"ROUND(E314*F314,2)","v":0},{"$f":"ROUND(G314*$D$7,2)","v":0},null,null,null,null,null,null,null,null,null,0,0]
["5.11.2","Pastato, patalpų adresas",null,"pro rata proc.",null,{"$f":"J315*K315","v":0},{"$f":"ROUND(E315*F315,2)","v":0},{"$f":"ROUND(G315*$D$7,2)","v":0},null,null,null,null,null,null,null,null,null,0,0]
["5.11.3","Pastato, patalpų adresas",null,"pro rata proc.",null,0,0,0,null,null,null,null,null,null,null,null,null,0,0]
["5.11.4","Pastato, patalpų adresas",null,"pro rata proc.",null,0,0,0,null,null,null,null,null,null,null,null,null,0,0]
["5.11.5","Pastato, patalpų adresas",null,"pro rata proc.",null,0,0,0,null,null,null,null,null,null,null,null,null,0,0]
["Iš viso tinkamų finansuoti išlaidų:",null,null,null,null,null,{"$f":"G10+G44","v":0},{"$f":"H10+H44","v":0}]

{"sheet":"5","index":7,"n_rows":319,"n_cols":39,"rows_kept":319,"cut":false,"hidden":false,"merged":[[315,1,315,2],[316,1,316,2],[317,1,317,2],[318,0,318,5],[306,1,306,2],[307,1,307,2],[308,1,308,2],[309,1,309,2],[310,1,310,2],[311,1,311,2],[312,1,312,5],[313,1,313,2],[314,1,314,2],[297,1,297,2],[298,1,298,2],[299,1,299,2],[300,1,300,2],[301,1,301,2],[302,1,302,2],[303,1,303,2],[304,1,304,2],[305,1,305,2],[224,0,230,0],[224,1,230,1],[224,8,230,8],[231,0,237,0],[231,1,237,1],[231,8,237,8],[238,0,244,0],[238,1,244,1],[238,8,244,8],[218,0,222,0],[218,1,222,1],[218,3,222,3],[218,4,222,4],[218,5,222,5],[218,6,222,6],[218,7,222,7],[218,8,222,8],[223,1,223,5],[208,0,212,0],[208,1,212,1],[208,3,212,3],[208,4,212,4],[208,5,212,5],[208,6,212,6],[208,7,212,7],[208,8,212,8],[213,0,217,0],[213,1,217,1],[213,3,217,3],[213,4,217,4],[213,5,217,5],[213,6,217,6],[213,7,217,7],[213,8,217,8],[203,0,207,0],[203,1,207,1],[203,3,207,3],[203,4,207,4],[203,5,207,5],[203,6,207,6],[203,7,207,7],[203,8,207,8],[198,0,202,0],[198,1,202,1],[198,3,202,3],[198,4,202,4],[198,5,202,5],[188,0,192,0],[188,1,192,1],[188,3,192,3],[188,4,192,4],[188,5,192,5],[188,6,192,6],[188,7,192,7],[188,8,192,8],[198,6,202,6],[198,7,202,7],[198,8,202,8],[193,0,197,0],[193,1,197,1],[193,3,197,3],[193,4,197,4],[193,5,197,5],[193,6,197,6],[193,7,197,7],[193,8,197,8],[168,0,172,0],[168,1,172,1],[168,3,172,3],[168,4,172,4],[168,5,172,5],[168,6,172,6],[168,7,172,7],[168,8,172,8],[173,0,177,0],[173,1,177,1],[173,3,177,3],[173,4,177,4],[173,5,177,5],[173,6,177,6],[173,7,177,7],[173,8,177,8],[158,8,162,8],[163,0,167,0],[163,1,167,1],[163,3,167,3],[163,4,167,4],[163,5,167,5],[163,6,167,6],[163,7,167,7],[163,8,167,8],[158,6,162,6],[158,7,162,7],[142,1,142,2],[143,1,143,2],[144,1,144,2],[145,1,145,2],[146,1,146,2],[147,1,147,2],[148,1,148,2],[149,1,149,2],[150,1,150,2],[295,1,295,2],[294,1,294,5],[296,1,296,2],[266,1,272,1],[245,0,251,0],[245,1,251,1],[245,8,251,8],[252,0,258,0],[252,1,258,1],[252,8,258,8],[259,0,265,0],[259,1,265,1],[259,8,265,8],[266,0,272,0],[266,8,272,8],[273,0,279,0],[273,1,279,1],[273,8,279,8],[280,0,286,0],[280,1,286,1],[280,8,286,8],[287,0,293,0],[287,1,293,1],[287,8,293,8],[178,0,182,0],[178,1,182,1],[178,3,182,3],[178,4,182,4],[178,5,182,5],[178,6,182,6],[178,7,182,7],[178,8,182,8],[183,0,187,0],[183,1,187,1],[183,3,187,3],[183,4,187,4],[183,5,187,5],[183,6,187,6],[183,7,187,7],[183,8,187,8],[5,3,5,8],[8,1,8,2],[9,1,9,5],[11,1,11,2],[12,1,12,2],[0,3,0,8],[2,0,2,2],[2,3,2,8],[3,3,3,4],[3,5,3,6],[4,0,4,2],[4,3,4,8],[10,1,10,5],[19,1,19,2],[21,1,21,5],[22,1,22,2],[23,1,23,2],[24,1,24,2],[13,1,13,2],[14,1,14,2],[15,1,15,2],[16,1,16,2],[17,1,17,2],[18,1,18,2],[20,1,20,2],[31,1,31,2],[32,1,32,5],[33,1,33,2],[34,1,34,2],[35,1,35,2],[36,1,36,2],[25,1,25,2],[26,1,26,2],[27,1,27,2],[28,1,28,2],[29,1,29,2],[30,1,30,2],[43,1,43,5],[45,1,45,2],[46,1,46,2],[47,1,47,2],[48,1,48,2],[37,1,37,2],[38,1,38,2],[39,1,39,2],[40,1,40,2],[41,1,41,2],[42,1,42,2],[44,1,44,5],[56,1,56,2],[57,1,57,2],[58,1,58,2],[59,1,59,2],[60,1,60,2],[49,1,49,2],[50,1,50,2],[51,1,51,2],[52,1,52,2],[53,1,53,2],[54,1,54,2],[55,1,55,5],[67,1,67,2],[68,1,68,2],[69,1,69,2],[70,1,70,2],[72,1,72,2],[61,1,61,2],[62,1,62,2],[63,1,63,2],[64,1,64,2],[65,1,65,2],[66,1,66,5],[71,1,71,2],[79,1,79,2],[80,1,80,2],[81,1,81,2],[82,1,82,2],[83,1,83,2],[84,1,84,2],[73,1,73,2],[74,1,74,2],[75,1,75,2],[76,1,76,2],[78,1,78,2],[77,1,77,5],[91,1,91,2],[92,1,92,2],[93,1,93,2],[94,1,94,2],[95,1,95,2],[96,1,96,2],[85,1,85,2],[86,1,86,2],[87,1,87,2],[89,1,89,2],[90,1,90,2],[88,1,88,5],[97,1,97,2],[98,1,98,2],[100,1,100,2],[101,1,101,2],[102,1,102,2],[103,1,103,2],[104,1,104,2],[99,1,99,5],[105,1,105,2],[106,1,106,2],[107,1,107,2],[108,1,108,2],[109,1,109,2],[110,1,110,2],[111,1,111,2],[112,1,112,2],[113,1,113,2],[114,1,114,2],[115,1,115,2],[116,1,116,2],[117,1,117,2],[118,1,118,2],[119,1,119,2],[120,1,120,2],[121,1,121,2],[122,1,122,2],[123,1,123,2],[124,1,124,2],[125,1,125,2],[126,1,126,2],[128,1,128,2],[129,1,129,2],[130,1,130,2],[131,1,131,2],[132,1,132,2],[127,1,127,5],[133,1,133,2],[134,1,134,2],[135,1,135,2],[136,1,136,2],[137,1,137,2],[138,1,138,2],[139,1,139,2],[140,1,140,2],[141,1,141,2],[151,1,151,2],[152,1,152,2],[153,1,153,2],[154,1,154,2],[155,1,155,2],[156,1,156,2],[157,1,157,5],[158,0,162,0],[158,1,162,1],[158,3,162,3],[158,4,162,4],[158,5,162,5]]}
[null,null,"Pasirinkite veiklos tipą:"]
[null,null,"Fizinio rodiklio Nr.:"]
["Fizinio rodiklio pavadinimas:"]
[null,null,"Fizinio rodiklio matavimo vnt.:",null,null,"Fizinio rodiklio vnt. skaičius:"]
["Juridinis asmuo (pareiškėjas, partneris), atsakingas už fizinį rodiklį:"]
[null,null,"Vykdytojo tipas:"]
[null,null,"Finansavimo intensyvumas:",null,null,null,"Pasirinkite biudžeto išlaidų kategoriją:","Visos"]
[]
["Eil. Nr.","Išlaidų kategorijos pavadinimas",null,"Matavimo vnt.","Kiekis","Vieneto kaina be PVM, Eur","Tinkamų finansuoti išlaidų suma be PVM, Eur","Finansavimo suma, Eur","Išlaidų pagrindimo dokumentų pavadinimas, data ir Nr.",null,null,null,null,null,null,null,null,"Apmokėta","Likutis","MP001","MP002","MP003","MP004","MP005","MP006","MP007","MP008","MP009","MP010","MP011","MP012","MP013","MP014","MP015","MP016","MP017","MP018","MP019","MP020"]
[4,"ĮRANGA, ĮRENGINIAI IR KT. TURTAS (tinkamos finansuoti išlaidos, susijusios su COVID-19, yra išlaidos, tiesiogiai susijusios su projekto įgyvendinimu, ir paskirstytos proporcingai veiklai (pro rata principu)",null,null,null,null,{"$f":"SUM(G11+G22+G33)","v":0},{"$f":"SUM(H11+H22+H33)","v":0},null,null,null,null,null,null,null,null,null,{"$f":"SUM(T10:AM10)","v":0},{"$f":"H10-R10","v":0}]
["4.1","Skaitmeninė ir kompiuterinė įranga",null,null,null,null,{"$f":"SUM(G12:G21)","v":0},{"$f":"SUM(H12:H21)","v":0},null,"Infrastruktūros naudojimo laiko dalis, skirta išimtinai MTEP, proc.",null,null,null,null,null,null,null,0,0]
["4.1.1","Išlaidų pavadinimas",null,null,null,null,{"$f":"ROUND(E12*F12,2)","v":0},{"$f":"ROUND(G12*$D$7*J12,2)","v":0},null,1,null,null,null,null,null,null,null,{"$f":"SUM(T12:AM12)","v":0},{"$f":"H12-R12","v":0}]
["4.1.2","Išlaidų pavadinimas",null,null,null,null,{"$f":"ROUND(E13*F13,2)","v":0},{"$f":"ROUND(G13*$D$7*J13,2)","v":0},null,1,null,null,null,null,null,null,null,{"$f":"SUM(T13:AM13)","v":0},{"$f":"H13-R13","v":0}]
["4.1.3","Išlaidų pavadinimas",null,null,null,null,{"$f":"ROUND(E14*F14,2)","v":0},0,null,1,null,null,null,null,null,null,null,0,0]
["4.1.4","Išlaidų pavadinimas",null,null,null,null,0,0,null,1,null,null,null,null,null,null,null,0,0]
["4.1.5","Išlaidų pavadinimas",null,null,null,null,0,0,null,1,null,null,null,null,null,null,null,0,0]
["4.1.6","Išlaidų pavadinimas",null,null,null,null,0,0,null,1,null,null,null,null,null,null,null,0,0]
["4.1.7","Išlaidų pavadinimas",null,null,null,null,0,0,null,1,null,null,null,null,null,null,null,0,0]
["4.1.8","Išlaidų pavadinimas",null,null,null,null,0,0,null,1,null,null,null,null,null,null,null,0,0]
["4.1.9","Išlaidų pavadinimas",null,null,null,null,0,0,null,1,null,null,null,null,null,null,null,0,0]
["4.1.10","Išlaidų pavadinimas",null,null,null,null,0,0,null,1,null,null,null,null,null,null,null,0,0]
["4.2","Diagnostikos priemonės, duomenų rinkimo ir tvarkymo priemonės",null,null,null,null,{"$f":"SUM(G23:G32)","v":0},{"$f":"SUM(H23:H32)","v":0},null,null,null,null,null,null,null,null,null,0,0]
["4.2.1","Išlaidų pavadinimas",null,null,null,null,{"$f":"ROUND(E23*F23,2)","v":0},{"$f":"ROUND(G23*$D$7*J23,2)","v":0},null,1,null,null,null,null,null,null,null,{"$f":"SUM(T23:AM23)","v":0},{"$f":"H23-R23","v":0}]
["4.2.2","Išlaidų pavadinimas",null,null,null,null,{"$f":"ROUND(E24*F24,2)","v":0},{"$f":"ROUND(G24*$D$7*J24,2)","v":0},null,1,null,null,null,null,null,null,null,{"$f":"SUM(T24:AM24)","v":0},{"$f":"H24-R24","v":0}]
["4.2.3","Išlaidų pavadinimas",null,null,null,null,{"$f":"ROUND(E25*F25,2)","v":0},0,null,1,null,null,null,null,null,null,null,0,0]
["4.2.4","Išlaidų pavadinimas",null,null,null,null,0,0,null,1,null,null,null,null,null,null,null,0,0]
["4.2.5","Išlaidų pavadinimas",null,null,null,null,0,0,null,1,null,null,null,null,null,null,null,0,0]
["4.2.6","Išlaidų pavadinimas",null,null,null,null,0,0,null,1,null,null,null,null,null,null,null,0,0]
["4.2.7","Išlaidų pavadinimas",null,null,null,null,0,0,null,1,null,null,null,null,null,null,null,0,0]
["4.2.8","Išlaidų pavadinimas",null,null,null,null,0,0,null,1,null,null,null,null,null,null,null,0,0]
["4.2.9","Išlaidų pavadinimas",null,null,null,null,0,0,null,1,null,null,null,null,null,null,null,0,0]
["4.2.10","Išlaidų pavadinimas",null,null,null,null,0,0,null,1,null,null,null,null,null,null,null,0,0]
["4.3","Patentų ir kito nematerialiojo turto įsigijimui, patvirtinimui ir apsaugai priskiriamos išlaidos",null,null,null,null,{"$f":"SUM(G34:G43)","v":0},{"$f":"SUM(H34:H43)","v":0},null,null,null,null,null,null,null,null,null,0,0]
["4.3.1","Išlaidų pavadinimas",null,null,null,null,{"$f":"ROUND(E34*F34,2)","v":0},{"$f":"ROUND(G34*$D$7*J34,2)","v":0},null,1,null,null,null,null,null,null,null,{"$f":"SUM(T34:AM34)","v":0},{"$f":"H34-R34","v":0}]
["4.3.2","Išlaidų pavadinimas",null,null,null,null,{"$f":"ROUND(E35*F35,2)","v":0},{"$f":"ROUND(G35*$D$7*J35,2)","v":0},null,1,null,null,null,null,null,null,null,{"$f":"SUM(T35:AM35)","v":0},{"$f":"H35-R35","v":0}]
["4.3.3","Išlaidų pavadinimas",null,null,null,null,{"$f":"ROUND(E36*F36,2)","v":0},0,null,1,null,null,null,null,null,null,null,0,0]
["4.3.4","Išlaidų pavadinimas",null,null,null,null,0,0,null,1,null,null,null,null,null,null,null,0,0]
["4.3.5","Išlaidų pavadinimas",null,null,null,null,0,0,null,1,null,null,null,null,null,null,null,0,0]
["4.3.6","Išlaidų pavadinimas",null,null,null,null,0,0,null,1,null,null,null,null,null,null,null,0,0]
["4.3.7","Išlaidų pavadinimas",null,null,null,null,0,0,null,1,null,null,null,null,null,null,null,0,0]
["4.3.8","Išlaidų pavadinimas",null,null,null,null,0,0,null,1,null,null,null,null,null,null,null,0,0]
["4.3.9","Išlaidų pavadinimas",null,null,null,null,0,0,null,1,null,null,null,null,null,null,null,0,0]
["4.3.10","Išlaidų pavadinimas",null,null,null,null,0,0,null,1,null,null,null,null,null,null,null,0,0]
[5,"PROJEKTO VYKDYMAS",null,null,null,null,{"$f":"G45+G56+G100+G128+G158+G224+G295+G313+G78+G67+G89","v":0},{"$f":"H45+H56+H100+H128+H158+H224+H295+H313+H78+H67+H89","v":0},null,null,null,null,null,null,null,null,null,0,0]
["5.1","MTEP paslaugos",null,null,null,null,{"$f":"SUM(G46:G55)","v":0},{"$f":"SUM(H46:H55)","v":0},null,null,null,null,null,null,null,null,null,0,0]
["5.1.1","Paslaugos pavadinimas",null,null,null,null,{"$f":"ROUND(E46*F46,2)","v":0},{"$f":"ROUND(G46*$D$7,2)","v":0},null,null,null,null,null,null,null,null,null,{"$f":"SUM(T46:AM46)","v":0},{"$f":"H46-R46","v":0}]
["5.1.2","Paslaugos pavadinimas",null,null,null,null,0,0,null,null,null,null,null,null,null,null,null,{"$f":"SUM(T47:AM47)","v":0},{"$f":"H47-R47","v":0}]
["5.1.3","Paslaugos pavadinimas",null,null,null,null,0,0,null,null,null,null,null,null,null,null,null,0,0]
["5.1.4","Paslaugos pavadinimas",null,null,null,null,0,0,null,null,null,null,null,null,null,null,null,0,0]
["5.1.5","Paslaugos pavadinimas",null,null,null,null,0,0,null,null,null,null,null,null,null,null,null,0,0]
["5.1.6","Paslaugos pavadinimas",null,null,null,null,0,0,null,null,null,null,null,null,null,null,null,0,0]
["5.1.7","Paslaugos pavadinimas",null,null,null,null,0,0,null,null,null,null,null,null,null,null,null,0,0]
["5.1.8","Paslaugos pavadinimas",null,null,null,null,0,0,null,null,null,null,null,null,null,null,null,0,0]
["5.1.9","Paslaugos pavadinimas",null,null,null,null,0,0,null,null,null,null,null,null,null,null,null,0,0]
["5.1.10","Paslaugos pavadinimas",null,null,null,null,0,0,null,null,null,null,null,null,null,null,null,0,0]
["5.2","Konsultavimo ir lygiavertės paslaugos, teikiamos vien tik projekto MTEP veiklai.",null,null,null,null,{"$f":"SUM(G57:G66)","v":0},{"$f":"SUM(H57:H66)","v":0},null,null,null,null,null,null,null,null,null,0,0]
["5.2.1","Paslaugos pavadinimas",null,null,null,null,{"$f":"ROUND(E57*F57,2)","v":0},0,null,null,null,null,null,null,null,null,null,{"$f":"SUM(T57:AM57)","v":0},{"$f":"H57-R57","v":0}]
["5.2.2","Paslaugos pavadinimas",null,null,null,null,0,0,null,null,null,null,null,null,null,null,null,{"$f":"SUM(T58:AM58)","v":0},{"$f":"H58-R58","v":0}]
["5.2.3","Paslaugos pavadinimas",null,null,null,null,0,0,null,null,null,null,null,null,null,null,null,0,0]
["5.2.4","Paslaugos pavadinimas",null,null,null,null,0,0,null,null,null,null,null,null,null,null,null,0,0]
["5.2.5","Paslaugos pavadinimas",null,null,null,null,0,0,null,null,null,null,null,null,null,null,null,0,0]
["5.2.6","Paslaugos pavadinimas",null,null,null,null,0,0,null,null,null,null,null,null,null,null,null,0,0]
["5.2.7","Paslaugos pavadinimas",null,null,null,null,0,0,null,null,null,null,null,null,null,null,null,0,0]
["5.2.8","Paslaugos pavadinimas",null,null,null,null,0,0,null,null,null,null,null,null,null,null,null,0,0]
["5.2.9","Paslaugos pavadinimas",null,null,null,null,0,0,null,null,null,null,null,null,null,null,null,0,0]
["5.2.10","Paslaugos pavadinimas",null,null,null,null,0,0,null,null,null,null,null,null,null,null,null,0,0]
["5.3","Ikiklinikinių ir klinikinių tyrimų (I–IV tyrimų etapais) paslaugos (IV etapo tyrimų išlaidos yra tinkamos finansuoti, jei šiais tyrimais sudaromos sąlygos tolesnei mokslinei ar technologinei pažangai)",null,null,null,null,{"$f":"SUM(G68:G77)","v":0},{"$f":"SUM(H68:H77)","v":0},null,null,null,null,null,null,null,null,null,0,0]
["5.3.1","Paslaugos pavadinimas",null,null,null,null,{"$f":"ROUND(E68*F68,2)","v":0},{"$f":"ROUND(G68*$D$7,2)","v":0},null,null,null,null,null,null,null,null,null,{"$f":"SUM(T68:AM68)","v":0},{"$f":"H68-R68","v":0}]
["5.3.2","Paslaugos pavadinimas",null,null,null,null,0,0,null,null,null,null,null,null,null,null,null,{"$f":"SUM(T69:AM69)","v":0},{"$f":"H69-R69","v":0}]
["5.3.3","Paslaugos pavadinimas",null,null,null,null,0,0,null,null,null,null,null,null,null,null,null,0,0]
["5.3.4","Paslaugos pavadinimas",null,null,null,null,0,0,null,null,null,null,null,null,null,null,null,0,0]
["5.3.5","Paslaugos pavadinimas",null,null,null,null,0,0,null,null,null,null,null,null,null,null,null,0,0]
["5.3.6","Paslaugos pavadinimas",null,null,null,null,0,0,null,null,null,null,null,null,null,null,null,0,0]
["5.3.7","Paslaugos pavadinimas",null,null,null,null,0,0,null,null,null,null,null,null,null,null,null,0,0]
["5.3.8","Paslaugos pavadinimas",null,null,null,null,0,0,null,null,null,null,null,null,null,null,null,0,0]
["5.3.9","Paslaugos pavadinimas",null,null,null,null,0,0,null,null,null,null,null,null,null,null,null,0,0]
["5.3.10","Paslaugos pavadinimas",null,null,null,null,0,0,null,null,null,null,null,null,null,null,null,0,0]
["5.4","Naujiems produktams ir technologijoms sertifikuoti būtinos išlaidos",null,null,null,null,{"$f":"SUM(G79:G88)","v":0},{"$f":"SUM(H79:H88)","v":0},null,null,null,null,null,null,null,null,null,0,0]
["5.4.1","Išlaidų pavadinimas",null,null,null,null,{"$f":"ROUND(E79*F79,2)","v":0},{"$f":"ROUND(G79*$D$7,2)","v":0},null,null,null,null,null,null,null,null,null,{"$f":"SUM(T79:AM79)","v":0},{"$f":"H79-R79","v":0}]
["5.4.2","Išlaidų pavadinimas",null,null,null,null,0,0,null,null,null,null,null,null,null,null,null,{"$f":"SUM(T80:AM80)","v":0},{"$f":"H80-R80","v":0}]
["5.4.3","Išlaidų pavadinimas",null,null,null,null,0,0,null,null,null,null,null,null,null,null,null,0,0]
["5.4.4","Išlaidų pavadinimas",null,null,null,null,0,0,null,null,null,null,null,null,null,null,null,0,0]
["5.4.5","Išlaidų pavadinimas",null,null,null,null,0,0,null,null,null,null,null,null,null,null,null,0,0]
["5.4.6","Išlaidų pavadinimas",null,null,null,null,0,0,null,null,null,null,null,null,null,null,null,0,0]
["5.4.7","Išlaidų pavadinimas",null,null,null,null,0,0,null,null,null,null,null,null,null,null,null,0,0]
["5.4.8","Išlaidų pavadinimas",null,null,null,null,0,0,null,null,null,null,null,null,null,null,null,0,0]
["5.4.9","Išlaidų pavadinimas",null,null,null,null,0,0,null,null,null,null,null,null,null,null,null,0,0]
["5.4.10","Išlaidų pavadinimas",null,null,null,null,0,0,null,null,null,null,null,null,null,null,null,0,0]
["5.5","Paslaugų išlaidos, patirtos siekiant gauti atitikties vertinimus ir (arba) leidimus, būtinus prekybai naujomis ir patobulintomis vakcinomis ir vaistiniais preparatais, medicinos priemonėmis, ligoninių ir medicinos reikmenimis, dezinfekavimo priemonėmis ir asmeninėmis apsaugos priemonėmis",null,null,null,null,{"$f":"SUM(G90:G99)","v":0},{"$f":"SUM(H90:H99)","v":0},null,null,null,null,null,null,null,null,null,0,0]
["5.5.1","Paslaugos pavadinimas",null,null,null,null,{"$f":"ROUND(E90*F90,2)","v":0},{"$f":"ROUND(G90*$D$7,2)","v":0},null,null,null,null,null,null,null,null,null,{"$f":"SUM(T90:AM90)","v":0},{"$f":"H90-R90","v":0}]
["5.5.2","Paslaugos pavadinimas",null,null,null,null,0,0,null,null,null,null,null,null,null,null,null,{"$f":"SUM(T91:AM91)","v":0},{"$f":"H91-R91","v":0}]
["5.5.3","Paslaugos pavadinimas",null,null,null,null,0,0,null,null,null,null,null,null,null,null,null,0,0]
["5.5.4","Paslaugos pavadinimas",null,null,null,null,0,0,null,null,null,null,null,null,null,null,null,0,0]
["5.5.5","Paslaugos pavadinimas",null,null,null,null,0,0,null,null,null,null,null,null,null,null,null,0,0]
["5.5.6","Paslaugos pavadinimas",null,null,null,null,0,0,null,null,null,null,null,null,null,null,null,0,0]
["5.5.7","Paslaugos pavadinimas",null,null,null,null,0,0,null,null,null,null,null,null,null,null,null,0,0]
["5.5.8","Paslaugos pavadinimas",null,null,null,null,0,0,null,null,null,null,null,null,null,null,null,0,0]
["5.5.9","Paslaugos pavadinimas",null,null,null,null,0,0,null,null,null,null,null,null,null,null,null,0,0]
["5.5.10","Paslaugos pavadinimas",null,null,null,null,0,0,null,null,null,null,null,null,null,null,null,0,0]
["5.6","Medžiagos, mažavertis inventorius, atsargos ir pan. produktai, priskirtini trumpalaikiam turtui ir tiesiogiai susiję su MTEP veikla",null,null,null,null,{"$f":"SUM(G101:G127)","v":0},{"$f":"SUM(H101:H127)","v":0},null,null,null,null,null,null,null,null,null,0,0]
["5.6.1","Išlaidų pavadinimas",null,null,null,null,{"$f":"ROUND(E101*F101,2)","v":0},{"$f":"ROUND(G101*$D$7,2)","v":0},null,null,null,null,null,null,null,null,null,{"$f":"SUM(T101:AM101)","v":0},{"$f":"H101-R101","v":0}]
["5.6.2","Išlaidų pavadinimas",null,null,null,null,{"$f":"ROUND(E102*F102,2)","v":0},{"$f":"ROUND(G102*$D$7,2)","v":0},null,null,null,null,null,null,null,null,null,{"$f":"SUM(T102:AM102)","v":0},{"$f":"H102-R102","v":0}]
["5.6.3","Išlaidų pavadinimas",null,null,null,null,{"$f":"ROUND(E103*F103,2)","v":0},{"$f":"ROUND(G103*$D$7,2)","v":0},null,null,null,null,null,null,null,null,null,0,0]
["5.6.4","Išlaidų pavadinimas",null,null,null,null,{"$f":"ROUND(E104*F104,2)","v":0},{"$f":"ROUND(G104*$D$7,2)","v":0},null,null,null,null,null,null,null,null,null,0,0]
["5.6.5","Išlaidų pavadinimas",null,null,null,null,{"$f":"ROUND(E105*F105,2)","v":0},{"$f":"ROUND(G105*$D$7,2)","v":0},null,null,null,null,null,null,null,null,null,0,0]
["5.6.6","Išlaidų pavadinimas",null,null,null,null,0,0,null,null,null,null,null,null,null,null,null,{"$f":"SUM(T106:AM106)","v":0},{"$f":"H106-R106","v":0}]
["5.6.7","Išlaidų pavadinimas",null,null,null,null,0,0,null,null,null,null,null,null,null,null,null,{"$f":"SUM(T107:AM107)","v":0},{"$f":"H107-R107","v":0}]
["5.6.8","Išlaidų pavadinimas",null,null,null,null,0,0,null,null,null,null,null,null,null,null,null,0,0]
["5.6.9","Išlaidų pavadinimas",null,null,null,null,0,0,null,null,null,null,null,null,null,null,null,0,0]
["5.6.10","Išlaidų pavadinimas",null,null,null,null,0,0,null,null,null,null,null,null,null,null,null,0,0]
["5.6.11","Išlaidų pavadinimas",null,null,null,null,0,0,null,null,null,null,null,null,null,null,null,0,0]
["5.6.12","Išlaidų pavadinimas",null,null,null,null,0,0,null,null,null,null,null,null,null,null,null,0,0]
["5.6.13","Išlaidų pavadinimas",null,null,null,null,0,0,null,null,null,null,null,null,null,null,null,0,0]
["5.6.14","Išlaidų pavadinimas",null,null,null,null,0,0,null,null,null,null,null,null,null,null,null,0,0]
["5.6.15","Išlaidų pavadinimas",null,null,null,null,0,0,null,null,null,null,null,null,null,null,null,{"$f":"SUM(T115:AM115)","v":0},{"$f":"H115-R115","v":0}]
["5.6.16","Išlaidų pavadinimas",null,null,null,null,0,0,null,null,null,null,null,null,null,null,null,{"$f":"SUM(T116:AM116)","v":0},{"$f":"H116-R116","v":0}]
["5.6.17","Išlaidų pavadinimas",null,null,null,null,0,0,null,null,null,null,null,null,null,null,null,{"$f":"SUM(T117:AM117)","v":0},{"$f":"H117-R117","v":0}]
["5.6.18","Išlaidų pavadinimas",null,null,null,null,0,0,null,null,null,null,null,null,null,null,null,{"$f":"SUM(T118:AM118)","v":0},{"$f":"H118-R118","v":0}]
["5.6.19","Išlaidų pavadinimas",null,null,null,null,0,0,null,null,null,null,null,null,null,null,null,{"$f":"SUM(T119:AM119)","v":0},{"$f":"H119-R119","v":0}]
["5.6.20","Išlaidų pavadinimas",null,null,null,null,0,0,null,null,null,null,null,null,null,null,null,0,0]
["5.6.21","Išlaidų pavadinimas",null,null,null,null,0,0,null,null,null,null,null,null,null,null,null,0,0]
["5.6.22","Išlaidų pavadinimas",null,null,null,null,0,0,null,null,null,null,null,null,null,null,null,0,0]
["5.6.23","Išlaidų pavadinimas",null,null,null,null,0,0,null,null,null,null,null,null,null,null,null,0,0]
["5.6.24","Išlaidų pavadinimas",null,null,null,null,0,0,null,null,null,null,null,null,null,null,null,0,0]
["5.6.25","Išlaidų pavadinimas",null,null,null,null,0,0,null,null,null,null,null,null,null,null,null,0,0]
["5.6.26","Išlaidų pavadinimas",null,null,null,null,0,0,null,null,null,null,null,null,null,null,null,0,0]
["5.6.27","Išlaidų pavadinimas",null,null,null,null,0,0,null,null,null,null,null,null,null,null,null,0,0]
["5.7","Projekto MTEP veikloms naudojamo ilgalaikio materialaus turto (įrangos, prietaisų, įrankių, įrenginių, mašinų ir įrengimų, pastatų ir (ar) patalpų), nusidėvėjimo sąnaudos, jeigu šiam turtui įsigyti nebuvo naudojamos viešosios (įskaitant ir kitų valstybių) lėšos",null,null,null,null,{"$f":"SUM(G129:G157)","v":0},{"$f":"SUM(H129:H157)","v":0},null,"Turto įvedimo į eksploataciją data","Turto įsigijimo vertė, Eur","Turto nudėvėjimo, amortizacijos laikotarpis, mėn.","Numatoma turto likutinė vertė, Eur","1 mėn. nudėvėjimo, amortizacijos suma, Eur","Turto naudojamo projekto reikmėms laikas, mėn.","Turto panaudojimo projekto reikmėms dalis (proc.)","Projektui priskirta turto nusidėvėjimo, amortizacijos suma per projekto laikotarpį, Eur",0,0]
["5.7.1","Turtas, kurio nusidėvėjimą, amortizaciją prašoma finansuoti",null,null,1,{"$f":"Q129","v":0},0,0,null,null,null,null,null,{"$f":"IFERROR(ROUND((K129-M129)/L129,2),\"0\")","v":"0"},null,null,{"$f":"N129*O129*P129","v":0},{"$f":"SUM(T129:AM129)","v":0},{"$f":"H129-R129","v":0}]
["5.7.2","Turtas, kurio nusidėvėjimą, amortizaciją prašoma finansuoti",null,null,1,0,0,0,null,null,null,null,null,{"$f":"IFERROR(ROUND((K130-M130)/L130,2),\"0\")","v":"0"},null,null,{"$f":"N130*O130*P130","v":0},{"$f":"SUM(T130:AM130)","v":0},{"$f":"H130-R130","v":0}]
["5.7.3","Turtas, kurio nusidėvėjimą, amortizaciją prašoma finansuoti",null,null,1,0,0,0,null,null,null,null,null,"0",null,null,0,0,0]
["5.7.4","Turtas, kurio nusidėvėjimą, amortizaciją prašoma finansuoti",null,null,1,0,0,0,null,null,null,null,null,"0",null,null,0,0,0]
["5.7.5","Turtas, kurio nusidėvėjimą, amortizaciją prašoma finansuoti",null,null,1,0,0,0,null,null,null,null,null,"0",null,null,0,0,0]
["5.7.6","Turtas, kurio nusidėvėjimą, amortizaciją prašoma finansuoti",null,null,1,0,0,0,null,null,null,null,null,"0",null,null,0,0,0]
["5.7.7","Turtas, kurio nusidėvėjimą, amortizaciją prašoma finansuoti",null,null,1,0,0,0,null,null,null,null,null,"0",null,null,0,0,0]
["5.7.8","Turtas, kurio nusidėvėjimą, amortizaciją prašoma finansuoti",null,null,1,0,0,0,null,null,null,null,null,"0",null,null,0,0,0]
["5.7.9","Turtas, kurio nusidėvėjimą, amortizaciją prašoma finansuoti",null,null,1,0,0,0,null,null,null,null,null,"0",null,null,0,0,0]
["5.7.10","Turtas, kurio nusidėvėjimą, amortizaciją prašoma finansuoti",null,null,1,0,0,0,null,null,null,null,null,"0",null,null,0,0,0]
["5.7.11","Turtas, kurio nusidėvėjimą, amortizaciją prašoma finansuoti",null,null,1,0,0,0,null,null,null,null,null,"0",null,null,0,{"$f":"SUM(T139:AM139)","v":0},{"$f":"H139-R139","v":0}]
["5.7.12","Turtas, kurio nusidėvėjimą, amortizaciją prašoma finansuoti",null,null,1,0,0,0,null,null,null,null,null,"0",null,null,0,{"$f":"SUM(T140:AM140)","v":0},{"$f":"H140-R140","v":0}]
["5.7.13","Turtas, kurio nusidėvėjimą, amortizaciją prašoma finansuoti",null,null,1,0,0,0,null,null,null,null,null,"0",null,null,0,0,0]
["5.7.14","Turtas, kurio nusidėvėjimą, amortizaciją prašoma finansuoti",null,null,1,0,0,0,null,null,null,null,null,"0",null,null,0,0,0]
["5.7.15","Turtas, kurio nusidėvėjimą, amortizaciją prašoma finansuoti",null,null,1,0,0,0,null,null,null,null,null,"0",null,null,0,0,0]
["5.7.16","Turtas, kurio nusidėvėjimą, amortizaciją prašoma finansuoti",null,null,1,0,0,0,null,null,null,null,null,"0",null,null,0,0,0]
["5.7.17","Turtas, kurio nusidėvėjimą, amortizaciją prašoma finansuoti",null,null,1,0,0,0,null,null,null,null,null,"0",null,null,0,0,0]
["5.7.18","Turtas, kurio nusidėvėjimą, amortizaciją prašoma finansuoti",null,null,1,0,0,0,null,null,null,null,null,"0",null,null,0,0,0]
["5.7.19","Turtas, kurio nusidėvėjimą, amortizaciją prašoma finansuoti",null,null,1,0,0,0,null,null,null,null,null,"0",null,null,0,0,0]
["5.7.20","Turtas, kurio nusidėvėjimą, amortizaciją prašoma finansuoti",null,null,1,0,0,0,null,null,null,null,null,"0",null,null,0,{"$f":"SUM(T148:AM148)","v":0},{"$f":"H148-R148","v":0}]
["5.7.21","Turtas, kurio nusidėvėjimą, amortizaciją prašoma finansuoti",null,null,1,0,0,0,null,null,null,null,null,"0",null,null,0,{"$f":"SUM(T149:AM149)","v":0},{"$f":"H149-R149","v":0}]
["5.7.22","Turtas, kurio nusidėvėjimą, amortizaciją prašoma finansuoti",null,null,1,0,0,0,null,null,null,null,null,"0",null,null,0,0,0]
["5.7.23","Turtas, kurio nusidėvėjimą, amortizaciją prašoma finansuoti",null,null,1,0,0,0,null,null,null,null,null,"0",null,null,0,0,0]
["5.7.24","Turtas, kurio nusidėvėjimą, amortizaciją prašoma finansuoti",null,null,1,0,0,0,null,null,null,null,null,"0",null,null,0,0,0]
["5.7.25","Turtas, kurio nusidėvėjimą, amortizaciją prašoma finansuoti",null,null,1,0,0,0,null,null,null,null,null,"0",null,null,0,0,0]
["5.7.26","Turtas, kurio nusidėvėjimą, amortizaciją prašoma finansuoti",null,null,1,0,0,0,null,null,null,null,null,"0",null,null,0,0,0]
["5.7.27","Turtas, kurio nusidėvėjimą, amortizaciją prašoma finansuoti",null,null,1,0,0,0,null,null,null,null,null,"0",null,null,0,0,0]
["5.7.28","Turtas, kurio nusidėvėjimą, amortizaciją prašoma finansuoti",null,null,1,0,0,0,null,null,null,null,null,"0",null,null,0,0,0]
["5.7.29","Turtas, kurio nusidėvėjimą, amortizaciją prašoma finansuoti",null,null,1,0,0,0,null,null,null,null,null,"0",null,null,0,0,0]
["5.8","Projektą vykdančio personalo darbo užmokestis ir išlaidos su darbo santykiais susijusiems darbdavio įsipareigojimams",null,null,null,null,{"$f":"SUM(G159:G223)","v":0},{"$f":"SUM(H159:H223)","v":0},null,"Faktiškai gaunamas darbo užmokesti už 1 valandą pagal  pastarųjų 6 mėn. vidurkį, Eur",null,null,null,null,null,null,null,0,0]
["5.8.1","Pareigybės pavadinimas","Darbuotojo vardas pavardė","val.",null,{"$f":"IFERROR(ROUND(AVERAGE(J159:J163),2),\"0\")","v":"0"},{"$f":"ROUND(E159*F159,2)","v":0},{"$f":"ROUND(G159*$D$7,2)","v":0},null,null,null,null,null,null,null,null,null,{"$f":"SUM(T159:AM159)","v":0},{"$f":"H159-R159","v":0}]
[null,null,"Darbuotojo vardas pavardė",null,null,null,null,null,null,null,null,null,null,null,null,null,null,{"$f":"SUM(T160:AM160)","v":0},{"$f":"H160-R160","v":0}]
[null,null,"Darbuotojo vardas pavardė",null,null,null,null,null,null,null,null,null,null,null,null,null,null,0,0]
[null,null,"Darbuotojo vardas pavardė",null,null,null,null,null,null,null,null,null,null,null,null,null,null,0,0]
[null,null,"Darbuotojo vardas pavardė",null,null,null,null,null,null,null,null,null,null,null,null,null,null,0,0]
["5.8.2","Pareigybės pavadinimas","Darbuotojo vardas pavardė","val.",null,{"$f":"IFERROR(ROUND(AVERAGE(J164:J168),2),\"0\")","v":"0"},{"$f":"ROUND(E164*F164,2)","v":0},{"$f":"ROUND(G164*$D$7,2)","v":0},null,null,null,null,null,null,null,null,null,0,0]
[null,null,"Darbuotojo vardas pavardė",null,null,null,null,null,null,null,null,null,null,null,null,null,null,0,0]
[null,null,"Darbuotojo vardas pavardė",null,null,null,null,null,null,null,null,null,null,null,null,null,null,0,0]
[null,null,"Darbuotojo vardas pavardė",null,null,null,null,null,null,null,null,null,null,null,null,null,null,0,0]
[null,null,"Darbuotojo vardas pavardė",null,null,null,null,null,null,null,null,null,null,null,null,null,null,0,0]
["5.8.3","Pareigybės pavadinimas","Darbuotojo vardas pavardė","val.",null,{"$f":"IFERROR(ROUND(AVERAGE(J169:J173),2),\"0\")","v":"0"},{"$f":"ROUND(E169*F169,2)","v":0},{"$f":"ROUND(G169*$D$7,2)","v":0},null,null,null,null,null,null,null,null,null,{"$f":"SUM(T169:AM169)","v":0},{"$f":"H169-R169","v":0}]
[null,null,"Darbuotojo vardas pavardė",null,null,null,null,null,null,null,null,null,null,null,null,null,null,{"$f":"SUM(T170:AM170)","v":0},{"$f":"H170-R170","v":0}]
[null,null,"Darbuotojo vardas pavardė",null,null,null,null,null,null,null,null,null,null,null,null,null,null,0,0]
[null,null,"Darbuotojo vardas pavardė",null,null,null,null,null,null,null,null,null,null,null,null,null,null,0,0]
[null,null,"Darbuotojo vardas pavardė",null,null,null,null,null,null,null,null,null,null,null,null,null,null,0,0]
["5.8.4","Pareigybės pavadinimas","Darbuotojo vardas pavardė","val.",null,{"$f":"IFERROR(ROUND(AVERAGE(J174:J178),2),\"0\")","v":"0"},{"$f":"ROUND(E174*F174,2)","v":0},{"$f":"ROUND(G174*$D$7,2)","v":0},null,null,null,null,null,null,null,null,null,0,0]
[null,null,"Darbuotojo vardas pavardė",null,null,null,null,null,null,null,null,null,null,null,null,null,null,0,0]
[null,null,"Darbuotojo vardas pavardė",null,null,null,null,null,null,null,null,null,null,null,null,null,null,0,0]
[null,null,"Darbuotojo vardas pavardė",null,null,null,null,null,null,null,null,null,null,null,null,null,null,0,0]
[null,null,"Darbuotojo vardas pavardė",null,null,null,null,null,null,null,null,null,null,null,null,null,null,0,0]
["5.8.5","Pareigybės pavadinimas","Darbuotojo vardas pavardė","val.",null,{"$f":"IFERROR(ROUND(AVERAGE(J179:J183),2),\"0\")","v":"0"},{"$f":"ROUND(E179*F179,2)","v":0},{"$f":"ROUND(G179*$D$7,2)","v":0},null,null,null,null,null,null,null,null,null,{"$f":"SUM(T179:AM179)","v":0},{"$f":"H179-R179","v":0}]
[null,null,"Darbuotojo vardas pavardė",null,null,null,null,null,null,null,null,null,null,null,null,null,null,{"$f":"SUM(T180:AM180)","v":0},{"$f":"H180-R180","v":0}]
[null,null,"Darbuotojo vardas pavardė",null,null,null,null,null,null,null,null,null,null,null,null,null,null,0,0]
[null,null,"Darbuotojo vardas pavardė",null,null,null,null,null,null,null,null,null,null,null,null,null,null,0,0]
[null,null,"Darbuotojo vardas pavardė",null,null,null,null,null,null,null,null,null,null,null,null,null,null,0,0]
["5.8.6","Pareigybės pavadinimas","Darbuotojo vardas pavardė","val.",null,{"$f":"IFERROR(ROUND(AVERAGE(J184:J188),2),\"0\")","v":"0"},{"$f":"ROUND(E184*F184,2)","v":0},{"$f":"ROUND(G184*$D$7,2)","v":0},null,null,null,null,null,null,null,null,null,0,0]
[null,null,"Darbuotojo vardas pavardė",null,null,null,null,null,null,null,null,null,null,null,null,null,null,0,0]
[null,null,"Darbuotojo vardas pavardė",null,null,null,null,null,null,null,null,null,null,null,null,null,null,0,0]
[null,null,"Darbuotojo vardas pavardė",null,null,null,null,null,null,null,null,null,null,null,null,null,null,0,0]
[null,null,"Darbuotojo vardas pavardė",null,null,null,null,null,null,null,null,null,null,null,null,null,null,0,0]
["5.8.7","Pareigybės pavadinimas","Darbuotojo vardas pavardė","val.",null,{"$f":"IFERROR(ROUND(AVERAGE(J189:J193),2),\"0\")","v":"0"},{"$f":"ROUND(E189*F189,2)","v":0},{"$f":"ROUND(G189*$D$7,2)","v":0},null,null,null,null,null,null,null,null,null,{"$f":"SUM(T189:AM189)","v":0},{"$f":"H189-R189","v":0}]
[null,null,"Darbuotojo vardas pavardė",null,null,null,null,null,null,null,null,null,null,null,null,null,null,{"$f":"SUM(T190:AM190)","v":0},{"$f":"H190-R190","v":0}]
[null,null,"Darbuotojo vardas pavardė",null,null,null,null,null,null,null,null,null,null,null,null,null,null,0,0]
[null,null,"Darbuotojo vardas pavardė",null,null,null,null,null,null,null,null,null,null,null,null,null,null,0,0]
[null,null,"Darbuotojo vardas pavardė",null,null,null,null,null,null,null,null,null,null,null,null,null,null,0,0]
["5.8.8","Pareigybės pavadinimas","Darbuotojo vardas pavardė","val.",null,{"$f":"IFERROR(ROUND(AVERAGE(J194:J198),2),\"0\")","v":"0"},{"$f":"ROUND(E194*F194,2)","v":0},{"$f":"ROUND(G194*$D$7,2)","v":0},null,null,null,null,null,null,null,null,null,0,0]
[null,null,"Darbuotojo vardas pavardė",null,null,null,null,null,null,null,null,null,null,null,null,null,null,0,0]
[null,null,"Darbuotojo vardas pavardė",null,null,null,null,null,null,null,null,null,null,null,null,null,null,0,0]
[null,null,"Darbuotojo vardas pavardė",null,null,null,null,null,null,null,null,null,null,null,null,null,null,0,0]
[null,null,"Darbuotojo vardas pavardė",null,null,null,null,null,null,null,null,null,null,null,null,null,null,0,0]
["5.8.9","Pareigybės pavadinimas","Darbuotojo vardas pavardė","val.",null,{"$f":"IFERROR(ROUND(AVERAGE(J199:J203),2),\"0\")","v":"0"},{"$f":"ROUND(E199*F199,2)","v":0},{"$f":"ROUND(G199*$D$7,2)","v":0},null,null,null,null,null,null,null,null,null,{"$f":"SUM(T199:AM199)","v":0},{"$f":"H199-R199","v":0}]
[null,null,"Darbuotojo vardas pavardė",null,null,null,null,null,null,null,null,null,null,null,null,null,null,{"$f":"SUM(T200:AM200)","v":0},{"$f":"H200-R200","v":0}]
[null,null,"Darbuotojo vardas pavardė",null,null,null,null,null,null,null,null,null,null,null,null,null,null,0,0]
[null,null,"Darbuotojo vardas pavardė",null,null,null,null,null,null,null,null,null,null,null,null,null,null,0,0]
[null,null,"Darbuotojo vardas pavardė",null,null,null,null,null,null,null,null,null,null,null,null,null,null,0,0]
["5.8.10","Pareigybės pavadinimas","Darbuotojo vardas pavardė","val.",null,{"$f":"IFERROR(ROUND(AVERAGE(J204:J208),2),\"0\")","v":"0"},{"$f":"ROUND(E204*F204,2)","v":0},{"$f":"ROUND(G204*$D$7,2)","v":0},null,null,null,null,null,null,null,null,null,0,0]
[null,null,"Darbuotojo vardas pavardė",null,null,null,null,null,null,null,null,null,null,null,null,null,null,0,0]
[null,null,"Darbuotojo vardas pavardė",null,null,null,null,null,null,null,null,null,null,null,null,null,null,0,0]
[null,null,"Darbuotojo vardas pavardė",null,null,null,null,null,null,null,null,null,null,null,null,null,null,0,0]
[null,null,"Darbuotojo vardas pavardė",null,null,null,null,null,null,null,null,null,null,null,null,null,null,{"$f":"SUM(T208:AM208)","v":0},{"$f":"H208-R208","v":0}]
["5.8.11","Pareigybės pavadinimas","Darbuotojo vardas pavardė","val.",null,{"$f":"IFERROR(ROUND(AVERAGE(J209:J213),2),\"0\")","v":"0"},{"$f":"ROUND(E209*F209,2)","v":0},{"$f":"ROUND(G209*$D$7,2)","v":0},null,null,null,null,null,null,null,null,null,{"$f":"SUM(T209:AM209)","v":0},{"$f":"H209-R209","v":0}]
[null,null,"Darbuotojo vardas pavardė",null,null,null,null,null,null,null,null,null,null,null,null,null,null,0,0]
[null,null,"Darbuotojo vardas pavardė",null,null,null,null,null,null,null,null,null,null,null,null,null,null,0,0]
[null,null,"Darbuotojo vardas pavardė",null,null,null,null,null,null,null,null,null,null,null,null,null,null,0,0]
[null,null,"Darbuotojo vardas pavardė",null,null,null,null,null,null,null,null,null,null,null,null,null,null,0,0]
["5.8.12","Pareigybės pavadinimas","Darbuotojo vardas pavardė","val.",null,{"$f":"IFERROR(ROUND(AVERAGE(J214:J218),2),\"0\")","v":"0"},{"$f":"ROUND(E214*F214,2)","v":0},{"$f":"ROUND(G214*$D$7,2)","v":0},null,null,null,null,null,null,null,null,null,0,0]
[null,null,"Darbuotojo vardas pavardė",null,null,null,null,null,null,null,null,null,null,null,null,null,null,0,0]
[null,null,"Darbuotojo vardas pavardė",null,null,null,null,null,null,null,null,null,null,null,null,null,null,0,0]
[null,null,"Darbuotojo vardas pavardė",null,null,null,null,null,null,null,null,null,null,null,null,null,null,0,0]
[null,null,"Darbuotojo vardas pavardė",null,null,null,null,null,null,null,null,null,null,null,null,null,null,{"$f":"SUM(T218:AM218)","v":0},{"$f":"H218-R218","v":0}]
["5.8.13","Pareigybės pavadinimas","Darbuotojo vardas pavardė","val.",null,{"$f":"IFERROR(ROUND(AVERAGE(J219:J223),2),\"0\")","v":"0"},{"$f":"ROUND(E219*F219,2)","v":0},{"$f":"ROUND(G219*$D$7,2)","v":0},null,null,null,null,null,null,null,null,null,{"$f":"SUM(T219:AM219)","v":0},{"$f":"H219-R219","v":0}]
[null,null,"Darbuotojo vardas pavardė",null,null,null,null,null,null,null,null,null,null,null,null,null,null,0,0]
[null,null,"Darbuotojo vardas pavardė",null,null,null,null,null,null,null,null,null,null,null,null,null,null,0,0]
[null,null,"Darbuotojo vardas pavardė",null,null,null,null,null,null,null,null,null,null,null,null,null,null,0,0]
[null,null,"Darbuotojo vardas pavardė",null,null,null,null,null,null,null,null,null,null,null,null,null,null,0,0]
["5.9","Projektą vykdančio personalo komandiruočių išlaidos",null,null,null,null,{"$f":"SUM(G225,G232,G239,G246,G253,G260,G267,G274,G281,G288)","v":0},{"$f":"SUM(H225,H232,H239,H246,H253,H260,H267,H274,H281,H288)","v":0},null,null,null,null,null,null,null,null,null,0,0]
["5.9.1","Komandiruotės pavadinimas, vieta, trukmė dienomis, vykstančių asmenų skaičius","Iš viso komandiruotei",null,null,null,{"$f":"SUM(G226:G231)","v":0},{"$f":"ROUND(G225*$D$7,2)","v":0},null,null,null,null,null,null,null,null,null,0,0]
[null,null,"Dienpinigiai",null,null,null,{"$f":"ROUND(E226*F226,2)","v":0},null,null,null,null,null,null,null,null,null,null,0,0]
[null,null,"Gyvenamojo ploto nuoma",null,null,null,0,null,null,null,null,null,null,null,null,null,null,0,0]
[null,null,"Kelionės išlaidos",null,null,null,0,null,null,null,null,null,null,null,null,null,null,{"$f":"SUM(T228:AM228)","v":0},{"$f":"H228-R228","v":0}]
[null,null,"Dalyvavimo mokestis",null,null,null,0,null,null,null,null,null,null,null,null,null,null,{"$f":"SUM(T229:AM229)","v":0},{"$f":"H229-R229","v":0}]
[null,null,"Kitos išlaidų pavadinimas",null,null,null,0,null,null,null,null,null,null,null,null,null,null,0,0]
[null,null,"Kitos išlaidų pavadinimas",null,null,null,0,null,null,null,null,null,null,null,null,null,null,0,0]
["5.9.2","Komandiruotės pavadinimas, vieta, trukmė dienomis, vykstančių asmenų skaičius","Iš viso komandiruotei",null,null,null,{"$f":"SUM(G233:G238)","v":0},{"$f":"ROUND(G232*$D$7,2)","v":0},null,null,null,null,null,null,null,null,null,0,0]
[null,null,"Dienpinigiai",null,null,null,0,null,null,null,null,null,null,null,null,null,null,0,0]
[null,null,"Gyvenamojo ploto nuoma",null,null,null,0,null,null,null,null,null,null,null,null,null,null,0,0]
[null,null,"Kelionės išlaidos",null,null,null,0,null,null,null,null,null,null,null,null,null,null,0,0]
[null,null,"Dalyvavimo mokestis",null,null,null,0,null,null,null,null,null,null,null,null,null,null,0,0]
[null,null,"Kitos išlaidų pavadinimas",null,null,null,0,null,null,null,null,null,null,null,null,null,null,0,0]
[null,null,"Kitos išlaidų pavadinimas",null,null,null,0,null,null,null,null,null,null,null,null,null,null,{"$f":"SUM(T238:AM238)","v":0},{"$f":"H238-R238","v":0}]
["5.9.3","Komandiruotės pavadinimas, vieta, trukmė dienomis, vykstančių asmenų skaičius","Iš viso komandiruotei",null,null,null,{"$f":"SUM(G240:G245)","v":0},{"$f":"ROUND(G239*$D$7,2)","v":0},null,null,null,null,null,null,null,null,null,{"$f":"SUM(T239:AM239)","v":0},{"$f":"H239-R239","v":0}]
[null,null,"Dienpinigiai",null,null,null,0,null,null,null,null,null,null,null,null,null,null,0,0]
[null,null,"Gyvenamojo ploto nuoma",null,null,null,0,null,null,null,null,null,null,null,null,null,null,0,0]
[null,null,"Kelionės išlaidos",null,null,null,0,null,null,null,null,null,null,null,null,null,null,0,0]
[null,null,"Dalyvavimo mokestis",null,null,null,0,null,null,null,null,null,null,null,null,null,null,0,0]
[null,null,"Kitos išlaidų pavadinimas",null,null,null,0,null,null,null,null,null,null,null,null,null,null,0,0]
[null,null,"Kitos išlaidų pavadinimas",null,null,null,0,null,null,null,null,null,null,null,null,null,null,0,0]
["5.9.4","Komandiruotės pavadinimas, vieta, trukmė dienomis, vykstančių asmenų skaičius","Iš viso komandiruotei",null,null,null,{"$f":"SUM(G247:G252)","v":0},{"$f":"ROUND(G246*$D$7,2)","v":0},null,null,null,null,null,null,null,null,null,0,0]
[null,null,"Dienpinigiai",null,null,null,0,null,null,null,null,null,null,null,null,null,null,0,0]
[null,null,"Gyvenamojo ploto nuoma",null,null,null,0,null,null,null,null,null,null,null,null,null,null,{"$f":"SUM(T248:AM248)","v":0},{"$f":"H248-R248","v":0}]
[null,null,"Kelionės išlaidos",null,null,null,0,null,null,null,null,null,null,null,null,null,null,{"$f":"SUM(T249:AM249)","v":0},{"$f":"H249-R249","v":0}]
[null,null,"Dalyvavimo mokestis",null,null,null,0,null,null,null,null,null,null,null,null,null,null,0,0]
[null,null,"Kitos išlaidų pavadinimas",null,null,null,0,null,null,null,null,null,null,null,null,null,null,0,0]
[null,null,"Kitos išlaidų pavadinimas",null,null,null,0,null,null,null,null,null,null,null,null,null,null,0,0]
["5.9.5","Komandiruotės pavadinimas, vieta, trukmė dienomis, vykstančių asmenų skaičius","Iš viso komandiruotei",null,null,null,{"$f":"SUM(G254:G259)","v":0},{"$f":"ROUND(G253*$D$7,2)","v":0},null,null,null,null,null,null,null,null,null,0,0]
[null,null,"Dienpinigiai",null,null,null,0,null,null,null,null,null,null,null,null,null,null,0,0]
[null,null,"Gyvenamojo ploto nuoma",null,null,null,0,null,null,null,null,null,null,null,null,null,null,0,0]
[null,null,"Kelionės išlaidos",null,null,null,0,null,null,null,null,null,null,null,null,null,null,0,0]
[null,null,"Dalyvavimo mokestis",null,null,null,0,null,null,null,null,null,null,null,null,null,null,0,0]
[null,null,"Kitos išlaidų pavadinimas",null,null,null,0,null,null,null,null,null,null,null,null,null,null,{"$f":"SUM(T258:AM258)","v":0},{"$f":"H258-R258","v":0}]
[null,null,"Kitos išlaidų pavadinimas",null,null,null,0,null,null,null,null,null,null,null,null,null,null,{"$f":"SUM(T259:AM259)","v":0},{"$f":"H259-R259","v":0}]
["5.9.6","Komandiruotės pavadinimas, vieta, trukmė dienomis, vykstančių asmenų skaičius","Iš viso komandiruotei",null,null,null,{"$f":"SUM(G261:G266)","v":0},{"$f":"ROUND(G260*$D$7,2)","v":0},null,null,null,null,null,null,null,null,null,0,0]
[null,null,"Dienpinigiai",null,null,null,0,null,null,null,null,null,null,null,null,null,null,0,0]
[null,null,"Gyvenamojo ploto nuoma",null,null,null,0,null,null,null,null,null,null,null,null,null,null,0,0]
[null,null,"Kelionės išlaidos",null,null,null,0,null,null,null,null,null,null,null,null,null,null,0,0]
[null,null,"Dalyvavimo mokestis",null,null,null,0,null,null,null,null,null,null,null,null,null,null,0,0]
[null,null,"Kitos išlaidų pavadinimas",null,null,null,0,null,null,null,null,null,null,null,null,null,null,0,0]
[null,null,"Kitos išlaidų pavadinimas",null,null,null,0,null,null,null,null,null,null,null,null,null,null,0,0]
["5.9.7","Komandiruotės pavadinimas, vieta, trukmė dienomis, vykstančių asmenų skaičius","Iš viso komandiruotei",null,null,null,{"$f":"SUM(G268:G273)","v":0},{"$f":"ROUND(G267*$D$7,2)","v":0},null,null,null,null,null,null,null,null,null,0,0]
[null,null,"Dienpinigiai",null,null,null,0,null,null,null,null,null,null,null,null,null,null,{"$f":"SUM(T268:AM268)","v":0},{"$f":"H268-R268","v":0}]
[null,null,"Gyvenamojo ploto nuoma",null,null,null,0,null,null,null,null,null,null,null,null,null,null,{"$f":"SUM(T269:AM269)","v":0},{"$f":"H269-R269","v":0}]
[null,null,"Kelionės išlaidos",null,null,null,0,null,null,null,null,null,null,null,null,null,null,0,0]
[null,null,"Dalyvavimo mokestis",null,null,null,0,null,null,null,null,null,null,null,null,null,null,0,0]
[null,null,"Kitos išlaidų pavadinimas",null,null,null,0,null,null,null,null,null,null,null,null,null,null,0,0]
[null,null,"Kitos išlaidų pavadinimas",null,null,null,0,null,null,null,null,null,null,null,null,null,null,0,0]
["5.9.8","Komandiruotės pavadinimas, vieta, trukmė dienomis, vykstančių asmenų skaičius","Iš viso komandiruotei",null,null,null,{"$f":"SUM(G275:G280)","v":0},{"$f":"ROUND(G274*$D$7,2)","v":0},null,null,null,null,null,null,null,null,null,0,0]
[null,null,"Dienpinigiai",null,null,null,0,null,null,null,null,null,null,null,null,null,null,0,0]
[null,null,"Gyvenamojo ploto nuoma",null,null,null,0,null,null,null,null,null,null,null,null,null,null,0,0]
[null,null,"Kelionės išlaidos",null,null,null,0,null,null,null,null,null,null,null,null,null,null,0,0]
[null,null,"Dalyvavimo mokestis",null,null,null,0,null,null,null,null,null,null,null,null,null,null,{"$f":"SUM(T278:AM278)","v":0},{"$f":"H278-R278","v":0}]
[null,null,"Kitos išlaidų pavadinimas",null,null,null,0,null,null,null,null,null,null,null,null,null,null,{"$f":"SUM(T279:AM279)","v":0},{"$f":"H279-R279","v":0}]
[null,null,"Kitos išlaidų pavadinimas",null,null,null,0,null,null,null,null,null,null,null,null,null,null,0,0]
["5.9.9","Komandiruotės pavadinimas, vieta, trukmė dienomis, vykstančių asmenų skaičius","Iš viso komandiruotei",null,null,null,{"$f":"SUM(G282:G287)","v":0},{"$f":"ROUND(G281*$D$7,2)","v":0},null,null,null,null,null,null,null,null,null,0,0]
[null,null,"Dienpinigiai",null,null,null,0,null,null,null,null,null,null,null,null,null,null,0,0]
[null,null,"Gyvenamojo ploto nuoma",null,null,null,0,null,null,null,null,null,null,null,null,null,null,{"$f":"SUM(T283:AM283)","v":0},{"$f":"H283-R283","v":0}]
[null,null,"Kelionės išlaidos",null,null,null,0,null,null,null,null,null,null,null,null,null,null,{"$f":"SUM(T284:AM284)","v":0},{"$f":"H284-R284","v":0}]
[null,null,"Dalyvavimo mokestis",null,null,null,0,null,null,null,null,null,null,null,null,null,null,{"$f":"SUM(T285:AM285)","v":0},{"$f":"H285-R285","v":0}]
[null,null,"Kitos išlaidų pavadinimas",null,null,null,0,null,null,null,null,null,null,null,null,null,null,{"$f":"SUM(T286:AM286)","v":0},{"$f":"H286-R286","v":0}]
[null,null,"Kitos išlaidų pavadinimas",null,null,null,0,null,null,null,null,null,null,null,null,null,null,0,0]
["5.9.10","Komandiruotės pavadinimas, vieta, trukmė dienomis, vykstančių asmenų skaičius","Iš viso komandiruotei",null,null,null,{"$f":"SUM(G289:G294)","v":0},{"$f":"ROUND(G288*$D$7,2)","v":0},null,null,null,null,null,null,null,null,null,0,0]
[null,null,"Dienpinigiai",null,null,null,0,null,null,null,null,null,null,null,null,null,null,0,0]
[null,null,"Gyvenamojo ploto nuoma",null,null,null,0,null,null,null,null,null,null,null,null,null,null,0,0]
[null,null,"Kelionės išlaidos",null,null,null,{"$f":"ROUND(E291*F291,2)","v":0},null,null,null,null,null,null,null,null,null,null,0,0]
[null,null,"Dalyvavimo mokestis",null,null,null,0,null,null,null,null,null,null,null,null,null,null,0,0]
[null,null,"Kitos išlaidų pavadinimas",null,null,null,0,null,null,null,null,null,null,null,null,null,null,0,0]
[null,null,"Kitos išlaidų pavadinimas",null,null,null,0,null,null,null,null,null,null,null,null,null,null,0,0]
["5.10","Įrangos nuomos išlaidos, veiklai priskirtos pro rata principu. Įranga turi būti tiesiogiai susijusi su projekto įgyvendinimu ir negali būti įsigyta iš ES struktūrinių fondų ar kt. ES finansinių priemonių lėšų",null,null,null,null,{"$f":"SUM(G296:G312)","v":0},{"$f":"SUM(H296:H312)","v":0},null,"Faktinės 1 mėnesio išlaidos, Eur","Naudojimo projekte trukmė, mėn.",null,null,null,null,null,null,0,0]
["5.10.1","Įrangos pavadinimas",null,"pro rata proc.",null,{"$f":"J296*K296","v":0},{"$f":"ROUND(E296*F296,2)","v":0},{"$f":"ROUND(G296*$D$7,2)","v":0},null,null,null,null,null,null,null,null,null,{"$f":"SUM(T296:AM296)","v":0},{"$f":"H296-R296","v":0}]
["5.10.2","Įrangos pavadinimas",null,"pro rata proc.",null,{"$f":"J297*K297","v":0},0,{"$f":"ROUND(G297*$D$7,2)","v":0},null,null,null,null,null,null,null,null,null,{"$f":"SUM(T297:AM297)","v":0},{"$f":"H297-R297","v":0}]
["5.10.3","Įrangos pavadinimas",null,"pro rata proc.",null,0,0,0,null,null,null,null,null,null,null,null,null,0,0]
["5.10.4","Įrangos pavadinimas",null,"pro rata proc.",null,0,0,0,null,null,null,null,null,null,null,null,null,0,0]
["5.10.5","Įrangos pavadinimas",null,"pro rata proc.",null,0,0,0,null,null,null,null,null,null,null,null,null,0,0]
["5.10.6","Įrangos pavadinimas",null,"pro rata proc.",null,0,0,0,null,null,null,null,null,null,null,null,null,0,0]
["5.10.7","Įrangos pavadinimas",null,"pro rata proc.",null,0,0,0,null,null,null,null,null,null,null,null,null,{"$f":"SUM(T302:AM302)","v":0},{"$f":"H302-R302","v":0}]
["5.10.8","Įrangos pavadinimas",null,"pro rata proc.",null,0,0,0,null,null,null,null,null,null,null,null,null,{"$f":"SUM(T303:AM303)","v":0},{"$f":"H303-R303","v":0}]
["5.10.9","Įrangos pavadinimas",null,"pro rata proc.",null,0,0,0,null,null,null,null,null,null,null,null,null,{"$f":"SUM(T304:AM304)","v":0},{"$f":"H304-R304","v":0}]
["5.10.10","Įrangos pavadinimas",null,"pro rata proc.",null,0,0,0,null,null,null,null,null,null,null,null,null,0,0]
["5.10.11","Įrangos pavadinimas",null,"pro rata proc.",null,0,0,0,null,null,null,null,null,null,null,null,null,0,0]
["5.10.12","Įrangos pavadinimas",null,"pro rata proc.",null,0,0,0,null,null,null,null,null,null,null,null,null,{"$f":"SUM(T307:AM307)","v":0},{"$f":"H307-R307","v":0}]
["5.10.13","Įrangos pavadinimas",null,"pro rata proc.",null,0,0,0,null,null,null,null,null,null,null,null,null,{"$f":"SUM(T308:AM308)","v":0},{"$f":"H308-R308","v":0}]
["5.10.14","Įrangos pavadinimas",null,"pro rata proc.",null,0,0,0,null,null,null,null,null,null,null,null,null,{"$f":"SUM(T309:AM309)","v":0},{"$f":"H309-R309","v":0}]
["5.10.15","Įrangos pavadinimas",null,"pro rata proc.",null,0,0,0,null,null,null,null,null,null,null,null,null,{"$f":"SUM(T310:AM310)","v":0},{"$f":"H310-R310","v":0}]
["5.10.16","Įrangos pavadinimas",null,"pro rata proc.",null,0,0,0,null,null,null,null,null,null,null,null,null,0,0]
["5.10.17","Įrangos pavadinimas",null,"pro rata proc.",null,0,0,0,null,null,null,null,null,null,null,null,null,0,0]
["5.11","Pastatų ar patalpų nuomos išlaidos, veiklai priskirtos pro rata principu. Pastatai ar patalpos turi būti tiesiogiai susijusi su projekto įgyvendinimu.",null,null,null,null,{"$f":"SUM(G314:G318)","v":0},{"$f":"SUM(H314:H318)","v":0},null,"Faktinės 1 mėnesio išlaidos, Eur","Naudojimo projekte trukmė, mėn.",null,null,null,null,null,null,0,0]
["5.11.1","Pastato, patalpų adresas",null,"pro rata proc.",null,{"$f":"J314*K314","v":0},{"$f":"ROUND(E314*F314,2)","v":0},{"$f":"ROUND(G314*$D$7,2)","v":0},null,null,null,null,null,null,null,null,null,0,0]
["5.11.2","Pastato, patalpų adresas",null,"pro rata proc.",null,{"$f":"J315*K315","v":0},{"$f":"ROUND(E315*F315,2)","v":0},{"$f":"ROUND(G315*$D$7,2)","v":0},null,null,null,null,null,null,null,null,null,0,0]
["5.11.3","Pastato, patalpų adresas",null,"pro rata proc.",null,0,0,0,null,null,null,null,null,null,null,null,null,0,0]
["5.11.4","Pastato, patalpų adresas",null,"pro rata proc.",null,0,0,0,null,null,null,null,null,null,null,null,null,0,0]
["5.11.5","Pastato, patalpų adresas",null,"pro rata proc.",null,0,0,0,null,null,null,null,null,null,null,null,null,0,0]
["Iš viso tinkamų finansuoti išlaidų:",null,null,null,null,null,{"$f":"G10+G44","v":0},{"$f":"H10+H44","v":0}]

{"sheet":"6","index":8,"n_rows":319,"n_cols":39,"rows_kept":319,"cut":false,"hidden":false,"merged":[[315,1,315,2],[316,1,316,2],[317,1,317,2],[318,0,318,5],[306,1,306,2],[307,1,307,2],[308,1,308,2],[309,1,309,2],[310,1,310,2],[311,1,311,2],[312,1,312,5],[313,1,313,2],[314,1,314,2],[297,1,297,2],[298,1,298,2],[299,1,299,2],[300,1,300,2],[301,1,301,2],[302,1,302,2],[303,1,303,2],[304,1,304,2],[305,1,305,2],[224,0,230,0],[224,1,230,1],[224,8,230,8],[231,0,237,0],[231,1,237,1],[231,8,237,8],[238,0,244,0],[238,1,244,1],[238,8,244,8],[218,0,222,0],[218,1,222,1],[218,3,222,3],[218,4,222,4],[218,5,222,5],[218,6,222,6],[218,7,222,7],[218,8,222,8],[223,1,223,5],[208,0,212,0],[208,1,212,1],[208,3,212,3],[208,4,212,4],[208,5,212,5],[208,6,212,6],[208,7,212,7],[208,8,212,8],[213,0,217,0],[213,1,217,1],[213,3,217,3],[213,4,217,4],[213,5,217,5],[213,6,217,6],[213,7,217,7],[213,8,217,8],[203,0,207,0],[203,1,207,1],[203,3,207,3],[203,4,207,4],[203,5,207,5],[203,6,207,6],[203,7,207,7],[203,8,207,8],[198,0,202,0],[198,1,202,1],[198,3,202,3],[198,4,202,4],[198,5,202,5],[188,0,192,0],[188,1,192,1],[188,3,192,3],[188,4,192,4],[188,5,192,5],[188,6,192,6],[188,7,192,7],[188,8,192,8],[198,6,202,6],[198,7,202,7],[198,8,202,8],[193,0,197,0],[193,1,197,1],[193,3,197,3],[193,4,197,4],[193,5,197,5],[193,6,197,6],[193,7,197,7],[193,8,197,8],[168,0,172,0],[168,1,172,1],[168,3,172,3],[168,4,172,4],[168,5,172,5],[168,6,172,6],[168,7,172,7],[168,8,172,8],[173,0,177,0],[173,1,177,1],[173,3,177,3],[173,4,177,4],[173,5,177,5],[173,6,177,6],[173,7,177,7],[173,8,177,8],[158,8,162,8],[163,0,167,0],[163,1,167,1],[163,3,167,3],[163,4,167,4],[163,5,167,5],[163,6,167,6],[163,7,167,7],[163,8,167,8],[158,6,162,6],[158,7,162,7],[142,1,142,2],[143,1,143,2],[144,1,144,2],[145,1,145,2],[146,1,146,2],[147,1,147,2],[148,1,148,2],[149,1,149,2],[150,1,150,2],[295,1,295,2],[294,1,294,5],[296,1,296,2],[266,1,272,1],[245,0,251,0],[245,1,251,1],[245,8,251,8],[252,0,258,0],[252,1,258,1],[252,8,258,8],[259,0,265,0],[259,1,265,1],[259,8,265,8],[266,0,272,0],[266,8,272,8],[273,0,279,0],[273,1,279,1],[273,8,279,8],[280,0,286,0],[280,1,286,1],[280,8,286,8],[287,0,293,0],[287,1,293,1],[287,8,293,8],[178,0,182,0],[178,1,182,1],[178,3,182,3],[178,4,182,4],[178,5,182,5],[178,6,182,6],[178,7,182,7],[178,8,182,8],[183,0,187,0],[183,1,187,1],[183,3,187,3],[183,4,187,4],[183,5,187,5],[183,6,187,6],[183,7,187,7],[183,8,187,8],[5,3,5,8],[8,1,8,2],[9,1,9,5],[11,1,11,2],[12,1,12,2],[0,3,0,8],[2,0,2,2],[2,3,2,8],[3,3,3,4],[3,5,3,6],[4,0,4,2],[4,3,4,8],[10,1,10,5],[19,1,19,2],[21,1,21,5],[22,1,22,2],[23,1,23,2],[24,1,24,2],[13,1,13,2],[14,1,14,2],[15,1,15,2],[16,1,16,2],[17,1,17,2],[18,1,18,2],[20,1,20,2],[31,1,31,2],[32,1,32,5],[33,1,33,2],[34,1,34,2],[35,1,35,2],[36,1,36,2],[25,1,25,2],[26,1,26,2],[27,1,27,2],[28,1,28,2],[29,1,29,2],[30,1,30,2],[43,1,43,5],[45,1,45,2],[46,1,46,2],[47,1,47,2],[48,1,48,2],[37,1,37,2],[38,1,38,2],[39,1,39,2],[40,1,40,2],[41,1,41,2],[42,1,42,2],[44,1,44,5],[56,1,56,2],[57,1,57,2],[58,1,58,2],[59,1,59,2],[60,1,60,2],[49,1,49,2],[50,1,50,2],[51,1,51,2],[52,1,52,2],[53,1,53,2],[54,1,54,2],[55,1,55,5],[67,1,67,2],[68,1,68,2],[69,1,69,2],[70,1,70,2],[72,1,72,2],[61,1,61,2],[62,1,62,2],[63,1,63,2],[64,1,64,2],[65,1,65,2],[66,1,66,5],[71,1,71,2],[79,1,79,2],[80,1,80,2],[81,1,81,2],[82,1,82,2],[83,1,83,2],[84,1,84,2],[73,1,73,2],[74,1,74,2],[75,1,75,2],[76,1,76,2],[78,1,78,2],[77,1,77,5],[91,1,91,2],[92,1,92,2],[93,1,93,2],[94,1,94,2],[95,1,95,2],[96,1,96,2],[85,1,85,2],[86,1,86,2],[87,1,87,2],[89,1,89,2],[90,1,90,2],[88,1,88,5],[97,1,97,2],[98,1,98,2],[100,1,100,2],[101,1,101,2],[102,1,102,2],[103,1,103,2],[104,1,104,2],[99,1,99,5],[105,1,105,2],[106,1,106,2],[107,1,107,2],[108,1,108,2],[109,1,109,2],[110,1,110,2],[111,1,111,2],[112,1,112,2],[113,1,113,2],[114,1,114,2],[115,1,115,2],[116,1,116,2],[117,1,117,2],[118,1,118,2],[119,1,119,2],[120,1,120,2],[121,1,121,2],[122,1,122,2],[123,1,123,2],[124,1,124,2],[125,1,125,2],[126,1,126,2],[128,1,128,2],[129,1,129,2],[130,1,130,2],[131,1,131,2],[132,1,132,2],[127,1,127,5],[133,1,133,2],[134,1,134,2],[135,1,135,2],[136,1,136,2],[137,1,137,2],[138,1,138,2],[139,1,139,2],[140,1,140,2],[141,1,141,2],[151,1,151,2],[152,1,152,2],[153,1,153,2],[154,1,154,2],[155,1,155,2],[156,1,156,2],[157,1,157,5],[158,0,162,0],[158,1,162,1],[158,3,162,3],[158,4,162,4],[158,5,162,5]]}
[null,null,"Pasirinkite veiklos tipą:"]
[null,null,"Fizinio rodiklio Nr.:"]
["Fizinio rodiklio pavadinimas:"]
[null,null,"Fizinio rodiklio matavimo vnt.:",null,null,"Fizinio rodiklio vnt. skaičius:"]
["Juridinis asmuo (pareiškėjas, partneris), atsakingas už fizinį rodiklį:"]
[null,null,"Vykdytojo tipas:"]
[null,null,"Finansavimo intensyvumas:",null,null,null,"Pasirinkite biudžeto išlaidų kategoriją:","Visos"]
[]
["Eil. Nr.","Išlaidų kategorijos pavadinimas",null,"Matavimo vnt.","Kiekis","Vieneto kaina be PVM, Eur","Tinkamų finansuoti išlaidų suma be PVM, Eur","Finansavimo suma, Eur","Išlaidų pagrindimo dokumentų pavadinimas, data ir Nr.",null,null,null,null,null,null,null,null,"Apmokėta","Likutis","MP001","MP002","MP003","MP004","MP005","MP006","MP007","MP008","MP009","MP010","MP011","MP012","MP013","MP014","MP015","MP016","MP017","MP018","MP019","MP020"]
[4,"ĮRANGA, ĮRENGINIAI IR KT. TURTAS (tinkamos finansuoti išlaidos, susijusios su COVID-19, yra išlaidos, tiesiogiai susijusios su projekto įgyvendinimu, ir paskirstytos proporcingai veiklai (pro rata principu)",null,null,null,null,{"$f":"SUM(G11+G22+G33)","v":0},{"$f":"SUM(H11+H22+H33)","v":0},null,null,null,null,null,null,null,null,null,{"$f":"SUM(T10:AM10)","v":0},{"$f":"H10-R10","v":0}]
["4.1","Skaitmeninė ir kompiuterinė įranga",null,null,null,null,{"$f":"SUM(G12:G21)","v":0},{"$f":"SUM(H12:H21)","v":0},null,"Infrastruktūros naudojimo laiko dalis, skirta išimtinai MTEP, proc.",null,null,null,null,null,null,null,0,0]
["4.1.1","Išlaidų pavadinimas",null,null,null,null,{"$f":"ROUND(E12*F12,2)","v":0},{"$f":"ROUND(G12*$D$7*J12,2)","v":0},null,1,null,null,null,null,null,null,null,{"$f":"SUM(T12:AM12)","v":0},{"$f":"H12-R12","v":0}]
["4.1.2","Išlaidų pavadinimas",null,null,null,null,{"$f":"ROUND(E13*F13,2)","v":0},{"$f":"ROUND(G13*$D$7*J13,2)","v":0},null,1,null,null,null,null,null,null,null,{"$f":"SUM(T13:AM13)","v":0},{"$f":"H13-R13","v":0}]
["4.1.3","Išlaidų pavadinimas",null,null,null,null,{"$f":"ROUND(E14*F14,2)","v":0},0,null,1,null,null,null,null,null,null,null,0,0]
["4.1.4","Išlaidų pavadinimas",null,null,null,null,0,0,null,1,null,null,null,null,null,null,null,0,0]
["4.1.5","Išlaidų pavadinimas",null,null,null,null,0,0,null,1,null,null,null,null,null,null,null,0,0]
["4.1.6","Išlaidų pavadinimas",null,null,null,null,0,0,null,1,null,null,null,null,null,null,null,0,0]
["4.1.7","Išlaidų pavadinimas",null,null,null,null,0,0,null,1,null,null,null,null,null,null,null,0,0]
["4.1.8","Išlaidų pavadinimas",null,null,null,null,0,0,null,1,null,null,null,null,null,null,null,0,0]
["4.1.9","Išlaidų pavadinimas",null,null,null,null,0,0,null,1,null,null,null,null,null,null,null,0,0]
["4.1.10","Išlaidų pavadinimas",null,null,null,null,0,0,null,1,null,null,null,null,null,null,null,0,0]
["4.2","Diagnostikos priemonės, duomenų rinkimo ir tvarkymo priemonės",null,null,null,null,{"$f":"SUM(G23:G32)","v":0},{"$f":"SUM(H23:H32)","v":0},null,null,null,null,null,null,null,null,null,0,0]
["4.2.1","Išlaidų pavadinimas",null,null,null,null,{"$f":"ROUND(E23*F23,2)","v":0},{"$f":"ROUND(G23*$D$7*J23,2)","v":0},null,1,null,null,null,null,null,null,null,{"$f":"SUM(T23:AM23)","v":0},{"$f":"H23-R23","v":0}]
["4.2.2","Išlaidų pavadinimas",null,null,null,null,{"$f":"ROUND(E24*F24,2)","v":0},{"$f":"ROUND(G24*$D$7*J24,2)","v":0},null,1,null,null,null,null,null,null,null,{"$f":"SUM(T24:AM24)","v":0},{"$f":"H24-R24","v":0}]
["4.2.3","Išlaidų pavadinimas",null,null,null,null,{"$f":"ROUND(E25*F25,2)","v":0},0,null,1,null,null,null,null,null,null,null,0,0]
["4.2.4","Išlaidų pavadinimas",null,null,null,null,0,0,null,1,null,null,null,null,null,null,null,0,0]
["4.2.5","Išlaidų pavadinimas",null,null,null,null,0,0,null,1,null,null,null,null,null,null,null,0,0]
["4.2.6","Išlaidų pavadinimas",null,null,null,null,0,0,null,1,null,null,null,null,null,null,null,0,0]
["4.2.7","Išlaidų pavadinimas",null,null,null,null,0,0,null,1,null,null,null,null,null,null,null,0,0]
["4.2.8","Išlaidų pavadinimas",null,null,null,null,0,0,null,1,null,null,null,null,null,null,null,0,0]
["4.2.9","Išlaidų pavadinimas",null,null,null,null,0,0,null,1,null,null,null,null,null,null,null,0,0]
["4.2.10","Išlaidų pavadinimas",null,null,null,null,0,0,null,1,null,null,null,null,null,null,null,0,0]
["4.3","Patentų ir kito nematerialiojo turto įsigijimui, patvirtinimui ir apsaugai priskiriamos išlaidos",null,null,null,null,{"$f":"SUM(G34:G43)","v":0},{"$f":"SUM(H34:H43)","v":0},null,null,null,null,null,null,null,null,null,0,0]
["4.3.1","Išlaidų pavadinimas",null,null,null,null,{"$f":"ROUND(E34*F34,2)","v":0},{"$f":"ROUND(G34*$D$7*J34,2)","v":0},null,1,null,null,null,null,null,null,null,{"$f":"SUM(T34:AM34)","v":0},{"$f":"H34-R34","v":0}]
["4.3.2","Išlaidų pavadinimas",null,null,null,null,{"$f":"ROUND(E35*F35,2)","v":0},{"$f":"ROUND(G35*$D$7*J35,2)","v":0},null,1,null,null,null,null,null,null,null,{"$f":"SUM(T35:AM35)","v":0},{"$f":"H35-R35","v":0}]
["4.3.3","Išlaidų pavadinimas",null,null,null,null,{"$f":"ROUND(E36*F36,2)","v":0},0,null,1,null,null,null,null,null,null,null,0,0]
["4.3.4","Išlaidų pavadinimas",null,null,null,null,0,0,null,1,null,null,null,null,null,null,null,0,0]
["4.3.5","Išlaidų pavadinimas",null,null,null,null,0,0,null,1,null,null,null,null,null,null,null,0,0]
["4.3.6","Išlaidų pavadinimas",null,null,null,null,0,0,null,1,null,null,null,null,null,null,null,0,0]
["4.3.7","Išlaidų pavadinimas",null,null,null,null,0,0,null,1,null,null,null,null,null,null,null,0,0]
["4.3.8","Išlaidų pavadinimas",null,null,null,null,0,0,null,1,null,null,null,null,null,null,null,0,0]
["4.3.9","Išlaidų pavadinimas",null,null,null,null,0,0,null,1,null,null,null,null,null,null,null,0,0]
["4.3.10","Išlaidų pavadinimas",null,null,null,null,0,0,null,1,null,null,null,null,null,null,null,0,0]
[5,"PROJEKTO VYKDYMAS",null,null,null,null,{"$f":"G45+G56+G100+G128+G158+G224+G295+G313+G78+G67+G89","v":0},{"$f":"H45+H56+H100+H128+H158+H224+H295+H313+H78+H67+H89","v":0},null,null,null,null,null,null,null,null,null,0,0]
["5.1","MTEP paslaugos",null,null,null,null,{"$f":"SUM(G46:G55)","v":0},{"$f":"SUM(H46:H55)","v":0},null,null,null,null,null,null,null,null,null,0,0]
["5.1.1","Paslaugos pavadinimas",null,null,null,null,{"$f":"ROUND(E46*F46,2)","v":0},{"$f":"ROUND(G46*$D$7,2)","v":0},null,null,null,null,null,null,null,null,null,{"$f":"SUM(T46:AM46)","v":0},{"$f":"H46-R46","v":0}]
["5.1.2","Paslaugos pavadinimas",null,null,null,null,0,0,null,null,null,null,null,null,null,null,null,{"$f":"SUM(T47:AM47)","v":0},{"$f":"H47-R47","v":0}]
["5.1.3","Paslaugos pavadinimas",null,null,null,null,0,0,null,null,null,null,null,null,null,null,null,0,0]
["5.1.4","Paslaugos pavadinimas",null,null,null,null,0,0,null,null,null,null,null,null,null,null,null,0,0]
["5.1.5","Paslaugos pavadinimas",null,null,null,null,0,0,null,null,null,null,null,null,null,null,null,0,0]
["5.1.6","Paslaugos pavadinimas",null,null,null,null,0,0,null,null,null,null,null,null,null,null,null,0,0]
["5.1.7","Paslaugos pavadinimas",null,null,null,null,0,0,null,null,null,null,null,null,null,null,null,0,0]
["5.1.8","Paslaugos pavadinimas",null,null,null,null,0,0,null,null,null,null,null,null,null,null,null,0,0]
["5.1.9","Paslaugos pavadinimas",null,null,null,null,0,0,null,null,null,null,null,null,null,null,null,0,0]
["5.1.10","Paslaugos pavadinimas",null,null,null,null,0,0,null,null,null,null,null,null,null,null,null,0,0]
["5.2","Konsultavimo ir lygiavertės paslaugos, teikiamos vien tik projekto MTEP veiklai.",null,null,null,null,{"$f":"SUM(G57:G66)","v":0},{"$f":"SUM(H57:H66)","v":0},null,null,null,null,null,null,null,null,null,0,0]
["5.2.1","Paslaugos pavadinimas",null,null,null,null,{"$f":"ROUND(E57*F57,2)","v":0},0,null,null,null,null,null,null,null,null,null,{"$f":"SUM(T57:AM57)","v":0},{"$f":"H57-R57","v":0}]
["5.2.2","Paslaugos pavadinimas",null,null,null,null,0,0,null,null,null,null,null,null,null,null,null,{"$f":"SUM(T58:AM58)","v":0},{"$f":"H58-R58","v":0}]
["5.2.3","Paslaugos pavadinimas",null,null,null,null,0,0,null,null,null,null,null,null,null,null,null,0,0]
["5.2.4","Paslaugos pavadinimas",null,null,null,null,0,0,null,null,null,null,null,null,null,null,null,0,0]
["5.2.5","Paslaugos pavadinimas",null,null,null,null,0,0,null,null,null,null,null,null,null,null,null,0,0]
["5.2.6","Paslaugos pavadinimas",null,null,null,null,0,0,null,null,null,null,null,null,null,null,null,0,0]
["5.2.7","Paslaugos pavadinimas",null,null,null,null,0,0,null,null,null,null,null,null,null,null,null,0,0]
["5.2.8","Paslaugos pavadinimas",null,null,null,null,0,0,null,null,null,null,null,null,null,null,null,0,0]
["5.2.9","Paslaugos pavadinimas",null,null,null,null,0,0,null,null,null,null,null,null,null,null,null,0,0]
["5.2.10","Paslaugos pavadinimas",null,null,null,null,0,0,null,null,null,null,null,null,null,null,null,0,0]
["5.3","Ikiklinikinių ir klinikinių tyrimų (I–IV tyrimų etapais) paslaugos (IV etapo tyrimų išlaidos yra tinkamos finansuoti, jei šiais tyrimais sudaromos sąlygos tolesnei mokslinei ar technologinei pažangai)",null,null,null,null,{"$f":"SUM(G68:G77)","v":0},{"$f":"SUM(H68:H77)","v":0},null,null,null,null,null,null,null,null,null,0,0]
["5.3.1","Paslaugos pavadinimas",null,null,null,null,{"$f":"ROUND(E68*F68,2)","v":0},{"$f":"ROUND(G68*$D$7,2)","v":0},null,null,null,null,null,null,null,null,null,{"$f":"SUM(T68:AM68)","v":0},{"$f":"H68-R68","v":0}]
["5.3.2","Paslaugos pavadinimas",null,null,null,null,0,0,null,null,null,null,null,null,null,null,null,{"$f":"SUM(T69:AM69)","v":0},{"$f":"H69-R69","v":0}]
["5.3.3","Paslaugos pavadinimas",null,null,null,null,0,0,null,null,null,null,null,null,null,null,null,0,0]
["5.3.4","Paslaugos pavadinimas",null,null,null,null,0,0,null,null,null,null,null,null,null,null,null,0,0]
["5.3.5","Paslaugos pavadinimas",null,null,null,null,0,0,null,null,null,null,null,null,null,null,null,0,0]
["5.3.6","Paslaugos pavadinimas",null,null,null,null,0,0,null,null,null,null,null,null,null,null,null,0,0]
["5.3.7","Paslaugos pavadinimas",null,null,null,null,0,0,null,null,null,null,null,null,null,null,null,0,0]
["5.3.8","Paslaugos pavadinimas",null,null,null,null,0,0,null,null,null,null,null,null,null,null,null,0,0]
["5.3.9","Paslaugos pavadinimas",null,null,null,null,0,0,null,null,null,null,null,null,null,null,null,0,0]
["5.3.10","Paslaugos pavadinimas",null,null,null,null,0,0,null,null,null,null,null,null,null,null,null,0,0]
["5.4","Naujiems produktams ir technologijoms sertifikuoti būtinos išlaidos",null,null,null,null,{"$f":"SUM(G79:G88)","v":0},{"$f":"SUM(H79:H88)","v":0},null,null,null,null,null,null,null,null,null,0,0]
["5.4.1","Išlaidų pavadinimas",null,null,null,null,{"$f":"ROUND(E79*F79,2)","v":0},{"$f":"ROUND(G79*$D$7,2)","v":0},null,null,null,null,null,null,null,null,null,{"$f":"SUM(T79:AM79)","v":0},{"$f":"H79-R79","v":0}]
["5.4.2","Išlaidų pavadinimas",null,null,null,null,0,0,null,null,null,null,null,null,null,null,null,{"$f":"SUM(T80:AM80)","v":0},{"$f":"H80-R80","v":0}]
["5.4.3","Išlaidų pavadinimas",null,null,null,null,0,0,null,null,null,null,null,null,null,null,null,0,0]
["5.4.4","Išlaidų pavadinimas",null,null,null,null,0,0,null,null,null,null,null,null,null,null,null,0,0]
["5.4.5","Išlaidų pavadinimas",null,null,null,null,0,0,null,null,null,null,null,null,null,null,null,0,0]
["5.4.6","Išlaidų pavadinimas",null,null,null,null,0,0,null,null,null,null,null,null,null,null,null,0,0]
["5.4.7","Išlaidų pavadinimas",null,null,null,null,0,0,null,null,null,null,null,null,null,null,null,0,0]
["5.4.8","Išlaidų pavadinimas",null,null,null,null,0,0,null,null,null,null,null,null,null,null,null,0,0]
["5.4.9","Išlaidų pavadinimas",null,null,null,null,0,0,null,null,null,null,null,null,null,null,null,0,0]
["5.4.10","Išlaidų pavadinimas",null,null,null,null,0,0,null,null,null,null,null,null,null,null,null,0,0]
["5.5","Paslaugų išlaidos, patirtos siekiant gauti atitikties vertinimus ir (arba) leidimus, būtinus prekybai naujomis ir patobulintomis vakcinomis ir vaistiniais preparatais, medicinos priemonėmis, ligoninių ir medicinos reikmenimis, dezinfekavimo priemonėmis ir asmeninėmis apsaugos priemonėmis",null,null,null,null,{"$f":"SUM(G90:G99)","v":0},{"$f":"SUM(H90:H99)","v":0},null,null,null,null,null,null,null,null,null,0,0]
["5.5.1","Paslaugos pavadinimas",null,null,null,null,{"$f":"ROUND(E90*F90,2)","v":0},{"$f":"ROUND(G90*$D$7,2)","v":0},null,null,null,null,null,null,null,null,null,{"$f":"SUM(T90:AM90)","v":0},{"$f":"H90-R90","v":0}]
["5.5.2","Paslaugos pavadinimas",null,null,null,null,0,0,null,null,null,null,null,null,null,null,null,{"$f":"SUM(T91:AM91)","v":0},{"$f":"H91-R91","v":0}]
["5.5.3","Paslaugos pavadinimas",null,null,null,null,0,0,null,null,null,null,null,null,null,null,null,0,0]
["5.5.4","Paslaugos pavadinimas",null,null,null,null,0,0,null,null,null,null,null,null,null,null,null,0,0]
["5.5.5","Paslaugos pavadinimas",null,null,null,null,0,0,null,null,null,null,null,null,null,null,null,0,0]
["5.5.6","Paslaugos pavadinimas",null,null,null,null,0,0,null,null,null,null,null,null,null,null,null,0,0]
["5.5.7","Paslaugos pavadinimas",null,null,null,null,0,0,null,null,null,null,null,null,null,null,null,0,0]
["5.5.8","Paslaugos pavadinimas",null,null,null,null,0,0,null,null,null,null,null,null,null,null,null,0,0]
["5.5.9","Paslaugos pavadinimas",null,null,null,null,0,0,null,null,null,null,null,null,null,null,null,0,0]
["5.5.10","Paslaugos pavadinimas",null,null,null,null,0,0,null,null,null,null,null,null,null,null,null,0,0]
["5.6","Medžiagos, mažavertis inventorius, atsargos ir pan. produktai, priskirtini trumpalaikiam turtui ir tiesiogiai susiję su MTEP veikla",null,null,null,null,{"$f":"SUM(G101:G127)","v":0},{"$f":"SUM(H101:H127)","v":0},null,null,null,null,null,null,null,null,null,0,0]
["5.6.1","Išlaidų pavadinimas",null,null,null,null,{"$f":"ROUND(E101*F101,2)","v":0},{"$f":"ROUND(G101*$D$7,2)","v":0},null,null,null,null,null,null,null,null,null,{"$f":"SUM(T101:AM101)","v":0},{"$f":"H101-R101","v":0}]
["5.6.2","Išlaidų pavadinimas",null,null,null,null,{"$f":"ROUND(E102*F102,2)","v":0},{"$f":"ROUND(G102*$D$7,2)","v":0},null,null,null,null,null,null,null,null,null,{"$f":"SUM(T102:AM102)","v":0},{"$f":"H102-R102","v":0}]
["5.6.3","Išlaidų pavadinimas",null,null,null,null,{"$f":"ROUND(E103*F103,2)","v":0},{"$f":"ROUND(G103*$D$7,2)","v":0},null,null,null,null,null,null,null,null,null,0,0]
["5.6.4","Išlaidų pavadinimas",null,null,null,null,{"$f":"ROUND(E104*F104,2)","v":0},{"$f":"ROUND(G104*$D$7,2)","v":0},null,null,null,null,null,null,null,null,null,0,0]
["5.6.5","Išlaidų pavadinimas",null,null,null,null,{"$f":"ROUND(E105*F105,2)","v":0},{"$f":"ROUND(G105*$D$7,2)","v":0},null,null,null,null,null,null,null,null,null,0,0]
["5.6.6","Išlaidų pavadinimas",null,null,null,null,0,0,null,null,null,null,null,null,null,null,null,{"$f":"SUM(T106:AM106)","v":0},{"$f":"H106-R106","v":0}]
["5.6.7","Išlaidų pavadinimas",null,null,null,null,0,0,null,null,null,null,null,null,null,null,null,{"$f":"SUM(T107:AM107)","v":0},{"$f":"H107-R107","v":0}]
["5.6.8","Išlaidų pavadinimas",null,null,null,null,0,0,null,null,null,null,null,null,null,null,null,0,0]
["5.6.9","Išlaidų pavadinimas",null,null,null,null,0,0,null,null,null,null,null,null,null,null,null,0,0]
["5.6.10","Išlaidų pavadinimas",null,null,null,null,0,0,null,null,null,null,null,null,null,null,null,0,0]
["5.6.11","Išlaidų pavadinimas",null,null,null,null,0,0,null,null,null,null,null,null,null,null,null,0,0]
["5.6.12","Išlaidų pavadinimas",null,null,null,null,0,0,null,null,null,null,null,null,null,null,null,0,0]
["5.6.13","Išlaidų pavadinimas",null,null,null,null,0,0,null,null,null,null,null,null,null,null,null,0,0]
["5.6.14","Išlaidų pavadinimas",null,null,null,null,0,0,null,null,null,null,null,null,null,null,null,0,0]
["5.6.15","Išlaidų pavadinimas",null,null,null,null,0,0,null,null,null,null,null,null,null,null,null,{"$f":"SUM(T115:AM115)","v":0},{"$f":"H115-R115","v":0}]
["5.6.16","Išlaidų pavadinimas",null,null,null,null,0,0,null,null,null,null,null,null,null,null,null,{"$f":"SUM(T116:AM116)","v":0},{"$f":"H116-R116","v":0}]
["5.6.17","Išlaidų pavadinimas",null,null,null,null,0,0,null,null,null,null,null,null,null,null,null,{"$f":"SUM(T117:AM117)","v":0},{"$f":"H117-R117","v":0}]
["5.6.18","Išlaidų pavadinimas",null,null,null,null,0,0,null,null,null,null,null,null,null,null,null,{"$f":"SUM(T118:AM118)","v":0},{"$f":"H118-R118","v":0}]
["5.6.19","Išlaidų pavadinimas",null,null,null,null,0,0,null,null,null,null,null,null,null,null,null,{"$f":"SUM(T119:AM119)","v":0},{"$f":"H119-R119","v":0}]
["5.6.20","Išlaidų pavadinimas",null,null,null,null,0,0,null,null,null,null,null,null,null,null,null,0,0]
["5.6.21","Išlaidų pavadinimas",null,null,null,null,0,0,null,null,null,null,null,null,null,null,null,0,0]
["5.6.22","Išlaidų pavadinimas",null,null,null,null,0,0,null,null,null,null,null,null,null,null,null,0,0]
["5.6.23","Išlaidų pavadinimas",null,null,null,null,0,0,null,null,null,null,null,null,null,null,null,0,0]
["5.6.24","Išlaidų pavadinimas",null,null,null,null,0,0,null,null,null,null,null,null,null,null,null,0,0]
["5.6.25","Išlaidų pavadinimas",null,null,null,null,0,0,null,null,null,null,null,null,null,null,null,0,0]
["5.6.26","Išlaidų pavadinimas",null,null,null,null,0,0,null,null,null,null,null,null,null,null,null,0,0]
["5.6.27","Išlaidų pavadinimas",null,null,null,null,0,0,null,null,null,null,null,null,null,null,null,0,0]
["5.7","Projekto MTEP veikloms naudojamo ilgalaikio materialaus turto (įrangos, prietaisų, įrankių, įrenginių, mašinų ir įrengimų, pastatų ir (ar) patalpų), nusidėvėjimo sąnaudos, jeigu šiam turtui įsigyti nebuvo naudojamos viešosios (įskaitant ir kitų valstybių) lėšos",null,null,null,null,{"$f":"SUM(G129:G157)","v":0},{"$f":"SUM(H129:H157)","v":0},null,"Turto įvedimo į eksploataciją data","Turto įsigijimo vertė, Eur","Turto nudėvėjimo, amortizacijos laikotarpis, mėn.","Numatoma turto likutinė vertė, Eur","1 mėn. nudėvėjimo, amortizacijos suma, Eur","Turto naudojamo projekto reikmėms laikas, mėn.","Turto panaudojimo projekto reikmėms dalis (proc.)","Projektui priskirta turto nusidėvėjimo, amortizacijos suma per projekto laikotarpį, Eur",0,0]
["5.7.1","Turtas, kurio nusidėvėjimą, amortizaciją prašoma finansuoti",null,null,1,{"$f":"Q129","v":0},0,0,null,null,null,null,null,{"$f":"IFERROR(ROUND((K129-M129)/L129,2),\"0\")","v":"0"},null,null,{"$f":"N129*O129*P129","v":0},{"$f":"SUM(T129:AM129)","v":0},{"$f":"H129-R129","v":0}]
["5.7.2","Turtas, kurio nusidėvėjimą, amortizaciją prašoma finansuoti",null,null,1,0,0,0,null,null,null,null,null,{"$f":"IFERROR(ROUND((K130-M130)/L130,2),\"0\")","v":"0"},null,null,{"$f":"N130*O130*P130","v":0},{"$f":"SUM(T130:AM130)","v":0},{"$f":"H130-R130","v":0}]
["5.7.3","Turtas, kurio nusidėvėjimą, amortizaciją prašoma finansuoti",null,null,1,0,0,0,null,null,null,null,null,"0",null,null,0,0,0]
["5.7.4","Turtas, kurio nusidėvėjimą, amortizaciją prašoma finansuoti",null,null,1,0,0,0,null,null,null,null,null,"0",null,null,0,0,0]
["5.7.5","Turtas, kurio nusidėvėjimą, amortizaciją prašoma finansuoti",null,null,1,0,0,0,null,null,null,null,null,"0",null,null,0,0,0]
["5.7.6","Turtas, kurio nusidėvėjimą, amortizaciją prašoma finansuoti",null,null,1,0,0,0,null,null,null,null,null,"0",null,null,0,0,0]
["5.7.7","Turtas, kurio nusidėvėjimą, amortizaciją prašoma finansuoti",null,null,1,0,0,0,null,null,null,null,null,"0",null,null,0,0,0]
["5.7.8","Turtas, kurio nusidėvėjimą, amortizaciją prašoma finansuoti",null,null,1,0,0,0,null,null,null,null,null,"0",null,null,0,0,0]
["5.7.9","Turtas, kurio nusidėvėjimą, amortizaciją prašoma finansuoti",null,null,1,0,0,0,null,null,null,null,null,"0",null,null,0,0,0]
["5.7.10","Turtas, kurio nusidėvėjimą, amortizaciją prašoma finansuoti",null,null,1,0,0,0,null,null,null,null,null,"0",null,null,0,0,0]
["5.7.11","Turtas, kurio nusidėvėjimą, amortizaciją prašoma finansuoti",null,null,1,0,0,0,null,null,null,null,null,"0",null,null,0,{"$f":"SUM(T139:AM139)","v":0},{"$f":"H139-R139","v":0}]
["5.7.12","Turtas, kurio nusidėvėjimą, amortizaciją prašoma finansuoti",null,null,1,0,0,0,null,null,null,null,null,"0",null,null,0,{"$f":"SUM(T140:AM140)","v":0},{"$f":"H140-R140","v":0}]
["5.7.13","Turtas, kurio nusidėvėjimą, amortizaciją prašoma finansuoti",null,null,1,0,0,0,null,null,null,null,null,"0",null,null,0,0,0]
["5.7.14","Turtas, kurio nusidėvėjimą, amortizaciją prašoma finansuoti",null,null,1,0,0,0,null,null,null,null,null,"0",null,null,0,0,0]
["5.7.15","Turtas, kurio nusidėvėjimą, amortizaciją prašoma finansuoti",null,null,1,0,0,0,null,null,null,null,null,"0",null,null,0,0,0]
["5.7.16","Turtas, kurio nusidėvėjimą, amortizaciją prašoma finansuoti",null,null,1,0,0,0,null,null,null,null,null,"0",null,null,0,0,0]
["5.7.17","Turtas, kurio nusidėvėjimą, amortizaciją prašoma finansuoti",null,null,1,0,0,0,null,null,null,null,null,"0",null,null,0,0,0]
["5.7.18","Turtas, kurio nusidėvėjimą, amortizaciją prašoma finansuoti",null,null,1,0,0,0,null,null,null,null,null,"0",null,null,0,0,0]
["5.7.19","Turtas, kurio nusidėvėjimą, amortizaciją prašoma finansuoti",null,null,1,0,0,0,null,null,null,null,null,"0",null,null,0,0,0]
["5.7.20","Turtas, kurio nusidėvėjimą, amortizaciją prašoma finansuoti",null,null,1,0,0,0,null,null,null,null,null,"0",null,null,0,{"$f":"SUM(T148:AM148)","v":0},{"$f":"H148-R148","v":0}]
["5.7.21","Turtas, kurio nusidėvėjimą, amortizaciją prašoma finansuoti",null,null,1,0,0,0,null,null,null,null,null,"0",null,null,0,{"$f":"SUM(T149:AM149)","v":0},{"$f":"H149-R149","v":0}]
["5.7.22","Turtas, kurio nusidėvėjimą, amortizaciją prašoma finansuoti",null,null,1,0,0,0,null,null,null,null,null,"0",null,null,0,0,0]
["5.7.23","Turtas, kurio nusidėvėjimą, amortizaciją prašoma finansuoti",null,null,1,0,0,0,null,null,null,null,null,"0",null,null,0,0,0]
["5.7.24","Turtas, kurio nusidėvėjimą, amortizaciją prašoma finansuoti",null,null,1,0,0,0,null,null,null,null,null,"0",null,null,0,0,0]
["5.7.25","Turtas, kurio nusidėvėjimą, amortizaciją prašoma finansuoti",null,null,1,0,0,0,null,null,null,null,null,"0",null,null,0,0,0]
["5.7.26","Turtas, kurio nusidėvėjimą, amortizaciją prašoma finansuoti",null,null,1,0,0,0,null,null,null,null,null,"0",null,null,0,0,0]
["5.7.27","Turtas, kurio nusidėvėjimą, amortizaciją prašoma finansuoti",null,null,1,0,0,0,null,null,null,null,null,"0",null,null,0,0,0]
["5.7.28","Turtas, kurio nusidėvėjimą, amortizaciją prašoma finansuoti",null,null,1,0,0,0,null,null,null,null,null,"0",null,null,0,0,0]
["5.7.29","Turtas, kurio nusidėvėjimą, amortizaciją prašoma finansuoti",null,null,1,0,0,0,null,null,null,null,null,"0",null,null,0,0,0]
["5.8","Projektą vykdančio personalo darbo užmokestis ir išlaidos su darbo santykiais susijusiems darbdavio įsipareigojimams",null,null,null,null,{"$f":"SUM(G159:G223)","v":0},{"$f":"SUM(H159:H223)","v":0},null,"Faktiškai gaunamas darbo užmokesti už 1 valandą pagal  pastarųjų 6 mėn. vidurkį, Eur",null,null,null,null,null,null,null,0,0]
["5.8.1","Pareigybės pavadinimas","Darbuotojo vardas pavardė","val.",null,{"$f":"IFERROR(ROUND(AVERAGE(J159:J163),2),\"0\")","v":"0"},{"$f":"ROUND(E159*F159,2)","v":0},{"$f":"ROUND(G159*$D$7,2)","v":0},null,null,null,null,null,null,null,null,null,{"$f":"SUM(T159:AM159)","v":0},{"$f":"H159-R159","v":0}]
[null,null,"Darbuotojo vardas pavardė",null,null,null,null,null,null,null,null,null,null,null,null,null,null,{"$f":"SUM(T160:AM160)","v":0},{"$f":"H160-R160","v":0}]
[null,null,"Darbuotojo vardas pavardė",null,null,null,null,null,null,null,null,null,null,null,null,null,null,0,0]
[null,null,"Darbuotojo vardas pavardė",null,null,null,null,null,null,null,null,null,null,null,null,null,null,0,0]
[null,null,"Darbuotojo vardas pavardė",null,null,null,null,null,null,null,null,null,null,null,null,null,null,0,0]
["5.8.2","Pareigybės pavadinimas","Darbuotojo vardas pavardė","val.",null,{"$f":"IFERROR(ROUND(AVERAGE(J164:J168),2),\"0\")","v":"0"},{"$f":"ROUND(E164*F164,2)","v":0},{"$f":"ROUND(G164*$D$7,2)","v":0},null,null,null,null,null,null,null,null,null,0,0]
[null,null,"Darbuotojo vardas pavardė",null,null,null,null,null,null,null,null,null,null,null,null,null,null,0,0]
[null,null,"Darbuotojo vardas pavardė",null,null,null,null,null,null,null,null,null,null,null,null,null,null,0,0]
[null,null,"Darbuotojo vardas pavardė",null,null,null,null,null,null,null,null,null,null,null,null,null,null,0,0]
[null,null,"Darbuotojo vardas pavardė",null,null,null,null,null,null,null,null,null,null,null,null,null,null,0,0]
["5.8.3","Pareigybės pavadinimas","Darbuotojo vardas pavardė","val.",null,{"$f":"IFERROR(ROUND(AVERAGE(J169:J173),2),\"0\")","v":"0"},{"$f":"ROUND(E169*F169,2)","v":0},{"$f":"ROUND(G169*$D$7,2)","v":0},null,null,null,null,null,null,null,null,null,{"$f":"SUM(T169:AM169)","v":0},{"$f":"H169-R169","v":0}]
[null,null,"Darbuotojo vardas pavardė",null,null,null,null,null,null,null,null,null,null,null,null,null,null,{"$f":"SUM(T170:AM170)","v":0},{"$f":"H170-R170","v":0}]
[null,null,"Darbuotojo vardas pavardė",null,null,null,null,null,null,null,null,null,null,null,null,null,null,0,0]
[null,null,"Darbuotojo vardas pavardė",null,null,null,null,null,null,null,null,null,null,null,null,null,null,0,0]
[null,null,"Darbuotojo vardas pavardė",null,null,null,null,null,null,null,null,null,null,null,null,null,null,0,0]
["5.8.4","Pareigybės pavadinimas","Darbuotojo vardas pavardė","val.",null,{"$f":"IFERROR(ROUND(AVERAGE(J174:J178),2),\"0\")","v":"0"},{"$f":"ROUND(E174*F174,2)","v":0},{"$f":"ROUND(G174*$D$7,2)","v":0},null,null,null,null,null,null,null,null,null,0,0]
[null,null,"Darbuotojo vardas pavardė",null,null,null,null,null,null,null,null,null,null,null,null,null,null,0,0]
[null,null,"Darbuotojo vardas pavardė",null,null,null,null,null,null,null,null,null,null,null,null,null,null,0,0]
[null,null,"Darbuotojo vardas pavardė",null,null,null,null,null,null,null,null,null,null,null,null,null,null,0,0]
[null,null,"Darbuotojo vardas pavardė",null,null,null,null,null,null,null,null,null,null,null,null,null,null,0,0]
["5.8.5","Pareigybės pavadinimas","Darbuotojo vardas pavardė","val.",null,{"$f":"IFERROR(ROUND(AVERAGE(J179:J183),2),\"0\")","v":"0"},{"$f":"ROUND(E179*F179,2)","v":0},{"$f":"ROUND(G179*$D$7,2)","v":0},null,null,null,null,null,null,null,null,null,{"$f":"SUM(T179:AM179)","v":0},{"$f":"H179-R179","v":0}]
[null,null,"Darbuotojo vardas pavardė",null,null,null,null,null,null,null,null,null,null,null,null,null,null,{"$f":"SUM(T180:AM180)","v":0},{"$f":"H180-R180","v":0}]
[null,null,"Darbuotojo vardas pavardė",null,null,null,null,null,null,null,null,null,null,null,null,null,null,0,0]
[null,null,"Darbuotojo vardas pavardė",null,null,null,null,null,null,null,null,null,null,null,null,null,null,0,0]
[null,null,"Darbuotojo vardas pavardė",null,null,null,null,null,null,null,null,null,null,null,null,null,null,0,0]
["5.8.6","Pareigybės pavadinimas","Darbuotojo vardas pavardė","val.",null,{"$f":"IFERROR(ROUND(AVERAGE(J184:J188),2),\"0\")","v":"0"},{"$f":"ROUND(E184*F184,2)","v":0},{"$f":"ROUND(G184*$D$7,2)","v":0},null,null,null,null,null,null,null,null,null,0,0]
[null,null,"Darbuotojo vardas pavardė",null,null,null,null,null,null,null,null,null,null,null,null,null,null,0,0]
[null,null,"Darbuotojo vardas pavardė",null,null,null,null,null,null,null,null,null,null,null,null,null,null,0,0]
[null,null,"Darbuotojo vardas pavardė",null,null,null,null,null,null,null,null,null,null,null,null,null,null,0,0]
[null,null,"Darbuotojo vardas pavardė",null,null,null,null,null,null,null,null,null,null,null,null,null,null,0,0]
["5.8.7","Pareigybės pavadinimas","Darbuotojo vardas pavardė","val.",null,{"$f":"IFERROR(ROUND(AVERAGE(J189:J193),2),\"0\")","v":"0"},{"$f":"ROUND(E189*F189,2)","v":0},{"$f":"ROUND(G189*$D$7,2)","v":0},null,null,null,null,null,null,null,null,null,{"$f":"SUM(T189:AM189)","v":0},{"$f":"H189-R189","v":0}]
[null,null,"Darbuotojo vardas pavardė",null,null,null,null,null,null,null,null,null,null,null,null,null,null,{"$f":"SUM(T190:AM190)","v":0},{"$f":"H190-R190","v":0}]
[null,null,"Darbuotojo vardas pavardė",null,null,null,null,null,null,null,null,null,null,null,null,null,null,0,0]
[null,null,"Darbuotojo vardas pavardė",null,null,null,null,null,null,null,null,null,null,null,null,null,null,0,0]
[null,null,"Darbuotojo vardas pavardė",null,null,null,null,null,null,null,null,null,null,null,null,null,null,0,0]
["5.8.8","Pareigybės pavadinimas","Darbuotojo vardas pavardė","val.",null,{"$f":"IFERROR(ROUND(AVERAGE(J194:J198),2),\"0\")","v":"0"},{"$f":"ROUND(E194*F194,2)","v":0},{"$f":"ROUND(G194*$D$7,2)","v":0},null,null,null,null,null,null,null,null,null,0,0]
[null,null,"Darbuotojo vardas pavardė",null,null,null,null,null,null,null,null,null,null,null,null,null,null,0,0]
[null,null,"Darbuotojo vardas pavardė",null,null,null,null,null,null,null,null,null,null,null,null,null,null,0,0]
[null,null,"Darbuotojo vardas pavardė",null,null,null,null,null,null,null,null,null,null,null,null,null,null,0,0]
[null,null,"Darbuotojo vardas pavardė",null,null,null,null,null,null,null,null,null,null,null,null,null,null,0,0]
["5.8.9","Pareigybės pavadinimas","Darbuotojo vardas pavardė","val.",null,{"$f":"IFERROR(ROUND(AVERAGE(J199:J203),2),\"0\")","v":"0"},{"$f":"ROUND(E199*F199,2)","v":0},{"$f":"ROUND(G199*$D$7,2)","v":0},null,null,null,null,null,null,null,null,null,{"$f":"SUM(T199:AM199)","v":0},{"$f":"H199-R199","v":0}]
[null,null,"Darbuotojo vardas pavardė",null,null,null,null,null,null,null,null,null,null,null,null,null,null,{"$f":"SUM(T200:AM200)","v":0},{"$f":"H200-R200","v":0}]
[null,null,"Darbuotojo vardas pavardė",null,null,null,null,null,null,null,null,null,null,null,null,null,null,0,0]
[null,null,"Darbuotojo vardas pavardė",null,null,null,null,null,null,null,null,null,null,null,null,null,null,0,0]
[null,null,"Darbuotojo vardas pavardė",null,null,null,null,null,null,null,null,null,null,null,null,null,null,0,0]
["5.8.10","Pareigybės pavadinimas","Darbuotojo vardas pavardė","val.",null,{"$f":"IFERROR(ROUND(AVERAGE(J204:J208),2),\"0\")","v":"0"},{"$f":"ROUND(E204*F204,2)","v":0},{"$f":"ROUND(G204*$D$7,2)","v":0},null,null,null,null,null,null,null,null,null,0,0]
[null,null,"Darbuotojo vardas pavardė",null,null,null,null,null,null,null,null,null,null,null,null,null,null,0,0]
[null,null,"Darbuotojo vardas pavardė",null,null,null,null,null,null,null,null,null,null,null,null,null,null,0,0]
[null,null,"Darbuotojo vardas pavardė",null,null,null,null,null,null,null,null,null,null,null,null,null,null,0,0]
[null,null,"Darbuotojo vardas pavardė",null,null,null,null,null,null,null,null,null,null,null,null,null,null,{"$f":"SUM(T208:AM208)","v":0},{"$f":"H208-R208","v":0}]
["5.8.11","Pareigybės pavadinimas","Darbuotojo vardas pavardė","val.",null,{"$f":"IFERROR(ROUND(AVERAGE(J209:J213),2),\"0\")","v":"0"},{"$f":"ROUND(E209*F209,2)","v":0},{"$f":"ROUND(G209*$D$7,2)","v":0},null,null,null,null,null,null,null,null,null,{"$f":"SUM(T209:AM209)","v":0},{"$f":"H209-R209","v":0}]
[null,null,"Darbuotojo vardas pavardė",null,null,null,null,null,null,null,null,null,null,null,null,null,null,0,0]
[null,null,"Darbuotojo vardas pavardė",null,null,null,null,null,null,null,null,null,null,null,null,null,null,0,0]
[null,null,"Darbuotojo vardas pavardė",null,null,null,null,null,null,null,null,null,null,null,null,null,null,0,0]
[null,null,"Darbuotojo vardas pavardė",null,null,null,null,null,null,null,null,null,null,null,null,null,null,0,0]
["5.8.12","Pareigybės pavadinimas","Darbuotojo vardas pavardė","val.",null,{"$f":"IFERROR(ROUND(AVERAGE(J214:J218),2),\"0\")","v":"0"},{"$f":"ROUND(E214*F214,2)","v":0},{"$f":"ROUND(G214*$D$7,2)","v":0},null,null,null,null,null,null,null,null,null,0,0]
[null,null,"Darbuotojo vardas pavardė",null,null,null,null,null,null,null,null,null,null,null,null,null,null,0,0]
[null,null,"Darbuotojo vardas pavardė",null,null,null,null,null,null,null,null,null,null,null,null,null,null,0,0]
[null,null,"Darbuotojo vardas pavardė",null,null,null,null,null,null,null,null,null,null,null,null,null,null,0,0]
[null,null,"Darbuotojo vardas pavardė",null,null,null,null,null,null,null,null,null,null,null,null,null,null,{"$f":"SUM(T218:AM218)","v":0},{"$f":"H218-R218","v":0}]
["5.8.13","Pareigybės pavadinimas","Darbuotojo vardas pavardė","val.",null,{"$f":"IFERROR(ROUND(AVERAGE(J219:J223),2),\"0\")","v":"0"},{"$f":"ROUND(E219*F219,2)","v":0},{"$f":"ROUND(G219*$D$7,2)","v":0},null,null,null,null,null,null,null,null,null,{"$f":"SUM(T219:AM219)","v":0},{"$f":"H219-R219","v":0}]
[null,null,"Darbuotojo vardas pavardė",null,null,null,null,null,null,null,null,null,null,null,null,null,null,0,0]
[null,null,"Darbuotojo vardas pavardė",null,null,null,null,null,null,null,null,null,null,null,null,null,null,0,0]
[null,null,"Darbuotojo vardas pavardė",null,null,null,null,null,null,null,null,null,null,null,null,null,null,0,0]
[null,null,"Darbuotojo vardas pavardė",null,null,null,null,null,null,null,null,null,null,null,null,null,null,0,0]
["5.9","Projektą vykdančio personalo komandiruočių išlaidos",null,null,null,null,{"$f":"SUM(G225,G232,G239,G246,G253,G260,G267,G274,G281,G288)","v":0},{"$f":"SUM(H225,H232,H239,H246,H253,H260,H267,H274,H281,H288)","v":0},null,null,null,null,null,null,null,null,null,0,0]
["5.9.1","Komandiruotės pavadinimas, vieta, trukmė dienomis, vykstančių asmenų skaičius","Iš viso komandiruotei",null,null,null,{"$f":"SUM(G226:G231)","v":0},{"$f":"ROUND(G225*$D$7,2)","v":0},null,null,null,null,null,null,null,null,null,0,0]
[null,null,"Dienpinigiai",null,null,null,{"$f":"ROUND(E226*F226,2)","v":0},null,null,null,null,null,null,null,null,null,null,0,0]
[null,null,"Gyvenamojo ploto nuoma",null,null,null,0,null,null,null,null,null,null,null,null,null,null,0,0]
[null,null,"Kelionės išlaidos",null,null,null,0,null,null,null,null,null,null,null,null,null,null,{"$f":"SUM(T228:AM228)","v":0},{"$f":"H228-R228","v":0}]
[null,null,"Dalyvavimo mokestis",null,null,null,0,null,null,null,null,null,null,null,null,null,null,{"$f":"SUM(T229:AM229)","v":0},{"$f":"H229-R229","v":0}]
[null,null,"Kitos išlaidų pavadinimas",null,null,null,0,null,null,null,null,null,null,null,null,null,null,0,0]
[null,null,"Kitos išlaidų pavadinimas",null,null,null,0,null,null,null,null,null,null,null,null,null,null,0,0]
["5.9.2","Komandiruotės pavadinimas, vieta, trukmė dienomis, vykstančių asmenų skaičius","Iš viso komandiruotei",null,null,null,{"$f":"SUM(G233:G238)","v":0},{"$f":"ROUND(G232*$D$7,2)","v":0},null,null,null,null,null,null,null,null,null,0,0]
[null,null,"Dienpinigiai",null,null,null,0,null,null,null,null,null,null,null,null,null,null,0,0]
[null,null,"Gyvenamojo ploto nuoma",null,null,null,0,null,null,null,null,null,null,null,null,null,null,0,0]
[null,null,"Kelionės išlaidos",null,null,null,0,null,null,null,null,null,null,null,null,null,null,0,0]
[null,null,"Dalyvavimo mokestis",null,null,null,0,null,null,null,null,null,null,null,null,null,null,0,0]
[null,null,"Kitos išlaidų pavadinimas",null,null,null,0,null,null,null,null,null,null,null,null,null,null,0,0]
[null,null,"Kitos išlaidų pavadinimas",null,null,null,0,null,null,null,null,null,null,null,null,null,null,{"$f":"SUM(T238:AM238)","v":0},{"$f":"H238-R238","v":0}]
["5.9.3","Komandiruotės pavadinimas, vieta, trukmė dienomis, vykstančių asmenų skaičius","Iš viso komandiruotei",null,null,null,{"$f":"SUM(G240:G245)","v":0},{"$f":"ROUND(G239*$D$7,2)","v":0},null,null,null,null,null,null,null,null,null,{"$f":"SUM(T239:AM239)","v":0},{"$f":"H239-R239","v":0}]
[null,null,"Dienpinigiai",null,null,null,0,null,null,null,null,null,null,null,null,null,null,0,0]
[null,null,"Gyvenamojo ploto nuoma",null,null,null,0,null,null,null,null,null,null,null,null,null,null,0,0]
[null,null,"Kelionės išlaidos",null,null,null,0,null,null,null,null,null,null,null,null,null,null,0,0]
[null,null,"Dalyvavimo mokestis",null,null,null,0,null,null,null,null,null,null,null,null,null,null,0,0]
[null,null,"Kitos išlaidų pavadinimas",null,null,null,0,null,null,null,null,null,null,null,null,null,null,0,0]
[null,null,"Kitos išlaidų pavadinimas",null,null,null,0,null,null,null,null,null,null,null,null,null,null,0,0]
["5.9.4","Komandiruotės pavadinimas, vieta, trukmė dienomis, vykstančių asmenų skaičius","Iš viso komandiruotei",null,null,null,{"$f":"SUM(G247:G252)","v":0},{"$f":"ROUND(G246*$D$7,2)","v":0},null,null,null,null,null,null,null,null,null,0,0]
[null,null,"Dienpinigiai",null,null,null,0,null,null,null,null,null,null,null,null,null,null,0,0]
[null,null,"Gyvenamojo ploto nuoma",null,null,null,0,null,null,null,null,null,null,null,null,null,null,{"$f":"SUM(T248:AM248)","v":0},{"$f":"H248-R248","v":0}]
[null,null,"Kelionės išlaidos",null,null,null,0,null,null,null,null,null,null,null,null,null,null,{"$f":"SUM(T249:AM249)","v":0},{"$f":"H249-R249","v":0}]
[null,null,"Dalyvavimo mokestis",null,null,null,0,null,null,null,null,null,null,null,null,null,null,0,0]
[null,null,"Kitos išlaidų pavadinimas",null,null,null,0,null,null,null,null,null,null,null,null,null,null,0,0]
[null,null,"Kitos išlaidų pavadinimas",null,null,null,0,null,null,null,null,null,null,null,null,null,null,0,0]
["5.9.5","Komandiruotės pavadinimas, vieta, trukmė dienomis, vykstančių asmenų skaičius","Iš viso komandiruotei",null,null,null,{"$f":"SUM(G254:G259)","v":0},{"$f":"ROUND(G253*$D$7,2)","v":0},null,null,null,null,null,null,null,null,null,0,0]
[null,null,"Dienpinigiai",null,null,null,0,null,null,null,null,null,null,null,null,null,null,0,0]
[null,null,"Gyvenamojo ploto nuoma",null,null,null,0,null,null,null,null,null,null,null,null,null,null,0,0]
[null,null,"Kelionės išlaidos",null,null,null,0,null,null,null,null,null,null,null,null,null,null,0,0]
[null,null,"Dalyvavimo mokestis",null,null,null,0,null,null,null,null,null,null,null,null,null,null,0,0]
[null,null,"Kitos išlaidų pavadinimas",null,null,null,0,null,null,null,null,null,null,null,null,null,null,{"$f":"SUM(T258:AM258)","v":0},{"$f":"H258-R258","v":0}]
[null,null,"Kitos išlaidų pavadinimas",null,null,null,0,null,null,null,null,null,null,null,null,null,null,{"$f":"SUM(T259:AM259)","v":0},{"$f":"H259-R259","v":0}]
["5.9.6","Komandiruotės pavadinimas, vieta, trukmė dienomis, vykstančių asmenų skaičius","Iš viso komandiruotei",null,null,null,{"$f":"SUM(G261:G266)","v":0},{"$f":"ROUND(G260*$D$7,2)","v":0},null,null,null,null,null,null,null,null,null,0,0]
[null,null,"Dienpinigiai",null,null,null,0,null,null,null,null,null,null,null,null,null,null,0,0]
[null,null,"Gyvenamojo ploto nuoma",null,null,null,0,null,null,null,null,null,null,null,null,null,null,0,0]
[null,null,"Kelionės išlaidos",null,null,null,0,null,null,null,null,null,null,null,null,null,null,0,0]
[null,null,"Dalyvavimo mokestis",null,null,null,0,null,null,null,null,null,null,null,null,null,null,0,0]
[null,null,"Kitos išlaidų pavadinimas",null,null,null,0,null,null,null,null,null,null,null,null,null,null,0,0]
[null,null,"Kitos išlaidų pavadinimas",null,null,null,0,null,null,null,null,null,null,null,null,null,null,0,0]
["5.9.7","Komandiruotės pavadinimas, vieta, trukmė dienomis, vykstančių asmenų skaičius","Iš viso komandiruotei",null,null,null,{"$f":"SUM(G268:G273)","v":0},{"$f":"ROUND(G267*$D$7,2)","v":0},null,null,null,null,null,null,null,null,null,0,0]
[null,null,"Dienpinigiai",null,null,null,0,null,null,null,null,null,null,null,null,null,null,{"$f":"SUM(T268:AM268)","v":0},{"$f":"H268-R268","v":0}]
[null,null,"Gyvenamojo ploto nuoma",null,null,null,0,null,null,null,null,null,null,null,null,null,null,{"$f":"SUM(T269:AM269)","v":0},{"$f":"H269-R269","v":0}]
[null,null,"Kelionės išlaidos",null,null,null,0,null,null,null,null,null,null,null,null,null,null,0,0]
[null,null,"Dalyvavimo mokestis",null,null,null,0,null,null,null,null,null,null,null,null,null,null,0,0]
[null,null,"Kitos išlaidų pavadinimas",null,null,null,0,null,null,null,null,null,null,null,null,null,null,0,0]
[null,null,"Kitos išlaidų pavadinimas",null,null,null,0,null,null,null,null,null,null,null,null,null,null,0,0]
["5.9.8","Komandiruotės pavadinimas, vieta, trukmė dienomis, vykstančių asmenų skaičius","Iš viso komandiruotei",null,null,null,{"$f":"SUM(G275:G280)","v":0},{"$f":"ROUND(G274*$D$7,2)","v":0},null,null,null,null,null,null,null,null,null,0,0]
[null,null,"Dienpinigiai",null,null,null,0,null,null,null,null,null,null,null,null,null,null,0,0]
[null,null,"Gyvenamojo ploto nuoma",null,null,null,0,null,null,null,null,null,null,null,null,null,null,0,0]
[null,null,"Kelionės išlaidos",null,null,null,0,null,null,null,null,null,null,null,null,null,null,0,0]
[null,null,"Dalyvavimo mokestis",null,null,null,0,null,null,null,null,null,null,null,null,null,null,{"$f":"SUM(T278:AM278)","v":0},{"$f":"H278-R278","v":0}]
[null,null,"Kitos išlaidų pavadinimas",null,null,null,0,null,null,null,null,null,null,null,null,null,null,{"$f":"SUM(T279:AM279)","v":0},{"$f":"H279-R279","v":0}]
[null,null,"Kitos išlaidų pavadinimas",null,null,null,0,null,null,null,null,null,null,null,null,null,null,0,0]
["5.9.9","Komandiruotės pavadinimas, vieta, trukmė dienomis, vykstančių asmenų skaičius","Iš viso komandiruotei",null,null,null,{"$f":"SUM(G282:G287)","v":0},{"$f":"ROUND(G281*$D$7,2)","v":0},null,null,null,null,null,null,null,null,null,0,0]
[null,null,"Dienpinigiai",null,null,null,0,null,null,null,null,null,null,null,null,null,null,0,0]
[null,null,"Gyvenamojo ploto nuoma",null,null,null,0,null,null,null,null,null,null,null,null,null,null,{"$f":"SUM(T283:AM283)","v":0},{"$f":"H283-R283","v":0}]
[null,null,"Kelionės išlaidos",null,null,null,0,null,null,null,null,null,null,null,null,null,null,{"$f":"SUM(T284:AM284)","v":0},{"$f":"H284-R284","v":0}]
[null,null,"Dalyvavimo mokestis",null,null,null,0,null,null,null,null,null,null,null,null,null,null,{"$f":"SUM(T285:AM285)","v":0},{"$f":"H285-R285","v":0}]
[null,null,"Kitos išlaidų pavadinimas",null,null,null,0,null,null,null,null,null,null,null,null,null,null,{"$f":"SUM(T286:AM286)","v":0},{"$f":"H286-R286","v":0}]
[null,null,"Kitos išlaidų pavadinimas",null,null,null,0,null,null,null,null,null,null,null,null,null,null,0,0]
["5.9.10","Komandiruotės pavadinimas, vieta, trukmė dienomis, vykstančių asmenų skaičius","Iš viso komandiruotei",null,null,null,{"$f":"SUM(G289:G294)","v":0},{"$f":"ROUND(G288*$D$7,2)","v":0},null,null,null,null,null,null,null,null,null,0,0]
[null,null,"Dienpinigiai",null,null,null,0,null,null,null,null,null,null,null,null,null,null,0,0]
[null,null,"Gyvenamojo ploto nuoma",null,null,null,0,null,null,null,null,null,null,null,null,null,null,0,0]
[null,null,"Kelionės išlaidos",null,null,null,{"$f":"ROUND(E291*F291,2)","v":0},null,null,null,null,null,null,null,null,null,null,0,0]
[null,null,"Dalyvavimo mokestis",null,null,null,0,null,null,null,null,null,null,null,null,null,null,0,0]
[null,null,"Kitos išlaidų pavadinimas",null,null,null,0,null,null,null,null,null,null,null,null,null,null,0,0]
[null,null,"Kitos išlaidų pavadinimas",null,null,null,0,null,null,null,null,null,null,null,null,null,null,0,0]
["5.10","Įrangos nuomos išlaidos, veiklai priskirtos pro rata principu. Įranga turi būti tiesiogiai susijusi su projekto įgyvendinimu ir negali būti įsigyta iš ES struktūrinių fondų ar kt. ES finansinių priemonių lėšų",null,null,null,null,{"$f":"SUM(G296:G312)","v":0},{"$f":"SUM(H296:H312)","v":0},null,"Faktinės 1 mėnesio išlaidos, Eur","Naudojimo projekte trukmė, mėn.",null,null,null,null,null,null,0,0]
["5.10.1","Įrangos pavadinimas",null,"pro rata proc.",null,{"$f":"J296*K296","v":0},{"$f":"ROUND(E296*F296,2)","v":0},{"$f":"ROUND(G296*$D$7,2)","v":0},null,null,null,null,null,null,null,null,null,{"$f":"SUM(T296:AM296)","v":0},{"$f":"H296-R296","v":0}]
["5.10.2","Įrangos pavadinimas",null,"pro rata proc.",null,{"$f":"J297*K297","v":0},0,{"$f":"ROUND(G297*$D$7,2)","v":0},null,null,null,null,null,null,null,null,null,{"$f":"SUM(T297:AM297)","v":0},{"$f":"H297-R297","v":0}]
["5.10.3","Įrangos pavadinimas",null,"pro rata proc.",null,0,0,0,null,null,null,null,null,null,null,null,null,0,0]
["5.10.4","Įrangos pavadinimas",null,"pro rata proc.",null,0,0,0,null,null,null,null,null,null,null,null,null,0,0]
["5.10.5","Įrangos pavadinimas",null,"pro rata proc.",null,0,0,0,null,null,null,null,null,null,null,null,null,0,0]
["5.10.6","Įrangos pavadinimas",null,"pro rata proc.",null,0,0,0,null,null,null,null,null,null,null,null,null,0,0]
["5.10.7","Įrangos pavadinimas",null,"pro rata proc.",null,0,0,0,null,null,null,null,null,null,null,null,null,{"$f":"SUM(T302:AM302)","v":0},{"$f":"H302-R302","v":0}]
["5.10.8","Įrangos pavadinimas",null,"pro rata proc.",null,0,0,0,null,null,null,null,null,null,null,null,null,{"$f":"SUM(T303:AM303)","v":0},{"$f":"H303-R303","v":0}]
["5.10.9","Įrangos pavadinimas",null,"pro rata proc.",null,0,0,0,null,null,null,null,null,null,null,null,null,{"$f":"SUM(T304:AM304)","v":0},{"$f":"H304-R304","v":0}]
["5.10.10","Įrangos pavadinimas",null,"pro rata proc.",null,0,0,0,null,null,null,null,null,null,null,null,null,0,0]
["5.10.11","Įrangos pavadinimas",null,"pro rata proc.",null,0,0,0,null,null,null,null,null,null,null,null,null,0,0]
["5.10.12","Įrangos pavadinimas",null,"pro rata proc.",null,0,0,0,null,null,null,null,null,null,null,null,null,{"$f":"SUM(T307:AM307)","v":0},{"$f":"H307-R307","v":0}]
["5.10.13","Įrangos pavadinimas",null,"pro rata proc.",null,0,0,0,null,null,null,null,null,null,null,null,null,{"$f":"SUM(T308:AM308)","v":0},{"$f":"H308-R308","v":0}]
["5.10.14","Įrangos pavadinimas",null,"pro rata proc.",null,0,0,0,null,null,null,null,null,null,null,null,null,{"$f":"SUM(T309:AM309)","v":0},{"$f":"H309-R309","v":0}]
["5.10.15","Įrangos pavadinimas",null,"pro rata proc.",null,0,0,0,null,null,null,null,null,null,null,null,null,{"$f":"SUM(T310:AM310)","v":0},{"$f":"H310-R310","v":0}]
["5.10.16","Įrangos pavadinimas",null,"pro rata proc.",null,0,0,0,null,null,null,null,null,null,null,null,null,0,0]
["5.10.17","Įrangos pavadinimas",null,"pro rata proc.",null,0,0,0,null,null,null,null,null,null,null,null,null,0,0]
["5.11","Pastatų ar patalpų nuomos išlaidos, veiklai priskirtos pro rata principu. Pastatai ar patalpos turi būti tiesiogiai susijusi su projekto įgyvendinimu.",null,null,null,null,{"$f":"SUM(G314:G318)","v":0},{"$f":"SUM(H314:H318)","v":0},null,"Faktinės 1 mėnesio išlaidos, Eur","Naudojimo projekte trukmė, mėn.",null,null,null,null,null,null,0,0]
["5.11.1","Pastato, patalpų adresas",null,"pro rata proc.",null,{"$f":"J314*K314","v":0},{"$f":"ROUND(E314*F314,2)","v":0},{"$f":"ROUND(G314*$D$7,2)","v":0},null,null,null,null,null,null,null,null,null,0,0]
["5.11.2","Pastato, patalpų adresas",null,"pro rata proc.",null,{"$f":"J315*K315","v":0},{"$f":"ROUND(E315*F315,2)","v":0},{"$f":"ROUND(G315*$D$7,2)","v":0},null,null,null,null,null,null,null,null,null,0,0]
["5.11.3","Pastato, patalpų adresas",null,"pro rata proc.",null,0,0,0,null,null,null,null,null,null,null,null,null,0,0]
["5.11.4","Pastato, patalpų adresas",null,"pro rata proc.",null,0,0,0,null,null,null,null,null,null,null,null,null,0,0]
["5.11.5","Pastato, patalpų adresas",null,"pro rata proc.",null,0,0,0,null,null,null,null,null,null,null,null,null,0,0]
["Iš viso tinkamų finansuoti išlaidų:",null,null,null,null,null,{"$f":"G10+G44","v":0},{"$f":"H10+H44","v":0}]

{"sheet":"7","index":9,"n_rows":319,"n_cols":39,"rows_kept":319,"cut":false,"hidden":false,"merged":[[315,1,315,2],[316,1,316,2],[317,1,317,2],[318,0,318,5],[306,1,306,2],[307,1,307,2],[308,1,308,2],[309,1,309,2],[310,1,310,2],[311,1,311,2],[312,1,312,5],[313,1,313,2],[314,1,314,2],[297,1,297,2],[298,1,298,2],[299,1,299,2],[300,1,300,2],[301,1,301,2],[302,1,302,2],[303,1,303,2],[304,1,304,2],[305,1,305,2],[224,0,230,0],[224,1,230,1],[224,8,230,8],[231,0,237,0],[231,1,237,1],[231,8,237,8],[238,0,244,0],[238,1,244,1],[238,8,244,8],[218,0,222,0],[218,1,222,1],[218,3,222,3],[218,4,222,4],[218,5,222,5],[218,6,222,6],[218,7,222,7],[218,8,222,8],[223,1,223,5],[208,0,212,0],[208,1,212,1],[208,3,212,3],[208,4,212,4],[208,5,212,5],[208,6,212,6],[208,7,212,7],[208,8,212,8],[213,0,217,0],[213,1,217,1],[213,3,217,3],[213,4,217,4],[213,5,217,5],[213,6,217,6],[213,7,217,7],[213,8,217,8],[203,0,207,0],[203,1,207,1],[203,3,207,3],[203,4,207,4],[203,5,207,5],[203,6,207,6],[203,7,207,7],[203,8,207,8],[198,0,202,0],[198,1,202,1],[198,3,202,3],[198,4,202,4],[198,5,202,5],[188,0,192,0],[188,1,192,1],[188,3,192,3],[188,4,192,4],[188,5,192,5],[188,6,192,6],[188,7,192,7],[188,8,192,8],[198,6,202,6],[198,7,202,7],[198,8,202,8],[193,0,197,0],[193,1,197,1],[193,3,197,3],[193,4,197,4],[193,5,197,5],[193,6,197,6],[193,7,197,7],[193,8,197,8],[168,0,172,0],[168,1,172,1],[168,3,172,3],[168,4,172,4],[168,5,172,5],[168,6,172,6],[168,7,172,7],[168,8,172,8],[173,0,177,0],[173,1,177,1],[173,3,177,3],[173,4,177,4],[173,5,177,5],[173,6,177,6],[173,7,177,7],[173,8,177,8],[158,8,162,8],[163,0,167,0],[163,1,167,1],[163,3,167,3],[163,4,167,4],[163,5,167,5],[163,6,167,6],[163,7,167,7],[163,8,167,8],[158,6,162,6],[158,7,162,7],[142,1,142,2],[143,1,143,2],[144,1,144,2],[145,1,145,2],[146,1,146,2],[147,1,147,2],[148,1,148,2],[149,1,149,2],[150,1,150,2],[295,1,295,2],[294,1,294,5],[296,1,296,2],[266,1,272,1],[245,0,251,0],[245,1,251,1],[245,8,251,8],[252,0,258,0],[252,1,258,1],[252,8,258,8],[259,0,265,0],[259,1,265,1],[259,8,265,8],[266,0,272,0],[266,8,272,8],[273,0,279,0],[273,1,279,1],[273,8,279,8],[280,0,286,0],[280,1,286,1],[280,8,286,8],[287,0,293,0],[287,1,293,1],[287,8,293,8],[178,0,182,0],[178,1,182,1],[178,3,182,3],[178,4,182,4],[178,5,182,5],[178,6,182,6],[178,7,182,7],[178,8,182,8],[183,0,187,0],[183,1,187,1],[183,3,187,3],[183,4,187,4],[183,5,187,5],[183,6,187,6],[183,7,187,7],[183,8,187,8],[5,3,5,8],[8,1,8,2],[9,1,9,5],[11,1,11,2],[12,1,12,2],[0,3,0,8],[2,0,2,2],[2,3,2,8],[3,3,3,4],[3,5,3,6],[4,0,4,2],[4,3,4,8],[10,1,10,5],[19,1,19,2],[21,1,21,5],[22,1,22,2],[23,1,23,2],[24,1,24,2],[13,1,13,2],[14,1,14,2],[15,1,15,2],[16,1,16,2],[17,1,17,2],[18,1,18,2],[20,1,20,2],[31,1,31,2],[32,1,32,5],[33,1,33,2],[34,1,34,2],[35,1,35,2],[36,1,36,2],[25,1,25,2],[26,1,26,2],[27,1,27,2],[28,1,28,2],[29,1,29,2],[30,1,30,2],[43,1,43,5],[45,1,45,2],[46,1,46,2],[47,1,47,2],[48,1,48,2],[37,1,37,2],[38,1,38,2],[39,1,39,2],[40,1,40,2],[41,1,41,2],[42,1,42,2],[44,1,44,5],[56,1,56,2],[57,1,57,2],[58,1,58,2],[59,1,59,2],[60,1,60,2],[49,1,49,2],[50,1,50,2],[51,1,51,2],[52,1,52,2],[53,1,53,2],[54,1,54,2],[55,1,55,5],[67,1,67,2],[68,1,68,2],[69,1,69,2],[70,1,70,2],[72,1,72,2],[61,1,61,2],[62,1,62,2],[63,1,63,2],[64,1,64,2],[65,1,65,2],[66,1,66,5],[71,1,71,2],[79,1,79,2],[80,1,80,2],[81,1,81,2],[82,1,82,2],[83,1,83,2],[84,1,84,2],[73,1,73,2],[74,1,74,2],[75,1,75,2],[76,1,76,2],[78,1,78,2],[77,1,77,5],[91,1,91,2],[92,1,92,2],[93,1,93,2],[94,1,94,2],[95,1,95,2],[96,1,96,2],[85,1,85,2],[86,1,86,2],[87,1,87,2],[89,1,89,2],[90,1,90,2],[88,1,88,5],[97,1,97,2],[98,1,98,2],[100,1,100,2],[101,1,101,2],[102,1,102,2],[103,1,103,2],[104,1,104,2],[99,1,99,5],[105,1,105,2],[106,1,106,2],[107,1,107,2],[108,1,108,2],[109,1,109,2],[110,1,110,2],[111,1,111,2],[112,1,112,2],[113,1,113,2],[114,1,114,2],[115,1,115,2],[116,1,116,2],[117,1,117,2],[118,1,118,2],[119,1,119,2],[120,1,120,2],[121,1,121,2],[122,1,122,2],[123,1,123,2],[124,1,124,2],[125,1,125,2],[126,1,126,2],[128,1,128,2],[129,1,129,2],[130,1,130,2],[131,1,131,2],[132,1,132,2],[127,1,127,5],[133,1,133,2],[134,1,134,2],[135,1,135,2],[136,1,136,2],[137,1,137,2],[138,1,138,2],[139,1,139,2],[140,1,140,2],[141,1,141,2],[151,1,151,2],[152,1,152,2],[153,1,153,2],[154,1,154,2],[155,1,155,2],[156,1,156,2],[157,1,157,5],[158,0,162,0],[158,1,162,1],[158,3,162,3],[158,4,162,4],[158,5,162,5]]}
[null,null,"Pasirinkite veiklos tipą:"]
[null,null,"Fizinio rodiklio Nr.:"]
["Fizinio rodiklio pavadinimas:"]
[null,null,"Fizinio rodiklio matavimo vnt.:",null,null,"Fizinio rodiklio vnt. skaičius:"]
["Juridinis asmuo (pareiškėjas, partneris), atsakingas už fizinį rodiklį:"]
[null,null,"Vykdytojo tipas:"]
[null,null,"Finansavimo intensyvumas:",null,null,null,"Pasirinkite biudžeto išlaidų kategoriją:","Visos"]
[]
["Eil. Nr.","Išlaidų kategorijos pavadinimas",null,"Matavimo vnt.","Kiekis","Vieneto kaina be PVM, Eur","Tinkamų finansuoti išlaidų suma be PVM, Eur","Finansavimo suma, Eur","Išlaidų pagrindimo dokumentų pavadinimas, data ir Nr.",null,null,null,null,null,null,null,null,"Apmokėta","Likutis","MP001","MP002","MP003","MP004","MP005","MP006","MP007","MP008","MP009","MP010","MP011","MP012","MP013","MP014","MP015","MP016","MP017","MP018","MP019","MP020"]
[4,"ĮRANGA, ĮRENGINIAI IR KT. TURTAS (tinkamos finansuoti išlaidos, susijusios su COVID-19, yra išlaidos, tiesiogiai susijusios su projekto įgyvendinimu, ir paskirstytos proporcingai veiklai (pro rata principu)",null,null,null,null,{"$f":"SUM(G11+G22+G33)","v":0},{"$f":"SUM(H11+H22+H33)","v":0},null,null,null,null,null,null,null,null,null,{"$f":"SUM(T10:AM10)","v":0},{"$f":"H10-R10","v":0}]
["4.1","Skaitmeninė ir kompiuterinė įranga",null,null,null,null,{"$f":"SUM(G12:G21)","v":0},{"$f":"SUM(H12:H21)","v":0},null,"Infrastruktūros naudojimo laiko dalis, skirta išimtinai MTEP, proc.",null,null,null,null,null,null,null,0,0]
["4.1.1","Išlaidų pavadinimas",null,null,null,null,{"$f":"ROUND(E12*F12,2)","v":0},{"$f":"ROUND(G12*$D$7*J12,2)","v":0},null,1,null,null,null,null,null,null,null,{"$f":"SUM(T12:AM12)","v":0},{"$f":"H12-R12","v":0}]
["4.1.2","Išlaidų pavadinimas",null,null,null,null,{"$f":"ROUND(E13*F13,2)","v":0},{"$f":"ROUND(G13*$D$7*J13,2)","v":0},null,1,null,null,null,null,null,null,null,{"$f":"SUM(T13:AM13)","v":0},{"$f":"H13-R13","v":0}]
["4.1.3","Išlaidų pavadinimas",null,null,null,null,{"$f":"ROUND(E14*F14,2)","v":0},0,null,1,null,null,null,null,null,null,null,0,0]
["4.1.4","Išlaidų pavadinimas",null,null,null,null,0,0,null,1,null,null,null,null,null,null,null,0,0]
["4.1.5","Išlaidų pavadinimas",null,null,null,null,0,0,null,1,null,null,null,null,null,null,null,0,0]
["4.1.6","Išlaidų pavadinimas",null,null,null,null,0,0,null,1,null,null,null,null,null,null,null,0,0]
["4.1.7","Išlaidų pavadinimas",null,null,null,null,0,0,null,1,null,null,null,null,null,null,null,0,0]
["4.1.8","Išlaidų pavadinimas",null,null,null,null,0,0,null,1,null,null,null,null,null,null,null,0,0]
["4.1.9","Išlaidų pavadinimas",null,null,null,null,0,0,null,1,null,null,null,null,null,null,null,0,0]
["4.1.10","Išlaidų pavadinimas",null,null,null,null,0,0,null,1,null,null,null,null,null,null,null,0,0]
["4.2","Diagnostikos priemonės, duomenų rinkimo ir tvarkymo priemonės",null,null,null,null,{"$f":"SUM(G23:G32)","v":0},{"$f":"SUM(H23:H32)","v":0},null,null,null,null,null,null,null,null,null,0,0]
["4.2.1","Išlaidų pavadinimas",null,null,null,null,{"$f":"ROUND(E23*F23,2)","v":0},{"$f":"ROUND(G23*$D$7*J23,2)","v":0},null,1,null,null,null,null,null,null,null,{"$f":"SUM(T23:AM23)","v":0},{"$f":"H23-R23","v":0}]
["4.2.2","Išlaidų pavadinimas",null,null,null,null,{"$f":"ROUND(E24*F24,2)","v":0},{"$f":"ROUND(G24*$D$7*J24,2)","v":0},null,1,null,null,null,null,null,null,null,{"$f":"SUM(T24:AM24)","v":0},{"$f":"H24-R24","v":0}]
["4.2.3","Išlaidų pavadinimas",null,null,null,null,{"$f":"ROUND(E25*F25,2)","v":0},0,null,1,null,null,null,null,null,null,null,0,0]
["4.2.4","Išlaidų pavadinimas",null,null,null,null,0,0,null,1,null,null,null,null,null,null,null,0,0]
["4.2.5","Išlaidų pavadinimas",null,null,null,null,0,0,null,1,null,null,null,null,null,null,null,0,0]
["4.2.6","Išlaidų pavadinimas",null,null,null,null,0,0,null,1,null,null,null,null,null,null,null,0,0]
["4.2.7","Išlaidų pavadinimas",null,null,null,null,0,0,null,1,null,null,null,null,null,null,null,0,0]
["4.2.8","Išlaidų pavadinimas",null,null,null,null,0,0,null,1,null,null,null,null,null,null,null,0,0]
["4.2.9","Išlaidų pavadinimas",null,null,null,null,0,0,null,1,null,null,null,null,null,null,null,0,0]
["4.2.10","Išlaidų pavadinimas",null,null,null,null,0,0,null,1,null,null,null,null,null,null,null,0,0]
["4.3","Patentų ir kito nematerialiojo turto įsigijimui, patvirtinimui ir apsaugai priskiriamos išlaidos",null,null,null,null,{"$f":"SUM(G34:G43)","v":0},{"$f":"SUM(H34:H43)","v":0},null,null,null,null,null,null,null,null,null,0,0]
["4.3.1","Išlaidų pavadinimas",null,null,null,null,{"$f":"ROUND(E34*F34,2)","v":0},{"$f":"ROUND(G34*$D$7*J34,2)","v":0},null,1,null,null,null,null,null,null,null,{"$f":"SUM(T34:AM34)","v":0},{"$f":"H34-R34","v":0}]
["4.3.2","Išlaidų pavadinimas",null,null,null,null,{"$f":"ROUND(E35*F35,2)","v":0},{"$f":"ROUND(G35*$D$7*J35,2)","v":0},null,1,null,null,null,null,null,null,null,{"$f":"SUM(T35:AM35)","v":0},{"$f":"H35-R35","v":0}]
["4.3.3","Išlaidų pavadinimas",null,null,null,null,{"$f":"ROUND(E36*F36,2)","v":0},0,null,1,null,null,null,null,null,null,null,0,0]
["4.3.4","Išlaidų pavadinimas",null,null,null,null,0,0,null,1,null,null,null,null,null,null,null,0,0]
["4.3.5","Išlaidų pavadinimas",null,null,null,null,0,0,null,1,null,null,null,null,null,null,null,0,0]
["4.3.6","Išlaidų pavadinimas",null,null,null,null,0,0,null,1,null,null,null,null,null,null,null,0,0]
["4.3.7","Išlaidų pavadinimas",null,null,null,null,0,0,null,1,null,null,null,null,null,null,null,0,0]
["4.3.8","Išlaidų pavadinimas",null,null,null,null,0,0,null,1,null,null,null,null,null,null,null,0,0]
["4.3.9","Išlaidų pavadinimas",null,null,null,null,0,0,null,1,null,null,null,null,null,null,null,0,0]
["4.3.10","Išlaidų pavadinimas",null,null,null,null,0,0,null,1,null,null,null,null,null,null,null,0,0]
[5,"PROJEKTO VYKDYMAS",null,null,null,null,{"$f":"G45+G56+G100+G128+G158+G224+G295+G313+G78+G67+G89","v":0},{"$f":"H45+H56+H100+H128+H158+H224+H295+H313+H78+H67+H89","v":0},null,null,null,null,null,null,null,null,null,0,0]
["5.1","MTEP paslaugos",null,null,null,null,{"$f":"SUM(G46:G55)","v":0},{"$f":"SUM(H46:H55)","v":0},null,null,null,null,null,null,null,null,null,0,0]
["5.1.1","Paslaugos pavadinimas",null,null,null,null,{"$f":"ROUND(E46*F46,2)","v":0},{"$f":"ROUND(G46*$D$7,2)","v":0},null,null,null,null,null,null,null,null,null,{"$f":"SUM(T46:AM46)","v":0},{"$f":"H46-R46","v":0}]
["5.1.2","Paslaugos pavadinimas",null,null,null,null,0,0,null,null,null,null,null,null,null,null,null,{"$f":"SUM(T47:AM47)","v":0},{"$f":"H47-R47","v":0}]
["5.1.3","Paslaugos pavadinimas",null,null,null,null,0,0,null,null,null,null,null,null,null,null,null,0,0]
["5.1.4","Paslaugos pavadinimas",null,null,null,null,0,0,null,null,null,null,null,null,null,null,null,0,0]
["5.1.5","Paslaugos pavadinimas",null,null,null,null,0,0,null,null,null,null,null,null,null,null,null,0,0]
["5.1.6","Paslaugos pavadinimas",null,null,null,null,0,0,null,null,null,null,null,null,null,null,null,0,0]
["5.1.7","Paslaugos pavadinimas",null,null,null,null,0,0,null,null,null,null,null,null,null,null,null,0,0]
["5.1.8","Paslaugos pavadinimas",null,null,null,null,0,0,null,null,null,null,null,null,null,null,null,0,0]
["5.1.9","Paslaugos pavadinimas",null,null,null,null,0,0,null,null,null,null,null,null,null,null,null,0,0]
["5.1.10","Paslaugos pavadinimas",null,null,null,null,0,0,null,null,null,null,null,null,null,null,null,0,0]
["5.2","Konsultavimo ir lygiavertės paslaugos, teikiamos vien tik projekto MTEP veiklai.",null,null,null,null,{"$f":"SUM(G57:G66)","v":0},{"$f":"SUM(H57:H66)","v":0},null,null,null,null,null,null,null,null,null,0,0]
["5.2.1","Paslaugos pavadinimas",null,null,null,null,{"$f":"ROUND(E57*F57,2)","v":0},0,null,null,null,null,null,null,null,null,null,{"$f":"SUM(T57:AM57)","v":0},{"$f":"H57-R57","v":0}]
["5.2.2","Paslaugos pavadinimas",null,null,null,null,0,0,null,null,null,null,null,null,null,null,null,{"$f":"SUM(T58:AM58)","v":0},{"$f":"H58-R58","v":0}]
["5.2.3","Paslaugos pavadinimas",null,null,null,null,0,0,null,null,null,null,null,null,null,null,null,0,0]
["5.2.4","Paslaugos pavadinimas",null,null,null,null,0,0,null,null,null,null,null,null,null,null,null,0,0]
["5.2.5","Paslaugos pavadinimas",null,null,null,null,0,0,null,null,null,null,null,null,null,null,null,0,0]
["5.2.6","Paslaugos pavadinimas",null,null,null,null,0,0,null,null,null,null,null,null,null,null,null,0,0]
["5.2.7","Paslaugos pavadinimas",null,null,null,null,0,0,null,null,null,null,null,null,null,null,null,0,0]
["5.2.8","Paslaugos pavadinimas",null,null,null,null,0,0,null,null,null,null,null,null,null,null,null,0,0]
["5.2.9","Paslaugos pavadinimas",null,null,null,null,0,0,null,null,null,null,null,null,null,null,null,0,0]
["5.2.10","Paslaugos pavadinimas",null,null,null,null,0,0,null,null,null,null,null,null,null,null,null,0,0]
["5.3","Ikiklinikinių ir klinikinių tyrimų (I–IV tyrimų etapais) paslaugos (IV etapo tyrimų išlaidos yra tinkamos finansuoti, jei šiais tyrimais sudaromos sąlygos tolesnei mokslinei ar technologinei pažangai)",null,null,null,null,{"$f":"SUM(G68:G77)","v":0},{"$f":"SUM(H68:H77)","v":0},null,null,null,null,null,null,null,null,null,0,0]
["5.3.1","Paslaugos pavadinimas",null,null,null,null,{"$f":"ROUND(E68*F68,2)","v":0},{"$f":"ROUND(G68*$D$7,2)","v":0},null,null,null,null,null,null,null,null,null,{"$f":"SUM(T68:AM68)","v":0},{"$f":"H68-R68","v":0}]
["5.3.2","Paslaugos pavadinimas",null,null,null,null,0,0,null,null,null,null,null,null,null,null,null,{"$f":"SUM(T69:AM69)","v":0},{"$f":"H69-R69","v":0}]
["5.3.3","Paslaugos pavadinimas",null,null,null,null,0,0,null,null,null,null,null,null,null,null,null,0,0]
["5.3.4","Paslaugos pavadinimas",null,null,null,null,0,0,null,null,null,null,null,null,null,null,null,0,0]
["5.3.5","Paslaugos pavadinimas",null,null,null,null,0,0,null,null,null,null,null,null,null,null,null,0,0]
["5.3.6","Paslaugos pavadinimas",null,null,null,null,0,0,null,null,null,null,null,null,null,null,null,0,0]
["5.3.7","Paslaugos pavadinimas",null,null,null,null,0,0,null,null,null,null,null,null,null,null,null,0,0]
["5.3.8","Paslaugos pavadinimas",null,null,null,null,0,0,null,null,null,null,null,null,null,null,null,0,0]
["5.3.9","Paslaugos pavadinimas",null,null,null,null,0,0,null,null,null,null,null,null,null,null,null,0,0]
["5.3.10","Paslaugos pavadinimas",null,null,null,null,0,0,null,null,null,null,null,null,null,null,null,0,0]
["5.4","Naujiems produktams ir technologijoms sertifikuoti būtinos išlaidos",null,null,null,null,{"$f":"SUM(G79:G88)","v":0},{"$f":"SUM(H79:H88)","v":0},null,null,null,null,null,null,null,null,null,0,0]
["5.4.1","Išlaidų pavadinimas",null,null,null,null,{"$f":"ROUND(E79*F79,2)","v":0},{"$f":"ROUND(G79*$D$7,2)","v":0},null,null,null,null,null,null,null,null,null,{"$f":"SUM(T79:AM79)","v":0},{"$f":"H79-R79","v":0}]
["5.4.2","Išlaidų pavadinimas",null,null,null,null,0,0,null,null,null,null,null,null,null,null,null,{"$f":"SUM(T80:AM80)","v":0},{"$f":"H80-R80","v":0}]
["5.4.3","Išlaidų pavadinimas",null,null,null,null,0,0,null,null,null,null,null,null,null,null,null,0,0]
["5.4.4","Išlaidų pavadinimas",null,null,null,null,0,0,null,null,null,null,null,null,null,null,null,0,0]
["5.4.5","Išlaidų pavadinimas",null,null,null,null,0,0,null,null,null,null,null,null,null,null,null,0,0]
["5.4.6","Išlaidų pavadinimas",null,null,null,null,0,0,null,null,null,null,null,null,null,null,null,0,0]
["5.4.7","Išlaidų pavadinimas",null,null,null,null,0,0,null,null,null,null,null,null,null,null,null,0,0]
["5.4.8","Išlaidų pavadinimas",null,null,null,null,0,0,null,null,null,null,null,null,null,null,null,0,0]
["5.4.9","Išlaidų pavadinimas",null,null,null,null,0,0,null,null,null,null,null,null,null,null,null,0,0]
["5.4.10","Išlaidų pavadinimas",null,null,null,null,0,0,null,null,null,null,null,null,null,null,null,0,0]
["5.5","Paslaugų išlaidos, patirtos siekiant gauti atitikties vertinimus ir (arba) leidimus, būtinus prekybai naujomis ir patobulintomis vakcinomis ir vaistiniais preparatais, medicinos priemonėmis, ligoninių ir medicinos reikmenimis, dezinfekavimo priemonėmis ir asmeninėmis apsaugos priemonėmis",null,null,null,null,{"$f":"SUM(G90:G99)","v":0},{"$f":"SUM(H90:H99)","v":0},null,null,null,null,null,null,null,null,null,0,0]
["5.5.1","Paslaugos pavadinimas",null,null,null,null,{"$f":"ROUND(E90*F90,2)","v":0},{"$f":"ROUND(G90*$D$7,2)","v":0},null,null,null,null,null,null,null,null,null,{"$f":"SUM(T90:AM90)","v":0},{"$f":"H90-R90","v":0}]
["5.5.2","Paslaugos pavadinimas",null,null,null,null,0,0,null,null,null,null,null,null,null,null,null,{"$f":"SUM(T91:AM91)","v":0},{"$f":"H91-R91","v":0}]
["5.5.3","Paslaugos pavadinimas",null,null,null,null,0,0,null,null,null,null,null,null,null,null,null,0,0]
["5.5.4","Paslaugos pavadinimas",null,null,null,null,0,0,null,null,null,null,null,null,null,null,null,0,0]
["5.5.5","Paslaugos pavadinimas",null,null,null,null,0,0,null,null,null,null,null,null,null,null,null,0,0]
["5.5.6","Paslaugos pavadinimas",null,null,null,null,0,0,null,null,null,null,null,null,null,null,null,0,0]
["5.5.7","Paslaugos pavadinimas",null,null,null,null,0,0,null,null,null,null,null,null,null,null,null,0,0]
["5.5.8","Paslaugos pavadinimas",null,null,null,null,0,0,null,null,null,null,null,null,null,null,null,0,0]
["5.5.9","Paslaugos pavadinimas",null,null,null,null,0,0,null,null,null,null,null,null,null,null,null,0,0]
["5.5.10","Paslaugos pavadinimas",null,null,null,null,0,0,null,null,null,null,null,null,null,null,null,0,0]
["5.6","Medžiagos, mažavertis inventorius, atsargos ir pan. produktai, priskirtini trumpalaikiam turtui ir tiesiogiai susiję su MTEP veikla",null,null,null,null,{"$f":"SUM(G101:G127)","v":0},{"$f":"SUM(H101:H127)","v":0},null,null,null,null,null,null,null,null,null,0,0]
["5.6.1","Išlaidų pavadinimas",null,null,null,null,{"$f":"ROUND(E101*F101,2)","v":0},{"$f":"ROUND(G101*$D$7,2)","v":0},null,null,null,null,null,null,null,null,null,{"$f":"SUM(T101:AM101)","v":0},{"$f":"H101-R101","v":0}]
["5.6.2","Išlaidų pavadinimas",null,null,null,null,{"$f":"ROUND(E102*F102,2)","v":0},{"$f":"ROUND(G102*$D$7,2)","v":0},null,null,null,null,null,null,null,null,null,{"$f":"SUM(T102:AM102)","v":0},{"$f":"H102-R102","v":0}]
["5.6.3","Išlaidų pavadinimas",null,null,null,null,{"$f":"ROUND(E103*F103,2)","v":0},{"$f":"ROUND(G103*$D$7,2)","v":0},null,null,null,null,null,null,null,null,null,0,0]
["5.6.4","Išlaidų pavadinimas",null,null,null,null,{"$f":"ROUND(E104*F104,2)","v":0},{"$f":"ROUND(G104*$D$7,2)","v":0},null,null,null,null,null,null,null,null,null,0,0]
["5.6.5","Išlaidų pavadinimas",null,null,null,null,{"$f":"ROUND(E105*F105,2)","v":0},{"$f":"ROUND(G105*$D$7,2)","v":0},null,null,null,null,null,null,null,null,null,0,0]
["5.6.6","Išlaidų pavadinimas",null,null,null,null,0,0,null,null,null,null,null,null,null,null,null,{"$f":"SUM(T106:AM106)","v":0},{"$f":"H106-R106","v":0}]
["5.6.7","Išlaidų pavadinimas",null,null,null,null,0,0,null,null,null,null,null,null,null,null,null,{"$f":"SUM(T107:AM107)","v":0},{"$f":"H107-R107","v":0}]
["5.6.8","Išlaidų pavadinimas",null,null,null,null,0,0,null,null,null,null,null,null,null,null,null,0,0]
["5.6.9","Išlaidų pavadinimas",null,null,null,null,0,0,null,null,null,null,null,null,null,null,null,0,0]
["5.6.10","Išlaidų pavadinimas",null,null,null,null,0,0,null,null,null,null,null,null,null,null,null,0,0]
["5.6.11","Išlaidų pavadinimas",null,null,null,null,0,0,null,null,null,null,null,null,null,null,null,0,0]
["5.6.12","Išlaidų pavadinimas",null,null,null,null,0,0,null,null,null,null,null,null,null,null,null,0,0]
["5.6.13","Išlaidų pavadinimas",null,null,null,null,0,0,null,null,null,null,null,null,null,null,null,0,0]
["5.6.14","Išlaidų pavadinimas",null,null,null,null,0,0,null,null,null,null,null,null,null,null,null,0,0]
["5.6.15","Išlaidų pavadinimas",null,null,null,null,0,0,null,null,null,null,null,null,null,null,null,{"$f":"SUM(T115:AM115)","v":0},{"$f":"H115-R115","v":0}]
["5.6.16","Išlaidų pavadinimas",null,null,null,null,0,0,null,null,null,null,null,null,null,null,null,{"$f":"SUM(T116:AM116)","v":0},{"$f":"H116-R116","v":0}]
["5.6.17","Išlaidų pavadinimas",null,null,null,null,0,0,null,null,null,null,null,null,null,null,null,{"$f":"SUM(T117:AM117)","v":0},{"$f":"H117-R117","v":0}]
["5.6.18","Išlaidų pavadinimas",null,null,null,null,0,0,null,null,null,null,null,null,null,null,null,{"$f":"SUM(T118:AM118)","v":0},{"$f":"H118-R118","v":0}]
["5.6.19","Išlaidų pavadinimas",null,null,null,null,0,0,null,null,null,null,null,null,null,null,null,{"$f":"SUM(T119:AM119)","v":0},{"$f":"H119-R119","v":0}]
["5.6.20","Išlaidų pavadinimas",null,null,null,null,0,0,null,null,null,null,null,null,null,null,null,0,0]
["5.6.21","Išlaidų pavadinimas",null,null,null,null,0,0,null,null,null,null,null,null,null,null,null,0,0]
["5.6.22","Išlaidų pavadinimas",null,null,null,null,0,0,null,null,null,null,null,null,null,null,null,0,0]
["5.6.23","Išlaidų pavadinimas",null,null,null,null,0,0,null,null,null,null,null,null,null,null,null,0,0]
["5.6.24","Išlaidų pavadinimas",null,null,null,null,0,0,null,null,null,null,null,null,null,null,null,0,0]
["5.6.25","Išlaidų pavadinimas",null,null,null,null,0,0,null,null,null,null,null,null,null,null,null,0,0]
["5.6.26","Išlaidų pavadinimas",null,null,null,null,0,0,null,null,null,null,null,null,null,null,null,0,0]
["5.6.27","Išlaidų pavadinimas",null,null,null,null,0,0,null,null,null,null,null,null,null,null,null,0,0]
["5.7","Projekto MTEP veikloms naudojamo ilgalaikio materialaus turto (įrangos, prietaisų, įrankių, įrenginių, mašinų ir įrengimų, pastatų ir (ar) patalpų), nusidėvėjimo sąnaudos, jeigu šiam turtui įsigyti nebuvo naudojamos viešosios (įskaitant ir kitų valstybių) lėšos",null,null,null,null,{"$f":"SUM(G129:G157)","v":0},{"$f":"SUM(H129:H157)","v":0},null,"Turto įvedimo į eksploataciją data","Turto įsigijimo vertė, Eur","Turto nudėvėjimo, amortizacijos laikotarpis, mėn.","Numatoma turto likutinė vertė, Eur","1 mėn. nudėvėjimo, amortizacijos suma, Eur","Turto naudojamo projekto reikmėms laikas, mėn.","Turto panaudojimo projekto reikmėms dalis (proc.)","Projektui priskirta turto nusidėvėjimo, amortizacijos suma per projekto laikotarpį, Eur",0,0]
["5.7.1","Turtas, kurio nusidėvėjimą, amortizaciją prašoma finansuoti",null,null,1,{"$f":"Q129","v":0},0,0,null,null,null,null,null,{"$f":"IFERROR(ROUND((K129-M129)/L129,2),\"0\")","v":"0"},null,null,{"$f":"N129*O129*P129","v":0},{"$f":"SUM(T129:AM129)","v":0},{"$f":"H129-R129","v":0}]
["5.7.2","Turtas, kurio nusidėvėjimą, amortizaciją prašoma finansuoti",null,null,1,0,0,0,null,null,null,null,null,{"$f":"IFERROR(ROUND((K130-M130)/L130,2),\"0\")","v":"0"},null,null,{"$f":"N130*O130*P130","v":0},{"$f":"SUM(T130:AM130)","v":0},{"$f":"H130-R130","v":0}]
["5.7.3","Turtas, kurio nusidėvėjimą, amortizaciją prašoma finansuoti",null,null,1,0,0,0,null,null,null,null,null,"0",null,null,0,0,0]
["5.7.4","Turtas, kurio nusidėvėjimą, amortizaciją prašoma finansuoti",null,null,1,0,0,0,null,null,null,null,null,"0",null,null,0,0,0]
["5.7.5","Turtas, kurio nusidėvėjimą, amortizaciją prašoma finansuoti",null,null,1,0,0,0,null,null,null,null,null,"0",null,null,0,0,0]
["5.7.6","Turtas, kurio nusidėvėjimą, amortizaciją prašoma finansuoti",null,null,1,0,0,0,null,null,null,null,null,"0",null,null,0,0,0]
["5.7.7","Turtas, kurio nusidėvėjimą, amortizaciją prašoma finansuoti",null,null,1,0,0,0,null,null,null,null,null,"0",null,null,0,0,0]
["5.7.8","Turtas, kurio nusidėvėjimą, amortizaciją prašoma finansuoti",null,null,1,0,0,0,null,null,null,null,null,"0",null,null,0,0,0]
["5.7.9","Turtas, kurio nusidėvėjimą, amortizaciją prašoma finansuoti",null,null,1,0,0,0,null,null,null,null,null,"0",null,null,0,0,0]
["5.7.10","Turtas, kurio nusidėvėjimą, amortizaciją prašoma finansuoti",null,null,1,0,0,0,null,null,null,null,null,"0",null,null,0,0,0]
["5.7.11","Turtas, kurio nusidėvėjimą, amortizaciją prašoma finansuoti",null,null,1,0,0,0,null,null,null,null,null,"0",null,null,0,{"$f":"SUM(T139:AM139)","v":0},{"$f":"H139-R139","v":0}]
["5.7.12","Turtas, kurio nusidėvėjimą, amortizaciją prašoma finansuoti",null,null,1,0,0,0,null,null,null,null,null,"0",null,null,0,{"$f":"SUM(T140:AM140)","v":0},{"$f":"H140-R140","v":0}]
["5.7.13","Turtas, kurio nusidėvėjimą, amortizaciją prašoma finansuoti",null,null,1,0,0,0,null,null,null,null,null,"0",null,null,0,0,0]
["5.7.14","Turtas, kurio nusidėvėjimą, amortizaciją prašoma finansuoti",null,null,1,0,0,0,null,null,null,null,null,"0",null,null,0,0,0]
["5.7.15","Turtas, kurio nusidėvėjimą, amortizaciją prašoma finansuoti",null,null,1,0,0,0,null,null,null,null,null,"0",null,null,0,0,0]
["5.7.16","Turtas, kurio nusidėvėjimą, amortizaciją prašoma finansuoti",null,null,1,0,0,0,null,null,null,null,null,"0",null,null,0,0,0]
["5.7.17","Turtas, kurio nusidėvėjimą, amortizaciją prašoma finansuoti",null,null,1,0,0,0,null,null,null,null,null,"0",null,null,0,0,0]
["5.7.18","Turtas, kurio nusidėvėjimą, amortizaciją prašoma finansuoti",null,null,1,0,0,0,null,null,null,null,null,"0",null,null,0,0,0]
["5.7.19","Turtas, kurio nusidėvėjimą, amortizaciją prašoma finansuoti",null,null,1,0,0,0,null,null,null,null,null,"0",null,null,0,0,0]
["5.7.20","Turtas, kurio nusidėvėjimą, amortizaciją prašoma finansuoti",null,null,1,0,0,0,null,null,null,null,null,"0",null,null,0,{"$f":"SUM(T148:AM148)","v":0},{"$f":"H148-R148","v":0}]
["5.7.21","Turtas, kurio nusidėvėjimą, amortizaciją prašoma finansuoti",null,null,1,0,0,0,null,null,null,null,null,"0",null,null,0,{"$f":"SUM(T149:AM149)","v":0},{"$f":"H149-R149","v":0}]
["5.7.22","Turtas, kurio nusidėvėjimą, amortizaciją prašoma finansuoti",null,null,1,0,0,0,null,null,null,null,null,"0",null,null,0,0,0]
["5.7.23","Turtas, kurio nusidėvėjimą, amortizaciją prašoma finansuoti",null,null,1,0,0,0,null,null,null,null,null,"0",null,null,0,0,0]
["5.7.24","Turtas, kurio nusidėvėjimą, amortizaciją prašoma finansuoti",null,null,1,0,0,0,null,null,null,null,null,"0",null,null,0,0,0]
["5.7.25","Turtas, kurio nusidėvėjimą, amortizaciją prašoma finansuoti",null,null,1,0,0,0,null,null,null,null,null,"0",null,null,0,0,0]
["5.7.26","Turtas, kurio nusidėvėjimą, amortizaciją prašoma finansuoti",null,null,1,0,0,0,null,null,null,null,null,"0",null,null,0,0,0]
["5.7.27","Turtas, kurio nusidėvėjimą, amortizaciją prašoma finansuoti",null,null,1,0,0,0,null,null,null,null,null,"0",null,null,0,0,0]
["5.7.28","Turtas, kurio nusidėvėjimą, amortizaciją prašoma finansuoti",null,null,1,0,0,0,null,null,null,null,null,"0",null,null,0,0,0]
["5.7.29","Turtas, kurio nusidėvėjimą, amortizaciją prašoma finansuoti",null,null,1,0,0,0,null,null,null,null,null,"0",null,null,0,0,0]
["5.8","Projektą vykdančio personalo darbo užmokestis ir išlaidos su darbo santykiais susijusiems darbdavio įsipareigojimams",null,null,null,null,{"$f":"SUM(G159:G223)","v":0},{"$f":"SUM(H159:H223)","v":0},null,"Faktiškai gaunamas darbo užmokesti už 1 valandą pagal  pastarųjų 6 mėn. vidurkį, Eur",null,null,null,null,null,null,null,0,0]
["5.8.1","Pareigybės pavadinimas","Darbuotojo vardas pavardė","val.",null,{"$f":"IFERROR(ROUND(AVERAGE(J159:J163),2),\"0\")","v":"0"},{"$f":"ROUND(E159*F159,2)","v":0},{"$f":"ROUND(G159*$D$7,2)","v":0},null,null,null,null,null,null,null,null,null,{"$f":"SUM(T159:AM159)","v":0},{"$f":"H159-R159","v":0}]
[null,null,"Darbuotojo vardas pavardė",null,null,null,null,null,null,null,null,null,null,null,null,null,null,{"$f":"SUM(T160:AM160)","v":0},{"$f":"H160-R160","v":0}]
[null,null,"Darbuotojo vardas pavardė",null,null,null,null,null,null,null,null,null,null,null,null,null,null,0,0]
[null,null,"Darbuotojo vardas pavardė",null,null,null,null,null,null,null,null,null,null,null,null,null,null,0,0]
[null,null,"Darbuotojo vardas pavardė",null,null,null,null,null,null,null,null,null,null,null,null,null,null,0,0]
["5.8.2","Pareigybės pavadinimas","Darbuotojo vardas pavardė","val.",null,{"$f":"IFERROR(ROUND(AVERAGE(J164:J168),2),\"0\")","v":"0"},{"$f":"ROUND(E164*F164,2)","v":0},{"$f":"ROUND(G164*$D$7,2)","v":0},null,null,null,null,null,null,null,null,null,0,0]
[null,null,"Darbuotojo vardas pavardė",null,null,null,null,null,null,null,null,null,null,null,null,null,null,0,0]
[null,null,"Darbuotojo vardas pavardė",null,null,null,null,null,null,null,null,null,null,null,null,null,null,0,0]
[null,null,"Darbuotojo vardas pavardė",null,null,null,null,null,null,null,null,null,null,null,null,null,null,0,0]
[null,null,"Darbuotojo vardas pavardė",null,null,null,null,null,null,null,null,null,null,null,null,null,null,0,0]
["5.8.3","Pareigybės pavadinimas","Darbuotojo vardas pavardė","val.",null,{"$f":"IFERROR(ROUND(AVERAGE(J169:J173),2),\"0\")","v":"0"},{"$f":"ROUND(E169*F169,2)","v":0},{"$f":"ROUND(G169*$D$7,2)","v":0},null,null,null,null,null,null,null,null,null,{"$f":"SUM(T169:AM169)","v":0},{"$f":"H169-R169","v":0}]
[null,null,"Darbuotojo vardas pavardė",null,null,null,null,null,null,null,null,null,null,null,null,null,null,{"$f":"SUM(T170:AM170)","v":0},{"$f":"H170-R170","v":0}]
[null,null,"Darbuotojo vardas pavardė",null,null,null,null,null,null,null,null,null,null,null,null,null,null,0,0]
[null,null,"Darbuotojo vardas pavardė",null,null,null,null,null,null,null,null,null,null,null,null,null,null,0,0]
[null,null,"Darbuotojo vardas pavardė",null,null,null,null,null,null,null,null,null,null,null,null,null,null,0,0]
["5.8.4","Pareigybės pavadinimas","Darbuotojo vardas pavardė","val.",null,{"$f":"IFERROR(ROUND(AVERAGE(J174:J178),2),\"0\")","v":"0"},{"$f":"ROUND(E174*F174,2)","v":0},{"$f":"ROUND(G174*$D$7,2)","v":0},null,null,null,null,null,null,null,null,null,0,0]
[null,null,"Darbuotojo vardas pavardė",null,null,null,null,null,null,null,null,null,null,null,null,null,null,0,0]
[null,null,"Darbuotojo vardas pavardė",null,null,null,null,null,null,null,null,null,null,null,null,null,null,0,0]
[null,null,"Darbuotojo vardas pavardė",null,null,null,null,null,null,null,null,null,null,null,null,null,null,0,0]
[null,null,"Darbuotojo vardas pavardė",null,null,null,null,null,null,null,null,null,null,null,null,null,null,0,0]
["5.8.5","Pareigybės pavadinimas","Darbuotojo vardas pavardė","val.",null,{"$f":"IFERROR(ROUND(AVERAGE(J179:J183),2),\"0\")","v":"0"},{"$f":"ROUND(E179*F179,2)","v":0},{"$f":"ROUND(G179*$D$7,2)","v":0},null,null,null,null,null,null,null,null,null,{"$f":"SUM(T179:AM179)","v":0},{"$f":"H179-R179","v":0}]
[null,null,"Darbuotojo vardas pavardė",null,null,null,null,null,null,null,null,null,null,null,null,null,null,{"$f":"SUM(T180:AM180)","v":0},{"$f":"H180-R180","v":0}]
[null,null,"Darbuotojo vardas pavardė",null,null,null,null,null,null,null,null,null,null,null,null,null,null,0,0]
[null,null,"Darbuotojo vardas pavardė",null,null,null,null,null,null,null,null,null,null,null,null,null,null,0,0]
[null,null,"Darbuotojo vardas pavardė",null,null,null,null,null,null,null,null,null,null,null,null,null,null,0,0]
["5.8.6","Pareigybės pavadinimas","Darbuotojo vardas pavardė","val.",null,{"$f":"IFERROR(ROUND(AVERAGE(J184:J188),2),\"0\")","v":"0"},{"$f":"ROUND(E184*F184,2)","v":0},{"$f":"ROUND(G184*$D$7,2)","v":0},null,null,null,null,null,null,null,null,null,0,0]
[null,null,"Darbuotojo vardas pavardė",null,null,null,null,null,null,null,null,null,null,null,null,null,null,0,0]
[null,null,"Darbuotojo vardas pavardė",null,null,null,null,null,null,null,null,null,null,null,null,null,null,0,0]
[null,null,"Darbuotojo vardas pavardė",null,null,null,null,null,null,null,null,null,null,null,null,null,null,0,0]
[null,null,"Darbuotojo vardas pavardė",null,null,null,null,null,null,null,null,null,null,null,null,null,null,0,0]
["5.8.7","Pareigybės pavadinimas","Darbuotojo vardas pavardė","val.",null,{"$f":"IFERROR(ROUND(AVERAGE(J189:J193),2),\"0\")","v":"0"},{"$f":"ROUND(E189*F189,2)","v":0},{"$f":"ROUND(G189*$D$7,2)","v":0},null,null,null,null,null,null,null,null,null,{"$f":"SUM(T189:AM189)","v":0},{"$f":"H189-R189","v":0}]
[null,null,"Darbuotojo vardas pavardė",null,null,null,null,null,null,null,null,null,null,null,null,null,null,{"$f":"SUM(T190:AM190)","v":0},{"$f":"H190-R190","v":0}]
[null,null,"Darbuotojo vardas pavardė",null,null,null,null,null,null,null,null,null,null,null,null,null,null,0,0]
[null,null,"Darbuotojo vardas pavardė",null,null,null,null,null,null,null,null,null,null,null,null,null,null,0,0]
[null,null,"Darbuotojo vardas pavardė",null,null,null,null,null,null,null,null,null,null,null,null,null,null,0,0]
["5.8.8","Pareigybės pavadinimas","Darbuotojo vardas pavardė","val.",null,{"$f":"IFERROR(ROUND(AVERAGE(J194:J198),2),\"0\")","v":"0"},{"$f":"ROUND(E194*F194,2)","v":0},{"$f":"ROUND(G194*$D$7,2)","v":0},null,null,null,null,null,null,null,null,null,0,0]
[null,null,"Darbuotojo vardas pavardė",null,null,null,null,null,null,null,null,null,null,null,null,null,null,0,0]
[null,null,"Darbuotojo vardas pavardė",null,null,null,null,null,null,null,null,null,null,null,null,null,null,0,0]
[null,null,"Darbuotojo vardas pavardė",null,null,null,null,null,null,null,null,null,null,null,null,null,null,0,0]
[null,null,"Darbuotojo vardas pavardė",null,null,null,null,null,null,null,null,null,null,null,null,null,null,0,0]
["5.8.9","Pareigybės pavadinimas","Darbuotojo vardas pavardė","val.",null,{"$f":"IFERROR(ROUND(AVERAGE(J199:J203),2),\"0\")","v":"0"},{"$f":"ROUND(E199*F199,2)","v":0},{"$f":"ROUND(G199*$D$7,2)","v":0},null,null,null,null,null,null,null,null,null,{"$f":"SUM(T199:AM199)","v":0},{"$f":"H199-R199","v":0}]
[null,null,"Darbuotojo vardas pavardė",null,null,null,null,null,null,null,null,null,null,null,null,null,null,{"$f":"SUM(T200:AM200)","v":0},{"$f":"H200-R200","v":0}]
[null,null,"Darbuotojo vardas pavardė",null,null,null,null,null,null,null,null,null,null,null,null,null,null,0,0]
[null,null,"Darbuotojo vardas pavardė",null,null,null,null,null,null,null,null,null,null,null,null,null,null,0,0]
[null,null,"Darbuotojo vardas pavardė",null,null,null,null,null,null,null,null,null,null,null,null,null,null,0,0]
["5.8.10","Pareigybės pavadinimas","Darbuotojo vardas pavardė","val.",null,{"$f":"IFERROR(ROUND(AVERAGE(J204:J208),2),\"0\")","v":"0"},{"$f":"ROUND(E204*F204,2)","v":0},{"$f":"ROUND(G204*$D$7,2)","v":0},null,null,null,null,null,null,null,null,null,0,0]
[null,null,"Darbuotojo vardas pavardė",null,null,null,null,null,null,null,null,null,null,null,null,null,null,0,0]
[null,null,"Darbuotojo vardas pavardė",null,null,null,null,null,null,null,null,null,null,null,null,null,null,0,0]
[null,null,"Darbuotojo vardas pavardė",null,null,null,null,null,null,null,null,null,null,null,null,null,null,0,0]
[null,null,"Darbuotojo vardas pavardė",null,null,null,null,null,null,null,null,null,null,null,null,null,null,{"$f":"SUM(T208:AM208)","v":0},{"$f":"H208-R208","v":0}]
["5.8.11","Pareigybės pavadinimas","Darbuotojo vardas pavardė","val.",null,{"$f":"IFERROR(ROUND(AVERAGE(J209:J213),2),\"0\")","v":"0"},{"$f":"ROUND(E209*F209,2)","v":0},{"$f":"ROUND(G209*$D$7,2)","v":0},null,null,null,null,null,null,null,null,null,{"$f":"SUM(T209:AM209)","v":0},{"$f":"H209-R209","v":0}]
[null,null,"Darbuotojo vardas pavardė",null,null,null,null,null,null,null,null,null,null,null,null,null,null,0,0]
[null,null,"Darbuotojo vardas pavardė",null,null,null,null,null,null,null,null,null,null,null,null,null,null,0,0]
[null,null,"Darbuotojo vardas pavardė",null,null,null,null,null,null,null,null,null,null,null,null,null,null,0,0]
[null,null,"Darbuotojo vardas pavardė",null,null,null,null,null,null,null,null,null,null,null,null,null,null,0,0]
["5.8.12","Pareigybės pavadinimas","Darbuotojo vardas pavardė","val.",null,{"$f":"IFERROR(ROUND(AVERAGE(J214:J218),2),\"0\")","v":"0"},{"$f":"ROUND(E214*F214,2)","v":0},{"$f":"ROUND(G214*$D$7,2)","v":0},null,null,null,null,null,null,null,null,null,0,0]
[null,null,"Darbuotojo vardas pavardė",null,null,null,null,null,null,null,null,null,null,null,null,null,null,0,0]
[null,null,"Darbuotojo vardas pavardė",null,null,null,null,null,null,null,null,null,null,null,null,null,null,0,0]
[null,null,"Darbuotojo vardas pavardė",null,null,null,null,null,null,null,null,null,null,null,null,null,null,0,0]
[null,null,"Darbuotojo vardas pavardė",null,null,null,null,null,null,null,null,null,null,null,null,null,null,{"$f":"SUM(T218:AM218)","v":0},{"$f":"H218-R218","v":0}]
["5.8.13","Pareigybės pavadinimas","Darbuotojo vardas pavardė","val.",null,{"$f":"IFERROR(ROUND(AVERAGE(J219:J223),2),\"0\")","v":"0"},{"$f":"ROUND(E219*F219,2)","v":0},{"$f":"ROUND(G219*$D$7,2)","v":0},null,null,null,null,null,null,null,null,null,{"$f":"SUM(T219:AM219)","v":0},{"$f":"H219-R219","v":0}]
[null,null,"Darbuotojo vardas pavardė",null,null,null,null,null,null,null,null,null,null,null,null,null,null,0,0]
[null,null,"Darbuotojo vardas pavardė",null,null,null,null,null,null,null,null,null,null,null,null,null,null,0,0]
[null,null,"Darbuotojo vardas pavardė",null,null,null,null,null,null,null,null,null,null,null,null,null,null,0,0]
[null,null,"Darbuotojo vardas pavardė",null,null,null,null,null,null,null,null,null,null,null,null,null,null,0,0]
["5.9","Projektą vykdančio personalo komandiruočių išlaidos",null,null,null,null,{"$f":"SUM(G225,G232,G239,G246,G253,G260,G267,G274,G281,G288)","v":0},{"$f":"SUM(H225,H232,H239,H246,H253,H260,H267,H274,H281,H288)","v":0},null,null,null,null,null,null,null,null,null,0,0]
["5.9.1","Komandiruotės pavadinimas, vieta, trukmė dienomis, vykstančių asmenų skaičius","Iš viso komandiruotei",null,null,null,{"$f":"SUM(G226:G231)","v":0},{"$f":"ROUND(G225*$D$7,2)","v":0},null,null,null,null,null,null,null,null,null,0,0]
[null,null,"Dienpinigiai",null,null,null,{"$f":"ROUND(E226*F226,2)","v":0},null,null,null,null,null,null,null,null,null,null,0,0]
[null,null,"Gyvenamojo ploto nuoma",null,null,null,0,null,null,null,null,null,null,null,null,null,null,0,0]
[null,null,"Kelionės išlaidos",null,null,null,0,null,null,null,null,null,null,null,null,null,null,{"$f":"SUM(T228:AM228)","v":0},{"$f":"H228-R228","v":0}]
[null,null,"Dalyvavimo mokestis",null,null,null,0,null,null,null,null,null,null,null,null,null,null,{"$f":"SUM(T229:AM229)","v":0},{"$f":"H229-R229","v":0}]
[null,null,"Kitos išlaidų pavadinimas",null,null,null,0,null,null,null,null,null,null,null,null,null,null,0,0]
[null,null,"Kitos išlaidų pavadinimas",null,null,null,0,null,null,null,null,null,null,null,null,null,null,0,0]
["5.9.2","Komandiruotės pavadinimas, vieta, trukmė dienomis, vykstančių asmenų skaičius","Iš viso komandiruotei",null,null,null,{"$f":"SUM(G233:G238)","v":0},{"$f":"ROUND(G232*$D$7,2)","v":0},null,null,null,null,null,null,null,null,null,0,0]
[null,null,"Dienpinigiai",null,null,null,0,null,null,null,null,null,null,null,null,null,null,0,0]
[null,null,"Gyvenamojo ploto nuoma",null,null,null,0,null,null,null,null,null,null,null,null,null,null,0,0]
[null,null,"Kelionės išlaidos",null,null,null,0,null,null,null,null,null,null,null,null,null,null,0,0]
[null,null,"Dalyvavimo mokestis",null,null,null,0,null,null,null,null,null,null,null,null,null,null,0,0]
[null,null,"Kitos išlaidų pavadinimas",null,null,null,0,null,null,null,null,null,null,null,null,null,null,0,0]
[null,null,"Kitos išlaidų pavadinimas",null,null,null,0,null,null,null,null,null,null,null,null,null,null,{"$f":"SUM(T238:AM238)","v":0},{"$f":"H238-R238","v":0}]
["5.9.3","Komandiruotės pavadinimas, vieta, trukmė dienomis, vykstančių asmenų skaičius","Iš viso komandiruotei",null,null,null,{"$f":"SUM(G240:G245)","v":0},{"$f":"ROUND(G239*$D$7,2)","v":0},null,null,null,null,null,null,null,null,null,{"$f":"SUM(T239:AM239)","v":0},{"$f":"H239-R239","v":0}]
[null,null,"Dienpinigiai",null,null,null,0,null,null,null,null,null,null,null,null,null,null,0,0]
[null,null,"Gyvenamojo ploto nuoma",null,null,null,0,null,null,null,null,null,null,null,null,null,null,0,0]
[null,null,"Kelionės išlaidos",null,null,null,0,null,null,null,null,null,null,null,null,null,null,0,0]
[null,null,"Dalyvavimo mokestis",null,null,null,0,null,null,null,null,null,null,null,null,null,null,0,0]
[null,null,"Kitos išlaidų pavadinimas",null,null,null,0,null,null,null,null,null,null,null,null,null,null,0,0]
[null,null,"Kitos išlaidų pavadinimas",null,null,null,0,null,null,null,null,null,null,null,null,null,null,0,0]
["5.9.4","Komandiruotės pavadinimas, vieta, trukmė dienomis, vykstančių asmenų skaičius","Iš viso komandiruotei",null,null,null,{"$f":"SUM(G247:G252)","v":0},{"$f":"ROUND(G246*$D$7,2)","v":0},null,null,null,null,null,null,null,null,null,0,0]
[null,null,"Dienpinigiai",null,null,null,0,null,null,null,null,null,null,null,null,null,null,0,0]
[null,null,"Gyvenamojo ploto nuoma",null,null,null,0,null,null,null,null,null,null,null,null,null,null,{"$f":"SUM(T248:AM248)","v":0},{"$f":"H248-R248","v":0}]
[null,null,"Kelionės išlaidos",null,null,null,0,null,null,null,null,null,null,null,null,null,null,{"$f":"SUM(T249:AM249)","v":0},{"$f":"H249-R249","v":0}]
[null,null,"Dalyvavimo mokestis",null,null,null,0,null,null,null,null,null,null,null,null,null,null,0,0]
[null,null,"Kitos išlaidų pavadinimas",null,null,null,0,null,null,null,null,null,null,null,null,null,null,0,0]
[null,null,"Kitos išlaidų pavadinimas",null,null,null,0,null,null,null,null,null,null,null,null,null,null,0,0]
["5.9.5","Komandiruotės pavadinimas, vieta, trukmė dienomis, vykstančių asmenų skaičius","Iš viso komandiruotei",null,null,null,{"$f":"SUM(G254:G259)","v":0},{"$f":"ROUND(G253*$D$7,2)","v":0},null,null,null,null,null,null,null,null,null,0,0]
[null,null,"Dienpinigiai",null,null,null,0,null,null,null,null,null,null,null,null,null,null,0,0]
[null,null,"Gyvenamojo ploto nuoma",null,null,null,0,null,null,null,null,null,null,null,null,null,null,0,0]
[null,null,"Kelionės išlaidos",null,null,null,0,null,null,null,null,null,null,null,null,null,null,0,0]
[null,null,"Dalyvavimo mokestis",null,null,null,0,null,null,null,null,null,null,null,null,null,null,0,0]
[null,null,"Kitos išlaidų pavadinimas",null,null,null,0,null,null,null,null,null,null,null,null,null,null,{"$f":"SUM(T258:AM258)","v":0},{"$f":"H258-R258","v":0}]
[null,null,"Kitos išlaidų pavadinimas",null,null,null,0,null,null,null,null,null,null,null,null,null,null,{"$f":"SUM(T259:AM259)","v":0},{"$f":"H259-R259","v":0}]
["5.9.6","Komandiruotės pavadinimas, vieta, trukmė dienomis, vykstančių asmenų skaičius","Iš viso komandiruotei",null,null,null,{"$f":"SUM(G261:G266)","v":0},{"$f":"ROUND(G260*$D$7,2)","v":0},null,null,null,null,null,null,null,null,null,0,0]
[null,null,"Dienpinigiai",null,null,null,0,null,null,null,null,null,null,null,null,null,null,0,0]
[null,null,"Gyvenamojo ploto nuoma",null,null,null,0,null,null,null,null,null,null,null,null,null,null,0,0]
[null,null,"Kelionės išlaidos",null,null,null,0,null,null,null,null,null,null,null,null,null,null,0,0]
[null,null,"Dalyvavimo mokestis",null,null,null,0,null,null,null,null,null,null,null,null,null,null,0,0]
[null,null,"Kitos išlaidų pavadinimas",null,null,null,0,null,null,null,null,null,null,null,null,null,null,0,0]
[null,null,"Kitos išlaidų pavadinimas",null,null,null,0,null,null,null,null,null,null,null,null,null,null,0,0]
["5.9.7","Komandiruotės pavadinimas, vieta, trukmė dienomis, vykstančių asmenų skaičius","Iš viso komandiruotei",null,null,null,{"$f":"SUM(G268:G273)","v":0},{"$f":"ROUND(G267*$D$7,2)","v":0},null,null,null,null,null,null,null,null,null,0,0]
[null,null,"Dienpinigiai",null,null,null,0,null,null,null,null,null,null,null,null,null,null,{"$f":"SUM(T268:AM268)","v":0},{"$f":"H268-R268","v":0}]
[null,null,"Gyvenamojo ploto nuoma",null,null,null,0,null,null,null,null,null,null,null,null,null,null,{"$f":"SUM(T269:AM269)","v":0},{"$f":"H269-R269","v":0}]
[null,null,"Kelionės išlaidos",null,null,null,0,null,null,null,null,null,null,null,null,null,null,0,0]
[null,null,"Dalyvavimo mokestis",null,null,null,0,null,null,null,null,null,null,null,null,null,null,0,0]
[null,null,"Kitos išlaidų pavadinimas",null,null,null,0,null,null,null,null,null,null,null,null,null,null,0,0]
[null,null,"Kitos išlaidų pavadinimas",null,null,null,0,null,null,null,null,null,null,null,null,null,null,0,0]
["5.9.8","Komandiruotės pavadinimas, vieta, trukmė dienomis, vykstančių asmenų skaičius","Iš viso komandiruotei",null,null,null,{"$f":"SUM(G275:G280)","v":0},{"$f":"ROUND(G274*$D$7,2)","v":0},null,null,null,null,null,null,null,null,null,0,0]
[null,null,"Dienpinigiai",null,null,null,0,null,null,null,null,null,null,null,null,null,null,0,0]
[null,null,"Gyvenamojo ploto nuoma",null,null,null,0,null,null,null,null,null,null,null,null,null,null,0,0]
[null,null,"Kelionės išlaidos",null,null,null,0,null,null,null,null,null,null,null,null,null,null,0,0]
[null,null,"Dalyvavimo mokestis",null,null,null,0,null,null,null,null,null,null,null,null,null,null,{"$f":"SUM(T278:AM278)","v":0},{"$f":"H278-R278","v":0}]
[null,null,"Kitos išlaidų pavadinimas",null,null,null,0,null,null,null,null,null,null,null,null,null,null,{"$f":"SUM(T279:AM279)","v":0},{"$f":"H279-R279","v":0}]
[null,null,"Kitos išlaidų pavadinimas",null,null,null,0,null,null,null,null,null,null,null,null,null,null,0,0]
["5.9.9","Komandiruotės pavadinimas, vieta, trukmė dienomis, vykstančių asmenų skaičius","Iš viso komandiruotei",null,null,null,{"$f":"SUM(G282:G287)","v":0},{"$f":"ROUND(G281*$D$7,2)","v":0},null,null,null,null,null,null,null,null,null,0,0]
[null,null,"Dienpinigiai",null,null,null,0,null,null,null,null,null,null,null,null,null,null,0,0]
[null,null,"Gyvenamojo ploto nuoma",null,null,null,0,null,null,null,null,null,null,null,null,null,null,{"$f":"SUM(T283:AM283)","v":0},{"$f":"H283-R283","v":0}]
[null,null,"Kelionės išlaidos",null,null,null,0,null,null,null,null,null,null,null,null,null,null,{"$f":"SUM(T284:AM284)","v":0},{"$f":"H284-R284","v":0}]
[null,null,"Dalyvavimo mokestis",null,null,null,0,null,null,null,null,null,null,null,null,null,null,{"$f":"SUM(T285:AM285)","v":0},{"$f":"H285-R285","v":0}]
[null,null,"Kitos išlaidų pavadinimas",null,null,null,0,null,null,null,null,null,null,null,null,null,null,{"$f":"SUM(T286:AM286)","v":0},{"$f":"H286-R286","v":0}]
[null,null,"Kitos išlaidų pavadinimas",null,null,null,0,null,null,null,null,null,null,null,null,null,null,0,0]
["5.9.10","Komandiruotės pavadinimas, vieta, trukmė dienomis, vykstančių asmenų skaičius","Iš viso komandiruotei",null,null,null,{"$f":"SUM(G289:G294)","v":0},{"$f":"ROUND(G288*$D$7,2)","v":0},null,null,null,null,null,null,null,null,null,0,0]
[null,null,"Dienpinigiai",null,null,null,0,null,null,null,null,null,null,null,null,null,null,0,0]
[null,null,"Gyvenamojo ploto nuoma",null,null,null,0,null,null,null,null,null,null,null,null,null,null,0,0]
[null,null,"Kelionės išlaidos",null,null,null,{"$f":"ROUND(E291*F291,2)","v":0},null,null,null,null,null,null,null,null,null,null,0,0]
[null,null,"Dalyvavimo mokestis",null,null,null,0,null,null,null,null,null,null,null,null,null,null,0,0]
[null,null,"Kitos išlaidų pavadinimas",null,null,null,0,null,null,null,null,null,null,null,null,null,null,0,0]
[null,null,"Kitos išlaidų pavadinimas",null,null,null,0,null,null,null,null,null,null,null,null,null,null,0,0]
["5.10","Įrangos nuomos išlaidos, veiklai priskirtos pro rata principu. Įranga turi būti tiesiogiai susijusi su projekto įgyvendinimu ir negali būti įsigyta iš ES struktūrinių fondų ar kt. ES finansinių priemonių lėšų",null,null,null,null,{"$f":"SUM(G296:G312)","v":0},{"$f":"SUM(H296:H312)","v":0},null,"Faktinės 1 mėnesio išlaidos, Eur","Naudojimo projekte trukmė, mėn.",null,null,null,null,null,null,0,0]
["5.10.1","Įrangos pavadinimas",null,"pro rata proc.",null,{"$f":"J296*K296","v":0},{"$f":"ROUND(E296*F296,2)","v":0},{"$f":"ROUND(G296*$D$7,2)","v":0},null,null,null,null,null,null,null,null,null,{"$f":"SUM(T296:AM296)","v":0},{"$f":"H296-R296","v":0}]
["5.10.2","Įrangos pavadinimas",null,"pro rata proc.",null,{"$f":"J297*K297","v":0},0,{"$f":"ROUND(G297*$D$7,2)","v":0},null,null,null,null,null,null,null,null,null,{"$f":"SUM(T297:AM297)","v":0},{"$f":"H297-R297","v":0}]
["5.10.3","Įrangos pavadinimas",null,"pro rata proc.",null,0,0,0,null,null,null,null,null,null,null,null,null,0,0]
["5.10.4","Įrangos pavadinimas",null,"pro rata proc.",null,0,0,0,null,null,null,null,null,null,null,null,null,0,0]
["5.10.5","Įrangos pavadinimas",null,"pro rata proc.",null,0,0,0,null,null,null,null,null,null,null,null,null,0,0]
["5.10.6","Įrangos pavadinimas",null,"pro rata proc.",null,0,0,0,null,null,null,null,null,null,null,null,null,0,0]
["5.10.7","Įrangos pavadinimas",null,"pro rata proc.",null,0,0,0,null,null,null,null,null,null,null,null,null,{"$f":"SUM(T302:AM302)","v":0},{"$f":"H302-R302","v":0}]
["5.10.8","Įrangos pavadinimas",null,"pro rata proc.",null,0,0,0,null,null,null,null,null,null,null,null,null,{"$f":"SUM(T303:AM303)","v":0},{"$f":"H303-R303","v":0}]
["5.10.9","Įrangos pavadinimas",null,"pro rata proc.",null,0,0,0,null,null,null,null,null,null,null,null,null,{"$f":"SUM(T304:AM304)","v":0},{"$f":"H304-R304","v":0}]
["5.10.10","Įrangos pavadinimas",null,"pro rata proc.",null,0,0,0,null,null,null,null,null,null,null,null,null,0,0]
["5.10.11","Įrangos pavadinimas",null,"pro rata proc.",null,0,0,0,null,null,null,null,null,null,null,null,null,0,0]
["5.10.12","Įrangos pavadinimas",null,"pro rata proc.",null,0,0,0,null,null,null,null,null,null,null,null,null,{"$f":"SUM(T307:AM307)","v":0},{"$f":"H307-R307","v":0}]
["5.10.13","Įrangos pavadinimas",null,"pro rata proc.",null,0,0,0,null,null,null,null,null,null,null,null,null,{"$f":"SUM(T308:AM308)","v":0},{"$f":"H308-R308","v":0}]
["5.10.14","Įrangos pavadinimas",null,"pro rata proc.",null,0,0,0,null,null,null,null,null,null,null,null,null,{"$f":"SUM(T309:AM309)","v":0},{"$f":"H309-R309","v":0}]
["5.10.15","Įrangos pavadinimas",null,"pro rata proc.",null,0,0,0,null,null,null,null,null,null,null,null,null,{"$f":"SUM(T310:AM310)","v":0},{"$f":"H310-R310","v":0}]
["5.10.16","Įrangos pavadinimas",null,"pro rata proc.",null,0,0,0,null,null,null,null,null,null,null,null,null,0,0]
["5.10.17","Įrangos pavadinimas",null,"pro rata proc.",null,0,0,0,null,null,null,null,null,null,null,null,null,0,0]
["5.11","Pastatų ar patalpų nuomos išlaidos, veiklai priskirtos pro rata principu. Pastatai ar patalpos turi būti tiesiogiai susijusi su projekto įgyvendinimu.",null,null,null,null,{"$f":"SUM(G314:G318)","v":0},{"$f":"SUM(H314:H318)","v":0},null,"Faktinės 1 mėnesio išlaidos, Eur","Naudojimo projekte trukmė, mėn.",null,null,null,null,null,null,0,0]
["5.11.1","Pastato, patalpų adresas",null,"pro rata proc.",null,{"$f":"J314*K314","v":0},{"$f":"ROUND(E314*F314,2)","v":0},{"$f":"ROUND(G314*$D$7,2)","v":0},null,null,null,null,null,null,null,null,null,0,0]
["5.11.2","Pastato, patalpų adresas",null,"pro rata proc.",null,{"$f":"J315*K315","v":0},{"$f":"ROUND(E315*F315,2)","v":0},{"$f":"ROUND(G315*$D$7,2)","v":0},null,null,null,null,null,null,null,null,null,0,0]
["5.11.3","Pastato, patalpų adresas",null,"pro rata proc.",null,0,0,0,null,null,null,null,null,null,null,null,null,0,0]
["5.11.4","Pastato, patalpų adresas",null,"pro rata proc.",null,0,0,0,null,null,null,null,null,null,null,null,null,0,0]
["5.11.5","Pastato, patalpų adresas",null,"pro rata proc.",null,0,0,0,null,null,null,null,null,null,null,null,null,0,0]
["Iš viso tinkamų finansuoti išlaidų:",null,null,null,null,null,{"$f":"G10+G44","v":0},{"$f":"H10+H44","v":0}]

{"sheet":"16","index":10,"n_rows":248,"n_cols":19,"rows_kept":248,"cut":false,"hidden":true,"merged":[[5,3,5,8],[8,1,8,2],[9,1,9,5],[10,1,10,2],[11,1,11,2],[12,1,12,2],[0,3,0,8],[2,0,2,2],[2,3,2,8],[3,3,3,4],[3,5,3,6],[4,0,4,2],[4,3,4,8],[19,1,19,2],[20,1,20,5],[21,1,21,5],[22,1,22,2],[23,1,23,2],[24,1,24,2],[13,1,13,2],[14,1,14,2],[15,1,15,2],[16,1,16,2],[17,1,17,2],[18,1,18,2],[31,1,31,2],[32,1,32,5],[33,1,33,2],[34,1,34,2],[35,1,35,2],[36,1,36,2],[25,1,25,2],[26,1,26,2],[27,1,27,2],[28,1,28,2],[29,1,29,2],[30,1,30,2],[43,1,43,5],[44,1,44,2],[45,1,45,2],[46,1,46,2],[47,1,47,2],[48,1,48,2],[37,1,37,2],[38,1,38,2],[39,1,39,2],[40,1,40,2],[41,1,41,2],[42,1,42,2],[55,1,55,2],[56,1,56,2],[57,1,57,2],[58,1,58,2],[59,1,59,2],[60,1,60,2],[49,1,49,2],[50,1,50,2],[51,1,51,2],[52,1,52,2],[53,1,53,2],[54,1,54,2],[67,1,67,2],[68,1,68,2],[69,1,69,2],[70,1,70,2],[71,1,71,5],[72,1,72,2],[61,1,61,2],[62,1,62,2],[63,1,63,2],[64,1,64,2],[65,1,65,2],[66,1,66,2],[79,1,79,2],[80,1,80,2],[81,1,81,2],[82,1,82,2],[83,1,83,2],[84,1,84,2],[73,1,73,2],[74,1,74,2],[75,1,75,2],[76,1,76,2],[77,1,77,2],[78,1,78,2],[91,1,91,2],[92,1,92,2],[93,1,93,2],[94,1,94,2],[95,1,95,2],[96,1,96,2],[85,1,85,2],[86,1,86,2],[87,1,87,2],[88,1,88,2],[89,1,89,2],[90,1,90,2],[97,1,97,2],[98,1,98,2],[99,1,99,2],[100,1,100,2],[101,1,101,5],[102,0,106,0],[102,1,106,1],[102,3,106,3],[102,4,106,4],[102,5,106,5],[102,6,106,6],[102,7,106,7],[102,8,106,8],[107,0,111,0],[107,1,111,1],[107,3,111,3],[107,4,111,4],[107,5,111,5],[107,6,111,6],[107,7,111,7],[107,8,111,8],[112,0,116,0],[112,1,116,1],[112,3,116,3],[112,4,116,4],[112,5,116,5],[112,6,116,6],[112,7,116,7],[112,8,116,8],[117,7,121,7],[117,8,121,8],[122,0,126,0],[122,1,126,1],[122,3,126,3],[122,4,126,4],[122,5,126,5],[122,6,126,6],[122,7,126,7],[122,8,126,8],[117,0,121,0],[117,1,121,1],[117,3,121,3],[117,4,121,4],[117,5,121,5],[117,6,121,6],[127,7,131,7],[127,8,131,8],[132,0,136,0],[132,1,136,1],[132,3,136,3],[132,4,136,4],[132,5,136,5],[132,6,136,6],[132,7,136,7],[132,8,136,8],[127,0,131,0],[127,1,131,1],[127,3,131,3],[127,4,131,4],[127,5,131,5],[127,6,131,6],[137,7,141,7],[137,8,141,8],[142,0,146,0],[142,1,146,1],[142,3,146,3],[142,4,146,4],[142,5,146,5],[142,6,146,6],[142,7,146,7],[142,8,146,8],[137,0,141,0],[137,1,141,1],[137,3,141,3],[137,4,141,4],[137,5,141,5],[137,6,141,6],[160,0,166,0],[160,1,166,1],[160,8,166,8],[167,0,173,0],[167,1,173,1],[167,8,173,8],[147,7,151,7],[147,8,151,8],[152,1,152,5],[153,0,159,0],[153,1,159,1],[153,8,159,8],[147,0,151,0],[147,1,151,1],[147,3,151,3],[147,4,151,4],[147,5,151,5],[147,6,151,6],[188,0,194,0],[188,1,194,1],[188,8,194,8],[195,0,201,0],[195,1,201,1],[195,8,201,8],[174,0,180,0],[174,1,180,1],[174,8,180,8],[181,0,187,0],[181,1,187,1],[181,8,187,8],[216,0,222,0],[216,1,222,1],[216,8,222,8],[223,1,223,5],[224,1,224,2],[225,1,225,2],[202,0,208,0],[202,1,208,1],[202,8,208,8],[209,0,215,0],[209,1,215,1],[209,8,215,8],[232,1,232,2],[233,1,233,2],[234,1,234,2],[235,1,235,2],[236,1,236,2],[237,1,237,2],[226,1,226,2],[227,1,227,2],[228,1,228,2],[229,1,229,2],[230,1,230,2],[231,1,231,2],[244,1,244,2],[245,1,245,2],[246,1,246,2],[247,0,247,5],[238,1,238,2],[239,1,239,2],[240,1,240,2],[241,1,241,5],[242,1,242,2],[243,1,243,2]]}
[null,null,"Pasirinkite veiklos tipą:"]
[null,null,"Fizinio rodiklio Nr.:"]
["Fizinio rodiklio pavadinimas:"]
[null,null,"Fizinio rodiklio matavimo vnt.:",null,null,"Fizinio rodiklio vnt. skaičius:"]
["Juridinis asmuo (pareiškėjas, partneris), atsakingas už fizinį rodiklį:"]
[null,null,"Vykdytojo tipas:"]
[null,null,"Finansavimo intensyvumas:",null,null,null,"Pasirinkite biudžeto išlaidų kategoriją:","Visos"]
[]
["Eil. Nr.","Išlaidų kategorijos pavadinimas",null,"Matavimo vnt.","Kiekis","Vieneto kaina be PVM, Eur","Tinkamų finansuoti išlaidų suma be PVM, Eur","Finansavimo suma, Eur","Išlaidų pagrindimo dokumentų pavadinimas, data ir Nr."]
[4,"ĮRANGA, ĮRENGINIAI IR KT. TURTAS (techninių žinių ir išradimų patentų arba teisių pagal licencijų sutartį įsigijimo išlaidos)",null,null,null,null,{"$f":"SUM(G11:G20)","v":0},{"$f":"SUM(H11:H20)","v":0}]
["4.1","Išlaidų pavadinimas",null,null,null,null,{"$f":"ROUND(E11*F11,2)","v":0},{"$f":"ROUND(G11*$D$7,2)","v":0}]
["4.2","Išlaidų pavadinimas",null,null,null,null,0,0]
["4.3","Išlaidų pavadinimas",null,null,null,null,0,0]
["4.4","Išlaidų pavadinimas",null,null,null,null,0,0]
["4.5","Išlaidų pavadinimas",null,null,null,null,0,0]
["4.6","Išlaidų pavadinimas",null,null,null,null,0,0]
["4.7","Išlaidų pavadinimas",null,null,null,null,0,0]
["4.8","Išlaidų pavadinimas",null,null,null,null,0,0]
["4.9","Išlaidų pavadinimas",null,null,null,null,0,0]
["4.10","Išlaidų pavadinimas",null,null,null,null,0,0]
[5,"PROJEKTO VYKDYMAS",null,null,null,null,{"$f":"G22+G33+G44+G72+G102+G153+G224+G242","v":0},{"$f":"H22+H33+H44+H72+H102+H153+H224+H242","v":0}]
["5.1","MTEP paslaugos",null,null,null,null,{"$f":"SUM(G23:G32)","v":0},{"$f":"SUM(H23:H32)","v":0}]
["5.1.1","Paslaugos pavadinimas",null,null,null,null,{"$f":"ROUND(E23*F23,2)","v":0},0]
["5.1.2","Paslaugos pavadinimas",null,null,null,null,0,0]
["5.1.3","Paslaugos pavadinimas",null,null,null,null,0,0]
["5.1.4","Paslaugos pavadinimas",null,null,null,null,0,0]
["5.1.5","Paslaugos pavadinimas",null,null,null,null,0,0]
["5.1.6","Paslaugos pavadinimas",null,null,null,null,0,0]
["5.1.7","Paslaugos pavadinimas",null,null,null,null,0,0]
["5.1.8","Paslaugos pavadinimas",null,null,null,null,0,0]
["5.1.9","Paslaugos pavadinimas",null,null,null,null,0,0]
["5.1.10","Paslaugos pavadinimas",null,null,null,null,0,0]
["5.2","Konsultavimo ir lygiavertės paslaugos, teikiamos vien tik projekto MTEP veiklai.",null,null,null,null,{"$f":"SUM(G34:G43)","v":0},{"$f":"SUM(H34:H43)","v":0}]
["5.2.1","Paslaugos pavadinimas",null,null,null,null,{"$f":"ROUND(E34*F34,2)","v":0},0]
["5.2.2","Paslaugos pavadinimas",null,null,null,null,0,0]
["5.2.3","Paslaugos pavadinimas",null,null,null,null,0,0]
["5.2.4","Paslaugos pavadinimas",null,null,null,null,0,0]
["5.2.5","Paslaugos pavadinimas",null,null,null,null,0,0]
["5.2.6","Paslaugos pavadinimas",null,null,null,null,0,0]
["5.2.7","Paslaugos pavadinimas",null,null,null,null,0,0]
["5.2.8","Paslaugos pavadinimas",null,null,null,null,0,0]
["5.2.9","Paslaugos pavadinimas",null,null,null,null,0,0]
["5.2.10","Paslaugos pavadinimas",null,null,null,null,0,0]
["5.3","Medžiagos, mažavertis inventorius, atsargos ir pan. produktai, priskirtini trumpalaikiam turtui ir tiesiogiai susiję su MTEP veikla",null,null,null,null,{"$f":"SUM(G45:G71)","v":0},{"$f":"SUM(H45:H71)","v":0}]
["5.3.1","Išlaidų pavadinimas",null,null,null,null,{"$f":"ROUND(E45*F45,2)","v":0},{"$f":"ROUND(G45*$D$7,2)","v":0}]
["5.3.2","Išlaidų pavadinimas",null,null,null,null,{"$f":"ROUND(E46*F46,2)","v":0},{"$f":"ROUND(G46*$D$7,2)","v":0}]
["5.3.3","Išlaidų pavadinimas",null,null,null,null,{"$f":"ROUND(E47*F47,2)","v":0},{"$f":"ROUND(G47*$D$7,2)","v":0}]
["5.3.4","Išlaidų pavadinimas",null,null,null,null,{"$f":"ROUND(E48*F48,2)","v":0},{"$f":"ROUND(G48*$D$7,2)","v":0}]
["5.3.5","Išlaidų pavadinimas",null,null,null,null,{"$f":"ROUND(E49*F49,2)","v":0},{"$f":"ROUND(G49*$D$7,2)","v":0}]
["5.3.6","Išlaidų pavadinimas",null,null,null,null,0,0]
["5.3.7","Išlaidų pavadinimas",null,null,null,null,0,0]
["5.3.8","Išlaidų pavadinimas",null,null,null,null,0,0]
["5.3.9","Išlaidų pavadinimas",null,null,null,null,0,0]
["5.3.10","Išlaidų pavadinimas",null,null,null,null,0,0]
["5.3.11","Išlaidų pavadinimas",null,null,null,null,0,0]
["5.3.12","Išlaidų pavadinimas",null,null,null,null,0,0]
["5.3.13","Išlaidų pavadinimas",null,null,null,null,0,0]
["5.3.14","Išlaidų pavadinimas",null,null,null,null,0,0]
["5.3.15","Išlaidų pavadinimas",null,null,null,null,0,0]
["5.3.16","Išlaidų pavadinimas",null,null,null,null,0,0]
["5.3.17","Išlaidų pavadinimas",null,null,null,null,0,0]
["5.3.18","Išlaidų pavadinimas",null,null,null,null,0,0]
["5.3.19","Išlaidų pavadinimas",null,null,null,null,0,0]
["5.3.20","Išlaidų pavadinimas",null,null,null,null,0,0]
["5.3.21","Išlaidų pavadinimas",null,null,null,null,0,0]
["5.3.22","Išlaidų pavadinimas",null,null,null,null,0,0]
["5.3.23","Išlaidų pavadinimas",null,null,null,null,0,0]
["5.3.24","Išlaidų pavadinimas",null,null,null,null,0,0]
["5.3.25","Išlaidų pavadinimas",null,null,null,null,0,0]
["5.3.26","Išlaidų pavadinimas",null,null,null,null,0,0]
["5.3.27","Išlaidų pavadinimas",null,null,null,null,0,0]
["5.4","Projekto MTEP veikloms naudojamo ilgalaikio materialaus turto (įrangos, prietaisų, įrankių, įrenginių, mašinų ir įrengimų, pastatų ir (ar) patalpų), nusidėvėjimo sąnaudos, jeigu šiam turtui įsigyti nebuvo naudojamos viešosios (įskaitant ir kitų valstybių) lėšos",null,null,null,null,{"$f":"SUM(G73:G101)","v":0},{"$f":"SUM(H73:H101)","v":0},null,null,"Turto įvedimo į eksploataciją data","Turto įsigijimo vertė, Eur","Turto nudėvėjimo, amortizacijos laikotarpis, mėn.","Numatoma turto likutinė vertė, Eur","1 mėn. nudėvėjimo, amortizacijos suma, Eur","Turto naudojamo projekto reikmėms laikas, mėn.","Turto panaudojimo projekto reikmėms dalis (proc.)","Projektui priskirta turto nusidėvėjimo, amortizacijos suma per projekto laikotarpį, Eur"]
["5.4.1","Turtas, kurio nusidėvėjimą, amortizaciją prašoma finansuoti",null,null,1,{"$f":"R73","v":0},{"$f":"ROUND(E73*F73,2)","v":0},0,null,null,null,null,null,null,{"$f":"IFERROR(ROUND((L73-N73)/M73,2),\"0\")","v":"0"},null,null,{"$f":"O73*P73*Q73","v":0},{"$f":"IF(K73=0,\" \",IF(K73+(M73*30.5)<TODAY(),\"DĖMESIO! Patikrinkite, ar nurodytas turtas dar nėra nudėvėtas, amortizuotas\",\" \"))","v":" "}]
["5.4.2","Turtas, kurio nusidėvėjimą, amortizaciją prašoma finansuoti",null,null,1,0,0,0,null,null,null,null,null,null,{"$f":"IFERROR(ROUND((L74-N74)/M74,2),\"0\")","v":"0"},null,null,{"$f":"O74*P74*Q74","v":0},{"$f":"IF(K74=0,\" \",IF(K74+(M74*30.5)<TODAY(),\"DĖMESIO! Patikrinkite, ar nurodytas turtas dar nėra nudėvėtas, amortizuotas\",\" \"))","v":" "}]
["5.4.3","Turtas, kurio nusidėvėjimą, amortizaciją prašoma finansuoti",null,null,1,0,0,0,null,null,null,null,null,null,"0",null,null,0," "]
["5.4.4","Turtas, kurio nusidėvėjimą, amortizaciją prašoma finansuoti",null,null,1,0,0,0,null,null,null,null,null,null,"0",null,null,0," "]
["5.4.5","Turtas, kurio nusidėvėjimą, amortizaciją prašoma finansuoti",null,null,1,0,0,0,null,null,null,null,null,null,"0",null,null,0," "]
["5.4.6","Turtas, kurio nusidėvėjimą, amortizaciją prašoma finansuoti",null,null,1,0,0,0,null,null,null,null,null,null,"0",null,null,0," "]
["5.4.7","Turtas, kurio nusidėvėjimą, amortizaciją prašoma finansuoti",null,null,1,0,0,0,null,null,null,null,null,null,"0",null,null,0," "]
["5.4.8","Turtas, kurio nusidėvėjimą, amortizaciją prašoma finansuoti",null,null,1,0,0,0,null,null,null,null,null,null,"0",null,null,0," "]
["5.4.9","Turtas, kurio nusidėvėjimą, amortizaciją prašoma finansuoti",null,null,1,0,0,0,null,null,null,null,null,null,"0",null,null,0," "]
["5.4.10","Turtas, kurio nusidėvėjimą, amortizaciją prašoma finansuoti",null,null,1,0,0,0,null,null,null,null,null,null,"0",null,null,0," "]
["5.4.11","Turtas, kurio nusidėvėjimą, amortizaciją prašoma finansuoti",null,null,1,0,0,0,null,null,null,null,null,null,"0",null,null,0," "]
["5.4.12","Turtas, kurio nusidėvėjimą, amortizaciją prašoma finansuoti",null,null,1,0,0,0,null,null,null,null,null,null,"0",null,null,0," "]
["5.4.13","Turtas, kurio nusidėvėjimą, amortizaciją prašoma finansuoti",null,null,1,0,0,0,null,null,null,null,null,null,"0",null,null,0," "]
["5.4.14","Turtas, kurio nusidėvėjimą, amortizaciją prašoma finansuoti",null,null,1,0,0,0,null,null,null,null,null,null,"0",null,null,0," "]
["5.4.15","Turtas, kurio nusidėvėjimą, amortizaciją prašoma finansuoti",null,null,1,0,0,0,null,null,null,null,null,null,"0",null,null,0," "]
["5.4.16","Turtas, kurio nusidėvėjimą, amortizaciją prašoma finansuoti",null,null,1,0,0,0,null,null,null,null,null,null,"0",null,null,0," "]
["5.4.17","Turtas, kurio nusidėvėjimą, amortizaciją prašoma finansuoti",null,null,1,0,0,0,null,null,null,null,null,null,"0",null,null,0," "]
["5.4.18","Turtas, kurio nusidėvėjimą, amortizaciją prašoma finansuoti",null,null,1,0,0,0,null,null,null,null,null,null,"0",null,null,0," "]
["5.4.19","Turtas, kurio nusidėvėjimą, amortizaciją prašoma finansuoti",null,null,1,0,0,0,null,null,null,null,null,null,"0",null,null,0," "]
["5.4.20","Turtas, kurio nusidėvėjimą, amortizaciją prašoma finansuoti",null,null,1,0,0,0,null,null,null,null,null,null,"0",null,null,0," "]
["5.4.21","Turtas, kurio nusidėvėjimą, amortizaciją prašoma finansuoti",null,null,1,0,0,0,null,null,null,null,null,null,"0",null,null,0," "]
["5.4.22","Turtas, kurio nusidėvėjimą, amortizaciją prašoma finansuoti",null,null,1,0,0,0,null,null,null,null,null,null,"0",null,null,0," "]
["5.4.23","Turtas, kurio nusidėvėjimą, amortizaciją prašoma finansuoti",null,null,1,0,0,0,null,null,null,null,null,null,"0",null,null,0," "]
["5.4.24","Turtas, kurio nusidėvėjimą, amortizaciją prašoma finansuoti",null,null,1,0,0,0,null,null,null,null,null,null,"0",null,null,0," "]
["5.4.25","Turtas, kurio nusidėvėjimą, amortizaciją prašoma finansuoti",null,null,1,0,0,0,null,null,null,null,null,null,"0",null,null,0," "]
["5.4.26","Turtas, kurio nusidėvėjimą, amortizaciją prašoma finansuoti",null,null,1,0,0,0,null,null,null,null,null,null,"0",null,null,0," "]
["5.4.27","Turtas, kurio nusidėvėjimą, amortizaciją prašoma finansuoti",null,null,1,0,0,0,null,null,null,null,null,null,"0",null,null,0," "]
["5.4.28","Turtas, kurio nusidėvėjimą, amortizaciją prašoma finansuoti",null,null,1,0,0,0,null,null,null,null,null,null,"0",null,null,0," "]
["5.4.29","Turtas, kurio nusidėvėjimą, amortizaciją prašoma finansuoti",null,null,1,0,0,0,null,null,null,null,null,null,"0",null,null,0," "]
["5.5","Projektą vykdančio personalo darbo užmokestis ir išlaidos su darbo santykiais susijusiems darbdavio įsipareigojimams",null,null,null,null,{"$f":"SUM(G103:G152)","v":0},{"$f":"SUM(H103:H152)","v":0},null,null,"Faktiškai gaunamas darbo užmokesti už 1 valandą pagal  pastarųjų 6 mėn. vidurkį, Eur"]
["5.5.1","Pareigybės pavadinimas","Darbuotojo vardas pavardė","val.",null,{"$f":"IFERROR(ROUND(AVERAGE(K103:K107),2),\"0\")","v":"0"},{"$f":"ROUND(E103*F103,2)","v":0},{"$f":"ROUND(G103*$D$7,2)","v":0}]
[null,null,"Darbuotojo vardas pavardė"]
[null,null,"Darbuotojo vardas pavardė"]
[null,null,"Darbuotojo vardas pavardė"]
[null,null,"Darbuotojo vardas pavardė"]
["5.5.2","Pareigybės pavadinimas","Darbuotojo vardas pavardė","val.",null,{"$f":"IFERROR(ROUND(AVERAGE(K108:K112),2),\"0\")","v":"0"},{"$f":"ROUND(E108*F108,2)","v":0},{"$f":"ROUND(G108*$D$7,2)","v":0}]
[null,null,"Darbuotojo vardas pavardė"]
[null,null,"Darbuotojo vardas pavardė"]
[null,null,"Darbuotojo vardas pavardė"]
[null,null,"Darbuotojo vardas pavardė"]
["5.5.3","Pareigybės pavadinimas","Darbuotojo vardas pavardė","val.",null,{"$f":"IFERROR(ROUND(AVERAGE(K113:K117),2),\"0\")","v":"0"},{"$f":"ROUND(E113*F113,2)","v":0},{"$f":"ROUND(G113*$D$7,2)","v":0}]
[null,null,"Darbuotojo vardas pavardė"]
[null,null,"Darbuotojo vardas pavardė"]
[null,null,"Darbuotojo vardas pavardė"]
[null,null,"Darbuotojo vardas pavardė"]
["5.5.4","Pareigybės pavadinimas","Darbuotojo vardas pavardė","val.",null,{"$f":"IFERROR(ROUND(AVERAGE(K118:K122),2),\"0\")","v":"0"},{"$f":"ROUND(E118*F118,2)","v":0},{"$f":"ROUND(G118*$D$7,2)","v":0}]
[null,null,"Darbuotojo vardas pavardė"]
[null,null,"Darbuotojo vardas pavardė"]
[null,null,"Darbuotojo vardas pavardė"]
[null,null,"Darbuotojo vardas pavardė"]
["5.5.5","Pareigybės pavadinimas","Darbuotojo vardas pavardė","val.",null,{"$f":"IFERROR(ROUND(AVERAGE(K123:K127),2),\"0\")","v":"0"},{"$f":"ROUND(E123*F123,2)","v":0},{"$f":"ROUND(G123*$D$7,2)","v":0}]
[null,null,"Darbuotojo vardas pavardė"]
[null,null,"Darbuotojo vardas pavardė"]
[null,null,"Darbuotojo vardas pavardė"]
[null,null,"Darbuotojo vardas pavardė"]
["5.5.6","Pareigybės pavadinimas","Darbuotojo vardas pavardė","val.",null,{"$f":"IFERROR(ROUND(AVERAGE(K128:K132),2),\"0\")","v":"0"},{"$f":"ROUND(E128*F128,2)","v":0},{"$f":"ROUND(G128*$D$7,2)","v":0}]
[null,null,"Darbuotojo vardas pavardė"]
[null,null,"Darbuotojo vardas pavardė"]
[null,null,"Darbuotojo vardas pavardė"]
[null,null,"Darbuotojo vardas pavardė"]
["5.5.7","Pareigybės pavadinimas","Darbuotojo vardas pavardė","val.",null,{"$f":"IFERROR(ROUND(AVERAGE(K133:K137),2),\"0\")","v":"0"},{"$f":"ROUND(E133*F133,2)","v":0},{"$f":"ROUND(G133*$D$7,2)","v":0}]
[null,null,"Darbuotojo vardas pavardė"]
[null,null,"Darbuotojo vardas pavardė"]
[null,null,"Darbuotojo vardas pavardė"]
[null,null,"Darbuotojo vardas pavardė"]
["5.5.8","Pareigybės pavadinimas","Darbuotojo vardas pavardė","val.",null,{"$f":"IFERROR(ROUND(AVERAGE(K138:K142),2),\"0\")","v":"0"},{"$f":"ROUND(E138*F138,2)","v":0},{"$f":"ROUND(G138*$D$7,2)","v":0}]
[null,null,"Darbuotojo vardas pavardė"]
[null,null,"Darbuotojo vardas pavardė"]
[null,null,"Darbuotojo vardas pavardė"]
[null,null,"Darbuotojo vardas pavardė"]
["5.5.9","Pareigybės pavadinimas","Darbuotojo vardas pavardė","val.",null,{"$f":"IFERROR(ROUND(AVERAGE(K143:K147),2),\"0\")","v":"0"},{"$f":"ROUND(E143*F143,2)","v":0},{"$f":"ROUND(G143*$D$7,2)","v":0}]
[null,null,"Darbuotojo vardas pavardė"]
[null,null,"Darbuotojo vardas pavardė"]
[null,null,"Darbuotojo vardas pavardė"]
[null,null,"Darbuotojo vardas pavardė"]
["5.5.10","Pareigybės pavadinimas","Darbuotojo vardas pavardė","val.",null,{"$f":"IFERROR(ROUND(AVERAGE(K148:K152),2),\"0\")","v":"0"},{"$f":"ROUND(E148*F148,2)","v":0},{"$f":"ROUND(G148*$D$7,2)","v":0}]
[null,null,"Darbuotojo vardas pavardė"]
[null,null,"Darbuotojo vardas pavardė"]
[null,null,"Darbuotojo vardas pavardė"]
[null,null,"Darbuotojo vardas pavardė"]
["5.6","Projektą vykdančio personalo komandiruočių išlaidos",null,null,null,null,{"$f":"SUM(G154,G161,G168,G175,G182,G189,G196,G203,G210,G217)","v":0},{"$f":"SUM(H154,H161,H168,H175,H182,H189,H196,H203,H210,H217)","v":0}]
["5.6.1","Komandiruotės pavadinimas, vieta, trukmė dienomis, vykstančių asmenų skaičius","Iš viso komandiruotei",null,null,null,{"$f":"SUM(G155:G160)","v":0},{"$f":"ROUND(G154*$D$7,2)","v":0}]
[null,null,"Dienpinigiai",null,null,null,{"$f":"ROUND(E155*F155,2)","v":0}]
[null,null,"Gyvenamojo ploto nuoma",null,null,null,0]
[null,null,"Kelionės išlaidos",null,null,null,0]
[null,null,"Dalyvavimo mokestis",null,null,null,0]
[null,null,"Kitos išlaidų pavadinimas",null,null,null,0]
[null,null,"Kitos išlaidų pavadinimas",null,null,null,0]
["5.6.2","Komandiruotės pavadinimas, vieta, trukmė dienomis, vykstančių asmenų skaičius","Iš viso komandiruotei",null,null,null,{"$f":"SUM(G162:G167)","v":0},{"$f":"ROUND(G161*$D$7,2)","v":0}]
[null,null,"Dienpinigiai",null,null,null,{"$f":"ROUND(E162*F162,2)","v":0}]
[null,null,"Gyvenamojo ploto nuoma",null,null,null,0]
[null,null,"Kelionės išlaidos",null,null,null,0]
[null,null,"Dalyvavimo mokestis",null,null,null,0]
[null,null,"Kitos išlaidų pavadinimas",null,null,null,0]
[null,null,"Kitos išlaidų pavadinimas",null,null,null,0]
["5.6.3","Komandiruotės pavadinimas, vieta, trukmė dienomis, vykstančių asmenų skaičius","Iš viso komandiruotei",null,null,null,{"$f":"SUM(G169:G174)","v":0},{"$f":"ROUND(G168*$D$7,2)","v":0}]
[null,null,"Dienpinigiai",null,null,null,{"$f":"ROUND(E169*F169,2)","v":0}]
[null,null,"Gyvenamojo ploto nuoma",null,null,null,0]
[null,null,"Kelionės išlaidos",null,null,null,0]
[null,null,"Dalyvavimo mokestis",null,null,null,0]
[null,null,"Kitos išlaidų pavadinimas",null,null,null,0]
[null,null,"Kitos išlaidų pavadinimas",null,null,null,0]
["5.6.4","Komandiruotės pavadinimas, vieta, trukmė dienomis, vykstančių asmenų skaičius","Iš viso komandiruotei",null,null,null,{"$f":"SUM(G176:G181)","v":0},{"$f":"ROUND(G175*$D$7,2)","v":0}]
[null,null,"Dienpinigiai",null,null,null,{"$f":"ROUND(E176*F176,2)","v":0}]
[null,null,"Gyvenamojo ploto nuoma",null,null,null,0]
[null,null,"Kelionės išlaidos",null,null,null,0]
[null,null,"Dalyvavimo mokestis",null,null,null,0]
[null,null,"Kitos išlaidų pavadinimas",null,null,null,0]
[null,null,"Kitos išlaidų pavadinimas",null,null,null,0]
["5.6.5","Komandiruotės pavadinimas, vieta, trukmė dienomis, vykstančių asmenų skaičius","Iš viso komandiruotei",null,null,null,{"$f":"SUM(G183:G188)","v":0},{"$f":"ROUND(G182*$D$7,2)","v":0}]
[null,null,"Dienpinigiai",null,null,null,{"$f":"ROUND(E183*F183,2)","v":0}]
[null,null,"Gyvenamojo ploto nuoma",null,null,null,0]
[null,null,"Kelionės išlaidos",null,null,null,0]
[null,null,"Dalyvavimo mokestis",null,null,null,0]
[null,null,"Kitos išlaidų pavadinimas",null,null,null,0]
[null,null,"Kitos išlaidų pavadinimas",null,null,null,0]
["5.6.6","Komandiruotės pavadinimas, vieta, trukmė dienomis, vykstančių asmenų skaičius","Iš viso komandiruotei",null,null,null,{"$f":"SUM(G190:G195)","v":0},{"$f":"ROUND(G189*$D$7,2)","v":0}]
[null,null,"Dienpinigiai",null,null,null,{"$f":"ROUND(E190*F190,2)","v":0}]
[null,null,"Gyvenamojo ploto nuoma",null,null,null,0]
[null,null,"Kelionės išlaidos",null,null,null,0]
[null,null,"Dalyvavimo mokestis",null,null,null,0]
[null,null,"Kitos išlaidų pavadinimas",null,null,null,0]
[null,null,"Kitos išlaidų pavadinimas",null,null,null,0]
["5.6.7","Komandiruotės pavadinimas, vieta, trukmė dienomis, vykstančių asmenų skaičius","Iš viso komandiruotei",null,null,null,{"$f":"SUM(G197:G202)","v":0},{"$f":"ROUND(G196*$D$7,2)","v":0}]
[null,null,"Dienpinigiai",null,null,null,{"$f":"ROUND(E197*F197,2)","v":0}]
[null,null,"Gyvenamojo ploto nuoma",null,null,null,0]
[null,null,"Kelionės išlaidos",null,null,null,0]
[null,null,"Dalyvavimo mokestis",null,null,null,0]
[null,null,"Kitos išlaidų pavadinimas",null,null,null,0]
[null,null,"Kitos išlaidų pavadinimas",null,null,null,0]
["5.6.8","Komandiruotės pavadinimas, vieta, trukmė dienomis, vykstančių asmenų skaičius","Iš viso komandiruotei",null,null,null,{"$f":"SUM(G204:G209)","v":0},{"$f":"ROUND(G203*$D$7,2)","v":0}]
[null,null,"Dienpinigiai",null,null,null,{"$f":"ROUND(E204*F204,2)","v":0}]
[null,null,"Gyvenamojo ploto nuoma",null,null,null,0]
[null,null,"Kelionės išlaidos",null,null,null,0]
[null,null,"Dalyvavimo mokestis",null,null,null,0]
[null,null,"Kitos išlaidų pavadinimas",null,null,null,0]
[null,null,"Kitos išlaidų pavadinimas",null,null,null,0]
["5.6.9","Komandiruotės pavadinimas, vieta, trukmė dienomis, vykstančių asmenų skaičius","Iš viso komandiruotei",null,null,null,{"$f":"SUM(G211:G216)","v":0},{"$f":"ROUND(G210*$D$7,2)","v":0}]
[null,null,"Dienpinigiai",null,null,null,{"$f":"ROUND(E211*F211,2)","v":0}]
[null,null,"Gyvenamojo ploto nuoma",null,null,null,0]
[null,null,"Kelionės išlaidos",null,null,null,0]
[null,null,"Dalyvavimo mokestis",null,null,null,0]
[null,null,"Kitos išlaidų pavadinimas",null,null,null,0]
[null,null,"Kitos išlaidų pavadinimas",null,null,null,0]
["5.6.10","Komandiruotės pavadinimas, vieta, trukmė dienomis, vykstančių asmenų skaičius","Iš viso komandiruotei",null,null,null,{"$f":"SUM(G218:G223)","v":0},{"$f":"ROUND(G217*$D$7,2)","v":0}]
[null,null,"Dienpinigiai",null,null,null,{"$f":"ROUND(E218*F218,2)","v":0}]
[null,null,"Gyvenamojo ploto nuoma",null,null,null,0]
[null,null,"Kelionės išlaidos",null,null,null,0]
[null,null,"Dalyvavimo mokestis",null,null,null,0]
[null,null,"Kitos išlaidų pavadinimas",null,null,null,0]
[null,null,"Kitos išlaidų pavadinimas",null,null,null,0]
["5.7","Įrangos nuomos išlaidos, veiklai priskirtos pro rata principu. Įranga turi būti tiesiogiai susijusi su projekto įgyvendinimu ir negali būti įsigyta iš ES struktūrinių fondų ar kt. ES finansinių priemonių lėšų",null,null,null,null,{"$f":"SUM(G225:G241)","v":0},{"$f":"SUM(H225:H241)","v":0},null,null,"Faktinės 1 mėnesio išlaidos, Eur","Naudojimo projekte trukmė, mėn."]
["5.7.1","Įrangos pavadinimas",null,"pro rata proc.",null,{"$f":"K225*L225","v":0},{"$f":"ROUND(E225*F225,2)","v":0},{"$f":"ROUND(G225*$D$7,2)","v":0}]
["5.7.2","Įrangos pavadinimas",null,"pro rata proc.",null,{"$f":"K226*L226","v":0},0,{"$f":"ROUND(G226*$D$7,2)","v":0}]
["5.7.3","Įrangos pavadinimas",null,"pro rata proc.",null,0,0,0]
["5.7.4","Įrangos pavadinimas",null,"pro rata proc.",null,0,0,0]
["5.7.5","Įrangos pavadinimas",null,"pro rata proc.",null,0,0,0]
["5.7.6","Įrangos pavadinimas",null,"pro rata proc.",null,0,0,0]
["5.7.7","Įrangos pavadinimas",null,"pro rata proc.",null,0,0,0]
["5.7.8","Įrangos pavadinimas",null,"pro rata proc.",null,0,0,0]
["5.7.9","Įrangos pavadinimas",null,"pro rata proc.",null,0,0,0]
["5.7.10","Įrangos pavadinimas",null,"pro rata proc.",null,0,0,0]
["5.7.11","Įrangos pavadinimas",null,"pro rata proc.",null,0,0,0]
["5.7.12","Įrangos pavadinimas",null,"pro rata proc.",null,0,0,0]
["5.7.13","Įrangos pavadinimas",null,"pro rata proc.",null,0,0,0]
["5.7.14","Įrangos pavadinimas",null,"pro rata proc.",null,{"$f":"K238*L238","v":0},0,{"$f":"ROUND(G238*$D$7,2)","v":0}]
["5.7.15","Įrangos pavadinimas",null,"pro rata proc.",null,{"$f":"K239*L239","v":0},0,{"$f":"ROUND(G239*$D$7,2)","v":0}]
["5.7.16","Įrangos pavadinimas",null,"pro rata proc.",null,{"$f":"K240*L240","v":0},0,{"$f":"ROUND(G240*$D$7,2)","v":0}]
["5.7.17","Įrangos pavadinimas",null,"pro rata proc.",null,{"$f":"K241*L241","v":0},0,{"$f":"ROUND(G241*$D$7,2)","v":0}]
["5.8","Pastatų ar patalpų nuomos išlaidos, veiklai priskirtos pro rata principu. Pastatai ar patalpos turi būti tiesiogiai susijusi su projekto įgyvendinimu.",null,null,null,null,{"$f":"SUM(G243:G247)","v":0},{"$f":"SUM(H243:H247)","v":0},null,null,"Faktinės 1 mėnesio išlaidos, Eur","Naudojimo projekte trukmė, mėn."]
["5.8.1","Pastato, patalpų adresas",null,"pro rata proc.",null,{"$f":"K243*L243","v":0},{"$f":"ROUND(E243*F243,2)","v":0},{"$f":"ROUND(G243*$D$7,2)","v":0}]
["5.8.2","Pastato, patalpų adresas",null,"pro rata proc.",null,{"$f":"K244*L244","v":0},{"$f":"ROUND(E244*F244,2)","v":0},{"$f":"ROUND(G244*$D$7,2)","v":0}]
["5.8.3","Pastato, patalpų adresas",null,"pro rata proc.",null,{"$f":"K245*L245","v":0},{"$f":"ROUND(E245*F245,2)","v":0},{"$f":"ROUND(G245*$D$7,2)","v":0}]
["5.8.4","Pastato, patalpų adresas",null,"pro rata proc.",null,{"$f":"K246*L246","v":0},{"$f":"ROUND(E246*F246,2)","v":0},{"$f":"ROUND(G246*$D$7,2)","v":0}]
["5.8.5","Pastato, patalpų adresas",null,"pro rata proc.",null,{"$f":"K247*L247","v":0},{"$f":"ROUND(E247*F247,2)","v":0},{"$f":"ROUND(G247*$D$7,2)","v":0}]
["Iš viso tinkamų finansuoti išlaidų:",null,null,null,null,null,{"$f":"G10+G21","v":0},{"$f":"H10+H21","v":0}]

{"sheet":"17","index":11,"n_rows":248,"n_cols":19,"rows_kept":248,"cut":false,"hidden":true,"merged":[[5,3,5,8],[8,1,8,2],[9,1,9,5],[10,1,10,2],[11,1,11,2],[12,1,12,2],[0,3,0,8],[2,0,2,2],[2,3,2,8],[3,3,3,4],[3,5,3,6],[4,0,4,2],[4,3,4,8],[19,1,19,2],[20,1,20,5],[21,1,21,5],[22,1,22,2],[23,1,23,2],[24,1,24,2],[13,1,13,2],[14,1,14,2],[15,1,15,2],[16,1,16,2],[17,1,17,2],[18,1,18,2],[31,1,31,2],[32,1,32,5],[33,1,33,2],[34,1,34,2],[35,1,35,2],[36,1,36,2],[25,1,25,2],[26,1,26,2],[27,1,27,2],[28,1,28,2],[29,1,29,2],[30,1,30,2],[43,1,43,5],[44,1,44,2],[45,1,45,2],[46,1,46,2],[47,1,47,2],[48,1,48,2],[37,1,37,2],[38,1,38,2],[39,1,39,2],[40,1,40,2],[41,1,41,2],[42,1,42,2],[55,1,55,2],[56,1,56,2],[57,1,57,2],[58,1,58,2],[59,1,59,2],[60,1,60,2],[49,1,49,2],[50,1,50,2],[51,1,51,2],[52,1,52,2],[53,1,53,2],[54,1,54,2],[67,1,67,2],[68,1,68,2],[69,1,69,2],[70,1,70,2],[71,1,71,5],[72,1,72,2],[61,1,61,2],[62,1,62,2],[63,1,63,2],[64,1,64,2],[65,1,65,2],[66,1,66,2],[79,1,79,2],[80,1,80,2],[81,1,81,2],[82,1,82,2],[83,1,83,2],[84,1,84,2],[73,1,73,2],[74,1,74,2],[75,1,75,2],[76,1,76,2],[77,1,77,2],[78,1,78,2],[91,1,91,2],[92,1,92,2],[93,1,93,2],[94,1,94,2],[95,1,95,2],[96,1,96,2],[85,1,85,2],[86,1,86,2],[87,1,87,2],[88,1,88,2],[89,1,89,2],[90,1,90,2],[97,1,97,2],[98,1,98,2],[99,1,99,2],[100,1,100,2],[101,1,101,5],[102,0,106,0],[102,1,106,1],[102,3,106,3],[102,4,106,4],[102,5,106,5],[102,6,106,6],[102,7,106,7],[102,8,106,8],[107,0,111,0],[107,1,111,1],[107,3,111,3],[107,4,111,4],[107,5,111,5],[107,6,111,6],[107,7,111,7],[107,8,111,8],[112,0,116,0],[112,1,116,1],[112,3,116,3],[112,4,116,4],[112,5,116,5],[112,6,116,6],[112,7,116,7],[112,8,116,8],[117,7,121,7],[117,8,121,8],[122,0,126,0],[122,1,126,1],[122,3,126,3],[122,4,126,4],[122,5,126,5],[122,6,126,6],[122,7,126,7],[122,8,126,8],[117,0,121,0],[117,1,121,1],[117,3,121,3],[117,4,121,4],[117,5,121,5],[117,6,121,6],[127,7,131,7],[127,8,131,8],[132,0,136,0],[132,1,136,1],[132,3,136,3],[132,4,136,4],[132,5,136,5],[132,6,136,6],[132,7,136,7],[132,8,136,8],[127,0,131,0],[127,1,131,1],[127,3,131,3],[127,4,131,4],[127,5,131,5],[127,6,131,6],[137,7,141,7],[137,8,141,8],[142,0,146,0],[142,1,146,1],[142,3,146,3],[142,4,146,4],[142,5,146,5],[142,6,146,6],[142,7,146,7],[142,8,146,8],[137,0,141,0],[137,1,141,1],[137,3,141,3],[137,4,141,4],[137,5,141,5],[137,6,141,6],[160,0,166,0],[160,1,166,1],[160,8,166,8],[167,0,173,0],[167,1,173,1],[167,8,173,8],[147,7,151,7],[147,8,151,8],[152,1,152,5],[153,0,159,0],[153,1,159,1],[153,8,159,8],[147,0,151,0],[147,1,151,1],[147,3,151,3],[147,4,151,4],[147,5,151,5],[147,6,151,6],[188,0,194,0],[188,1,194,1],[188,8,194,8],[195,0,201,0],[195,1,201,1],[195,8,201,8],[174,0,180,0],[174,1,180,1],[174,8,180,8],[181,0,187,0],[181,1,187,1],[181,8,187,8],[216,0,222,0],[216,1,222,1],[216,8,222,8],[223,1,223,5],[224,1,224,2],[225,1,225,2],[202,0,208,0],[202,1,208,1],[202,8,208,8],[209,0,215,0],[209,1,215,1],[209,8,215,8],[232,1,232,2],[233,1,233,2],[234,1,234,2],[235,1,235,2],[236,1,236,2],[237,1,237,2],[226,1,226,2],[227,1,227,2],[228,1,228,2],[229,1,229,2],[230,1,230,2],[231,1,231,2],[244,1,244,2],[245,1,245,2],[246,1,246,2],[247,0,247,5],[238,1,238,2],[239,1,239,2],[240,1,240,2],[241,1,241,5],[242,1,242,2],[243,1,243,2]]}
[null,null,"Pasirinkite veiklos tipą:"]
[null,null,"Fizinio rodiklio Nr.:"]
["Fizinio rodiklio pavadinimas:"]
[null,null,"Fizinio rodiklio matavimo vnt.:",null,null,"Fizinio rodiklio vnt. skaičius:"]
["Juridinis asmuo (pareiškėjas, partneris), atsakingas už fizinį rodiklį:"]
[null,null,"Vykdytojo tipas:"]
[null,null,"Finansavimo intensyvumas:",null,null,null,"Pasirinkite biudžeto išlaidų kategoriją:","Visos"]
[]
["Eil. Nr.","Išlaidų kategorijos pavadinimas",null,"Matavimo vnt.","Kiekis","Vieneto kaina be PVM, Eur","Tinkamų finansuoti išlaidų suma be PVM, Eur","Finansavimo suma, Eur","Išlaidų pagrindimo dokumentų pavadinimas, data ir Nr."]
[4,"ĮRANGA, ĮRENGINIAI IR KT. TURTAS (techninių žinių ir išradimų patentų arba teisių pagal licencijų sutartį įsigijimo išlaidos)",null,null,null,null,{"$f":"SUM(G11:G20)","v":0},{"$f":"SUM(H11:H20)","v":0}]
["4.1","Išlaidų pavadinimas",null,null,null,null,{"$f":"ROUND(E11*F11,2)","v":0},{"$f":"ROUND(G11*$D$7,2)","v":0}]
["4.2","Išlaidų pavadinimas",null,null,null,null,0,0]
["4.3","Išlaidų pavadinimas",null,null,null,null,0,0]
["4.4","Išlaidų pavadinimas",null,null,null,null,0,0]
["4.5","Išlaidų pavadinimas",null,null,null,null,0,0]
["4.6","Išlaidų pavadinimas",null,null,null,null,0,0]
["4.7","Išlaidų pavadinimas",null,null,null,null,0,0]
["4.8","Išlaidų pavadinimas",null,null,null,null,0,0]
["4.9","Išlaidų pavadinimas",null,null,null,null,0,0]
["4.10","Išlaidų pavadinimas",null,null,null,null,0,0]
[5,"PROJEKTO VYKDYMAS",null,null,null,null,{"$f":"G22+G33+G44+G72+G102+G153+G224+G242","v":0},{"$f":"H22+H33+H44+H72+H102+H153+H224+H242","v":0}]
["5.1","MTEP paslaugos",null,null,null,null,{"$f":"SUM(G23:G32)","v":0},{"$f":"SUM(H23:H32)","v":0}]
["5.1.1","Paslaugos pavadinimas",null,null,null,null,{"$f":"ROUND(E23*F23,2)","v":0},0]
["5.1.2","Paslaugos pavadinimas",null,null,null,null,0,0]
["5.1.3","Paslaugos pavadinimas",null,null,null,null,0,0]
["5.1.4","Paslaugos pavadinimas",null,null,null,null,0,0]
["5.1.5","Paslaugos pavadinimas",null,null,null,null,0,0]
["5.1.6","Paslaugos pavadinimas",null,null,null,null,0,0]
["5.1.7","Paslaugos pavadinimas",null,null,null,null,0,0]
["5.1.8","Paslaugos pavadinimas",null,null,null,null,0,0]
["5.1.9","Paslaugos pavadinimas",null,null,null,null,0,0]
["5.1.10","Paslaugos pavadinimas",null,null,null,null,0,0]
["5.2","Konsultavimo ir lygiavertės paslaugos, teikiamos vien tik projekto MTEP veiklai.",null,null,null,null,{"$f":"SUM(G34:G43)","v":0},{"$f":"SUM(H34:H43)","v":0}]
["5.2.1","Paslaugos pavadinimas",null,null,null,null,{"$f":"ROUND(E34*F34,2)","v":0},0]
["5.2.2","Paslaugos pavadinimas",null,null,null,null,0,0]
["5.2.3","Paslaugos pavadinimas",null,null,null,null,0,0]
["5.2.4","Paslaugos pavadinimas",null,null,null,null,0,0]
["5.2.5","Paslaugos pavadinimas",null,null,null,null,0,0]
["5.2.6","Paslaugos pavadinimas",null,null,null,null,0,0]
["5.2.7","Paslaugos pavadinimas",null,null,null,null,0,0]
["5.2.8","Paslaugos pavadinimas",null,null,null,null,0,0]
["5.2.9","Paslaugos pavadinimas",null,null,null,null,0,0]
["5.2.10","Paslaugos pavadinimas",null,null,null,null,0,0]
["5.3","Medžiagos, mažavertis inventorius, atsargos ir pan. produktai, priskirtini trumpalaikiam turtui ir tiesiogiai susiję su MTEP veikla",null,null,null,null,{"$f":"SUM(G45:G71)","v":0},{"$f":"SUM(H45:H71)","v":0}]
["5.3.1","Išlaidų pavadinimas",null,null,null,null,{"$f":"ROUND(E45*F45,2)","v":0},{"$f":"ROUND(G45*$D$7,2)","v":0}]
["5.3.2","Išlaidų pavadinimas",null,null,null,null,{"$f":"ROUND(E46*F46,2)","v":0},{"$f":"ROUND(G46*$D$7,2)","v":0}]
["5.3.3","Išlaidų pavadinimas",null,null,null,null,{"$f":"ROUND(E47*F47,2)","v":0},{"$f":"ROUND(G47*$D$7,2)","v":0}]
["5.3.4","Išlaidų pavadinimas",null,null,null,null,{"$f":"ROUND(E48*F48,2)","v":0},{"$f":"ROUND(G48*$D$7,2)","v":0}]
["5.3.5","Išlaidų pavadinimas",null,null,null,null,{"$f":"ROUND(E49*F49,2)","v":0},{"$f":"ROUND(G49*$D$7,2)","v":0}]
["5.3.6","Išlaidų pavadinimas",null,null,null,null,0,0]
["5.3.7","Išlaidų pavadinimas",null,null,null,null,0,0]
["5.3.8","Išlaidų pavadinimas",null,null,null,null,0,0]
["5.3.9","Išlaidų pavadinimas",null,null,null,null,0,0]
["5.3.10","Išlaidų pavadinimas",null,null,null,null,0,0]
["5.3.11","Išlaidų pavadinimas",null,null,null,null,0,0]
["5.3.12","Išlaidų pavadinimas",null,null,null,null,0,0]
["5.3.13","Išlaidų pavadinimas",null,null,null,null,0,0]
["5.3.14","Išlaidų pavadinimas",null,null,null,null,0,0]
["5.3.15","Išlaidų pavadinimas",null,null,null,null,0,0]
["5.3.16","Išlaidų pavadinimas",null,null,null,null,0,0]
["5.3.17","Išlaidų pavadinimas",null,null,null,null,0,0]
["5.3.18","Išlaidų pavadinimas",null,null,null,null,0,0]
["5.3.19","Išlaidų pavadinimas",null,null,null,null,0,0]
["5.3.20","Išlaidų pavadinimas",null,null,null,null,0,0]
["5.3.21","Išlaidų pavadinimas",null,null,null,null,0,0]
["5.3.22","Išlaidų pavadinimas",null,null,null,null,0,0]
["5.3.23","Išlaidų pavadinimas",null,null,null,null,0,0]
["5.3.24","Išlaidų pavadinimas",null,null,null,null,0,0]
["5.3.25","Išlaidų pavadinimas",null,null,null,null,0,0]
["5.3.26","Išlaidų pavadinimas",null,null,null,null,0,0]
["5.3.27","Išlaidų pavadinimas",null,null,null,null,0,0]
["5.4","Projekto MTEP veikloms naudojamo ilgalaikio materialaus turto (įrangos, prietaisų, įrankių, įrenginių, mašinų ir įrengimų, pastatų ir (ar) patalpų), nusidėvėjimo sąnaudos, jeigu šiam turtui įsigyti nebuvo naudojamos viešosios (įskaitant ir kitų valstybių) lėšos",null,null,null,null,{"$f":"SUM(G73:G101)","v":0},{"$f":"SUM(H73:H101)","v":0},null,null,"Turto įvedimo į eksploataciją data","Turto įsigijimo vertė, Eur","Turto nudėvėjimo, amortizacijos laikotarpis, mėn.","Numatoma turto likutinė vertė, Eur","1 mėn. nudėvėjimo, amortizacijos suma, Eur","Turto naudojamo projekto reikmėms laikas, mėn.","Turto panaudojimo projekto reikmėms dalis (proc.)","Projektui priskirta turto nusidėvėjimo, amortizacijos suma per projekto laikotarpį, Eur"]
["5.4.1","Turtas, kurio nusidėvėjimą, amortizaciją prašoma finansuoti",null,null,1,{"$f":"R73","v":0},{"$f":"ROUND(E73*F73,2)","v":0},0,null,null,null,null,null,null,{"$f":"IFERROR(ROUND((L73-N73)/M73,2),\"0\")","v":"0"},null,null,{"$f":"O73*P73*Q73","v":0},{"$f":"IF(K73=0,\" \",IF(K73+(M73*30.5)<TODAY(),\"DĖMESIO! Patikrinkite, ar nurodytas turtas dar nėra nudėvėtas, amortizuotas\",\" \"))","v":" "}]
["5.4.2","Turtas, kurio nusidėvėjimą, amortizaciją prašoma finansuoti",null,null,1,0,0,0,null,null,null,null,null,null,{"$f":"IFERROR(ROUND((L74-N74)/M74,2),\"0\")","v":"0"},null,null,{"$f":"O74*P74*Q74","v":0},{"$f":"IF(K74=0,\" \",IF(K74+(M74*30.5)<TODAY(),\"DĖMESIO! Patikrinkite, ar nurodytas turtas dar nėra nudėvėtas, amortizuotas\",\" \"))","v":" "}]
["5.4.3","Turtas, kurio nusidėvėjimą, amortizaciją prašoma finansuoti",null,null,1,0,0,0,null,null,null,null,null,null,"0",null,null,0," "]
["5.4.4","Turtas, kurio nusidėvėjimą, amortizaciją prašoma finansuoti",null,null,1,0,0,0,null,null,null,null,null,null,"0",null,null,0," "]
["5.4.5","Turtas, kurio nusidėvėjimą, amortizaciją prašoma finansuoti",null,null,1,0,0,0,null,null,null,null,null,null,"0",null,null,0," "]
["5.4.6","Turtas, kurio nusidėvėjimą, amortizaciją prašoma finansuoti",null,null,1,0,0,0,null,null,null,null,null,null,"0",null,null,0," "]
["5.4.7","Turtas, kurio nusidėvėjimą, amortizaciją prašoma finansuoti",null,null,1,0,0,0,null,null,null,null,null,null,"0",null,null,0," "]
["5.4.8","Turtas, kurio nusidėvėjimą, amortizaciją prašoma finansuoti",null,null,1,0,0,0,null,null,null,null,null,null,"0",null,null,0," "]
["5.4.9","Turtas, kurio nusidėvėjimą, amortizaciją prašoma finansuoti",null,null,1,0,0,0,null,null,null,null,null,null,"0",null,null,0," "]
["5.4.10","Turtas, kurio nusidėvėjimą, amortizaciją prašoma finansuoti",null,null,1,0,0,0,null,null,null,null,null,null,"0",null,null,0," "]
["5.4.11","Turtas, kurio nusidėvėjimą, amortizaciją prašoma finansuoti",null,null,1,0,0,0,null,null,null,null,null,null,"0",null,null,0," "]
["5.4.12","Turtas, kurio nusidėvėjimą, amortizaciją prašoma finansuoti",null,null,1,0,0,0,null,null,null,null,null,null,"0",null,null,0," "]
["5.4.13","Turtas, kurio nusidėvėjimą, amortizaciją prašoma finansuoti",null,null,1,0,0,0,null,null,null,null,null,null,"0",null,null,0," "]
["5.4.14","Turtas, kurio nusidėvėjimą, amortizaciją prašoma finansuoti",null,null,1,0,0,0,null,null,null,null,null,null,"0",null,null,0," "]
["5.4.15","Turtas, kurio nusidėvėjimą, amortizaciją prašoma finansuoti",null,null,1,0,0,0,null,null,null,null,null,null,"0",null,null,0," "]
["5.4.16","Turtas, kurio nusidėvėjimą, amortizaciją prašoma finansuoti",null,null,1,0,0,0,null,null,null,null,null,null,"0",null,null,0," "]
["5.4.17","Turtas, kurio nusidėvėjimą, amortizaciją prašoma finansuoti",null,null,1,0,0,0,null,null,null,null,null,null,"0",null,null,0," "]
["5.4.18","Turtas, kurio nusidėvėjimą, amortizaciją prašoma finansuoti",null,null,1,0,0,0,null,null,null,null,null,null,"0",null,null,0," "]
["5.4.19","Turtas, kurio nusidėvėjimą, amortizaciją prašoma finansuoti",null,null,1,0,0,0,null,null,null,null,null,null,"0",null,null,0," "]
["5.4.20","Turtas, kurio nusidėvėjimą, amortizaciją prašoma finansuoti",null,null,1,0,0,0,null,null,null,null,null,null,"0",null,null,0," "]
["5.4.21","Turtas, kurio nusidėvėjimą, amortizaciją prašoma finansuoti",null,null,1,0,0,0,null,null,null,null,null,null,"0",null,null,0," "]
["5.4.22","Turtas, kurio nusidėvėjimą, amortizaciją prašoma finansuoti",null,null,1,0,0,0,null,null,null,null,null,null,"0",null,null,0," "]
["5.4.23","Turtas, kurio nusidėvėjimą, amortizaciją prašoma finansuoti",null,null,1,0,0,0,null,null,null,null,null,null,"0",null,null,0," "]
["5.4.24","Turtas, kurio nusidėvėjimą, amortizaciją prašoma finansuoti",null,null,1,0,0,0,null,null,null,null,null,null,"0",null,null,0," "]
["5.4.25","Turtas, kurio nusidėvėjimą, amortizaciją prašoma finansuoti",null,null,1,0,0,0,null,null,null,null,null,null,"0",null,null,0," "]
["5.4.26","Turtas, kurio nusidėvėjimą, amortizaciją prašoma finansuoti",null,null,1,0,0,0,null,null,null,null,null,null,"0",null,null,0," "]
["5.4.27","Turtas, kurio nusidėvėjimą, amortizaciją prašoma finansuoti",null,null,1,0,0,0,null,null,null,null,null,null,"0",null,null,0," "]
["5.4.28","Turtas, kurio nusidėvėjimą, amortizaciją prašoma finansuoti",null,null,1,0,0,0,null,null,null,null,null,null,"0",null,null,0," "]
["5.4.29","Turtas, kurio nusidėvėjimą, amortizaciją prašoma finansuoti",null,null,1,0,0,0,null,null,null,null,null,null,"0",null,null,0," "]
["5.5","Projektą vykdančio personalo darbo užmokestis ir išlaidos su darbo santykiais susijusiems darbdavio įsipareigojimams",null,null,null,null,{"$f":"SUM(G103:G152)","v":0},{"$f":"SUM(H103:H152)","v":0},null,null,"Faktiškai gaunamas darbo užmokesti už 1 valandą pagal  pastarųjų 6 mėn. vidurkį, Eur"]
["5.5.1","Pareigybės pavadinimas","Darbuotojo vardas pavardė","val.",null,{"$f":"IFERROR(ROUND(AVERAGE(K103:K107),2),\"0\")","v":"0"},{"$f":"ROUND(E103*F103,2)","v":0},{"$f":"ROUND(G103*$D$7,2)","v":0}]
[null,null,"Darbuotojo vardas pavardė"]
[null,null,"Darbuotojo vardas pavardė"]
[null,null,"Darbuotojo vardas pavardė"]
[null,null,"Darbuotojo vardas pavardė"]
["5.5.2","Pareigybės pavadinimas","Darbuotojo vardas pavardė","val.",null,{"$f":"IFERROR(ROUND(AVERAGE(K108:K112),2),\"0\")","v":"0"},{"$f":"ROUND(E108*F108,2)","v":0},{"$f":"ROUND(G108*$D$7,2)","v":0}]
[null,null,"Darbuotojo vardas pavardė"]
[null,null,"Darbuotojo vardas pavardė"]
[null,null,"Darbuotojo vardas pavardė"]
[null,null,"Darbuotojo vardas pavardė"]
["5.5.3","Pareigybės pavadinimas","Darbuotojo vardas pavardė","val.",null,{"$f":"IFERROR(ROUND(AVERAGE(K113:K117),2),\"0\")","v":"0"},{"$f":"ROUND(E113*F113,2)","v":0},{"$f":"ROUND(G113*$D$7,2)","v":0}]
[null,null,"Darbuotojo vardas pavardė"]
[null,null,"Darbuotojo vardas pavardė"]
[null,null,"Darbuotojo vardas pavardė"]
[null,null,"Darbuotojo vardas pavardė"]
["5.5.4","Pareigybės pavadinimas","Darbuotojo vardas pavardė","val.",null,{"$f":"IFERROR(ROUND(AVERAGE(K118:K122),2),\"0\")","v":"0"},{"$f":"ROUND(E118*F118,2)","v":0},{"$f":"ROUND(G118*$D$7,2)","v":0}]
[null,null,"Darbuotojo vardas pavardė"]
[null,null,"Darbuotojo vardas pavardė"]
[null,null,"Darbuotojo vardas pavardė"]
[null,null,"Darbuotojo vardas pavardė"]
["5.5.5","Pareigybės pavadinimas","Darbuotojo vardas pavardė","val.",null,{"$f":"IFERROR(ROUND(AVERAGE(K123:K127),2),\"0\")","v":"0"},{"$f":"ROUND(E123*F123,2)","v":0},{"$f":"ROUND(G123*$D$7,2)","v":0}]
[null,null,"Darbuotojo vardas pavardė"]
[null,null,"Darbuotojo vardas pavardė"]
[null,null,"Darbuotojo vardas pavardė"]
[null,null,"Darbuotojo vardas pavardė"]
["5.5.6","Pareigybės pavadinimas","Darbuotojo vardas pavardė","val.",null,{"$f":"IFERROR(ROUND(AVERAGE(K128:K132),2),\"0\")","v":"0"},{"$f":"ROUND(E128*F128,2)","v":0},{"$f":"ROUND(G128*$D$7,2)","v":0}]
[null,null,"Darbuotojo vardas pavardė"]
[null,null,"Darbuotojo vardas pavardė"]
[null,null,"Darbuotojo vardas pavardė"]
[null,null,"Darbuotojo vardas pavardė"]
["5.5.7","Pareigybės pavadinimas","Darbuotojo vardas pavardė","val.",null,{"$f":"IFERROR(ROUND(AVERAGE(K133:K137),2),\"0\")","v":"0"},{"$f":"ROUND(E133*F133,2)","v":0},{"$f":"ROUND(G133*$D$7,2)","v":0}]
[null,null,"Darbuotojo vardas pavardė"]
[null,null,"Darbuotojo vardas pavardė"]
[null,null,"Darbuotojo vardas pavardė"]
[null,null,"Darbuotojo vardas pavardė"]
["5.5.8","Pareigybės pavadinimas","Darbuotojo vardas pavardė","val.",null,{"$f":"IFERROR(ROUND(AVERAGE(K138:K142),2),\"0\")","v":"0"},{"$f":"ROUND(E138*F138,2)","v":0},{"$f":"ROUND(G138*$D$7,2)","v":0}]
[null,null,"Darbuotojo vardas pavardė"]
[null,null,"Darbuotojo vardas pavardė"]
[null,null,"Darbuotojo vardas pavardė"]
[null,null,"Darbuotojo vardas pavardė"]
["5.5.9","Pareigybės pavadinimas","Darbuotojo vardas pavardė","val.",null,{"$f":"IFERROR(ROUND(AVERAGE(K143:K147),2),\"0\")","v":"0"},{"$f":"ROUND(E143*F143,2)","v":0},{"$f":"ROUND(G143*$D$7,2)","v":0}]
[null,null,"Darbuotojo vardas pavardė"]
[null,null,"Darbuotojo vardas pavardė"]
[null,null,"Darbuotojo vardas pavardė"]
[null,null,"Darbuotojo vardas pavardė"]
["5.5.10","Pareigybės pavadinimas","Darbuotojo vardas pavardė","val.",null,{"$f":"IFERROR(ROUND(AVERAGE(K148:K152),2),\"0\")","v":"0"},{"$f":"ROUND(E148*F148,2)","v":0},{"$f":"ROUND(G148*$D$7,2)","v":0}]
[null,null,"Darbuotojo vardas pavardė"]
[null,null,"Darbuotojo vardas pavardė"]
[null,null,"Darbuotojo vardas pavardė"]
[null,null,"Darbuotojo vardas pavardė"]
["5.6","Projektą vykdančio personalo komandiruočių išlaidos",null,null,null,null,{"$f":"SUM(G154,G161,G168,G175,G182,G189,G196,G203,G210,G217)","v":0},{"$f":"SUM(H154,H161,H168,H175,H182,H189,H196,H203,H210,H217)","v":0}]
["5.6.1","Komandiruotės pavadinimas, vieta, trukmė dienomis, vykstančių asmenų skaičius","Iš viso komandiruotei",null,null,null,{"$f":"SUM(G155:G160)","v":0},{"$f":"ROUND(G154*$D$7,2)","v":0}]
[null,null,"Dienpinigiai",null,null,null,{"$f":"ROUND(E155*F155,2)","v":0}]
[null,null,"Gyvenamojo ploto nuoma",null,null,null,0]
[null,null,"Kelionės išlaidos",null,null,null,0]
[null,null,"Dalyvavimo mokestis",null,null,null,0]
[null,null,"Kitos išlaidų pavadinimas",null,null,null,0]
[null,null,"Kitos išlaidų pavadinimas",null,null,null,0]
["5.6.2","Komandiruotės pavadinimas, vieta, trukmė dienomis, vykstančių asmenų skaičius","Iš viso komandiruotei",null,null,null,{"$f":"SUM(G162:G167)","v":0},{"$f":"ROUND(G161*$D$7,2)","v":0}]
[null,null,"Dienpinigiai",null,null,null,{"$f":"ROUND(E162*F162,2)","v":0}]
[null,null,"Gyvenamojo ploto nuoma",null,null,null,0]
[null,null,"Kelionės išlaidos",null,null,null,0]
[null,null,"Dalyvavimo mokestis",null,null,null,0]
[null,null,"Kitos išlaidų pavadinimas",null,null,null,0]
[null,null,"Kitos išlaidų pavadinimas",null,null,null,0]
["5.6.3","Komandiruotės pavadinimas, vieta, trukmė dienomis, vykstančių asmenų skaičius","Iš viso komandiruotei",null,null,null,{"$f":"SUM(G169:G174)","v":0},{"$f":"ROUND(G168*$D$7,2)","v":0}]
[null,null,"Dienpinigiai",null,null,null,{"$f":"ROUND(E169*F169,2)","v":0}]
[null,null,"Gyvenamojo ploto nuoma",null,null,null,0]
[null,null,"Kelionės išlaidos",null,null,null,0]
[null,null,"Dalyvavimo mokestis",null,null,null,0]
[null,null,"Kitos išlaidų pavadinimas",null,null,null,0]
[null,null,"Kitos išlaidų pavadinimas",null,null,null,0]
["5.6.4","Komandiruotės pavadinimas, vieta, trukmė dienomis, vykstančių asmenų skaičius","Iš viso komandiruotei",null,null,null,{"$f":"SUM(G176:G181)","v":0},{"$f":"ROUND(G175*$D$7,2)","v":0}]
[null,null,"Dienpinigiai",null,null,null,{"$f":"ROUND(E176*F176,2)","v":0}]
[null,null,"Gyvenamojo ploto nuoma",null,null,null,0]
[null,null,"Kelionės išlaidos",null,null,null,0]
[null,null,"Dalyvavimo mokestis",null,null,null,0]
[null,null,"Kitos išlaidų pavadinimas",null,null,null,0]
[null,null,"Kitos išlaidų pavadinimas",null,null,null,0]
["5.6.5","Komandiruotės pavadinimas, vieta, trukmė dienomis, vykstančių asmenų skaičius","Iš viso komandiruotei",null,null,null,{"$f":"SUM(G183:G188)","v":0},{"$f":"ROUND(G182*$D$7,2)","v":0}]
[null,null,"Dienpinigiai",null,null,null,{"$f":"ROUND(E183*F183,2)","v":0}]
[null,null,"Gyvenamojo ploto nuoma",null,null,null,0]
[null,null,"Kelionės išlaidos",null,null,null,0]
[null,null,"Dalyvavimo mokestis",null,null,null,0]
[null,null,"Kitos išlaidų pavadinimas",null,null,null,0]
[null,null,"Kitos išlaidų pavadinimas",null,null,null,0]
["5.6.6","Komandiruotės pavadinimas, vieta, trukmė dienomis, vykstančių asmenų skaičius","Iš viso komandiruotei",null,null,null,{"$f":"SUM(G190:G195)","v":0},{"$f":"ROUND(G189*$D$7,2)","v":0}]
[null,null,"Dienpinigiai",null,null,null,{"$f":"ROUND(E190*F190,2)","v":0}]
[null,null,"Gyvenamojo ploto nuoma",null,null,null,0]
[null,null,"Kelionės išlaidos",null,null,null,0]
[null,null,"Dalyvavimo mokestis",null,null,null,0]
[null,null,"Kitos išlaidų pavadinimas",null,null,null,0]
[null,null,"Kitos išlaidų pavadinimas",null,null,null,0]
["5.6.7","Komandiruotės pavadinimas, vieta, trukmė dienomis, vykstančių asmenų skaičius","Iš viso komandiruotei",null,null,null,{"$f":"SUM(G197:G202)","v":0},{"$f":"ROUND(G196*$D$7,2)","v":0}]
[null,null,"Dienpinigiai",null,null,null,{"$f":"ROUND(E197*F197,2)","v":0}]
[null,null,"Gyvenamojo ploto nuoma",null,null,null,0]
[null,null,"Kelionės išlaidos",null,null,null,0]
[null,null,"Dalyvavimo mokestis",null,null,null,0]
[null,null,"Kitos išlaidų pavadinimas",null,null,null,0]
[null,null,"Kitos išlaidų pavadinimas",null,null,null,0]
["5.6.8","Komandiruotės pavadinimas, vieta, trukmė dienomis, vykstančių asmenų skaičius","Iš viso komandiruotei",null,null,null,{"$f":"SUM(G204:G209)","v":0},{"$f":"ROUND(G203*$D$7,2)","v":0}]
[null,null,"Dienpinigiai",null,null,null,{"$f":"ROUND(E204*F204,2)","v":0}]
[null,null,"Gyvenamojo ploto nuoma",null,null,null,0]
[null,null,"Kelionės išlaidos",null,null,null,0]
[null,null,"Dalyvavimo mokestis",null,null,null,0]
[null,null,"Kitos išlaidų pavadinimas",null,null,null,0]
[null,null,"Kitos išlaidų pavadinimas",null,null,null,0]
["5.6.9","Komandiruotės pavadinimas, vieta, trukmė dienomis, vykstančių asmenų skaičius","Iš viso komandiruotei",null,null,null,{"$f":"SUM(G211:G216)","v":0},{"$f":"ROUND(G210*$D$7,2)","v":0}]
[null,null,"Dienpinigiai",null,null,null,{"$f":"ROUND(E211*F211,2)","v":0}]
[null,null,"Gyvenamojo ploto nuoma",null,null,null,0]
[null,null,"Kelionės išlaidos",null,null,null,0]
[null,null,"Dalyvavimo mokestis",null,null,null,0]
[null,null,"Kitos išlaidų pavadinimas",null,null,null,0]
[null,null,"Kitos išlaidų pavadinimas",null,null,null,0]
["5.6.10","Komandiruotės pavadinimas, vieta, trukmė dienomis, vykstančių asmenų skaičius","Iš viso komandiruotei",null,null,null,{"$f":"SUM(G218:G223)","v":0},{"$f":"ROUND(G217*$D$7,2)","v":0}]
[null,null,"Dienpinigiai",null,null,null,{"$f":"ROUND(E218*F218,2)","v":0}]
[null,null,"Gyvenamojo ploto nuoma",null,null,null,0]
[null,null,"Kelionės išlaidos",null,null,null,0]
[null,null,"Dalyvavimo mokestis",null,null,null,0]
[null,null,"Kitos išlaidų pavadinimas",null,null,null,0]
[null,null,"Kitos išlaidų pavadinimas",null,null,null,0]
["5.7","Įrangos nuomos išlaidos, veiklai priskirtos pro rata principu. Įranga turi būti tiesiogiai susijusi su projekto įgyvendinimu ir negali būti įsigyta iš ES struktūrinių fondų ar kt. ES finansinių priemonių lėšų",null,null,null,null,{"$f":"SUM(G225:G241)","v":0},{"$f":"SUM(H225:H241)","v":0},null,null,"Faktinės 1 mėnesio išlaidos, Eur","Naudojimo projekte trukmė, mėn."]
["5.7.1","Įrangos pavadinimas",null,"pro rata proc.",null,{"$f":"K225*L225","v":0},{"$f":"ROUND(E225*F225,2)","v":0},{"$f":"ROUND(G225*$D$7,2)","v":0}]
["5.7.2","Įrangos pavadinimas",null,"pro rata proc.",null,{"$f":"K226*L226","v":0},0,{"$f":"ROUND(G226*$D$7,2)","v":0}]
["5.7.3","Įrangos pavadinimas",null,"pro rata proc.",null,0,0,0]
["5.7.4","Įrangos pavadinimas",null,"pro rata proc.",null,0,0,0]
["5.7.5","Įrangos pavadinimas",null,"pro rata proc.",null,0,0,0]
["5.7.6","Įrangos pavadinimas",null,"pro rata proc.",null,0,0,0]
["5.7.7","Įrangos pavadinimas",null,"pro rata proc.",null,0,0,0]
["5.7.8","Įrangos pavadinimas",null,"pro rata proc.",null,0,0,0]
["5.7.9","Įrangos pavadinimas",null,"pro rata proc.",null,0,0,0]
["5.7.10","Įrangos pavadinimas",null,"pro rata proc.",null,0,0,0]
["5.7.11","Įrangos pavadinimas",null,"pro rata proc.",null,0,0,0]
["5.7.12","Įrangos pavadinimas",null,"pro rata proc.",null,0,0,0]
["5.7.13","Įrangos pavadinimas",null,"pro rata proc.",null,0,0,0]
["5.7.14","Įrangos pavadinimas",null,"pro rata proc.",null,{"$f":"K238*L238","v":0},0,{"$f":"ROUND(G238*$D$7,2)","v":0}]
["5.7.15","Įrangos pavadinimas",null,"pro rata proc.",null,{"$f":"K239*L239","v":0},0,{"$f":"ROUND(G239*$D$7,2)","v":0}]
["5.7.16","Įrangos pavadinimas",null,"pro rata proc.",null,{"$f":"K240*L240","v":0},0,{"$f":"ROUND(G240*$D$7,2)","v":0}]
["5.7.17","Įrangos pavadinimas",null,"pro rata proc.",null,{"$f":"K241*L241","v":0},0,{"$f":"ROUND(G241*$D$7,2)","v":0}]
["5.8","Pastatų ar patalpų nuomos išlaidos, veiklai priskirtos pro rata principu. Pastatai ar patalpos turi būti tiesiogiai susijusi su projekto įgyvendinimu.",null,null,null,null,{"$f":"SUM(G243:G247)","v":0},{"$f":"SUM(H243:H247)","v":0},null,null,"Faktinės 1 mėnesio išlaidos, Eur","Naudojimo projekte trukmė, mėn."]
["5.8.1","Pastato, patalpų adresas",null,"pro rata proc.",null,{"$f":"K243*L243","v":0},{"$f":"ROUND(E243*F243,2)","v":0},{"$f":"ROUND(G243*$D$7,2)","v":0}]
["5.8.2","Pastato, patalpų adresas",null,"pro rata proc.",null,{"$f":"K244*L244","v":0},{"$f":"ROUND(E244*F244,2)","v":0},{"$f":"ROUND(G244*$D$7,2)","v":0}]
["5.8.3","Pastato, patalpų adresas",null,"pro rata proc.",null,{"$f":"K245*L245","v":0},{"$f":"ROUND(E245*F245,2)","v":0},{"$f":"ROUND(G245*$D$7,2)","v":0}]
["5.8.4","Pastato, patalpų adresas",null,"pro rata proc.",null,{"$f":"K246*L246","v":0},{"$f":"ROUND(E246*F246,2)","v":0},{"$f":"ROUND(G246*$D$7,2)","v":0}]
["5.8.5","Pastato, patalpų adresas",null,"pro rata proc.",null,{"$f":"K247*L247","v":0},{"$f":"ROUND(E247*F247,2)","v":0},{"$f":"ROUND(G247*$D$7,2)","v":0}]
["Iš viso tinkamų finansuoti išlaidų:",null,null,null,null,null,{"$f":"G10+G21","v":0},{"$f":"H10+H21","v":0}]

{"sheet":"18","index":12,"n_rows":248,"n_cols":19,"rows_kept":248,"cut":false,"hidden":true,"merged":[[5,3,5,8],[8,1,8,2],[9,1,9,5],[10,1,10,2],[11,1,11,2],[12,1,12,2],[0,3,0,8],[2,0,2,2],[2,3,2,8],[3,3,3,4],[3,5,3,6],[4,0,4,2],[4,3,4,8],[19,1,19,2],[20,1,20,5],[21,1,21,5],[22,1,22,2],[23,1,23,2],[24,1,24,2],[13,1,13,2],[14,1,14,2],[15,1,15,2],[16,1,16,2],[17,1,17,2],[18,1,18,2],[31,1,31,2],[32,1,32,5],[33,1,33,2],[34,1,34,2],[35,1,35,2],[36,1,36,2],[25,1,25,2],[26,1,26,2],[27,1,27,2],[28,1,28,2],[29,1,29,2],[30,1,30,2],[43,1,43,5],[44,1,44,2],[45,1,45,2],[46,1,46,2],[47,1,47,2],[48,1,48,2],[37,1,37,2],[38,1,38,2],[39,1,39,2],[40,1,40,2],[41,1,41,2],[42,1,42,2],[55,1,55,2],[56,1,56,2],[57,1,57,2],[58,1,58,2],[59,1,59,2],[60,1,60,2],[49,1,49,2],[50,1,50,2],[51,1,51,2],[52,1,52,2],[53,1,53,2],[54,1,54,2],[67,1,67,2],[68,1,68,2],[69,1,69,2],[70,1,70,2],[71,1,71,5],[72,1,72,2],[61,1,61,2],[62,1,62,2],[63,1,63,2],[64,1,64,2],[65,1,65,2],[66,1,66,2],[79,1,79,2],[80,1,80,2],[81,1,81,2],[82,1,82,2],[83,1,83,2],[84,1,84,2],[73,1,73,2],[74,1,74,2],[75,1,75,2],[76,1,76,2],[77,1,77,2],[78,1,78,2],[91,1,91,2],[92,1,92,2],[93,1,93,2],[94,1,94,2],[95,1,95,2],[96,1,96,2],[85,1,85,2],[86,1,86,2],[87,1,87,2],[88,1,88,2],[89,1,89,2],[90,1,90,2],[97,1,97,2],[98,1,98,2],[99,1,99,2],[100,1,100,2],[101,1,101,5],[102,0,106,0],[102,1,106,1],[102,3,106,3],[102,4,106,4],[102,5,106,5],[102,6,106,6],[102,7,106,7],[102,8,106,8],[107,0,111,0],[107,1,111,1],[107,3,111,3],[107,4,111,4],[107,5,111,5],[107,6,111,6],[107,7,111,7],[107,8,111,8],[112,0,116,0],[112,1,116,1],[112,3,116,3],[112,4,116,4],[112,5,116,5],[112,6,116,6],[112,7,116,7],[112,8,116,8],[117,7,121,7],[117,8,121,8],[122,0,126,0],[122,1,126,1],[122,3,126,3],[122,4,126,4],[122,5,126,5],[122,6,126,6],[122,7,126,7],[122,8,126,8],[117,0,121,0],[117,1,121,1],[117,3,121,3],[117,4,121,4],[117,5,121,5],[117,6,121,6],[127,7,131,7],[127,8,131,8],[132,0,136,0],[132,1,136,1],[132,3,136,3],[132,4,136,4],[132,5,136,5],[132,6,136,6],[132,7,136,7],[132,8,136,8],[127,0,131,0],[127,1,131,1],[127,3,131,3],[127,4,131,4],[127,5,131,5],[127,6,131,6],[137,7,141,7],[137,8,141,8],[142,0,146,0],[142,1,146,1],[142,3,146,3],[142,4,146,4],[142,5,146,5],[142,6,146,6],[142,7,146,7],[142,8,146,8],[137,0,141,0],[137,1,141,1],[137,3,141,3],[137,4,141,4],[137,5,141,5],[137,6,141,6],[160,0,166,0],[160,1,166,1],[160,8,166,8],[167,0,173,0],[167,1,173,1],[167,8,173,8],[147,7,151,7],[147,8,151,8],[152,1,152,5],[153,0,159,0],[153,1,159,1],[153,8,159,8],[147,0,151,0],[147,1,151,1],[147,3,151,3],[147,4,151,4],[147,5,151,5],[147,6,151,6],[188,0,194,0],[188,1,194,1],[188,8,194,8],[195,0,201,0],[195,1,201,1],[195,8,201,8],[174,0,180,0],[174,1,180,1],[174,8,180,8],[181,0,187,0],[181,1,187,1],[181,8,187,8],[216,0,222,0],[216,1,222,1],[216,8,222,8],[223,1,223,5],[224,1,224,2],[225,1,225,2],[202,0,208,0],[202,1,208,1],[202,8,208,8],[209,0,215,0],[209,1,215,1],[209,8,215,8],[232,1,232,2],[233,1,233,2],[234,1,234,2],[235,1,235,2],[236,1,236,2],[237,1,237,2],[226,1,226,2],[227,1,227,2],[228,1,228,2],[229,1,229,2],[230,1,230,2],[231,1,231,2],[244,1,244,2],[245,1,245,2],[246,1,246,2],[247,0,247,5],[238,1,238,2],[239,1,239,2],[240,1,240,2],[241,1,241,5],[242,1,242,2],[243,1,243,2]]}
[null,null,"Pasirinkite veiklos tipą:"]
[null,null,"Fizinio rodiklio Nr.:"]
["Fizinio rodiklio pavadinimas:"]
[null,null,"Fizinio rodiklio matavimo vnt.:",null,null,"Fizinio rodiklio vnt. skaičius:"]
["Juridinis asmuo (pareiškėjas, partneris), atsakingas už fizinį rodiklį:"]
[null,null,"Vykdytojo tipas:"]
[null,null,"Finansavimo intensyvumas:",null,null,null,"Pasirinkite biudžeto išlaidų kategoriją:","Visos"]
[]
["Eil. Nr.","Išlaidų kategorijos pavadinimas",null,"Matavimo vnt.","Kiekis","Vieneto kaina be PVM, Eur","Tinkamų finansuoti išlaidų suma be PVM, Eur","Finansavimo suma, Eur","Išlaidų pagrindimo dokumentų pavadinimas, data ir Nr."]
[4,"ĮRANGA, ĮRENGINIAI IR KT. TURTAS (techninių žinių ir išradimų patentų arba teisių pagal licencijų sutartį įsigijimo išlaidos)",null,null,null,null,{"$f":"SUM(G11:G20)","v":0},{"$f":"SUM(H11:H20)","v":0}]
["4.1","Išlaidų pavadinimas",null,null,null,null,{"$f":"ROUND(E11*F11,2)","v":0},{"$f":"ROUND(G11*$D$7,2)","v":0}]
["4.2","Išlaidų pavadinimas",null,null,null,null,0,0]
["4.3","Išlaidų pavadinimas",null,null,null,null,0,0]
["4.4","Išlaidų pavadinimas",null,null,null,null,0,0]
["4.5","Išlaidų pavadinimas",null,null,null,null,0,0]
["4.6","Išlaidų pavadinimas",null,null,null,null,0,0]
["4.7","Išlaidų pavadinimas",null,null,null,null,0,0]
["4.8","Išlaidų pavadinimas",null,null,null,null,0,0]
["4.9","Išlaidų pavadinimas",null,null,null,null,0,0]
["4.10","Išlaidų pavadinimas",null,null,null,null,0,0]
[5,"PROJEKTO VYKDYMAS",null,null,null,null,{"$f":"G22+G33+G44+G72+G102+G153+G224+G242","v":0},{"$f":"H22+H33+H44+H72+H102+H153+H224+H242","v":0}]
["5.1","MTEP paslaugos",null,null,null,null,{"$f":"SUM(G23:G32)","v":0},{"$f":"SUM(H23:H32)","v":0}]
["5.1.1","Paslaugos pavadinimas",null,null,null,null,{"$f":"ROUND(E23*F23,2)","v":0},0]
["5.1.2","Paslaugos pavadinimas",null,null,null,null,0,0]
["5.1.3","Paslaugos pavadinimas",null,null,null,null,0,0]
["5.1.4","Paslaugos pavadinimas",null,null,null,null,0,0]
["5.1.5","Paslaugos pavadinimas",null,null,null,null,0,0]
["5.1.6","Paslaugos pavadinimas",null,null,null,null,0,0]
["5.1.7","Paslaugos pavadinimas",null,null,null,null,0,0]
["5.1.8","Paslaugos pavadinimas",null,null,null,null,0,0]
["5.1.9","Paslaugos pavadinimas",null,null,null,null,0,0]
["5.1.10","Paslaugos pavadinimas",null,null,null,null,0,0]
["5.2","Konsultavimo ir lygiavertės paslaugos, teikiamos vien tik projekto MTEP veiklai.",null,null,null,null,{"$f":"SUM(G34:G43)","v":0},{"$f":"SUM(H34:H43)","v":0}]
["5.2.1","Paslaugos pavadinimas",null,null,null,null,{"$f":"ROUND(E34*F34,2)","v":0},0]
["5.2.2","Paslaugos pavadinimas",null,null,null,null,0,0]
["5.2.3","Paslaugos pavadinimas",null,null,null,null,0,0]
["5.2.4","Paslaugos pavadinimas",null,null,null,null,0,0]
["5.2.5","Paslaugos pavadinimas",null,null,null,null,0,0]
["5.2.6","Paslaugos pavadinimas",null,null,null,null,0,0]
["5.2.7","Paslaugos pavadinimas",null,null,null,null,0,0]
["5.2.8","Paslaugos pavadinimas",null,null,null,null,0,0]
["5.2.9","Paslaugos pavadinimas",null,null,null,null,0,0]
["5.2.10","Paslaugos pavadinimas",null,null,null,null,0,0]
["5.3","Medžiagos, mažavertis inventorius, atsargos ir pan. produktai, priskirtini trumpalaikiam turtui ir tiesiogiai susiję su MTEP veikla",null,null,null,null,{"$f":"SUM(G45:G71)","v":0},{"$f":"SUM(H45:H71)","v":0}]
["5.3.1","Išlaidų pavadinimas",null,null,null,null,{"$f":"ROUND(E45*F45,2)","v":0},{"$f":"ROUND(G45*$D$7,2)","v":0}]
["5.3.2","Išlaidų pavadinimas",null,null,null,null,{"$f":"ROUND(E46*F46,2)","v":0},{"$f":"ROUND(G46*$D$7,2)","v":0}]
["5.3.3","Išlaidų pavadinimas",null,null,null,null,{"$f":"ROUND(E47*F47,2)","v":0},{"$f":"ROUND(G47*$D$7,2)","v":0}]
["5.3.4","Išlaidų pavadinimas",null,null,null,null,{"$f":"ROUND(E48*F48,2)","v":0},{"$f":"ROUND(G48*$D$7,2)","v":0}]
["5.3.5","Išlaidų pavadinimas",null,null,null,null,{"$f":"ROUND(E49*F49,2)","v":0},{"$f":"ROUND(G49*$D$7,2)","v":0}]
["5.3.6","Išlaidų pavadinimas",null,null,null,null,0,0]
["5.3.7","Išlaidų pavadinimas",null,null,null,null,0,0]
["5.3.8","Išlaidų pavadinimas",null,null,null,null,0,0]
["5.3.9","Išlaidų pavadinimas",null,null,null,null,0,0]
["5.3.10","Išlaidų pavadinimas",null,null,null,null,0,0]
["5.3.11","Išlaidų pavadinimas",null,null,null,null,0,0]
["5.3.12","Išlaidų pavadinimas",null,null,null,null,0,0]
["5.3.13","Išlaidų pavadinimas",null,null,null,null,0,0]
["5.3.14","Išlaidų pavadinimas",null,null,null,null,0,0]
["5.3.15","Išlaidų pavadinimas",null,null,null,null,0,0]
["5.3.16","Išlaidų pavadinimas",null,null,null,null,0,0]
["5.3.17","Išlaidų pavadinimas",null,null,null,null,0,0]
["5.3.18","Išlaidų pavadinimas",null,null,null,null,0,0]
["5.3.19","Išlaidų pavadinimas",null,null,null,null,0,0]
["5.3.20","Išlaidų pavadinimas",null,null,null,null,0,0]
["5.3.21","Išlaidų pavadinimas",null,null,null,null,0,0]
["5.3.22","Išlaidų pavadinimas",null,null,null,null,0,0]
["5.3.23","Išlaidų pavadinimas",null,null,null,null,0,0]
["5.3.24","Išlaidų pavadinimas",null,null,null,null,0,0]
["5.3.25","Išlaidų pavadinimas",null,null,null,null,0,0]
["5.3.26","Išlaidų pavadinimas",null,null,null,null,0,0]
["5.3.27","Išlaidų pavadinimas",null,null,null,null,0,0]
["5.4","Projekto MTEP veikloms naudojamo ilgalaikio materialaus turto (įrangos, prietaisų, įrankių, įrenginių, mašinų ir įrengimų, pastatų ir (ar) patalpų), nusidėvėjimo sąnaudos, jeigu šiam turtui įsigyti nebuvo naudojamos viešosios (įskaitant ir kitų valstybių) lėšos",null,null,null,null,{"$f":"SUM(G73:G101)","v":0},{"$f":"SUM(H73:H101)","v":0},null,null,"Turto įvedimo į eksploataciją data","Turto įsigijimo vertė, Eur","Turto nudėvėjimo, amortizacijos laikotarpis, mėn.","Numatoma turto likutinė vertė, Eur","1 mėn. nudėvėjimo, amortizacijos suma, Eur","Turto naudojamo projekto reikmėms laikas, mėn.","Turto panaudojimo projekto reikmėms dalis (proc.)","Projektui priskirta turto nusidėvėjimo, amortizacijos suma per projekto laikotarpį, Eur"]
["5.4.1","Turtas, kurio nusidėvėjimą, amortizaciją prašoma finansuoti",null,null,1,{"$f":"R73","v":0},{"$f":"ROUND(E73*F73,2)","v":0},0,null,null,null,null,null,null,{"$f":"IFERROR(ROUND((L73-N73)/M73,2),\"0\")","v":"0"},null,null,{"$f":"O73*P73*Q73","v":0},{"$f":"IF(K73=0,\" \",IF(K73+(M73*30.5)<TODAY(),\"DĖMESIO! Patikrinkite, ar nurodytas turtas dar nėra nudėvėtas, amortizuotas\",\" \"))","v":" "}]
["5.4.2","Turtas, kurio nusidėvėjimą, amortizaciją prašoma finansuoti",null,null,1,0,0,0,null,null,null,null,null,null,{"$f":"IFERROR(ROUND((L74-N74)/M74,2),\"0\")","v":"0"},null,null,{"$f":"O74*P74*Q74","v":0},{"$f":"IF(K74=0,\" \",IF(K74+(M74*30.5)<TODAY(),\"DĖMESIO! Patikrinkite, ar nurodytas turtas dar nėra nudėvėtas, amortizuotas\",\" \"))","v":" "}]
["5.4.3","Turtas, kurio nusidėvėjimą, amortizaciją prašoma finansuoti",null,null,1,0,0,0,null,null,null,null,null,null,"0",null,null,0," "]
["5.4.4","Turtas, kurio nusidėvėjimą, amortizaciją prašoma finansuoti",null,null,1,0,0,0,null,null,null,null,null,null,"0",null,null,0," "]
["5.4.5","Turtas, kurio nusidėvėjimą, amortizaciją prašoma finansuoti",null,null,1,0,0,0,null,null,null,null,null,null,"0",null,null,0," "]
["5.4.6","Turtas, kurio nusidėvėjimą, amortizaciją prašoma finansuoti",null,null,1,0,0,0,null,null,null,null,null,null,"0",null,null,0," "]
["5.4.7","Turtas, kurio nusidėvėjimą, amortizaciją prašoma finansuoti",null,null,1,0,0,0,null,null,null,null,null,null,"0",null,null,0," "]
["5.4.8","Turtas, kurio nusidėvėjimą, amortizaciją prašoma finansuoti",null,null,1,0,0,0,null,null,null,null,null,null,"0",null,null,0," "]
["5.4.9","Turtas, kurio nusidėvėjimą, amortizaciją prašoma finansuoti",null,null,1,0,0,0,null,null,null,null,null,null,"0",null,null,0," "]
["5.4.10","Turtas, kurio nusidėvėjimą, amortizaciją prašoma finansuoti",null,null,1,0,0,0,null,null,null,null,null,null,"0",null,null,0," "]
["5.4.11","Turtas, kurio nusidėvėjimą, amortizaciją prašoma finansuoti",null,null,1,0,0,0,null,null,null,null,null,null,"0",null,null,0," "]
["5.4.12","Turtas, kurio nusidėvėjimą, amortizaciją prašoma finansuoti",null,null,1,0,0,0,null,null,null,null,null,null,"0",null,null,0," "]
["5.4.13","Turtas, kurio nusidėvėjimą, amortizaciją prašoma finansuoti",null,null,1,0,0,0,null,null,null,null,null,null,"0",null,null,0," "]
["5.4.14","Turtas, kurio nusidėvėjimą, amortizaciją prašoma finansuoti",null,null,1,0,0,0,null,null,null,null,null,null,"0",null,null,0," "]
["5.4.15","Turtas, kurio nusidėvėjimą, amortizaciją prašoma finansuoti",null,null,1,0,0,0,null,null,null,null,null,null,"0",null,null,0," "]
["5.4.16","Turtas, kurio nusidėvėjimą, amortizaciją prašoma finansuoti",null,null,1,0,0,0,null,null,null,null,null,null,"0",null,null,0," "]
["5.4.17","Turtas, kurio nusidėvėjimą, amortizaciją prašoma finansuoti",null,null,1,0,0,0,null,null,null,null,null,null,"0",null,null,0," "]
["5.4.18","Turtas, kurio nusidėvėjimą, amortizaciją prašoma finansuoti",null,null,1,0,0,0,null,null,null,null,null,null,"0",null,null,0," "]
["5.4.19","Turtas, kurio nusidėvėjimą, amortizaciją prašoma finansuoti",null,null,1,0,0,0,null,null,null,null,null,null,"0",null,null,0," "]
["5.4.20","Turtas, kurio nusidėvėjimą, amortizaciją prašoma finansuoti",null,null,1,0,0,0,null,null,null,null,null,null,"0",null,null,0," "]
["5.4.21","Turtas, kurio nusidėvėjimą, amortizaciją prašoma finansuoti",null,null,1,0,0,0,null,null,null,null,null,null,"0",null,null,0," "]
["5.4.22","Turtas, kurio nusidėvėjimą, amortizaciją prašoma finansuoti",null,null,1,0,0,0,null,null,null,null,null,null,"0",null,null,0," "]
["5.4.23","Turtas, kurio nusidėvėjimą, amortizaciją prašoma finansuoti",null,null,1,0,0,0,null,null,null,null,null,null,"0",null,null,0," "]
["5.4.24","Turtas, kurio nusidėvėjimą, amortizaciją prašoma finansuoti",null,null,1,0,0,0,null,null,null,null,null,null,"0",null,null,0," "]
["5.4.25","Turtas, kurio nusidėvėjimą, amortizaciją prašoma finansuoti",null,null,1,0,0,0,null,null,null,null,null,null,"0",null,null,0," "]
["5.4.26","Turtas, kurio nusidėvėjimą, amortizaciją prašoma finansuoti",null,null,1,0,0,0,null,null,null,null,null,null,"0",null,null,0," "]
["5.4.27","Turtas, kurio nusidėvėjimą, amortizaciją prašoma finansuoti",null,null,1,0,0,0,null,null,null,null,null,null,"0",null,null,0," "]
["5.4.28","Turtas, kurio nusidėvėjimą, amortizaciją prašoma finansuoti",null,null,1,0,0,0,null,null,null,null,null,null,"0",null,null,0," "]
["5.4.29","Turtas, kurio nusidėvėjimą, amortizaciją prašoma finansuoti",null,null,1,0,0,0,null,null,null,null,null,null,"0",null,null,0," "]
["5.5","Projektą vykdančio personalo darbo užmokestis ir išlaidos su darbo santykiais susijusiems darbdavio įsipareigojimams",null,null,null,null,{"$f":"SUM(G103:G152)","v":0},{"$f":"SUM(H103:H152)","v":0},null,null,"Faktiškai gaunamas darbo užmokesti už 1 valandą pagal  pastarųjų 6 mėn. vidurkį, Eur"]
["5.5.1","Pareigybės pavadinimas","Darbuotojo vardas pavardė","val.",null,{"$f":"IFERROR(ROUND(AVERAGE(K103:K107),2),\"0\")","v":"0"},{"$f":"ROUND(E103*F103,2)","v":0},{"$f":"ROUND(G103*$D$7,2)","v":0}]
[null,null,"Darbuotojo vardas pavardė"]
[null,null,"Darbuotojo vardas pavardė"]
[null,null,"Darbuotojo vardas pavardė"]
[null,null,"Darbuotojo vardas pavardė"]
["5.5.2","Pareigybės pavadinimas","Darbuotojo vardas pavardė","val.",null,{"$f":"IFERROR(ROUND(AVERAGE(K108:K112),2),\"0\")","v":"0"},{"$f":"ROUND(E108*F108,2)","v":0},{"$f":"ROUND(G108*$D$7,2)","v":0}]
[null,null,"Darbuotojo vardas pavardė"]
[null,null,"Darbuotojo vardas pavardė"]
[null,null,"Darbuotojo vardas pavardė"]
[null,null,"Darbuotojo vardas pavardė"]
["5.5.3","Pareigybės pavadinimas","Darbuotojo vardas pavardė","val.",null,{"$f":"IFERROR(ROUND(AVERAGE(K113:K117),2),\"0\")","v":"0"},{"$f":"ROUND(E113*F113,2)","v":0},{"$f":"ROUND(G113*$D$7,2)","v":0}]
[null,null,"Darbuotojo vardas pavardė"]
[null,null,"Darbuotojo vardas pavardė"]
[null,null,"Darbuotojo vardas pavardė"]
[null,null,"Darbuotojo vardas pavardė"]
["5.5.4","Pareigybės pavadinimas","Darbuotojo vardas pavardė","val.",null,{"$f":"IFERROR(ROUND(AVERAGE(K118:K122),2),\"0\")","v":"0"},{"$f":"ROUND(E118*F118,2)","v":0},{"$f":"ROUND(G118*$D$7,2)","v":0}]
[null,null,"Darbuotojo vardas pavardė"]
[null,null,"Darbuotojo vardas pavardė"]
[null,null,"Darbuotojo vardas pavardė"]
[null,null,"Darbuotojo vardas pavardė"]
["5.5.5","Pareigybės pavadinimas","Darbuotojo vardas pavardė","val.",null,{"$f":"IFERROR(ROUND(AVERAGE(K123:K127),2),\"0\")","v":"0"},{"$f":"ROUND(E123*F123,2)","v":0},{"$f":"ROUND(G123*$D$7,2)","v":0}]
[null,null,"Darbuotojo vardas pavardė"]
[null,null,"Darbuotojo vardas pavardė"]
[null,null,"Darbuotojo vardas pavardė"]
[null,null,"Darbuotojo vardas pavardė"]
["5.5.6","Pareigybės pavadinimas","Darbuotojo vardas pavardė","val.",null,{"$f":"IFERROR(ROUND(AVERAGE(K128:K132),2),\"0\")","v":"0"},{"$f":"ROUND(E128*F128,2)","v":0},{"$f":"ROUND(G128*$D$7,2)","v":0}]
[null,null,"Darbuotojo vardas pavardė"]
[null,null,"Darbuotojo vardas pavardė"]
[null,null,"Darbuotojo vardas pavardė"]
[null,null,"Darbuotojo vardas pavardė"]
["5.5.7","Pareigybės pavadinimas","Darbuotojo vardas pavardė","val.",null,{"$f":"IFERROR(ROUND(AVERAGE(K133:K137),2),\"0\")","v":"0"},{"$f":"ROUND(E133*F133,2)","v":0},{"$f":"ROUND(G133*$D$7,2)","v":0}]
[null,null,"Darbuotojo vardas pavardė"]
[null,null,"Darbuotojo vardas pavardė"]
[null,null,"Darbuotojo vardas pavardė"]
[null,null,"Darbuotojo vardas pavardė"]
["5.5.8","Pareigybės pavadinimas","Darbuotojo vardas pavardė","val.",null,{"$f":"IFERROR(ROUND(AVERAGE(K138:K142),2),\"0\")","v":"0"},{"$f":"ROUND(E138*F138,2)","v":0},{"$f":"ROUND(G138*$D$7,2)","v":0}]
[null,null,"Darbuotojo vardas pavardė"]
[null,null,"Darbuotojo vardas pavardė"]
[null,null,"Darbuotojo vardas pavardė"]
[null,null,"Darbuotojo vardas pavardė"]
["5.5.9","Pareigybės pavadinimas","Darbuotojo vardas pavardė","val.",null,{"$f":"IFERROR(ROUND(AVERAGE(K143:K147),2),\"0\")","v":"0"},{"$f":"ROUND(E143*F143,2)","v":0},{"$f":"ROUND(G143*$D$7,2)","v":0}]
[null,null,"Darbuotojo vardas pavardė"]
[null,null,"Darbuotojo vardas pavardė"]
[null,null,"Darbuotojo vardas pavardė"]
[null,null,"Darbuotojo vardas pavardė"]
["5.5.10","Pareigybės pavadinimas","Darbuotojo vardas pavardė","val.",null,{"$f":"IFERROR(ROUND(AVERAGE(K148:K152),2),\"0\")","v":"0"},{"$f":"ROUND(E148*F148,2)","v":0},{"$f":"ROUND(G148*$D$7,2)","v":0}]
[null,null,"Darbuotojo vardas pavardė"]
[null,null,"Darbuotojo vardas pavardė"]
[null,null,"Darbuotojo vardas pavardė"]
[null,null,"Darbuotojo vardas pavardė"]
["5.6","Projektą vykdančio personalo komandiruočių išlaidos",null,null,null,null,{"$f":"SUM(G154,G161,G168,G175,G182,G189,G196,G203,G210,G217)","v":0},{"$f":"SUM(H154,H161,H168,H175,H182,H189,H196,H203,H210,H217)","v":0}]
["5.6.1","Komandiruotės pavadinimas, vieta, trukmė dienomis, vykstančių asmenų skaičius","Iš viso komandiruotei",null,null,null,{"$f":"SUM(G155:G160)","v":0},{"$f":"ROUND(G154*$D$7,2)","v":0}]
[null,null,"Dienpinigiai",null,null,null,{"$f":"ROUND(E155*F155,2)","v":0}]
[null,null,"Gyvenamojo ploto nuoma",null,null,null,0]
[null,null,"Kelionės išlaidos",null,null,null,0]
[null,null,"Dalyvavimo mokestis",null,null,null,0]
[null,null,"Kitos išlaidų pavadinimas",null,null,null,0]
[null,null,"Kitos išlaidų pavadinimas",null,null,null,0]
["5.6.2","Komandiruotės pavadinimas, vieta, trukmė dienomis, vykstančių asmenų skaičius","Iš viso komandiruotei",null,null,null,{"$f":"SUM(G162:G167)","v":0},{"$f":"ROUND(G161*$D$7,2)","v":0}]
[null,null,"Dienpinigiai",null,null,null,{"$f":"ROUND(E162*F162,2)","v":0}]
[null,null,"Gyvenamojo ploto nuoma",null,null,null,0]
[null,null,"Kelionės išlaidos",null,null,null,0]
[null,null,"Dalyvavimo mokestis",null,null,null,0]
[null,null,"Kitos išlaidų pavadinimas",null,null,null,0]
[null,null,"Kitos išlaidų pavadinimas",null,null,null,0]
["5.6.3","Komandiruotės pavadinimas, vieta, trukmė dienomis, vykstančių asmenų skaičius","Iš viso komandiruotei",null,null,null,{"$f":"SUM(G169:G174)","v":0},{"$f":"ROUND(G168*$D$7,2)","v":0}]
[null,null,"Dienpinigiai",null,null,null,{"$f":"ROUND(E169*F169,2)","v":0}]
[null,null,"Gyvenamojo ploto nuoma",null,null,null,0]
[null,null,"Kelionės išlaidos",null,null,null,0]
[null,null,"Dalyvavimo mokestis",null,null,null,0]
[null,null,"Kitos išlaidų pavadinimas",null,null,null,0]
[null,null,"Kitos išlaidų pavadinimas",null,null,null,0]
["5.6.4","Komandiruotės pavadinimas, vieta, trukmė dienomis, vykstančių asmenų skaičius","Iš viso komandiruotei",null,null,null,{"$f":"SUM(G176:G181)","v":0},{"$f":"ROUND(G175*$D$7,2)","v":0}]
[null,null,"Dienpinigiai",null,null,null,{"$f":"ROUND(E176*F176,2)","v":0}]
[null,null,"Gyvenamojo ploto nuoma",null,null,null,0]
[null,null,"Kelionės išlaidos",null,null,null,0]
[null,null,"Dalyvavimo mokestis",null,null,null,0]
[null,null,"Kitos išlaidų pavadinimas",null,null,null,0]
[null,null,"Kitos išlaidų pavadinimas",null,null,null,0]
["5.6.5","Komandiruotės pavadinimas, vieta, trukmė dienomis, vykstančių asmenų skaičius","Iš viso komandiruotei",null,null,null,{"$f":"SUM(G183:G188)","v":0},{"$f":"ROUND(G182*$D$7,2)","v":0}]
[null,null,"Dienpinigiai",null,null,null,{"$f":"ROUND(E183*F183,2)","v":0}]
[null,null,"Gyvenamojo ploto nuoma",null,null,null,0]
[null,null,"Kelionės išlaidos",null,null,null,0]
[null,null,"Dalyvavimo mokestis",null,null,null,0]
[null,null,"Kitos išlaidų pavadinimas",null,null,null,0]
[null,null,"Kitos išlaidų pavadinimas",null,null,null,0]
["5.6.6","Komandiruotės pavadinimas, vieta, trukmė dienomis, vykstančių asmenų skaičius","Iš viso komandiruotei",null,null,null,{"$f":"SUM(G190:G195)","v":0},{"$f":"ROUND(G189*$D$7,2)","v":0}]
[null,null,"Dienpinigiai",null,null,null,{"$f":"ROUND(E190*F190,2)","v":0}]
[null,null,"Gyvenamojo ploto nuoma",null,null,null,0]
[null,null,"Kelionės išlaidos",null,null,null,0]
[null,null,"Dalyvavimo mokestis",null,null,null,0]
[null,null,"Kitos išlaidų pavadinimas",null,null,null,0]
[null,null,"Kitos išlaidų pavadinimas",null,null,null,0]
["5.6.7","Komandiruotės pavadinimas, vieta, trukmė dienomis, vykstančių asmenų skaičius","Iš viso komandiruotei",null,null,null,{"$f":"SUM(G197:G202)","v":0},{"$f":"ROUND(G196*$D$7,2)","v":0}]
[null,null,"Dienpinigiai",null,null,null,{"$f":"ROUND(E197*F197,2)","v":0}]
[null,null,"Gyvenamojo ploto nuoma",null,null,null,0]
[null,null,"Kelionės išlaidos",null,null,null,0]
[null,null,"Dalyvavimo mokestis",null,null,null,0]
[null,null,"Kitos išlaidų pavadinimas",null,null,null,0]
[null,null,"Kitos išlaidų pavadinimas",null,null,null,0]
["5.6.8","Komandiruotės pavadinimas, vieta, trukmė dienomis, vykstančių asmenų skaičius","Iš viso komandiruotei",null,null,null,{"$f":"SUM(G204:G209)","v":0},{"$f":"ROUND(G203*$D$7,2)","v":0}]
[null,null,"Dienpinigiai",null,null,null,{"$f":"ROUND(E204*F204,2)","v":0}]
[null,null,"Gyvenamojo ploto nuoma",null,null,null,0]
[null,null,"Kelionės išlaidos",null,null,null,0]
[null,null,"Dalyvavimo mokestis",null,null,null,0]
[null,null,"Kitos išlaidų pavadinimas",null,null,null,0]
[null,null,"Kitos išlaidų pavadinimas",null,null,null,0]
["5.6.9","Komandiruotės pavadinimas, vieta, trukmė dienomis, vykstančių asmenų skaičius","Iš viso komandiruotei",null,null,null,{"$f":"SUM(G211:G216)","v":0},{"$f":"ROUND(G210*$D$7,2)","v":0}]
[null,null,"Dienpinigiai",null,null,null,{"$f":"ROUND(E211*F211,2)","v":0}]
[null,null,"Gyvenamojo ploto nuoma",null,null,null,0]
[null,null,"Kelionės išlaidos",null,null,null,0]
[null,null,"Dalyvavimo mokestis",null,null,null,0]
[null,null,"Kitos išlaidų pavadinimas",null,null,null,0]
[null,null,"Kitos išlaidų pavadinimas",null,null,null,0]
["5.6.10","Komandiruotės pavadinimas, vieta, trukmė dienomis, vykstančių asmenų skaičius","Iš viso komandiruotei",null,null,null,{"$f":"SUM(G218:G223)","v":0},{"$f":"ROUND(G217*$D$7,2)","v":0}]
[null,null,"Dienpinigiai",null,null,null,{"$f":"ROUND(E218*F218,2)","v":0}]
[null,null,"Gyvenamojo ploto nuoma",null,null,null,0]
[null,null,"Kelionės išlaidos",null,null,null,0]
[null,null,"Dalyvavimo mokestis",null,null,null,0]
[null,null,"Kitos išlaidų pavadinimas",null,null,null,0]
[null,null,"Kitos išlaidų pavadinimas",null,null,null,0]
["5.7","Įrangos nuomos išlaidos, veiklai priskirtos pro rata principu. Įranga turi būti tiesiogiai susijusi su projekto įgyvendinimu ir negali būti įsigyta iš ES struktūrinių fondų ar kt. ES finansinių priemonių lėšų",null,null,null,null,{"$f":"SUM(G225:G241)","v":0},{"$f":"SUM(H225:H241)","v":0},null,null,"Faktinės 1 mėnesio išlaidos, Eur","Naudojimo projekte trukmė, mėn."]
["5.7.1","Įrangos pavadinimas",null,"pro rata proc.",null,{"$f":"K225*L225","v":0},{"$f":"ROUND(E225*F225,2)","v":0},{"$f":"ROUND(G225*$D$7,2)","v":0}]
["5.7.2","Įrangos pavadinimas",null,"pro rata proc.",null,{"$f":"K226*L226","v":0},0,{"$f":"ROUND(G226*$D$7,2)","v":0}]
["5.7.3","Įrangos pavadinimas",null,"pro rata proc.",null,0,0,0]
["5.7.4","Įrangos pavadinimas",null,"pro rata proc.",null,0,0,0]
["5.7.5","Įrangos pavadinimas",null,"pro rata proc.",null,0,0,0]
["5.7.6","Įrangos pavadinimas",null,"pro rata proc.",null,0,0,0]
["5.7.7","Įrangos pavadinimas",null,"pro rata proc.",null,0,0,0]
["5.7.8","Įrangos pavadinimas",null,"pro rata proc.",null,0,0,0]
["5.7.9","Įrangos pavadinimas",null,"pro rata proc.",null,0,0,0]
["5.7.10","Įrangos pavadinimas",null,"pro rata proc.",null,0,0,0]
["5.7.11","Įrangos pavadinimas",null,"pro rata proc.",null,0,0,0]
["5.7.12","Įrangos pavadinimas",null,"pro rata proc.",null,0,0,0]
["5.7.13","Įrangos pavadinimas",null,"pro rata proc.",null,0,0,0]
["5.7.14","Įrangos pavadinimas",null,"pro rata proc.",null,{"$f":"K238*L238","v":0},0,{"$f":"ROUND(G238*$D$7,2)","v":0}]
["5.7.15","Įrangos pavadinimas",null,"pro rata proc.",null,{"$f":"K239*L239","v":0},0,{"$f":"ROUND(G239*$D$7,2)","v":0}]
["5.7.16","Įrangos pavadinimas",null,"pro rata proc.",null,{"$f":"K240*L240","v":0},0,{"$f":"ROUND(G240*$D$7,2)","v":0}]
["5.7.17","Įrangos pavadinimas",null,"pro rata proc.",null,{"$f":"K241*L241","v":0},0,{"$f":"ROUND(G241*$D$7,2)","v":0}]
["5.8","Pastatų ar patalpų nuomos išlaidos, veiklai priskirtos pro rata principu. Pastatai ar patalpos turi būti tiesiogiai susijusi su projekto įgyvendinimu.",null,null,null,null,{"$f":"SUM(G243:G247)","v":0},{"$f":"SUM(H243:H247)","v":0},null,null,"Faktinės 1 mėnesio išlaidos, Eur","Naudojimo projekte trukmė, mėn."]
["5.8.1","Pastato, patalpų adresas",null,"pro rata proc.",null,{"$f":"K243*L243","v":0},{"$f":"ROUND(E243*F243,2)","v":0},{"$f":"ROUND(G243*$D$7,2)","v":0}]
["5.8.2","Pastato, patalpų adresas",null,"pro rata proc.",null,{"$f":"K244*L244","v":0},{"$f":"ROUND(E244*F244,2)","v":0},{"$f":"ROUND(G244*$D$7,2)","v":0}]
["5.8.3","Pastato, patalpų adresas",null,"pro rata proc.",null,{"$f":"K245*L245","v":0},{"$f":"ROUND(E245*F245,2)","v":0},{"$f":"ROUND(G245*$D$7,2)","v":0}]
["5.8.4","Pastato, patalpų adresas",null,"pro rata proc.",null,{"$f":"K246*L246","v":0},{"$f":"ROUND(E246*F246,2)","v":0},{"$f":"ROUND(G246*$D$7,2)","v":0}]
["5.8.5","Pastato, patalpų adresas",null,"pro rata proc.",null,{"$f":"K247*L247","v":0},{"$f":"ROUND(E247*F247,2)","v":0},{"$f":"ROUND(G247*$D$7,2)","v":0}]
["Iš viso tinkamų finansuoti išlaidų:",null,null,null,null,null,{"$f":"G10+G21","v":0},{"$f":"H10+H21","v":0}]

{"sheet":"19","index":13,"n_rows":248,"n_cols":19,"rows_kept":248,"cut":false,"hidden":true,"merged":[[5,3,5,8],[8,1,8,2],[9,1,9,5],[10,1,10,2],[11,1,11,2],[12,1,12,2],[0,3,0,8],[2,0,2,2],[2,3,2,8],[3,3,3,4],[3,5,3,6],[4,0,4,2],[4,3,4,8],[19,1,19,2],[20,1,20,5],[21,1,21,5],[22,1,22,2],[23,1,23,2],[24,1,24,2],[13,1,13,2],[14,1,14,2],[15,1,15,2],[16,1,16,2],[17,1,17,2],[18,1,18,2],[31,1,31,2],[32,1,32,5],[33,1,33,2],[34,1,34,2],[35,1,35,2],[36,1,36,2],[25,1,25,2],[26,1,26,2],[27,1,27,2],[28,1,28,2],[29,1,29,2],[30,1,30,2],[43,1,43,5],[44,1,44,2],[45,1,45,2],[46,1,46,2],[47,1,47,2],[48,1,48,2],[37,1,37,2],[38,1,38,2],[39,1,39,2],[40,1,40,2],[41,1,41,2],[42,1,42,2],[55,1,55,2],[56,1,56,2],[57,1,57,2],[58,1,58,2],[59,1,59,2],[60,1,60,2],[49,1,49,2],[50,1,50,2],[51,1,51,2],[52,1,52,2],[53,1,53,2],[54,1,54,2],[67,1,67,2],[68,1,68,2],[69,1,69,2],[70,1,70,2],[71,1,71,5],[72,1,72,2],[61,1,61,2],[62,1,62,2],[63,1,63,2],[64,1,64,2],[65,1,65,2],[66,1,66,2],[79,1,79,2],[80,1,80,2],[81,1,81,2],[82,1,82,2],[83,1,83,2],[84,1,84,2],[73,1,73,2],[74,1,74,2],[75,1,75,2],[76,1,76,2],[77,1,77,2],[78,1,78,2],[91,1,91,2],[92,1,92,2],[93,1,93,2],[94,1,94,2],[95,1,95,2],[96,1,96,2],[85,1,85,2],[86,1,86,2],[87,1,87,2],[88,1,88,2],[89,1,89,2],[90,1,90,2],[97,1,97,2],[98,1,98,2],[99,1,99,2],[100,1,100,2],[101,1,101,5],[102,0,106,0],[102,1,106,1],[102,3,106,3],[102,4,106,4],[102,5,106,5],[102,6,106,6],[102,7,106,7],[102,8,106,8],[107,0,111,0],[107,1,111,1],[107,3,111,3],[107,4,111,4],[107,5,111,5],[107,6,111,6],[107,7,111,7],[107,8,111,8],[112,0,116,0],[112,1,116,1],[112,3,116,3],[112,4,116,4],[112,5,116,5],[112,6,116,6],[112,7,116,7],[112,8,116,8],[117,7,121,7],[117,8,121,8],[122,0,126,0],[122,1,126,1],[122,3,126,3],[122,4,126,4],[122,5,126,5],[122,6,126,6],[122,7,126,7],[122,8,126,8],[117,0,121,0],[117,1,121,1],[117,3,121,3],[117,4,121,4],[117,5,121,5],[117,6,121,6],[127,7,131,7],[127,8,131,8],[132,0,136,0],[132,1,136,1],[132,3,136,3],[132,4,136,4],[132,5,136,5],[132,6,136,6],[132,7,136,7],[132,8,136,8],[127,0,131,0],[127,1,131,1],[127,3,131,3],[127,4,131,4],[127,5,131,5],[127,6,131,6],[137,7,141,7],[137,8,141,8],[142,0,146,0],[142,1,146,1],[142,3,146,3],[142,4,146,4],[142,5,146,5],[142,6,146,6],[142,7,146,7],[142,8,146,8],[137,0,141,0],[137,1,141,1],[137,3,141,3],[137,4,141,4],[137,5,141,5],[137,6,141,6],[160,0,166,0],[160,1,166,1],[160,8,166,8],[167,0,173,0],[167,1,173,1],[167,8,173,8],[147,7,151,7],[147,8,151,8],[152,1,152,5],[153,0,159,0],[153,1,159,1],[153,8,159,8],[147,0,151,0],[147,1,151,1],[147,3,151,3],[147,4,151,4],[147,5,151,5],[147,6,151,6],[188,0,194,0],[188,1,194,1],[188,8,194,8],[195,0,201,0],[195,1,201,1],[195,8,201,8],[174,0,180,0],[174,1,180,1],[174,8,180,8],[181,0,187,0],[181,1,187,1],[181,8,187,8],[216,0,222,0],[216,1,222,1],[216,8,222,8],[223,1,223,5],[224,1,224,2],[225,1,225,2],[202,0,208,0],[202,1,208,1],[202,8,208,8],[209,0,215,0],[209,1,215,1],[209,8,215,8],[232,1,232,2],[233,1,233,2],[234,1,234,2],[235,1,235,2],[236,1,236,2],[237,1,237,2],[226,1,226,2],[227,1,227,2],[228,1,228,2],[229,1,229,2],[230,1,230,2],[231,1,231,2],[244,1,244,2],[245,1,245,2],[246,1,246,2],[247,0,247,5],[238,1,238,2],[239,1,239,2],[240,1,240,2],[241,1,241,5],[242,1,242,2],[243,1,243,2]]}
[null,null,"Pasirinkite veiklos tipą:"]
[null,null,"Fizinio rodiklio Nr.:"]
["Fizinio rodiklio pavadinimas:"]
[null,null,"Fizinio rodiklio matavimo vnt.:",null,null,"Fizinio rodiklio vnt. skaičius:"]
["Juridinis asmuo (pareiškėjas, partneris), atsakingas už fizinį rodiklį:"]
[null,null,"Vykdytojo tipas:"]
[null,null,"Finansavimo intensyvumas:",null,null,null,"Pasirinkite biudžeto išlaidų kategoriją:","Visos"]
[]
["Eil. Nr.","Išlaidų kategorijos pavadinimas",null,"Matavimo vnt.","Kiekis","Vieneto kaina be PVM, Eur","Tinkamų finansuoti išlaidų suma be PVM, Eur","Finansavimo suma, Eur","Išlaidų pagrindimo dokumentų pavadinimas, data ir Nr."]
[4,"ĮRANGA, ĮRENGINIAI IR KT. TURTAS (techninių žinių ir išradimų patentų arba teisių pagal licencijų sutartį įsigijimo išlaidos)",null,null,null,null,{"$f":"SUM(G11:G20)","v":0},{"$f":"SUM(H11:H20)","v":0}]
["4.1","Išlaidų pavadinimas",null,null,null,null,{"$f":"ROUND(E11*F11,2)","v":0},{"$f":"ROUND(G11*$D$7,2)","v":0}]
["4.2","Išlaidų pavadinimas",null,null,null,null,0,0]
["4.3","Išlaidų pavadinimas",null,null,null,null,0,0]
["4.4","Išlaidų pavadinimas",null,null,null,null,0,0]
["4.5","Išlaidų pavadinimas",null,null,null,null,0,0]
["4.6","Išlaidų pavadinimas",null,null,null,null,0,0]
["4.7","Išlaidų pavadinimas",null,null,null,null,0,0]
["4.8","Išlaidų pavadinimas",null,null,null,null,0,0]
["4.9","Išlaidų pavadinimas",null,null,null,null,0,0]
["4.10","Išlaidų pavadinimas",null,null,null,null,0,0]
[5,"PROJEKTO VYKDYMAS",null,null,null,null,{"$f":"G22+G33+G44+G72+G102+G153+G224+G242","v":0},{"$f":"H22+H33+H44+H72+H102+H153+H224+H242","v":0}]
["5.1","MTEP paslaugos",null,null,null,null,{"$f":"SUM(G23:G32)","v":0},{"$f":"SUM(H23:H32)","v":0}]
["5.1.1","Paslaugos pavadinimas",null,null,null,null,{"$f":"ROUND(E23*F23,2)","v":0},0]
["5.1.2","Paslaugos pavadinimas",null,null,null,null,0,0]
["5.1.3","Paslaugos pavadinimas",null,null,null,null,0,0]
["5.1.4","Paslaugos pavadinimas",null,null,null,null,0,0]
["5.1.5","Paslaugos pavadinimas",null,null,null,null,0,0]
["5.1.6","Paslaugos pavadinimas",null,null,null,null,0,0]
["5.1.7","Paslaugos pavadinimas",null,null,null,null,0,0]
["5.1.8","Paslaugos pavadinimas",null,null,null,null,0,0]
["5.1.9","Paslaugos pavadinimas",null,null,null,null,0,0]
["5.1.10","Paslaugos pavadinimas",null,null,null,null,0,0]
["5.2","Konsultavimo ir lygiavertės paslaugos, teikiamos vien tik projekto MTEP veiklai.",null,null,null,null,{"$f":"SUM(G34:G43)","v":0},{"$f":"SUM(H34:H43)","v":0}]
["5.2.1","Paslaugos pavadinimas",null,null,null,null,{"$f":"ROUND(E34*F34,2)","v":0},0]
["5.2.2","Paslaugos pavadinimas",null,null,null,null,0,0]
["5.2.3","Paslaugos pavadinimas",null,null,null,null,0,0]
["5.2.4","Paslaugos pavadinimas",null,null,null,null,0,0]
["5.2.5","Paslaugos pavadinimas",null,null,null,null,0,0]
["5.2.6","Paslaugos pavadinimas",null,null,null,null,0,0]
["5.2.7","Paslaugos pavadinimas",null,null,null,null,0,0]
["5.2.8","Paslaugos pavadinimas",null,null,null,null,0,0]
["5.2.9","Paslaugos pavadinimas",null,null,null,null,0,0]
["5.2.10","Paslaugos pavadinimas",null,null,null,null,0,0]
["5.3","Medžiagos, mažavertis inventorius, atsargos ir pan. produktai, priskirtini trumpalaikiam turtui ir tiesiogiai susiję su MTEP veikla",null,null,null,null,{"$f":"SUM(G45:G71)","v":0},{"$f":"SUM(H45:H71)","v":0}]
["5.3.1","Išlaidų pavadinimas",null,null,null,null,{"$f":"ROUND(E45*F45,2)","v":0},{"$f":"ROUND(G45*$D$7,2)","v":0}]
["5.3.2","Išlaidų pavadinimas",null,null,null,null,{"$f":"ROUND(E46*F46,2)","v":0},{"$f":"ROUND(G46*$D$7,2)","v":0}]
["5.3.3","Išlaidų pavadinimas",null,null,null,null,{"$f":"ROUND(E47*F47,2)","v":0},{"$f":"ROUND(G47*$D$7,2)","v":0}]
["5.3.4","Išlaidų pavadinimas",null,null,null,null,{"$f":"ROUND(E48*F48,2)","v":0},{"$f":"ROUND(G48*$D$7,2)","v":0}]
["5.3.5","Išlaidų pavadinimas",null,null,null,null,{"$f":"ROUND(E49*F49,2)","v":0},{"$f":"ROUND(G49*$D$7,2)","v":0}]
["5.3.6","Išlaidų pavadinimas",null,null,null,null,0,0]
["5.3.7","Išlaidų pavadinimas",null,null,null,null,0,0]
["5.3.8","Išlaidų pavadinimas",null,null,null,null,0,0]
["5.3.9","Išlaidų pavadinimas",null,null,null,null,0,0]
["5.3.10","Išlaidų pavadinimas",null,null,null,null,0,0]
["5.3.11","Išlaidų pavadinimas",null,null,null,null,0,0]
["5.3.12","Išlaidų pavadinimas",null,null,null,null,0,0]
["5.3.13","Išlaidų pavadinimas",null,null,null,null,0,0]
["5.3.14","Išlaidų pavadinimas",null,null,null,null,0,0]
["5.3.15","Išlaidų pavadinimas",null,null,null,null,0,0]
["5.3.16","Išlaidų pavadinimas",null,null,null,null,0,0]
["5.3.17","Išlaidų pavadinimas",null,null,null,null,0,0]
["5.3.18","Išlaidų pavadinimas",null,null,null,null,0,0]
["5.3.19","Išlaidų pavadinimas",null,null,null,null,0,0]
["5.3.20","Išlaidų pavadinimas",null,null,null,null,0,0]
["5.3.21","Išlaidų pavadinimas",null,null,null,null,0,0]
["5.3.22","Išlaidų pavadinimas",null,null,null,null,0,0]
["5.3.23","Išlaidų pavadinimas",null,null,null,null,0,0]
["5.3.24","Išlaidų pavadinimas",null,null,null,null,0,0]
["5.3.25","Išlaidų pavadinimas",null,null,null,null,0,0]
["5.3.26","Išlaidų pavadinimas",null,null,null,null,0,0]
["5.3.27","Išlaidų pavadinimas",null,null,null,null,0,0]
["5.4","Projekto MTEP veikloms naudojamo ilgalaikio materialaus turto (įrangos, prietaisų, įrankių, įrenginių, mašinų ir įrengimų, pastatų ir (ar) patalpų), nusidėvėjimo sąnaudos, jeigu šiam turtui įsigyti nebuvo naudojamos viešosios (įskaitant ir kitų valstybių) lėšos",null,null,null,null,{"$f":"SUM(G73:G101)","v":0},{"$f":"SUM(H73:H101)","v":0},null,null,"Turto įvedimo į eksploataciją data","Turto įsigijimo vertė, Eur","Turto nudėvėjimo, amortizacijos laikotarpis, mėn.","Numatoma turto likutinė vertė, Eur","1 mėn. nudėvėjimo, amortizacijos suma, Eur","Turto naudojamo projekto reikmėms laikas, mėn.","Turto panaudojimo projekto reikmėms dalis (proc.)","Projektui priskirta turto nusidėvėjimo, amortizacijos suma per projekto laikotarpį, Eur"]
["5.4.1","Turtas, kurio nusidėvėjimą, amortizaciją prašoma finansuoti",null,null,1,{"$f":"R73","v":0},{"$f":"ROUND(E73*F73,2)","v":0},0,null,null,null,null,null,null,{"$f":"IFERROR(ROUND((L73-N73)/M73,2),\"0\")","v":"0"},null,null,{"$f":"O73*P73*Q73","v":0},{"$f":"IF(K73=0,\" \",IF(K73+(M73*30.5)<TODAY(),\"DĖMESIO! Patikrinkite, ar nurodytas turtas dar nėra nudėvėtas, amortizuotas\",\" \"))","v":" "}]
["5.4.2","Turtas, kurio nusidėvėjimą, amortizaciją prašoma finansuoti",null,null,1,0,0,0,null,null,null,null,null,null,{"$f":"IFERROR(ROUND((L74-N74)/M74,2),\"0\")","v":"0"},null,null,{"$f":"O74*P74*Q74","v":0},{"$f":"IF(K74=0,\" \",IF(K74+(M74*30.5)<TODAY(),\"DĖMESIO! Patikrinkite, ar nurodytas turtas dar nėra nudėvėtas, amortizuotas\",\" \"))","v":" "}]
["5.4.3","Turtas, kurio nusidėvėjimą, amortizaciją prašoma finansuoti",null,null,1,0,0,0,null,null,null,null,null,null,"0",null,null,0," "]
["5.4.4","Turtas, kurio nusidėvėjimą, amortizaciją prašoma finansuoti",null,null,1,0,0,0,null,null,null,null,null,null,"0",null,null,0," "]
["5.4.5","Turtas, kurio nusidėvėjimą, amortizaciją prašoma finansuoti",null,null,1,0,0,0,null,null,null,null,null,null,"0",null,null,0," "]
["5.4.6","Turtas, kurio nusidėvėjimą, amortizaciją prašoma finansuoti",null,null,1,0,0,0,null,null,null,null,null,null,"0",null,null,0," "]
["5.4.7","Turtas, kurio nusidėvėjimą, amortizaciją prašoma finansuoti",null,null,1,0,0,0,null,null,null,null,null,null,"0",null,null,0," "]
["5.4.8","Turtas, kurio nusidėvėjimą, amortizaciją prašoma finansuoti",null,null,1,0,0,0,null,null,null,null,null,null,"0",null,null,0," "]
["5.4.9","Turtas, kurio nusidėvėjimą, amortizaciją prašoma finansuoti",null,null,1,0,0,0,null,null,null,null,null,null,"0",null,null,0," "]
["5.4.10","Turtas, kurio nusidėvėjimą, amortizaciją prašoma finansuoti",null,null,1,0,0,0,null,null,null,null,null,null,"0",null,null,0," "]
["5.4.11","Turtas, kurio nusidėvėjimą, amortizaciją prašoma finansuoti",null,null,1,0,0,0,null,null,null,null,null,null,"0",null,null,0," "]
["5.4.12","Turtas, kurio nusidėvėjimą, amortizaciją prašoma finansuoti",null,null,1,0,0,0,null,null,null,null,null,null,"0",null,null,0," "]
["5.4.13","Turtas, kurio nusidėvėjimą, amortizaciją prašoma finansuoti",null,null,1,0,0,0,null,null,null,null,null,null,"0",null,null,0," "]
["5.4.14","Turtas, kurio nusidėvėjimą, amortizaciją prašoma finansuoti",null,null,1,0,0,0,null,null,null,null,null,null,"0",null,null,0," "]
["5.4.15","Turtas, kurio nusidėvėjimą, amortizaciją prašoma finansuoti",null,null,1,0,0,0,null,null,null,null,null,null,"0",null,null,0," "]
["5.4.16","Turtas, kurio nusidėvėjimą, amortizaciją prašoma finansuoti",null,null,1,0,0,0,null,null,null,null,null,null,"0",null,null,0," "]
["5.4.17","Turtas, kurio nusidėvėjimą, amortizaciją prašoma finansuoti",null,null,1,0,0,0,null,null,null,null,null,null,"0",null,null,0," "]
["5.4.18","Turtas, kurio nusidėvėjimą, amortizaciją prašoma finansuoti",null,null,1,0,0,0,null,null,null,null,null,null,"0",null,null,0," "]
["5.4.19","Turtas, kurio nusidėvėjimą, amortizaciją prašoma finansuoti",null,null,1,0,0,0,null,null,null,null,null,null,"0",null,null,0," "]
["5.4.20","Turtas, kurio nusidėvėjimą, amortizaciją prašoma finansuoti",null,null,1,0,0,0,null,null,null,null,null,null,"0",null,null,0," "]
["5.4.21","Turtas, kurio nusidėvėjimą, amortizaciją prašoma finansuoti",null,null,1,0,0,0,null,null,null,null,null,null,"0",null,null,0," "]
["5.4.22","Turtas, kurio nusidėvėjimą, amortizaciją prašoma finansuoti",null,null,1,0,0,0,null,null,null,null,null,null,"0",null,null,0," "]
["5.4.23","Turtas, kurio nusidėvėjimą, amortizaciją prašoma finansuoti",null,null,1,0,0,0,null,null,null,null,null,null,"0",null,null,0," "]
["5.4.24","Turtas, kurio nusidėvėjimą, amortizaciją prašoma finansuoti",null,null,1,0,0,0,null,null,null,null,null,null,"0",null,null,0," "]
["5.4.25","Turtas, kurio nusidėvėjimą, amortizaciją prašoma finansuoti",null,null,1,0,0,0,null,null,null,null,null,null,"0",null,null,0," "]
["5.4.26","Turtas, kurio nusidėvėjimą, amortizaciją prašoma finansuoti",null,null,1,0,0,0,null,null,null,null,null,null,"0",null,null,0," "]
["5.4.27","Turtas, kurio nusidėvėjimą, amortizaciją prašoma finansuoti",null,null,1,0,0,0,null,null,null,null,null,null,"0",null,null,0," "]
["5.4.28","Turtas, kurio nusidėvėjimą, amortizaciją prašoma finansuoti",null,null,1,0,0,0,null,null,null,null,null,null,"0",null,null,0," "]
["5.4.29","Turtas, kurio nusidėvėjimą, amortizaciją prašoma finansuoti",null,null,1,0,0,0,null,null,null,null,null,null,"0",null,null,0," "]
["5.5","Projektą vykdančio personalo darbo užmokestis ir išlaidos su darbo santykiais susijusiems darbdavio įsipareigojimams",null,null,null,null,{"$f":"SUM(G103:G152)","v":0},{"$f":"SUM(H103:H152)","v":0},null,null,"Faktiškai gaunamas darbo užmokesti už 1 valandą pagal  pastarųjų 6 mėn. vidurkį, Eur"]
["5.5.1","Pareigybės pavadinimas","Darbuotojo vardas pavardė","val.",null,{"$f":"IFERROR(ROUND(AVERAGE(K103:K107),2),\"0\")","v":"0"},{"$f":"ROUND(E103*F103,2)","v":0},{"$f":"ROUND(G103*$D$7,2)","v":0}]
[null,null,"Darbuotojo vardas pavardė"]
[null,null,"Darbuotojo vardas pavardė"]
[null,null,"Darbuotojo vardas pavardė"]
[null,null,"Darbuotojo vardas pavardė"]
["5.5.2","Pareigybės pavadinimas","Darbuotojo vardas pavardė","val.",null,{"$f":"IFERROR(ROUND(AVERAGE(K108:K112),2),\"0\")","v":"0"},{"$f":"ROUND(E108*F108,2)","v":0},{"$f":"ROUND(G108*$D$7,2)","v":0}]
[null,null,"Darbuotojo vardas pavardė"]
[null,null,"Darbuotojo vardas pavardė"]
[null,null,"Darbuotojo vardas pavardė"]
[null,null,"Darbuotojo vardas pavardė"]
["5.5.3","Pareigybės pavadinimas","Darbuotojo vardas pavardė","val.",null,{"$f":"IFERROR(ROUND(AVERAGE(K113:K117),2),\"0\")","v":"0"},{"$f":"ROUND(E113*F113,2)","v":0},{"$f":"ROUND(G113*$D$7,2)","v":0}]
[null,null,"Darbuotojo vardas pavardė"]
[null,null,"Darbuotojo vardas pavardė"]
[null,null,"Darbuotojo vardas pavardė"]
[null,null,"Darbuotojo vardas pavardė"]
["5.5.4","Pareigybės pavadinimas","Darbuotojo vardas pavardė","val.",null,{"$f":"IFERROR(ROUND(AVERAGE(K118:K122),2),\"0\")","v":"0"},{"$f":"ROUND(E118*F118,2)","v":0},{"$f":"ROUND(G118*$D$7,2)","v":0}]
[null,null,"Darbuotojo vardas pavardė"]
[null,null,"Darbuotojo vardas pavardė"]
[null,null,"Darbuotojo vardas pavardė"]
[null,null,"Darbuotojo vardas pavardė"]
["5.5.5","Pareigybės pavadinimas","Darbuotojo vardas pavardė","val.",null,{"$f":"IFERROR(ROUND(AVERAGE(K123:K127),2),\"0\")","v":"0"},{"$f":"ROUND(E123*F123,2)","v":0},{"$f":"ROUND(G123*$D$7,2)","v":0}]
[null,null,"Darbuotojo vardas pavardė"]
[null,null,"Darbuotojo vardas pavardė"]
[null,null,"Darbuotojo vardas pavardė"]
[null,null,"Darbuotojo vardas pavardė"]
["5.5.6","Pareigybės pavadinimas","Darbuotojo vardas pavardė","val.",null,{"$f":"IFERROR(ROUND(AVERAGE(K128:K132),2),\"0\")","v":"0"},{"$f":"ROUND(E128*F128,2)","v":0},{"$f":"ROUND(G128*$D$7,2)","v":0}]
[null,null,"Darbuotojo vardas pavardė"]
[null,null,"Darbuotojo vardas pavardė"]
[null,null,"Darbuotojo vardas pavardė"]
[null,null,"Darbuotojo vardas pavardė"]
["5.5.7","Pareigybės pavadinimas","Darbuotojo vardas pavardė","val.",null,{"$f":"IFERROR(ROUND(AVERAGE(K133:K137),2),\"0\")","v":"0"},{"$f":"ROUND(E133*F133,2)","v":0},{"$f":"ROUND(G133*$D$7,2)","v":0}]
[null,null,"Darbuotojo vardas pavardė"]
[null,null,"Darbuotojo vardas pavardė"]
[null,null,"Darbuotojo vardas pavardė"]
[null,null,"Darbuotojo vardas pavardė"]
["5.5.8","Pareigybės pavadinimas","Darbuotojo vardas pavardė","val.",null,{"$f":"IFERROR(ROUND(AVERAGE(K138:K142),2),\"0\")","v":"0"},{"$f":"ROUND(E138*F138,2)","v":0},{"$f":"ROUND(G138*$D$7,2)","v":0}]
[null,null,"Darbuotojo vardas pavardė"]
[null,null,"Darbuotojo vardas pavardė"]
[null,null,"Darbuotojo vardas pavardė"]
[null,null,"Darbuotojo vardas pavardė"]
["5.5.9","Pareigybės pavadinimas","Darbuotojo vardas pavardė","val.",null,{"$f":"IFERROR(ROUND(AVERAGE(K143:K147),2),\"0\")","v":"0"},{"$f":"ROUND(E143*F143,2)","v":0},{"$f":"ROUND(G143*$D$7,2)","v":0}]
[null,null,"Darbuotojo vardas pavardė"]
[null,null,"Darbuotojo vardas pavardė"]
[null,null,"Darbuotojo vardas pavardė"]
[null,null,"Darbuotojo vardas pavardė"]
["5.5.10","Pareigybės pavadinimas","Darbuotojo vardas pavardė","val.",null,{"$f":"IFERROR(ROUND(AVERAGE(K148:K152),2),\"0\")","v":"0"},{"$f":"ROUND(E148*F148,2)","v":0},{"$f":"ROUND(G148*$D$7,2)","v":0}]
[null,null,"Darbuotojo vardas pavardė"]
[null,null,"Darbuotojo vardas pavardė"]
[null,null,"Darbuotojo vardas pavardė"]
[null,null,"Darbuotojo vardas pavardė"]
["5.6","Projektą vykdančio personalo komandiruočių išlaidos",null,null,null,null,{"$f":"SUM(G154,G161,G168,G175,G182,G189,G196,G203,G210,G217)","v":0},{"$f":"SUM(H154,H161,H168,H175,H182,H189,H196,H203,H210,H217)","v":0}]
["5.6.1","Komandiruotės pavadinimas, vieta, trukmė dienomis, vykstančių asmenų skaičius","Iš viso komandiruotei",null,null,null,{"$f":"SUM(G155:G160)","v":0},{"$f":"ROUND(G154*$D$7,2)","v":0}]
[null,null,"Dienpinigiai",null,null,null,{"$f":"ROUND(E155*F155,2)","v":0}]
[null,null,"Gyvenamojo ploto nuoma",null,null,null,0]
[null,null,"Kelionės išlaidos",null,null,null,0]
[null,null,"Dalyvavimo mokestis",null,null,null,0]
[null,null,"Kitos išlaidų pavadinimas",null,null,null,0]
[null,null,"Kitos išlaidų pavadinimas",null,null,null,0]
["5.6.2","Komandiruotės pavadinimas, vieta, trukmė dienomis, vykstančių asmenų skaičius","Iš viso komandiruotei",null,null,null,{"$f":"SUM(G162:G167)","v":0},{"$f":"ROUND(G161*$D$7,2)","v":0}]
[null,null,"Dienpinigiai",null,null,null,{"$f":"ROUND(E162*F162,2)","v":0}]
[null,null,"Gyvenamojo ploto nuoma",null,null,null,0]
[null,null,"Kelionės išlaidos",null,null,null,0]
[null,null,"Dalyvavimo mokestis",null,null,null,0]
[null,null,"Kitos išlaidų pavadinimas",null,null,null,0]
[null,null,"Kitos išlaidų pavadinimas",null,null,null,0]
["5.6.3","Komandiruotės pavadinimas, vieta, trukmė dienomis, vykstančių asmenų skaičius","Iš viso komandiruotei",null,null,null,{"$f":"SUM(G169:G174)","v":0},{"$f":"ROUND(G168*$D$7,2)","v":0}]
[null,null,"Dienpinigiai",null,null,null,{"$f":"ROUND(E169*F169,2)","v":0}]
[null,null,"Gyvenamojo ploto nuoma",null,null,null,0]
[null,null,"Kelionės išlaidos",null,null,null,0]
[null,null,"Dalyvavimo mokestis",null,null,null,0]
[null,null,"Kitos išlaidų pavadinimas",null,null,null,0]
[null,null,"Kitos išlaidų pavadinimas",null,null,null,0]
["5.6.4","Komandiruotės pavadinimas, vieta, trukmė dienomis, vykstančių asmenų skaičius","Iš viso komandiruotei",null,null,null,{"$f":"SUM(G176:G181)","v":0},{"$f":"ROUND(G175*$D$7,2)","v":0}]
[null,null,"Dienpinigiai",null,null,null,{"$f":"ROUND(E176*F176,2)","v":0}]
[null,null,"Gyvenamojo ploto nuoma",null,null,null,0]
[null,null,"Kelionės išlaidos",null,null,null,0]
[null,null,"Dalyvavimo mokestis",null,null,null,0]
[null,null,"Kitos išlaidų pavadinimas",null,null,null,0]
[null,null,"Kitos išlaidų pavadinimas",null,null,null,0]
["5.6.5","Komandiruotės pavadinimas, vieta, trukmė dienomis, vykstančių asmenų skaičius","Iš viso komandiruotei",null,null,null,{"$f":"SUM(G183:G188)","v":0},{"$f":"ROUND(G182*$D$7,2)","v":0}]
[null,null,"Dienpinigiai",null,null,null,{"$f":"ROUND(E183*F183,2)","v":0}]
[null,null,"Gyvenamojo ploto nuoma",null,null,null,0]
[null,null,"Kelionės išlaidos",null,null,null,0]
[null,null,"Dalyvavimo mokestis",null,null,null,0]
[null,null,"Kitos išlaidų pavadinimas",null,null,null,0]
[null,null,"Kitos išlaidų pavadinimas",null,null,null,0]
["5.6.6","Komandiruotės pavadinimas, vieta, trukmė dienomis, vykstančių asmenų skaičius","Iš viso komandiruotei",null,null,null,{"$f":"SUM(G190:G195)","v":0},{"$f":"ROUND(G189*$D$7,2)","v":0}]
[null,null,"Dienpinigiai",null,null,null,{"$f":"ROUND(E190*F190,2)","v":0}]
[null,null,"Gyvenamojo ploto nuoma",null,null,null,0]
[null,null,"Kelionės išlaidos",null,null,null,0]
[null,null,"Dalyvavimo mokestis",null,null,null,0]
[null,null,"Kitos išlaidų pavadinimas",null,null,null,0]
[null,null,"Kitos išlaidų pavadinimas",null,null,null,0]
["5.6.7","Komandiruotės pavadinimas, vieta, trukmė dienomis, vykstančių asmenų skaičius","Iš viso komandiruotei",null,null,null,{"$f":"SUM(G197:G202)","v":0},{"$f":"ROUND(G196*$D$7,2)","v":0}]
[null,null,"Dienpinigiai",null,null,null,{"$f":"ROUND(E197*F197,2)","v":0}]
[null,null,"Gyvenamojo ploto nuoma",null,null,null,0]
[null,null,"Kelionės išlaidos",null,null,null,0]
[null,null,"Dalyvavimo mokestis",null,null,null,0]
[null,null,"Kitos išlaidų pavadinimas",null,null,null,0]
[null,null,"Kitos išlaidų pavadinimas",null,null,null,0]
["5.6.8","Komandiruotės pavadinimas, vieta, trukmė dienomis, vykstančių asmenų skaičius","Iš viso komandiruotei",null,null,null,{"$f":"SUM(G204:G209)","v":0},{"$f":"ROUND(G203*$D$7,2)","v":0}]
[null,null,"Dienpinigiai",null,null,null,{"$f":"ROUND(E204*F204,2)","v":0}]
[null,null,"Gyvenamojo ploto nuoma",null,null,null,0]
[null,null,"Kelionės išlaidos",null,null,null,0]
[null,null,"Dalyvavimo mokestis",null,null,null,0]
[null,null,"Kitos išlaidų pavadinimas",null,null,null,0]
[null,null,"Kitos išlaidų pavadinimas",null,null,null,0]
["5.6.9","Komandiruotės pavadinimas, vieta, trukmė dienomis, vykstančių asmenų skaičius","Iš viso komandiruotei",null,null,null,{"$f":"SUM(G211:G216)","v":0},{"$f":"ROUND(G210*$D$7,2)","v":0}]
[null,null,"Dienpinigiai",null,null,null,{"$f":"ROUND(E211*F211,2)","v":0}]
[null,null,"Gyvenamojo ploto nuoma",null,null,null,0]
[null,null,"Kelionės išlaidos",null,null,null,0]
[null,null,"Dalyvavimo mokestis",null,null,null,0]
[null,null,"Kitos išlaidų pavadinimas",null,null,null,0]
[null,null,"Kitos išlaidų pavadinimas",null,null,null,0]
["5.6.10","Komandiruotės pavadinimas, vieta, trukmė dienomis, vykstančių asmenų skaičius","Iš viso komandiruotei",null,null,null,{"$f":"SUM(G218:G223)","v":0},{"$f":"ROUND(G217*$D$7,2)","v":0}]
[null,null,"Dienpinigiai",null,null,null,{"$f":"ROUND(E218*F218,2)","v":0}]
[null,null,"Gyvenamojo ploto nuoma",null,null,null,0]
[null,null,"Kelionės išlaidos",null,null,null,0]
[null,null,"Dalyvavimo mokestis",null,null,null,0]
[null,null,"Kitos išlaidų pavadinimas",null,null,null,0]
[null,null,"Kitos išlaidų pavadinimas",null,null,null,0]
["5.7","Įrangos nuomos išlaidos, veiklai priskirtos pro rata principu. Įranga turi būti tiesiogiai susijusi su projekto įgyvendinimu ir negali būti įsigyta iš ES struktūrinių fondų ar kt. ES finansinių priemonių lėšų",null,null,null,null,{"$f":"SUM(G225:G241)","v":0},{"$f":"SUM(H225:H241)","v":0},null,null,"Faktinės 1 mėnesio išlaidos, Eur","Naudojimo projekte trukmė, mėn."]
["5.7.1","Įrangos pavadinimas",null,"pro rata proc.",null,{"$f":"K225*L225","v":0},{"$f":"ROUND(E225*F225,2)","v":0},{"$f":"ROUND(G225*$D$7,2)","v":0}]
["5.7.2","Įrangos pavadinimas",null,"pro rata proc.",null,{"$f":"K226*L226","v":0},0,{"$f":"ROUND(G226*$D$7,2)","v":0}]
["5.7.3","Įrangos pavadinimas",null,"pro rata proc.",null,0,0,0]
["5.7.4","Įrangos pavadinimas",null,"pro rata proc.",null,0,0,0]
["5.7.5","Įrangos pavadinimas",null,"pro rata proc.",null,0,0,0]
["5.7.6","Įrangos pavadinimas",null,"pro rata proc.",null,0,0,0]
["5.7.7","Įrangos pavadinimas",null,"pro rata proc.",null,0,0,0]
["5.7.8","Įrangos pavadinimas",null,"pro rata proc.",null,0,0,0]
["5.7.9","Įrangos pavadinimas",null,"pro rata proc.",null,0,0,0]
["5.7.10","Įrangos pavadinimas",null,"pro rata proc.",null,0,0,0]
["5.7.11","Įrangos pavadinimas",null,"pro rata proc.",null,0,0,0]
["5.7.12","Įrangos pavadinimas",null,"pro rata proc.",null,0,0,0]
["5.7.13","Įrangos pavadinimas",null,"pro rata proc.",null,0,0,0]
["5.7.14","Įrangos pavadinimas",null,"pro rata proc.",null,{"$f":"K238*L238","v":0},0,{"$f":"ROUND(G238*$D$7,2)","v":0}]
["5.7.15","Įrangos pavadinimas",null,"pro rata proc.",null,{"$f":"K239*L239","v":0},0,{"$f":"ROUND(G239*$D$7,2)","v":0}]
["5.7.16","Įrangos pavadinimas",null,"pro rata proc.",null,{"$f":"K240*L240","v":0},0,{"$f":"ROUND(G240*$D$7,2)","v":0}]
["5.7.17","Įrangos pavadinimas",null,"pro rata proc.",null,{"$f":"K241*L241","v":0},0,{"$f":"ROUND(G241*$D$7,2)","v":0}]
["5.8","Pastatų ar patalpų nuomos išlaidos, veiklai priskirtos pro rata principu. Pastatai ar patalpos turi būti tiesiogiai susijusi su projekto įgyvendinimu.",null,null,null,null,{"$f":"SUM(G243:G247)","v":0},{"$f":"SUM(H243:H247)","v":0},null,null,"Faktinės 1 mėnesio išlaidos, Eur","Naudojimo projekte trukmė, mėn."]
["5.8.1","Pastato, patalpų adresas",null,"pro rata proc.",null,{"$f":"K243*L243","v":0},{"$f":"ROUND(E243*F243,2)","v":0},{"$f":"ROUND(G243*$D$7,2)","v":0}]
["5.8.2","Pastato, patalpų adresas",null,"pro rata proc.",null,{"$f":"K244*L244","v":0},{"$f":"ROUND(E244*F244,2)","v":0},{"$f":"ROUND(G244*$D$7,2)","v":0}]
["5.8.3","Pastato, patalpų adresas",null,"pro rata proc.",null,{"$f":"K245*L245","v":0},{"$f":"ROUND(E245*F245,2)","v":0},{"$f":"ROUND(G245*$D$7,2)","v":0}]
["5.8.4","Pastato, patalpų adresas",null,"pro rata proc.",null,{"$f":"K246*L246","v":0},{"$f":"ROUND(E246*F246,2)","v":0},{"$f":"ROUND(G246*$D$7,2)","v":0}]
["5.8.5","Pastato, patalpų adresas",null,"pro rata proc.",null,{"$f":"K247*L247","v":0},{"$f":"ROUND(E247*F247,2)","v":0},{"$f":"ROUND(G247*$D$7,2)","v":0}]
["Iš viso tinkamų finansuoti išlaidų:",null,null,null,null,null,{"$f":"G10+G21","v":0},{"$f":"H10+H21","v":0}]

{"sheet":"20","index":14,"n_rows":248,"n_cols":19,"rows_kept":248,"cut":false,"hidden":true,"merged":[[5,3,5,8],[8,1,8,2],[9,1,9,5],[10,1,10,2],[11,1,11,2],[12,1,12,2],[0,3,0,8],[2,0,2,2],[2,3,2,8],[3,3,3,4],[3,5,3,6],[4,0,4,2],[4,3,4,8],[19,1,19,2],[20,1,20,5],[21,1,21,5],[22,1,22,2],[23,1,23,2],[24,1,24,2],[13,1,13,2],[14,1,14,2],[15,1,15,2],[16,1,16,2],[17,1,17,2],[18,1,18,2],[31,1,31,2],[32,1,32,5],[33,1,33,2],[34,1,34,2],[35,1,35,2],[36,1,36,2],[25,1,25,2],[26,1,26,2],[27,1,27,2],[28,1,28,2],[29,1,29,2],[30,1,30,2],[43,1,43,5],[44,1,44,2],[45,1,45,2],[46,1,46,2],[47,1,47,2],[48,1,48,2],[37,1,37,2],[38,1,38,2],[39,1,39,2],[40,1,40,2],[41,1,41,2],[42,1,42,2],[55,1,55,2],[56,1,56,2],[57,1,57,2],[58,1,58,2],[59,1,59,2],[60,1,60,2],[49,1,49,2],[50,1,50,2],[51,1,51,2],[52,1,52,2],[53,1,53,2],[54,1,54,2],[67,1,67,2],[68,1,68,2],[69,1,69,2],[70,1,70,2],[71,1,71,5],[72,1,72,2],[61,1,61,2],[62,1,62,2],[63,1,63,2],[64,1,64,2],[65,1,65,2],[66,1,66,2],[79,1,79,2],[80,1,80,2],[81,1,81,2],[82,1,82,2],[83,1,83,2],[84,1,84,2],[73,1,73,2],[74,1,74,2],[75,1,75,2],[76,1,76,2],[77,1,77,2],[78,1,78,2],[91,1,91,2],[92,1,92,2],[93,1,93,2],[94,1,94,2],[95,1,95,2],[96,1,96,2],[85,1,85,2],[86,1,86,2],[87,1,87,2],[88,1,88,2],[89,1,89,2],[90,1,90,2],[97,1,97,2],[98,1,98,2],[99,1,99,2],[100,1,100,2],[101,1,101,5],[102,0,106,0],[102,1,106,1],[102,3,106,3],[102,4,106,4],[102,5,106,5],[102,6,106,6],[102,7,106,7],[102,8,106,8],[107,0,111,0],[107,1,111,1],[107,3,111,3],[107,4,111,4],[107,5,111,5],[107,6,111,6],[107,7,111,7],[107,8,111,8],[112,0,116,0],[112,1,116,1],[112,3,116,3],[112,4,116,4],[112,5,116,5],[112,6,116,6],[112,7,116,7],[112,8,116,8],[117,7,121,7],[117,8,121,8],[122,0,126,0],[122,1,126,1],[122,3,126,3],[122,4,126,4],[122,5,126,5],[122,6,126,6],[122,7,126,7],[122,8,126,8],[117,0,121,0],[117,1,121,1],[117,3,121,3],[117,4,121,4],[117,5,121,5],[117,6,121,6],[127,7,131,7],[127,8,131,8],[132,0,136,0],[132,1,136,1],[132,3,136,3],[132,4,136,4],[132,5,136,5],[132,6,136,6],[132,7,136,7],[132,8,136,8],[127,0,131,0],[127,1,131,1],[127,3,131,3],[127,4,131,4],[127,5,131,5],[127,6,131,6],[137,7,141,7],[137,8,141,8],[142,0,146,0],[142,1,146,1],[142,3,146,3],[142,4,146,4],[142,5,146,5],[142,6,146,6],[142,7,146,7],[142,8,146,8],[137,0,141,0],[137,1,141,1],[137,3,141,3],[137,4,141,4],[137,5,141,5],[137,6,141,6],[160,0,166,0],[160,1,166,1],[160,8,166,8],[167,0,173,0],[167,1,173,1],[167,8,173,8],[147,7,151,7],[147,8,151,8],[152,1,152,5],[153,0,159,0],[153,1,159,1],[153,8,159,8],[147,0,151,0],[147,1,151,1],[147,3,151,3],[147,4,151,4],[147,5,151,5],[147,6,151,6],[188,0,194,0],[188,1,194,1],[188,8,194,8],[195,0,201,0],[195,1,201,1],[195,8,201,8],[174,0,180,0],[174,1,180,1],[174,8,180,8],[181,0,187,0],[181,1,187,1],[181,8,187,8],[216,0,222,0],[216,1,222,1],[216,8,222,8],[223,1,223,5],[224,1,224,2],[225,1,225,2],[202,0,208,0],[202,1,208,1],[202,8,208,8],[209,0,215,0],[209,1,215,1],[209,8,215,8],[232,1,232,2],[233,1,233,2],[234,1,234,2],[235,1,235,2],[236,1,236,2],[237,1,237,2],[226,1,226,2],[227,1,227,2],[228,1,228,2],[229,1,229,2],[230,1,230,2],[231,1,231,2],[244,1,244,2],[245,1,245,2],[246,1,246,2],[247,0,247,5],[238,1,238,2],[239,1,239,2],[240,1,240,2],[241,1,241,5],[242,1,242,2],[243,1,243,2]]}
[null,null,"Pasirinkite veiklos tipą:"]
[null,null,"Fizinio rodiklio Nr.:"]
["Fizinio rodiklio pavadinimas:"]
[null,null,"Fizinio rodiklio matavimo vnt.:",null,null,"Fizinio rodiklio vnt. skaičius:"]
["Juridinis asmuo (pareiškėjas, partneris), atsakingas už fizinį rodiklį:"]
[null,null,"Vykdytojo tipas:"]
[null,null,"Finansavimo intensyvumas:",null,null,null,"Pasirinkite biudžeto išlaidų kategoriją:","Visos"]
[]
["Eil. Nr.","Išlaidų kategorijos pavadinimas",null,"Matavimo vnt.","Kiekis","Vieneto kaina be PVM, Eur","Tinkamų finansuoti išlaidų suma be PVM, Eur","Finansavimo suma, Eur","Išlaidų pagrindimo dokumentų pavadinimas, data ir Nr."]
[4,"ĮRANGA, ĮRENGINIAI IR KT. TURTAS (techninių žinių ir išradimų patentų arba teisių pagal licencijų sutartį įsigijimo išlaidos)",null,null,null,null,{"$f":"SUM(G11:G20)","v":0},{"$f":"SUM(H11:H20)","v":0}]
["4.1","Išlaidų pavadinimas",null,null,null,null,{"$f":"ROUND(E11*F11,2)","v":0},{"$f":"ROUND(G11*$D$7,2)","v":0}]
["4.2","Išlaidų pavadinimas",null,null,null,null,0,0]
["4.3","Išlaidų pavadinimas",null,null,null,null,0,0]
["4.4","Išlaidų pavadinimas",null,null,null,null,0,0]
["4.5","Išlaidų pavadinimas",null,null,null,null,0,0]
["4.6","Išlaidų pavadinimas",null,null,null,null,0,0]
["4.7","Išlaidų pavadinimas",null,null,null,null,0,0]
["4.8","Išlaidų pavadinimas",null,null,null,null,0,0]
["4.9","Išlaidų pavadinimas",null,null,null,null,0,0]
["4.10","Išlaidų pavadinimas",null,null,null,null,0,0]
[5,"PROJEKTO VYKDYMAS",null,null,null,null,{"$f":"G22+G33+G44+G72+G102+G153+G224+G242","v":0},{"$f":"H22+H33+H44+H72+H102+H153+H224+H242","v":0}]
["5.1","MTEP paslaugos",null,null,null,null,{"$f":"SUM(G23:G32)","v":0},{"$f":"SUM(H23:H32)","v":0}]
["5.1.1","Paslaugos pavadinimas",null,null,null,null,{"$f":"ROUND(E23*F23,2)","v":0},0]
["5.1.2","Paslaugos pavadinimas",null,null,null,null,0,0]
["5.1.3","Paslaugos pavadinimas",null,null,null,null,0,0]
["5.1.4","Paslaugos pavadinimas",null,null,null,null,0,0]
["5.1.5","Paslaugos pavadinimas",null,null,null,null,0,0]
["5.1.6","Paslaugos pavadinimas",null,null,null,null,0,0]
["5.1.7","Paslaugos pavadinimas",null,null,null,null,0,0]
["5.1.8","Paslaugos pavadinimas",null,null,null,null,0,0]
["5.1.9","Paslaugos pavadinimas",null,null,null,null,0,0]
["5.1.10","Paslaugos pavadinimas",null,null,null,null,0,0]
["5.2","Konsultavimo ir lygiavertės paslaugos, teikiamos vien tik projekto MTEP veiklai.",null,null,null,null,{"$f":"SUM(G34:G43)","v":0},{"$f":"SUM(H34:H43)","v":0}]
["5.2.1","Paslaugos pavadinimas",null,null,null,null,{"$f":"ROUND(E34*F34,2)","v":0},0]
["5.2.2","Paslaugos pavadinimas",null,null,null,null,0,0]
["5.2.3","Paslaugos pavadinimas",null,null,null,null,0,0]
["5.2.4","Paslaugos pavadinimas",null,null,null,null,0,0]
["5.2.5","Paslaugos pavadinimas",null,null,null,null,0,0]
["5.2.6","Paslaugos pavadinimas",null,null,null,null,0,0]
["5.2.7","Paslaugos pavadinimas",null,null,null,null,0,0]
["5.2.8","Paslaugos pavadinimas",null,null,null,null,0,0]
["5.2.9","Paslaugos pavadinimas",null,null,null,null,0,0]
["5.2.10","Paslaugos pavadinimas",null,null,null,null,0,0]
["5.3","Medžiagos, mažavertis inventorius, atsargos ir pan. produktai, priskirtini trumpalaikiam turtui ir tiesiogiai susiję su MTEP veikla",null,null,null,null,{"$f":"SUM(G45:G71)","v":0},{"$f":"SUM(H45:H71)","v":0}]
["5.3.1","Išlaidų pavadinimas",null,null,null,null,{"$f":"ROUND(E45*F45,2)","v":0},{"$f":"ROUND(G45*$D$7,2)","v":0}]
["5.3.2","Išlaidų pavadinimas",null,null,null,null,{"$f":"ROUND(E46*F46,2)","v":0},{"$f":"ROUND(G46*$D$7,2)","v":0}]
["5.3.3","Išlaidų pavadinimas",null,null,null,null,{"$f":"ROUND(E47*F47,2)","v":0},{"$f":"ROUND(G47*$D$7,2)","v":0}]
["5.3.4","Išlaidų pavadinimas",null,null,null,null,{"$f":"ROUND(E48*F48,2)","v":0},{"$f":"ROUND(G48*$D$7,2)","v":0}]
["5.3.5","Išlaidų pavadinimas",null,null,null,null,{"$f":"ROUND(E49*F49,2)","v":0},{"$f":"ROUND(G49*$D$7,2)","v":0}]
["5.3.6","Išlaidų pavadinimas",null,null,null,null,0,0]
["5.3.7","Išlaidų pavadinimas",null,null,null,null,0,0]
["5.3.8","Išlaidų pavadinimas",null,null,null,null,0,0]
["5.3.9","Išlaidų pavadinimas",null,null,null,null,0,0]
["5.3.10","Išlaidų pavadinimas",null,null,null,null,0,0]
["5.3.11","Išlaidų pavadinimas",null,null,null,null,0,0]
["5.3.12","Išlaidų pavadinimas",null,null,null,null,0,0]
["5.3.13","Išlaidų pavadinimas",null,null,null,null,0,0]
["5.3.14","Išlaidų pavadinimas",null,null,null,null,0,0]
["5.3.15","Išlaidų pavadinimas",null,null,null,null,0,0]
["5.3.16","Išlaidų pavadinimas",null,null,null,null,0,0]
["5.3.17","Išlaidų pavadinimas",null,null,null,null,0,0]
["5.3.18","Išlaidų pavadinimas",null,null,null,null,0,0]
["5.3.19","Išlaidų pavadinimas",null,null,null,null,0,0]
["5.3.20","Išlaidų pavadinimas",null,null,null,null,0,0]
["5.3.21","Išlaidų pavadinimas",null,null,null,null,0,0]
["5.3.22","Išlaidų pavadinimas",null,null,null,null,0,0]
["5.3.23","Išlaidų pavadinimas",null,null,null,null,0,0]
["5.3.24","Išlaidų pavadinimas",null,null,null,null,0,0]
["5.3.25","Išlaidų pavadinimas",null,null,null,null,0,0]
["5.3.26","Išlaidų pavadinimas",null,null,null,null,0,0]
["5.3.27","Išlaidų pavadinimas",null,null,null,null,0,0]
["5.4","Projekto MTEP veikloms naudojamo ilgalaikio materialaus turto (įrangos, prietaisų, įrankių, įrenginių, mašinų ir įrengimų, pastatų ir (ar) patalpų), nusidėvėjimo sąnaudos, jeigu šiam turtui įsigyti nebuvo naudojamos viešosios (įskaitant ir kitų valstybių) lėšos",null,null,null,null,{"$f":"SUM(G73:G101)","v":0},{"$f":"SUM(H73:H101)","v":0},null,null,"Turto įvedimo į eksploataciją data","Turto įsigijimo vertė, Eur","Turto nudėvėjimo, amortizacijos laikotarpis, mėn.","Numatoma turto likutinė vertė, Eur","1 mėn. nudėvėjimo, amortizacijos suma, Eur","Turto naudojamo projekto reikmėms laikas, mėn.","Turto panaudojimo projekto reikmėms dalis (proc.)","Projektui priskirta turto nusidėvėjimo, amortizacijos suma per projekto laikotarpį, Eur"]
["5.4.1","Turtas, kurio nusidėvėjimą, amortizaciją prašoma finansuoti",null,null,1,{"$f":"R73","v":0},{"$f":"ROUND(E73*F73,2)","v":0},0,null,null,null,null,null,null,{"$f":"IFERROR(ROUND((L73-N73)/M73,2),\"0\")","v":"0"},null,null,{"$f":"O73*P73*Q73","v":0},{"$f":"IF(K73=0,\" \",IF(K73+(M73*30.5)<TODAY(),\"DĖMESIO! Patikrinkite, ar nurodytas turtas dar nėra nudėvėtas, amortizuotas\",\" \"))","v":" "}]
["5.4.2","Turtas, kurio nusidėvėjimą, amortizaciją prašoma finansuoti",null,null,1,0,0,0,null,null,null,null,null,null,{"$f":"IFERROR(ROUND((L74-N74)/M74,2),\"0\")","v":"0"},null,null,{"$f":"O74*P74*Q74","v":0},{"$f":"IF(K74=0,\" \",IF(K74+(M74*30.5)<TODAY(),\"DĖMESIO! Patikrinkite, ar nurodytas turtas dar nėra nudėvėtas, amortizuotas\",\" \"))","v":" "}]
["5.4.3","Turtas, kurio nusidėvėjimą, amortizaciją prašoma finansuoti",null,null,1,0,0,0,null,null,null,null,null,null,"0",null,null,0," "]
["5.4.4","Turtas, kurio nusidėvėjimą, amortizaciją prašoma finansuoti",null,null,1,0,0,0,null,null,null,null,null,null,"0",null,null,0," "]
["5.4.5","Turtas, kurio nusidėvėjimą, amortizaciją prašoma finansuoti",null,null,1,0,0,0,null,null,null,null,null,null,"0",null,null,0," "]
["5.4.6","Turtas, kurio nusidėvėjimą, amortizaciją prašoma finansuoti",null,null,1,0,0,0,null,null,null,null,null,null,"0",null,null,0," "]
["5.4.7","Turtas, kurio nusidėvėjimą, amortizaciją prašoma finansuoti",null,null,1,0,0,0,null,null,null,null,null,null,"0",null,null,0," "]
["5.4.8","Turtas, kurio nusidėvėjimą, amortizaciją prašoma finansuoti",null,null,1,0,0,0,null,null,null,null,null,null,"0",null,null,0," "]
["5.4.9","Turtas, kurio nusidėvėjimą, amortizaciją prašoma finansuoti",null,null,1,0,0,0,null,null,null,null,null,null,"0",null,null,0," "]
["5.4.10","Turtas, kurio nusidėvėjimą, amortizaciją prašoma finansuoti",null,null,1,0,0,0,null,null,null,null,null,null,"0",null,null,0," "]
["5.4.11","Turtas, kurio nusidėvėjimą, amortizaciją prašoma finansuoti",null,null,1,0,0,0,null,null,null,null,null,null,"0",null,null,0," "]
["5.4.12","Turtas, kurio nusidėvėjimą, amortizaciją prašoma finansuoti",null,null,1,0,0,0,null,null,null,null,null,null,"0",null,null,0," "]
["5.4.13","Turtas, kurio nusidėvėjimą, amortizaciją prašoma finansuoti",null,null,1,0,0,0,null,null,null,null,null,null,"0",null,null,0," "]
["5.4.14","Turtas, kurio nusidėvėjimą, amortizaciją prašoma finansuoti",null,null,1,0,0,0,null,null,null,null,null,null,"0",null,null,0," "]
["5.4.15","Turtas, kurio nusidėvėjimą, amortizaciją prašoma finansuoti",null,null,1,0,0,0,null,null,null,null,null,null,"0",null,null,0," "]
["5.4.16","Turtas, kurio nusidėvėjimą, amortizaciją prašoma finansuoti",null,null,1,0,0,0,null,null,null,null,null,null,"0",null,null,0," "]
["5.4.17","Turtas, kurio nusidėvėjimą, amortizaciją prašoma finansuoti",null,null,1,0,0,0,null,null,null,null,null,null,"0",null,null,0," "]
["5.4.18","Turtas, kurio nusidėvėjimą, amortizaciją prašoma finansuoti",null,null,1,0,0,0,null,null,null,null,null,null,"0",null,null,0," "]
["5.4.19","Turtas, kurio nusidėvėjimą, amortizaciją prašoma finansuoti",null,null,1,0,0,0,null,null,null,null,null,null,"0",null,null,0," "]
["5.4.20","Turtas, kurio nusidėvėjimą, amortizaciją prašoma finansuoti",null,null,1,0,0,0,null,null,null,null,null,null,"0",null,null,0," "]
["5.4.21","Turtas, kurio nusidėvėjimą, amortizaciją prašoma finansuoti",null,null,1,0,0,0,null,null,null,null,null,null,"0",null,null,0," "]
["5.4.22","Turtas, kurio nusidėvėjimą, amortizaciją prašoma finansuoti",null,null,1,0,0,0,null,null,null,null,null,null,"0",null,null,0," "]
["5.4.23","Turtas, kurio nusidėvėjimą, amortizaciją prašoma finansuoti",null,null,1,0,0,0,null,null,null,null,null,null,"0",null,null,0," "]
["5.4.24","Turtas, kurio nusidėvėjimą, amortizaciją prašoma finansuoti",null,null,1,0,0,0,null,null,null,null,null,null,"0",null,null,0," "]
["5.4.25","Turtas, kurio nusidėvėjimą, amortizaciją prašoma finansuoti",null,null,1,0,0,0,null,null,null,null,null,null,"0",null,null,0," "]
["5.4.26","Turtas, kurio nusidėvėjimą, amortizaciją prašoma finansuoti",null,null,1,0,0,0,null,null,null,null,null,null,"0",null,null,0," "]
["5.4.27","Turtas, kurio nusidėvėjimą, amortizaciją prašoma finansuoti",null,null,1,0,0,0,null,null,null,null,null,null,"0",null,null,0," "]
["5.4.28","Turtas, kurio nusidėvėjimą, amortizaciją prašoma finansuoti",null,null,1,0,0,0,null,null,null,null,null,null,"0",null,null,0," "]
["5.4.29","Turtas, kurio nusidėvėjimą, amortizaciją prašoma finansuoti",null,null,1,0,0,0,null,null,null,null,null,null,"0",null,null,0," "]
["5.5","Projektą vykdančio personalo darbo užmokestis ir išlaidos su darbo santykiais susijusiems darbdavio įsipareigojimams",null,null,null,null,{"$f":"SUM(G103:G152)","v":0},{"$f":"SUM(H103:H152)","v":0},null,null,"Faktiškai gaunamas darbo užmokesti už 1 valandą pagal  pastarųjų 6 mėn. vidurkį, Eur"]
["5.5.1","Pareigybės pavadinimas","Darbuotojo vardas pavardė","val.",null,{"$f":"IFERROR(ROUND(AVERAGE(K103:K107),2),\"0\")","v":"0"},{"$f":"ROUND(E103*F103,2)","v":0},{"$f":"ROUND(G103*$D$7,2)","v":0}]
[null,null,"Darbuotojo vardas pavardė"]
[null,null,"Darbuotojo vardas pavardė"]
[null,null,"Darbuotojo vardas pavardė"]
[null,null,"Darbuotojo vardas pavardė"]
["5.5.2","Pareigybės pavadinimas","Darbuotojo vardas pavardė","val.",null,{"$f":"IFERROR(ROUND(AVERAGE(K108:K112),2),\"0\")","v":"0"},{"$f":"ROUND(E108*F108,2)","v":0},{"$f":"ROUND(G108*$D$7,2)","v":0}]
[null,null,"Darbuotojo vardas pavardė"]
[null,null,"Darbuotojo vardas pavardė"]
[null,null,"Darbuotojo vardas pavardė"]
[null,null,"Darbuotojo vardas pavardė"]
["5.5.3","Pareigybės pavadinimas","Darbuotojo vardas pavardė","val.",null,{"$f":"IFERROR(ROUND(AVERAGE(K113:K117),2),\"0\")","v":"0"},{"$f":"ROUND(E113*F113,2)","v":0},{"$f":"ROUND(G113*$D$7,2)","v":0}]
[null,null,"Darbuotojo vardas pavardė"]
[null,null,"Darbuotojo vardas pavardė"]
[null,null,"Darbuotojo vardas pavardė"]
[null,null,"Darbuotojo vardas pavardė"]
["5.5.4","Pareigybės pavadinimas","Darbuotojo vardas pavardė","val.",null,{"$f":"IFERROR(ROUND(AVERAGE(K118:K122),2),\"0\")","v":"0"},{"$f":"ROUND(E118*F118,2)","v":0},{"$f":"ROUND(G118*$D$7,2)","v":0}]
[null,null,"Darbuotojo vardas pavardė"]
[null,null,"Darbuotojo vardas pavardė"]
[null,null,"Darbuotojo vardas pavardė"]
[null,null,"Darbuotojo vardas pavardė"]
["5.5.5","Pareigybės pavadinimas","Darbuotojo vardas pavardė","val.",null,{"$f":"IFERROR(ROUND(AVERAGE(K123:K127),2),\"0\")","v":"0"},{"$f":"ROUND(E123*F123,2)","v":0},{"$f":"ROUND(G123*$D$7,2)","v":0}]
[null,null,"Darbuotojo vardas pavardė"]
[null,null,"Darbuotojo vardas pavardė"]
[null,null,"Darbuotojo vardas pavardė"]
[null,null,"Darbuotojo vardas pavardė"]
["5.5.6","Pareigybės pavadinimas","Darbuotojo vardas pavardė","val.",null,{"$f":"IFERROR(ROUND(AVERAGE(K128:K132),2),\"0\")","v":"0"},{"$f":"ROUND(E128*F128,2)","v":0},{"$f":"ROUND(G128*$D$7,2)","v":0}]
[null,null,"Darbuotojo vardas pavardė"]
[null,null,"Darbuotojo vardas pavardė"]
[null,null,"Darbuotojo vardas pavardė"]
[null,null,"Darbuotojo vardas pavardė"]
["5.5.7","Pareigybės pavadinimas","Darbuotojo vardas pavardė","val.",null,{"$f":"IFERROR(ROUND(AVERAGE(K133:K137),2),\"0\")","v":"0"},{"$f":"ROUND(E133*F133,2)","v":0},{"$f":"ROUND(G133*$D$7,2)","v":0}]
[null,null,"Darbuotojo vardas pavardė"]
[null,null,"Darbuotojo vardas pavardė"]
[null,null,"Darbuotojo vardas pavardė"]
[null,null,"Darbuotojo vardas pavardė"]
["5.5.8","Pareigybės pavadinimas","Darbuotojo vardas pavardė","val.",null,{"$f":"IFERROR(ROUND(AVERAGE(K138:K142),2),\"0\")","v":"0"},{"$f":"ROUND(E138*F138,2)","v":0},{"$f":"ROUND(G138*$D$7,2)","v":0}]
[null,null,"Darbuotojo vardas pavardė"]
[null,null,"Darbuotojo vardas pavardė"]
[null,null,"Darbuotojo vardas pavardė"]
[null,null,"Darbuotojo vardas pavardė"]
["5.5.9","Pareigybės pavadinimas","Darbuotojo vardas pavardė","val.",null,{"$f":"IFERROR(ROUND(AVERAGE(K143:K147),2),\"0\")","v":"0"},{"$f":"ROUND(E143*F143,2)","v":0},{"$f":"ROUND(G143*$D$7,2)","v":0}]
[null,null,"Darbuotojo vardas pavardė"]
[null,null,"Darbuotojo vardas pavardė"]
[null,null,"Darbuotojo vardas pavardė"]
[null,null,"Darbuotojo vardas pavardė"]
["5.5.10","Pareigybės pavadinimas","Darbuotojo vardas pavardė","val.",null,{"$f":"IFERROR(ROUND(AVERAGE(K148:K152),2),\"0\")","v":"0"},{"$f":"ROUND(E148*F148,2)","v":0},{"$f":"ROUND(G148*$D$7,2)","v":0}]
[null,null,"Darbuotojo vardas pavardė"]
[null,null,"Darbuotojo vardas pavardė"]
[null,null,"Darbuotojo vardas pavardė"]
[null,null,"Darbuotojo vardas pavardė"]
["5.6","Projektą vykdančio personalo komandiruočių išlaidos",null,null,null,null,{"$f":"SUM(G154,G161,G168,G175,G182,G189,G196,G203,G210,G217)","v":0},{"$f":"SUM(H154,H161,H168,H175,H182,H189,H196,H203,H210,H217)","v":0}]
["5.6.1","Komandiruotės pavadinimas, vieta, trukmė dienomis, vykstančių asmenų skaičius","Iš viso komandiruotei",null,null,null,{"$f":"SUM(G155:G160)","v":0},{"$f":"ROUND(G154*$D$7,2)","v":0}]
[null,null,"Dienpinigiai",null,null,null,{"$f":"ROUND(E155*F155,2)","v":0}]
[null,null,"Gyvenamojo ploto nuoma",null,null,null,0]
[null,null,"Kelionės išlaidos",null,null,null,0]
[null,null,"Dalyvavimo mokestis",null,null,null,0]
[null,null,"Kitos išlaidų pavadinimas",null,null,null,0]
[null,null,"Kitos išlaidų pavadinimas",null,null,null,0]
["5.6.2","Komandiruotės pavadinimas, vieta, trukmė dienomis, vykstančių asmenų skaičius","Iš viso komandiruotei",null,null,null,{"$f":"SUM(G162:G167)","v":0},{"$f":"ROUND(G161*$D$7,2)","v":0}]
[null,null,"Dienpinigiai",null,null,null,{"$f":"ROUND(E162*F162,2)","v":0}]
[null,null,"Gyvenamojo ploto nuoma",null,null,null,0]
[null,null,"Kelionės išlaidos",null,null,null,0]
[null,null,"Dalyvavimo mokestis",null,null,null,0]
[null,null,"Kitos išlaidų pavadinimas",null,null,null,0]
[null,null,"Kitos išlaidų pavadinimas",null,null,null,0]
["5.6.3","Komandiruotės pavadinimas, vieta, trukmė dienomis, vykstančių asmenų skaičius","Iš viso komandiruotei",null,null,null,{"$f":"SUM(G169:G174)","v":0},{"$f":"ROUND(G168*$D$7,2)","v":0}]
[null,null,"Dienpinigiai",null,null,null,{"$f":"ROUND(E169*F169,2)","v":0}]
[null,null,"Gyvenamojo ploto nuoma",null,null,null,0]
[null,null,"Kelionės išlaidos",null,null,null,0]
[null,null,"Dalyvavimo mokestis",null,null,null,0]
[null,null,"Kitos išlaidų pavadinimas",null,null,null,0]
[null,null,"Kitos išlaidų pavadinimas",null,null,null,0]
["5.6.4","Komandiruotės pavadinimas, vieta, trukmė dienomis, vykstančių asmenų skaičius","Iš viso komandiruotei",null,null,null,{"$f":"SUM(G176:G181)","v":0},{"$f":"ROUND(G175*$D$7,2)","v":0}]
[null,null,"Dienpinigiai",null,null,null,{"$f":"ROUND(E176*F176,2)","v":0}]
[null,null,"Gyvenamojo ploto nuoma",null,null,null,0]
[null,null,"Kelionės išlaidos",null,null,null,0]
[null,null,"Dalyvavimo mokestis",null,null,null,0]
[null,null,"Kitos išlaidų pavadinimas",null,null,null,0]
[null,null,"Kitos išlaidų pavadinimas",null,null,null,0]
["5.6.5","Komandiruotės pavadinimas, vieta, trukmė dienomis, vykstančių asmenų skaičius","Iš viso komandiruotei",null,null,null,{"$f":"SUM(G183:G188)","v":0},{"$f":"ROUND(G182*$D$7,2)","v":0}]
[null,null,"Dienpinigiai",null,null,null,{"$f":"ROUND(E183*F183,2)","v":0}]
[null,null,"Gyvenamojo ploto nuoma",null,null,null,0]
[null,null,"Kelionės išlaidos",null,null,null,0]
[null,null,"Dalyvavimo mokestis",null,null,null,0]
[null,null,"Kitos išlaidų pavadinimas",null,null,null,0]
[null,null,"Kitos išlaidų pavadinimas",null,null,null,0]
["5.6.6","Komandiruotės pavadinimas, vieta, trukmė dienomis, vykstančių asmenų skaičius","Iš viso komandiruotei",null,null,null,{"$f":"SUM(G190:G195)","v":0},{"$f":"ROUND(G189*$D$7,2)","v":0}]
[null,null,"Dienpinigiai",null,null,null,{"$f":"ROUND(E190*F190,2)","v":0}]
[null,null,"Gyvenamojo ploto nuoma",null,null,null,0]
[null,null,"Kelionės išlaidos",null,null,null,0]
[null,null,"Dalyvavimo mokestis",null,null,null,0]
[null,null,"Kitos išlaidų pavadinimas",null,null,null,0]
[null,null,"Kitos išlaidų pavadinimas",null,null,null,0]
["5.6.7","Komandiruotės pavadinimas, vieta, trukmė dienomis, vykstančių asmenų skaičius","Iš viso komandiruotei",null,null,null,{"$f":"SUM(G197:G202)","v":0},{"$f":"ROUND(G196*$D$7,2)","v":0}]
[null,null,"Dienpinigiai",null,null,null,{"$f":"ROUND(E197*F197,2)","v":0}]
[null,null,"Gyvenamojo ploto nuoma",null,null,null,0]
[null,null,"Kelionės išlaidos",null,null,null,0]
[null,null,"Dalyvavimo mokestis",null,null,null,0]
[null,null,"Kitos išlaidų pavadinimas",null,null,null,0]
[null,null,"Kitos išlaidų pavadinimas",null,null,null,0]
["5.6.8","Komandiruotės pavadinimas, vieta, trukmė dienomis, vykstančių asmenų skaičius","Iš viso komandiruotei",null,null,null,{"$f":"SUM(G204:G209)","v":0},{"$f":"ROUND(G203*$D$7,2)","v":0}]
[null,null,"Dienpinigiai",null,null,null,{"$f":"ROUND(E204*F204,2)","v":0}]
[null,null,"Gyvenamojo ploto nuoma",null,null,null,0]
[null,null,"Kelionės išlaidos",null,null,null,0]
[null,null,"Dalyvavimo mokestis",null,null,null,0]
[null,null,"Kitos išlaidų pavadinimas",null,null,null,0]
[null,null,"Kitos išlaidų pavadinimas",null,null,null,0]
["5.6.9","Komandiruotės pavadinimas, vieta, trukmė dienomis, vykstančių asmenų skaičius","Iš viso komandiruotei",null,null,null,{"$f":"SUM(G211:G216)","v":0},{"$f":"ROUND(G210*$D$7,2)","v":0}]
[null,null,"Dienpinigiai",null,null,null,{"$f":"ROUND(E211*F211,2)","v":0}]
[null,null,"Gyvenamojo ploto nuoma",null,null,null,0]
[null,null,"Kelionės išlaidos",null,null,null,0]
[null,null,"Dalyvavimo mokestis",null,null,null,0]
[null,null,"Kitos išlaidų pavadinimas",null,null,null,0]
[null,null,"Kitos išlaidų pavadinimas",null,null,null,0]
["5.6.10","Komandiruotės pavadinimas, vieta, trukmė dienomis, vykstančių asmenų skaičius","Iš viso komandiruotei",null,null,null,{"$f":"SUM(G218:G223)","v":0},{"$f":"ROUND(G217*$D$7,2)","v":0}]
[null,null,"Dienpinigiai",null,null,null,{"$f":"ROUND(E218*F218,2)","v":0}]
[null,null,"Gyvenamojo ploto nuoma",null,null,null,0]
[null,null,"Kelionės išlaidos",null,null,null,0]
[null,null,"Dalyvavimo mokestis",null,null,null,0]
[null,null,"Kitos išlaidų pavadinimas",null,null,null,0]
[null,null,"Kitos išlaidų pavadinimas",null,null,null,0]
["5.7","Įrangos nuomos išlaidos, veiklai priskirtos pro rata principu. Įranga turi būti tiesiogiai susijusi su projekto įgyvendinimu ir negali būti įsigyta iš ES struktūrinių fondų ar kt. ES finansinių priemonių lėšų",null,null,null,null,{"$f":"SUM(G225:G241)","v":0},{"$f":"SUM(H225:H241)","v":0},null,null,"Faktinės 1 mėnesio išlaidos, Eur","Naudojimo projekte trukmė, mėn."]
["5.7.1","Įrangos pavadinimas",null,"pro rata proc.",null,{"$f":"K225*L225","v":0},{"$f":"ROUND(E225*F225,2)","v":0},{"$f":"ROUND(G225*$D$7,2)","v":0}]
["5.7.2","Įrangos pavadinimas",null,"pro rata proc.",null,{"$f":"K226*L226","v":0},0,{"$f":"ROUND(G226*$D$7,2)","v":0}]
["5.7.3","Įrangos pavadinimas",null,"pro rata proc.",null,0,0,0]
["5.7.4","Įrangos pavadinimas",null,"pro rata proc.",null,0,0,0]
["5.7.5","Įrangos pavadinimas",null,"pro rata proc.",null,0,0,0]
["5.7.6","Įrangos pavadinimas",null,"pro rata proc.",null,0,0,0]
["5.7.7","Įrangos pavadinimas",null,"pro rata proc.",null,0,0,0]
["5.7.8","Įrangos pavadinimas",null,"pro rata proc.",null,0,0,0]
["5.7.9","Įrangos pavadinimas",null,"pro rata proc.",null,0,0,0]
["5.7.10","Įrangos pavadinimas",null,"pro rata proc.",null,0,0,0]
["5.7.11","Įrangos pavadinimas",null,"pro rata proc.",null,0,0,0]
["5.7.12","Įrangos pavadinimas",null,"pro rata proc.",null,0,0,0]
["5.7.13","Įrangos pavadinimas",null,"pro rata proc.",null,0,0,0]
["5.7.14","Įrangos pavadinimas",null,"pro rata proc.",null,{"$f":"K238*L238","v":0},0,{"$f":"ROUND(G238*$D$7,2)","v":0}]
["5.7.15","Įrangos pavadinimas",null,"pro rata proc.",null,{"$f":"K239*L239","v":0},0,{"$f":"ROUND(G239*$D$7,2)","v":0}]
["5.7.16","Įrangos pavadinimas",null,"pro rata proc.",null,{"$f":"K240*L240","v":0},0,{"$f":"ROUND(G240*$D$7,2)","v":0}]
["5.7.17","Įrangos pavadinimas",null,"pro rata proc.",null,{"$f":"K241*L241","v":0},0,{"$f":"ROUND(G241*$D$7,2)","v":0}]
["5.8","Pastatų ar patalpų nuomos išlaidos, veiklai priskirtos pro rata principu. Pastatai ar patalpos turi būti tiesiogiai susijusi su projekto įgyvendinimu.",null,null,null,null,{"$f":"SUM(G243:G247)","v":0},{"$f":"SUM(H243:H247)","v":0},null,null,"Faktinės 1 mėnesio išlaidos, Eur","Naudojimo projekte trukmė, mėn."]
["5.8.1","Pastato, patalpų adresas",null,"pro rata proc.",null,{"$f":"K243*L243","v":0},{"$f":"ROUND(E243*F243,2)","v":0},{"$f":"ROUND(G243*$D$7,2)","v":0}]
["5.8.2","Pastato, patalpų adresas",null,"pro rata proc.",null,{"$f":"K244*L244","v":0},{"$f":"ROUND(E244*F244,2)","v":0},{"$f":"ROUND(G244*$D$7,2)","v":0}]
["5.8.3","Pastato, patalpų adresas",null,"pro rata proc.",null,{"$f":"K245*L245","v":0},{"$f":"ROUND(E245*F245,2)","v":0},{"$f":"ROUND(G245*$D$7,2)","v":0}]
["5.8.4","Pastato, patalpų adresas",null,"pro rata proc.",null,{"$f":"K246*L246","v":0},{"$f":"ROUND(E246*F246,2)","v":0},{"$f":"ROUND(G246*$D$7,2)","v":0}]
["5.8.5","Pastato, patalpų adresas",null,"pro rata proc.",null,{"$f":"K247*L247","v":0},{"$f":"ROUND(E247*F247,2)","v":0},{"$f":"ROUND(G247*$D$7,2)","v":0}]
["Iš viso tinkamų finansuoti išlaidų:",null,null,null,null,null,{"$f":"G10+G21","v":0},{"$f":"H10+H21","v":0}]

{"sheet":"21","index":15,"n_rows":248,"n_cols":19,"rows_kept":248,"cut":false,"hidden":true,"merged":[[5,3,5,8],[8,1,8,2],[9,1,9,5],[10,1,10,2],[11,1,11,2],[12,1,12,2],[0,3,0,8],[2,0,2,2],[2,3,2,8],[3,3,3,4],[3,5,3,6],[4,0,4,2],[4,3,4,8],[19,1,19,2],[20,1,20,5],[21,1,21,5],[22,1,22,2],[23,1,23,2],[24,1,24,2],[13,1,13,2],[14,1,14,2],[15,1,15,2],[16,1,16,2],[17,1,17,2],[18,1,18,2],[31,1,31,2],[32,1,32,5],[33,1,33,2],[34,1,34,2],[35,1,35,2],[36,1,36,2],[25,1,25,2],[26,1,26,2],[27,1,27,2],[28,1,28,2],[29,1,29,2],[30,1,30,2],[43,1,43,5],[44,1,44,2],[45,1,45,2],[46,1,46,2],[47,1,47,2],[48,1,48,2],[37,1,37,2],[38,1,38,2],[39,1,39,2],[40,1,40,2],[41,1,41,2],[42,1,42,2],[55,1,55,2],[56,1,56,2],[57,1,57,2],[58,1,58,2],[59,1,59,2],[60,1,60,2],[49,1,49,2],[50,1,50,2],[51,1,51,2],[52,1,52,2],[53,1,53,2],[54,1,54,2],[67,1,67,2],[68,1,68,2],[69,1,69,2],[70,1,70,2],[71,1,71,5],[72,1,72,2],[61,1,61,2],[62,1,62,2],[63,1,63,2],[64,1,64,2],[65,1,65,2],[66,1,66,2],[79,1,79,2],[80,1,80,2],[81,1,81,2],[82,1,82,2],[83,1,83,2],[84,1,84,2],[73,1,73,2],[74,1,74,2],[75,1,75,2],[76,1,76,2],[77,1,77,2],[78,1,78,2],[91,1,91,2],[92,1,92,2],[93,1,93,2],[94,1,94,2],[95,1,95,2],[96,1,96,2],[85,1,85,2],[86,1,86,2],[87,1,87,2],[88,1,88,2],[89,1,89,2],[90,1,90,2],[97,1,97,2],[98,1,98,2],[99,1,99,2],[100,1,100,2],[101,1,101,5],[102,0,106,0],[102,1,106,1],[102,3,106,3],[102,4,106,4],[102,5,106,5],[102,6,106,6],[102,7,106,7],[102,8,106,8],[107,0,111,0],[107,1,111,1],[107,3,111,3],[107,4,111,4],[107,5,111,5],[107,6,111,6],[107,7,111,7],[107,8,111,8],[112,0,116,0],[112,1,116,1],[112,3,116,3],[112,4,116,4],[112,5,116,5],[112,6,116,6],[112,7,116,7],[112,8,116,8],[117,7,121,7],[117,8,121,8],[122,0,126,0],[122,1,126,1],[122,3,126,3],[122,4,126,4],[122,5,126,5],[122,6,126,6],[122,7,126,7],[122,8,126,8],[117,0,121,0],[117,1,121,1],[117,3,121,3],[117,4,121,4],[117,5,121,5],[117,6,121,6],[127,7,131,7],[127,8,131,8],[132,0,136,0],[132,1,136,1],[132,3,136,3],[132,4,136,4],[132,5,136,5],[132,6,136,6],[132,7,136,7],[132,8,136,8],[127,0,131,0],[127,1,131,1],[127,3,131,3],[127,4,131,4],[127,5,131,5],[127,6,131,6],[137,7,141,7],[137,8,141,8],[142,0,146,0],[142,1,146,1],[142,3,146,3],[142,4,146,4],[142,5,146,5],[142,6,146,6],[142,7,146,7],[142,8,146,8],[137,0,141,0],[137,1,141,1],[137,3,141,3],[137,4,141,4],[137,5,141,5],[137,6,141,6],[160,0,166,0],[160,1,166,1],[160,8,166,8],[167,0,173,0],[167,1,173,1],[167,8,173,8],[147,7,151,7],[147,8,151,8],[152,1,152,5],[153,0,159,0],[153,1,159,1],[153,8,159,8],[147,0,151,0],[147,1,151,1],[147,3,151,3],[147,4,151,4],[147,5,151,5],[147,6,151,6],[188,0,194,0],[188,1,194,1],[188,8,194,8],[195,0,201,0],[195,1,201,1],[195,8,201,8],[174,0,180,0],[174,1,180,1],[174,8,180,8],[181,0,187,0],[181,1,187,1],[181,8,187,8],[216,0,222,0],[216,1,222,1],[216,8,222,8],[223,1,223,5],[224,1,224,2],[225,1,225,2],[202,0,208,0],[202,1,208,1],[202,8,208,8],[209,0,215,0],[209,1,215,1],[209,8,215,8],[232,1,232,2],[233,1,233,2],[234,1,234,2],[235,1,235,2],[236,1,236,2],[237,1,237,2],[226,1,226,2],[227,1,227,2],[228,1,228,2],[229,1,229,2],[230,1,230,2],[231,1,231,2],[244,1,244,2],[245,1,245,2],[246,1,246,2],[247,0,247,5],[238,1,238,2],[239,1,239,2],[240,1,240,2],[241,1,241,5],[242,1,242,2],[243,1,243,2]]}
[null,null,"Pasirinkite veiklos tipą:"]
[null,null,"Fizinio rodiklio Nr.:"]
["Fizinio rodiklio pavadinimas:"]
[null,null,"Fizinio rodiklio matavimo vnt.:",null,null,"Fizinio rodiklio vnt. skaičius:"]
["Juridinis asmuo (pareiškėjas, partneris), atsakingas už fizinį rodiklį:"]
[null,null,"Vykdytojo tipas:"]
[null,null,"Finansavimo intensyvumas:",null,null,null,"Pasirinkite biudžeto išlaidų kategoriją:","Visos"]
[]
["Eil. Nr.","Išlaidų kategorijos pavadinimas",null,"Matavimo vnt.","Kiekis","Vieneto kaina be PVM, Eur","Tinkamų finansuoti išlaidų suma be PVM, Eur","Finansavimo suma, Eur","Išlaidų pagrindimo dokumentų pavadinimas, data ir Nr."]
[4,"ĮRANGA, ĮRENGINIAI IR KT. TURTAS (techninių žinių ir išradimų patentų arba teisių pagal licencijų sutartį įsigijimo išlaidos)",null,null,null,null,{"$f":"SUM(G11:G20)","v":0},{"$f":"SUM(H11:H20)","v":0}]
["4.1","Išlaidų pavadinimas",null,null,null,null,{"$f":"ROUND(E11*F11,2)","v":0},{"$f":"ROUND(G11*$D$7,2)","v":0}]
["4.2","Išlaidų pavadinimas",null,null,null,null,0,0]
["4.3","Išlaidų pavadinimas",null,null,null,null,0,0]
["4.4","Išlaidų pavadinimas",null,null,null,null,0,0]
["4.5","Išlaidų pavadinimas",null,null,null,null,0,0]
["4.6","Išlaidų pavadinimas",null,null,null,null,0,0]
["4.7","Išlaidų pavadinimas",null,null,null,null,0,0]
["4.8","Išlaidų pavadinimas",null,null,null,null,0,0]
["4.9","Išlaidų pavadinimas",null,null,null,null,0,0]
["4.10","Išlaidų pavadinimas",null,null,null,null,0,0]
[5,"PROJEKTO VYKDYMAS",null,null,null,null,{"$f":"G22+G33+G44+G72+G102+G153+G224+G242","v":0},{"$f":"H22+H33+H44+H72+H102+H153+H224+H242","v":0}]
["5.1","MTEP paslaugos",null,null,null,null,{"$f":"SUM(G23:G32)","v":0},{"$f":"SUM(H23:H32)","v":0}]
["5.1.1","Paslaugos pavadinimas",null,null,null,null,{"$f":"ROUND(E23*F23,2)","v":0},0]
["5.1.2","Paslaugos pavadinimas",null,null,null,null,0,0]
["5.1.3","Paslaugos pavadinimas",null,null,null,null,0,0]
["5.1.4","Paslaugos pavadinimas",null,null,null,null,0,0]
["5.1.5","Paslaugos pavadinimas",null,null,null,null,0,0]
["5.1.6","Paslaugos pavadinimas",null,null,null,null,0,0]
["5.1.7","Paslaugos pavadinimas",null,null,null,null,0,0]
["5.1.8","Paslaugos pavadinimas",null,null,null,null,0,0]
["5.1.9","Paslaugos pavadinimas",null,null,null,null,0,0]
["5.1.10","Paslaugos pavadinimas",null,null,null,null,0,0]
["5.2","Konsultavimo ir lygiavertės paslaugos, teikiamos vien tik projekto MTEP veiklai.",null,null,null,null,{"$f":"SUM(G34:G43)","v":0},{"$f":"SUM(H34:H43)","v":0}]
["5.2.1","Paslaugos pavadinimas",null,null,null,null,{"$f":"ROUND(E34*F34,2)","v":0},0]
["5.2.2","Paslaugos pavadinimas",null,null,null,null,0,0]
["5.2.3","Paslaugos pavadinimas",null,null,null,null,0,0]
["5.2.4","Paslaugos pavadinimas",null,null,null,null,0,0]
["5.2.5","Paslaugos pavadinimas",null,null,null,null,0,0]
["5.2.6","Paslaugos pavadinimas",null,null,null,null,0,0]
["5.2.7","Paslaugos pavadinimas",null,null,null,null,0,0]
["5.2.8","Paslaugos pavadinimas",null,null,null,null,0,0]
["5.2.9","Paslaugos pavadinimas",null,null,null,null,0,0]
["5.2.10","Paslaugos pavadinimas",null,null,null,null,0,0]
["5.3","Medžiagos, mažavertis inventorius, atsargos ir pan. produktai, priskirtini trumpalaikiam turtui ir tiesiogiai susiję su MTEP veikla",null,null,null,null,{"$f":"SUM(G45:G71)","v":0},{"$f":"SUM(H45:H71)","v":0}]
["5.3.1","Išlaidų pavadinimas",null,null,null,null,{"$f":"ROUND(E45*F45,2)","v":0},{"$f":"ROUND(G45*$D$7,2)","v":0}]
["5.3.2","Išlaidų pavadinimas",null,null,null,null,{"$f":"ROUND(E46*F46,2)","v":0},{"$f":"ROUND(G46*$D$7,2)","v":0}]
["5.3.3","Išlaidų pavadinimas",null,null,null,null,{"$f":"ROUND(E47*F47,2)","v":0},{"$f":"ROUND(G47*$D$7,2)","v":0}]
["5.3.4","Išlaidų pavadinimas",null,null,null,null,{"$f":"ROUND(E48*F48,2)","v":0},{"$f":"ROUND(G48*$D$7,2)","v":0}]
["5.3.5","Išlaidų pavadinimas",null,null,null,null,{"$f":"ROUND(E49*F49,2)","v":0},{"$f":"ROUND(G49*$D$7,2)","v":0}]
["5.3.6","Išlaidų pavadinimas",null,null,null,null,0,0]
["5.3.7","Išlaidų pavadinimas",null,null,null,null,0,0]
["5.3.8","Išlaidų pavadinimas",null,null,null,null,0,0]
["5.3.9","Išlaidų pavadinimas",null,null,null,null,0,0]
["5.3.10","Išlaidų pavadinimas",null,null,null,null,0,0]
["5.3.11","Išlaidų pavadinimas",null,null,null,null,0,0]
["5.3.12","Išlaidų pavadinimas",null,null,null,null,0,0]
["5.3.13","Išlaidų pavadinimas",null,null,null,null,0,0]
["5.3.14","Išlaidų pavadinimas",null,null,null,null,0,0]
["5.3.15","Išlaidų pavadinimas",null,null,null,null,0,0]
["5.3.16","Išlaidų pavadinimas",null,null,null,null,0,0]
["5.3.17","Išlaidų pavadinimas",null,null,null,null,0,0]
["5.3.18","Išlaidų pavadinimas",null,null,null,null,0,0]
["5.3.19","Išlaidų pavadinimas",null,null,null,null,0,0]
["5.3.20","Išlaidų pavadinimas",null,null,null,null,0,0]
["5.3.21","Išlaidų pavadinimas",null,null,null,null,0,0]
["5.3.22","Išlaidų pavadinimas",null,null,null,null,0,0]
["5.3.23","Išlaidų pavadinimas",null,null,null,null,0,0]
["5.3.24","Išlaidų pavadinimas",null,null,null,null,0,0]
["5.3.25","Išlaidų pavadinimas",null,null,null,null,0,0]
["5.3.26","Išlaidų pavadinimas",null,null,null,null,0,0]
["5.3.27","Išlaidų pavadinimas",null,null,null,null,0,0]
["5.4","Projekto MTEP veikloms naudojamo ilgalaikio materialaus turto (įrangos, prietaisų, įrankių, įrenginių, mašinų ir įrengimų, pastatų ir (ar) patalpų), nusidėvėjimo sąnaudos, jeigu šiam turtui įsigyti nebuvo naudojamos viešosios (įskaitant ir kitų valstybių) lėšos",null,null,null,null,{"$f":"SUM(G73:G101)","v":0},{"$f":"SUM(H73:H101)","v":0},null,null,"Turto įvedimo į eksploataciją data","Turto įsigijimo vertė, Eur","Turto nudėvėjimo, amortizacijos laikotarpis, mėn.","Numatoma turto likutinė vertė, Eur","1 mėn. nudėvėjimo, amortizacijos suma, Eur","Turto naudojamo projekto reikmėms laikas, mėn.","Turto panaudojimo projekto reikmėms dalis (proc.)","Projektui priskirta turto nusidėvėjimo, amortizacijos suma per projekto laikotarpį, Eur"]
["5.4.1","Turtas, kurio nusidėvėjimą, amortizaciją prašoma finansuoti",null,null,1,{"$f":"R73","v":0},{"$f":"ROUND(E73*F73,2)","v":0},0,null,null,null,null,null,null,{"$f":"IFERROR(ROUND((L73-N73)/M73,2),\"0\")","v":"0"},null,null,{"$f":"O73*P73*Q73","v":0},{"$f":"IF(K73=0,\" \",IF(K73+(M73*30.5)<TODAY(),\"DĖMESIO! Patikrinkite, ar nurodytas turtas dar nėra nudėvėtas, amortizuotas\",\" \"))","v":" "}]
["5.4.2","Turtas, kurio nusidėvėjimą, amortizaciją prašoma finansuoti",null,null,1,0,0,0,null,null,null,null,null,null,{"$f":"IFERROR(ROUND((L74-N74)/M74,2),\"0\")","v":"0"},null,null,{"$f":"O74*P74*Q74","v":0},{"$f":"IF(K74=0,\" \",IF(K74+(M74*30.5)<TODAY(),\"DĖMESIO! Patikrinkite, ar nurodytas turtas dar nėra nudėvėtas, amortizuotas\",\" \"))","v":" "}]
["5.4.3","Turtas, kurio nusidėvėjimą, amortizaciją prašoma finansuoti",null,null,1,0,0,0,null,null,null,null,null,null,"0",null,null,0," "]
["5.4.4","Turtas, kurio nusidėvėjimą, amortizaciją prašoma finansuoti",null,null,1,0,0,0,null,null,null,null,null,null,"0",null,null,0," "]
["5.4.5","Turtas, kurio nusidėvėjimą, amortizaciją prašoma finansuoti",null,null,1,0,0,0,null,null,null,null,null,null,"0",null,null,0," "]
["5.4.6","Turtas, kurio nusidėvėjimą, amortizaciją prašoma finansuoti",null,null,1,0,0,0,null,null,null,null,null,null,"0",null,null,0," "]
["5.4.7","Turtas, kurio nusidėvėjimą, amortizaciją prašoma finansuoti",null,null,1,0,0,0,null,null,null,null,null,null,"0",null,null,0," "]
["5.4.8","Turtas, kurio nusidėvėjimą, amortizaciją prašoma finansuoti",null,null,1,0,0,0,null,null,null,null,null,null,"0",null,null,0," "]
["5.4.9","Turtas, kurio nusidėvėjimą, amortizaciją prašoma finansuoti",null,null,1,0,0,0,null,null,null,null,null,null,"0",null,null,0," "]
["5.4.10","Turtas, kurio nusidėvėjimą, amortizaciją prašoma finansuoti",null,null,1,0,0,0,null,null,null,null,null,null,"0",null,null,0," "]
["5.4.11","Turtas, kurio nusidėvėjimą, amortizaciją prašoma finansuoti",null,null,1,0,0,0,null,null,null,null,null,null,"0",null,null,0," "]
["5.4.12","Turtas, kurio nusidėvėjimą, amortizaciją prašoma finansuoti",null,null,1,0,0,0,null,null,null,null,null,null,"0",null,null,0," "]
["5.4.13","Turtas, kurio nusidėvėjimą, amortizaciją prašoma finansuoti",null,null,1,0,0,0,null,null,null,null,null,null,"0",null,null,0," "]
["5.4.14","Turtas, kurio nusidėvėjimą, amortizaciją prašoma finansuoti",null,null,1,0,0,0,null,null,null,null,null,null,"0",null,null,0," "]
["5.4.15","Turtas, kurio nusidėvėjimą, amortizaciją prašoma finansuoti",null,null,1,0,0,0,null,null,null,null,null,null,"0",null,null,0," "]
["5.4.16","Turtas, kurio nusidėvėjimą, amortizaciją prašoma finansuoti",null,null,1,0,0,0,null,null,null,null,null,null,"0",null,null,0," "]
["5.4.17","Turtas, kurio nusidėvėjimą, amortizaciją prašoma finansuoti",null,null,1,0,0,0,null,null,null,null,null,null,"0",null,null,0," "]
["5.4.18","Turtas, kurio nusidėvėjimą, amortizaciją prašoma finansuoti",null,null,1,0,0,0,null,null,null,null,null,null,"0",null,null,0," "]
["5.4.19","Turtas, kurio nusidėvėjimą, amortizaciją prašoma finansuoti",null,null,1,0,0,0,null,null,null,null,null,null,"0",null,null,0," "]
["5.4.20","Turtas, kurio nusidėvėjimą, amortizaciją prašoma finansuoti",null,null,1,0,0,0,null,null,null,null,null,null,"0",null,null,0," "]
["5.4.21","Turtas, kurio nusidėvėjimą, amortizaciją prašoma finansuoti",null,null,1,0,0,0,null,null,null,null,null,null,"0",null,null,0," "]
["5.4.22","Turtas, kurio nusidėvėjimą, amortizaciją prašoma finansuoti",null,null,1,0,0,0,null,null,null,null,null,null,"0",null,null,0," "]
["5.4.23","Turtas, kurio nusidėvėjimą, amortizaciją prašoma finansuoti",null,null,1,0,0,0,null,null,null,null,null,null,"0",null,null,0," "]
["5.4.24","Turtas, kurio nusidėvėjimą, amortizaciją prašoma finansuoti",null,null,1,0,0,0,null,null,null,null,null,null,"0",null,null,0," "]
["5.4.25","Turtas, kurio nusidėvėjimą, amortizaciją prašoma finansuoti",null,null,1,0,0,0,null,null,null,null,null,null,"0",null,null,0," "]
["5.4.26","Turtas, kurio nusidėvėjimą, amortizaciją prašoma finansuoti",null,null,1,0,0,0,null,null,null,null,null,null,"0",null,null,0," "]
["5.4.27","Turtas, kurio nusidėvėjimą, amortizaciją prašoma finansuoti",null,null,1,0,0,0,null,null,null,null,null,null,"0",null,null,0," "]
["5.4.28","Turtas, kurio nusidėvėjimą, amortizaciją prašoma finansuoti",null,null,1,0,0,0,null,null,null,null,null,null,"0",null,null,0," "]
["5.4.29","Turtas, kurio nusidėvėjimą, amortizaciją prašoma finansuoti",null,null,1,0,0,0,null,null,null,null,null,null,"0",null,null,0," "]
["5.5","Projektą vykdančio personalo darbo užmokestis ir išlaidos su darbo santykiais susijusiems darbdavio įsipareigojimams",null,null,null,null,{"$f":"SUM(G103:G152)","v":0},{"$f":"SUM(H103:H152)","v":0},null,null,"Faktiškai gaunamas darbo užmokesti už 1 valandą pagal  pastarųjų 6 mėn. vidurkį, Eur"]
["5.5.1","Pareigybės pavadinimas","Darbuotojo vardas pavardė","val.",null,{"$f":"IFERROR(ROUND(AVERAGE(K103:K107),2),\"0\")","v":"0"},{"$f":"ROUND(E103*F103,2)","v":0},{"$f":"ROUND(G103*$D$7,2)","v":0}]
[null,null,"Darbuotojo vardas pavardė"]
[null,null,"Darbuotojo vardas pavardė"]
[null,null,"Darbuotojo vardas pavardė"]
[null,null,"Darbuotojo vardas pavardė"]
["5.5.2","Pareigybės pavadinimas","Darbuotojo vardas pavardė","val.",null,{"$f":"IFERROR(ROUND(AVERAGE(K108:K112),2),\"0\")","v":"0"},{"$f":"ROUND(E108*F108,2)","v":0},{"$f":"ROUND(G108*$D$7,2)","v":0}]
[null,null,"Darbuotojo vardas pavardė"]
[null,null,"Darbuotojo vardas pavardė"]
[null,null,"Darbuotojo vardas pavardė"]
[null,null,"Darbuotojo vardas pavardė"]
["5.5.3","Pareigybės pavadinimas","Darbuotojo vardas pavardė","val.",null,{"$f":"IFERROR(ROUND(AVERAGE(K113:K117),2),\"0\")","v":"0"},{"$f":"ROUND(E113*F113,2)","v":0},{"$f":"ROUND(G113*$D$7,2)","v":0}]
[null,null,"Darbuotojo vardas pavardė"]
[null,null,"Darbuotojo vardas pavardė"]
[null,null,"Darbuotojo vardas pavardė"]
[null,null,"Darbuotojo vardas pavardė"]
["5.5.4","Pareigybės pavadinimas","Darbuotojo vardas pavardė","val.",null,{"$f":"IFERROR(ROUND(AVERAGE(K118:K122),2),\"0\")","v":"0"},{"$f":"ROUND(E118*F118,2)","v":0},{"$f":"ROUND(G118*$D$7,2)","v":0}]
[null,null,"Darbuotojo vardas pavardė"]
[null,null,"Darbuotojo vardas pavardė"]
[null,null,"Darbuotojo vardas pavardė"]
[null,null,"Darbuotojo vardas pavardė"]
["5.5.5","Pareigybės pavadinimas","Darbuotojo vardas pavardė","val.",null,{"$f":"IFERROR(ROUND(AVERAGE(K123:K127),2),\"0\")","v":"0"},{"$f":"ROUND(E123*F123,2)","v":0},{"$f":"ROUND(G123*$D$7,2)","v":0}]
[null,null,"Darbuotojo vardas pavardė"]
[null,null,"Darbuotojo vardas pavardė"]
[null,null,"Darbuotojo vardas pavardė"]
[null,null,"Darbuotojo vardas pavardė"]
["5.5.6","Pareigybės pavadinimas","Darbuotojo vardas pavardė","val.",null,{"$f":"IFERROR(ROUND(AVERAGE(K128:K132),2),\"0\")","v":"0"},{"$f":"ROUND(E128*F128,2)","v":0},{"$f":"ROUND(G128*$D$7,2)","v":0}]
[null,null,"Darbuotojo vardas pavardė"]
[null,null,"Darbuotojo vardas pavardė"]
[null,null,"Darbuotojo vardas pavardė"]
[null,null,"Darbuotojo vardas pavardė"]
["5.5.7","Pareigybės pavadinimas","Darbuotojo vardas pavardė","val.",null,{"$f":"IFERROR(ROUND(AVERAGE(K133:K137),2),\"0\")","v":"0"},{"$f":"ROUND(E133*F133,2)","v":0},{"$f":"ROUND(G133*$D$7,2)","v":0}]
[null,null,"Darbuotojo vardas pavardė"]
[null,null,"Darbuotojo vardas pavardė"]
[null,null,"Darbuotojo vardas pavardė"]
[null,null,"Darbuotojo vardas pavardė"]
["5.5.8","Pareigybės pavadinimas","Darbuotojo vardas pavardė","val.",null,{"$f":"IFERROR(ROUND(AVERAGE(K138:K142),2),\"0\")","v":"0"},{"$f":"ROUND(E138*F138,2)","v":0},{"$f":"ROUND(G138*$D$7,2)","v":0}]
[null,null,"Darbuotojo vardas pavardė"]
[null,null,"Darbuotojo vardas pavardė"]
[null,null,"Darbuotojo vardas pavardė"]
[null,null,"Darbuotojo vardas pavardė"]
["5.5.9","Pareigybės pavadinimas","Darbuotojo vardas pavardė","val.",null,{"$f":"IFERROR(ROUND(AVERAGE(K143:K147),2),\"0\")","v":"0"},{"$f":"ROUND(E143*F143,2)","v":0},{"$f":"ROUND(G143*$D$7,2)","v":0}]
[null,null,"Darbuotojo vardas pavardė"]
[null,null,"Darbuotojo vardas pavardė"]
[null,null,"Darbuotojo vardas pavardė"]
[null,null,"Darbuotojo vardas pavardė"]
["5.5.10","Pareigybės pavadinimas","Darbuotojo vardas pavardė","val.",null,{"$f":"IFERROR(ROUND(AVERAGE(K148:K152),2),\"0\")","v":"0"},{"$f":"ROUND(E148*F148,2)","v":0},{"$f":"ROUND(G148*$D$7,2)","v":0}]
[null,null,"Darbuotojo vardas pavardė"]
[null,null,"Darbuotojo vardas pavardė"]
[null,null,"Darbuotojo vardas pavardė"]
[null,null,"Darbuotojo vardas pavardė"]
["5.6","Projektą vykdančio personalo komandiruočių išlaidos",null,null,null,null,{"$f":"SUM(G154,G161,G168,G175,G182,G189,G196,G203,G210,G217)","v":0},{"$f":"SUM(H154,H161,H168,H175,H182,H189,H196,H203,H210,H217)","v":0}]
["5.6.1","Komandiruotės pavadinimas, vieta, trukmė dienomis, vykstančių asmenų skaičius","Iš viso komandiruotei",null,null,null,{"$f":"SUM(G155:G160)","v":0},{"$f":"ROUND(G154*$D$7,2)","v":0}]
[null,null,"Dienpinigiai",null,null,null,{"$f":"ROUND(E155*F155,2)","v":0}]
[null,null,"Gyvenamojo ploto nuoma",null,null,null,0]
[null,null,"Kelionės išlaidos",null,null,null,0]
[null,null,"Dalyvavimo mokestis",null,null,null,0]
[null,null,"Kitos išlaidų pavadinimas",null,null,null,0]
[null,null,"Kitos išlaidų pavadinimas",null,null,null,0]
["5.6.2","Komandiruotės pavadinimas, vieta, trukmė dienomis, vykstančių asmenų skaičius","Iš viso komandiruotei",null,null,null,{"$f":"SUM(G162:G167)","v":0},{"$f":"ROUND(G161*$D$7,2)","v":0}]
[null,null,"Dienpinigiai",null,null,null,{"$f":"ROUND(E162*F162,2)","v":0}]
[null,null,"Gyvenamojo ploto nuoma",null,null,null,0]
[null,null,"Kelionės išlaidos",null,null,null,0]
[null,null,"Dalyvavimo mokestis",null,null,null,0]
[null,null,"Kitos išlaidų pavadinimas",null,null,null,0]
[null,null,"Kitos išlaidų pavadinimas",null,null,null,0]
["5.6.3","Komandiruotės pavadinimas, vieta, trukmė dienomis, vykstančių asmenų skaičius","Iš viso komandiruotei",null,null,null,{"$f":"SUM(G169:G174)","v":0},{"$f":"ROUND(G168*$D$7,2)","v":0}]
[null,null,"Dienpinigiai",null,null,null,{"$f":"ROUND(E169*F169,2)","v":0}]
[null,null,"Gyvenamojo ploto nuoma",null,null,null,0]
[null,null,"Kelionės išlaidos",null,null,null,0]
[null,null,"Dalyvavimo mokestis",null,null,null,0]
[null,null,"Kitos išlaidų pavadinimas",null,null,null,0]
[null,null,"Kitos išlaidų pavadinimas",null,null,null,0]
["5.6.4","Komandiruotės pavadinimas, vieta, trukmė dienomis, vykstančių asmenų skaičius","Iš viso komandiruotei",null,null,null,{"$f":"SUM(G176:G181)","v":0},{"$f":"ROUND(G175*$D$7,2)","v":0}]
[null,null,"Dienpinigiai",null,null,null,{"$f":"ROUND(E176*F176,2)","v":0}]
[null,null,"Gyvenamojo ploto nuoma",null,null,null,0]
[null,null,"Kelionės išlaidos",null,null,null,0]
[null,null,"Dalyvavimo mokestis",null,null,null,0]
[null,null,"Kitos išlaidų pavadinimas",null,null,null,0]
[null,null,"Kitos išlaidų pavadinimas",null,null,null,0]
["5.6.5","Komandiruotės pavadinimas, vieta, trukmė dienomis, vykstančių asmenų skaičius","Iš viso komandiruotei",null,null,null,{"$f":"SUM(G183:G188)","v":0},{"$f":"ROUND(G182*$D$7,2)","v":0}]
[null,null,"Dienpinigiai",null,null,null,{"$f":"ROUND(E183*F183,2)","v":0}]
[null,null,"Gyvenamojo ploto nuoma",null,null,null,0]
[null,null,"Kelionės išlaidos",null,null,null,0]
[null,null,"Dalyvavimo mokestis",null,null,null,0]
[null,null,"Kitos išlaidų pavadinimas",null,null,null,0]
[null,null,"Kitos išlaidų pavadinimas",null,null,null,0]
["5.6.6","Komandiruotės pavadinimas, vieta, trukmė dienomis, vykstančių asmenų skaičius","Iš viso komandiruotei",null,null,null,{"$f":"SUM(G190:G195)","v":0},{"$f":"ROUND(G189*$D$7,2)","v":0}]
[null,null,"Dienpinigiai",null,null,null,{"$f":"ROUND(E190*F190,2)","v":0}]
[null,null,"Gyvenamojo ploto nuoma",null,null,null,0]
[null,null,"Kelionės išlaidos",null,null,null,0]
[null,null,"Dalyvavimo mokestis",null,null,null,0]
[null,null,"Kitos išlaidų pavadinimas",null,null,null,0]
[null,null,"Kitos išlaidų pavadinimas",null,null,null,0]
["5.6.7","Komandiruotės pavadinimas, vieta, trukmė dienomis, vykstančių asmenų skaičius","Iš viso komandiruotei",null,null,null,{"$f":"SUM(G197:G202)","v":0},{"$f":"ROUND(G196*$D$7,2)","v":0}]
[null,null,"Dienpinigiai",null,null,null,{"$f":"ROUND(E197*F197,2)","v":0}]
[null,null,"Gyvenamojo ploto nuoma",null,null,null,0]
[null,null,"Kelionės išlaidos",null,null,null,0]
[null,null,"Dalyvavimo mokestis",null,null,null,0]
[null,null,"Kitos išlaidų pavadinimas",null,null,null,0]
[null,null,"Kitos išlaidų pavadinimas",null,null,null,0]
["5.6.8","Komandiruotės pavadinimas, vieta, trukmė dienomis, vykstančių asmenų skaičius","Iš viso komandiruotei",null,null,null,{"$f":"SUM(G204:G209)","v":0},{"$f":"ROUND(G203*$D$7,2)","v":0}]
[null,null,"Dienpinigiai",null,null,null,{"$f":"ROUND(E204*F204,2)","v":0}]
[null,null,"Gyvenamojo ploto nuoma",null,null,null,0]
[null,null,"Kelionės išlaidos",null,null,null,0]
[null,null,"Dalyvavimo mokestis",null,null,null,0]
[null,null,"Kitos išlaidų pavadinimas",null,null,null,0]
[null,null,"Kitos išlaidų pavadinimas",null,null,null,0]
["5.6.9","Komandiruotės pavadinimas, vieta, trukmė dienomis, vykstančių asmenų skaičius","Iš viso komandiruotei",null,null,null,{"$f":"SUM(G211:G216)","v":0},{"$f":"ROUND(G210*$D$7,2)","v":0}]
[null,null,"Dienpinigiai",null,null,null,{"$f":"ROUND(E211*F211,2)","v":0}]
[null,null,"Gyvenamojo ploto nuoma",null,null,null,0]
[null,null,"Kelionės išlaidos",null,null,null,0]
[null,null,"Dalyvavimo mokestis",null,null,null,0]
[null,null,"Kitos išlaidų pavadinimas",null,null,null,0]
[null,null,"Kitos išlaidų pavadinimas",null,null,null,0]
["5.6.10","Komandiruotės pavadinimas, vieta, trukmė dienomis, vykstančių asmenų skaičius","Iš viso komandiruotei",null,null,null,{"$f":"SUM(G218:G223)","v":0},{"$f":"ROUND(G217*$D$7,2)","v":0}]
[null,null,"Dienpinigiai",null,null,null,{"$f":"ROUND(E218*F218,2)","v":0}]
[null,null,"Gyvenamojo ploto nuoma",null,null,null,0]
[null,null,"Kelionės išlaidos",null,null,null,0]
[null,null,"Dalyvavimo mokestis",null,null,null,0]
[null,null,"Kitos išlaidų pavadinimas",null,null,null,0]
[null,null,"Kitos išlaidų pavadinimas",null,null,null,0]
["5.7","Įrangos nuomos išlaidos, veiklai priskirtos pro rata principu. Įranga turi būti tiesiogiai susijusi su projekto įgyvendinimu ir negali būti įsigyta iš ES struktūrinių fondų ar kt. ES finansinių priemonių lėšų",null,null,null,null,{"$f":"SUM(G225:G241)","v":0},{"$f":"SUM(H225:H241)","v":0},null,null,"Faktinės 1 mėnesio išlaidos, Eur","Naudojimo projekte trukmė, mėn."]
["5.7.1","Įrangos pavadinimas",null,"pro rata proc.",null,{"$f":"K225*L225","v":0},{"$f":"ROUND(E225*F225,2)","v":0},{"$f":"ROUND(G225*$D$7,2)","v":0}]
["5.7.2","Įrangos pavadinimas",null,"pro rata proc.",null,{"$f":"K226*L226","v":0},0,{"$f":"ROUND(G226*$D$7,2)","v":0}]
["5.7.3","Įrangos pavadinimas",null,"pro rata proc.",null,0,0,0]
["5.7.4","Įrangos pavadinimas",null,"pro rata proc.",null,0,0,0]
["5.7.5","Įrangos pavadinimas",null,"pro rata proc.",null,0,0,0]
["5.7.6","Įrangos pavadinimas",null,"pro rata proc.",null,0,0,0]
["5.7.7","Įrangos pavadinimas",null,"pro rata proc.",null,0,0,0]
["5.7.8","Įrangos pavadinimas",null,"pro rata proc.",null,0,0,0]
["5.7.9","Įrangos pavadinimas",null,"pro rata proc.",null,0,0,0]
["5.7.10","Įrangos pavadinimas",null,"pro rata proc.",null,0,0,0]
["5.7.11","Įrangos pavadinimas",null,"pro rata proc.",null,0,0,0]
["5.7.12","Įrangos pavadinimas",null,"pro rata proc.",null,0,0,0]
["5.7.13","Įrangos pavadinimas",null,"pro rata proc.",null,0,0,0]
["5.7.14","Įrangos pavadinimas",null,"pro rata proc.",null,{"$f":"K238*L238","v":0},0,{"$f":"ROUND(G238*$D$7,2)","v":0}]
["5.7.15","Įrangos pavadinimas",null,"pro rata proc.",null,{"$f":"K239*L239","v":0},0,{"$f":"ROUND(G239*$D$7,2)","v":0}]
["5.7.16","Įrangos pavadinimas",null,"pro rata proc.",null,{"$f":"K240*L240","v":0},0,{"$f":"ROUND(G240*$D$7,2)","v":0}]
["5.7.17","Įrangos pavadinimas",null,"pro rata proc.",null,{"$f":"K241*L241","v":0},0,{"$f":"ROUND(G241*$D$7,2)","v":0}]
["5.8","Pastatų ar patalpų nuomos išlaidos, veiklai priskirtos pro rata principu. Pastatai ar patalpos turi būti tiesiogiai susijusi su projekto įgyvendinimu.",null,null,null,null,{"$f":"SUM(G243:G247)","v":0},{"$f":"SUM(H243:H247)","v":0},null,null,"Faktinės 1 mėnesio išlaidos, Eur","Naudojimo projekte trukmė, mėn."]
["5.8.1","Pastato, patalpų adresas",null,"pro rata proc.",null,{"$f":"K243*L243","v":0},{"$f":"ROUND(E243*F243,2)","v":0},{"$f":"ROUND(G243*$D$7,2)","v":0}]
["5.8.2","Pastato, patalpų adresas",null,"pro rata proc.",null,{"$f":"K244*L244","v":0},{"$f":"ROUND(E244*F244,2)","v":0},{"$f":"ROUND(G244*$D$7,2)","v":0}]
["5.8.3","Pastato, patalpų adresas",null,"pro rata proc.",null,{"$f":"K245*L245","v":0},{"$f":"ROUND(E245*F245,2)","v":0},{"$f":"ROUND(G245*$D$7,2)","v":0}]
["5.8.4","Pastato, patalpų adresas",null,"pro rata proc.",null,{"$f":"K246*L246","v":0},{"$f":"ROUND(E246*F246,2)","v":0},{"$f":"ROUND(G246*$D$7,2)","v":0}]
["5.8.5","Pastato, patalpų adresas",null,"pro rata proc.",null,{"$f":"K247*L247","v":0},{"$f":"ROUND(E247*F247,2)","v":0},{"$f":"ROUND(G247*$D$7,2)","v":0}]
["Iš viso tinkamų finansuoti išlaidų:",null,null,null,null,null,{"$f":"G10+G21","v":0},{"$f":"H10+H21","v":0}]

{"sheet":"22","index":16,"n_rows":248,"n_cols":19,"rows_kept":248,"cut":false,"hidden":true,"merged":[[5,3,5,8],[8,1,8,2],[9,1,9,5],[10,1,10,2],[11,1,11,2],[12,1,12,2],[0,3,0,8],[2,0,2,2],[2,3,2,8],[3,3,3,4],[3,5,3,6],[4,0,4,2],[4,3,4,8],[19,1,19,2],[20,1,20,5],[21,1,21,5],[22,1,22,2],[23,1,23,2],[24,1,24,2],[13,1,13,2],[14,1,14,2],[15,1,15,2],[16,1,16,2],[17,1,17,2],[18,1,18,2],[31,1,31,2],[32,1,32,5],[33,1,33,2],[34,1,34,2],[35,1,35,2],[36,1,36,2],[25,1,25,2],[26,1,26,2],[27,1,27,2],[28,1,28,2],[29,1,29,2],[30,1,30,2],[43,1,43,5],[44,1,44,2],[45,1,45,2],[46,1,46,2],[47,1,47,2],[48,1,48,2],[37,1,37,2],[38,1,38,2],[39,1,39,2],[40,1,40,2],[41,1,41,2],[42,1,42,2],[55,1,55,2],[56,1,56,2],[57,1,57,2],[58,1,58,2],[59,1,59,2],[60,1,60,2],[49,1,49,2],[50,1,50,2],[51,1,51,2],[52,1,52,2],[53,1,53,2],[54,1,54,2],[67,1,67,2],[68,1,68,2],[69,1,69,2],[70,1,70,2],[71,1,71,5],[72,1,72,2],[61,1,61,2],[62,1,62,2],[63,1,63,2],[64,1,64,2],[65,1,65,2],[66,1,66,2],[79,1,79,2],[80,1,80,2],[81,1,81,2],[82,1,82,2],[83,1,83,2],[84,1,84,2],[73,1,73,2],[74,1,74,2],[75,1,75,2],[76,1,76,2],[77,1,77,2],[78,1,78,2],[91,1,91,2],[92,1,92,2],[93,1,93,2],[94,1,94,2],[95,1,95,2],[96,1,96,2],[85,1,85,2],[86,1,86,2],[87,1,87,2],[88,1,88,2],[89,1,89,2],[90,1,90,2],[97,1,97,2],[98,1,98,2],[99,1,99,2],[100,1,100,2],[101,1,101,5],[102,0,106,0],[102,1,106,1],[102,3,106,3],[102,4,106,4],[102,5,106,5],[102,6,106,6],[102,7,106,7],[102,8,106,8],[107,0,111,0],[107,1,111,1],[107,3,111,3],[107,4,111,4],[107,5,111,5],[107,6,111,6],[107,7,111,7],[107,8,111,8],[112,0,116,0],[112,1,116,1],[112,3,116,3],[112,4,116,4],[112,5,116,5],[112,6,116,6],[112,7,116,7],[112,8,116,8],[117,7,121,7],[117,8,121,8],[122,0,126,0],[122,1,126,1],[122,3,126,3],[122,4,126,4],[122,5,126,5],[122,6,126,6],[122,7,126,7],[122,8,126,8],[117,0,121,0],[117,1,121,1],[117,3,121,3],[117,4,121,4],[117,5,121,5],[117,6,121,6],[127,7,131,7],[127,8,131,8],[132,0,136,0],[132,1,136,1],[132,3,136,3],[132,4,136,4],[132,5,136,5],[132,6,136,6],[132,7,136,7],[132,8,136,8],[127,0,131,0],[127,1,131,1],[127,3,131,3],[127,4,131,4],[127,5,131,5],[127,6,131,6],[137,7,141,7],[137,8,141,8],[142,0,146,0],[142,1,146,1],[142,3,146,3],[142,4,146,4],[142,5,146,5],[142,6,146,6],[142,7,146,7],[142,8,146,8],[137,0,141,0],[137,1,141,1],[137,3,141,3],[137,4,141,4],[137,5,141,5],[137,6,141,6],[160,0,166,0],[160,1,166,1],[160,8,166,8],[167,0,173,0],[167,1,173,1],[167,8,173,8],[147,7,151,7],[147,8,151,8],[152,1,152,5],[153,0,159,0],[153,1,159,1],[153,8,159,8],[147,0,151,0],[147,1,151,1],[147,3,151,3],[147,4,151,4],[147,5,151,5],[147,6,151,6],[188,0,194,0],[188,1,194,1],[188,8,194,8],[195,0,201,0],[195,1,201,1],[195,8,201,8],[174,0,180,0],[174,1,180,1],[174,8,180,8],[181,0,187,0],[181,1,187,1],[181,8,187,8],[216,0,222,0],[216,1,222,1],[216,8,222,8],[223,1,223,5],[224,1,224,2],[225,1,225,2],[202,0,208,0],[202,1,208,1],[202,8,208,8],[209,0,215,0],[209,1,215,1],[209,8,215,8],[232,1,232,2],[233,1,233,2],[234,1,234,2],[235,1,235,2],[236,1,236,2],[237,1,237,2],[226,1,226,2],[227,1,227,2],[228,1,228,2],[229,1,229,2],[230,1,230,2],[231,1,231,2],[244,1,244,2],[245,1,245,2],[246,1,246,2],[247,0,247,5],[238,1,238,2],[239,1,239,2],[240,1,240,2],[241,1,241,5],[242,1,242,2],[243,1,243,2]]}
[null,null,"Pasirinkite veiklos tipą:"]
[null,null,"Fizinio rodiklio Nr.:"]
["Fizinio rodiklio pavadinimas:"]
[null,null,"Fizinio rodiklio matavimo vnt.:",null,null,"Fizinio rodiklio vnt. skaičius:"]
["Juridinis asmuo (pareiškėjas, partneris), atsakingas už fizinį rodiklį:"]
[null,null,"Vykdytojo tipas:"]
[null,null,"Finansavimo intensyvumas:",null,null,null,"Pasirinkite biudžeto išlaidų kategoriją:","Visos"]
[]
["Eil. Nr.","Išlaidų kategorijos pavadinimas",null,"Matavimo vnt.","Kiekis","Vieneto kaina be PVM, Eur","Tinkamų finansuoti išlaidų suma be PVM, Eur","Finansavimo suma, Eur","Išlaidų pagrindimo dokumentų pavadinimas, data ir Nr."]
[4,"ĮRANGA, ĮRENGINIAI IR KT. TURTAS (techninių žinių ir išradimų patentų arba teisių pagal licencijų sutartį įsigijimo išlaidos)",null,null,null,null,{"$f":"SUM(G11:G20)","v":0},{"$f":"SUM(H11:H20)","v":0}]
["4.1","Išlaidų pavadinimas",null,null,null,null,{"$f":"ROUND(E11*F11,2)","v":0},{"$f":"ROUND(G11*$D$7,2)","v":0}]
["4.2","Išlaidų pavadinimas",null,null,null,null,0,0]
["4.3","Išlaidų pavadinimas",null,null,null,null,0,0]
["4.4","Išlaidų pavadinimas",null,null,null,null,0,0]
["4.5","Išlaidų pavadinimas",null,null,null,null,0,0]
["4.6","Išlaidų pavadinimas",null,null,null,null,0,0]
["4.7","Išlaidų pavadinimas",null,null,null,null,0,0]
["4.8","Išlaidų pavadinimas",null,null,null,null,0,0]
["4.9","Išlaidų pavadinimas",null,null,null,null,0,0]
["4.10","Išlaidų pavadinimas",null,null,null,null,0,0]
[5,"PROJEKTO VYKDYMAS",null,null,null,null,{"$f":"G22+G33+G44+G72+G102+G153+G224+G242","v":0},{"$f":"H22+H33+H44+H72+H102+H153+H224+H242","v":0}]
["5.1","MTEP paslaugos",null,null,null,null,{"$f":"SUM(G23:G32)","v":0},{"$f":"SUM(H23:H32)","v":0}]
["5.1.1","Paslaugos pavadinimas",null,null,null,null,{"$f":"ROUND(E23*F23,2)","v":0},0]
["5.1.2","Paslaugos pavadinimas",null,null,null,null,0,0]
["5.1.3","Paslaugos pavadinimas",null,null,null,null,0,0]
["5.1.4","Paslaugos pavadinimas",null,null,null,null,0,0]
["5.1.5","Paslaugos pavadinimas",null,null,null,null,0,0]
["5.1.6","Paslaugos pavadinimas",null,null,null,null,0,0]
["5.1.7","Paslaugos pavadinimas",null,null,null,null,0,0]
["5.1.8","Paslaugos pavadinimas",null,null,null,null,0,0]
["5.1.9","Paslaugos pavadinimas",null,null,null,null,0,0]
["5.1.10","Paslaugos pavadinimas",null,null,null,null,0,0]
["5.2","Konsultavimo ir lygiavertės paslaugos, teikiamos vien tik projekto MTEP veiklai.",null,null,null,null,{"$f":"SUM(G34:G43)","v":0},{"$f":"SUM(H34:H43)","v":0}]
["5.2.1","Paslaugos pavadinimas",null,null,null,null,{"$f":"ROUND(E34*F34,2)","v":0},0]
["5.2.2","Paslaugos pavadinimas",null,null,null,null,0,0]
["5.2.3","Paslaugos pavadinimas",null,null,null,null,0,0]
["5.2.4","Paslaugos pavadinimas",null,null,null,null,0,0]
["5.2.5","Paslaugos pavadinimas",null,null,null,null,0,0]
["5.2.6","Paslaugos pavadinimas",null,null,null,null,0,0]
["5.2.7","Paslaugos pavadinimas",null,null,null,null,0,0]
["5.2.8","Paslaugos pavadinimas",null,null,null,null,0,0]
["5.2.9","Paslaugos pavadinimas",null,null,null,null,0,0]
["5.2.10","Paslaugos pavadinimas",null,null,null,null,0,0]
["5.3","Medžiagos, mažavertis inventorius, atsargos ir pan. produktai, priskirtini trumpalaikiam turtui ir tiesiogiai susiję su MTEP veikla",null,null,null,null,{"$f":"SUM(G45:G71)","v":0},{"$f":"SUM(H45:H71)","v":0}]
["5.3.1","Išlaidų pavadinimas",null,null,null,null,{"$f":"ROUND(E45*F45,2)","v":0},{"$f":"ROUND(G45*$D$7,2)","v":0}]
["5.3.2","Išlaidų pavadinimas",null,null,null,null,{"$f":"ROUND(E46*F46,2)","v":0},{"$f":"ROUND(G46*$D$7,2)","v":0}]
["5.3.3","Išlaidų pavadinimas",null,null,null,null,{"$f":"ROUND(E47*F47,2)","v":0},{"$f":"ROUND(G47*$D$7,2)","v":0}]
["5.3.4","Išlaidų pavadinimas",null,null,null,null,{"$f":"ROUND(E48*F48,2)","v":0},{"$f":"ROUND(G48*$D$7,2)","v":0}]
["5.3.5","Išlaidų pavadinimas",null,null,null,null,{"$f":"ROUND(E49*F49,2)","v":0},{"$f":"ROUND(G49*$D$7,2)","v":0}]
["5.3.6","Išlaidų pavadinimas",null,null,null,null,0,0]
["5.3.7","Išlaidų pavadinimas",null,null,null,null,0,0]
["5.3.8","Išlaidų pavadinimas",null,null,null,null,0,0]
["5.3.9","Išlaidų pavadinimas",null,null,null,null,0,0]
["5.3.10","Išlaidų pavadinimas",null,null,null,null,0,0]
["5.3.11","Išlaidų pavadinimas",null,null,null,null,0,0]
["5.3.12","Išlaidų pavadinimas",null,null,null,null,0,0]
["5.3.13","Išlaidų pavadinimas",null,null,null,null,0,0]
["5.3.14","Išlaidų pavadinimas",null,null,null,null,0,0]
["5.3.15","Išlaidų pavadinimas",null,null,null,null,0,0]
["5.3.16","Išlaidų pavadinimas",null,null,null,null,0,0]
["5.3.17","Išlaidų pavadinimas",null,null,null,null,0,0]
["5.3.18","Išlaidų pavadinimas",null,null,null,null,0,0]
["5.3.19","Išlaidų pavadinimas",null,null,null,null,0,0]
["5.3.20","Išlaidų pavadinimas",null,null,null,null,0,0]
["5.3.21","Išlaidų pavadinimas",null,null,null,null,0,0]
["5.3.22","Išlaidų pavadinimas",null,null,null,null,0,0]
["5.3.23","Išlaidų pavadinimas",null,null,null,null,0,0]
["5.3.24","Išlaidų pavadinimas",null,null,null,null,0,0]
["5.3.25","Išlaidų pavadinimas",null,null,null,null,0,0]
["5.3.26","Išlaidų pavadinimas",null,null,null,null,0,0]
["5.3.27","Išlaidų pavadinimas",null,null,null,null,0,0]
["5.4","Projekto MTEP veikloms naudojamo ilgalaikio materialaus turto (įrangos, prietaisų, įrankių, įrenginių, mašinų ir įrengimų, pastatų ir (ar) patalpų), nusidėvėjimo sąnaudos, jeigu šiam turtui įsigyti nebuvo naudojamos viešosios (įskaitant ir kitų valstybių) lėšos",null,null,null,null,{"$f":"SUM(G73:G101)","v":0},{"$f":"SUM(H73:H101)","v":0},null,null,"Turto įvedimo į eksploataciją data","Turto įsigijimo vertė, Eur","Turto nudėvėjimo, amortizacijos laikotarpis, mėn.","Numatoma turto likutinė vertė, Eur","1 mėn. nudėvėjimo, amortizacijos suma, Eur","Turto naudojamo projekto reikmėms laikas, mėn.","Turto panaudojimo projekto reikmėms dalis (proc.)","Projektui priskirta turto nusidėvėjimo, amortizacijos suma per projekto laikotarpį, Eur"]
["5.4.1","Turtas, kurio nusidėvėjimą, amortizaciją prašoma finansuoti",null,null,1,{"$f":"R73","v":0},{"$f":"ROUND(E73*F73,2)","v":0},0,null,null,null,null,null,null,{"$f":"IFERROR(ROUND((L73-N73)/M73,2),\"0\")","v":"0"},null,null,{"$f":"O73*P73*Q73","v":0},{"$f":"IF(K73=0,\" \",IF(K73+(M73*30.5)<TODAY(),\"DĖMESIO! Patikrinkite, ar nurodytas turtas dar nėra nudėvėtas, amortizuotas\",\" \"))","v":" "}]
["5.4.2","Turtas, kurio nusidėvėjimą, amortizaciją prašoma finansuoti",null,null,1,0,0,0,null,null,null,null,null,null,{"$f":"IFERROR(ROUND((L74-N74)/M74,2),\"0\")","v":"0"},null,null,{"$f":"O74*P74*Q74","v":0},{"$f":"IF(K74=0,\" \",IF(K74+(M74*30.5)<TODAY(),\"DĖMESIO! Patikrinkite, ar nurodytas turtas dar nėra nudėvėtas, amortizuotas\",\" \"))","v":" "}]
["5.4.3","Turtas, kurio nusidėvėjimą, amortizaciją prašoma finansuoti",null,null,1,0,0,0,null,null,null,null,null,null,"0",null,null,0," "]
["5.4.4","Turtas, kurio nusidėvėjimą, amortizaciją prašoma finansuoti",null,null,1,0,0,0,null,null,null,null,null,null,"0",null,null,0," "]
["5.4.5","Turtas, kurio nusidėvėjimą, amortizaciją prašoma finansuoti",null,null,1,0,0,0,null,null,null,null,null,null,"0",null,null,0," "]
["5.4.6","Turtas, kurio nusidėvėjimą, amortizaciją prašoma finansuoti",null,null,1,0,0,0,null,null,null,null,null,null,"0",null,null,0," "]
["5.4.7","Turtas, kurio nusidėvėjimą, amortizaciją prašoma finansuoti",null,null,1,0,0,0,null,null,null,null,null,null,"0",null,null,0," "]
["5.4.8","Turtas, kurio nusidėvėjimą, amortizaciją prašoma finansuoti",null,null,1,0,0,0,null,null,null,null,null,null,"0",null,null,0," "]
["5.4.9","Turtas, kurio nusidėvėjimą, amortizaciją prašoma finansuoti",null,null,1,0,0,0,null,null,null,null,null,null,"0",null,null,0," "]
["5.4.10","Turtas, kurio nusidėvėjimą, amortizaciją prašoma finansuoti",null,null,1,0,0,0,null,null,null,null,null,null,"0",null,null,0," "]
["5.4.11","Turtas, kurio nusidėvėjimą, amortizaciją prašoma finansuoti",null,null,1,0,0,0,null,null,null,null,null,null,"0",null,null,0," "]
["5.4.12","Turtas, kurio nusidėvėjimą, amortizaciją prašoma finansuoti",null,null,1,0,0,0,null,null,null,null,null,null,"0",null,null,0," "]
["5.4.13","Turtas, kurio nusidėvėjimą, amortizaciją prašoma finansuoti",null,null,1,0,0,0,null,null,null,null,null,null,"0",null,null,0," "]
["5.4.14","Turtas, kurio nusidėvėjimą, amortizaciją prašoma finansuoti",null,null,1,0,0,0,null,null,null,null,null,null,"0",null,null,0," "]
["5.4.15","Turtas, kurio nusidėvėjimą, amortizaciją prašoma finansuoti",null,null,1,0,0,0,null,null,null,null,null,null,"0",null,null,0," "]
["5.4.16","Turtas, kurio nusidėvėjimą, amortizaciją prašoma finansuoti",null,null,1,0,0,0,null,null,null,null,null,null,"0",null,null,0," "]
["5.4.17","Turtas, kurio nusidėvėjimą, amortizaciją prašoma finansuoti",null,null,1,0,0,0,null,null,null,null,null,null,"0",null,null,0," "]
["5.4.18","Turtas, kurio nusidėvėjimą, amortizaciją prašoma finansuoti",null,null,1,0,0,0,null,null,null,null,null,null,"0",null,null,0," "]
["5.4.19","Turtas, kurio nusidėvėjimą, amortizaciją prašoma finansuoti",null,null,1,0,0,0,null,null,null,null,null,null,"0",null,null,0," "]
["5.4.20","Turtas, kurio nusidėvėjimą, amortizaciją prašoma finansuoti",null,null,1,0,0,0,null,null,null,null,null,null,"0",null,null,0," "]
["5.4.21","Turtas, kurio nusidėvėjimą, amortizaciją prašoma finansuoti",null,null,1,0,0,0,null,null,null,null,null,null,"0",null,null,0," "]
["5.4.22","Turtas, kurio nusidėvėjimą, amortizaciją prašoma finansuoti",null,null,1,0,0,0,null,null,null,null,null,null,"0",null,null,0," "]
["5.4.23","Turtas, kurio nusidėvėjimą, amortizaciją prašoma finansuoti",null,null,1,0,0,0,null,null,null,null,null,null,"0",null,null,0," "]
["5.4.24","Turtas, kurio nusidėvėjimą, amortizaciją prašoma finansuoti",null,null,1,0,0,0,null,null,null,null,null,null,"0",null,null,0," "]
["5.4.25","Turtas, kurio nusidėvėjimą, amortizaciją prašoma finansuoti",null,null,1,0,0,0,null,null,null,null,null,null,"0",null,null,0," "]
["5.4.26","Turtas, kurio nusidėvėjimą, amortizaciją prašoma finansuoti",null,null,1,0,0,0,null,null,null,null,null,null,"0",null,null,0," "]
["5.4.27","Turtas, kurio nusidėvėjimą, amortizaciją prašoma finansuoti",null,null,1,0,0,0,null,null,null,null,null,null,"0",null,null,0," "]
["5.4.28","Turtas, kurio nusidėvėjimą, amortizaciją prašoma finansuoti",null,null,1,0,0,0,null,null,null,null,null,null,"0",null,null,0," "]
["5.4.29","Turtas, kurio nusidėvėjimą, amortizaciją prašoma finansuoti",null,null,1,0,0,0,null,null,null,null,null,null,"0",null,null,0," "]
["5.5","Projektą vykdančio personalo darbo užmokestis ir išlaidos su darbo santykiais susijusiems darbdavio įsipareigojimams",null,null,null,null,{"$f":"SUM(G103:G152)","v":0},{"$f":"SUM(H103:H152)","v":0},null,null,"Faktiškai gaunamas darbo užmokesti už 1 valandą pagal  pastarųjų 6 mėn. vidurkį, Eur"]
["5.5.1","Pareigybės pavadinimas","Darbuotojo vardas pavardė","val.",null,{"$f":"IFERROR(ROUND(AVERAGE(K103:K107),2),\"0\")","v":"0"},{"$f":"ROUND(E103*F103,2)","v":0},{"$f":"ROUND(G103*$D$7,2)","v":0}]
[null,null,"Darbuotojo vardas pavardė"]
[null,null,"Darbuotojo vardas pavardė"]
[null,null,"Darbuotojo vardas pavardė"]
[null,null,"Darbuotojo vardas pavardė"]
["5.5.2","Pareigybės pavadinimas","Darbuotojo vardas pavardė","val.",null,{"$f":"IFERROR(ROUND(AVERAGE(K108:K112),2),\"0\")","v":"0"},{"$f":"ROUND(E108*F108,2)","v":0},{"$f":"ROUND(G108*$D$7,2)","v":0}]
[null,null,"Darbuotojo vardas pavardė"]
[null,null,"Darbuotojo vardas pavardė"]
[null,null,"Darbuotojo vardas pavardė"]
[null,null,"Darbuotojo vardas pavardė"]
["5.5.3","Pareigybės pavadinimas","Darbuotojo vardas pavardė","val.",null,{"$f":"IFERROR(ROUND(AVERAGE(K113:K117),2),\"0\")","v":"0"},{"$f":"ROUND(E113*F113,2)","v":0},{"$f":"ROUND(G113*$D$7,2)","v":0}]
[null,null,"Darbuotojo vardas pavardė"]
[null,null,"Darbuotojo vardas pavardė"]
[null,null,"Darbuotojo vardas pavardė"]
[null,null,"Darbuotojo vardas pavardė"]
["5.5.4","Pareigybės pavadinimas","Darbuotojo vardas pavardė","val.",null,{"$f":"IFERROR(ROUND(AVERAGE(K118:K122),2),\"0\")","v":"0"},{"$f":"ROUND(E118*F118,2)","v":0},{"$f":"ROUND(G118*$D$7,2)","v":0}]
[null,null,"Darbuotojo vardas pavardė"]
[null,null,"Darbuotojo vardas pavardė"]
[null,null,"Darbuotojo vardas pavardė"]
[null,null,"Darbuotojo vardas pavardė"]
["5.5.5","Pareigybės pavadinimas","Darbuotojo vardas pavardė","val.",null,{"$f":"IFERROR(ROUND(AVERAGE(K123:K127),2),\"0\")","v":"0"},{"$f":"ROUND(E123*F123,2)","v":0},{"$f":"ROUND(G123*$D$7,2)","v":0}]
[null,null,"Darbuotojo vardas pavardė"]
[null,null,"Darbuotojo vardas pavardė"]
[null,null,"Darbuotojo vardas pavardė"]
[null,null,"Darbuotojo vardas pavardė"]
["5.5.6","Pareigybės pavadinimas","Darbuotojo vardas pavardė","val.",null,{"$f":"IFERROR(ROUND(AVERAGE(K128:K132),2),\"0\")","v":"0"},{"$f":"ROUND(E128*F128,2)","v":0},{"$f":"ROUND(G128*$D$7,2)","v":0}]
[null,null,"Darbuotojo vardas pavardė"]
[null,null,"Darbuotojo vardas pavardė"]
[null,null,"Darbuotojo vardas pavardė"]
[null,null,"Darbuotojo vardas pavardė"]
["5.5.7","Pareigybės pavadinimas","Darbuotojo vardas pavardė","val.",null,{"$f":"IFERROR(ROUND(AVERAGE(K133:K137),2),\"0\")","v":"0"},{"$f":"ROUND(E133*F133,2)","v":0},{"$f":"ROUND(G133*$D$7,2)","v":0}]
[null,null,"Darbuotojo vardas pavardė"]
[null,null,"Darbuotojo vardas pavardė"]
[null,null,"Darbuotojo vardas pavardė"]
[null,null,"Darbuotojo vardas pavardė"]
["5.5.8","Pareigybės pavadinimas","Darbuotojo vardas pavardė","val.",null,{"$f":"IFERROR(ROUND(AVERAGE(K138:K142),2),\"0\")","v":"0"},{"$f":"ROUND(E138*F138,2)","v":0},{"$f":"ROUND(G138*$D$7,2)","v":0}]
[null,null,"Darbuotojo vardas pavardė"]
[null,null,"Darbuotojo vardas pavardė"]
[null,null,"Darbuotojo vardas pavardė"]
[null,null,"Darbuotojo vardas pavardė"]
["5.5.9","Pareigybės pavadinimas","Darbuotojo vardas pavardė","val.",null,{"$f":"IFERROR(ROUND(AVERAGE(K143:K147),2),\"0\")","v":"0"},{"$f":"ROUND(E143*F143,2)","v":0},{"$f":"ROUND(G143*$D$7,2)","v":0}]
[null,null,"Darbuotojo vardas pavardė"]
[null,null,"Darbuotojo vardas pavardė"]
[null,null,"Darbuotojo vardas pavardė"]
[null,null,"Darbuotojo vardas pavardė"]
["5.5.10","Pareigybės pavadinimas","Darbuotojo vardas pavardė","val.",null,{"$f":"IFERROR(ROUND(AVERAGE(K148:K152),2),\"0\")","v":"0"},{"$f":"ROUND(E148*F148,2)","v":0},{"$f":"ROUND(G148*$D$7,2)","v":0}]
[null,null,"Darbuotojo vardas pavardė"]
[null,null,"Darbuotojo vardas pavardė"]
[null,null,"Darbuotojo vardas pavardė"]
[null,null,"Darbuotojo vardas pavardė"]
["5.6","Projektą vykdančio personalo komandiruočių išlaidos",null,null,null,null,{"$f":"SUM(G154,G161,G168,G175,G182,G189,G196,G203,G210,G217)","v":0},{"$f":"SUM(H154,H161,H168,H175,H182,H189,H196,H203,H210,H217)","v":0}]
["5.6.1","Komandiruotės pavadinimas, vieta, trukmė dienomis, vykstančių asmenų skaičius","Iš viso komandiruotei",null,null,null,{"$f":"SUM(G155:G160)","v":0},{"$f":"ROUND(G154*$D$7,2)","v":0}]
[null,null,"Dienpinigiai",null,null,null,{"$f":"ROUND(E155*F155,2)","v":0}]
[null,null,"Gyvenamojo ploto nuoma",null,null,null,0]
[null,null,"Kelionės išlaidos",null,null,null,0]
[null,null,"Dalyvavimo mokestis",null,null,null,0]
[null,null,"Kitos išlaidų pavadinimas",null,null,null,0]
[null,null,"Kitos išlaidų pavadinimas",null,null,null,0]
["5.6.2","Komandiruotės pavadinimas, vieta, trukmė dienomis, vykstančių asmenų skaičius","Iš viso komandiruotei",null,null,null,{"$f":"SUM(G162:G167)","v":0},{"$f":"ROUND(G161*$D$7,2)","v":0}]
[null,null,"Dienpinigiai",null,null,null,{"$f":"ROUND(E162*F162,2)","v":0}]
[null,null,"Gyvenamojo ploto nuoma",null,null,null,0]
[null,null,"Kelionės išlaidos",null,null,null,0]
[null,null,"Dalyvavimo mokestis",null,null,null,0]
[null,null,"Kitos išlaidų pavadinimas",null,null,null,0]
[null,null,"Kitos išlaidų pavadinimas",null,null,null,0]
["5.6.3","Komandiruotės pavadinimas, vieta, trukmė dienomis, vykstančių asmenų skaičius","Iš viso komandiruotei",null,null,null,{"$f":"SUM(G169:G174)","v":0},{"$f":"ROUND(G168*$D$7,2)","v":0}]
[null,null,"Dienpinigiai",null,null,null,{"$f":"ROUND(E169*F169,2)","v":0}]
[null,null,"Gyvenamojo ploto nuoma",null,null,null,0]
[null,null,"Kelionės išlaidos",null,null,null,0]
[null,null,"Dalyvavimo mokestis",null,null,null,0]
[null,null,"Kitos išlaidų pavadinimas",null,null,null,0]
[null,null,"Kitos išlaidų pavadinimas",null,null,null,0]
["5.6.4","Komandiruotės pavadinimas, vieta, trukmė dienomis, vykstančių asmenų skaičius","Iš viso komandiruotei",null,null,null,{"$f":"SUM(G176:G181)","v":0},{"$f":"ROUND(G175*$D$7,2)","v":0}]
[null,null,"Dienpinigiai",null,null,null,{"$f":"ROUND(E176*F176,2)","v":0}]
[null,null,"Gyvenamojo ploto nuoma",null,null,null,0]
[null,null,"Kelionės išlaidos",null,null,null,0]
[null,null,"Dalyvavimo mokestis",null,null,null,0]
[null,null,"Kitos išlaidų pavadinimas",null,null,null,0]
[null,null,"Kitos išlaidų pavadinimas",null,null,null,0]
["5.6.5","Komandiruotės pavadinimas, vieta, trukmė dienomis, vykstančių asmenų skaičius","Iš viso komandiruotei",null,null,null,{"$f":"SUM(G183:G188)","v":0},{"$f":"ROUND(G182*$D$7,2)","v":0}]
[null,null,"Dienpinigiai",null,null,null,{"$f":"ROUND(E183*F183,2)","v":0}]
[null,null,"Gyvenamojo ploto nuoma",null,null,null,0]
[null,null,"Kelionės išlaidos",null,null,null,0]
[null,null,"Dalyvavimo mokestis",null,null,null,0]
[null,null,"Kitos išlaidų pavadinimas",null,null,null,0]
[null,null,"Kitos išlaidų pavadinimas",null,null,null,0]
["5.6.6","Komandiruotės pavadinimas, vieta, trukmė dienomis, vykstančių asmenų skaičius","Iš viso komandiruotei",null,null,null,{"$f":"SUM(G190:G195)","v":0},{"$f":"ROUND(G189*$D$7,2)","v":0}]
[null,null,"Dienpinigiai",null,null,null,{"$f":"ROUND(E190*F190,2)","v":0}]
[null,null,"Gyvenamojo ploto nuoma",null,null,null,0]
[null,null,"Kelionės išlaidos",null,null,null,0]
[null,null,"Dalyvavimo mokestis",null,null,null,0]
[null,null,"Kitos išlaidų pavadinimas",null,null,null,0]
[null,null,"Kitos išlaidų pavadinimas",null,null,null,0]
["5.6.7","Komandiruotės pavadinimas, vieta, trukmė dienomis, vykstančių asmenų skaičius","Iš viso komandiruotei",null,null,null,{"$f":"SUM(G197:G202)","v":0},{"$f":"ROUND(G196*$D$7,2)","v":0}]
[null,null,"Dienpinigiai",null,null,null,{"$f":"ROUND(E197*F197,2)","v":0}]
[null,null,"Gyvenamojo ploto nuoma",null,null,null,0]
[null,null,"Kelionės išlaidos",null,null,null,0]
[null,null,"Dalyvavimo mokestis",null,null,null,0]
[null,null,"Kitos išlaidų pavadinimas",null,null,null,0]
[null,null,"Kitos išlaidų pavadinimas",null,null,null,0]
["5.6.8","Komandiruotės pavadinimas, vieta, trukmė dienomis, vykstančių asmenų skaičius","Iš viso komandiruotei",null,null,null,{"$f":"SUM(G204:G209)","v":0},{"$f":"ROUND(G203*$D$7,2)","v":0}]
[null,null,"Dienpinigiai",null,null,null,{"$f":"ROUND(E204*F204,2)","v":0}]
[null,null,"Gyvenamojo ploto nuoma",null,null,null,0]
[null,null,"Kelionės išlaidos",null,null,null,0]
[null,null,"Dalyvavimo mokestis",null,null,null,0]
[null,null,"Kitos išlaidų pavadinimas",null,null,null,0]
[null,null,"Kitos išlaidų pavadinimas",null,null,null,0]
["5.6.9","Komandiruotės pavadinimas, vieta, trukmė dienomis, vykstančių asmenų skaičius","Iš viso komandiruotei",null,null,null,{"$f":"SUM(G211:G216)","v":0},{"$f":"ROUND(G210*$D$7,2)","v":0}]
[null,null,"Dienpinigiai",null,null,null,{"$f":"ROUND(E211*F211,2)","v":0}]
[null,null,"Gyvenamojo ploto nuoma",null,null,null,0]
[null,null,"Kelionės išlaidos",null,null,null,0]
[null,null,"Dalyvavimo mokestis",null,null,null,0]
[null,null,"Kitos išlaidų pavadinimas",null,null,null,0]
[null,null,"Kitos išlaidų pavadinimas",null,null,null,0]
["5.6.10","Komandiruotės pavadinimas, vieta, trukmė dienomis, vykstančių asmenų skaičius","Iš viso komandiruotei",null,null,null,{"$f":"SUM(G218:G223)","v":0},{"$f":"ROUND(G217*$D$7,2)","v":0}]
[null,null,"Dienpinigiai",null,null,null,{"$f":"ROUND(E218*F218,2)","v":0}]
[null,null,"Gyvenamojo ploto nuoma",null,null,null,0]
[null,null,"Kelionės išlaidos",null,null,null,0]
[null,null,"Dalyvavimo mokestis",null,null,null,0]
[null,null,"Kitos išlaidų pavadinimas",null,null,null,0]
[null,null,"Kitos išlaidų pavadinimas",null,null,null,0]
["5.7","Įrangos nuomos išlaidos, veiklai priskirtos pro rata principu. Įranga turi būti tiesiogiai susijusi su projekto įgyvendinimu ir negali būti įsigyta iš ES struktūrinių fondų ar kt. ES finansinių priemonių lėšų",null,null,null,null,{"$f":"SUM(G225:G241)","v":0},{"$f":"SUM(H225:H241)","v":0},null,null,"Faktinės 1 mėnesio išlaidos, Eur","Naudojimo projekte trukmė, mėn."]
["5.7.1","Įrangos pavadinimas",null,"pro rata proc.",null,{"$f":"K225*L225","v":0},{"$f":"ROUND(E225*F225,2)","v":0},{"$f":"ROUND(G225*$D$7,2)","v":0}]
["5.7.2","Įrangos pavadinimas",null,"pro rata proc.",null,{"$f":"K226*L226","v":0},0,{"$f":"ROUND(G226*$D$7,2)","v":0}]
["5.7.3","Įrangos pavadinimas",null,"pro rata proc.",null,0,0,0]
["5.7.4","Įrangos pavadinimas",null,"pro rata proc.",null,0,0,0]
["5.7.5","Įrangos pavadinimas",null,"pro rata proc.",null,0,0,0]
["5.7.6","Įrangos pavadinimas",null,"pro rata proc.",null,0,0,0]
["5.7.7","Įrangos pavadinimas",null,"pro rata proc.",null,0,0,0]
["5.7.8","Įrangos pavadinimas",null,"pro rata proc.",null,0,0,0]
["5.7.9","Įrangos pavadinimas",null,"pro rata proc.",null,0,0,0]
["5.7.10","Įrangos pavadinimas",null,"pro rata proc.",null,0,0,0]
["5.7.11","Įrangos pavadinimas",null,"pro rata proc.",null,0,0,0]
["5.7.12","Įrangos pavadinimas",null,"pro rata proc.",null,0,0,0]
["5.7.13","Įrangos pavadinimas",null,"pro rata proc.",null,0,0,0]
["5.7.14","Įrangos pavadinimas",null,"pro rata proc.",null,{"$f":"K238*L238","v":0},0,{"$f":"ROUND(G238*$D$7,2)","v":0}]
["5.7.15","Įrangos pavadinimas",null,"pro rata proc.",null,{"$f":"K239*L239","v":0},0,{"$f":"ROUND(G239*$D$7,2)","v":0}]
["5.7.16","Įrangos pavadinimas",null,"pro rata proc.",null,{"$f":"K240*L240","v":0},0,{"$f":"ROUND(G240*$D$7,2)","v":0}]
["5.7.17","Įrangos pavadinimas",null,"pro rata proc.",null,{"$f":"K241*L241","v":0},0,{"$f":"ROUND(G241*$D$7,2)","v":0}]
["5.8","Pastatų ar patalpų nuomos išlaidos, veiklai priskirtos pro rata principu. Pastatai ar patalpos turi būti tiesiogiai susijusi su projekto įgyvendinimu.",null,null,null,null,{"$f":"SUM(G243:G247)","v":0},{"$f":"SUM(H243:H247)","v":0},null,null,"Faktinės 1 mėnesio išlaidos, Eur","Naudojimo projekte trukmė, mėn."]
["5.8.1","Pastato, patalpų adresas",null,"pro rata proc.",null,{"$f":"K243*L243","v":0},{"$f":"ROUND(E243*F243,2)","v":0},{"$f":"ROUND(G243*$D$7,2)","v":0}]
["5.8.2","Pastato, patalpų adresas",null,"pro rata proc.",null,{"$f":"K244*L244","v":0},{"$f":"ROUND(E244*F244,2)","v":0},{"$f":"ROUND(G244*$D$7,2)","v":0}]
["5.8.3","Pastato, patalpų adresas",null,"pro rata proc.",null,{"$f":"K245*L245","v":0},{"$f":"ROUND(E245*F245,2)","v":0},{"$f":"ROUND(G245*$D$7,2)","v":0}]
["5.8.4","Pastato, patalpų adresas",null,"pro rata proc.",null,{"$f":"K246*L246","v":0},{"$f":"ROUND(E246*F246,2)","v":0},{"$f":"ROUND(G246*$D$7,2)","v":0}]
["5.8.5","Pastato, patalpų adresas",null,"pro rata proc.",null,{"$f":"K247*L247","v":0},{"$f":"ROUND(E247*F247,2)","v":0},{"$f":"ROUND(G247*$D$7,2)","v":0}]
["Iš viso tinkamų finansuoti išlaidų:",null,null,null,null,null,{"$f":"G10+G21","v":0},{"$f":"H10+H21","v":0}]

{"sheet":"23","index":17,"n_rows":248,"n_cols":19,"rows_kept":248,"cut":false,"hidden":true,"merged":[[5,3,5,8],[8,1,8,2],[9,1,9,5],[10,1,10,2],[11,1,11,2],[12,1,12,2],[0,3,0,8],[2,0,2,2],[2,3,2,8],[3,3,3,4],[3,5,3,6],[4,0,4,2],[4,3,4,8],[19,1,19,2],[20,1,20,5],[21,1,21,5],[22,1,22,2],[23,1,23,2],[24,1,24,2],[13,1,13,2],[14,1,14,2],[15,1,15,2],[16,1,16,2],[17,1,17,2],[18,1,18,2],[31,1,31,2],[32,1,32,5],[33,1,33,2],[34,1,34,2],[35,1,35,2],[36,1,36,2],[25,1,25,2],[26,1,26,2],[27,1,27,2],[28,1,28,2],[29,1,29,2],[30,1,30,2],[43,1,43,5],[44,1,44,2],[45,1,45,2],[46,1,46,2],[47,1,47,2],[48,1,48,2],[37,1,37,2],[38,1,38,2],[39,1,39,2],[40,1,40,2],[41,1,41,2],[42,1,42,2],[55,1,55,2],[56,1,56,2],[57,1,57,2],[58,1,58,2],[59,1,59,2],[60,1,60,2],[49,1,49,2],[50,1,50,2],[51,1,51,2],[52,1,52,2],[53,1,53,2],[54,1,54,2],[67,1,67,2],[68,1,68,2],[69,1,69,2],[70,1,70,2],[71,1,71,5],[72,1,72,2],[61,1,61,2],[62,1,62,2],[63,1,63,2],[64,1,64,2],[65,1,65,2],[66,1,66,2],[79,1,79,2],[80,1,80,2],[81,1,81,2],[82,1,82,2],[83,1,83,2],[84,1,84,2],[73,1,73,2],[74,1,74,2],[75,1,75,2],[76,1,76,2],[77,1,77,2],[78,1,78,2],[91,1,91,2],[92,1,92,2],[93,1,93,2],[94,1,94,2],[95,1,95,2],[96,1,96,2],[85,1,85,2],[86,1,86,2],[87,1,87,2],[88,1,88,2],[89,1,89,2],[90,1,90,2],[97,1,97,2],[98,1,98,2],[99,1,99,2],[100,1,100,2],[101,1,101,5],[102,0,106,0],[102,1,106,1],[102,3,106,3],[102,4,106,4],[102,5,106,5],[102,6,106,6],[102,7,106,7],[102,8,106,8],[107,0,111,0],[107,1,111,1],[107,3,111,3],[107,4,111,4],[107,5,111,5],[107,6,111,6],[107,7,111,7],[107,8,111,8],[112,0,116,0],[112,1,116,1],[112,3,116,3],[112,4,116,4],[112,5,116,5],[112,6,116,6],[112,7,116,7],[112,8,116,8],[117,7,121,7],[117,8,121,8],[122,0,126,0],[122,1,126,1],[122,3,126,3],[122,4,126,4],[122,5,126,5],[122,6,126,6],[122,7,126,7],[122,8,126,8],[117,0,121,0],[117,1,121,1],[117,3,121,3],[117,4,121,4],[117,5,121,5],[117,6,121,6],[127,7,131,7],[127,8,131,8],[132,0,136,0],[132,1,136,1],[132,3,136,3],[132,4,136,4],[132,5,136,5],[132,6,136,6],[132,7,136,7],[132,8,136,8],[127,0,131,0],[127,1,131,1],[127,3,131,3],[127,4,131,4],[127,5,131,5],[127,6,131,6],[137,7,141,7],[137,8,141,8],[142,0,146,0],[142,1,146,1],[142,3,146,3],[142,4,146,4],[142,5,146,5],[142,6,146,6],[142,7,146,7],[142,8,146,8],[137,0,141,0],[137,1,141,1],[137,3,141,3],[137,4,141,4],[137,5,141,5],[137,6,141,6],[160,0,166,0],[160,1,166,1],[160,8,166,8],[167,0,173,0],[167,1,173,1],[167,8,173,8],[147,7,151,7],[147,8,151,8],[152,1,152,5],[153,0,159,0],[153,1,159,1],[153,8,159,8],[147,0,151,0],[147,1,151,1],[147,3,151,3],[147,4,151,4],[147,5,151,5],[147,6,151,6],[188,0,194,0],[188,1,194,1],[188,8,194,8],[195,0,201,0],[195,1,201,1],[195,8,201,8],[174,0,180,0],[174,1,180,1],[174,8,180,8],[181,0,187,0],[181,1,187,1],[181,8,187,8],[216,0,222,0],[216,1,222,1],[216,8,222,8],[223,1,223,5],[224,1,224,2],[225,1,225,2],[202,0,208,0],[202,1,208,1],[202,8,208,8],[209,0,215,0],[209,1,215,1],[209,8,215,8],[232,1,232,2],[233,1,233,2],[234,1,234,2],[235,1,235,2],[236,1,236,2],[237,1,237,2],[226,1,226,2],[227,1,227,2],[228,1,228,2],[229,1,229,2],[230,1,230,2],[231,1,231,2],[244,1,244,2],[245,1,245,2],[246,1,246,2],[247,0,247,5],[238,1,238,2],[239,1,239,2],[240,1,240,2],[241,1,241,5],[242,1,242,2],[243,1,243,2]]}
[null,null,"Pasirinkite veiklos tipą:"]
[null,null,"Fizinio rodiklio Nr.:"]
["Fizinio rodiklio pavadinimas:"]
[null,null,"Fizinio rodiklio matavimo vnt.:",null,null,"Fizinio rodiklio vnt. skaičius:"]
["Juridinis asmuo (pareiškėjas, partneris), atsakingas už fizinį rodiklį:"]
[null,null,"Vykdytojo tipas:"]
[null,null,"Finansavimo intensyvumas:",null,null,null,"Pasirinkite biudžeto išlaidų kategoriją:","Visos"]
[]
["Eil. Nr.","Išlaidų kategorijos pavadinimas",null,"Matavimo vnt.","Kiekis","Vieneto kaina be PVM, Eur","Tinkamų finansuoti išlaidų suma be PVM, Eur","Finansavimo suma, Eur","Išlaidų pagrindimo dokumentų pavadinimas, data ir Nr."]
[4,"ĮRANGA, ĮRENGINIAI IR KT. TURTAS (techninių žinių ir išradimų patentų arba teisių pagal licencijų sutartį įsigijimo išlaidos)",null,null,null,null,{"$f":"SUM(G11:G20)","v":0},{"$f":"SUM(H11:H20)","v":0}]
["4.1","Išlaidų pavadinimas",null,null,null,null,{"$f":"ROUND(E11*F11,2)","v":0},{"$f":"ROUND(G11*$D$7,2)","v":0}]
["4.2","Išlaidų pavadinimas",null,null,null,null,0,0]
["4.3","Išlaidų pavadinimas",null,null,null,null,0,0]
["4.4","Išlaidų pavadinimas",null,null,null,null,0,0]
["4.5","Išlaidų pavadinimas",null,null,null,null,0,0]
["4.6","Išlaidų pavadinimas",null,null,null,null,0,0]
["4.7","Išlaidų pavadinimas",null,null,null,null,0,0]
["4.8","Išlaidų pavadinimas",null,null,null,null,0,0]
["4.9","Išlaidų pavadinimas",null,null,null,null,0,0]
["4.10","Išlaidų pavadinimas",null,null,null,null,0,0]
[5,"PROJEKTO VYKDYMAS",null,null,null,null,{"$f":"G22+G33+G44+G72+G102+G153+G224+G242","v":0},{"$f":"H22+H33+H44+H72+H102+H153+H224+H242","v":0}]
["5.1","MTEP paslaugos",null,null,null,null,{"$f":"SUM(G23:G32)","v":0},{"$f":"SUM(H23:H32)","v":0}]
["5.1.1","Paslaugos pavadinimas",null,null,null,null,{"$f":"ROUND(E23*F23,2)","v":0},0]
["5.1.2","Paslaugos pavadinimas",null,null,null,null,0,0]
["5.1.3","Paslaugos pavadinimas",null,null,null,null,0,0]
["5.1.4","Paslaugos pavadinimas",null,null,null,null,0,0]
["5.1.5","Paslaugos pavadinimas",null,null,null,null,0,0]
["5.1.6","Paslaugos pavadinimas",null,null,null,null,0,0]
["5.1.7","Paslaugos pavadinimas",null,null,null,null,0,0]
["5.1.8","Paslaugos pavadinimas",null,null,null,null,0,0]
["5.1.9","Paslaugos pavadinimas",null,null,null,null,0,0]
["5.1.10","Paslaugos pavadinimas",null,null,null,null,0,0]
["5.2","Konsultavimo ir lygiavertės paslaugos, teikiamos vien tik projekto MTEP veiklai.",null,null,null,null,{"$f":"SUM(G34:G43)","v":0},{"$f":"SUM(H34:H43)","v":0}]
["5.2.1","Paslaugos pavadinimas",null,null,null,null,{"$f":"ROUND(E34*F34,2)","v":0},0]
["5.2.2","Paslaugos pavadinimas",null,null,null,null,0,0]
["5.2.3","Paslaugos pavadinimas",null,null,null,null,0,0]
["5.2.4","Paslaugos pavadinimas",null,null,null,null,0,0]
["5.2.5","Paslaugos pavadinimas",null,null,null,null,0,0]
["5.2.6","Paslaugos pavadinimas",null,null,null,null,0,0]
["5.2.7","Paslaugos pavadinimas",null,null,null,null,0,0]
["5.2.8","Paslaugos pavadinimas",null,null,null,null,0,0]
["5.2.9","Paslaugos pavadinimas",null,null,null,null,0,0]
["5.2.10","Paslaugos pavadinimas",null,null,null,null,0,0]
["5.3","Medžiagos, mažavertis inventorius, atsargos ir pan. produktai, priskirtini trumpalaikiam turtui ir tiesiogiai susiję su MTEP veikla",null,null,null,null,{"$f":"SUM(G45:G71)","v":0},{"$f":"SUM(H45:H71)","v":0}]
["5.3.1","Išlaidų pavadinimas",null,null,null,null,{"$f":"ROUND(E45*F45,2)","v":0},{"$f":"ROUND(G45*$D$7,2)","v":0}]
["5.3.2","Išlaidų pavadinimas",null,null,null,null,{"$f":"ROUND(E46*F46,2)","v":0},{"$f":"ROUND(G46*$D$7,2)","v":0}]
["5.3.3","Išlaidų pavadinimas",null,null,null,null,{"$f":"ROUND(E47*F47,2)","v":0},{"$f":"ROUND(G47*$D$7,2)","v":0}]
["5.3.4","Išlaidų pavadinimas",null,null,null,null,{"$f":"ROUND(E48*F48,2)","v":0},{"$f":"ROUND(G48*$D$7,2)","v":0}]
["5.3.5","Išlaidų pavadinimas",null,null,null,null,{"$f":"ROUND(E49*F49,2)","v":0},{"$f":"ROUND(G49*$D$7,2)","v":0}]
["5.3.6","Išlaidų pavadinimas",null,null,null,null,0,0]
["5.3.7","Išlaidų pavadinimas",null,null,null,null,0,0]
["5.3.8","Išlaidų pavadinimas",null,null,null,null,0,0]
["5.3.9","Išlaidų pavadinimas",null,null,null,null,0,0]
["5.3.10","Išlaidų pavadinimas",null,null,null,null,0,0]
["5.3.11","Išlaidų pavadinimas",null,null,null,null,0,0]
["5.3.12","Išlaidų pavadinimas",null,null,null,null,0,0]
["5.3.13","Išlaidų pavadinimas",null,null,null,null,0,0]
["5.3.14","Išlaidų pavadinimas",null,null,null,null,0,0]
["5.3.15","Išlaidų pavadinimas",null,null,null,null,0,0]
["5.3.16","Išlaidų pavadinimas",null,null,null,null,0,0]
["5.3.17","Išlaidų pavadinimas",null,null,null,null,0,0]
["5.3.18","Išlaidų pavadinimas",null,null,null,null,0,0]
["5.3.19","Išlaidų pavadinimas",null,null,null,null,0,0]
["5.3.20","Išlaidų pavadinimas",null,null,null,null,0,0]
["5.3.21","Išlaidų pavadinimas",null,null,null,null,0,0]
["5.3.22","Išlaidų pavadinimas",null,null,null,null,0,0]
["5.3.23","Išlaidų pavadinimas",null,null,null,null,0,0]
["5.3.24","Išlaidų pavadinimas",null,null,null,null,0,0]
["5.3.25","Išlaidų pavadinimas",null,null,null,null,0,0]
["5.3.26","Išlaidų pavadinimas",null,null,null,null,0,0]
["5.3.27","Išlaidų pavadinimas",null,null,null,null,0,0]
["5.4","Projekto MTEP veikloms naudojamo ilgalaikio materialaus turto (įrangos, prietaisų, įrankių, įrenginių, mašinų ir įrengimų, pastatų ir (ar) patalpų), nusidėvėjimo sąnaudos, jeigu šiam turtui įsigyti nebuvo naudojamos viešosios (įskaitant ir kitų valstybių) lėšos",null,null,null,null,{"$f":"SUM(G73:G101)","v":0},{"$f":"SUM(H73:H101)","v":0},null,null,"Turto įvedimo į eksploataciją data","Turto įsigijimo vertė, Eur","Turto nudėvėjimo, amortizacijos laikotarpis, mėn.","Numatoma turto likutinė vertė, Eur","1 mėn. nudėvėjimo, amortizacijos suma, Eur","Turto naudojamo projekto reikmėms laikas, mėn.","Turto panaudojimo projekto reikmėms dalis (proc.)","Projektui priskirta turto nusidėvėjimo, amortizacijos suma per projekto laikotarpį, Eur"]
["5.4.1","Turtas, kurio nusidėvėjimą, amortizaciją prašoma finansuoti",null,null,1,{"$f":"R73","v":0},{"$f":"ROUND(E73*F73,2)","v":0},0,null,null,null,null,null,null,{"$f":"IFERROR(ROUND((L73-N73)/M73,2),\"0\")","v":"0"},null,null,{"$f":"O73*P73*Q73","v":0},{"$f":"IF(K73=0,\" \",IF(K73+(M73*30.5)<TODAY(),\"DĖMESIO! Patikrinkite, ar nurodytas turtas dar nėra nudėvėtas, amortizuotas\",\" \"))","v":" "}]
["5.4.2","Turtas, kurio nusidėvėjimą, amortizaciją prašoma finansuoti",null,null,1,0,0,0,null,null,null,null,null,null,{"$f":"IFERROR(ROUND((L74-N74)/M74,2),\"0\")","v":"0"},null,null,{"$f":"O74*P74*Q74","v":0},{"$f":"IF(K74=0,\" \",IF(K74+(M74*30.5)<TODAY(),\"DĖMESIO! Patikrinkite, ar nurodytas turtas dar nėra nudėvėtas, amortizuotas\",\" \"))","v":" "}]
["5.4.3","Turtas, kurio nusidėvėjimą, amortizaciją prašoma finansuoti",null,null,1,0,0,0,null,null,null,null,null,null,"0",null,null,0," "]
["5.4.4","Turtas, kurio nusidėvėjimą, amortizaciją prašoma finansuoti",null,null,1,0,0,0,null,null,null,null,null,null,"0",null,null,0," "]
["5.4.5","Turtas, kurio nusidėvėjimą, amortizaciją prašoma finansuoti",null,null,1,0,0,0,null,null,null,null,null,null,"0",null,null,0," "]
["5.4.6","Turtas, kurio nusidėvėjimą, amortizaciją prašoma finansuoti",null,null,1,0,0,0,null,null,null,null,null,null,"0",null,null,0," "]
["5.4.7","Turtas, kurio nusidėvėjimą, amortizaciją prašoma finansuoti",null,null,1,0,0,0,null,null,null,null,null,null,"0",null,null,0," "]
["5.4.8","Turtas, kurio nusidėvėjimą, amortizaciją prašoma finansuoti",null,null,1,0,0,0,null,null,null,null,null,null,"0",null,null,0," "]
["5.4.9","Turtas, kurio nusidėvėjimą, amortizaciją prašoma finansuoti",null,null,1,0,0,0,null,null,null,null,null,null,"0",null,null,0," "]
["5.4.10","Turtas, kurio nusidėvėjimą, amortizaciją prašoma finansuoti",null,null,1,0,0,0,null,null,null,null,null,null,"0",null,null,0," "]
["5.4.11","Turtas, kurio nusidėvėjimą, amortizaciją prašoma finansuoti",null,null,1,0,0,0,null,null,null,null,null,null,"0",null,null,0," "]
["5.4.12","Turtas, kurio nusidėvėjimą, amortizaciją prašoma finansuoti",null,null,1,0,0,0,null,null,null,null,null,null,"0",null,null,0," "]
["5.4.13","Turtas, kurio nusidėvėjimą, amortizaciją prašoma finansuoti",null,null,1,0,0,0,null,null,null,null,null,null,"0",null,null,0," "]
["5.4.14","Turtas, kurio nusidėvėjimą, amortizaciją prašoma finansuoti",null,null,1,0,0,0,null,null,null,null,null,null,"0",null,null,0," "]
["5.4.15","Turtas, kurio nusidėvėjimą, amortizaciją prašoma finansuoti",null,null,1,0,0,0,null,null,null,null,null,null,"0",null,null,0," "]
["5.4.16","Turtas, kurio nusidėvėjimą, amortizaciją prašoma finansuoti",null,null,1,0,0,0,null,null,null,null,null,null,"0",null,null,0," "]
["5.4.17","Turtas, kurio nusidėvėjimą, amortizaciją prašoma finansuoti",null,null,1,0,0,0,null,null,null,null,null,null,"0",null,null,0," "]
["5.4.18","Turtas, kurio nusidėvėjimą, amortizaciją prašoma finansuoti",null,null,1,0,0,0,null,null,null,null,null,null,"0",null,null,0," "]
["5.4.19","Turtas, kurio nusidėvėjimą, amortizaciją prašoma finansuoti",null,null,1,0,0,0,null,null,null,null,null,null,"0",null,null,0," "]
["5.4.20","Turtas, kurio nusidėvėjimą, amortizaciją prašoma finansuoti",null,null,1,0,0,0,null,null,null,null,null,null,"0",null,null,0," "]
["5.4.21","Turtas, kurio nusidėvėjimą, amortizaciją prašoma finansuoti",null,null,1,0,0,0,null,null,null,null,null,null,"0",null,null,0," "]
["5.4.22","Turtas, kurio nusidėvėjimą, amortizaciją prašoma finansuoti",null,null,1,0,0,0,null,null,null,null,null,null,"0",null,null,0," "]
["5.4.23","Turtas, kurio nusidėvėjimą, amortizaciją prašoma finansuoti",null,null,1,0,0,0,null,null,null,null,null,null,"0",null,null,0," "]
["5.4.24","Turtas, kurio nusidėvėjimą, amortizaciją prašoma finansuoti",null,null,1,0,0,0,null,null,null,null,null,null,"0",null,null,0," "]
["5.4.25","Turtas, kurio nusidėvėjimą, amortizaciją prašoma finansuoti",null,null,1,0,0,0,null,null,null,null,null,null,"0",null,null,0," "]
["5.4.26","Turtas, kurio nusidėvėjimą, amortizaciją prašoma finansuoti",null,null,1,0,0,0,null,null,null,null,null,null,"0",null,null,0," "]
["5.4.27","Turtas, kurio nusidėvėjimą, amortizaciją prašoma finansuoti",null,null,1,0,0,0,null,null,null,null,null,null,"0",null,null,0," "]
["5.4.28","Turtas, kurio nusidėvėjimą, amortizaciją prašoma finansuoti",null,null,1,0,0,0,null,null,null,null,null,null,"0",null,null,0," "]
["5.4.29","Turtas, kurio nusidėvėjimą, amortizaciją prašoma finansuoti",null,null,1,0,0,0,null,null,null,null,null,null,"0",null,null,0," "]
["5.5","Projektą vykdančio personalo darbo užmokestis ir išlaidos su darbo santykiais susijusiems darbdavio įsipareigojimams",null,null,null,null,{"$f":"SUM(G103:G152)","v":0},{"$f":"SUM(H103:H152)","v":0},null,null,"Faktiškai gaunamas darbo užmokesti už 1 valandą pagal  pastarųjų 6 mėn. vidurkį, Eur"]
["5.5.1","Pareigybės pavadinimas","Darbuotojo vardas pavardė","val.",null,{"$f":"IFERROR(ROUND(AVERAGE(K103:K107),2),\"0\")","v":"0"},{"$f":"ROUND(E103*F103,2)","v":0},{"$f":"ROUND(G103*$D$7,2)","v":0}]
[null,null,"Darbuotojo vardas pavardė"]
[null,null,"Darbuotojo vardas pavardė"]
[null,null,"Darbuotojo vardas pavardė"]
[null,null,"Darbuotojo vardas pavardė"]
["5.5.2","Pareigybės pavadinimas","Darbuotojo vardas pavardė","val.",null,{"$f":"IFERROR(ROUND(AVERAGE(K108:K112),2),\"0\")","v":"0"},{"$f":"ROUND(E108*F108,2)","v":0},{"$f":"ROUND(G108*$D$7,2)","v":0}]
[null,null,"Darbuotojo vardas pavardė"]
[null,null,"Darbuotojo vardas pavardė"]
[null,null,"Darbuotojo vardas pavardė"]
[null,null,"Darbuotojo vardas pavardė"]
["5.5.3","Pareigybės pavadinimas","Darbuotojo vardas pavardė","val.",null,{"$f":"IFERROR(ROUND(AVERAGE(K113:K117),2),\"0\")","v":"0"},{"$f":"ROUND(E113*F113,2)","v":0},{"$f":"ROUND(G113*$D$7,2)","v":0}]
[null,null,"Darbuotojo vardas pavardė"]
[null,null,"Darbuotojo vardas pavardė"]
[null,null,"Darbuotojo vardas pavardė"]
[null,null,"Darbuotojo vardas pavardė"]
["5.5.4","Pareigybės pavadinimas","Darbuotojo vardas pavardė","val.",null,{"$f":"IFERROR(ROUND(AVERAGE(K118:K122),2),\"0\")","v":"0"},{"$f":"ROUND(E118*F118,2)","v":0},{"$f":"ROUND(G118*$D$7,2)","v":0}]
[null,null,"Darbuotojo vardas pavardė"]
[null,null,"Darbuotojo vardas pavardė"]
[null,null,"Darbuotojo vardas pavardė"]
[null,null,"Darbuotojo vardas pavardė"]
["5.5.5","Pareigybės pavadinimas","Darbuotojo vardas pavardė","val.",null,{"$f":"IFERROR(ROUND(AVERAGE(K123:K127),2),\"0\")","v":"0"},{"$f":"ROUND(E123*F123,2)","v":0},{"$f":"ROUND(G123*$D$7,2)","v":0}]
[null,null,"Darbuotojo vardas pavardė"]
[null,null,"Darbuotojo vardas pavardė"]
[null,null,"Darbuotojo vardas pavardė"]
[null,null,"Darbuotojo vardas pavardė"]
["5.5.6","Pareigybės pavadinimas","Darbuotojo vardas pavardė","val.",null,{"$f":"IFERROR(ROUND(AVERAGE(K128:K132),2),\"0\")","v":"0"},{"$f":"ROUND(E128*F128,2)","v":0},{"$f":"ROUND(G128*$D$7,2)","v":0}]
[null,null,"Darbuotojo vardas pavardė"]
[null,null,"Darbuotojo vardas pavardė"]
[null,null,"Darbuotojo vardas pavardė"]
[null,null,"Darbuotojo vardas pavardė"]
["5.5.7","Pareigybės pavadinimas","Darbuotojo vardas pavardė","val.",null,{"$f":"IFERROR(ROUND(AVERAGE(K133:K137),2),\"0\")","v":"0"},{"$f":"ROUND(E133*F133,2)","v":0},{"$f":"ROUND(G133*$D$7,2)","v":0}]
[null,null,"Darbuotojo vardas pavardė"]
[null,null,"Darbuotojo vardas pavardė"]
[null,null,"Darbuotojo vardas pavardė"]
[null,null,"Darbuotojo vardas pavardė"]
["5.5.8","Pareigybės pavadinimas","Darbuotojo vardas pavardė","val.",null,{"$f":"IFERROR(ROUND(AVERAGE(K138:K142),2),\"0\")","v":"0"},{"$f":"ROUND(E138*F138,2)","v":0},{"$f":"ROUND(G138*$D$7,2)","v":0}]
[null,null,"Darbuotojo vardas pavardė"]
[null,null,"Darbuotojo vardas pavardė"]
[null,null,"Darbuotojo vardas pavardė"]
[null,null,"Darbuotojo vardas pavardė"]
["5.5.9","Pareigybės pavadinimas","Darbuotojo vardas pavardė","val.",null,{"$f":"IFERROR(ROUND(AVERAGE(K143:K147),2),\"0\")","v":"0"},{"$f":"ROUND(E143*F143,2)","v":0},{"$f":"ROUND(G143*$D$7,2)","v":0}]
[null,null,"Darbuotojo vardas pavardė"]
[null,null,"Darbuotojo vardas pavardė"]
[null,null,"Darbuotojo vardas pavardė"]
[null,null,"Darbuotojo vardas pavardė"]
["5.5.10","Pareigybės pavadinimas","Darbuotojo vardas pavardė","val.",null,{"$f":"IFERROR(ROUND(AVERAGE(K148:K152),2),\"0\")","v":"0"},{"$f":"ROUND(E148*F148,2)","v":0},{"$f":"ROUND(G148*$D$7,2)","v":0}]
[null,null,"Darbuotojo vardas pavardė"]
[null,null,"Darbuotojo vardas pavardė"]
[null,null,"Darbuotojo vardas pavardė"]
[null,null,"Darbuotojo vardas pavardė"]
["5.6","Projektą vykdančio personalo komandiruočių išlaidos",null,null,null,null,{"$f":"SUM(G154,G161,G168,G175,G182,G189,G196,G203,G210,G217)","v":0},{"$f":"SUM(H154,H161,H168,H175,H182,H189,H196,H203,H210,H217)","v":0}]
["5.6.1","Komandiruotės pavadinimas, vieta, trukmė dienomis, vykstančių asmenų skaičius","Iš viso komandiruotei",null,null,null,{"$f":"SUM(G155:G160)","v":0},{"$f":"ROUND(G154*$D$7,2)","v":0}]
[null,null,"Dienpinigiai",null,null,null,{"$f":"ROUND(E155*F155,2)","v":0}]
[null,null,"Gyvenamojo ploto nuoma",null,null,null,0]
[null,null,"Kelionės išlaidos",null,null,null,0]
[null,null,"Dalyvavimo mokestis",null,null,null,0]
[null,null,"Kitos išlaidų pavadinimas",null,null,null,0]
[null,null,"Kitos išlaidų pavadinimas",null,null,null,0]
["5.6.2","Komandiruotės pavadinimas, vieta, trukmė dienomis, vykstančių asmenų skaičius","Iš viso komandiruotei",null,null,null,{"$f":"SUM(G162:G167)","v":0},{"$f":"ROUND(G161*$D$7,2)","v":0}]
[null,null,"Dienpinigiai",null,null,null,{"$f":"ROUND(E162*F162,2)","v":0}]
[null,null,"Gyvenamojo ploto nuoma",null,null,null,0]
[null,null,"Kelionės išlaidos",null,null,null,0]
[null,null,"Dalyvavimo mokestis",null,null,null,0]
[null,null,"Kitos išlaidų pavadinimas",null,null,null,0]
[null,null,"Kitos išlaidų pavadinimas",null,null,null,0]
["5.6.3","Komandiruotės pavadinimas, vieta, trukmė dienomis, vykstančių asmenų skaičius","Iš viso komandiruotei",null,null,null,{"$f":"SUM(G169:G174)","v":0},{"$f":"ROUND(G168*$D$7,2)","v":0}]
[null,null,"Dienpinigiai",null,null,null,{"$f":"ROUND(E169*F169,2)","v":0}]
[null,null,"Gyvenamojo ploto nuoma",null,null,null,0]
[null,null,"Kelionės išlaidos",null,null,null,0]
[null,null,"Dalyvavimo mokestis",null,null,null,0]
[null,null,"Kitos išlaidų pavadinimas",null,null,null,0]
[null,null,"Kitos išlaidų pavadinimas",null,null,null,0]
["5.6.4","Komandiruotės pavadinimas, vieta, trukmė dienomis, vykstančių asmenų skaičius","Iš viso komandiruotei",null,null,null,{"$f":"SUM(G176:G181)","v":0},{"$f":"ROUND(G175*$D$7,2)","v":0}]
[null,null,"Dienpinigiai",null,null,null,{"$f":"ROUND(E176*F176,2)","v":0}]
[null,null,"Gyvenamojo ploto nuoma",null,null,null,0]
[null,null,"Kelionės išlaidos",null,null,null,0]
[null,null,"Dalyvavimo mokestis",null,null,null,0]
[null,null,"Kitos išlaidų pavadinimas",null,null,null,0]
[null,null,"Kitos išlaidų pavadinimas",null,null,null,0]
["5.6.5","Komandiruotės pavadinimas, vieta, trukmė dienomis, vykstančių asmenų skaičius","Iš viso komandiruotei",null,null,null,{"$f":"SUM(G183:G188)","v":0},{"$f":"ROUND(G182*$D$7,2)","v":0}]
[null,null,"Dienpinigiai",null,null,null,{"$f":"ROUND(E183*F183,2)","v":0}]
[null,null,"Gyvenamojo ploto nuoma",null,null,null,0]
[null,null,"Kelionės išlaidos",null,null,null,0]
[null,null,"Dalyvavimo mokestis",null,null,null,0]
[null,null,"Kitos išlaidų pavadinimas",null,null,null,0]
[null,null,"Kitos išlaidų pavadinimas",null,null,null,0]
["5.6.6","Komandiruotės pavadinimas, vieta, trukmė dienomis, vykstančių asmenų skaičius","Iš viso komandiruotei",null,null,null,{"$f":"SUM(G190:G195)","v":0},{"$f":"ROUND(G189*$D$7,2)","v":0}]
[null,null,"Dienpinigiai",null,null,null,{"$f":"ROUND(E190*F190,2)","v":0}]
[null,null,"Gyvenamojo ploto nuoma",null,null,null,0]
[null,null,"Kelionės išlaidos",null,null,null,0]
[null,null,"Dalyvavimo mokestis",null,null,null,0]
[null,null,"Kitos išlaidų pavadinimas",null,null,null,0]
[null,null,"Kitos išlaidų pavadinimas",null,null,null,0]
["5.6.7","Komandiruotės pavadinimas, vieta, trukmė dienomis, vykstančių asmenų skaičius","Iš viso komandiruotei",null,null,null,{"$f":"SUM(G197:G202)","v":0},{"$f":"ROUND(G196*$D$7,2)","v":0}]
[null,null,"Dienpinigiai",null,null,null,{"$f":"ROUND(E197*F197,2)","v":0}]
[null,null,"Gyvenamojo ploto nuoma",null,null,null,0]
[null,null,"Kelionės išlaidos",null,null,null,0]
[null,null,"Dalyvavimo mokestis",null,null,null,0]
[null,null,"Kitos išlaidų pavadinimas",null,null,null,0]
[null,null,"Kitos išlaidų pavadinimas",null,null,null,0]
["5.6.8","Komandiruotės pavadinimas, vieta, trukmė dienomis, vykstančių asmenų skaičius","Iš viso komandiruotei",null,null,null,{"$f":"SUM(G204:G209)","v":0},{"$f":"ROUND(G203*$D$7,2)","v":0}]
[null,null,"Dienpinigiai",null,null,null,{"$f":"ROUND(E204*F204,2)","v":0}]
[null,null,"Gyvenamojo ploto nuoma",null,null,null,0]
[null,null,"Kelionės išlaidos",null,null,null,0]
[null,null,"Dalyvavimo mokestis",null,null,null,0]
[null,null,"Kitos išlaidų pavadinimas",null,null,null,0]
[null,null,"Kitos išlaidų pavadinimas",null,null,null,0]
["5.6.9","Komandiruotės pavadinimas, vieta, trukmė dienomis, vykstančių asmenų skaičius","Iš viso komandiruotei",null,null,null,{"$f":"SUM(G211:G216)","v":0},{"$f":"ROUND(G210*$D$7,2)","v":0}]
[null,null,"Dienpinigiai",null,null,null,{"$f":"ROUND(E211*F211,2)","v":0}]
[null,null,"Gyvenamojo ploto nuoma",null,null,null,0]
[null,null,"Kelionės išlaidos",null,null,null,0]
[null,null,"Dalyvavimo mokestis",null,null,null,0]
[null,null,"Kitos išlaidų pavadinimas",null,null,null,0]
[null,null,"Kitos išlaidų pavadinimas",null,null,null,0]
["5.6.10","Komandiruotės pavadinimas, vieta, trukmė dienomis, vykstančių asmenų skaičius","Iš viso komandiruotei",null,null,null,{"$f":"SUM(G218:G223)","v":0},{"$f":"ROUND(G217*$D$7,2)","v":0}]
[null,null,"Dienpinigiai",null,null,null,{"$f":"ROUND(E218*F218,2)","v":0}]
[null,null,"Gyvenamojo ploto nuoma",null,null,null,0]
[null,null,"Kelionės išlaidos",null,null,null,0]
[null,null,"Dalyvavimo mokestis",null,null,null,0]
[null,null,"Kitos išlaidų pavadinimas",null,null,null,0]
[null,null,"Kitos išlaidų pavadinimas",null,null,null,0]
["5.7","Įrangos nuomos išlaidos, veiklai priskirtos pro rata principu. Įranga turi būti tiesiogiai susijusi su projekto įgyvendinimu ir negali būti įsigyta iš ES struktūrinių fondų ar kt. ES finansinių priemonių lėšų",null,null,null,null,{"$f":"SUM(G225:G241)","v":0},{"$f":"SUM(H225:H241)","v":0},null,null,"Faktinės 1 mėnesio išlaidos, Eur","Naudojimo projekte trukmė, mėn."]
["5.7.1","Įrangos pavadinimas",null,"pro rata proc.",null,{"$f":"K225*L225","v":0},{"$f":"ROUND(E225*F225,2)","v":0},{"$f":"ROUND(G225*$D$7,2)","v":0}]
["5.7.2","Įrangos pavadinimas",null,"pro rata proc.",null,{"$f":"K226*L226","v":0},0,{"$f":"ROUND(G226*$D$7,2)","v":0}]
["5.7.3","Įrangos pavadinimas",null,"pro rata proc.",null,0,0,0]
["5.7.4","Įrangos pavadinimas",null,"pro rata proc.",null,0,0,0]
["5.7.5","Įrangos pavadinimas",null,"pro rata proc.",null,0,0,0]
["5.7.6","Įrangos pavadinimas",null,"pro rata proc.",null,0,0,0]
["5.7.7","Įrangos pavadinimas",null,"pro rata proc.",null,0,0,0]
["5.7.8","Įrangos pavadinimas",null,"pro rata proc.",null,0,0,0]
["5.7.9","Įrangos pavadinimas",null,"pro rata proc.",null,0,0,0]
["5.7.10","Įrangos pavadinimas",null,"pro rata proc.",null,0,0,0]
["5.7.11","Įrangos pavadinimas",null,"pro rata proc.",null,0,0,0]
["5.7.12","Įrangos pavadinimas",null,"pro rata proc.",null,0,0,0]
["5.7.13","Įrangos pavadinimas",null,"pro rata proc.",null,0,0,0]
["5.7.14","Įrangos pavadinimas",null,"pro rata proc.",null,{"$f":"K238*L238","v":0},0,{"$f":"ROUND(G238*$D$7,2)","v":0}]
["5.7.15","Įrangos pavadinimas",null,"pro rata proc.",null,{"$f":"K239*L239","v":0},0,{"$f":"ROUND(G239*$D$7,2)","v":0}]
["5.7.16","Įrangos pavadinimas",null,"pro rata proc.",null,{"$f":"K240*L240","v":0},0,{"$f":"ROUND(G240*$D$7,2)","v":0}]
["5.7.17","Įrangos pavadinimas",null,"pro rata proc.",null,{"$f":"K241*L241","v":0},0,{"$f":"ROUND(G241*$D$7,2)","v":0}]
["5.8","Pastatų ar patalpų nuomos išlaidos, veiklai priskirtos pro rata principu. Pastatai ar patalpos turi būti tiesiogiai susijusi su projekto įgyvendinimu.",null,null,null,null,{"$f":"SUM(G243:G247)","v":0},{"$f":"SUM(H243:H247)","v":0},null,null,"Faktinės 1 mėnesio išlaidos, Eur","Naudojimo projekte trukmė, mėn."]
["5.8.1","Pastato, patalpų adresas",null,"pro rata proc.",null,{"$f":"K243*L243","v":0},{"$f":"ROUND(E243*F243,2)","v":0},{"$f":"ROUND(G243*$D$7,2)","v":0}]
["5.8.2","Pastato, patalpų adresas",null,"pro rata proc.",null,{"$f":"K244*L244","v":0},{"$f":"ROUND(E244*F244,2)","v":0},{"$f":"ROUND(G244*$D$7,2)","v":0}]
["5.8.3","Pastato, patalpų adresas",null,"pro rata proc.",null,{"$f":"K245*L245","v":0},{"$f":"ROUND(E245*F245,2)","v":0},{"$f":"ROUND(G245*$D$7,2)","v":0}]
["5.8.4","Pastato, patalpų adresas",null,"pro rata proc.",null,{"$f":"K246*L246","v":0},{"$f":"ROUND(E246*F246,2)","v":0},{"$f":"ROUND(G246*$D$7,2)","v":0}]
["5.8.5","Pastato, patalpų adresas",null,"pro rata proc.",null,{"$f":"K247*L247","v":0},{"$f":"ROUND(E247*F247,2)","v":0},{"$f":"ROUND(G247*$D$7,2)","v":0}]
["Iš viso tinkamų finansuoti išlaidų:",null,null,null,null,null,{"$f":"G10+G21","v":0},{"$f":"H10+H21","v":0}]

{"sheet":"24","index":18,"n_rows":248,"n_cols":19,"rows_kept":248,"cut":false,"hidden":true,"merged":[[5,3,5,8],[8,1,8,2],[9,1,9,5],[10,1,10,2],[11,1,11,2],[12,1,12,2],[0,3,0,8],[2,0,2,2],[2,3,2,8],[3,3,3,4],[3,5,3,6],[4,0,4,2],[4,3,4,8],[19,1,19,2],[20,1,20,5],[21,1,21,5],[22,1,22,2],[23,1,23,2],[24,1,24,2],[13,1,13,2],[14,1,14,2],[15,1,15,2],[16,1,16,2],[17,1,17,2],[18,1,18,2],[31,1,31,2],[32,1,32,5],[33,1,33,2],[34,1,34,2],[35,1,35,2],[36,1,36,2],[25,1,25,2],[26,1,26,2],[27,1,27,2],[28,1,28,2],[29,1,29,2],[30,1,30,2],[43,1,43,5],[44,1,44,2],[45,1,45,2],[46,1,46,2],[47,1,47,2],[48,1,48,2],[37,1,37,2],[38,1,38,2],[39,1,39,2],[40,1,40,2],[41,1,41,2],[42,1,42,2],[55,1,55,2],[56,1,56,2],[57,1,57,2],[58,1,58,2],[59,1,59,2],[60,1,60,2],[49,1,49,2],[50,1,50,2],[51,1,51,2],[52,1,52,2],[53,1,53,2],[54,1,54,2],[67,1,67,2],[68,1,68,2],[69,1,69,2],[70,1,70,2],[71,1,71,5],[72,1,72,2],[61,1,61,2],[62,1,62,2],[63,1,63,2],[64,1,64,2],[65,1,65,2],[66,1,66,2],[79,1,79,2],[80,1,80,2],[81,1,81,2],[82,1,82,2],[83,1,83,2],[84,1,84,2],[73,1,73,2],[74,1,74,2],[75,1,75,2],[76,1,76,2],[77,1,77,2],[78,1,78,2],[91,1,91,2],[92,1,92,2],[93,1,93,2],[94,1,94,2],[95,1,95,2],[96,1,96,2],[85,1,85,2],[86,1,86,2],[87,1,87,2],[88,1,88,2],[89,1,89,2],[90,1,90,2],[97,1,97,2],[98,1,98,2],[99,1,99,2],[100,1,100,2],[101,1,101,5],[102,0,106,0],[102,1,106,1],[102,3,106,3],[102,4,106,4],[102,5,106,5],[102,6,106,6],[102,7,106,7],[102,8,106,8],[107,0,111,0],[107,1,111,1],[107,3,111,3],[107,4,111,4],[107,5,111,5],[107,6,111,6],[107,7,111,7],[107,8,111,8],[112,0,116,0],[112,1,116,1],[112,3,116,3],[112,4,116,4],[112,5,116,5],[112,6,116,6],[112,7,116,7],[112,8,116,8],[117,7,121,7],[117,8,121,8],[122,0,126,0],[122,1,126,1],[122,3,126,3],[122,4,126,4],[122,5,126,5],[122,6,126,6],[122,7,126,7],[122,8,126,8],[117,0,121,0],[117,1,121,1],[117,3,121,3],[117,4,121,4],[117,5,121,5],[117,6,121,6],[127,7,131,7],[127,8,131,8],[132,0,136,0],[132,1,136,1],[132,3,136,3],[132,4,136,4],[132,5,136,5],[132,6,136,6],[132,7,136,7],[132,8,136,8],[127,0,131,0],[127,1,131,1],[127,3,131,3],[127,4,131,4],[127,5,131,5],[127,6,131,6],[137,7,141,7],[137,8,141,8],[142,0,146,0],[142,1,146,1],[142,3,146,3],[142,4,146,4],[142,5,146,5],[142,6,146,6],[142,7,146,7],[142,8,146,8],[137,0,141,0],[137,1,141,1],[137,3,141,3],[137,4,141,4],[137,5,141,5],[137,6,141,6],[160,0,166,0],[160,1,166,1],[160,8,166,8],[167,0,173,0],[167,1,173,1],[167,8,173,8],[147,7,151,7],[147,8,151,8],[152,1,152,5],[153,0,159,0],[153,1,159,1],[153,8,159,8],[147,0,151,0],[147,1,151,1],[147,3,151,3],[147,4,151,4],[147,5,151,5],[147,6,151,6],[188,0,194,0],[188,1,194,1],[188,8,194,8],[195,0,201,0],[195,1,201,1],[195,8,201,8],[174,0,180,0],[174,1,180,1],[174,8,180,8],[181,0,187,0],[181,1,187,1],[181,8,187,8],[216,0,222,0],[216,1,222,1],[216,8,222,8],[223,1,223,5],[224,1,224,2],[225,1,225,2],[202,0,208,0],[202,1,208,1],[202,8,208,8],[209,0,215,0],[209,1,215,1],[209,8,215,8],[232,1,232,2],[233,1,233,2],[234,1,234,2],[235,1,235,2],[236,1,236,2],[237,1,237,2],[226,1,226,2],[227,1,227,2],[228,1,228,2],[229,1,229,2],[230,1,230,2],[231,1,231,2],[244,1,244,2],[245,1,245,2],[246,1,246,2],[247,0,247,5],[238,1,238,2],[239,1,239,2],[240,1,240,2],[241,1,241,5],[242,1,242,2],[243,1,243,2]]}
[null,null,"Pasirinkite veiklos tipą:"]
[null,null,"Fizinio rodiklio Nr.:"]
["Fizinio rodiklio pavadinimas:"]
[null,null,"Fizinio rodiklio matavimo vnt.:",null,null,"Fizinio rodiklio vnt. skaičius:"]
["Juridinis asmuo (pareiškėjas, partneris), atsakingas už fizinį rodiklį:"]
[null,null,"Vykdytojo tipas:"]
[null,null,"Finansavimo intensyvumas:",null,null,null,"Pasirinkite biudžeto išlaidų kategoriją:","Visos"]
[]
["Eil. Nr.","Išlaidų kategorijos pavadinimas",null,"Matavimo vnt.","Kiekis","Vieneto kaina be PVM, Eur","Tinkamų finansuoti išlaidų suma be PVM, Eur","Finansavimo suma, Eur","Išlaidų pagrindimo dokumentų pavadinimas, data ir Nr."]
[4,"ĮRANGA, ĮRENGINIAI IR KT. TURTAS (techninių žinių ir išradimų patentų arba teisių pagal licencijų sutartį įsigijimo išlaidos)",null,null,null,null,{"$f":"SUM(G11:G20)","v":0},{"$f":"SUM(H11:H20)","v":0}]
["4.1","Išlaidų pavadinimas",null,null,null,null,{"$f":"ROUND(E11*F11,2)","v":0},{"$f":"ROUND(G11*$D$7,2)","v":0}]
["4.2","Išlaidų pavadinimas",null,null,null,null,0,0]
["4.3","Išlaidų pavadinimas",null,null,null,null,0,0]
["4.4","Išlaidų pavadinimas",null,null,null,null,0,0]
["4.5","Išlaidų pavadinimas",null,null,null,null,0,0]
["4.6","Išlaidų pavadinimas",null,null,null,null,0,0]
["4.7","Išlaidų pavadinimas",null,null,null,null,0,0]
["4.8","Išlaidų pavadinimas",null,null,null,null,0,0]
["4.9","Išlaidų pavadinimas",null,null,null,null,0,0]
["4.10","Išlaidų pavadinimas",null,null,null,null,0,0]
[5,"PROJEKTO VYKDYMAS",null,null,null,null,{"$f":"G22+G33+G44+G72+G102+G153+G224+G242","v":0},{"$f":"H22+H33+H44+H72+H102+H153+H224+H242","v":0}]
["5.1","MTEP paslaugos",null,null,null,null,{"$f":"SUM(G23:G32)","v":0},{"$f":"SUM(H23:H32)","v":0}]
["5.1.1","Paslaugos pavadinimas",null,null,null,null,{"$f":"ROUND(E23*F23,2)","v":0},0]
["5.1.2","Paslaugos pavadinimas",null,null,null,null,0,0]
["5.1.3","Paslaugos pavadinimas",null,null,null,null,0,0]
["5.1.4","Paslaugos pavadinimas",null,null,null,null,0,0]
["5.1.5","Paslaugos pavadinimas",null,null,null,null,0,0]
["5.1.6","Paslaugos pavadinimas",null,null,null,null,0,0]
["5.1.7","Paslaugos pavadinimas",null,null,null,null,0,0]
["5.1.8","Paslaugos pavadinimas",null,null,null,null,0,0]
["5.1.9","Paslaugos pavadinimas",null,null,null,null,0,0]
["5.1.10","Paslaugos pavadinimas",null,null,null,null,0,0]
["5.2","Konsultavimo ir lygiavertės paslaugos, teikiamos vien tik projekto MTEP veiklai.",null,null,null,null,{"$f":"SUM(G34:G43)","v":0},{"$f":"SUM(H34:H43)","v":0}]
["5.2.1","Paslaugos pavadinimas",null,null,null,null,{"$f":"ROUND(E34*F34,2)","v":0},0]
["5.2.2","Paslaugos pavadinimas",null,null,null,null,0,0]
["5.2.3","Paslaugos pavadinimas",null,null,null,null,0,0]
["5.2.4","Paslaugos pavadinimas",null,null,null,null,0,0]
["5.2.5","Paslaugos pavadinimas",null,null,null,null,0,0]
["5.2.6","Paslaugos pavadinimas",null,null,null,null,0,0]
["5.2.7","Paslaugos pavadinimas",null,null,null,null,0,0]
["5.2.8","Paslaugos pavadinimas",null,null,null,null,0,0]
["5.2.9","Paslaugos pavadinimas",null,null,null,null,0,0]
["5.2.10","Paslaugos pavadinimas",null,null,null,null,0,0]
["5.3","Medžiagos, mažavertis inventorius, atsargos ir pan. produktai, priskirtini trumpalaikiam turtui ir tiesiogiai susiję su MTEP veikla",null,null,null,null,{"$f":"SUM(G45:G71)","v":0},{"$f":"SUM(H45:H71)","v":0}]
["5.3.1","Išlaidų pavadinimas",null,null,null,null,{"$f":"ROUND(E45*F45,2)","v":0},{"$f":"ROUND(G45*$D$7,2)","v":0}]
["5.3.2","Išlaidų pavadinimas",null,null,null,null,{"$f":"ROUND(E46*F46,2)","v":0},{"$f":"ROUND(G46*$D$7,2)","v":0}]
["5.3.3","Išlaidų pavadinimas",null,null,null,null,{"$f":"ROUND(E47*F47,2)","v":0},{"$f":"ROUND(G47*$D$7,2)","v":0}]
["5.3.4","Išlaidų pavadinimas",null,null,null,null,{"$f":"ROUND(E48*F48,2)","v":0},{"$f":"ROUND(G48*$D$7,2)","v":0}]
["5.3.5","Išlaidų pavadinimas",null,null,null,null,{"$f":"ROUND(E49*F49,2)","v":0},{"$f":"ROUND(G49*$D$7,2)","v":0}]
["5.3.6","Išlaidų pavadinimas",null,null,null,null,0,0]
["5.3.7","Išlaidų pavadinimas",null,null,null,null,0,0]
["5.3.8","Išlaidų pavadinimas",null,null,null,null,0,0]
["5.3.9","Išlaidų pavadinimas",null,null,null,null,0,0]
["5.3.10","Išlaidų pavadinimas",null,null,null,null,0,0]
["5.3.11","Išlaidų pavadinimas",null,null,null,null,0,0]
["5.3.12","Išlaidų pavadinimas",null,null,null,null,0,0]
["5.3.13","Išlaidų pavadinimas",null,null,null,null,0,0]
["5.3.14","Išlaidų pavadinimas",null,null,null,null,0,0]
["5.3.15","Išlaidų pavadinimas",null,null,null,null,0,0]
["5.3.16","Išlaidų pavadinimas",null,null,null,null,0,0]
["5.3.17","Išlaidų pavadinimas",null,null,null,null,0,0]
["5.3.18","Išlaidų pavadinimas",null,null,null,null,0,0]
["5.3.19","Išlaidų pavadinimas",null,null,null,null,0,0]
["5.3.20","Išlaidų pavadinimas",null,null,null,null,0,0]
["5.3.21","Išlaidų pavadinimas",null,null,null,null,0,0]
["5.3.22","Išlaidų pavadinimas",null,null,null,null,0,0]
["5.3.23","Išlaidų pavadinimas",null,null,null,null,0,0]
["5.3.24","Išlaidų pavadinimas",null,null,null,null,0,0]
["5.3.25","Išlaidų pavadinimas",null,null,null,null,0,0]
["5.3.26","Išlaidų pavadinimas",null,null,null,null,0,0]
["5.3.27","Išlaidų pavadinimas",null,null,null,null,0,0]
["5.4","Projekto MTEP veikloms naudojamo ilgalaikio materialaus turto (įrangos, prietaisų, įrankių, įrenginių, mašinų ir įrengimų, pastatų ir (ar) patalpų), nusidėvėjimo sąnaudos, jeigu šiam turtui įsigyti nebuvo naudojamos viešosios (įskaitant ir kitų valstybių) lėšos",null,null,null,null,{"$f":"SUM(G73:G101)","v":0},{"$f":"SUM(H73:H101)","v":0},null,null,"Turto įvedimo į eksploataciją data","Turto įsigijimo vertė, Eur","Turto nudėvėjimo, amortizacijos laikotarpis, mėn.","Numatoma turto likutinė vertė, Eur","1 mėn. nudėvėjimo, amortizacijos suma, Eur","Turto naudojamo projekto reikmėms laikas, mėn.","Turto panaudojimo projekto reikmėms dalis (proc.)","Projektui priskirta turto nusidėvėjimo, amortizacijos suma per projekto laikotarpį, Eur"]
["5.4.1","Turtas, kurio nusidėvėjimą, amortizaciją prašoma finansuoti",null,null,1,{"$f":"R73","v":0},{"$f":"ROUND(E73*F73,2)","v":0},0,null,null,null,null,null,null,{"$f":"IFERROR(ROUND((L73-N73)/M73,2),\"0\")","v":"0"},null,null,{"$f":"O73*P73*Q73","v":0},{"$f":"IF(K73=0,\" \",IF(K73+(M73*30.5)<TODAY(),\"DĖMESIO! Patikrinkite, ar nurodytas turtas dar nėra nudėvėtas, amortizuotas\",\" \"))","v":" "}]
["5.4.2","Turtas, kurio nusidėvėjimą, amortizaciją prašoma finansuoti",null,null,1,0,0,0,null,null,null,null,null,null,{"$f":"IFERROR(ROUND((L74-N74)/M74,2),\"0\")","v":"0"},null,null,{"$f":"O74*P74*Q74","v":0},{"$f":"IF(K74=0,\" \",IF(K74+(M74*30.5)<TODAY(),\"DĖMESIO! Patikrinkite, ar nurodytas turtas dar nėra nudėvėtas, amortizuotas\",\" \"))","v":" "}]
["5.4.3","Turtas, kurio nusidėvėjimą, amortizaciją prašoma finansuoti",null,null,1,0,0,0,null,null,null,null,null,null,"0",null,null,0," "]
["5.4.4","Turtas, kurio nusidėvėjimą, amortizaciją prašoma finansuoti",null,null,1,0,0,0,null,null,null,null,null,null,"0",null,null,0," "]
["5.4.5","Turtas, kurio nusidėvėjimą, amortizaciją prašoma finansuoti",null,null,1,0,0,0,null,null,null,null,null,null,"0",null,null,0," "]
["5.4.6","Turtas, kurio nusidėvėjimą, amortizaciją prašoma finansuoti",null,null,1,0,0,0,null,null,null,null,null,null,"0",null,null,0," "]
["5.4.7","Turtas, kurio nusidėvėjimą, amortizaciją prašoma finansuoti",null,null,1,0,0,0,null,null,null,null,null,null,"0",null,null,0," "]
["5.4.8","Turtas, kurio nusidėvėjimą, amortizaciją prašoma finansuoti",null,null,1,0,0,0,null,null,null,null,null,null,"0",null,null,0," "]
["5.4.9","Turtas, kurio nusidėvėjimą, amortizaciją prašoma finansuoti",null,null,1,0,0,0,null,null,null,null,null,null,"0",null,null,0," "]
["5.4.10","Turtas, kurio nusidėvėjimą, amortizaciją prašoma finansuoti",null,null,1,0,0,0,null,null,null,null,null,null,"0",null,null,0," "]
["5.4.11","Turtas, kurio nusidėvėjimą, amortizaciją prašoma finansuoti",null,null,1,0,0,0,null,null,null,null,null,null,"0",null,null,0," "]
["5.4.12","Turtas, kurio nusidėvėjimą, amortizaciją prašoma finansuoti",null,null,1,0,0,0,null,null,null,null,null,null,"0",null,null,0," "]
["5.4.13","Turtas, kurio nusidėvėjimą, amortizaciją prašoma finansuoti",null,null,1,0,0,0,null,null,null,null,null,null,"0",null,null,0," "]
["5.4.14","Turtas, kurio nusidėvėjimą, amortizaciją prašoma finansuoti",null,null,1,0,0,0,null,null,null,null,null,null,"0",null,null,0," "]
["5.4.15","Turtas, kurio nusidėvėjimą, amortizaciją prašoma finansuoti",null,null,1,0,0,0,null,null,null,null,null,null,"0",null,null,0," "]
["5.4.16","Turtas, kurio nusidėvėjimą, amortizaciją prašoma finansuoti",null,null,1,0,0,0,null,null,null,null,null,null,"0",null,null,0," "]
["5.4.17","Turtas, kurio nusidėvėjimą, amortizaciją prašoma finansuoti",null,null,1,0,0,0,null,null,null,null,null,null,"0",null,null,0," "]
["5.4.18","Turtas, kurio nusidėvėjimą, amortizaciją prašoma finansuoti",null,null,1,0,0,0,null,null,null,null,null,null,"0",null,null,0," "]
["5.4.19","Turtas, kurio nusidėvėjimą, amortizaciją prašoma finansuoti",null,null,1,0,0,0,null,null,null,null,null,null,"0",null,null,0," "]
["5.4.20","Turtas, kurio nusidėvėjimą, amortizaciją prašoma finansuoti",null,null,1,0,0,0,null,null,null,null,null,null,"0",null,null,0," "]
["5.4.21","Turtas, kurio nusidėvėjimą, amortizaciją prašoma finansuoti",null,null,1,0,0,0,null,null,null,null,null,null,"0",null,null,0," "]
["5.4.22","Turtas, kurio nusidėvėjimą, amortizaciją prašoma finansuoti",null,null,1,0,0,0,null,null,null,null,null,null,"0",null,null,0," "]
["5.4.23","Turtas, kurio nusidėvėjimą, amortizaciją prašoma finansuoti",null,null,1,0,0,0,null,null,null,null,null,null,"0",null,null,0," "]
["5.4.24","Turtas, kurio nusidėvėjimą, amortizaciją prašoma finansuoti",null,null,1,0,0,0,null,null,null,null,null,null,"0",null,null,0," "]
["5.4.25","Turtas, kurio nusidėvėjimą, amortizaciją prašoma finansuoti",null,null,1,0,0,0,null,null,null,null,null,null,"0",null,null,0," "]
["5.4.26","Turtas, kurio nusidėvėjimą, amortizaciją prašoma finansuoti",null,null,1,0,0,0,null,null,null,null,null,null,"0",null,null,0," "]
["5.4.27","Turtas, kurio nusidėvėjimą, amortizaciją prašoma finansuoti",null,null,1,0,0,0,null,null,null,null,null,null,"0",null,null,0," "]
["5.4.28","Turtas, kurio nusidėvėjimą, amortizaciją prašoma finansuoti",null,null,1,0,0,0,null,null,null,null,null,null,"0",null,null,0," "]
["5.4.29","Turtas, kurio nusidėvėjimą, amortizaciją prašoma finansuoti",null,null,1,0,0,0,null,null,null,null,null,null,"0",null,null,0," "]
["5.5","Projektą vykdančio personalo darbo užmokestis ir išlaidos su darbo santykiais susijusiems darbdavio įsipareigojimams",null,null,null,null,{"$f":"SUM(G103:G152)","v":0},{"$f":"SUM(H103:H152)","v":0},null,null,"Faktiškai gaunamas darbo užmokesti už 1 valandą pagal  pastarųjų 6 mėn. vidurkį, Eur"]
["5.5.1","Pareigybės pavadinimas","Darbuotojo vardas pavardė","val.",null,{"$f":"IFERROR(ROUND(AVERAGE(K103:K107),2),\"0\")","v":"0"},{"$f":"ROUND(E103*F103,2)","v":0},{"$f":"ROUND(G103*$D$7,2)","v":0}]
[null,null,"Darbuotojo vardas pavardė"]
[null,null,"Darbuotojo vardas pavardė"]
[null,null,"Darbuotojo vardas pavardė"]
[null,null,"Darbuotojo vardas pavardė"]
["5.5.2","Pareigybės pavadinimas","Darbuotojo vardas pavardė","val.",null,{"$f":"IFERROR(ROUND(AVERAGE(K108:K112),2),\"0\")","v":"0"},{"$f":"ROUND(E108*F108,2)","v":0},{"$f":"ROUND(G108*$D$7,2)","v":0}]
[null,null,"Darbuotojo vardas pavardė"]
[null,null,"Darbuotojo vardas pavardė"]
[null,null,"Darbuotojo vardas pavardė"]
[null,null,"Darbuotojo vardas pavardė"]
["5.5.3","Pareigybės pavadinimas","Darbuotojo vardas pavardė","val.",null,{"$f":"IFERROR(ROUND(AVERAGE(K113:K117),2),\"0\")","v":"0"},{"$f":"ROUND(E113*F113,2)","v":0},{"$f":"ROUND(G113*$D$7,2)","v":0}]
[null,null,"Darbuotojo vardas pavardė"]
[null,null,"Darbuotojo vardas pavardė"]
[null,null,"Darbuotojo vardas pavardė"]
[null,null,"Darbuotojo vardas pavardė"]
["5.5.4","Pareigybės pavadinimas","Darbuotojo vardas pavardė","val.",null,{"$f":"IFERROR(ROUND(AVERAGE(K118:K122),2),\"0\")","v":"0"},{"$f":"ROUND(E118*F118,2)","v":0},{"$f":"ROUND(G118*$D$7,2)","v":0}]
[null,null,"Darbuotojo vardas pavardė"]
[null,null,"Darbuotojo vardas pavardė"]
[null,null,"Darbuotojo vardas pavardė"]
[null,null,"Darbuotojo vardas pavardė"]
["5.5.5","Pareigybės pavadinimas","Darbuotojo vardas pavardė","val.",null,{"$f":"IFERROR(ROUND(AVERAGE(K123:K127),2),\"0\")","v":"0"},{"$f":"ROUND(E123*F123,2)","v":0},{"$f":"ROUND(G123*$D$7,2)","v":0}]
[null,null,"Darbuotojo vardas pavardė"]
[null,null,"Darbuotojo vardas pavardė"]
[null,null,"Darbuotojo vardas pavardė"]
[null,null,"Darbuotojo vardas pavardė"]
["5.5.6","Pareigybės pavadinimas","Darbuotojo vardas pavardė","val.",null,{"$f":"IFERROR(ROUND(AVERAGE(K128:K132),2),\"0\")","v":"0"},{"$f":"ROUND(E128*F128,2)","v":0},{"$f":"ROUND(G128*$D$7,2)","v":0}]
[null,null,"Darbuotojo vardas pavardė"]
[null,null,"Darbuotojo vardas pavardė"]
[null,null,"Darbuotojo vardas pavardė"]
[null,null,"Darbuotojo vardas pavardė"]
["5.5.7","Pareigybės pavadinimas","Darbuotojo vardas pavardė","val.",null,{"$f":"IFERROR(ROUND(AVERAGE(K133:K137),2),\"0\")","v":"0"},{"$f":"ROUND(E133*F133,2)","v":0},{"$f":"ROUND(G133*$D$7,2)","v":0}]
[null,null,"Darbuotojo vardas pavardė"]
[null,null,"Darbuotojo vardas pavardė"]
[null,null,"Darbuotojo vardas pavardė"]
[null,null,"Darbuotojo vardas pavardė"]
["5.5.8","Pareigybės pavadinimas","Darbuotojo vardas pavardė","val.",null,{"$f":"IFERROR(ROUND(AVERAGE(K138:K142),2),\"0\")","v":"0"},{"$f":"ROUND(E138*F138,2)","v":0},{"$f":"ROUND(G138*$D$7,2)","v":0}]
[null,null,"Darbuotojo vardas pavardė"]
[null,null,"Darbuotojo vardas pavardė"]
[null,null,"Darbuotojo vardas pavardė"]
[null,null,"Darbuotojo vardas pavardė"]
["5.5.9","Pareigybės pavadinimas","Darbuotojo vardas pavardė","val.",null,{"$f":"IFERROR(ROUND(AVERAGE(K143:K147),2),\"0\")","v":"0"},{"$f":"ROUND(E143*F143,2)","v":0},{"$f":"ROUND(G143*$D$7,2)","v":0}]
[null,null,"Darbuotojo vardas pavardė"]
[null,null,"Darbuotojo vardas pavardė"]
[null,null,"Darbuotojo vardas pavardė"]
[null,null,"Darbuotojo vardas pavardė"]
["5.5.10","Pareigybės pavadinimas","Darbuotojo vardas pavardė","val.",null,{"$f":"IFERROR(ROUND(AVERAGE(K148:K152),2),\"0\")","v":"0"},{"$f":"ROUND(E148*F148,2)","v":0},{"$f":"ROUND(G148*$D$7,2)","v":0}]
[null,null,"Darbuotojo vardas pavardė"]
[null,null,"Darbuotojo vardas pavardė"]
[null,null,"Darbuotojo vardas pavardė"]
[null,null,"Darbuotojo vardas pavardė"]
["5.6","Projektą vykdančio personalo komandiruočių išlaidos",null,null,null,null,{"$f":"SUM(G154,G161,G168,G175,G182,G189,G196,G203,G210,G217)","v":0},{"$f":"SUM(H154,H161,H168,H175,H182,H189,H196,H203,H210,H217)","v":0}]
["5.6.1","Komandiruotės pavadinimas, vieta, trukmė dienomis, vykstančių asmenų skaičius","Iš viso komandiruotei",null,null,null,{"$f":"SUM(G155:G160)","v":0},{"$f":"ROUND(G154*$D$7,2)","v":0}]
[null,null,"Dienpinigiai",null,null,null,{"$f":"ROUND(E155*F155,2)","v":0}]
[null,null,"Gyvenamojo ploto nuoma",null,null,null,0]
[null,null,"Kelionės išlaidos",null,null,null,0]
[null,null,"Dalyvavimo mokestis",null,null,null,0]
[null,null,"Kitos išlaidų pavadinimas",null,null,null,0]
[null,null,"Kitos išlaidų pavadinimas",null,null,null,0]
["5.6.2","Komandiruotės pavadinimas, vieta, trukmė dienomis, vykstančių asmenų skaičius","Iš viso komandiruotei",null,null,null,{"$f":"SUM(G162:G167)","v":0},{"$f":"ROUND(G161*$D$7,2)","v":0}]
[null,null,"Dienpinigiai",null,null,null,{"$f":"ROUND(E162*F162,2)","v":0}]
[null,null,"Gyvenamojo ploto nuoma",null,null,null,0]
[null,null,"Kelionės išlaidos",null,null,null,0]
[null,null,"Dalyvavimo mokestis",null,null,null,0]
[null,null,"Kitos išlaidų pavadinimas",null,null,null,0]
[null,null,"Kitos išlaidų pavadinimas",null,null,null,0]
["5.6.3","Komandiruotės pavadinimas, vieta, trukmė dienomis, vykstančių asmenų skaičius","Iš viso komandiruotei",null,null,null,{"$f":"SUM(G169:G174)","v":0},{"$f":"ROUND(G168*$D$7,2)","v":0}]
[null,null,"Dienpinigiai",null,null,null,{"$f":"ROUND(E169*F169,2)","v":0}]
[null,null,"Gyvenamojo ploto nuoma",null,null,null,0]
[null,null,"Kelionės išlaidos",null,null,null,0]
[null,null,"Dalyvavimo mokestis",null,null,null,0]
[null,null,"Kitos išlaidų pavadinimas",null,null,null,0]
[null,null,"Kitos išlaidų pavadinimas",null,null,null,0]
["5.6.4","Komandiruotės pavadinimas, vieta, trukmė dienomis, vykstančių asmenų skaičius","Iš viso komandiruotei",null,null,null,{"$f":"SUM(G176:G181)","v":0},{"$f":"ROUND(G175*$D$7,2)","v":0}]
[null,null,"Dienpinigiai",null,null,null,{"$f":"ROUND(E176*F176,2)","v":0}]
[null,null,"Gyvenamojo ploto nuoma",null,null,null,0]
[null,null,"Kelionės išlaidos",null,null,null,0]
[null,null,"Dalyvavimo mokestis",null,null,null,0]
[null,null,"Kitos išlaidų pavadinimas",null,null,null,0]
[null,null,"Kitos išlaidų pavadinimas",null,null,null,0]
["5.6.5","Komandiruotės pavadinimas, vieta, trukmė dienomis, vykstančių asmenų skaičius","Iš viso komandiruotei",null,null,null,{"$f":"SUM(G183:G188)","v":0},{"$f":"ROUND(G182*$D$7,2)","v":0}]
[null,null,"Dienpinigiai",null,null,null,{"$f":"ROUND(E183*F183,2)","v":0}]
[null,null,"Gyvenamojo ploto nuoma",null,null,null,0]
[null,null,"Kelionės išlaidos",null,null,null,0]
[null,null,"Dalyvavimo mokestis",null,null,null,0]
[null,null,"Kitos išlaidų pavadinimas",null,null,null,0]
[null,null,"Kitos išlaidų pavadinimas",null,null,null,0]
["5.6.6","Komandiruotės pavadinimas, vieta, trukmė dienomis, vykstančių asmenų skaičius","Iš viso komandiruotei",null,null,null,{"$f":"SUM(G190:G195)","v":0},{"$f":"ROUND(G189*$D$7,2)","v":0}]
[null,null,"Dienpinigiai",null,null,null,{"$f":"ROUND(E190*F190,2)","v":0}]
[null,null,"Gyvenamojo ploto nuoma",null,null,null,0]
[null,null,"Kelionės išlaidos",null,null,null,0]
[null,null,"Dalyvavimo mokestis",null,null,null,0]
[null,null,"Kitos išlaidų pavadinimas",null,null,null,0]
[null,null,"Kitos išlaidų pavadinimas",null,null,null,0]
["5.6.7","Komandiruotės pavadinimas, vieta, trukmė dienomis, vykstančių asmenų skaičius","Iš viso komandiruotei",null,null,null,{"$f":"SUM(G197:G202)","v":0},{"$f":"ROUND(G196*$D$7,2)","v":0}]
[null,null,"Dienpinigiai",null,null,null,{"$f":"ROUND(E197*F197,2)","v":0}]
[null,null,"Gyvenamojo ploto nuoma",null,null,null,0]
[null,null,"Kelionės išlaidos",null,null,null,0]
[null,null,"Dalyvavimo mokestis",null,null,null,0]
[null,null,"Kitos išlaidų pavadinimas",null,null,null,0]
[null,null,"Kitos išlaidų pavadinimas",null,null,null,0]
["5.6.8","Komandiruotės pavadinimas, vieta, trukmė dienomis, vykstančių asmenų skaičius","Iš viso komandiruotei",null,null,null,{"$f":"SUM(G204:G209)","v":0},{"$f":"ROUND(G203*$D$7,2)","v":0}]
[null,null,"Dienpinigiai",null,null,null,{"$f":"ROUND(E204*F204,2)","v":0}]
[null,null,"Gyvenamojo ploto nuoma",null,null,null,0]
[null,null,"Kelionės išlaidos",null,null,null,0]
[null,null,"Dalyvavimo mokestis",null,null,null,0]
[null,null,"Kitos išlaidų pavadinimas",null,null,null,0]
[null,null,"Kitos išlaidų pavadinimas",null,null,null,0]
["5.6.9","Komandiruotės pavadinimas, vieta, trukmė dienomis, vykstančių asmenų skaičius","Iš viso komandiruotei",null,null,null,{"$f":"SUM(G211:G216)","v":0},{"$f":"ROUND(G210*$D$7,2)","v":0}]
[null,null,"Dienpinigiai",null,null,null,{"$f":"ROUND(E211*F211,2)","v":0}]
[null,null,"Gyvenamojo ploto nuoma",null,null,null,0]
[null,null,"Kelionės išlaidos",null,null,null,0]
[null,null,"Dalyvavimo mokestis",null,null,null,0]
[null,null,"Kitos išlaidų pavadinimas",null,null,null,0]
[null,null,"Kitos išlaidų pavadinimas",null,null,null,0]
["5.6.10","Komandiruotės pavadinimas, vieta, trukmė dienomis, vykstančių asmenų skaičius","Iš viso komandiruotei",null,null,null,{"$f":"SUM(G218:G223)","v":0},{"$f":"ROUND(G217*$D$7,2)","v":0}]
[null,null,"Dienpinigiai",null,null,null,{"$f":"ROUND(E218*F218,2)","v":0}]
[null,null,"Gyvenamojo ploto nuoma",null,null,null,0]
[null,null,"Kelionės išlaidos",null,null,null,0]
[null,null,"Dalyvavimo mokestis",null,null,null,0]
[null,null,"Kitos išlaidų pavadinimas",null,null,null,0]
[null,null,"Kitos išlaidų pavadinimas",null,null,null,0]
["5.7","Įrangos nuomos išlaidos, veiklai priskirtos pro rata principu. Įranga turi būti tiesiogiai susijusi su projekto įgyvendinimu ir negali būti įsigyta iš ES struktūrinių fondų ar kt. ES finansinių priemonių lėšų",null,null,null,null,{"$f":"SUM(G225:G241)","v":0},{"$f":"SUM(H225:H241)","v":0},null,null,"Faktinės 1 mėnesio išlaidos, Eur","Naudojimo projekte trukmė, mėn."]
["5.7.1","Įrangos pavadinimas",null,"pro rata proc.",null,{"$f":"K225*L225","v":0},{"$f":"ROUND(E225*F225,2)","v":0},{"$f":"ROUND(G225*$D$7,2)","v":0}]
["5.7.2","Įrangos pavadinimas",null,"pro rata proc.",null,{"$f":"K226*L226","v":0},0,{"$f":"ROUND(G226*$D$7,2)","v":0}]
["5.7.3","Įrangos pavadinimas",null,"pro rata proc.",null,0,0,0]
["5.7.4","Įrangos pavadinimas",null,"pro rata proc.",null,0,0,0]
["5.7.5","Įrangos pavadinimas",null,"pro rata proc.",null,0,0,0]
["5.7.6","Įrangos pavadinimas",null,"pro rata proc.",null,0,0,0]
["5.7.7","Įrangos pavadinimas",null,"pro rata proc.",null,0,0,0]
["5.7.8","Įrangos pavadinimas",null,"pro rata proc.",null,0,0,0]
["5.7.9","Įrangos pavadinimas",null,"pro rata proc.",null,0,0,0]
["5.7.10","Įrangos pavadinimas",null,"pro rata proc.",null,0,0,0]
["5.7.11","Įrangos pavadinimas",null,"pro rata proc.",null,0,0,0]
["5.7.12","Įrangos pavadinimas",null,"pro rata proc.",null,0,0,0]
["5.7.13","Įrangos pavadinimas",null,"pro rata proc.",null,0,0,0]
["5.7.14","Įrangos pavadinimas",null,"pro rata proc.",null,{"$f":"K238*L238","v":0},0,{"$f":"ROUND(G238*$D$7,2)","v":0}]
["5.7.15","Įrangos pavadinimas",null,"pro rata proc.",null,{"$f":"K239*L239","v":0},0,{"$f":"ROUND(G239*$D$7,2)","v":0}]
["5.7.16","Įrangos pavadinimas",null,"pro rata proc.",null,{"$f":"K240*L240","v":0},0,{"$f":"ROUND(G240*$D$7,2)","v":0}]
["5.7.17","Įrangos pavadinimas",null,"pro rata proc.",null,{"$f":"K241*L241","v":0},0,{"$f":"ROUND(G241*$D$7,2)","v":0}]
["5.8","Pastatų ar patalpų nuomos išlaidos, veiklai priskirtos pro rata principu. Pastatai ar patalpos turi būti tiesiogiai susijusi su projekto įgyvendinimu.",null,null,null,null,{"$f":"SUM(G243:G247)","v":0},{"$f":"SUM(H243:H247)","v":0},null,null,"Faktinės 1 mėnesio išlaidos, Eur","Naudojimo projekte trukmė, mėn."]
["5.8.1","Pastato, patalpų adresas",null,"pro rata proc.",null,{"$f":"K243*L243","v":0},{"$f":"ROUND(E243*F243,2)","v":0},{"$f":"ROUND(G243*$D$7,2)","v":0}]
["5.8.2","Pastato, patalpų adresas",null,"pro rata proc.",null,{"$f":"K244*L244","v":0},{"$f":"ROUND(E244*F244,2)","v":0},{"$f":"ROUND(G244*$D$7,2)","v":0}]
["5.8.3","Pastato, patalpų adresas",null,"pro rata proc.",null,{"$f":"K245*L245","v":0},{"$f":"ROUND(E245*F245,2)","v":0},{"$f":"ROUND(G245*$D$7,2)","v":0}]
["5.8.4","Pastato, patalpų adresas",null,"pro rata proc.",null,{"$f":"K246*L246","v":0},{"$f":"ROUND(E246*F246,2)","v":0},{"$f":"ROUND(G246*$D$7,2)","v":0}]
["5.8.5","Pastato, patalpų adresas",null,"pro rata proc.",null,{"$f":"K247*L247","v":0},{"$f":"ROUND(E247*F247,2)","v":0},{"$f":"ROUND(G247*$D$7,2)","v":0}]
["Iš viso tinkamų finansuoti išlaidų:",null,null,null,null,null,{"$f":"G10+G21","v":0},{"$f":"H10+H21","v":0}]

{"sheet":"25","index":19,"n_rows":248,"n_cols":19,"rows_kept":248,"cut":false,"hidden":true,"merged":[[5,3,5,8],[8,1,8,2],[9,1,9,5],[10,1,10,2],[11,1,11,2],[12,1,12,2],[0,3,0,8],[2,0,2,2],[2,3,2,8],[3,3,3,4],[3,5,3,6],[4,0,4,2],[4,3,4,8],[19,1,19,2],[20,1,20,5],[21,1,21,5],[22,1,22,2],[23,1,23,2],[24,1,24,2],[13,1,13,2],[14,1,14,2],[15,1,15,2],[16,1,16,2],[17,1,17,2],[18,1,18,2],[31,1,31,2],[32,1,32,5],[33,1,33,2],[34,1,34,2],[35,1,35,2],[36,1,36,2],[25,1,25,2],[26,1,26,2],[27,1,27,2],[28,1,28,2],[29,1,29,2],[30,1,30,2],[43,1,43,5],[44,1,44,2],[45,1,45,2],[46,1,46,2],[47,1,47,2],[48,1,48,2],[37,1,37,2],[38,1,38,2],[39,1,39,2],[40,1,40,2],[41,1,41,2],[42,1,42,2],[55,1,55,2],[56,1,56,2],[57,1,57,2],[58,1,58,2],[59,1,59,2],[60,1,60,2],[49,1,49,2],[50,1,50,2],[51,1,51,2],[52,1,52,2],[53,1,53,2],[54,1,54,2],[67,1,67,2],[68,1,68,2],[69,1,69,2],[70,1,70,2],[71,1,71,5],[72,1,72,2],[61,1,61,2],[62,1,62,2],[63,1,63,2],[64,1,64,2],[65,1,65,2],[66,1,66,2],[79,1,79,2],[80,1,80,2],[81,1,81,2],[82,1,82,2],[83,1,83,2],[84,1,84,2],[73,1,73,2],[74,1,74,2],[75,1,75,2],[76,1,76,2],[77,1,77,2],[78,1,78,2],[91,1,91,2],[92,1,92,2],[93,1,93,2],[94,1,94,2],[95,1,95,2],[96,1,96,2],[85,1,85,2],[86,1,86,2],[87,1,87,2],[88,1,88,2],[89,1,89,2],[90,1,90,2],[97,1,97,2],[98,1,98,2],[99,1,99,2],[100,1,100,2],[101,1,101,5],[102,0,106,0],[102,1,106,1],[102,3,106,3],[102,4,106,4],[102,5,106,5],[102,6,106,6],[102,7,106,7],[102,8,106,8],[107,0,111,0],[107,1,111,1],[107,3,111,3],[107,4,111,4],[107,5,111,5],[107,6,111,6],[107,7,111,7],[107,8,111,8],[112,0,116,0],[112,1,116,1],[112,3,116,3],[112,4,116,4],[112,5,116,5],[112,6,116,6],[112,7,116,7],[112,8,116,8],[117,7,121,7],[117,8,121,8],[122,0,126,0],[122,1,126,1],[122,3,126,3],[122,4,126,4],[122,5,126,5],[122,6,126,6],[122,7,126,7],[122,8,126,8],[117,0,121,0],[117,1,121,1],[117,3,121,3],[117,4,121,4],[117,5,121,5],[117,6,121,6],[127,7,131,7],[127,8,131,8],[132,0,136,0],[132,1,136,1],[132,3,136,3],[132,4,136,4],[132,5,136,5],[132,6,136,6],[132,7,136,7],[132,8,136,8],[127,0,131,0],[127,1,131,1],[127,3,131,3],[127,4,131,4],[127,5,131,5],[127,6,131,6],[137,7,141,7],[137,8,141,8],[142,0,146,0],[142,1,146,1],[142,3,146,3],[142,4,146,4],[142,5,146,5],[142,6,146,6],[142,7,146,7],[142,8,146,8],[137,0,141,0],[137,1,141,1],[137,3,141,3],[137,4,141,4],[137,5,141,5],[137,6,141,6],[160,0,166,0],[160,1,166,1],[160,8,166,8],[167,0,173,0],[167,1,173,1],[167,8,173,8],[147,7,151,7],[147,8,151,8],[152,1,152,5],[153,0,159,0],[153,1,159,1],[153,8,159,8],[147,0,151,0],[147,1,151,1],[147,3,151,3],[147,4,151,4],[147,5,151,5],[147,6,151,6],[188,0,194,0],[188,1,194,1],[188,8,194,8],[195,0,201,0],[195,1,201,1],[195,8,201,8],[174,0,180,0],[174,1,180,1],[174,8,180,8],[181,0,187,0],[181,1,187,1],[181,8,187,8],[216,0,222,0],[216,1,222,1],[216,8,222,8],[223,1,223,5],[224,1,224,2],[225,1,225,2],[202,0,208,0],[202,1,208,1],[202,8,208,8],[209,0,215,0],[209,1,215,1],[209,8,215,8],[232,1,232,2],[233,1,233,2],[234,1,234,2],[235,1,235,2],[236,1,236,2],[237,1,237,2],[226,1,226,2],[227,1,227,2],[228,1,228,2],[229,1,229,2],[230,1,230,2],[231,1,231,2],[244,1,244,2],[245,1,245,2],[246,1,246,2],[247,0,247,5],[238,1,238,2],[239,1,239,2],[240,1,240,2],[241,1,241,5],[242,1,242,2],[243,1,243,2]]}
[null,null,"Pasirinkite veiklos tipą:"]
[null,null,"Fizinio rodiklio Nr.:"]
["Fizinio rodiklio pavadinimas:"]
[null,null,"Fizinio rodiklio matavimo vnt.:",null,null,"Fizinio rodiklio vnt. skaičius:"]
["Juridinis asmuo (pareiškėjas, partneris), atsakingas už fizinį rodiklį:"]
[null,null,"Vykdytojo tipas:"]
[null,null,"Finansavimo intensyvumas:",null,null,null,"Pasirinkite biudžeto išlaidų kategoriją:","Visos"]
[]
["Eil. Nr.","Išlaidų kategorijos pavadinimas",null,"Matavimo vnt.","Kiekis","Vieneto kaina be PVM, Eur","Tinkamų finansuoti išlaidų suma be PVM, Eur","Finansavimo suma, Eur","Išlaidų pagrindimo dokumentų pavadinimas, data ir Nr."]
[4,"ĮRANGA, ĮRENGINIAI IR KT. TURTAS (techninių žinių ir išradimų patentų arba teisių pagal licencijų sutartį įsigijimo išlaidos)",null,null,null,null,{"$f":"SUM(G11:G20)","v":0},{"$f":"SUM(H11:H20)","v":0}]
["4.1","Išlaidų pavadinimas",null,null,null,null,{"$f":"ROUND(E11*F11,2)","v":0},{"$f":"ROUND(G11*$D$7,2)","v":0}]
["4.2","Išlaidų pavadinimas",null,null,null,null,0,0]
["4.3","Išlaidų pavadinimas",null,null,null,null,0,0]
["4.4","Išlaidų pavadinimas",null,null,null,null,0,0]
["4.5","Išlaidų pavadinimas",null,null,null,null,0,0]
["4.6","Išlaidų pavadinimas",null,null,null,null,0,0]
["4.7","Išlaidų pavadinimas",null,null,null,null,0,0]
["4.8","Išlaidų pavadinimas",null,null,null,null,0,0]
["4.9","Išlaidų pavadinimas",null,null,null,null,0,0]
["4.10","Išlaidų pavadinimas",null,null,null,null,0,0]
[5,"PROJEKTO VYKDYMAS",null,null,null,null,{"$f":"G22+G33+G44+G72+G102+G153+G224+G242","v":0},{"$f":"H22+H33+H44+H72+H102+H153+H224+H242","v":0}]
["5.1","MTEP paslaugos",null,null,null,null,{"$f":"SUM(G23:G32)","v":0},{"$f":"SUM(H23:H32)","v":0}]
["5.1.1","Paslaugos pavadinimas",null,null,null,null,{"$f":"ROUND(E23*F23,2)","v":0},0]
["5.1.2","Paslaugos pavadinimas",null,null,null,null,0,0]
["5.1.3","Paslaugos pavadinimas",null,null,null,null,0,0]
["5.1.4","Paslaugos pavadinimas",null,null,null,null,0,0]
["5.1.5","Paslaugos pavadinimas",null,null,null,null,0,0]
["5.1.6","Paslaugos pavadinimas",null,null,null,null,0,0]
["5.1.7","Paslaugos pavadinimas",null,null,null,null,0,0]
["5.1.8","Paslaugos pavadinimas",null,null,null,null,0,0]
["5.1.9","Paslaugos pavadinimas",null,null,null,null,0,0]
["5.1.10","Paslaugos pavadinimas",null,null,null,null,0,0]
["5.2","Konsultavimo ir lygiavertės paslaugos, teikiamos vien tik projekto MTEP veiklai.",null,null,null,null,{"$f":"SUM(G34:G43)","v":0},{"$f":"SUM(H34:H43)","v":0}]
["5.2.1","Paslaugos pavadinimas",null,null,null,null,{"$f":"ROUND(E34*F34,2)","v":0},0]
["5.2.2","Paslaugos pavadinimas",null,null,null,null,0,0]
["5.2.3","Paslaugos pavadinimas",null,null,null,null,0,0]
["5.2.4","Paslaugos pavadinimas",null,null,null,null,0,0]
["5.2.5","Paslaugos pavadinimas",null,null,null,null,0,0]
["5.2.6","Paslaugos pavadinimas",null,null,null,null,0,0]
["5.2.7","Paslaugos pavadinimas",null,null,null,null,0,0]
["5.2.8","Paslaugos pavadinimas",null,null,null,null,0,0]
["5.2.9","Paslaugos pavadinimas",null,null,null,null,0,0]
["5.2.10","Paslaugos pavadinimas",null,null,null,null,0,0]
["5.3","Medžiagos, mažavertis inventorius, atsargos ir pan. produktai, priskirtini trumpalaikiam turtui ir tiesiogiai susiję su MTEP veikla",null,null,null,null,{"$f":"SUM(G45:G71)","v":0},{"$f":"SUM(H45:H71)","v":0}]
["5.3.1","Išlaidų pavadinimas",null,null,null,null,{"$f":"ROUND(E45*F45,2)","v":0},{"$f":"ROUND(G45*$D$7,2)","v":0}]
["5.3.2","Išlaidų pavadinimas",null,null,null,null,{"$f":"ROUND(E46*F46,2)","v":0},{"$f":"ROUND(G46*$D$7,2)","v":0}]
["5.3.3","Išlaidų pavadinimas",null,null,null,null,{"$f":"ROUND(E47*F47,2)","v":0},{"$f":"ROUND(G47*$D$7,2)","v":0}]
["5.3.4","Išlaidų pavadinimas",null,null,null,null,{"$f":"ROUND(E48*F48,2)","v":0},{"$f":"ROUND(G48*$D$7,2)","v":0}]
["5.3.5","Išlaidų pavadinimas",null,null,null,null,{"$f":"ROUND(E49*F49,2)","v":0},{"$f":"ROUND(G49*$D$7,2)","v":0}]
["5.3.6","Išlaidų pavadinimas",null,null,null,null,0,0]
["5.3.7","Išlaidų pavadinimas",null,null,null,null,0,0]
["5.3.8","Išlaidų pavadinimas",null,null,null,null,0,0]
["5.3.9","Išlaidų pavadinimas",null,null,null,null,0,0]
["5.3.10","Išlaidų pavadinimas",null,null,null,null,0,0]
["5.3.11","Išlaidų pavadinimas",null,null,null,null,0,0]
["5.3.12","Išlaidų pavadinimas",null,null,null,null,0,0]
["5.3.13","Išlaidų pavadinimas",null,null,null,null,0,0]
["5.3.14","Išlaidų pavadinimas",null,null,null,null,0,0]
["5.3.15","Išlaidų pavadinimas",null,null,null,null,0,0]
["5.3.16","Išlaidų pavadinimas",null,null,null,null,0,0]
["5.3.17","Išlaidų pavadinimas",null,null,null,null,0,0]
["5.3.18","Išlaidų pavadinimas",null,null,null,null,0,0]
["5.3.19","Išlaidų pavadinimas",null,null,null,null,0,0]
["5.3.20","Išlaidų pavadinimas",null,null,null,null,0,0]
["5.3.21","Išlaidų pavadinimas",null,null,null,null,0,0]
["5.3.22","Išlaidų pavadinimas",null,null,null,null,0,0]
["5.3.23","Išlaidų pavadinimas",null,null,null,null,0,0]
["5.3.24","Išlaidų pavadinimas",null,null,null,null,0,0]
["5.3.25","Išlaidų pavadinimas",null,null,null,null,0,0]
["5.3.26","Išlaidų pavadinimas",null,null,null,null,0,0]
["5.3.27","Išlaidų pavadinimas",null,null,null,null,0,0]
["5.4","Projekto MTEP veikloms naudojamo ilgalaikio materialaus turto (įrangos, prietaisų, įrankių, įrenginių, mašinų ir įrengimų, pastatų ir (ar) patalpų), nusidėvėjimo sąnaudos, jeigu šiam turtui įsigyti nebuvo naudojamos viešosios (įskaitant ir kitų valstybių) lėšos",null,null,null,null,{"$f":"SUM(G73:G101)","v":0},{"$f":"SUM(H73:H101)","v":0},null,null,"Turto įvedimo į eksploataciją data","Turto įsigijimo vertė, Eur","Turto nudėvėjimo, amortizacijos laikotarpis, mėn.","Numatoma turto likutinė vertė, Eur","1 mėn. nudėvėjimo, amortizacijos suma, Eur","Turto naudojamo projekto reikmėms laikas, mėn.","Turto panaudojimo projekto reikmėms dalis (proc.)","Projektui priskirta turto nusidėvėjimo, amortizacijos suma per projekto laikotarpį, Eur"]
["5.4.1","Turtas, kurio nusidėvėjimą, amortizaciją prašoma finansuoti",null,null,1,{"$f":"R73","v":0},{"$f":"ROUND(E73*F73,2)","v":0},0,null,null,null,null,null,null,{"$f":"IFERROR(ROUND((L73-N73)/M73,2),\"0\")","v":"0"},null,null,{"$f":"O73*P73*Q73","v":0},{"$f":"IF(K73=0,\" \",IF(K73+(M73*30.5)<TODAY(),\"DĖMESIO! Patikrinkite, ar nurodytas turtas dar nėra nudėvėtas, amortizuotas\",\" \"))","v":" "}]
["5.4.2","Turtas, kurio nusidėvėjimą, amortizaciją prašoma finansuoti",null,null,1,0,0,0,null,null,null,null,null,null,{"$f":"IFERROR(ROUND((L74-N74)/M74,2),\"0\")","v":"0"},null,null,{"$f":"O74*P74*Q74","v":0},{"$f":"IF(K74=0,\" \",IF(K74+(M74*30.5)<TODAY(),\"DĖMESIO! Patikrinkite, ar nurodytas turtas dar nėra nudėvėtas, amortizuotas\",\" \"))","v":" "}]
["5.4.3","Turtas, kurio nusidėvėjimą, amortizaciją prašoma finansuoti",null,null,1,0,0,0,null,null,null,null,null,null,"0",null,null,0," "]
["5.4.4","Turtas, kurio nusidėvėjimą, amortizaciją prašoma finansuoti",null,null,1,0,0,0,null,null,null,null,null,null,"0",null,null,0," "]
["5.4.5","Turtas, kurio nusidėvėjimą, amortizaciją prašoma finansuoti",null,null,1,0,0,0,null,null,null,null,null,null,"0",null,null,0," "]
["5.4.6","Turtas, kurio nusidėvėjimą, amortizaciją prašoma finansuoti",null,null,1,0,0,0,null,null,null,null,null,null,"0",null,null,0," "]
["5.4.7","Turtas, kurio nusidėvėjimą, amortizaciją prašoma finansuoti",null,null,1,0,0,0,null,null,null,null,null,null,"0",null,null,0," "]
["5.4.8","Turtas, kurio nusidėvėjimą, amortizaciją prašoma finansuoti",null,null,1,0,0,0,null,null,null,null,null,null,"0",null,null,0," "]
["5.4.9","Turtas, kurio nusidėvėjimą, amortizaciją prašoma finansuoti",null,null,1,0,0,0,null,null,null,null,null,null,"0",null,null,0," "]
["5.4.10","Turtas, kurio nusidėvėjimą, amortizaciją prašoma finansuoti",null,null,1,0,0,0,null,null,null,null,null,null,"0",null,null,0," "]
["5.4.11","Turtas, kurio nusidėvėjimą, amortizaciją prašoma finansuoti",null,null,1,0,0,0,null,null,null,null,null,null,"0",null,null,0," "]
["5.4.12","Turtas, kurio nusidėvėjimą, amortizaciją prašoma finansuoti",null,null,1,0,0,0,null,null,null,null,null,null,"0",null,null,0," "]
["5.4.13","Turtas, kurio nusidėvėjimą, amortizaciją prašoma finansuoti",null,null,1,0,0,0,null,null,null,null,null,null,"0",null,null,0," "]
["5.4.14","Turtas, kurio nusidėvėjimą, amortizaciją prašoma finansuoti",null,null,1,0,0,0,null,null,null,null,null,null,"0",null,null,0," "]
["5.4.15","Turtas, kurio nusidėvėjimą, amortizaciją prašoma finansuoti",null,null,1,0,0,0,null,null,null,null,null,null,"0",null,null,0," "]
["5.4.16","Turtas, kurio nusidėvėjimą, amortizaciją prašoma finansuoti",null,null,1,0,0,0,null,null,null,null,null,null,"0",null,null,0," "]
["5.4.17","Turtas, kurio nusidėvėjimą, amortizaciją prašoma finansuoti",null,null,1,0,0,0,null,null,null,null,null,null,"0",null,null,0," "]
["5.4.18","Turtas, kurio nusidėvėjimą, amortizaciją prašoma finansuoti",null,null,1,0,0,0,null,null,null,null,null,null,"0",null,null,0," "]
["5.4.19","Turtas, kurio nusidėvėjimą, amortizaciją prašoma finansuoti",null,null,1,0,0,0,null,null,null,null,null,null,"0",null,null,0," "]
["5.4.20","Turtas, kurio nusidėvėjimą, amortizaciją prašoma finansuoti",null,null,1,0,0,0,null,null,null,null,null,null,"0",null,null,0," "]
["5.4.21","Turtas, kurio nusidėvėjimą, amortizaciją prašoma finansuoti",null,null,1,0,0,0,null,null,null,null,null,null,"0",null,null,0," "]
["5.4.22","Turtas, kurio nusidėvėjimą, amortizaciją prašoma finansuoti",null,null,1,0,0,0,null,null,null,null,null,null,"0",null,null,0," "]
["5.4.23","Turtas, kurio nusidėvėjimą, amortizaciją prašoma finansuoti",null,null,1,0,0,0,null,null,null,null,null,null,"0",null,null,0," "]
["5.4.24","Turtas, kurio nusidėvėjimą, amortizaciją prašoma finansuoti",null,null,1,0,0,0,null,null,null,null,null,null,"0",null,null,0," "]
["5.4.25","Turtas, kurio nusidėvėjimą, amortizaciją prašoma finansuoti",null,null,1,0,0,0,null,null,null,null,null,null,"0",null,null,0," "]
["5.4.26","Turtas, kurio nusidėvėjimą, amortizaciją prašoma finansuoti",null,null,1,0,0,0,null,null,null,null,null,null,"0",null,null,0," "]
["5.4.27","Turtas, kurio nusidėvėjimą, amortizaciją prašoma finansuoti",null,null,1,0,0,0,null,null,null,null,null,null,"0",null,null,0," "]
["5.4.28","Turtas, kurio nusidėvėjimą, amortizaciją prašoma finansuoti",null,null,1,0,0,0,null,null,null,null,null,null,"0",null,null,0," "]
["5.4.29","Turtas, kurio nusidėvėjimą, amortizaciją prašoma finansuoti",null,null,1,0,0,0,null,null,null,null,null,null,"0",null,null,0," "]
["5.5","Projektą vykdančio personalo darbo užmokestis ir išlaidos su darbo santykiais susijusiems darbdavio įsipareigojimams",null,null,null,null,{"$f":"SUM(G103:G152)","v":0},{"$f":"SUM(H103:H152)","v":0},null,null,"Faktiškai gaunamas darbo užmokesti už 1 valandą pagal  pastarųjų 6 mėn. vidurkį, Eur"]
["5.5.1","Pareigybės pavadinimas","Darbuotojo vardas pavardė","val.",null,{"$f":"IFERROR(ROUND(AVERAGE(K103:K107),2),\"0\")","v":"0"},{"$f":"ROUND(E103*F103,2)","v":0},{"$f":"ROUND(G103*$D$7,2)","v":0}]
[null,null,"Darbuotojo vardas pavardė"]
[null,null,"Darbuotojo vardas pavardė"]
[null,null,"Darbuotojo vardas pavardė"]
[null,null,"Darbuotojo vardas pavardė"]
["5.5.2","Pareigybės pavadinimas","Darbuotojo vardas pavardė","val.",null,{"$f":"IFERROR(ROUND(AVERAGE(K108:K112),2),\"0\")","v":"0"},{"$f":"ROUND(E108*F108,2)","v":0},{"$f":"ROUND(G108*$D$7,2)","v":0}]
[null,null,"Darbuotojo vardas pavardė"]
[null,null,"Darbuotojo vardas pavardė"]
[null,null,"Darbuotojo vardas pavardė"]
[null,null,"Darbuotojo vardas pavardė"]
["5.5.3","Pareigybės pavadinimas","Darbuotojo vardas pavardė","val.",null,{"$f":"IFERROR(ROUND(AVERAGE(K113:K117),2),\"0\")","v":"0"},{"$f":"ROUND(E113*F113,2)","v":0},{"$f":"ROUND(G113*$D$7,2)","v":0}]
[null,null,"Darbuotojo vardas pavardė"]
[null,null,"Darbuotojo vardas pavardė"]
[null,null,"Darbuotojo vardas pavardė"]
[null,null,"Darbuotojo vardas pavardė"]
["5.5.4","Pareigybės pavadinimas","Darbuotojo vardas pavardė","val.",null,{"$f":"IFERROR(ROUND(AVERAGE(K118:K122),2),\"0\")","v":"0"},{"$f":"ROUND(E118*F118,2)","v":0},{"$f":"ROUND(G118*$D$7,2)","v":0}]
[null,null,"Darbuotojo vardas pavardė"]
[null,null,"Darbuotojo vardas pavardė"]
[null,null,"Darbuotojo vardas pavardė"]
[null,null,"Darbuotojo vardas pavardė"]
["5.5.5","Pareigybės pavadinimas","Darbuotojo vardas pavardė","val.",null,{"$f":"IFERROR(ROUND(AVERAGE(K123:K127),2),\"0\")","v":"0"},{"$f":"ROUND(E123*F123,2)","v":0},{"$f":"ROUND(G123*$D$7,2)","v":0}]
[null,null,"Darbuotojo vardas pavardė"]
[null,null,"Darbuotojo vardas pavardė"]
[null,null,"Darbuotojo vardas pavardė"]
[null,null,"Darbuotojo vardas pavardė"]
["5.5.6","Pareigybės pavadinimas","Darbuotojo vardas pavardė","val.",null,{"$f":"IFERROR(ROUND(AVERAGE(K128:K132),2),\"0\")","v":"0"},{"$f":"ROUND(E128*F128,2)","v":0},{"$f":"ROUND(G128*$D$7,2)","v":0}]
[null,null,"Darbuotojo vardas pavardė"]
[null,null,"Darbuotojo vardas pavardė"]
[null,null,"Darbuotojo vardas pavardė"]
[null,null,"Darbuotojo vardas pavardė"]
["5.5.7","Pareigybės pavadinimas","Darbuotojo vardas pavardė","val.",null,{"$f":"IFERROR(ROUND(AVERAGE(K133:K137),2),\"0\")","v":"0"},{"$f":"ROUND(E133*F133,2)","v":0},{"$f":"ROUND(G133*$D$7,2)","v":0}]
[null,null,"Darbuotojo vardas pavardė"]
[null,null,"Darbuotojo vardas pavardė"]
[null,null,"Darbuotojo vardas pavardė"]
[null,null,"Darbuotojo vardas pavardė"]
["5.5.8","Pareigybės pavadinimas","Darbuotojo vardas pavardė","val.",null,{"$f":"IFERROR(ROUND(AVERAGE(K138:K142),2),\"0\")","v":"0"},{"$f":"ROUND(E138*F138,2)","v":0},{"$f":"ROUND(G138*$D$7,2)","v":0}]
[null,null,"Darbuotojo vardas pavardė"]
[null,null,"Darbuotojo vardas pavardė"]
[null,null,"Darbuotojo vardas pavardė"]
[null,null,"Darbuotojo vardas pavardė"]
["5.5.9","Pareigybės pavadinimas","Darbuotojo vardas pavardė","val.",null,{"$f":"IFERROR(ROUND(AVERAGE(K143:K147),2),\"0\")","v":"0"},{"$f":"ROUND(E143*F143,2)","v":0},{"$f":"ROUND(G143*$D$7,2)","v":0}]
[null,null,"Darbuotojo vardas pavardė"]
[null,null,"Darbuotojo vardas pavardė"]
[null,null,"Darbuotojo vardas pavardė"]
[null,null,"Darbuotojo vardas pavardė"]
["5.5.10","Pareigybės pavadinimas","Darbuotojo vardas pavardė","val.",null,{"$f":"IFERROR(ROUND(AVERAGE(K148:K152),2),\"0\")","v":"0"},{"$f":"ROUND(E148*F148,2)","v":0},{"$f":"ROUND(G148*$D$7,2)","v":0}]
[null,null,"Darbuotojo vardas pavardė"]
[null,null,"Darbuotojo vardas pavardė"]
[null,null,"Darbuotojo vardas pavardė"]
[null,null,"Darbuotojo vardas pavardė"]
["5.6","Projektą vykdančio personalo komandiruočių išlaidos",null,null,null,null,{"$f":"SUM(G154,G161,G168,G175,G182,G189,G196,G203,G210,G217)","v":0},{"$f":"SUM(H154,H161,H168,H175,H182,H189,H196,H203,H210,H217)","v":0}]
["5.6.1","Komandiruotės pavadinimas, vieta, trukmė dienomis, vykstančių asmenų skaičius","Iš viso komandiruotei",null,null,null,{"$f":"SUM(G155:G160)","v":0},{"$f":"ROUND(G154*$D$7,2)","v":0}]
[null,null,"Dienpinigiai",null,null,null,{"$f":"ROUND(E155*F155,2)","v":0}]
[null,null,"Gyvenamojo ploto nuoma",null,null,null,0]
[null,null,"Kelionės išlaidos",null,null,null,0]
[null,null,"Dalyvavimo mokestis",null,null,null,0]
[null,null,"Kitos išlaidų pavadinimas",null,null,null,0]
[null,null,"Kitos išlaidų pavadinimas",null,null,null,0]
["5.6.2","Komandiruotės pavadinimas, vieta, trukmė dienomis, vykstančių asmenų skaičius","Iš viso komandiruotei",null,null,null,{"$f":"SUM(G162:G167)","v":0},{"$f":"ROUND(G161*$D$7,2)","v":0}]
[null,null,"Dienpinigiai",null,null,null,{"$f":"ROUND(E162*F162,2)","v":0}]
[null,null,"Gyvenamojo ploto nuoma",null,null,null,0]
[null,null,"Kelionės išlaidos",null,null,null,0]
[null,null,"Dalyvavimo mokestis",null,null,null,0]
[null,null,"Kitos išlaidų pavadinimas",null,null,null,0]
[null,null,"Kitos išlaidų pavadinimas",null,null,null,0]
["5.6.3","Komandiruotės pavadinimas, vieta, trukmė dienomis, vykstančių asmenų skaičius","Iš viso komandiruotei",null,null,null,{"$f":"SUM(G169:G174)","v":0},{"$f":"ROUND(G168*$D$7,2)","v":0}]
[null,null,"Dienpinigiai",null,null,null,{"$f":"ROUND(E169*F169,2)","v":0}]
[null,null,"Gyvenamojo ploto nuoma",null,null,null,0]
[null,null,"Kelionės išlaidos",null,null,null,0]
[null,null,"Dalyvavimo mokestis",null,null,null,0]
[null,null,"Kitos išlaidų pavadinimas",null,null,null,0]
[null,null,"Kitos išlaidų pavadinimas",null,null,null,0]
["5.6.4","Komandiruotės pavadinimas, vieta, trukmė dienomis, vykstančių asmenų skaičius","Iš viso komandiruotei",null,null,null,{"$f":"SUM(G176:G181)","v":0},{"$f":"ROUND(G175*$D$7,2)","v":0}]
[null,null,"Dienpinigiai",null,null,null,{"$f":"ROUND(E176*F176,2)","v":0}]
[null,null,"Gyvenamojo ploto nuoma",null,null,null,0]
[null,null,"Kelionės išlaidos",null,null,null,0]
[null,null,"Dalyvavimo mokestis",null,null,null,0]
[null,null,"Kitos išlaidų pavadinimas",null,null,null,0]
[null,null,"Kitos išlaidų pavadinimas",null,null,null,0]
["5.6.5","Komandiruotės pavadinimas, vieta, trukmė dienomis, vykstančių asmenų skaičius","Iš viso komandiruotei",null,null,null,{"$f":"SUM(G183:G188)","v":0},{"$f":"ROUND(G182*$D$7,2)","v":0}]
[null,null,"Dienpinigiai",null,null,null,{"$f":"ROUND(E183*F183,2)","v":0}]
[null,null,"Gyvenamojo ploto nuoma",null,null,null,0]
[null,null,"Kelionės išlaidos",null,null,null,0]
[null,null,"Dalyvavimo mokestis",null,null,null,0]
[null,null,"Kitos išlaidų pavadinimas",null,null,null,0]
[null,null,"Kitos išlaidų pavadinimas",null,null,null,0]
["5.6.6","Komandiruotės pavadinimas, vieta, trukmė dienomis, vykstančių asmenų skaičius","Iš viso komandiruotei",null,null,null,{"$f":"SUM(G190:G195)","v":0},{"$f":"ROUND(G189*$D$7,2)","v":0}]
[null,null,"Dienpinigiai",null,null,null,{"$f":"ROUND(E190*F190,2)","v":0}]
[null,null,"Gyvenamojo ploto nuoma",null,null,null,0]
[null,null,"Kelionės išlaidos",null,null,null,0]
[null,null,"Dalyvavimo mokestis",null,null,null,0]
[null,null,"Kitos išlaidų pavadinimas",null,null,null,0]
[null,null,"Kitos išlaidų pavadinimas",null,null,null,0]
["5.6.7","Komandiruotės pavadinimas, vieta, trukmė dienomis, vykstančių asmenų skaičius","Iš viso komandiruotei",null,null,null,{"$f":"SUM(G197:G202)","v":0},{"$f":"ROUND(G196*$D$7,2)","v":0}]
[null,null,"Dienpinigiai",null,null,null,{"$f":"ROUND(E197*F197,2)","v":0}]
[null,null,"Gyvenamojo ploto nuoma",null,null,null,0]
[null,null,"Kelionės išlaidos",null,null,null,0]
[null,null,"Dalyvavimo mokestis",null,null,null,0]
[null,null,"Kitos išlaidų pavadinimas",null,null,null,0]
[null,null,"Kitos išlaidų pavadinimas",null,null,null,0]
["5.6.8","Komandiruotės pavadinimas, vieta, trukmė dienomis, vykstančių asmenų skaičius","Iš viso komandiruotei",null,null,null,{"$f":"SUM(G204:G209)","v":0},{"$f":"ROUND(G203*$D$7,2)","v":0}]
[null,null,"Dienpinigiai",null,null,null,{"$f":"ROUND(E204*F204,2)","v":0}]
[null,null,"Gyvenamojo ploto nuoma",null,null,null,0]
[null,null,"Kelionės išlaidos",null,null,null,0]
[null,null,"Dalyvavimo mokestis",null,null,null,0]
[null,null,"Kitos išlaidų pavadinimas",null,null,null,0]
[null,null,"Kitos išlaidų pavadinimas",null,null,null,0]
["5.6.9","Komandiruotės pavadinimas, vieta, trukmė dienomis, vykstančių asmenų skaičius","Iš viso komandiruotei",null,null,null,{"$f":"SUM(G211:G216)","v":0},{"$f":"ROUND(G210*$D$7,2)","v":0}]
[null,null,"Dienpinigiai",null,null,null,{"$f":"ROUND(E211*F211,2)","v":0}]
[null,null,"Gyvenamojo ploto nuoma",null,null,null,0]
[null,null,"Kelionės išlaidos",null,null,null,0]
[null,null,"Dalyvavimo mokestis",null,null,null,0]
[null,null,"Kitos išlaidų pavadinimas",null,null,null,0]
[null,null,"Kitos išlaidų pavadinimas",null,null,null,0]
["5.6.10","Komandiruotės pavadinimas, vieta, trukmė dienomis, vykstančių asmenų skaičius","Iš viso komandiruotei",null,null,null,{"$f":"SUM(G218:G223)","v":0},{"$f":"ROUND(G217*$D$7,2)","v":0}]
[null,null,"Dienpinigiai",null,null,null,{"$f":"ROUND(E218*F218,2)","v":0}]
[null,null,"Gyvenamojo ploto nuoma",null,null,null,0]
[null,null,"Kelionės išlaidos",null,null,null,0]
[null,null,"Dalyvavimo mokestis",null,null,null,0]
[null,null,"Kitos išlaidų pavadinimas",null,null,null,0]
[null,null,"Kitos išlaidų pavadinimas",null,null,null,0]
["5.7","Įrangos nuomos išlaidos, veiklai priskirtos pro rata principu. Įranga turi būti tiesiogiai susijusi su projekto įgyvendinimu ir negali būti įsigyta iš ES struktūrinių fondų ar kt. ES finansinių priemonių lėšų",null,null,null,null,{"$f":"SUM(G225:G241)","v":0},{"$f":"SUM(H225:H241)","v":0},null,null,"Faktinės 1 mėnesio išlaidos, Eur","Naudojimo projekte trukmė, mėn."]
["5.7.1","Įrangos pavadinimas",null,"pro rata proc.",null,{"$f":"K225*L225","v":0},{"$f":"ROUND(E225*F225,2)","v":0},{"$f":"ROUND(G225*$D$7,2)","v":0}]
["5.7.2","Įrangos pavadinimas",null,"pro rata proc.",null,{"$f":"K226*L226","v":0},0,{"$f":"ROUND(G226*$D$7,2)","v":0}]
["5.7.3","Įrangos pavadinimas",null,"pro rata proc.",null,0,0,0]
["5.7.4","Įrangos pavadinimas",null,"pro rata proc.",null,0,0,0]
["5.7.5","Įrangos pavadinimas",null,"pro rata proc.",null,0,0,0]
["5.7.6","Įrangos pavadinimas",null,"pro rata proc.",null,0,0,0]
["5.7.7","Įrangos pavadinimas",null,"pro rata proc.",null,0,0,0]
["5.7.8","Įrangos pavadinimas",null,"pro rata proc.",null,0,0,0]
["5.7.9","Įrangos pavadinimas",null,"pro rata proc.",null,0,0,0]
["5.7.10","Įrangos pavadinimas",null,"pro rata proc.",null,0,0,0]
["5.7.11","Įrangos pavadinimas",null,"pro rata proc.",null,0,0,0]
["5.7.12","Įrangos pavadinimas",null,"pro rata proc.",null,0,0,0]
["5.7.13","Įrangos pavadinimas",null,"pro rata proc.",null,0,0,0]
["5.7.14","Įrangos pavadinimas",null,"pro rata proc.",null,{"$f":"K238*L238","v":0},0,{"$f":"ROUND(G238*$D$7,2)","v":0}]
["5.7.15","Įrangos pavadinimas",null,"pro rata proc.",null,{"$f":"K239*L239","v":0},0,{"$f":"ROUND(G239*$D$7,2)","v":0}]
["5.7.16","Įrangos pavadinimas",null,"pro rata proc.",null,{"$f":"K240*L240","v":0},0,{"$f":"ROUND(G240*$D$7,2)","v":0}]
["5.7.17","Įrangos pavadinimas",null,"pro rata proc.",null,{"$f":"K241*L241","v":0},0,{"$f":"ROUND(G241*$D$7,2)","v":0}]
["5.8","Pastatų ar patalpų nuomos išlaidos, veiklai priskirtos pro rata principu. Pastatai ar patalpos turi būti tiesiogiai susijusi su projekto įgyvendinimu.",null,null,null,null,{"$f":"SUM(G243:G247)","v":0},{"$f":"SUM(H243:H247)","v":0},null,null,"Faktinės 1 mėnesio išlaidos, Eur","Naudojimo projekte trukmė, mėn."]
["5.8.1","Pastato, patalpų adresas",null,"pro rata proc.",null,{"$f":"K243*L243","v":0},{"$f":"ROUND(E243*F243,2)","v":0},{"$f":"ROUND(G243*$D$7,2)","v":0}]
["5.8.2","Pastato, patalpų adresas",null,"pro rata proc.",null,{"$f":"K244*L244","v":0},{"$f":"ROUND(E244*F244,2)","v":0},{"$f":"ROUND(G244*$D$7,2)","v":0}]
["5.8.3","Pastato, patalpų adresas",null,"pro rata proc.",null,{"$f":"K245*L245","v":0},{"$f":"ROUND(E245*F245,2)","v":0},{"$f":"ROUND(G245*$D$7,2)","v":0}]
["5.8.4","Pastato, patalpų adresas",null,"pro rata proc.",null,{"$f":"K246*L246","v":0},{"$f":"ROUND(E246*F246,2)","v":0},{"$f":"ROUND(G246*$D$7,2)","v":0}]
["5.8.5","Pastato, patalpų adresas",null,"pro rata proc.",null,{"$f":"K247*L247","v":0},{"$f":"ROUND(E247*F247,2)","v":0},{"$f":"ROUND(G247*$D$7,2)","v":0}]
["Iš viso tinkamų finansuoti išlaidų:",null,null,null,null,null,{"$f":"G10+G21","v":0},{"$f":"H10+H21","v":0}]

{"sheet":"8","index":20,"n_rows":319,"n_cols":39,"rows_kept":319,"cut":false,"hidden":false,"merged":[[315,1,315,2],[316,1,316,2],[317,1,317,2],[318,0,318,5],[306,1,306,2],[307,1,307,2],[308,1,308,2],[309,1,309,2],[310,1,310,2],[311,1,311,2],[312,1,312,5],[313,1,313,2],[314,1,314,2],[297,1,297,2],[298,1,298,2],[299,1,299,2],[300,1,300,2],[301,1,301,2],[302,1,302,2],[303,1,303,2],[304,1,304,2],[305,1,305,2],[224,0,230,0],[224,1,230,1],[224,8,230,8],[231,0,237,0],[231,1,237,1],[231,8,237,8],[238,0,244,0],[238,1,244,1],[238,8,244,8],[218,0,222,0],[218,1,222,1],[218,3,222,3],[218,4,222,4],[218,5,222,5],[218,6,222,6],[218,7,222,7],[218,8,222,8],[223,1,223,5],[208,0,212,0],[208,1,212,1],[208,3,212,3],[208,4,212,4],[208,5,212,5],[208,6,212,6],[208,7,212,7],[208,8,212,8],[213,0,217,0],[213,1,217,1],[213,3,217,3],[213,4,217,4],[213,5,217,5],[213,6,217,6],[213,7,217,7],[213,8,217,8],[203,0,207,0],[203,1,207,1],[203,3,207,3],[203,4,207,4],[203,5,207,5],[203,6,207,6],[203,7,207,7],[203,8,207,8],[198,0,202,0],[198,1,202,1],[198,3,202,3],[198,4,202,4],[198,5,202,5],[188,0,192,0],[188,1,192,1],[188,3,192,3],[188,4,192,4],[188,5,192,5],[188,6,192,6],[188,7,192,7],[188,8,192,8],[198,6,202,6],[198,7,202,7],[198,8,202,8],[193,0,197,0],[193,1,197,1],[193,3,197,3],[193,4,197,4],[193,5,197,5],[193,6,197,6],[193,7,197,7],[193,8,197,8],[168,0,172,0],[168,1,172,1],[168,3,172,3],[168,4,172,4],[168,5,172,5],[168,6,172,6],[168,7,172,7],[168,8,172,8],[173,0,177,0],[173,1,177,1],[173,3,177,3],[173,4,177,4],[173,5,177,5],[173,6,177,6],[173,7,177,7],[173,8,177,8],[158,8,162,8],[163,0,167,0],[163,1,167,1],[163,3,167,3],[163,4,167,4],[163,5,167,5],[163,6,167,6],[163,7,167,7],[163,8,167,8],[158,6,162,6],[158,7,162,7],[142,1,142,2],[143,1,143,2],[144,1,144,2],[145,1,145,2],[146,1,146,2],[147,1,147,2],[148,1,148,2],[149,1,149,2],[150,1,150,2],[295,1,295,2],[294,1,294,5],[296,1,296,2],[266,1,272,1],[245,0,251,0],[245,1,251,1],[245,8,251,8],[252,0,258,0],[252,1,258,1],[252,8,258,8],[259,0,265,0],[259,1,265,1],[259,8,265,8],[266,0,272,0],[266,8,272,8],[273,0,279,0],[273,1,279,1],[273,8,279,8],[280,0,286,0],[280,1,286,1],[280,8,286,8],[287,0,293,0],[287,1,293,1],[287,8,293,8],[178,0,182,0],[178,1,182,1],[178,3,182,3],[178,4,182,4],[178,5,182,5],[178,6,182,6],[178,7,182,7],[178,8,182,8],[183,0,187,0],[183,1,187,1],[183,3,187,3],[183,4,187,4],[183,5,187,5],[183,6,187,6],[183,7,187,7],[183,8,187,8],[5,3,5,8],[8,1,8,2],[9,1,9,5],[11,1,11,2],[12,1,12,2],[0,3,0,8],[2,0,2,2],[2,3,2,8],[3,3,3,4],[3,5,3,6],[4,0,4,2],[4,3,4,8],[10,1,10,5],[19,1,19,2],[21,1,21,5],[22,1,22,2],[23,1,23,2],[24,1,24,2],[13,1,13,2],[14,1,14,2],[15,1,15,2],[16,1,16,2],[17,1,17,2],[18,1,18,2],[20,1,20,2],[31,1,31,2],[32,1,32,5],[33,1,33,2],[34,1,34,2],[35,1,35,2],[36,1,36,2],[25,1,25,2],[26,1,26,2],[27,1,27,2],[28,1,28,2],[29,1,29,2],[30,1,30,2],[43,1,43,5],[45,1,45,2],[46,1,46,2],[47,1,47,2],[48,1,48,2],[37,1,37,2],[38,1,38,2],[39,1,39,2],[40,1,40,2],[41,1,41,2],[42,1,42,2],[44,1,44,5],[56,1,56,2],[57,1,57,2],[58,1,58,2],[59,1,59,2],[60,1,60,2],[49,1,49,2],[50,1,50,2],[51,1,51,2],[52,1,52,2],[53,1,53,2],[54,1,54,2],[55,1,55,5],[67,1,67,2],[68,1,68,2],[69,1,69,2],[70,1,70,2],[72,1,72,2],[61,1,61,2],[62,1,62,2],[63,1,63,2],[64,1,64,2],[65,1,65,2],[66,1,66,5],[71,1,71,2],[79,1,79,2],[80,1,80,2],[81,1,81,2],[82,1,82,2],[83,1,83,2],[84,1,84,2],[73,1,73,2],[74,1,74,2],[75,1,75,2],[76,1,76,2],[78,1,78,2],[77,1,77,5],[91,1,91,2],[92,1,92,2],[93,1,93,2],[94,1,94,2],[95,1,95,2],[96,1,96,2],[85,1,85,2],[86,1,86,2],[87,1,87,2],[89,1,89,2],[90,1,90,2],[88,1,88,5],[97,1,97,2],[98,1,98,2],[100,1,100,2],[101,1,101,2],[102,1,102,2],[103,1,103,2],[104,1,104,2],[99,1,99,5],[105,1,105,2],[106,1,106,2],[107,1,107,2],[108,1,108,2],[109,1,109,2],[110,1,110,2],[111,1,111,2],[112,1,112,2],[113,1,113,2],[114,1,114,2],[115,1,115,2],[116,1,116,2],[117,1,117,2],[118,1,118,2],[119,1,119,2],[120,1,120,2],[121,1,121,2],[122,1,122,2],[123,1,123,2],[124,1,124,2],[125,1,125,2],[126,1,126,2],[128,1,128,2],[129,1,129,2],[130,1,130,2],[131,1,131,2],[132,1,132,2],[127,1,127,5],[133,1,133,2],[134,1,134,2],[135,1,135,2],[136,1,136,2],[137,1,137,2],[138,1,138,2],[139,1,139,2],[140,1,140,2],[141,1,141,2],[151,1,151,2],[152,1,152,2],[153,1,153,2],[154,1,154,2],[155,1,155,2],[156,1,156,2],[157,1,157,5],[158,0,162,0],[158,1,162,1],[158,3,162,3],[158,4,162,4],[158,5,162,5]]}
[null,null,"Pasirinkite veiklos tipą:"]
[null,null,"Fizinio rodiklio Nr.:"]
["Fizinio rodiklio pavadinimas:"]
[null,null,"Fizinio rodiklio matavimo vnt.:",null,null,"Fizinio rodiklio vnt. skaičius:"]
["Juridinis asmuo (pareiškėjas, partneris), atsakingas už fizinį rodiklį:"]
[null,null,"Vykdytojo tipas:"]
[null,null,"Finansavimo intensyvumas:",null,null,null,"Pasirinkite biudžeto išlaidų kategoriją:","Visos"]
[]
["Eil. Nr.","Išlaidų kategorijos pavadinimas",null,"Matavimo vnt.","Kiekis","Vieneto kaina be PVM, Eur","Tinkamų finansuoti išlaidų suma be PVM, Eur","Finansavimo suma, Eur","Išlaidų pagrindimo dokumentų pavadinimas, data ir Nr.",null,null,null,null,null,null,null,null,"Apmokėta","Likutis","MP001","MP002","MP003","MP004","MP005","MP006","MP007","MP008","MP009","MP010","MP011","MP012","MP013","MP014","MP015","MP016","MP017","MP018","MP019","MP020"]
[4,"ĮRANGA, ĮRENGINIAI IR KT. TURTAS (tinkamos finansuoti išlaidos, susijusios su COVID-19, yra išlaidos, tiesiogiai susijusios su projekto įgyvendinimu, ir paskirstytos proporcingai veiklai (pro rata principu)",null,null,null,null,{"$f":"SUM(G11+G22+G33)","v":0},{"$f":"SUM(H11+H22+H33)","v":0},null,null,null,null,null,null,null,null,null,{"$f":"SUM(T10:AM10)","v":0},{"$f":"H10-R10","v":0}]
["4.1","Skaitmeninė ir kompiuterinė įranga",null,null,null,null,{"$f":"SUM(G12:G21)","v":0},{"$f":"SUM(H12:H21)","v":0},null,"Infrastruktūros naudojimo laiko dalis, skirta išimtinai MTEP, proc.",null,null,null,null,null,null,null,0,0]
["4.1.1","Išlaidų pavadinimas",null,null,null,null,{"$f":"ROUND(E12*F12,2)","v":0},{"$f":"ROUND(G12*$D$7*J12,2)","v":0},null,1,null,null,null,null,null,null,null,{"$f":"SUM(T12:AM12)","v":0},{"$f":"H12-R12","v":0}]
["4.1.2","Išlaidų pavadinimas",null,null,null,null,{"$f":"ROUND(E13*F13,2)","v":0},{"$f":"ROUND(G13*$D$7*J13,2)","v":0},null,1,null,null,null,null,null,null,null,{"$f":"SUM(T13:AM13)","v":0},{"$f":"H13-R13","v":0}]
["4.1.3","Išlaidų pavadinimas",null,null,null,null,{"$f":"ROUND(E14*F14,2)","v":0},0,null,1,null,null,null,null,null,null,null,0,0]
["4.1.4","Išlaidų pavadinimas",null,null,null,null,0,0,null,1,null,null,null,null,null,null,null,0,0]
["4.1.5","Išlaidų pavadinimas",null,null,null,null,0,0,null,1,null,null,null,null,null,null,null,0,0]
["4.1.6","Išlaidų pavadinimas",null,null,null,null,0,0,null,1,null,null,null,null,null,null,null,0,0]
["4.1.7","Išlaidų pavadinimas",null,null,null,null,0,0,null,1,null,null,null,null,null,null,null,0,0]
["4.1.8","Išlaidų pavadinimas",null,null,null,null,0,0,null,1,null,null,null,null,null,null,null,0,0]
["4.1.9","Išlaidų pavadinimas",null,null,null,null,0,0,null,1,null,null,null,null,null,null,null,0,0]
["4.1.10","Išlaidų pavadinimas",null,null,null,null,0,0,null,1,null,null,null,null,null,null,null,0,0]
["4.2","Diagnostikos priemonės, duomenų rinkimo ir tvarkymo priemonės",null,null,null,null,{"$f":"SUM(G23:G32)","v":0},{"$f":"SUM(H23:H32)","v":0},null,null,null,null,null,null,null,null,null,0,0]
["4.2.1","Išlaidų pavadinimas",null,null,null,null,{"$f":"ROUND(E23*F23,2)","v":0},{"$f":"ROUND(G23*$D$7*J23,2)","v":0},null,1,null,null,null,null,null,null,null,{"$f":"SUM(T23:AM23)","v":0},{"$f":"H23-R23","v":0}]
["4.2.2","Išlaidų pavadinimas",null,null,null,null,{"$f":"ROUND(E24*F24,2)","v":0},{"$f":"ROUND(G24*$D$7*J24,2)","v":0},null,1,null,null,null,null,null,null,null,{"$f":"SUM(T24:AM24)","v":0},{"$f":"H24-R24","v":0}]
["4.2.3","Išlaidų pavadinimas",null,null,null,null,{"$f":"ROUND(E25*F25,2)","v":0},0,null,1,null,null,null,null,null,null,null,0,0]
["4.2.4","Išlaidų pavadinimas",null,null,null,null,0,0,null,1,null,null,null,null,null,null,null,0,0]
["4.2.5","Išlaidų pavadinimas",null,null,null,null,0,0,null,1,null,null,null,null,null,null,null,0,0]
["4.2.6","Išlaidų pavadinimas",null,null,null,null,0,0,null,1,null,null,null,null,null,null,null,0,0]
["4.2.7","Išlaidų pavadinimas",null,null,null,null,0,0,null,1,null,null,null,null,null,null,null,0,0]
["4.2.8","Išlaidų pavadinimas",null,null,null,null,0,0,null,1,null,null,null,null,null,null,null,0,0]
["4.2.9","Išlaidų pavadinimas",null,null,null,null,0,0,null,1,null,null,null,null,null,null,null,0,0]
["4.2.10","Išlaidų pavadinimas",null,null,null,null,0,0,null,1,null,null,null,null,null,null,null,0,0]
["4.3","Patentų ir kito nematerialiojo turto įsigijimui, patvirtinimui ir apsaugai priskiriamos išlaidos",null,null,null,null,{"$f":"SUM(G34:G43)","v":0},{"$f":"SUM(H34:H43)","v":0},null,null,null,null,null,null,null,null,null,0,0]
["4.3.1","Išlaidų pavadinimas",null,null,null,null,{"$f":"ROUND(E34*F34,2)","v":0},{"$f":"ROUND(G34*$D$7*J34,2)","v":0},null,1,null,null,null,null,null,null,null,{"$f":"SUM(T34:AM34)","v":0},{"$f":"H34-R34","v":0}]
["4.3.2","Išlaidų pavadinimas",null,null,null,null,{"$f":"ROUND(E35*F35,2)","v":0},{"$f":"ROUND(G35*$D$7*J35,2)","v":0},null,1,null,null,null,null,null,null,null,{"$f":"SUM(T35:AM35)","v":0},{"$f":"H35-R35","v":0}]
["4.3.3","Išlaidų pavadinimas",null,null,null,null,{"$f":"ROUND(E36*F36,2)","v":0},0,null,1,null,null,null,null,null,null,null,0,0]
["4.3.4","Išlaidų pavadinimas",null,null,null,null,0,0,null,1,null,null,null,null,null,null,null,0,0]
["4.3.5","Išlaidų pavadinimas",null,null,null,null,0,0,null,1,null,null,null,null,null,null,null,0,0]
["4.3.6","Išlaidų pavadinimas",null,null,null,null,0,0,null,1,null,null,null,null,null,null,null,0,0]
["4.3.7","Išlaidų pavadinimas",null,null,null,null,0,0,null,1,null,null,null,null,null,null,null,0,0]
["4.3.8","Išlaidų pavadinimas",null,null,null,null,0,0,null,1,null,null,null,null,null,null,null,0,0]
["4.3.9","Išlaidų pavadinimas",null,null,null,null,0,0,null,1,null,null,null,null,null,null,null,0,0]
["4.3.10","Išlaidų pavadinimas",null,null,null,null,0,0,null,1,null,null,null,null,null,null,null,0,0]
[5,"PROJEKTO VYKDYMAS",null,null,null,null,{"$f":"G45+G56+G100+G128+G158+G224+G295+G313+G78+G67+G89","v":0},{"$f":"H45+H56+H100+H128+H158+H224+H295+H313+H78+H67+H89","v":0},null,null,null,null,null,null,null,null,null,0,0]
["5.1","MTEP paslaugos",null,null,null,null,{"$f":"SUM(G46:G55)","v":0},{"$f":"SUM(H46:H55)","v":0},null,null,null,null,null,null,null,null,null,0,0]
["5.1.1","Paslaugos pavadinimas",null,null,null,null,{"$f":"ROUND(E46*F46,2)","v":0},{"$f":"ROUND(G46*$D$7,2)","v":0},null,null,null,null,null,null,null,null,null,{"$f":"SUM(T46:AM46)","v":0},{"$f":"H46-R46","v":0}]
["5.1.2","Paslaugos pavadinimas",null,null,null,null,0,0,null,null,null,null,null,null,null,null,null,{"$f":"SUM(T47:AM47)","v":0},{"$f":"H47-R47","v":0}]
["5.1.3","Paslaugos pavadinimas",null,null,null,null,0,0,null,null,null,null,null,null,null,null,null,0,0]
["5.1.4","Paslaugos pavadinimas",null,null,null,null,0,0,null,null,null,null,null,null,null,null,null,0,0]
["5.1.5","Paslaugos pavadinimas",null,null,null,null,0,0,null,null,null,null,null,null,null,null,null,0,0]
["5.1.6","Paslaugos pavadinimas",null,null,null,null,0,0,null,null,null,null,null,null,null,null,null,0,0]
["5.1.7","Paslaugos pavadinimas",null,null,null,null,0,0,null,null,null,null,null,null,null,null,null,0,0]
["5.1.8","Paslaugos pavadinimas",null,null,null,null,0,0,null,null,null,null,null,null,null,null,null,0,0]
["5.1.9","Paslaugos pavadinimas",null,null,null,null,0,0,null,null,null,null,null,null,null,null,null,0,0]
["5.1.10","Paslaugos pavadinimas",null,null,null,null,0,0,null,null,null,null,null,null,null,null,null,0,0]
["5.2","Konsultavimo ir lygiavertės paslaugos, teikiamos vien tik projekto MTEP veiklai.",null,null,null,null,{"$f":"SUM(G57:G66)","v":0},{"$f":"SUM(H57:H66)","v":0},null,null,null,null,null,null,null,null,null,0,0]
["5.2.1","Paslaugos pavadinimas",null,null,null,null,{"$f":"ROUND(E57*F57,2)","v":0},0,null,null,null,null,null,null,null,null,null,{"$f":"SUM(T57:AM57)","v":0},{"$f":"H57-R57","v":0}]
["5.2.2","Paslaugos pavadinimas",null,null,null,null,0,0,null,null,null,null,null,null,null,null,null,{"$f":"SUM(T58:AM58)","v":0},{"$f":"H58-R58","v":0}]
["5.2.3","Paslaugos pavadinimas",null,null,null,null,0,0,null,null,null,null,null,null,null,null,null,0,0]
["5.2.4","Paslaugos pavadinimas",null,null,null,null,0,0,null,null,null,null,null,null,null,null,null,0,0]
["5.2.5","Paslaugos pavadinimas",null,null,null,null,0,0,null,null,null,null,null,null,null,null,null,0,0]
["5.2.6","Paslaugos pavadinimas",null,null,null,null,0,0,null,null,null,null,null,null,null,null,null,0,0]
["5.2.7","Paslaugos pavadinimas",null,null,null,null,0,0,null,null,null,null,null,null,null,null,null,0,0]
["5.2.8","Paslaugos pavadinimas",null,null,null,null,0,0,null,null,null,null,null,null,null,null,null,0,0]
["5.2.9","Paslaugos pavadinimas",null,null,null,null,0,0,null,null,null,null,null,null,null,null,null,0,0]
["5.2.10","Paslaugos pavadinimas",null,null,null,null,0,0,null,null,null,null,null,null,null,null,null,0,0]
["5.3","Ikiklinikinių ir klinikinių tyrimų (I–IV tyrimų etapais) paslaugos (IV etapo tyrimų išlaidos yra tinkamos finansuoti, jei šiais tyrimais sudaromos sąlygos tolesnei mokslinei ar technologinei pažangai)",null,null,null,null,{"$f":"SUM(G68:G77)","v":0},{"$f":"SUM(H68:H77)","v":0},null,null,null,null,null,null,null,null,null,0,0]
["5.3.1","Paslaugos pavadinimas",null,null,null,null,{"$f":"ROUND(E68*F68,2)","v":0},{"$f":"ROUND(G68*$D$7,2)","v":0},null,null,null,null,null,null,null,null,null,{"$f":"SUM(T68:AM68)","v":0},{"$f":"H68-R68","v":0}]
["5.3.2","Paslaugos pavadinimas",null,null,null,null,0,0,null,null,null,null,null,null,null,null,null,{"$f":"SUM(T69:AM69)","v":0},{"$f":"H69-R69","v":0}]
["5.3.3","Paslaugos pavadinimas",null,null,null,null,0,0,null,null,null,null,null,null,null,null,null,0,0]
["5.3.4","Paslaugos pavadinimas",null,null,null,null,0,0,null,null,null,null,null,null,null,null,null,0,0]
["5.3.5","Paslaugos pavadinimas",null,null,null,null,0,0,null,null,null,null,null,null,null,null,null,0,0]
["5.3.6","Paslaugos pavadinimas",null,null,null,null,0,0,null,null,null,null,null,null,null,null,null,0,0]
["5.3.7","Paslaugos pavadinimas",null,null,null,null,0,0,null,null,null,null,null,null,null,null,null,0,0]
["5.3.8","Paslaugos pavadinimas",null,null,null,null,0,0,null,null,null,null,null,null,null,null,null,0,0]
["5.3.9","Paslaugos pavadinimas",null,null,null,null,0,0,null,null,null,null,null,null,null,null,null,0,0]
["5.3.10","Paslaugos pavadinimas",null,null,null,null,0,0,null,null,null,null,null,null,null,null,null,0,0]
["5.4","Naujiems produktams ir technologijoms sertifikuoti būtinos išlaidos",null,null,null,null,{"$f":"SUM(G79:G88)","v":0},{"$f":"SUM(H79:H88)","v":0},null,null,null,null,null,null,null,null,null,0,0]
["5.4.1","Išlaidų pavadinimas",null,null,null,null,{"$f":"ROUND(E79*F79,2)","v":0},{"$f":"ROUND(G79*$D$7,2)","v":0},null,null,null,null,null,null,null,null,null,{"$f":"SUM(T79:AM79)","v":0},{"$f":"H79-R79","v":0}]
["5.4.2","Išlaidų pavadinimas",null,null,null,null,0,0,null,null,null,null,null,null,null,null,null,{"$f":"SUM(T80:AM80)","v":0},{"$f":"H80-R80","v":0}]
["5.4.3","Išlaidų pavadinimas",null,null,null,null,0,0,null,null,null,null,null,null,null,null,null,0,0]
["5.4.4","Išlaidų pavadinimas",null,null,null,null,0,0,null,null,null,null,null,null,null,null,null,0,0]
["5.4.5","Išlaidų pavadinimas",null,null,null,null,0,0,null,null,null,null,null,null,null,null,null,0,0]
["5.4.6","Išlaidų pavadinimas",null,null,null,null,0,0,null,null,null,null,null,null,null,null,null,0,0]
["5.4.7","Išlaidų pavadinimas",null,null,null,null,0,0,null,null,null,null,null,null,null,null,null,0,0]
["5.4.8","Išlaidų pavadinimas",null,null,null,null,0,0,null,null,null,null,null,null,null,null,null,0,0]
["5.4.9","Išlaidų pavadinimas",null,null,null,null,0,0,null,null,null,null,null,null,null,null,null,0,0]
["5.4.10","Išlaidų pavadinimas",null,null,null,null,0,0,null,null,null,null,null,null,null,null,null,0,0]
["5.5","Paslaugų išlaidos, patirtos siekiant gauti atitikties vertinimus ir (arba) leidimus, būtinus prekybai naujomis ir patobulintomis vakcinomis ir vaistiniais preparatais, medicinos priemonėmis, ligoninių ir medicinos reikmenimis, dezinfekavimo priemonėmis ir asmeninėmis apsaugos priemonėmis",null,null,null,null,{"$f":"SUM(G90:G99)","v":0},{"$f":"SUM(H90:H99)","v":0},null,null,null,null,null,null,null,null,null,0,0]
["5.5.1","Paslaugos pavadinimas",null,null,null,null,{"$f":"ROUND(E90*F90,2)","v":0},{"$f":"ROUND(G90*$D$7,2)","v":0},null,null,null,null,null,null,null,null,null,{"$f":"SUM(T90:AM90)","v":0},{"$f":"H90-R90","v":0}]
["5.5.2","Paslaugos pavadinimas",null,null,null,null,0,0,null,null,null,null,null,null,null,null,null,{"$f":"SUM(T91:AM91)","v":0},{"$f":"H91-R91","v":0}]
["5.5.3","Paslaugos pavadinimas",null,null,null,null,0,0,null,null,null,null,null,null,null,null,null,0,0]
["5.5.4","Paslaugos pavadinimas",null,null,null,null,0,0,null,null,null,null,null,null,null,null,null,0,0]
["5.5.5","Paslaugos pavadinimas",null,null,null,null,0,0,null,null,null,null,null,null,null,null,null,0,0]
["5.5.6","Paslaugos pavadinimas",null,null,null,null,0,0,null,null,null,null,null,null,null,null,null,0,0]
["5.5.7","Paslaugos pavadinimas",null,null,null,null,0,0,null,null,null,null,null,null,null,null,null,0,0]
["5.5.8","Paslaugos pavadinimas",null,null,null,null,0,0,null,null,null,null,null,null,null,null,null,0,0]
["5.5.9","Paslaugos pavadinimas",null,null,null,null,0,0,null,null,null,null,null,null,null,null,null,0,0]
["5.5.10","Paslaugos pavadinimas",null,null,null,null,0,0,null,null,null,null,null,null,null,null,null,0,0]
["5.6","Medžiagos, mažavertis inventorius, atsargos ir pan. produktai, priskirtini trumpalaikiam turtui ir tiesiogiai susiję su MTEP veikla",null,null,null,null,{"$f":"SUM(G101:G127)","v":0},{"$f":"SUM(H101:H127)","v":0},null,null,null,null,null,null,null,null,null,0,0]
["5.6.1","Išlaidų pavadinimas",null,null,null,null,{"$f":"ROUND(E101*F101,2)","v":0},{"$f":"ROUND(G101*$D$7,2)","v":0},null,null,null,null,null,null,null,null,null,{"$f":"SUM(T101:AM101)","v":0},{"$f":"H101-R101","v":0}]
["5.6.2","Išlaidų pavadinimas",null,null,null,null,{"$f":"ROUND(E102*F102,2)","v":0},{"$f":"ROUND(G102*$D$7,2)","v":0},null,null,null,null,null,null,null,null,null,{"$f":"SUM(T102:AM102)","v":0},{"$f":"H102-R102","v":0}]
["5.6.3","Išlaidų pavadinimas",null,null,null,null,{"$f":"ROUND(E103*F103,2)","v":0},{"$f":"ROUND(G103*$D$7,2)","v":0},null,null,null,null,null,null,null,null,null,0,0]
["5.6.4","Išlaidų pavadinimas",null,null,null,null,{"$f":"ROUND(E104*F104,2)","v":0},{"$f":"ROUND(G104*$D$7,2)","v":0},null,null,null,null,null,null,null,null,null,0,0]
["5.6.5","Išlaidų pavadinimas",null,null,null,null,{"$f":"ROUND(E105*F105,2)","v":0},{"$f":"ROUND(G105*$D$7,2)","v":0},null,null,null,null,null,null,null,null,null,0,0]
["5.6.6","Išlaidų pavadinimas",null,null,null,null,0,0,null,null,null,null,null,null,null,null,null,{"$f":"SUM(T106:AM106)","v":0},{"$f":"H106-R106","v":0}]
["5.6.7","Išlaidų pavadinimas",null,null,null,null,0,0,null,null,null,null,null,null,null,null,null,{"$f":"SUM(T107:AM107)","v":0},{"$f":"H107-R107","v":0}]
["5.6.8","Išlaidų pavadinimas",null,null,null,null,0,0,null,null,null,null,null,null,null,null,null,0,0]
["5.6.9","Išlaidų pavadinimas",null,null,null,null,0,0,null,null,null,null,null,null,null,null,null,0,0]
["5.6.10","Išlaidų pavadinimas",null,null,null,null,0,0,null,null,null,null,null,null,null,null,null,0,0]
["5.6.11","Išlaidų pavadinimas",null,null,null,null,0,0,null,null,null,null,null,null,null,null,null,0,0]
["5.6.12","Išlaidų pavadinimas",null,null,null,null,0,0,null,null,null,null,null,null,null,null,null,0,0]
["5.6.13","Išlaidų pavadinimas",null,null,null,null,0,0,null,null,null,null,null,null,null,null,null,0,0]
["5.6.14","Išlaidų pavadinimas",null,null,null,null,0,0,null,null,null,null,null,null,null,null,null,0,0]
["5.6.15","Išlaidų pavadinimas",null,null,null,null,0,0,null,null,null,null,null,null,null,null,null,{"$f":"SUM(T115:AM115)","v":0},{"$f":"H115-R115","v":0}]
["5.6.16","Išlaidų pavadinimas",null,null,null,null,0,0,null,null,null,null,null,null,null,null,null,{"$f":"SUM(T116:AM116)","v":0},{"$f":"H116-R116","v":0}]
["5.6.17","Išlaidų pavadinimas",null,null,null,null,0,0,null,null,null,null,null,null,null,null,null,{"$f":"SUM(T117:AM117)","v":0},{"$f":"H117-R117","v":0}]
["5.6.18","Išlaidų pavadinimas",null,null,null,null,0,0,null,null,null,null,null,null,null,null,null,{"$f":"SUM(T118:AM118)","v":0},{"$f":"H118-R118","v":0}]
["5.6.19","Išlaidų pavadinimas",null,null,null,null,0,0,null,null,null,null,null,null,null,null,null,{"$f":"SUM(T119:AM119)","v":0},{"$f":"H119-R119","v":0}]
["5.6.20","Išlaidų pavadinimas",null,null,null,null,0,0,null,null,null,null,null,null,null,null,null,0,0]
["5.6.21","Išlaidų pavadinimas",null,null,null,null,0,0,null,null,null,null,null,null,null,null,null,0,0]
["5.6.22","Išlaidų pavadinimas",null,null,null,null,0,0,null,null,null,null,null,null,null,null,null,0,0]
["5.6.23","Išlaidų pavadinimas",null,null,null,null,0,0,null,null,null,null,null,null,null,null,null,0,0]
["5.6.24","Išlaidų pavadinimas",null,null,null,null,0,0,null,null,null,null,null,null,null,null,null,0,0]
["5.6.25","Išlaidų pavadinimas",null,null,null,null,0,0,null,null,null,null,null,null,null,null,null,0,0]
["5.6.26","Išlaidų pavadinimas",null,null,null,null,0,0,null,null,null,null,null,null,null,null,null,0,0]
["5.6.27","Išlaidų pavadinimas",null,null,null,null,0,0,null,null,null,null,null,null,null,null,null,0,0]
["5.7","Projekto MTEP veikloms naudojamo ilgalaikio materialaus turto (įrangos, prietaisų, įrankių, įrenginių, mašinų ir įrengimų, pastatų ir (ar) patalpų), nusidėvėjimo sąnaudos, jeigu šiam turtui įsigyti nebuvo naudojamos viešosios (įskaitant ir kitų valstybių) lėšos",null,null,null,null,{"$f":"SUM(G129:G157)","v":0},{"$f":"SUM(H129:H157)","v":0},null,"Turto įvedimo į eksploataciją data","Turto įsigijimo vertė, Eur","Turto nudėvėjimo, amortizacijos laikotarpis, mėn.","Numatoma turto likutinė vertė, Eur","1 mėn. nudėvėjimo, amortizacijos suma, Eur","Turto naudojamo projekto reikmėms laikas, mėn.","Turto panaudojimo projekto reikmėms dalis (proc.)","Projektui priskirta turto nusidėvėjimo, amortizacijos suma per projekto laikotarpį, Eur",0,0]
["5.7.1","Turtas, kurio nusidėvėjimą, amortizaciją prašoma finansuoti",null,null,1,{"$f":"Q129","v":0},0,0,null,null,null,null,null,{"$f":"IFERROR(ROUND((K129-M129)/L129,2),\"0\")","v":"0"},null,null,{"$f":"N129*O129*P129","v":0},{"$f":"SUM(T129:AM129)","v":0},{"$f":"H129-R129","v":0}]
["5.7.2","Turtas, kurio nusidėvėjimą, amortizaciją prašoma finansuoti",null,null,1,0,0,0,null,null,null,null,null,{"$f":"IFERROR(ROUND((K130-M130)/L130,2),\"0\")","v":"0"},null,null,{"$f":"N130*O130*P130","v":0},{"$f":"SUM(T130:AM130)","v":0},{"$f":"H130-R130","v":0}]
["5.7.3","Turtas, kurio nusidėvėjimą, amortizaciją prašoma finansuoti",null,null,1,0,0,0,null,null,null,null,null,"0",null,null,0,0,0]
["5.7.4","Turtas, kurio nusidėvėjimą, amortizaciją prašoma finansuoti",null,null,1,0,0,0,null,null,null,null,null,"0",null,null,0,0,0]
["5.7.5","Turtas, kurio nusidėvėjimą, amortizaciją prašoma finansuoti",null,null,1,0,0,0,null,null,null,null,null,"0",null,null,0,0,0]
["5.7.6","Turtas, kurio nusidėvėjimą, amortizaciją prašoma finansuoti",null,null,1,0,0,0,null,null,null,null,null,"0",null,null,0,0,0]
["5.7.7","Turtas, kurio nusidėvėjimą, amortizaciją prašoma finansuoti",null,null,1,0,0,0,null,null,null,null,null,"0",null,null,0,0,0]
["5.7.8","Turtas, kurio nusidėvėjimą, amortizaciją prašoma finansuoti",null,null,1,0,0,0,null,null,null,null,null,"0",null,null,0,0,0]
["5.7.9","Turtas, kurio nusidėvėjimą, amortizaciją prašoma finansuoti",null,null,1,0,0,0,null,null,null,null,null,"0",null,null,0,0,0]
["5.7.10","Turtas, kurio nusidėvėjimą, amortizaciją prašoma finansuoti",null,null,1,0,0,0,null,null,null,null,null,"0",null,null,0,0,0]
["5.7.11","Turtas, kurio nusidėvėjimą, amortizaciją prašoma finansuoti",null,null,1,0,0,0,null,null,null,null,null,"0",null,null,0,{"$f":"SUM(T139:AM139)","v":0},{"$f":"H139-R139","v":0}]
["5.7.12","Turtas, kurio nusidėvėjimą, amortizaciją prašoma finansuoti",null,null,1,0,0,0,null,null,null,null,null,"0",null,null,0,{"$f":"SUM(T140:AM140)","v":0},{"$f":"H140-R140","v":0}]
["5.7.13","Turtas, kurio nusidėvėjimą, amortizaciją prašoma finansuoti",null,null,1,0,0,0,null,null,null,null,null,"0",null,null,0,0,0]
["5.7.14","Turtas, kurio nusidėvėjimą, amortizaciją prašoma finansuoti",null,null,1,0,0,0,null,null,null,null,null,"0",null,null,0,0,0]
["5.7.15","Turtas, kurio nusidėvėjimą, amortizaciją prašoma finansuoti",null,null,1,0,0,0,null,null,null,null,null,"0",null,null,0,0,0]
["5.7.16","Turtas, kurio nusidėvėjimą, amortizaciją prašoma finansuoti",null,null,1,0,0,0,null,null,null,null,null,"0",null,null,0,0,0]
["5.7.17","Turtas, kurio nusidėvėjimą, amortizaciją prašoma finansuoti",null,null,1,0,0,0,null,null,null,null,null,"0",null,null,0,0,0]
["5.7.18","Turtas, kurio nusidėvėjimą, amortizaciją prašoma finansuoti",null,null,1,0,0,0,null,null,null,null,null,"0",null,null,0,0,0]
["5.7.19","Turtas, kurio nusidėvėjimą, amortizaciją prašoma finansuoti",null,null,1,0,0,0,null,null,null,null,null,"0",null,null,0,0,0]
["5.7.20","Turtas, kurio nusidėvėjimą, amortizaciją prašoma finansuoti",null,null,1,0,0,0,null,null,null,null,null,"0",null,null,0,{"$f":"SUM(T148:AM148)","v":0},{"$f":"H148-R148","v":0}]
["5.7.21","Turtas, kurio nusidėvėjimą, amortizaciją prašoma finansuoti",null,null,1,0,0,0,null,null,null,null,null,"0",null,null,0,{"$f":"SUM(T149:AM149)","v":0},{"$f":"H149-R149","v":0}]
["5.7.22","Turtas, kurio nusidėvėjimą, amortizaciją prašoma finansuoti",null,null,1,0,0,0,null,null,null,null,null,"0",null,null,0,0,0]
["5.7.23","Turtas, kurio nusidėvėjimą, amortizaciją prašoma finansuoti",null,null,1,0,0,0,null,null,null,null,null,"0",null,null,0,0,0]
["5.7.24","Turtas, kurio nusidėvėjimą, amortizaciją prašoma finansuoti",null,null,1,0,0,0,null,null,null,null,null,"0",null,null,0,0,0]
["5.7.25","Turtas, kurio nusidėvėjimą, amortizaciją prašoma finansuoti",null,null,1,0,0,0,null,null,null,null,null,"0",null,null,0,0,0]
["5.7.26","Turtas, kurio nusidėvėjimą, amortizaciją prašoma finansuoti",null,null,1,0,0,0,null,null,null,null,null,"0",null,null,0,0,0]
["5.7.27","Turtas, kurio nusidėvėjimą, amortizaciją prašoma finansuoti",null,null,1,0,0,0,null,null,null,null,null,"0",null,null,0,0,0]
["5.7.28","Turtas, kurio nusidėvėjimą, amortizaciją prašoma finansuoti",null,null,1,0,0,0,null,null,null,null,null,"0",null,null,0,0,0]
["5.7.29","Turtas, kurio nusidėvėjimą, amortizaciją prašoma finansuoti",null,null,1,0,0,0,null,null,null,null,null,"0",null,null,0,0,0]
["5.8","Projektą vykdančio personalo darbo užmokestis ir išlaidos su darbo santykiais susijusiems darbdavio įsipareigojimams",null,null,null,null,{"$f":"SUM(G159:G223)","v":0},{"$f":"SUM(H159:H223)","v":0},null,"Faktiškai gaunamas darbo užmokesti už 1 valandą pagal  pastarųjų 6 mėn. vidurkį, Eur",null,null,null,null,null,null,null,0,0]
["5.8.1","Pareigybės pavadinimas","Darbuotojo vardas pavardė","val.",null,{"$f":"IFERROR(ROUND(AVERAGE(J159:J163),2),\"0\")","v":"0"},{"$f":"ROUND(E159*F159,2)","v":0},{"$f":"ROUND(G159*$D$7,2)","v":0},null,null,null,null,null,null,null,null,null,{"$f":"SUM(T159:AM159)","v":0},{"$f":"H159-R159","v":0}]
[null,null,"Darbuotojo vardas pavardė",null,null,null,null,null,null,null,null,null,null,null,null,null,null,{"$f":"SUM(T160:AM160)","v":0},{"$f":"H160-R160","v":0}]
[null,null,"Darbuotojo vardas pavardė",null,null,null,null,null,null,null,null,null,null,null,null,null,null,0,0]
[null,null,"Darbuotojo vardas pavardė",null,null,null,null,null,null,null,null,null,null,null,null,null,null,0,0]
[null,null,"Darbuotojo vardas pavardė",null,null,null,null,null,null,null,null,null,null,null,null,null,null,0,0]
["5.8.2","Pareigybės pavadinimas","Darbuotojo vardas pavardė","val.",null,{"$f":"IFERROR(ROUND(AVERAGE(J164:J168),2),\"0\")","v":"0"},{"$f":"ROUND(E164*F164,2)","v":0},{"$f":"ROUND(G164*$D$7,2)","v":0},null,null,null,null,null,null,null,null,null,0,0]
[null,null,"Darbuotojo vardas pavardė",null,null,null,null,null,null,null,null,null,null,null,null,null,null,0,0]
[null,null,"Darbuotojo vardas pavardė",null,null,null,null,null,null,null,null,null,null,null,null,null,null,0,0]
[null,null,"Darbuotojo vardas pavardė",null,null,null,null,null,null,null,null,null,null,null,null,null,null,0,0]
[null,null,"Darbuotojo vardas pavardė",null,null,null,null,null,null,null,null,null,null,null,null,null,null,0,0]
["5.8.3","Pareigybės pavadinimas","Darbuotojo vardas pavardė","val.",null,{"$f":"IFERROR(ROUND(AVERAGE(J169:J173),2),\"0\")","v":"0"},{"$f":"ROUND(E169*F169,2)","v":0},{"$f":"ROUND(G169*$D$7,2)","v":0},null,null,null,null,null,null,null,null,null,{"$f":"SUM(T169:AM169)","v":0},{"$f":"H169-R169","v":0}]
[null,null,"Darbuotojo vardas pavardė",null,null,null,null,null,null,null,null,null,null,null,null,null,null,{"$f":"SUM(T170:AM170)","v":0},{"$f":"H170-R170","v":0}]
[null,null,"Darbuotojo vardas pavardė",null,null,null,null,null,null,null,null,null,null,null,null,null,null,0,0]
[null,null,"Darbuotojo vardas pavardė",null,null,null,null,null,null,null,null,null,null,null,null,null,null,0,0]
[null,null,"Darbuotojo vardas pavardė",null,null,null,null,null,null,null,null,null,null,null,null,null,null,0,0]
["5.8.4","Pareigybės pavadinimas","Darbuotojo vardas pavardė","val.",null,{"$f":"IFERROR(ROUND(AVERAGE(J174:J178),2),\"0\")","v":"0"},{"$f":"ROUND(E174*F174,2)","v":0},{"$f":"ROUND(G174*$D$7,2)","v":0},null,null,null,null,null,null,null,null,null,0,0]
[null,null,"Darbuotojo vardas pavardė",null,null,null,null,null,null,null,null,null,null,null,null,null,null,0,0]
[null,null,"Darbuotojo vardas pavardė",null,null,null,null,null,null,null,null,null,null,null,null,null,null,0,0]
[null,null,"Darbuotojo vardas pavardė",null,null,null,null,null,null,null,null,null,null,null,null,null,null,0,0]
[null,null,"Darbuotojo vardas pavardė",null,null,null,null,null,null,null,null,null,null,null,null,null,null,0,0]
["5.8.5","Pareigybės pavadinimas","Darbuotojo vardas pavardė","val.",null,{"$f":"IFERROR(ROUND(AVERAGE(J179:J183),2),\"0\")","v":"0"},{"$f":"ROUND(E179*F179,2)","v":0},{"$f":"ROUND(G179*$D$7,2)","v":0},null,null,null,null,null,null,null,null,null,{"$f":"SUM(T179:AM179)","v":0},{"$f":"H179-R179","v":0}]
[null,null,"Darbuotojo vardas pavardė",null,null,null,null,null,null,null,null,null,null,null,null,null,null,{"$f":"SUM(T180:AM180)","v":0},{"$f":"H180-R180","v":0}]
[null,null,"Darbuotojo vardas pavardė",null,null,null,null,null,null,null,null,null,null,null,null,null,null,0,0]
[null,null,"Darbuotojo vardas pavardė",null,null,null,null,null,null,null,null,null,null,null,null,null,null,0,0]
[null,null,"Darbuotojo vardas pavardė",null,null,null,null,null,null,null,null,null,null,null,null,null,null,0,0]
["5.8.6","Pareigybės pavadinimas","Darbuotojo vardas pavardė","val.",null,{"$f":"IFERROR(ROUND(AVERAGE(J184:J188),2),\"0\")","v":"0"},{"$f":"ROUND(E184*F184,2)","v":0},{"$f":"ROUND(G184*$D$7,2)","v":0},null,null,null,null,null,null,null,null,null,0,0]
[null,null,"Darbuotojo vardas pavardė",null,null,null,null,null,null,null,null,null,null,null,null,null,null,0,0]
[null,null,"Darbuotojo vardas pavardė",null,null,null,null,null,null,null,null,null,null,null,null,null,null,0,0]
[null,null,"Darbuotojo vardas pavardė",null,null,null,null,null,null,null,null,null,null,null,null,null,null,0,0]
[null,null,"Darbuotojo vardas pavardė",null,null,null,null,null,null,null,null,null,null,null,null,null,null,0,0]
["5.8.7","Pareigybės pavadinimas","Darbuotojo vardas pavardė","val.",null,{"$f":"IFERROR(ROUND(AVERAGE(J189:J193),2),\"0\")","v":"0"},{"$f":"ROUND(E189*F189,2)","v":0},{"$f":"ROUND(G189*$D$7,2)","v":0},null,null,null,null,null,null,null,null,null,{"$f":"SUM(T189:AM189)","v":0},{"$f":"H189-R189","v":0}]
[null,null,"Darbuotojo vardas pavardė",null,null,null,null,null,null,null,null,null,null,null,null,null,null,{"$f":"SUM(T190:AM190)","v":0},{"$f":"H190-R190","v":0}]
[null,null,"Darbuotojo vardas pavardė",null,null,null,null,null,null,null,null,null,null,null,null,null,null,0,0]
[null,null,"Darbuotojo vardas pavardė",null,null,null,null,null,null,null,null,null,null,null,null,null,null,0,0]
[null,null,"Darbuotojo vardas pavardė",null,null,null,null,null,null,null,null,null,null,null,null,null,null,0,0]
["5.8.8","Pareigybės pavadinimas","Darbuotojo vardas pavardė","val.",null,{"$f":"IFERROR(ROUND(AVERAGE(J194:J198),2),\"0\")","v":"0"},{"$f":"ROUND(E194*F194,2)","v":0},{"$f":"ROUND(G194*$D$7,2)","v":0},null,null,null,null,null,null,null,null,null,0,0]
[null,null,"Darbuotojo vardas pavardė",null,null,null,null,null,null,null,null,null,null,null,null,null,null,0,0]
[null,null,"Darbuotojo vardas pavardė",null,null,null,null,null,null,null,null,null,null,null,null,null,null,0,0]
[null,null,"Darbuotojo vardas pavardė",null,null,null,null,null,null,null,null,null,null,null,null,null,null,0,0]
[null,null,"Darbuotojo vardas pavardė",null,null,null,null,null,null,null,null,null,null,null,null,null,null,0,0]
["5.8.9","Pareigybės pavadinimas","Darbuotojo vardas pavardė","val.",null,{"$f":"IFERROR(ROUND(AVERAGE(J199:J203),2),\"0\")","v":"0"},{"$f":"ROUND(E199*F199,2)","v":0},{"$f":"ROUND(G199*$D$7,2)","v":0},null,null,null,null,null,null,null,null,null,{"$f":"SUM(T199:AM199)","v":0},{"$f":"H199-R199","v":0}]
[null,null,"Darbuotojo vardas pavardė",null,null,null,null,null,null,null,null,null,null,null,null,null,null,{"$f":"SUM(T200:AM200)","v":0},{"$f":"H200-R200","v":0}]
[null,null,"Darbuotojo vardas pavardė",null,null,null,null,null,null,null,null,null,null,null,null,null,null,0,0]
[null,null,"Darbuotojo vardas pavardė",null,null,null,null,null,null,null,null,null,null,null,null,null,null,0,0]
[null,null,"Darbuotojo vardas pavardė",null,null,null,null,null,null,null,null,null,null,null,null,null,null,0,0]
["5.8.10","Pareigybės pavadinimas","Darbuotojo vardas pavardė","val.",null,{"$f":"IFERROR(ROUND(AVERAGE(J204:J208),2),\"0\")","v":"0"},{"$f":"ROUND(E204*F204,2)","v":0},{"$f":"ROUND(G204*$D$7,2)","v":0},null,null,null,null,null,null,null,null,null,0,0]
[null,null,"Darbuotojo vardas pavardė",null,null,null,null,null,null,null,null,null,null,null,null,null,null,0,0]
[null,null,"Darbuotojo vardas pavardė",null,null,null,null,null,null,null,null,null,null,null,null,null,null,0,0]
[null,null,"Darbuotojo vardas pavardė",null,null,null,null,null,null,null,null,null,null,null,null,null,null,0,0]
[null,null,"Darbuotojo vardas pavardė",null,null,null,null,null,null,null,null,null,null,null,null,null,null,{"$f":"SUM(T208:AM208)","v":0},{"$f":"H208-R208","v":0}]
["5.8.11","Pareigybės pavadinimas","Darbuotojo vardas pavardė","val.",null,{"$f":"IFERROR(ROUND(AVERAGE(J209:J213),2),\"0\")","v":"0"},{"$f":"ROUND(E209*F209,2)","v":0},{"$f":"ROUND(G209*$D$7,2)","v":0},null,null,null,null,null,null,null,null,null,{"$f":"SUM(T209:AM209)","v":0},{"$f":"H209-R209","v":0}]
[null,null,"Darbuotojo vardas pavardė",null,null,null,null,null,null,null,null,null,null,null,null,null,null,0,0]
[null,null,"Darbuotojo vardas pavardė",null,null,null,null,null,null,null,null,null,null,null,null,null,null,0,0]
[null,null,"Darbuotojo vardas pavardė",null,null,null,null,null,null,null,null,null,null,null,null,null,null,0,0]
[null,null,"Darbuotojo vardas pavardė",null,null,null,null,null,null,null,null,null,null,null,null,null,null,0,0]
["5.8.12","Pareigybės pavadinimas","Darbuotojo vardas pavardė","val.",null,{"$f":"IFERROR(ROUND(AVERAGE(J214:J218),2),\"0\")","v":"0"},{"$f":"ROUND(E214*F214,2)","v":0},{"$f":"ROUND(G214*$D$7,2)","v":0},null,null,null,null,null,null,null,null,null,0,0]
[null,null,"Darbuotojo vardas pavardė",null,null,null,null,null,null,null,null,null,null,null,null,null,null,0,0]
[null,null,"Darbuotojo vardas pavardė",null,null,null,null,null,null,null,null,null,null,null,null,null,null,0,0]
[null,null,"Darbuotojo vardas pavardė",null,null,null,null,null,null,null,null,null,null,null,null,null,null,0,0]
[null,null,"Darbuotojo vardas pavardė",null,null,null,null,null,null,null,null,null,null,null,null,null,null,{"$f":"SUM(T218:AM218)","v":0},{"$f":"H218-R218","v":0}]
["5.8.13","Pareigybės pavadinimas","Darbuotojo vardas pavardė","val.",null,{"$f":"IFERROR(ROUND(AVERAGE(J219:J223),2),\"0\")","v":"0"},{"$f":"ROUND(E219*F219,2)","v":0},{"$f":"ROUND(G219*$D$7,2)","v":0},null,null,null,null,null,null,null,null,null,{"$f":"SUM(T219:AM219)","v":0},{"$f":"H219-R219","v":0}]
[null,null,"Darbuotojo vardas pavardė",null,null,null,null,null,null,null,null,null,null,null,null,null,null,0,0]
[null,null,"Darbuotojo vardas pavardė",null,null,null,null,null,null,null,null,null,null,null,null,null,null,0,0]
[null,null,"Darbuotojo vardas pavardė",null,null,null,null,null,null,null,null,null,null,null,null,null,null,0,0]
[null,null,"Darbuotojo vardas pavardė",null,null,null,null,null,null,null,null,null,null,null,null,null,null,0,0]
["5.9","Projektą vykdančio personalo komandiruočių išlaidos",null,null,null,null,{"$f":"SUM(G225,G232,G239,G246,G253,G260,G267,G274,G281,G288)","v":0},{"$f":"SUM(H225,H232,H239,H246,H253,H260,H267,H274,H281,H288)","v":0},null,null,null,null,null,null,null,null,null,0,0]
["5.9.1","Komandiruotės pavadinimas, vieta, trukmė dienomis, vykstančių asmenų skaičius","Iš viso komandiruotei",null,null,null,{"$f":"SUM(G226:G231)","v":0},{"$f":"ROUND(G225*$D$7,2)","v":0},null,null,null,null,null,null,null,null,null,0,0]
[null,null,"Dienpinigiai",null,null,null,{"$f":"ROUND(E226*F226,2)","v":0},null,null,null,null,null,null,null,null,null,null,0,0]
[null,null,"Gyvenamojo ploto nuoma",null,null,null,0,null,null,null,null,null,null,null,null,null,null,0,0]
[null,null,"Kelionės išlaidos",null,null,null,0,null,null,null,null,null,null,null,null,null,null,{"$f":"SUM(T228:AM228)","v":0},{"$f":"H228-R228","v":0}]
[null,null,"Dalyvavimo mokestis",null,null,null,0,null,null,null,null,null,null,null,null,null,null,{"$f":"SUM(T229:AM229)","v":0},{"$f":"H229-R229","v":0}]
[null,null,"Kitos išlaidų pavadinimas",null,null,null,0,null,null,null,null,null,null,null,null,null,null,0,0]
[null,null,"Kitos išlaidų pavadinimas",null,null,null,0,null,null,null,null,null,null,null,null,null,null,0,0]
["5.9.2","Komandiruotės pavadinimas, vieta, trukmė dienomis, vykstančių asmenų skaičius","Iš viso komandiruotei",null,null,null,{"$f":"SUM(G233:G238)","v":0},{"$f":"ROUND(G232*$D$7,2)","v":0},null,null,null,null,null,null,null,null,null,0,0]
[null,null,"Dienpinigiai",null,null,null,0,null,null,null,null,null,null,null,null,null,null,0,0]
[null,null,"Gyvenamojo ploto nuoma",null,null,null,0,null,null,null,null,null,null,null,null,null,null,0,0]
[null,null,"Kelionės išlaidos",null,null,null,0,null,null,null,null,null,null,null,null,null,null,0,0]
[null,null,"Dalyvavimo mokestis",null,null,null,0,null,null,null,null,null,null,null,null,null,null,0,0]
[null,null,"Kitos išlaidų pavadinimas",null,null,null,0,null,null,null,null,null,null,null,null,null,null,0,0]
[null,null,"Kitos išlaidų pavadinimas",null,null,null,0,null,null,null,null,null,null,null,null,null,null,{"$f":"SUM(T238:AM238)","v":0},{"$f":"H238-R238","v":0}]
["5.9.3","Komandiruotės pavadinimas, vieta, trukmė dienomis, vykstančių asmenų skaičius","Iš viso komandiruotei",null,null,null,{"$f":"SUM(G240:G245)","v":0},{"$f":"ROUND(G239*$D$7,2)","v":0},null,null,null,null,null,null,null,null,null,{"$f":"SUM(T239:AM239)","v":0},{"$f":"H239-R239","v":0}]
[null,null,"Dienpinigiai",null,null,null,0,null,null,null,null,null,null,null,null,null,null,0,0]
[null,null,"Gyvenamojo ploto nuoma",null,null,null,0,null,null,null,null,null,null,null,null,null,null,0,0]
[null,null,"Kelionės išlaidos",null,null,null,0,null,null,null,null,null,null,null,null,null,null,0,0]
[null,null,"Dalyvavimo mokestis",null,null,null,0,null,null,null,null,null,null,null,null,null,null,0,0]
[null,null,"Kitos išlaidų pavadinimas",null,null,null,0,null,null,null,null,null,null,null,null,null,null,0,0]
[null,null,"Kitos išlaidų pavadinimas",null,null,null,0,null,null,null,null,null,null,null,null,null,null,0,0]
["5.9.4","Komandiruotės pavadinimas, vieta, trukmė dienomis, vykstančių asmenų skaičius","Iš viso komandiruotei",null,null,null,{"$f":"SUM(G247:G252)","v":0},{"$f":"ROUND(G246*$D$7,2)","v":0},null,null,null,null,null,null,null,null,null,0,0]
[null,null,"Dienpinigiai",null,null,null,0,null,null,null,null,null,null,null,null,null,null,0,0]
[null,null,"Gyvenamojo ploto nuoma",null,null,null,0,null,null,null,null,null,null,null,null,null,null,{"$f":"SUM(T248:AM248)","v":0},{"$f":"H248-R248","v":0}]
[null,null,"Kelionės išlaidos",null,null,null,0,null,null,null,null,null,null,null,null,null,null,{"$f":"SUM(T249:AM249)","v":0},{"$f":"H249-R249","v":0}]
[null,null,"Dalyvavimo mokestis",null,null,null,0,null,null,null,null,null,null,null,null,null,null,0,0]
[null,null,"Kitos išlaidų pavadinimas",null,null,null,0,null,null,null,null,null,null,null,null,null,null,0,0]
[null,null,"Kitos išlaidų pavadinimas",null,null,null,0,null,null,null,null,null,null,null,null,null,null,0,0]
["5.9.5","Komandiruotės pavadinimas, vieta, trukmė dienomis, vykstančių asmenų skaičius","Iš viso komandiruotei",null,null,null,{"$f":"SUM(G254:G259)","v":0},{"$f":"ROUND(G253*$D$7,2)","v":0},null,null,null,null,null,null,null,null,null,0,0]
[null,null,"Dienpinigiai",null,null,null,0,null,null,null,null,null,null,null,null,null,null,0,0]
[null,null,"Gyvenamojo ploto nuoma",null,null,null,0,null,null,null,null,null,null,null,null,null,null,0,0]
[null,null,"Kelionės išlaidos",null,null,null,0,null,null,null,null,null,null,null,null,null,null,0,0]
[null,null,"Dalyvavimo mokestis",null,null,null,0,null,null,null,null,null,null,null,null,null,null,0,0]
[null,null,"Kitos išlaidų pavadinimas",null,null,null,0,null,null,null,null,null,null,null,null,null,null,{"$f":"SUM(T258:AM258)","v":0},{"$f":"H258-R258","v":0}]
[null,null,"Kitos išlaidų pavadinimas",null,null,null,0,null,null,null,null,null,null,null,null,null,null,{"$f":"SUM(T259:AM259)","v":0},{"$f":"H259-R259","v":0}]
["5.9.6","Komandiruotės pavadinimas, vieta, trukmė dienomis, vykstančių asmenų skaičius","Iš viso komandiruotei",null,null,null,{"$f":"SUM(G261:G266)","v":0},{"$f":"ROUND(G260*$D$7,2)","v":0},null,null,null,null,null,null,null,null,null,0,0]
[null,null,"Dienpinigiai",null,null,null,0,null,null,null,null,null,null,null,null,null,null,0,0]
[null,null,"Gyvenamojo ploto nuoma",null,null,null,0,null,null,null,null,null,null,null,null,null,null,0,0]
[null,null,"Kelionės išlaidos",null,null,null,0,null,null,null,null,null,null,null,null,null,null,0,0]
[null,null,"Dalyvavimo mokestis",null,null,null,0,null,null,null,null,null,null,null,null,null,null,0,0]
[null,null,"Kitos išlaidų pavadinimas",null,null,null,0,null,null,null,null,null,null,null,null,null,null,0,0]
[null,null,"Kitos išlaidų pavadinimas",null,null,null,0,null,null,null,null,null,null,null,null,null,null,0,0]
["5.9.7","Komandiruotės pavadinimas, vieta, trukmė dienomis, vykstančių asmenų skaičius","Iš viso komandiruotei",null,null,null,{"$f":"SUM(G268:G273)","v":0},{"$f":"ROUND(G267*$D$7,2)","v":0},null,null,null,null,null,null,null,null,null,0,0]
[null,null,"Dienpinigiai",null,null,null,0,null,null,null,null,null,null,null,null,null,null,{"$f":"SUM(T268:AM268)","v":0},{"$f":"H268-R268","v":0}]
[null,null,"Gyvenamojo ploto nuoma",null,null,null,0,null,null,null,null,null,null,null,null,null,null,{"$f":"SUM(T269:AM269)","v":0},{"$f":"H269-R269","v":0}]
[null,null,"Kelionės išlaidos",null,null,null,0,null,null,null,null,null,null,null,null,null,null,0,0]
[null,null,"Dalyvavimo mokestis",null,null,null,0,null,null,null,null,null,null,null,null,null,null,0,0]
[null,null,"Kitos išlaidų pavadinimas",null,null,null,0,null,null,null,null,null,null,null,null,null,null,0,0]
[null,null,"Kitos išlaidų pavadinimas",null,null,null,0,null,null,null,null,null,null,null,null,null,null,0,0]
["5.9.8","Komandiruotės pavadinimas, vieta, trukmė dienomis, vykstančių asmenų skaičius","Iš viso komandiruotei",null,null,null,{"$f":"SUM(G275:G280)","v":0},{"$f":"ROUND(G274*$D$7,2)","v":0},null,null,null,null,null,null,null,null,null,0,0]
[null,null,"Dienpinigiai",null,null,null,0,null,null,null,null,null,null,null,null,null,null,0,0]
[null,null,"Gyvenamojo ploto nuoma",null,null,null,0,null,null,null,null,null,null,null,null,null,null,0,0]
[null,null,"Kelionės išlaidos",null,null,null,0,null,null,null,null,null,null,null,null,null,null,0,0]
[null,null,"Dalyvavimo mokestis",null,null,null,0,null,null,null,null,null,null,null,null,null,null,{"$f":"SUM(T278:AM278)","v":0},{"$f":"H278-R278","v":0}]
[null,null,"Kitos išlaidų pavadinimas",null,null,null,0,null,null,null,null,null,null,null,null,null,null,{"$f":"SUM(T279:AM279)","v":0},{"$f":"H279-R279","v":0}]
[null,null,"Kitos išlaidų pavadinimas",null,null,null,0,null,null,null,null,null,null,null,null,null,null,0,0]
["5.9.9","Komandiruotės pavadinimas, vieta, trukmė dienomis, vykstančių asmenų skaičius","Iš viso komandiruotei",null,null,null,{"$f":"SUM(G282:G287)","v":0},{"$f":"ROUND(G281*$D$7,2)","v":0},null,null,null,null,null,null,null,null,null,0,0]
[null,null,"Dienpinigiai",null,null,null,0,null,null,null,null,null,null,null,null,null,null,0,0]
[null,null,"Gyvenamojo ploto nuoma",null,null,null,0,null,null,null,null,null,null,null,null,null,null,{"$f":"SUM(T283:AM283)","v":0},{"$f":"H283-R283","v":0}]
[null,null,"Kelionės išlaidos",null,null,null,0,null,null,null,null,null,null,null,null,null,null,{"$f":"SUM(T284:AM284)","v":0},{"$f":"H284-R284","v":0}]
[null,null,"Dalyvavimo mokestis",null,null,null,0,null,null,null,null,null,null,null,null,null,null,{"$f":"SUM(T285:AM285)","v":0},{"$f":"H285-R285","v":0}]
[null,null,"Kitos išlaidų pavadinimas",null,null,null,0,null,null,null,null,null,null,null,null,null,null,{"$f":"SUM(T286:AM286)","v":0},{"$f":"H286-R286","v":0}]
[null,null,"Kitos išlaidų pavadinimas",null,null,null,0,null,null,null,null,null,null,null,null,null,null,0,0]
["5.9.10","Komandiruotės pavadinimas, vieta, trukmė dienomis, vykstančių asmenų skaičius","Iš viso komandiruotei",null,null,null,{"$f":"SUM(G289:G294)","v":0},{"$f":"ROUND(G288*$D$7,2)","v":0},null,null,null,null,null,null,null,null,null,0,0]
[null,null,"Dienpinigiai",null,null,null,0,null,null,null,null,null,null,null,null,null,null,0,0]
[null,null,"Gyvenamojo ploto nuoma",null,null,null,0,null,null,null,null,null,null,null,null,null,null,0,0]
[null,null,"Kelionės išlaidos",null,null,null,{"$f":"ROUND(E291*F291,2)","v":0},null,null,null,null,null,null,null,null,null,null,0,0]
[null,null,"Dalyvavimo mokestis",null,null,null,0,null,null,null,null,null,null,null,null,null,null,0,0]
[null,null,"Kitos išlaidų pavadinimas",null,null,null,0,null,null,null,null,null,null,null,null,null,null,0,0]
[null,null,"Kitos išlaidų pavadinimas",null,null,null,0,null,null,null,null,null,null,null,null,null,null,0,0]
["5.10","Įrangos nuomos išlaidos, veiklai priskirtos pro rata principu. Įranga turi būti tiesiogiai susijusi su projekto įgyvendinimu ir negali būti įsigyta iš ES struktūrinių fondų ar kt. ES finansinių priemonių lėšų",null,null,null,null,{"$f":"SUM(G296:G312)","v":0},{"$f":"SUM(H296:H312)","v":0},null,"Faktinės 1 mėnesio išlaidos, Eur","Naudojimo projekte trukmė, mėn.",null,null,null,null,null,null,0,0]
["5.10.1","Įrangos pavadinimas",null,"pro rata proc.",null,{"$f":"J296*K296","v":0},{"$f":"ROUND(E296*F296,2)","v":0},{"$f":"ROUND(G296*$D$7,2)","v":0},null,null,null,null,null,null,null,null,null,{"$f":"SUM(T296:AM296)","v":0},{"$f":"H296-R296","v":0}]
["5.10.2","Įrangos pavadinimas",null,"pro rata proc.",null,{"$f":"J297*K297","v":0},0,{"$f":"ROUND(G297*$D$7,2)","v":0},null,null,null,null,null,null,null,null,null,{"$f":"SUM(T297:AM297)","v":0},{"$f":"H297-R297","v":0}]
["5.10.3","Įrangos pavadinimas",null,"pro rata proc.",null,0,0,0,null,null,null,null,null,null,null,null,null,0,0]
["5.10.4","Įrangos pavadinimas",null,"pro rata proc.",null,0,0,0,null,null,null,null,null,null,null,null,null,0,0]
["5.10.5","Įrangos pavadinimas",null,"pro rata proc.",null,0,0,0,null,null,null,null,null,null,null,null,null,0,0]
["5.10.6","Įrangos pavadinimas",null,"pro rata proc.",null,0,0,0,null,null,null,null,null,null,null,null,null,0,0]
["5.10.7","Įrangos pavadinimas",null,"pro rata proc.",null,0,0,0,null,null,null,null,null,null,null,null,null,{"$f":"SUM(T302:AM302)","v":0},{"$f":"H302-R302","v":0}]
["5.10.8","Įrangos pavadinimas",null,"pro rata proc.",null,0,0,0,null,null,null,null,null,null,null,null,null,{"$f":"SUM(T303:AM303)","v":0},{"$f":"H303-R303","v":0}]
["5.10.9","Įrangos pavadinimas",null,"pro rata proc.",null,0,0,0,null,null,null,null,null,null,null,null,null,{"$f":"SUM(T304:AM304)","v":0},{"$f":"H304-R304","v":0}]
["5.10.10","Įrangos pavadinimas",null,"pro rata proc.",null,0,0,0,null,null,null,null,null,null,null,null,null,0,0]
["5.10.11","Įrangos pavadinimas",null,"pro rata proc.",null,0,0,0,null,null,null,null,null,null,null,null,null,0,0]
["5.10.12","Įrangos pavadinimas",null,"pro rata proc.",null,0,0,0,null,null,null,null,null,null,null,null,null,{"$f":"SUM(T307:AM307)","v":0},{"$f":"H307-R307","v":0}]
["5.10.13","Įrangos pavadinimas",null,"pro rata proc.",null,0,0,0,null,null,null,null,null,null,null,null,null,{"$f":"SUM(T308:AM308)","v":0},{"$f":"H308-R308","v":0}]
["5.10.14","Įrangos pavadinimas",null,"pro rata proc.",null,0,0,0,null,null,null,null,null,null,null,null,null,{"$f":"SUM(T309:AM309)","v":0},{"$f":"H309-R309","v":0}]
["5.10.15","Įrangos pavadinimas",null,"pro rata proc.",null,0,0,0,null,null,null,null,null,null,null,null,null,{"$f":"SUM(T310:AM310)","v":0},{"$f":"H310-R310","v":0}]
["5.10.16","Įrangos pavadinimas",null,"pro rata proc.",null,0,0,0,null,null,null,null,null,null,null,null,null,0,0]
["5.10.17","Įrangos pavadinimas",null,"pro rata proc.",null,0,0,0,null,null,null,null,null,null,null,null,null,0,0]
["5.11","Pastatų ar patalpų nuomos išlaidos, veiklai priskirtos pro rata principu. Pastatai ar patalpos turi būti tiesiogiai susijusi su projekto įgyvendinimu.",null,null,null,null,{"$f":"SUM(G314:G318)","v":0},{"$f":"SUM(H314:H318)","v":0},null,"Faktinės 1 mėnesio išlaidos, Eur","Naudojimo projekte trukmė, mėn.",null,null,null,null,null,null,0,0]
["5.11.1","Pastato, patalpų adresas",null,"pro rata proc.",null,{"$f":"J314*K314","v":0},{"$f":"ROUND(E314*F314,2)","v":0},{"$f":"ROUND(G314*$D$7,2)","v":0},null,null,null,null,null,null,null,null,null,0,0]
["5.11.2","Pastato, patalpų adresas",null,"pro rata proc.",null,{"$f":"J315*K315","v":0},{"$f":"ROUND(E315*F315,2)","v":0},{"$f":"ROUND(G315*$D$7,2)","v":0},null,null,null,null,null,null,null,null,null,0,0]
["5.11.3","Pastato, patalpų adresas",null,"pro rata proc.",null,0,0,0,null,null,null,null,null,null,null,null,null,0,0]
["5.11.4","Pastato, patalpų adresas",null,"pro rata proc.",null,0,0,0,null,null,null,null,null,null,null,null,null,0,0]
["5.11.5","Pastato, patalpų adresas",null,"pro rata proc.",null,0,0,0,null,null,null,null,null,null,null,null,null,0,0]
["Iš viso tinkamų finansuoti išlaidų:",null,null,null,null,null,{"$f":"G10+G44","v":0},{"$f":"H10+H44","v":0}]

{"sheet":"9","index":21,"n_rows":254,"n_cols":18,"rows_kept":254,"cut":false,"hidden":true,"merged":[[5,3,5,8],[8,1,8,2],[9,1,9,5],[10,1,10,2],[11,1,11,2],[12,1,12,2],[0,3,0,8],[2,0,2,2],[2,3,2,8],[3,3,3,4],[3,5,3,6],[4,0,4,2],[4,3,4,8],[19,1,19,2],[20,1,20,5],[21,1,21,5],[22,1,22,2],[23,1,23,2],[24,1,24,2],[13,1,13,2],[14,1,14,2],[15,1,15,2],[16,1,16,2],[17,1,17,2],[18,1,18,2],[31,1,31,2],[32,1,32,5],[33,1,33,2],[34,1,34,2],[35,1,35,2],[36,1,36,2],[25,1,25,2],[26,1,26,2],[27,1,27,2],[28,1,28,2],[29,1,29,2],[30,1,30,2],[43,1,43,5],[44,1,44,2],[45,1,45,2],[46,1,46,2],[47,1,47,2],[48,1,48,2],[37,1,37,2],[38,1,38,2],[39,1,39,2],[40,1,40,2],[41,1,41,2],[42,1,42,2],[55,1,55,2],[56,1,56,2],[57,1,57,2],[58,1,58,2],[59,1,59,2],[60,1,60,2],[49,1,49,2],[50,1,50,2],[51,1,51,2],[52,1,52,2],[53,1,53,2],[54,1,54,2],[67,1,67,2],[68,1,68,2],[69,1,69,2],[70,1,70,2],[71,1,71,5],[72,1,72,2],[61,1,61,2],[62,1,62,2],[63,1,63,2],[64,1,64,2],[65,1,65,2],[66,1,66,2],[79,1,79,2],[80,1,80,2],[81,1,81,2],[82,1,82,2],[83,1,83,2],[84,1,84,2],[73,1,73,2],[74,1,74,2],[75,1,75,2],[76,1,76,2],[77,1,77,2],[78,1,78,2],[91,1,91,2],[92,1,92,2],[93,1,93,2],[94,1,94,2],[95,1,95,2],[96,1,96,2],[85,1,85,2],[86,1,86,2],[87,1,87,2],[88,1,88,2],[89,1,89,2],[90,1,90,2],[97,1,97,2],[98,1,98,2],[99,1,99,2],[100,1,100,2],[101,1,101,5],[102,0,106,0],[102,1,106,1],[102,3,106,3],[102,4,106,4],[102,5,106,5],[102,6,106,6],[102,7,106,7],[102,8,106,8],[107,0,111,0],[107,1,111,1],[107,3,111,3],[107,4,111,4],[107,5,111,5],[107,6,111,6],[107,7,111,7],[107,8,111,8],[112,0,116,0],[112,1,116,1],[112,3,116,3],[112,4,116,4],[112,5,116,5],[112,6,116,6],[112,7,116,7],[112,8,116,8],[117,7,121,7],[117,8,121,8],[122,0,126,0],[122,1,126,1],[122,3,126,3],[122,4,126,4],[122,5,126,5],[122,6,126,6],[122,7,126,7],[122,8,126,8],[117,0,121,0],[117,1,121,1],[117,3,121,3],[117,4,121,4],[117,5,121,5],[117,6,121,6],[127,7,131,7],[127,8,131,8],[132,0,136,0],[132,1,136,1],[132,3,136,3],[132,4,136,4],[132,5,136,5],[132,6,136,6],[132,7,136,7],[132,8,136,8],[127,0,131,0],[127,1,131,1],[127,3,131,3],[127,4,131,4],[127,5,131,5],[127,6,131,6],[137,7,141,7],[137,8,141,8],[142,0,146,0],[142,1,146,1],[142,3,146,3],[142,4,146,4],[142,5,146,5],[142,6,146,6],[142,7,146,7],[142,8,146,8],[137,0,141,0],[137,1,141,1],[137,3,141,3],[137,4,141,4],[137,5,141,5],[137,6,141,6],[147,7,151,7],[147,8,151,8],[152,1,152,5],[153,0,159,0],[153,1,159,1],[153,8,159,8],[147,0,151,0],[147,1,151,1],[147,3,151,3],[147,4,151,4],[147,5,151,5],[147,6,151,6],[174,0,180,0],[174,1,180,1],[174,8,180,8],[181,0,187,0],[181,1,187,1],[181,8,187,8],[160,0,166,0],[160,1,166,1],[160,8,166,8],[167,0,173,0],[167,1,173,1],[167,8,173,8],[202,0,208,0],[202,1,208,1],[202,8,208,8],[209,0,215,0],[209,1,215,1],[209,8,215,8],[188,0,194,0],[188,1,194,1],[188,8,194,8],[195,0,201,0],[195,1,201,1],[195,8,201,8],[226,1,226,2],[227,1,227,2],[228,1,228,2],[229,1,229,2],[230,1,230,2],[231,1,231,2],[216,0,222,0],[216,1,222,1],[216,8,222,8],[223,1,223,5],[224,1,224,2],[225,1,225,2],[238,1,238,2],[239,1,239,2],[240,1,240,2],[241,1,241,5],[242,1,242,2],[243,1,243,2],[232,1,232,2],[233,1,233,2],[234,1,234,2],[235,1,235,2],[236,1,236,2],[237,1,237,2],[250,1,250,2],[251,1,251,2],[252,1,252,2],[253,0,253,5],[244,1,244,2],[245,1,245,2],[246,1,246,2],[247,1,247,5],[248,1,248,2],[249,1,249,2]]}
[null,null,"Pasirinkite veiklos tipą:"]
[null,null,"Fizinio rodiklio Nr.:"]
["Fizinio rodiklio pavadinimas:"]
[null,null,"Fizinio rodiklio matavimo vnt.:",null,null,"Fizinio rodiklio vnt. skaičius:"]
["Juridinis asmuo (pareiškėjas, partneris), atsakingas už fizinį rodiklį:"]
[null,null,"Vykdytojo tipas:"]
[null,null,"Finansavimo intensyvumas:",null,null,null,"Pasirinkite biudžeto išlaidų kategoriją:","Visos"]
[]
["Eil. Nr.","Išlaidų kategorijos pavadinimas",null,"Matavimo vnt.","Kiekis","Vieneto kaina be PVM, Eur","Tinkamų finansuoti išlaidų suma be PVM, Eur","Finansavimo suma, Eur","Išlaidų pagrindimo dokumentų pavadinimas, data ir Nr."]
[4,"ĮRANGA, ĮRENGINIAI IR KT. TURTAS (techninių žinių ir išradimų patentų arba teisių pagal licencijų sutartį įsigijimo išlaidos)",null,null,null,null,{"$f":"SUM(G11:G20)","v":0},{"$f":"SUM(H11:H20)","v":0}]
["4.1","Išlaidų pavadinimas",null,null,null,null,{"$f":"ROUND(E11*F11,2)","v":0},{"$f":"ROUND(G11*$D$7,2)","v":0}]
["4.2","Išlaidų pavadinimas",null,null,null,null,0,0]
["4.3","Išlaidų pavadinimas",null,null,null,null,0,0]
["4.4","Išlaidų pavadinimas",null,null,null,null,0,0]
["4.5","Išlaidų pavadinimas",null,null,null,null,0,0]
["4.6","Išlaidų pavadinimas",null,null,null,null,0,0]
["4.7","Išlaidų pavadinimas",null,null,null,null,0,0]
["4.8","Išlaidų pavadinimas",null,null,null,null,0,0]
["4.9","Išlaidų pavadinimas",null,null,null,null,0,0]
["4.10","Išlaidų pavadinimas",null,null,null,null,0,0]
[5,"PROJEKTO VYKDYMAS",null,null,null,null,{"$f":"G22+G33+G44+G72+G102+G153+G224+G242+G248","v":0},{"$f":"H22+H33+H44+H72+H102+H153+H224+H242+H248","v":0}]
["5.1","MTEP paslaugos",null,null,null,null,{"$f":"SUM(G23:G32)","v":0},{"$f":"SUM(H23:H32)","v":0}]
["5.1.1","Paslaugos pavadinimas",null,null,null,null,{"$f":"ROUND(E23*F23,2)","v":0},0]
["5.1.2","Paslaugos pavadinimas",null,null,null,null,0,0]
["5.1.3","Paslaugos pavadinimas",null,null,null,null,0,0]
["5.1.4","Paslaugos pavadinimas",null,null,null,null,0,0]
["5.1.5","Paslaugos pavadinimas",null,null,null,null,0,0]
["5.1.6","Paslaugos pavadinimas",null,null,null,null,0,0]
["5.1.7","Paslaugos pavadinimas",null,null,null,null,0,0]
["5.1.8","Paslaugos pavadinimas",null,null,null,null,0,0]
["5.1.9","Paslaugos pavadinimas",null,null,null,null,0,0]
["5.1.10","Paslaugos pavadinimas",null,null,null,null,0,0]
["5.2","Konsultavimo ir lygiavertės paslaugos, teikiamos vien tik projekto MTEP veiklai.",null,null,null,null,{"$f":"SUM(G34:G43)","v":0},{"$f":"SUM(H34:H43)","v":0}]
["5.2.1","Paslaugos pavadinimas",null,null,null,null,{"$f":"ROUND(E34*F34,2)","v":0},0]
["5.2.2","Paslaugos pavadinimas",null,null,null,null,0,0]
["5.2.3","Paslaugos pavadinimas",null,null,null,null,0,0]
["5.2.4","Paslaugos pavadinimas",null,null,null,null,0,0]
["5.2.5","Paslaugos pavadinimas",null,null,null,null,0,0]
["5.2.6","Paslaugos pavadinimas",null,null,null,null,0,0]
["5.2.7","Paslaugos pavadinimas",null,null,null,null,0,0]
["5.2.8","Paslaugos pavadinimas",null,null,null,null,0,0]
["5.2.9","Paslaugos pavadinimas",null,null,null,null,0,0]
["5.2.10","Paslaugos pavadinimas",null,null,null,null,0,0]
["5.3","Medžiagos, mažavertis inventorius, atsargos ir pan. produktai, priskirtini trumpalaikiam turtui ir tiesiogiai susiję su MTEP veikla",null,null,null,null,{"$f":"SUM(G45:G71)","v":0},{"$f":"SUM(H45:H71)","v":0}]
["5.3.1","Išlaidų pavadinimas",null,null,null,null,{"$f":"ROUND(E45*F45,2)","v":0},{"$f":"ROUND(G45*$D$7,2)","v":0}]
["5.3.2","Išlaidų pavadinimas",null,null,null,null,{"$f":"ROUND(E46*F46,2)","v":0},{"$f":"ROUND(G46*$D$7,2)","v":0}]
["5.3.3","Išlaidų pavadinimas",null,null,null,null,{"$f":"ROUND(E47*F47,2)","v":0},{"$f":"ROUND(G47*$D$7,2)","v":0}]
["5.3.4","Išlaidų pavadinimas",null,null,null,null,{"$f":"ROUND(E48*F48,2)","v":0},{"$f":"ROUND(G48*$D$7,2)","v":0}]
["5.3.5","Išlaidų pavadinimas",null,null,null,null,{"$f":"ROUND(E49*F49,2)","v":0},{"$f":"ROUND(G49*$D$7,2)","v":0}]
["5.3.6","Išlaidų pavadinimas",null,null,null,null,0,0]
["5.3.7","Išlaidų pavadinimas",null,null,null,null,0,0]
["5.3.8","Išlaidų pavadinimas",null,null,null,null,0,0]
["5.3.9","Išlaidų pavadinimas",null,null,null,null,0,0]
["5.3.10","Išlaidų pavadinimas",null,null,null,null,0,0]
["5.3.11","Išlaidų pavadinimas",null,null,null,null,0,0]
["5.3.12","Išlaidų pavadinimas",null,null,null,null,0,0]
["5.3.13","Išlaidų pavadinimas",null,null,null,null,0,0]
["5.3.14","Išlaidų pavadinimas",null,null,null,null,0,0]
["5.3.15","Išlaidų pavadinimas",null,null,null,null,0,0]
["5.3.16","Išlaidų pavadinimas",null,null,null,null,0,0]
["5.3.17","Išlaidų pavadinimas",null,null,null,null,0,0]
["5.3.18","Išlaidų pavadinimas",null,null,null,null,0,0]
["5.3.19","Išlaidų pavadinimas",null,null,null,null,0,0]
["5.3.20","Išlaidų pavadinimas",null,null,null,null,0,0]
["5.3.21","Išlaidų pavadinimas",null,null,null,null,0,0]
["5.3.22","Išlaidų pavadinimas",null,null,null,null,0,0]
["5.3.23","Išlaidų pavadinimas",null,null,null,null,0,0]
["5.3.24","Išlaidų pavadinimas",null,null,null,null,0,0]
["5.3.25","Išlaidų pavadinimas",null,null,null,null,0,0]
["5.3.26","Išlaidų pavadinimas",null,null,null,null,0,0]
["5.3.27","Išlaidų pavadinimas",null,null,null,null,0,0]
["5.4","Projekto MTEP veikloms naudojamo ilgalaikio materialaus turto (įrangos, prietaisų, įrankių, įrenginių, mašinų ir įrengimų, pastatų ir (ar) patalpų), nusidėvėjimo sąnaudos, jeigu šiam turtui įsigyti nebuvo naudojamos viešosios (įskaitant ir kitų valstybių) lėšos",null,null,null,null,{"$f":"SUM(G73:G101)","v":0},{"$f":"SUM(H73:H101)","v":0},null,"Turto įvedimo į eksploataciją data","Turto įsigijimo vertė, Eur","Turto nudėvėjimo, amortizacijos laikotarpis, mėn.","Numatoma turto likutinė vertė, Eur","1 mėn. nudėvėjimo, amortizacijos suma, Eur","Turto naudojamo projekto reikmėms laikas, mėn.","Turto panaudojimo projekto reikmėms dalis (proc.)","Projektui priskirta turto nusidėvėjimo, amortizacijos suma per projekto laikotarpį, Eur"]
["5.4.1","Turtas, kurio nusidėvėjimą, amortizaciją prašoma finansuoti",null,null,1,{"$f":"Q73","v":0},{"$f":"ROUND(E73*F73,2)","v":0},0,null,null,null,null,null,{"$f":"IFERROR(ROUND((K73-M73)/L73,2),\"0\")","v":"0"},null,null,{"$f":"N73*O73*P73","v":0},{"$f":"IF(J73=0,\" \",IF(J73+(L73*30.5)<TODAY(),\"DĖMESIO! Patikrinkite, ar nurodytas turtas dar nėra nudėvėtas, amortizuotas\",\" \"))","v":" "}]
["5.4.2","Turtas, kurio nusidėvėjimą, amortizaciją prašoma finansuoti",null,null,1,0,0,0,null,null,null,null,null,{"$f":"IFERROR(ROUND((K74-M74)/L74,2),\"0\")","v":"0"},null,null,{"$f":"N74*O74*P74","v":0},{"$f":"IF(J74=0,\" \",IF(J74+(L74*30.5)<TODAY(),\"DĖMESIO! Patikrinkite, ar nurodytas turtas dar nėra nudėvėtas, amortizuotas\",\" \"))","v":" "}]
["5.4.3","Turtas, kurio nusidėvėjimą, amortizaciją prašoma finansuoti",null,null,1,0,0,0,null,null,null,null,null,"0",null,null,0," "]
["5.4.4","Turtas, kurio nusidėvėjimą, amortizaciją prašoma finansuoti",null,null,1,0,0,0,null,null,null,null,null,"0",null,null,0," "]
["5.4.5","Turtas, kurio nusidėvėjimą, amortizaciją prašoma finansuoti",null,null,1,0,0,0,null,null,null,null,null,"0",null,null,0," "]
["5.4.6","Turtas, kurio nusidėvėjimą, amortizaciją prašoma finansuoti",null,null,1,0,0,0,null,null,null,null,null,"0",null,null,0," "]
["5.4.7","Turtas, kurio nusidėvėjimą, amortizaciją prašoma finansuoti",null,null,1,0,0,0,null,null,null,null,null,"0",null,null,0," "]
["5.4.8","Turtas, kurio nusidėvėjimą, amortizaciją prašoma finansuoti",null,null,1,0,0,0,null,null,null,null,null,"0",null,null,0," "]
["5.4.9","Turtas, kurio nusidėvėjimą, amortizaciją prašoma finansuoti",null,null,1,0,0,0,null,null,null,null,null,"0",null,null,0," "]
["5.4.10","Turtas, kurio nusidėvėjimą, amortizaciją prašoma finansuoti",null,null,1,0,0,0,null,null,null,null,null,"0",null,null,0," "]
["5.4.11","Turtas, kurio nusidėvėjimą, amortizaciją prašoma finansuoti",null,null,1,0,0,0,null,null,null,null,null,"0",null,null,0," "]
["5.4.12","Turtas, kurio nusidėvėjimą, amortizaciją prašoma finansuoti",null,null,1,0,0,0,null,null,null,null,null,"0",null,null,0," "]
["5.4.13","Turtas, kurio nusidėvėjimą, amortizaciją prašoma finansuoti",null,null,1,0,0,0,null,null,null,null,null,"0",null,null,0," "]
["5.4.14","Turtas, kurio nusidėvėjimą, amortizaciją prašoma finansuoti",null,null,1,0,0,0,null,null,null,null,null,"0",null,null,0," "]
["5.4.15","Turtas, kurio nusidėvėjimą, amortizaciją prašoma finansuoti",null,null,1,0,0,0,null,null,null,null,null,"0",null,null,0," "]
["5.4.16","Turtas, kurio nusidėvėjimą, amortizaciją prašoma finansuoti",null,null,1,0,0,0,null,null,null,null,null,"0",null,null,0," "]
["5.4.17","Turtas, kurio nusidėvėjimą, amortizaciją prašoma finansuoti",null,null,1,0,0,0,null,null,null,null,null,"0",null,null,0," "]
["5.4.18","Turtas, kurio nusidėvėjimą, amortizaciją prašoma finansuoti",null,null,1,0,0,0,null,null,null,null,null,"0",null,null,0," "]
["5.4.19","Turtas, kurio nusidėvėjimą, amortizaciją prašoma finansuoti",null,null,1,0,0,0,null,null,null,null,null,"0",null,null,0," "]
["5.4.20","Turtas, kurio nusidėvėjimą, amortizaciją prašoma finansuoti",null,null,1,0,0,0,null,null,null,null,null,"0",null,null,0," "]
["5.4.21","Turtas, kurio nusidėvėjimą, amortizaciją prašoma finansuoti",null,null,1,0,0,0,null,null,null,null,null,"0",null,null,0," "]
["5.4.22","Turtas, kurio nusidėvėjimą, amortizaciją prašoma finansuoti",null,null,1,0,0,0,null,null,null,null,null,"0",null,null,0," "]
["5.4.23","Turtas, kurio nusidėvėjimą, amortizaciją prašoma finansuoti",null,null,1,0,0,0,null,null,null,null,null,"0",null,null,0," "]
["5.4.24","Turtas, kurio nusidėvėjimą, amortizaciją prašoma finansuoti",null,null,1,0,0,0,null,null,null,null,null,"0",null,null,0," "]
["5.4.25","Turtas, kurio nusidėvėjimą, amortizaciją prašoma finansuoti",null,null,1,0,0,0,null,null,null,null,null,"0",null,null,0," "]
["5.4.26","Turtas, kurio nusidėvėjimą, amortizaciją prašoma finansuoti",null,null,1,0,0,0,null,null,null,null,null,"0",null,null,0," "]
["5.4.27","Turtas, kurio nusidėvėjimą, amortizaciją prašoma finansuoti",null,null,1,0,0,0,null,null,null,null,null,"0",null,null,0," "]
["5.4.28","Turtas, kurio nusidėvėjimą, amortizaciją prašoma finansuoti",null,null,1,0,0,0,null,null,null,null,null,"0",null,null,0," "]
["5.4.29","Turtas, kurio nusidėvėjimą, amortizaciją prašoma finansuoti",null,null,1,0,0,0,null,null,null,null,null,"0",null,null,0," "]
["5.5","Projektą vykdančio personalo darbo užmokestis ir išlaidos su darbo santykiais susijusiems darbdavio įsipareigojimams",null,null,null,null,{"$f":"SUM(G103:G152)","v":0},{"$f":"SUM(H103:H152)","v":0},null,"Faktiškai gaunamas darbo užmokesti už 1 valandą pagal  pastarųjų 6 mėn. vidurkį, Eur"]
["5.5.1","Pareigybės pavadinimas","Darbuotojo vardas pavardė","val.",null,{"$f":"IFERROR(ROUND(AVERAGE(J103:J107),2),\"0\")","v":"0"},{"$f":"ROUND(E103*F103,2)","v":0},{"$f":"ROUND(G103*$D$7,2)","v":0}]
[null,null,"Darbuotojo vardas pavardė"]
[null,null,"Darbuotojo vardas pavardė"]
[null,null,"Darbuotojo vardas pavardė"]
[null,null,"Darbuotojo vardas pavardė"]
["5.5.2","Pareigybės pavadinimas","Darbuotojo vardas pavardė","val.",null,{"$f":"IFERROR(ROUND(AVERAGE(J108:J112),2),\"0\")","v":"0"},{"$f":"ROUND(E108*F108,2)","v":0},{"$f":"ROUND(G108*$D$7,2)","v":0}]
[null,null,"Darbuotojo vardas pavardė"]
[null,null,"Darbuotojo vardas pavardė"]
[null,null,"Darbuotojo vardas pavardė"]
[null,null,"Darbuotojo vardas pavardė"]
["5.5.3","Pareigybės pavadinimas","Darbuotojo vardas pavardė","val.",null,{"$f":"IFERROR(ROUND(AVERAGE(J113:J117),2),\"0\")","v":"0"},{"$f":"ROUND(E113*F113,2)","v":0},{"$f":"ROUND(G113*$D$7,2)","v":0}]
[null,null,"Darbuotojo vardas pavardė"]
[null,null,"Darbuotojo vardas pavardė"]
[null,null,"Darbuotojo vardas pavardė"]
[null,null,"Darbuotojo vardas pavardė"]
["5.5.4","Pareigybės pavadinimas","Darbuotojo vardas pavardė","val.",null,{"$f":"IFERROR(ROUND(AVERAGE(J118:J122),2),\"0\")","v":"0"},{"$f":"ROUND(E118*F118,2)","v":0},{"$f":"ROUND(G118*$D$7,2)","v":0}]
[null,null,"Darbuotojo vardas pavardė"]
[null,null,"Darbuotojo vardas pavardė"]
[null,null,"Darbuotojo vardas pavardė"]
[null,null,"Darbuotojo vardas pavardė"]
["5.5.5","Pareigybės pavadinimas","Darbuotojo vardas pavardė","val.",null,{"$f":"IFERROR(ROUND(AVERAGE(J123:J127),2),\"0\")","v":"0"},{"$f":"ROUND(E123*F123,2)","v":0},{"$f":"ROUND(G123*$D$7,2)","v":0}]
[null,null,"Darbuotojo vardas pavardė"]
[null,null,"Darbuotojo vardas pavardė"]
[null,null,"Darbuotojo vardas pavardė"]
[null,null,"Darbuotojo vardas pavardė"]
["5.5.6","Pareigybės pavadinimas","Darbuotojo vardas pavardė","val.",null,{"$f":"IFERROR(ROUND(AVERAGE(J128:J132),2),\"0\")","v":"0"},{"$f":"ROUND(E128*F128,2)","v":0},{"$f":"ROUND(G128*$D$7,2)","v":0}]
[null,null,"Darbuotojo vardas pavardė"]
[null,null,"Darbuotojo vardas pavardė"]
[null,null,"Darbuotojo vardas pavardė"]
[null,null,"Darbuotojo vardas pavardė"]
["5.5.7","Pareigybės pavadinimas","Darbuotojo vardas pavardė","val.",null,{"$f":"IFERROR(ROUND(AVERAGE(J133:J137),2),\"0\")","v":"0"},{"$f":"ROUND(E133*F133,2)","v":0},{"$f":"ROUND(G133*$D$7,2)","v":0}]
[null,null,"Darbuotojo vardas pavardė"]
[null,null,"Darbuotojo vardas pavardė"]
[null,null,"Darbuotojo vardas pavardė"]
[null,null,"Darbuotojo vardas pavardė"]
["5.5.8","Pareigybės pavadinimas","Darbuotojo vardas pavardė","val.",null,{"$f":"IFERROR(ROUND(AVERAGE(J138:J142),2),\"0\")","v":"0"},{"$f":"ROUND(E138*F138,2)","v":0},{"$f":"ROUND(G138*$D$7,2)","v":0}]
[null,null,"Darbuotojo vardas pavardė"]
[null,null,"Darbuotojo vardas pavardė"]
[null,null,"Darbuotojo vardas pavardė"]
[null,null,"Darbuotojo vardas pavardė"]
["5.5.9","Pareigybės pavadinimas","Darbuotojo vardas pavardė","val.",null,{"$f":"IFERROR(ROUND(AVERAGE(J143:J147),2),\"0\")","v":"0"},{"$f":"ROUND(E143*F143,2)","v":0},{"$f":"ROUND(G143*$D$7,2)","v":0}]
[null,null,"Darbuotojo vardas pavardė"]
[null,null,"Darbuotojo vardas pavardė"]
[null,null,"Darbuotojo vardas pavardė"]
[null,null,"Darbuotojo vardas pavardė"]
["5.5.10","Pareigybės pavadinimas","Darbuotojo vardas pavardė","val.",null,{"$f":"IFERROR(ROUND(AVERAGE(J148:J152),2),\"0\")","v":"0"},{"$f":"ROUND(E148*F148,2)","v":0},{"$f":"ROUND(G148*$D$7,2)","v":0}]
[null,null,"Darbuotojo vardas pavardė"]
[null,null,"Darbuotojo vardas pavardė"]
[null,null,"Darbuotojo vardas pavardė"]
[null,null,"Darbuotojo vardas pavardė"]
["5.6","Projektą vykdančio personalo komandiruočių išlaidos",null,null,null,null,{"$f":"SUM(G154,G161,G168,G175,G182,G189,G196,G203,G210,G217)","v":0},{"$f":"SUM(H154,H161,H168,H175,H182,H189,H196,H203,H210,H217)","v":0}]
["5.6.1","Komandiruotės pavadinimas, vieta, trukmė dienomis, vykstančių asmenų skaičius","Iš viso komandiruotei",null,null,null,{"$f":"SUM(G155:G160)","v":0},{"$f":"ROUND(G154*$D$7,2)","v":0}]
[null,null,"Dienpinigiai",null,null,null,{"$f":"ROUND(E155*F155,2)","v":0}]
[null,null,"Gyvenamojo ploto nuoma",null,null,null,0]
[null,null,"Kelionės išlaidos",null,null,null,0]
[null,null,"Dalyvavimo mokestis",null,null,null,0]
[null,null,"Kitos išlaidų pavadinimas",null,null,null,0]
[null,null,"Kitos išlaidų pavadinimas",null,null,null,0]
["5.6.2","Komandiruotės pavadinimas, vieta, trukmė dienomis, vykstančių asmenų skaičius","Iš viso komandiruotei",null,null,null,{"$f":"SUM(G162:G167)","v":0},{"$f":"ROUND(G161*$D$7,2)","v":0}]
[null,null,"Dienpinigiai",null,null,null,{"$f":"ROUND(E162*F162,2)","v":0}]
[null,null,"Gyvenamojo ploto nuoma",null,null,null,0]
[null,null,"Kelionės išlaidos",null,null,null,0]
[null,null,"Dalyvavimo mokestis",null,null,null,0]
[null,null,"Kitos išlaidų pavadinimas",null,null,null,0]
[null,null,"Kitos išlaidų pavadinimas",null,null,null,0]
["5.6.3","Komandiruotės pavadinimas, vieta, trukmė dienomis, vykstančių asmenų skaičius","Iš viso komandiruotei",null,null,null,{"$f":"SUM(G169:G174)","v":0},{"$f":"ROUND(G168*$D$7,2)","v":0}]
[null,null,"Dienpinigiai",null,null,null,{"$f":"ROUND(E169*F169,2)","v":0}]
[null,null,"Gyvenamojo ploto nuoma",null,null,null,0]
[null,null,"Kelionės išlaidos",null,null,null,0]
[null,null,"Dalyvavimo mokestis",null,null,null,0]
[null,null,"Kitos išlaidų pavadinimas",null,null,null,0]
[null,null,"Kitos išlaidų pavadinimas",null,null,null,0]
["5.6.4","Komandiruotės pavadinimas, vieta, trukmė dienomis, vykstančių asmenų skaičius","Iš viso komandiruotei",null,null,null,{"$f":"SUM(G176:G181)","v":0},{"$f":"ROUND(G175*$D$7,2)","v":0}]
[null,null,"Dienpinigiai",null,null,null,{"$f":"ROUND(E176*F176,2)","v":0}]
[null,null,"Gyvenamojo ploto nuoma",null,null,null,0]
[null,null,"Kelionės išlaidos",null,null,null,0]
[null,null,"Dalyvavimo mokestis",null,null,null,0]
[null,null,"Kitos išlaidų pavadinimas",null,null,null,0]
[null,null,"Kitos išlaidų pavadinimas",null,null,null,0]
["5.6.5","Komandiruotės pavadinimas, vieta, trukmė dienomis, vykstančių asmenų skaičius","Iš viso komandiruotei",null,null,null,{"$f":"SUM(G183:G188)","v":0},{"$f":"ROUND(G182*$D$7,2)","v":0}]
[null,null,"Dienpinigiai",null,null,null,{"$f":"ROUND(E183*F183,2)","v":0}]
[null,null,"Gyvenamojo ploto nuoma",null,null,null,0]
[null,null,"Kelionės išlaidos",null,null,null,0]
[null,null,"Dalyvavimo mokestis",null,null,null,0]
[null,null,"Kitos išlaidų pavadinimas",null,null,null,0]
[null,null,"Kitos išlaidų pavadinimas",null,null,null,0]
["5.6.6","Komandiruotės pavadinimas, vieta, trukmė dienomis, vykstančių asmenų skaičius","Iš viso komandiruotei",null,null,null,{"$f":"SUM(G190:G195)","v":0},{"$f":"ROUND(G189*$D$7,2)","v":0}]
[null,null,"Dienpinigiai",null,null,null,{"$f":"ROUND(E190*F190,2)","v":0}]
[null,null,"Gyvenamojo ploto nuoma",null,null,null,0]
[null,null,"Kelionės išlaidos",null,null,null,0]
[null,null,"Dalyvavimo mokestis",null,null,null,0]
[null,null,"Kitos išlaidų pavadinimas",null,null,null,0]
[null,null,"Kitos išlaidų pavadinimas",null,null,null,0]
["5.6.7","Komandiruotės pavadinimas, vieta, trukmė dienomis, vykstančių asmenų skaičius","Iš viso komandiruotei",null,null,null,{"$f":"SUM(G197:G202)","v":0},{"$f":"ROUND(G196*$D$7,2)","v":0}]
[null,null,"Dienpinigiai",null,null,null,{"$f":"ROUND(E197*F197,2)","v":0}]
[null,null,"Gyvenamojo ploto nuoma",null,null,null,0]
[null,null,"Kelionės išlaidos",null,null,null,0]
[null,null,"Dalyvavimo mokestis",null,null,null,0]
[null,null,"Kitos išlaidų pavadinimas",null,null,null,0]
[null,null,"Kitos išlaidų pavadinimas",null,null,null,0]
["5.6.8","Komandiruotės pavadinimas, vieta, trukmė dienomis, vykstančių asmenų skaičius","Iš viso komandiruotei",null,null,null,{"$f":"SUM(G204:G209)","v":0},{"$f":"ROUND(G203*$D$7,2)","v":0}]
[null,null,"Dienpinigiai",null,null,null,{"$f":"ROUND(E204*F204,2)","v":0}]
[null,null,"Gyvenamojo ploto nuoma",null,null,null,0]
[null,null,"Kelionės išlaidos",null,null,null,0]
[null,null,"Dalyvavimo mokestis",null,null,null,0]
[null,null,"Kitos išlaidų pavadinimas",null,null,null,0]
[null,null,"Kitos išlaidų pavadinimas",null,null,null,0]
["5.6.9","Komandiruotės pavadinimas, vieta, trukmė dienomis, vykstančių asmenų skaičius","Iš viso komandiruotei",null,null,null,{"$f":"SUM(G211:G216)","v":0},{"$f":"ROUND(G210*$D$7,2)","v":0}]
[null,null,"Dienpinigiai",null,null,null,{"$f":"ROUND(E211*F211,2)","v":0}]
[null,null,"Gyvenamojo ploto nuoma",null,null,null,0]
[null,null,"Kelionės išlaidos",null,null,null,0]
[null,null,"Dalyvavimo mokestis",null,null,null,0]
[null,null,"Kitos išlaidų pavadinimas",null,null,null,0]
[null,null,"Kitos išlaidų pavadinimas",null,null,null,0]
["5.6.10","Komandiruotės pavadinimas, vieta, trukmė dienomis, vykstančių asmenų skaičius","Iš viso komandiruotei",null,null,null,{"$f":"SUM(G218:G223)","v":0},{"$f":"ROUND(G217*$D$7,2)","v":0}]
[null,null,"Dienpinigiai",null,null,null,{"$f":"ROUND(E218*F218,2)","v":0}]
[null,null,"Gyvenamojo ploto nuoma",null,null,null,0]
[null,null,"Kelionės išlaidos",null,null,null,0]
[null,null,"Dalyvavimo mokestis",null,null,null,0]
[null,null,"Kitos išlaidų pavadinimas",null,null,null,0]
[null,null,"Kitos išlaidų pavadinimas",null,null,null,0]
["5.7","Įrangos nuomos išlaidos, veiklai priskirtos pro rata principu. Įranga turi būti tiesiogiai susijusi su projekto įgyvendinimu ir negali būti įsigyta iš ES struktūrinių fondų ar kt. ES finansinių priemonių lėšų",null,null,null,null,{"$f":"SUM(G225:G241)","v":0},{"$f":"SUM(H225:H241)","v":0},null,"Faktinės 1 mėnesio išlaidos, Eur","Naudojimo projekte trukmė, mėn."]
["5.7.1","Įrangos pavadinimas",null,"pro rata proc.",null,{"$f":"J225*K225","v":0},{"$f":"ROUND(E225*F225,2)","v":0},{"$f":"ROUND(G225*$D$7,2)","v":0}]
["5.7.2","Įrangos pavadinimas",null,"pro rata proc.",null,0,0,{"$f":"ROUND(G226*$D$7,2)","v":0}]
["5.7.3","Įrangos pavadinimas",null,"pro rata proc.",null,0,0,0]
["5.7.4","Įrangos pavadinimas",null,"pro rata proc.",null,0,0,0]
["5.7.5","Įrangos pavadinimas",null,"pro rata proc.",null,0,0,0]
["5.7.6","Įrangos pavadinimas",null,"pro rata proc.",null,0,0,0]
["5.7.7","Įrangos pavadinimas",null,"pro rata proc.",null,0,0,0]
["5.7.8","Įrangos pavadinimas",null,"pro rata proc.",null,0,0,0]
["5.7.9","Įrangos pavadinimas",null,"pro rata proc.",null,0,0,0]
["5.7.10","Įrangos pavadinimas",null,"pro rata proc.",null,0,0,0]
["5.7.11","Įrangos pavadinimas",null,"pro rata proc.",null,0,0,0]
["5.7.12","Įrangos pavadinimas",null,"pro rata proc.",null,0,0,0]
["5.7.13","Įrangos pavadinimas",null,"pro rata proc.",null,0,0,0]
["5.7.14","Įrangos pavadinimas",null,"pro rata proc.",null,{"$f":"J238*K238","v":0},0,{"$f":"ROUND(G238*$D$7,2)","v":0}]
["5.7.15","Įrangos pavadinimas",null,"pro rata proc.",null,{"$f":"J239*K239","v":0},0,{"$f":"ROUND(G239*$D$7,2)","v":0}]
["5.7.16","Įrangos pavadinimas",null,"pro rata proc.",null,{"$f":"J240*K240","v":0},0,{"$f":"ROUND(G240*$D$7,2)","v":0}]
["5.7.17","Įrangos pavadinimas",null,"pro rata proc.",null,{"$f":"J241*K241","v":0},0,{"$f":"ROUND(G241*$D$7,2)","v":0}]
["5.8","Pastatų ar patalpų nuomos išlaidos, veiklai priskirtos pro rata principu. Pastatai ar patalpos turi būti tiesiogiai susijusi su projekto įgyvendinimu.",null,null,null,null,{"$f":"SUM(G243:G247)","v":0},{"$f":"SUM(H243:H247)","v":0},null,"Faktinės 1 mėnesio išlaidos, Eur","Naudojimo projekte trukmė, mėn."]
["5.8.1","Pastato, patalpų adresas",null,"pro rata proc.",null,{"$f":"J243*K243","v":0},{"$f":"ROUND(E243*F243,2)","v":0},{"$f":"ROUND(G243*$D$7,2)","v":0}]
["5.8.2","Pastato, patalpų adresas",null,"pro rata proc.",null,{"$f":"J244*K244","v":0},{"$f":"ROUND(E244*F244,2)","v":0},{"$f":"ROUND(G244*$D$7,2)","v":0}]
["5.8.3","Pastato, patalpų adresas",null,"pro rata proc.",null,{"$f":"J245*K245","v":0},{"$f":"ROUND(E245*F245,2)","v":0},{"$f":"ROUND(G245*$D$7,2)","v":0}]
["5.8.4","Pastato, patalpų adresas",null,"pro rata proc.",null,{"$f":"J246*K246","v":0},{"$f":"ROUND(E246*F246,2)","v":0},{"$f":"ROUND(G246*$D$7,2)","v":0}]
["5.8.5","Pastato, patalpų adresas",null,"pro rata proc.",null,{"$f":"J247*K247","v":0},{"$f":"ROUND(E247*F247,2)","v":0},{"$f":"ROUND(G247*$D$7,2)","v":0}]
["5.9","Projekto veikloms vykdyti reikalingų transporto priemonių nuomos išlaidos (išlaidos yra tinkamos finansuoti tik pagal Aprašą Nr. 2 vadovaujantis de minimis reglamento nuostatomis)",null,null,null,null,{"$f":"SUM(G249:G253)","v":0},{"$f":"SUM(H249:H253)","v":0}]
["5.9.1","Išlaidų pavadinimas",null,null,null,null,{"$f":"ROUND(E249*F249,2)","v":0},{"$f":"ROUND(G249*$D$7,2)","v":0}]
["5.9.2","Išlaidų pavadinimas",null,null,null,null,{"$f":"ROUND(E250*F250,2)","v":0},{"$f":"ROUND(G250*$D$7,2)","v":0}]
["5.9.3","Išlaidų pavadinimas",null,null,null,null,{"$f":"ROUND(E251*F251,2)","v":0},{"$f":"ROUND(G251*$D$7,2)","v":0}]
["5.9.4","Išlaidų pavadinimas",null,null,null,null,{"$f":"ROUND(E252*F252,2)","v":0},{"$f":"ROUND(G252*$D$7,2)","v":0}]
["5.9.5","Išlaidų pavadinimas",null,null,null,null,{"$f":"ROUND(E253*F253,2)","v":0},{"$f":"ROUND(G253*$D$7,2)","v":0}]
["Iš viso tinkamų finansuoti išlaidų:",null,null,null,null,null,{"$f":"G10+G21","v":0},{"$f":"H10+H21","v":0}]

{"sheet":"10","index":22,"n_rows":254,"n_cols":18,"rows_kept":254,"cut":false,"hidden":true,"merged":[[5,3,5,8],[8,1,8,2],[9,1,9,5],[10,1,10,2],[11,1,11,2],[12,1,12,2],[0,3,0,8],[2,0,2,2],[2,3,2,8],[3,3,3,4],[3,5,3,6],[4,0,4,2],[4,3,4,8],[19,1,19,2],[20,1,20,5],[21,1,21,5],[22,1,22,2],[23,1,23,2],[24,1,24,2],[13,1,13,2],[14,1,14,2],[15,1,15,2],[16,1,16,2],[17,1,17,2],[18,1,18,2],[31,1,31,2],[32,1,32,5],[33,1,33,2],[34,1,34,2],[35,1,35,2],[36,1,36,2],[25,1,25,2],[26,1,26,2],[27,1,27,2],[28,1,28,2],[29,1,29,2],[30,1,30,2],[43,1,43,5],[44,1,44,2],[45,1,45,2],[46,1,46,2],[47,1,47,2],[48,1,48,2],[37,1,37,2],[38,1,38,2],[39,1,39,2],[40,1,40,2],[41,1,41,2],[42,1,42,2],[55,1,55,2],[56,1,56,2],[57,1,57,2],[58,1,58,2],[59,1,59,2],[60,1,60,2],[49,1,49,2],[50,1,50,2],[51,1,51,2],[52,1,52,2],[53,1,53,2],[54,1,54,2],[67,1,67,2],[68,1,68,2],[69,1,69,2],[70,1,70,2],[71,1,71,5],[72,1,72,2],[61,1,61,2],[62,1,62,2],[63,1,63,2],[64,1,64,2],[65,1,65,2],[66,1,66,2],[79,1,79,2],[80,1,80,2],[81,1,81,2],[82,1,82,2],[83,1,83,2],[84,1,84,2],[73,1,73,2],[74,1,74,2],[75,1,75,2],[76,1,76,2],[77,1,77,2],[78,1,78,2],[91,1,91,2],[92,1,92,2],[93,1,93,2],[94,1,94,2],[95,1,95,2],[96,1,96,2],[85,1,85,2],[86,1,86,2],[87,1,87,2],[88,1,88,2],[89,1,89,2],[90,1,90,2],[97,1,97,2],[98,1,98,2],[99,1,99,2],[100,1,100,2],[101,1,101,5],[102,0,106,0],[102,1,106,1],[102,3,106,3],[102,4,106,4],[102,5,106,5],[102,6,106,6],[102,7,106,7],[102,8,106,8],[107,0,111,0],[107,1,111,1],[107,3,111,3],[107,4,111,4],[107,5,111,5],[107,6,111,6],[107,7,111,7],[107,8,111,8],[112,0,116,0],[112,1,116,1],[112,3,116,3],[112,4,116,4],[112,5,116,5],[112,6,116,6],[112,7,116,7],[112,8,116,8],[117,7,121,7],[117,8,121,8],[122,0,126,0],[122,1,126,1],[122,3,126,3],[122,4,126,4],[122,5,126,5],[122,6,126,6],[122,7,126,7],[122,8,126,8],[117,0,121,0],[117,1,121,1],[117,3,121,3],[117,4,121,4],[117,5,121,5],[117,6,121,6],[127,7,131,7],[127,8,131,8],[132,0,136,0],[132,1,136,1],[132,3,136,3],[132,4,136,4],[132,5,136,5],[132,6,136,6],[132,7,136,7],[132,8,136,8],[127,0,131,0],[127,1,131,1],[127,3,131,3],[127,4,131,4],[127,5,131,5],[127,6,131,6],[137,7,141,7],[137,8,141,8],[142,0,146,0],[142,1,146,1],[142,3,146,3],[142,4,146,4],[142,5,146,5],[142,6,146,6],[142,7,146,7],[142,8,146,8],[137,0,141,0],[137,1,141,1],[137,3,141,3],[137,4,141,4],[137,5,141,5],[137,6,141,6],[147,7,151,7],[147,8,151,8],[152,1,152,5],[153,0,159,0],[153,1,159,1],[153,8,159,8],[147,0,151,0],[147,1,151,1],[147,3,151,3],[147,4,151,4],[147,5,151,5],[147,6,151,6],[174,0,180,0],[174,1,180,1],[174,8,180,8],[181,0,187,0],[181,1,187,1],[181,8,187,8],[160,0,166,0],[160,1,166,1],[160,8,166,8],[167,0,173,0],[167,1,173,1],[167,8,173,8],[202,0,208,0],[202,1,208,1],[202,8,208,8],[209,0,215,0],[209,1,215,1],[209,8,215,8],[188,0,194,0],[188,1,194,1],[188,8,194,8],[195,0,201,0],[195,1,201,1],[195,8,201,8],[226,1,226,2],[227,1,227,2],[228,1,228,2],[229,1,229,2],[230,1,230,2],[231,1,231,2],[216,0,222,0],[216,1,222,1],[216,8,222,8],[223,1,223,5],[224,1,224,2],[225,1,225,2],[238,1,238,2],[239,1,239,2],[240,1,240,2],[241,1,241,5],[242,1,242,2],[243,1,243,2],[232,1,232,2],[233,1,233,2],[234,1,234,2],[235,1,235,2],[236,1,236,2],[237,1,237,2],[250,1,250,2],[251,1,251,2],[252,1,252,2],[253,0,253,5],[244,1,244,2],[245,1,245,2],[246,1,246,2],[247,1,247,5],[248,1,248,2],[249,1,249,2]]}
[null,null,"Pasirinkite veiklos tipą:"]
[null,null,"Fizinio rodiklio Nr.:"]
["Fizinio rodiklio pavadinimas:"]
[null,null,"Fizinio rodiklio matavimo vnt.:",null,null,"Fizinio rodiklio vnt. skaičius:"]
["Juridinis asmuo (pareiškėjas, partneris), atsakingas už fizinį rodiklį:"]
[null,null,"Vykdytojo tipas:"]
[null,null,"Finansavimo intensyvumas:",null,null,null,"Pasirinkite biudžeto išlaidų kategoriją:","Visos"]
[]
["Eil. Nr.","Išlaidų kategorijos pavadinimas",null,"Matavimo vnt.","Kiekis","Vieneto kaina be PVM, Eur","Tinkamų finansuoti išlaidų suma be PVM, Eur","Finansavimo suma, Eur","Išlaidų pagrindimo dokumentų pavadinimas, data ir Nr."]
[4,"ĮRANGA, ĮRENGINIAI IR KT. TURTAS (techninių žinių ir išradimų patentų arba teisių pagal licencijų sutartį įsigijimo išlaidos)",null,null,null,null,{"$f":"SUM(G11:G20)","v":0},{"$f":"SUM(H11:H20)","v":0}]
["4.1","Išlaidų pavadinimas",null,null,null,null,{"$f":"ROUND(E11*F11,2)","v":0},{"$f":"ROUND(G11*$D$7,2)","v":0}]
["4.2","Išlaidų pavadinimas",null,null,null,null,0,0]
["4.3","Išlaidų pavadinimas",null,null,null,null,0,0]
["4.4","Išlaidų pavadinimas",null,null,null,null,0,0]
["4.5","Išlaidų pavadinimas",null,null,null,null,0,0]
["4.6","Išlaidų pavadinimas",null,null,null,null,0,0]
["4.7","Išlaidų pavadinimas",null,null,null,null,0,0]
["4.8","Išlaidų pavadinimas",null,null,null,null,0,0]
["4.9","Išlaidų pavadinimas",null,null,null,null,0,0]
["4.10","Išlaidų pavadinimas",null,null,null,null,0,0]
[5,"PROJEKTO VYKDYMAS",null,null,null,null,{"$f":"G22+G33+G44+G72+G102+G153+G224+G242+G248","v":0},{"$f":"H22+H33+H44+H72+H102+H153+H224+H242+H248","v":0}]
["5.1","MTEP paslaugos",null,null,null,null,{"$f":"SUM(G23:G32)","v":0},{"$f":"SUM(H23:H32)","v":0}]
["5.1.1","Paslaugos pavadinimas",null,null,null,null,{"$f":"ROUND(E23*F23,2)","v":0},0]
["5.1.2","Paslaugos pavadinimas",null,null,null,null,0,0]
["5.1.3","Paslaugos pavadinimas",null,null,null,null,0,0]
["5.1.4","Paslaugos pavadinimas",null,null,null,null,0,0]
["5.1.5","Paslaugos pavadinimas",null,null,null,null,0,0]
["5.1.6","Paslaugos pavadinimas",null,null,null,null,0,0]
["5.1.7","Paslaugos pavadinimas",null,null,null,null,0,0]
["5.1.8","Paslaugos pavadinimas",null,null,null,null,0,0]
["5.1.9","Paslaugos pavadinimas",null,null,null,null,0,0]
["5.1.10","Paslaugos pavadinimas",null,null,null,null,0,0]
["5.2","Konsultavimo ir lygiavertės paslaugos, teikiamos vien tik projekto MTEP veiklai.",null,null,null,null,{"$f":"SUM(G34:G43)","v":0},{"$f":"SUM(H34:H43)","v":0}]
["5.2.1","Paslaugos pavadinimas",null,null,null,null,{"$f":"ROUND(E34*F34,2)","v":0},0]
["5.2.2","Paslaugos pavadinimas",null,null,null,null,0,0]
["5.2.3","Paslaugos pavadinimas",null,null,null,null,0,0]
["5.2.4","Paslaugos pavadinimas",null,null,null,null,0,0]
["5.2.5","Paslaugos pavadinimas",null,null,null,null,0,0]
["5.2.6","Paslaugos pavadinimas",null,null,null,null,0,0]
["5.2.7","Paslaugos pavadinimas",null,null,null,null,0,0]
["5.2.8","Paslaugos pavadinimas",null,null,null,null,0,0]
["5.2.9","Paslaugos pavadinimas",null,null,null,null,0,0]
["5.2.10","Paslaugos pavadinimas",null,null,null,null,0,0]
["5.3","Medžiagos, mažavertis inventorius, atsargos ir pan. produktai, priskirtini trumpalaikiam turtui ir tiesiogiai susiję su MTEP veikla",null,null,null,null,{"$f":"SUM(G45:G71)","v":0},{"$f":"SUM(H45:H71)","v":0}]
["5.3.1","Išlaidų pavadinimas",null,null,null,null,{"$f":"ROUND(E45*F45,2)","v":0},{"$f":"ROUND(G45*$D$7,2)","v":0}]
["5.3.2","Išlaidų pavadinimas",null,null,null,null,{"$f":"ROUND(E46*F46,2)","v":0},{"$f":"ROUND(G46*$D$7,2)","v":0}]
["5.3.3","Išlaidų pavadinimas",null,null,null,null,{"$f":"ROUND(E47*F47,2)","v":0},{"$f":"ROUND(G47*$D$7,2)","v":0}]
["5.3.4","Išlaidų pavadinimas",null,null,null,null,{"$f":"ROUND(E48*F48,2)","v":0},{"$f":"ROUND(G48*$D$7,2)","v":0}]
["5.3.5","Išlaidų pavadinimas",null,null,null,null,{"$f":"ROUND(E49*F49,2)","v":0},{"$f":"ROUND(G49*$D$7,2)","v":0}]
["5.3.6","Išlaidų pavadinimas",null,null,null,null,0,0]
["5.3.7","Išlaidų pavadinimas",null,null,null,null,0,0]
["5.3.8","Išlaidų pavadinimas",null,null,null,null,0,0]
["5.3.9","Išlaidų pavadinimas",null,null,null,null,0,0]
["5.3.10","Išlaidų pavadinimas",null,null,null,null,0,0]
["5.3.11","Išlaidų pavadinimas",null,null,null,null,0,0]
["5.3.12","Išlaidų pavadinimas",null,null,null,null,0,0]
["5.3.13","Išlaidų pavadinimas",null,null,null,null,0,0]
["5.3.14","Išlaidų pavadinimas",null,null,null,null,0,0]
["5.3.15","Išlaidų pavadinimas",null,null,null,null,0,0]
["5.3.16","Išlaidų pavadinimas",null,null,null,null,0,0]
["5.3.17","Išlaidų pavadinimas",null,null,null,null,0,0]
["5.3.18","Išlaidų pavadinimas",null,null,null,null,0,0]
["5.3.19","Išlaidų pavadinimas",null,null,null,null,0,0]
["5.3.20","Išlaidų pavadinimas",null,null,null,null,0,0]
["5.3.21","Išlaidų pavadinimas",null,null,null,null,0,0]
["5.3.22","Išlaidų pavadinimas",null,null,null,null,0,0]
["5.3.23","Išlaidų pavadinimas",null,null,null,null,0,0]
["5.3.24","Išlaidų pavadinimas",null,null,null,null,0,0]
["5.3.25","Išlaidų pavadinimas",null,null,null,null,0,0]
["5.3.26","Išlaidų pavadinimas",null,null,null,null,0,0]
["5.3.27","Išlaidų pavadinimas",null,null,null,null,0,0]
["5.4","Projekto MTEP veikloms naudojamo ilgalaikio materialaus turto (įrangos, prietaisų, įrankių, įrenginių, mašinų ir įrengimų, pastatų ir (ar) patalpų), nusidėvėjimo sąnaudos, jeigu šiam turtui įsigyti nebuvo naudojamos viešosios (įskaitant ir kitų valstybių) lėšos",null,null,null,null,{"$f":"SUM(G73:G101)","v":0},{"$f":"SUM(H73:H101)","v":0},null,"Turto įvedimo į eksploataciją data","Turto įsigijimo vertė, Eur","Turto nudėvėjimo, amortizacijos laikotarpis, mėn.","Numatoma turto likutinė vertė, Eur","1 mėn. nudėvėjimo, amortizacijos suma, Eur","Turto naudojamo projekto reikmėms laikas, mėn.","Turto panaudojimo projekto reikmėms dalis (proc.)","Projektui priskirta turto nusidėvėjimo, amortizacijos suma per projekto laikotarpį, Eur"]
["5.4.1","Turtas, kurio nusidėvėjimą, amortizaciją prašoma finansuoti",null,null,1,{"$f":"Q73","v":0},{"$f":"ROUND(E73*F73,2)","v":0},0,null,null,null,null,null,{"$f":"IFERROR(ROUND((K73-M73)/L73,2),\"0\")","v":"0"},null,null,{"$f":"N73*O73*P73","v":0},{"$f":"IF(J73=0,\" \",IF(J73+(L73*30.5)<TODAY(),\"DĖMESIO! Patikrinkite, ar nurodytas turtas dar nėra nudėvėtas, amortizuotas\",\" \"))","v":" "}]
["5.4.2","Turtas, kurio nusidėvėjimą, amortizaciją prašoma finansuoti",null,null,1,0,0,0,null,null,null,null,null,{"$f":"IFERROR(ROUND((K74-M74)/L74,2),\"0\")","v":"0"},null,null,{"$f":"N74*O74*P74","v":0},{"$f":"IF(J74=0,\" \",IF(J74+(L74*30.5)<TODAY(),\"DĖMESIO! Patikrinkite, ar nurodytas turtas dar nėra nudėvėtas, amortizuotas\",\" \"))","v":" "}]
["5.4.3","Turtas, kurio nusidėvėjimą, amortizaciją prašoma finansuoti",null,null,1,0,0,0,null,null,null,null,null,"0",null,null,0," "]
["5.4.4","Turtas, kurio nusidėvėjimą, amortizaciją prašoma finansuoti",null,null,1,0,0,0,null,null,null,null,null,"0",null,null,0," "]
["5.4.5","Turtas, kurio nusidėvėjimą, amortizaciją prašoma finansuoti",null,null,1,0,0,0,null,null,null,null,null,"0",null,null,0," "]
["5.4.6","Turtas, kurio nusidėvėjimą, amortizaciją prašoma finansuoti",null,null,1,0,0,0,null,null,null,null,null,"0",null,null,0," "]
["5.4.7","Turtas, kurio nusidėvėjimą, amortizaciją prašoma finansuoti",null,null,1,0,0,0,null,null,null,null,null,"0",null,null,0," "]
["5.4.8","Turtas, kurio nusidėvėjimą, amortizaciją prašoma finansuoti",null,null,1,0,0,0,null,null,null,null,null,"0",null,null,0," "]
["5.4.9","Turtas, kurio nusidėvėjimą, amortizaciją prašoma finansuoti",null,null,1,0,0,0,null,null,null,null,null,"0",null,null,0," "]
["5.4.10","Turtas, kurio nusidėvėjimą, amortizaciją prašoma finansuoti",null,null,1,0,0,0,null,null,null,null,null,"0",null,null,0," "]
["5.4.11","Turtas, kurio nusidėvėjimą, amortizaciją prašoma finansuoti",null,null,1,0,0,0,null,null,null,null,null,"0",null,null,0," "]
["5.4.12","Turtas, kurio nusidėvėjimą, amortizaciją prašoma finansuoti",null,null,1,0,0,0,null,null,null,null,null,"0",null,null,0," "]
["5.4.13","Turtas, kurio nusidėvėjimą, amortizaciją prašoma finansuoti",null,null,1,0,0,0,null,null,null,null,null,"0",null,null,0," "]
["5.4.14","Turtas, kurio nusidėvėjimą, amortizaciją prašoma finansuoti",null,null,1,0,0,0,null,null,null,null,null,"0",null,null,0," "]
["5.4.15","Turtas, kurio nusidėvėjimą, amortizaciją prašoma finansuoti",null,null,1,0,0,0,null,null,null,null,null,"0",null,null,0," "]
["5.4.16","Turtas, kurio nusidėvėjimą, amortizaciją prašoma finansuoti",null,null,1,0,0,0,null,null,null,null,null,"0",null,null,0," "]
["5.4.17","Turtas, kurio nusidėvėjimą, amortizaciją prašoma finansuoti",null,null,1,0,0,0,null,null,null,null,null,"0",null,null,0," "]
["5.4.18","Turtas, kurio nusidėvėjimą, amortizaciją prašoma finansuoti",null,null,1,0,0,0,null,null,null,null,null,"0",null,null,0," "]
["5.4.19","Turtas, kurio nusidėvėjimą, amortizaciją prašoma finansuoti",null,null,1,0,0,0,null,null,null,null,null,"0",null,null,0," "]
["5.4.20","Turtas, kurio nusidėvėjimą, amortizaciją prašoma finansuoti",null,null,1,0,0,0,null,null,null,null,null,"0",null,null,0," "]
["5.4.21","Turtas, kurio nusidėvėjimą, amortizaciją prašoma finansuoti",null,null,1,0,0,0,null,null,null,null,null,"0",null,null,0," "]
["5.4.22","Turtas, kurio nusidėvėjimą, amortizaciją prašoma finansuoti",null,null,1,0,0,0,null,null,null,null,null,"0",null,null,0," "]
["5.4.23","Turtas, kurio nusidėvėjimą, amortizaciją prašoma finansuoti",null,null,1,0,0,0,null,null,null,null,null,"0",null,null,0," "]
["5.4.24","Turtas, kurio nusidėvėjimą, amortizaciją prašoma finansuoti",null,null,1,0,0,0,null,null,null,null,null,"0",null,null,0," "]
["5.4.25","Turtas, kurio nusidėvėjimą, amortizaciją prašoma finansuoti",null,null,1,0,0,0,null,null,null,null,null,"0",null,null,0," "]
["5.4.26","Turtas, kurio nusidėvėjimą, amortizaciją prašoma finansuoti",null,null,1,0,0,0,null,null,null,null,null,"0",null,null,0," "]
["5.4.27","Turtas, kurio nusidėvėjimą, amortizaciją prašoma finansuoti",null,null,1,0,0,0,null,null,null,null,null,"0",null,null,0," "]
["5.4.28","Turtas, kurio nusidėvėjimą, amortizaciją prašoma finansuoti",null,null,1,0,0,0,null,null,null,null,null,"0",null,null,0," "]
["5.4.29","Turtas, kurio nusidėvėjimą, amortizaciją prašoma finansuoti",null,null,1,0,0,0,null,null,null,null,null,"0",null,null,0," "]
["5.5","Projektą vykdančio personalo darbo užmokestis ir išlaidos su darbo santykiais susijusiems darbdavio įsipareigojimams",null,null,null,null,{"$f":"SUM(G103:G152)","v":0},{"$f":"SUM(H103:H152)","v":0},null,"Faktiškai gaunamas darbo užmokesti už 1 valandą pagal  pastarųjų 6 mėn. vidurkį, Eur"]
["5.5.1","Pareigybės pavadinimas","Darbuotojo vardas pavardė","val.",null,{"$f":"IFERROR(ROUND(AVERAGE(J103:J107),2),\"0\")","v":"0"},{"$f":"ROUND(E103*F103,2)","v":0},{"$f":"ROUND(G103*$D$7,2)","v":0}]
[null,null,"Darbuotojo vardas pavardė"]
[null,null,"Darbuotojo vardas pavardė"]
[null,null,"Darbuotojo vardas pavardė"]
[null,null,"Darbuotojo vardas pavardė"]
["5.5.2","Pareigybės pavadinimas","Darbuotojo vardas pavardė","val.",null,{"$f":"IFERROR(ROUND(AVERAGE(J108:J112),2),\"0\")","v":"0"},{"$f":"ROUND(E108*F108,2)","v":0},{"$f":"ROUND(G108*$D$7,2)","v":0}]
[null,null,"Darbuotojo vardas pavardė"]
[null,null,"Darbuotojo vardas pavardė"]
[null,null,"Darbuotojo vardas pavardė"]
[null,null,"Darbuotojo vardas pavardė"]
["5.5.3","Pareigybės pavadinimas","Darbuotojo vardas pavardė","val.",null,{"$f":"IFERROR(ROUND(AVERAGE(J113:J117),2),\"0\")","v":"0"},{"$f":"ROUND(E113*F113,2)","v":0},{"$f":"ROUND(G113*$D$7,2)","v":0}]
[null,null,"Darbuotojo vardas pavardė"]
[null,null,"Darbuotojo vardas pavardė"]
[null,null,"Darbuotojo vardas pavardė"]
[null,null,"Darbuotojo vardas pavardė"]
["5.5.4","Pareigybės pavadinimas","Darbuotojo vardas pavardė","val.",null,{"$f":"IFERROR(ROUND(AVERAGE(J118:J122),2),\"0\")","v":"0"},{"$f":"ROUND(E118*F118,2)","v":0},{"$f":"ROUND(G118*$D$7,2)","v":0}]
[null,null,"Darbuotojo vardas pavardė"]
[null,null,"Darbuotojo vardas pavardė"]
[null,null,"Darbuotojo vardas pavardė"]
[null,null,"Darbuotojo vardas pavardė"]
["5.5.5","Pareigybės pavadinimas","Darbuotojo vardas pavardė","val.",null,{"$f":"IFERROR(ROUND(AVERAGE(J123:J127),2),\"0\")","v":"0"},{"$f":"ROUND(E123*F123,2)","v":0},{"$f":"ROUND(G123*$D$7,2)","v":0}]
[null,null,"Darbuotojo vardas pavardė"]
[null,null,"Darbuotojo vardas pavardė"]
[null,null,"Darbuotojo vardas pavardė"]
[null,null,"Darbuotojo vardas pavardė"]
["5.5.6","Pareigybės pavadinimas","Darbuotojo vardas pavardė","val.",null,{"$f":"IFERROR(ROUND(AVERAGE(J128:J132),2),\"0\")","v":"0"},{"$f":"ROUND(E128*F128,2)","v":0},{"$f":"ROUND(G128*$D$7,2)","v":0}]
[null,null,"Darbuotojo vardas pavardė"]
[null,null,"Darbuotojo vardas pavardė"]
[null,null,"Darbuotojo vardas pavardė"]
[null,null,"Darbuotojo vardas pavardė"]
["5.5.7","Pareigybės pavadinimas","Darbuotojo vardas pavardė","val.",null,{"$f":"IFERROR(ROUND(AVERAGE(J133:J137),2),\"0\")","v":"0"},{"$f":"ROUND(E133*F133,2)","v":0},{"$f":"ROUND(G133*$D$7,2)","v":0}]
[null,null,"Darbuotojo vardas pavardė"]
[null,null,"Darbuotojo vardas pavardė"]
[null,null,"Darbuotojo vardas pavardė"]
[null,null,"Darbuotojo vardas pavardė"]
["5.5.8","Pareigybės pavadinimas","Darbuotojo vardas pavardė","val.",null,{"$f":"IFERROR(ROUND(AVERAGE(J138:J142),2),\"0\")","v":"0"},{"$f":"ROUND(E138*F138,2)","v":0},{"$f":"ROUND(G138*$D$7,2)","v":0}]
[null,null,"Darbuotojo vardas pavardė"]
[null,null,"Darbuotojo vardas pavardė"]
[null,null,"Darbuotojo vardas pavardė"]
[null,null,"Darbuotojo vardas pavardė"]
["5.5.9","Pareigybės pavadinimas","Darbuotojo vardas pavardė","val.",null,{"$f":"IFERROR(ROUND(AVERAGE(J143:J147),2),\"0\")","v":"0"},{"$f":"ROUND(E143*F143,2)","v":0},{"$f":"ROUND(G143*$D$7,2)","v":0}]
[null,null,"Darbuotojo vardas pavardė"]
[null,null,"Darbuotojo vardas pavardė"]
[null,null,"Darbuotojo vardas pavardė"]
[null,null,"Darbuotojo vardas pavardė"]
["5.5.10","Pareigybės pavadinimas","Darbuotojo vardas pavardė","val.",null,{"$f":"IFERROR(ROUND(AVERAGE(J148:J152),2),\"0\")","v":"0"},{"$f":"ROUND(E148*F148,2)","v":0},{"$f":"ROUND(G148*$D$7,2)","v":0}]
[null,null,"Darbuotojo vardas pavardė"]
[null,null,"Darbuotojo vardas pavardė"]
[null,null,"Darbuotojo vardas pavardė"]
[null,null,"Darbuotojo vardas pavardė"]
["5.6","Projektą vykdančio personalo komandiruočių išlaidos",null,null,null,null,{"$f":"SUM(G154,G161,G168,G175,G182,G189,G196,G203,G210,G217)","v":0},{"$f":"SUM(H154,H161,H168,H175,H182,H189,H196,H203,H210,H217)","v":0}]
["5.6.1","Komandiruotės pavadinimas, vieta, trukmė dienomis, vykstančių asmenų skaičius","Iš viso komandiruotei",null,null,null,{"$f":"SUM(G155:G160)","v":0},{"$f":"ROUND(G154*$D$7,2)","v":0}]
[null,null,"Dienpinigiai",null,null,null,{"$f":"ROUND(E155*F155,2)","v":0}]
[null,null,"Gyvenamojo ploto nuoma",null,null,null,0]
[null,null,"Kelionės išlaidos",null,null,null,0]
[null,null,"Dalyvavimo mokestis",null,null,null,0]
[null,null,"Kitos išlaidų pavadinimas",null,null,null,0]
[null,null,"Kitos išlaidų pavadinimas",null,null,null,0]
["5.6.2","Komandiruotės pavadinimas, vieta, trukmė dienomis, vykstančių asmenų skaičius","Iš viso komandiruotei",null,null,null,{"$f":"SUM(G162:G167)","v":0},{"$f":"ROUND(G161*$D$7,2)","v":0}]
[null,null,"Dienpinigiai",null,null,null,{"$f":"ROUND(E162*F162,2)","v":0}]
[null,null,"Gyvenamojo ploto nuoma",null,null,null,0]
[null,null,"Kelionės išlaidos",null,null,null,0]
[null,null,"Dalyvavimo mokestis",null,null,null,0]
[null,null,"Kitos išlaidų pavadinimas",null,null,null,0]
[null,null,"Kitos išlaidų pavadinimas",null,null,null,0]
["5.6.3","Komandiruotės pavadinimas, vieta, trukmė dienomis, vykstančių asmenų skaičius","Iš viso komandiruotei",null,null,null,{"$f":"SUM(G169:G174)","v":0},{"$f":"ROUND(G168*$D$7,2)","v":0}]
[null,null,"Dienpinigiai",null,null,null,{"$f":"ROUND(E169*F169,2)","v":0}]
[null,null,"Gyvenamojo ploto nuoma",null,null,null,0]
[null,null,"Kelionės išlaidos",null,null,null,0]
[null,null,"Dalyvavimo mokestis",null,null,null,0]
[null,null,"Kitos išlaidų pavadinimas",null,null,null,0]
[null,null,"Kitos išlaidų pavadinimas",null,null,null,0]
["5.6.4","Komandiruotės pavadinimas, vieta, trukmė dienomis, vykstančių asmenų skaičius","Iš viso komandiruotei",null,null,null,{"$f":"SUM(G176:G181)","v":0},{"$f":"ROUND(G175*$D$7,2)","v":0}]
[null,null,"Dienpinigiai",null,null,null,{"$f":"ROUND(E176*F176,2)","v":0}]
[null,null,"Gyvenamojo ploto nuoma",null,null,null,0]
[null,null,"Kelionės išlaidos",null,null,null,0]
[null,null,"Dalyvavimo mokestis",null,null,null,0]
[null,null,"Kitos išlaidų pavadinimas",null,null,null,0]
[null,null,"Kitos išlaidų pavadinimas",null,null,null,0]
["5.6.5","Komandiruotės pavadinimas, vieta, trukmė dienomis, vykstančių asmenų skaičius","Iš viso komandiruotei",null,null,null,{"$f":"SUM(G183:G188)","v":0},{"$f":"ROUND(G182*$D$7,2)","v":0}]
[null,null,"Dienpinigiai",null,null,null,{"$f":"ROUND(E183*F183,2)","v":0}]
[null,null,"Gyvenamojo ploto nuoma",null,null,null,0]
[null,null,"Kelionės išlaidos",null,null,null,0]
[null,null,"Dalyvavimo mokestis",null,null,null,0]
[null,null,"Kitos išlaidų pavadinimas",null,null,null,0]
[null,null,"Kitos išlaidų pavadinimas",null,null,null,0]
["5.6.6","Komandiruotės pavadinimas, vieta, trukmė dienomis, vykstančių asmenų skaičius","Iš viso komandiruotei",null,null,null,{"$f":"SUM(G190:G195)","v":0},{"$f":"ROUND(G189*$D$7,2)","v":0}]
[null,null,"Dienpinigiai",null,null,null,{"$f":"ROUND(E190*F190,2)","v":0}]
[null,null,"Gyvenamojo ploto nuoma",null,null,null,0]
[null,null,"Kelionės išlaidos",null,null,null,0]
[null,null,"Dalyvavimo mokestis",null,null,null,0]
[null,null,"Kitos išlaidų pavadinimas",null,null,null,0]
[null,null,"Kitos išlaidų pavadinimas",null,null,null,0]
["5.6.7","Komandiruotės pavadinimas, vieta, trukmė dienomis, vykstančių asmenų skaičius","Iš viso komandiruotei",null,null,null,{"$f":"SUM(G197:G202)","v":0},{"$f":"ROUND(G196*$D$7,2)","v":0}]
[null,null,"Dienpinigiai",null,null,null,{"$f":"ROUND(E197*F197,2)","v":0}]
[null,null,"Gyvenamojo ploto nuoma",null,null,null,0]
[null,null,"Kelionės išlaidos",null,null,null,0]
[null,null,"Dalyvavimo mokestis",null,null,null,0]
[null,null,"Kitos išlaidų pavadinimas",null,null,null,0]
[null,null,"Kitos išlaidų pavadinimas",null,null,null,0]
["5.6.8","Komandiruotės pavadinimas, vieta, trukmė dienomis, vykstančių asmenų skaičius","Iš viso komandiruotei",null,null,null,{"$f":"SUM(G204:G209)","v":0},{"$f":"ROUND(G203*$D$7,2)","v":0}]
[null,null,"Dienpinigiai",null,null,null,{"$f":"ROUND(E204*F204,2)","v":0}]
[null,null,"Gyvenamojo ploto nuoma",null,null,null,0]
[null,null,"Kelionės išlaidos",null,null,null,0]
[null,null,"Dalyvavimo mokestis",null,null,null,0]
[null,null,"Kitos išlaidų pavadinimas",null,null,null,0]
[null,null,"Kitos išlaidų pavadinimas",null,null,null,0]
["5.6.9","Komandiruotės pavadinimas, vieta, trukmė dienomis, vykstančių asmenų skaičius","Iš viso komandiruotei",null,null,null,{"$f":"SUM(G211:G216)","v":0},{"$f":"ROUND(G210*$D$7,2)","v":0}]
[null,null,"Dienpinigiai",null,null,null,{"$f":"ROUND(E211*F211,2)","v":0}]
[null,null,"Gyvenamojo ploto nuoma",null,null,null,0]
[null,null,"Kelionės išlaidos",null,null,null,0]
[null,null,"Dalyvavimo mokestis",null,null,null,0]
[null,null,"Kitos išlaidų pavadinimas",null,null,null,0]
[null,null,"Kitos išlaidų pavadinimas",null,null,null,0]
["5.6.10","Komandiruotės pavadinimas, vieta, trukmė dienomis, vykstančių asmenų skaičius","Iš viso komandiruotei",null,null,null,{"$f":"SUM(G218:G223)","v":0},{"$f":"ROUND(G217*$D$7,2)","v":0}]
[null,null,"Dienpinigiai",null,null,null,{"$f":"ROUND(E218*F218,2)","v":0}]
[null,null,"Gyvenamojo ploto nuoma",null,null,null,0]
[null,null,"Kelionės išlaidos",null,null,null,0]
[null,null,"Dalyvavimo mokestis",null,null,null,0]
[null,null,"Kitos išlaidų pavadinimas",null,null,null,0]
[null,null,"Kitos išlaidų pavadinimas",null,null,null,0]
["5.7","Įrangos nuomos išlaidos, veiklai priskirtos pro rata principu. Įranga turi būti tiesiogiai susijusi su projekto įgyvendinimu ir negali būti įsigyta iš ES struktūrinių fondų ar kt. ES finansinių priemonių lėšų",null,null,null,null,{"$f":"SUM(G225:G241)","v":0},{"$f":"SUM(H225:H241)","v":0},null,"Faktinės 1 mėnesio išlaidos, Eur","Naudojimo projekte trukmė, mėn."]
["5.7.1","Įrangos pavadinimas",null,"pro rata proc.",null,{"$f":"J225*K225","v":0},{"$f":"ROUND(E225*F225,2)","v":0},{"$f":"ROUND(G225*$D$7,2)","v":0}]
["5.7.2","Įrangos pavadinimas",null,"pro rata proc.",null,0,0,{"$f":"ROUND(G226*$D$7,2)","v":0}]
["5.7.3","Įrangos pavadinimas",null,"pro rata proc.",null,0,0,0]
["5.7.4","Įrangos pavadinimas",null,"pro rata proc.",null,0,0,0]
["5.7.5","Įrangos pavadinimas",null,"pro rata proc.",null,0,0,0]
["5.7.6","Įrangos pavadinimas",null,"pro rata proc.",null,0,0,0]
["5.7.7","Įrangos pavadinimas",null,"pro rata proc.",null,0,0,0]
["5.7.8","Įrangos pavadinimas",null,"pro rata proc.",null,0,0,0]
["5.7.9","Įrangos pavadinimas",null,"pro rata proc.",null,0,0,0]
["5.7.10","Įrangos pavadinimas",null,"pro rata proc.",null,0,0,0]
["5.7.11","Įrangos pavadinimas",null,"pro rata proc.",null,0,0,0]
["5.7.12","Įrangos pavadinimas",null,"pro rata proc.",null,0,0,0]
["5.7.13","Įrangos pavadinimas",null,"pro rata proc.",null,0,0,0]
["5.7.14","Įrangos pavadinimas",null,"pro rata proc.",null,{"$f":"J238*K238","v":0},0,{"$f":"ROUND(G238*$D$7,2)","v":0}]
["5.7.15","Įrangos pavadinimas",null,"pro rata proc.",null,{"$f":"J239*K239","v":0},0,{"$f":"ROUND(G239*$D$7,2)","v":0}]
["5.7.16","Įrangos pavadinimas",null,"pro rata proc.",null,{"$f":"J240*K240","v":0},0,{"$f":"ROUND(G240*$D$7,2)","v":0}]
["5.7.17","Įrangos pavadinimas",null,"pro rata proc.",null,{"$f":"J241*K241","v":0},0,{"$f":"ROUND(G241*$D$7,2)","v":0}]
["5.8","Pastatų ar patalpų nuomos išlaidos, veiklai priskirtos pro rata principu. Pastatai ar patalpos turi būti tiesiogiai susijusi su projekto įgyvendinimu.",null,null,null,null,{"$f":"SUM(G243:G247)","v":0},{"$f":"SUM(H243:H247)","v":0},null,"Faktinės 1 mėnesio išlaidos, Eur","Naudojimo projekte trukmė, mėn."]
["5.8.1","Pastato, patalpų adresas",null,"pro rata proc.",null,{"$f":"J243*K243","v":0},{"$f":"ROUND(E243*F243,2)","v":0},{"$f":"ROUND(G243*$D$7,2)","v":0}]
["5.8.2","Pastato, patalpų adresas",null,"pro rata proc.",null,{"$f":"J244*K244","v":0},{"$f":"ROUND(E244*F244,2)","v":0},{"$f":"ROUND(G244*$D$7,2)","v":0}]
["5.8.3","Pastato, patalpų adresas",null,"pro rata proc.",null,{"$f":"J245*K245","v":0},{"$f":"ROUND(E245*F245,2)","v":0},{"$f":"ROUND(G245*$D$7,2)","v":0}]
["5.8.4","Pastato, patalpų adresas",null,"pro rata proc.",null,{"$f":"J246*K246","v":0},{"$f":"ROUND(E246*F246,2)","v":0},{"$f":"ROUND(G246*$D$7,2)","v":0}]
["5.8.5","Pastato, patalpų adresas",null,"pro rata proc.",null,{"$f":"J247*K247","v":0},{"$f":"ROUND(E247*F247,2)","v":0},{"$f":"ROUND(G247*$D$7,2)","v":0}]
["5.9","Projekto veikloms vykdyti reikalingų transporto priemonių nuomos išlaidos (išlaidos yra tinkamos finansuoti tik pagal Aprašą Nr. 2 vadovaujantis de minimis reglamento nuostatomis)",null,null,null,null,{"$f":"SUM(G249:G253)","v":0},{"$f":"SUM(H249:H253)","v":0}]
["5.9.1","Išlaidų pavadinimas",null,null,null,null,{"$f":"ROUND(E249*F249,2)","v":0},{"$f":"ROUND(G249*$D$7,2)","v":0}]
["5.9.2","Išlaidų pavadinimas",null,null,null,null,{"$f":"ROUND(E250*F250,2)","v":0},{"$f":"ROUND(G250*$D$7,2)","v":0}]
["5.9.3","Išlaidų pavadinimas",null,null,null,null,{"$f":"ROUND(E251*F251,2)","v":0},{"$f":"ROUND(G251*$D$7,2)","v":0}]
["5.9.4","Išlaidų pavadinimas",null,null,null,null,{"$f":"ROUND(E252*F252,2)","v":0},{"$f":"ROUND(G252*$D$7,2)","v":0}]
["5.9.5","Išlaidų pavadinimas",null,null,null,null,{"$f":"ROUND(E253*F253,2)","v":0},{"$f":"ROUND(G253*$D$7,2)","v":0}]
["Iš viso tinkamų finansuoti išlaidų:",null,null,null,null,null,{"$f":"G10+G21","v":0},{"$f":"H10+H21","v":0}]

{"sheet":"11","index":23,"n_rows":254,"n_cols":18,"rows_kept":254,"cut":false,"hidden":true,"merged":[[5,3,5,8],[8,1,8,2],[9,1,9,5],[10,1,10,2],[11,1,11,2],[12,1,12,2],[0,3,0,8],[2,0,2,2],[2,3,2,8],[3,3,3,4],[3,5,3,6],[4,0,4,2],[4,3,4,8],[19,1,19,2],[20,1,20,5],[21,1,21,5],[22,1,22,2],[23,1,23,2],[24,1,24,2],[13,1,13,2],[14,1,14,2],[15,1,15,2],[16,1,16,2],[17,1,17,2],[18,1,18,2],[31,1,31,2],[32,1,32,5],[33,1,33,2],[34,1,34,2],[35,1,35,2],[36,1,36,2],[25,1,25,2],[26,1,26,2],[27,1,27,2],[28,1,28,2],[29,1,29,2],[30,1,30,2],[43,1,43,5],[44,1,44,2],[45,1,45,2],[46,1,46,2],[47,1,47,2],[48,1,48,2],[37,1,37,2],[38,1,38,2],[39,1,39,2],[40,1,40,2],[41,1,41,2],[42,1,42,2],[55,1,55,2],[56,1,56,2],[57,1,57,2],[58,1,58,2],[59,1,59,2],[60,1,60,2],[49,1,49,2],[50,1,50,2],[51,1,51,2],[52,1,52,2],[53,1,53,2],[54,1,54,2],[67,1,67,2],[68,1,68,2],[69,1,69,2],[70,1,70,2],[71,1,71,5],[72,1,72,2],[61,1,61,2],[62,1,62,2],[63,1,63,2],[64,1,64,2],[65,1,65,2],[66,1,66,2],[79,1,79,2],[80,1,80,2],[81,1,81,2],[82,1,82,2],[83,1,83,2],[84,1,84,2],[73,1,73,2],[74,1,74,2],[75,1,75,2],[76,1,76,2],[77,1,77,2],[78,1,78,2],[91,1,91,2],[92,1,92,2],[93,1,93,2],[94,1,94,2],[95,1,95,2],[96,1,96,2],[85,1,85,2],[86,1,86,2],[87,1,87,2],[88,1,88,2],[89,1,89,2],[90,1,90,2],[97,1,97,2],[98,1,98,2],[99,1,99,2],[100,1,100,2],[101,1,101,5],[102,0,106,0],[102,1,106,1],[102,3,106,3],[102,4,106,4],[102,5,106,5],[102,6,106,6],[102,7,106,7],[102,8,106,8],[107,0,111,0],[107,1,111,1],[107,3,111,3],[107,4,111,4],[107,5,111,5],[107,6,111,6],[107,7,111,7],[107,8,111,8],[112,0,116,0],[112,1,116,1],[112,3,116,3],[112,4,116,4],[112,5,116,5],[112,6,116,6],[112,7,116,7],[112,8,116,8],[117,7,121,7],[117,8,121,8],[122,0,126,0],[122,1,126,1],[122,3,126,3],[122,4,126,4],[122,5,126,5],[122,6,126,6],[122,7,126,7],[122,8,126,8],[117,0,121,0],[117,1,121,1],[117,3,121,3],[117,4,121,4],[117,5,121,5],[117,6,121,6],[127,7,131,7],[127,8,131,8],[132,0,136,0],[132,1,136,1],[132,3,136,3],[132,4,136,4],[132,5,136,5],[132,6,136,6],[132,7,136,7],[132,8,136,8],[127,0,131,0],[127,1,131,1],[127,3,131,3],[127,4,131,4],[127,5,131,5],[127,6,131,6],[137,7,141,7],[137,8,141,8],[142,0,146,0],[142,1,146,1],[142,3,146,3],[142,4,146,4],[142,5,146,5],[142,6,146,6],[142,7,146,7],[142,8,146,8],[137,0,141,0],[137,1,141,1],[137,3,141,3],[137,4,141,4],[137,5,141,5],[137,6,141,6],[147,7,151,7],[147,8,151,8],[152,1,152,5],[153,0,159,0],[153,1,159,1],[153,8,159,8],[147,0,151,0],[147,1,151,1],[147,3,151,3],[147,4,151,4],[147,5,151,5],[147,6,151,6],[174,0,180,0],[174,1,180,1],[174,8,180,8],[181,0,187,0],[181,1,187,1],[181,8,187,8],[160,0,166,0],[160,1,166,1],[160,8,166,8],[167,0,173,0],[167,1,173,1],[167,8,173,8],[202,0,208,0],[202,1,208,1],[202,8,208,8],[209,0,215,0],[209,1,215,1],[209,8,215,8],[188,0,194,0],[188,1,194,1],[188,8,194,8],[195,0,201,0],[195,1,201,1],[195,8,201,8],[226,1,226,2],[227,1,227,2],[228,1,228,2],[229,1,229,2],[230,1,230,2],[231,1,231,2],[216,0,222,0],[216,1,222,1],[216,8,222,8],[223,1,223,5],[224,1,224,2],[225,1,225,2],[238,1,238,2],[239,1,239,2],[240,1,240,2],[241,1,241,5],[242,1,242,2],[243,1,243,2],[232,1,232,2],[233,1,233,2],[234,1,234,2],[235,1,235,2],[236,1,236,2],[237,1,237,2],[250,1,250,2],[251,1,251,2],[252,1,252,2],[253,0,253,5],[244,1,244,2],[245,1,245,2],[246,1,246,2],[247,1,247,5],[248,1,248,2],[249,1,249,2]]}
[null,null,"Pasirinkite veiklos tipą:"]
[null,null,"Fizinio rodiklio Nr.:"]
["Fizinio rodiklio pavadinimas:"]
[null,null,"Fizinio rodiklio matavimo vnt.:",null,null,"Fizinio rodiklio vnt. skaičius:"]
["Juridinis asmuo (pareiškėjas, partneris), atsakingas už fizinį rodiklį:"]
[null,null,"Vykdytojo tipas:"]
[null,null,"Finansavimo intensyvumas:",null,null,null,"Pasirinkite biudžeto išlaidų kategoriją:","Visos"]
[]
["Eil. Nr.","Išlaidų kategorijos pavadinimas",null,"Matavimo vnt.","Kiekis","Vieneto kaina be PVM, Eur","Tinkamų finansuoti išlaidų suma be PVM, Eur","Finansavimo suma, Eur","Išlaidų pagrindimo dokumentų pavadinimas, data ir Nr."]
[4,"ĮRANGA, ĮRENGINIAI IR KT. TURTAS (techninių žinių ir išradimų patentų arba teisių pagal licencijų sutartį įsigijimo išlaidos)",null,null,null,null,{"$f":"SUM(G11:G20)","v":0},{"$f":"SUM(H11:H20)","v":0}]
["4.1","Išlaidų pavadinimas",null,null,null,null,{"$f":"ROUND(E11*F11,2)","v":0},{"$f":"ROUND(G11*$D$7,2)","v":0}]
["4.2","Išlaidų pavadinimas",null,null,null,null,0,0]
["4.3","Išlaidų pavadinimas",null,null,null,null,0,0]
["4.4","Išlaidų pavadinimas",null,null,null,null,0,0]
["4.5","Išlaidų pavadinimas",null,null,null,null,0,0]
["4.6","Išlaidų pavadinimas",null,null,null,null,0,0]
["4.7","Išlaidų pavadinimas",null,null,null,null,0,0]
["4.8","Išlaidų pavadinimas",null,null,null,null,0,0]
["4.9","Išlaidų pavadinimas",null,null,null,null,0,0]
["4.10","Išlaidų pavadinimas",null,null,null,null,0,0]
[5,"PROJEKTO VYKDYMAS",null,null,null,null,{"$f":"G22+G33+G44+G72+G102+G153+G224+G242+G248","v":0},{"$f":"H22+H33+H44+H72+H102+H153+H224+H242+H248","v":0}]
["5.1","MTEP paslaugos",null,null,null,null,{"$f":"SUM(G23:G32)","v":0},{"$f":"SUM(H23:H32)","v":0}]
["5.1.1","Paslaugos pavadinimas",null,null,null,null,{"$f":"ROUND(E23*F23,2)","v":0},0]
["5.1.2","Paslaugos pavadinimas",null,null,null,null,0,0]
["5.1.3","Paslaugos pavadinimas",null,null,null,null,0,0]
["5.1.4","Paslaugos pavadinimas",null,null,null,null,0,0]
["5.1.5","Paslaugos pavadinimas",null,null,null,null,0,0]
["5.1.6","Paslaugos pavadinimas",null,null,null,null,0,0]
["5.1.7","Paslaugos pavadinimas",null,null,null,null,0,0]
["5.1.8","Paslaugos pavadinimas",null,null,null,null,0,0]
["5.1.9","Paslaugos pavadinimas",null,null,null,null,0,0]
["5.1.10","Paslaugos pavadinimas",null,null,null,null,0,0]
["5.2","Konsultavimo ir lygiavertės paslaugos, teikiamos vien tik projekto MTEP veiklai.",null,null,null,null,{"$f":"SUM(G34:G43)","v":0},{"$f":"SUM(H34:H43)","v":0}]
["5.2.1","Paslaugos pavadinimas",null,null,null,null,{"$f":"ROUND(E34*F34,2)","v":0},0]
["5.2.2","Paslaugos pavadinimas",null,null,null,null,0,0]
["5.2.3","Paslaugos pavadinimas",null,null,null,null,0,0]
["5.2.4","Paslaugos pavadinimas",null,null,null,null,0,0]
["5.2.5","Paslaugos pavadinimas",null,null,null,null,0,0]
["5.2.6","Paslaugos pavadinimas",null,null,null,null,0,0]
["5.2.7","Paslaugos pavadinimas",null,null,null,null,0,0]
["5.2.8","Paslaugos pavadinimas",null,null,null,null,0,0]
["5.2.9","Paslaugos pavadinimas",null,null,null,null,0,0]
["5.2.10","Paslaugos pavadinimas",null,null,null,null,0,0]
["5.3","Medžiagos, mažavertis inventorius, atsargos ir pan. produktai, priskirtini trumpalaikiam turtui ir tiesiogiai susiję su MTEP veikla",null,null,null,null,{"$f":"SUM(G45:G71)","v":0},{"$f":"SUM(H45:H71)","v":0}]
["5.3.1","Išlaidų pavadinimas",null,null,null,null,{"$f":"ROUND(E45*F45,2)","v":0},{"$f":"ROUND(G45*$D$7,2)","v":0}]
["5.3.2","Išlaidų pavadinimas",null,null,null,null,{"$f":"ROUND(E46*F46,2)","v":0},{"$f":"ROUND(G46*$D$7,2)","v":0}]
["5.3.3","Išlaidų pavadinimas",null,null,null,null,{"$f":"ROUND(E47*F47,2)","v":0},{"$f":"ROUND(G47*$D$7,2)","v":0}]
["5.3.4","Išlaidų pavadinimas",null,null,null,null,{"$f":"ROUND(E48*F48,2)","v":0},{"$f":"ROUND(G48*$D$7,2)","v":0}]
["5.3.5","Išlaidų pavadinimas",null,null,null,null,{"$f":"ROUND(E49*F49,2)","v":0},{"$f":"ROUND(G49*$D$7,2)","v":0}]
["5.3.6","Išlaidų pavadinimas",null,null,null,null,0,0]
["5.3.7","Išlaidų pavadinimas",null,null,null,null,0,0]
["5.3.8","Išlaidų pavadinimas",null,null,null,null,0,0]
["5.3.9","Išlaidų pavadinimas",null,null,null,null,0,0]
["5.3.10","Išlaidų pavadinimas",null,null,null,null,0,0]
["5.3.11","Išlaidų pavadinimas",null,null,null,null,0,0]
["5.3.12","Išlaidų pavadinimas",null,null,null,null,0,0]
["5.3.13","Išlaidų pavadinimas",null,null,null,null,0,0]
["5.3.14","Išlaidų pavadinimas",null,null,null,null,0,0]
["5.3.15","Išlaidų pavadinimas",null,null,null,null,0,0]
["5.3.16","Išlaidų pavadinimas",null,null,null,null,0,0]
["5.3.17","Išlaidų pavadinimas",null,null,null,null,0,0]
["5.3.18","Išlaidų pavadinimas",null,null,null,null,0,0]
["5.3.19","Išlaidų pavadinimas",null,null,null,null,0,0]
["5.3.20","Išlaidų pavadinimas",null,null,null,null,0,0]
["5.3.21","Išlaidų pavadinimas",null,null,null,null,0,0]
["5.3.22","Išlaidų pavadinimas",null,null,null,null,0,0]
["5.3.23","Išlaidų pavadinimas",null,null,null,null,0,0]
["5.3.24","Išlaidų pavadinimas",null,null,null,null,0,0]
["5.3.25","Išlaidų pavadinimas",null,null,null,null,0,0]
["5.3.26","Išlaidų pavadinimas",null,null,null,null,0,0]
["5.3.27","Išlaidų pavadinimas",null,null,null,null,0,0]
["5.4","Projekto MTEP veikloms naudojamo ilgalaikio materialaus turto (įrangos, prietaisų, įrankių, įrenginių, mašinų ir įrengimų, pastatų ir (ar) patalpų), nusidėvėjimo sąnaudos, jeigu šiam turtui įsigyti nebuvo naudojamos viešosios (įskaitant ir kitų valstybių) lėšos",null,null,null,null,{"$f":"SUM(G73:G101)","v":0},{"$f":"SUM(H73:H101)","v":0},null,"Turto įvedimo į eksploataciją data","Turto įsigijimo vertė, Eur","Turto nudėvėjimo, amortizacijos laikotarpis, mėn.","Numatoma turto likutinė vertė, Eur","1 mėn. nudėvėjimo, amortizacijos suma, Eur","Turto naudojamo projekto reikmėms laikas, mėn.","Turto panaudojimo projekto reikmėms dalis (proc.)","Projektui priskirta turto nusidėvėjimo, amortizacijos suma per projekto laikotarpį, Eur"]
["5.4.1","Turtas, kurio nusidėvėjimą, amortizaciją prašoma finansuoti",null,null,1,{"$f":"Q73","v":0},{"$f":"ROUND(E73*F73,2)","v":0},0,null,null,null,null,null,{"$f":"IFERROR(ROUND((K73-M73)/L73,2),\"0\")","v":"0"},null,null,{"$f":"N73*O73*P73","v":0},{"$f":"IF(J73=0,\" \",IF(J73+(L73*30.5)<TODAY(),\"DĖMESIO! Patikrinkite, ar nurodytas turtas dar nėra nudėvėtas, amortizuotas\",\" \"))","v":" "}]
["5.4.2","Turtas, kurio nusidėvėjimą, amortizaciją prašoma finansuoti",null,null,1,0,0,0,null,null,null,null,null,{"$f":"IFERROR(ROUND((K74-M74)/L74,2),\"0\")","v":"0"},null,null,{"$f":"N74*O74*P74","v":0},{"$f":"IF(J74=0,\" \",IF(J74+(L74*30.5)<TODAY(),\"DĖMESIO! Patikrinkite, ar nurodytas turtas dar nėra nudėvėtas, amortizuotas\",\" \"))","v":" "}]
["5.4.3","Turtas, kurio nusidėvėjimą, amortizaciją prašoma finansuoti",null,null,1,0,0,0,null,null,null,null,null,"0",null,null,0," "]
["5.4.4","Turtas, kurio nusidėvėjimą, amortizaciją prašoma finansuoti",null,null,1,0,0,0,null,null,null,null,null,"0",null,null,0," "]
["5.4.5","Turtas, kurio nusidėvėjimą, amortizaciją prašoma finansuoti",null,null,1,0,0,0,null,null,null,null,null,"0",null,null,0," "]
["5.4.6","Turtas, kurio nusidėvėjimą, amortizaciją prašoma finansuoti",null,null,1,0,0,0,null,null,null,null,null,"0",null,null,0," "]
["5.4.7","Turtas, kurio nusidėvėjimą, amortizaciją prašoma finansuoti",null,null,1,0,0,0,null,null,null,null,null,"0",null,null,0," "]
["5.4.8","Turtas, kurio nusidėvėjimą, amortizaciją prašoma finansuoti",null,null,1,0,0,0,null,null,null,null,null,"0",null,null,0," "]
["5.4.9","Turtas, kurio nusidėvėjimą, amortizaciją prašoma finansuoti",null,null,1,0,0,0,null,null,null,null,null,"0",null,null,0," "]
["5.4.10","Turtas, kurio nusidėvėjimą, amortizaciją prašoma finansuoti",null,null,1,0,0,0,null,null,null,null,null,"0",null,null,0," "]
["5.4.11","Turtas, kurio nusidėvėjimą, amortizaciją prašoma finansuoti",null,null,1,0,0,0,null,null,null,null,null,"0",null,null,0," "]
["5.4.12","Turtas, kurio nusidėvėjimą, amortizaciją prašoma finansuoti",null,null,1,0,0,0,null,null,null,null,null,"0",null,null,0," "]
["5.4.13","Turtas, kurio nusidėvėjimą, amortizaciją prašoma finansuoti",null,null,1,0,0,0,null,null,null,null,null,"0",null,null,0," "]
["5.4.14","Turtas, kurio nusidėvėjimą, amortizaciją prašoma finansuoti",null,null,1,0,0,0,null,null,null,null,null,"0",null,null,0," "]
["5.4.15","Turtas, kurio nusidėvėjimą, amortizaciją prašoma finansuoti",null,null,1,0,0,0,null,null,null,null,null,"0",null,null,0," "]
["5.4.16","Turtas, kurio nusidėvėjimą, amortizaciją prašoma finansuoti",null,null,1,0,0,0,null,null,null,null,null,"0",null,null,0," "]
["5.4.17","Turtas, kurio nusidėvėjimą, amortizaciją prašoma finansuoti",null,null,1,0,0,0,null,null,null,null,null,"0",null,null,0," "]
["5.4.18","Turtas, kurio nusidėvėjimą, amortizaciją prašoma finansuoti",null,null,1,0,0,0,null,null,null,null,null,"0",null,null,0," "]
["5.4.19","Turtas, kurio nusidėvėjimą, amortizaciją prašoma finansuoti",null,null,1,0,0,0,null,null,null,null,null,"0",null,null,0," "]
["5.4.20","Turtas, kurio nusidėvėjimą, amortizaciją prašoma finansuoti",null,null,1,0,0,0,null,null,null,null,null,"0",null,null,0," "]
["5.4.21","Turtas, kurio nusidėvėjimą, amortizaciją prašoma finansuoti",null,null,1,0,0,0,null,null,null,null,null,"0",null,null,0," "]
["5.4.22","Turtas, kurio nusidėvėjimą, amortizaciją prašoma finansuoti",null,null,1,0,0,0,null,null,null,null,null,"0",null,null,0," "]
["5.4.23","Turtas, kurio nusidėvėjimą, amortizaciją prašoma finansuoti",null,null,1,0,0,0,null,null,null,null,null,"0",null,null,0," "]
["5.4.24","Turtas, kurio nusidėvėjimą, amortizaciją prašoma finansuoti",null,null,1,0,0,0,null,null,null,null,null,"0",null,null,0," "]
["5.4.25","Turtas, kurio nusidėvėjimą, amortizaciją prašoma finansuoti",null,null,1,0,0,0,null,null,null,null,null,"0",null,null,0," "]
["5.4.26","Turtas, kurio nusidėvėjimą, amortizaciją prašoma finansuoti",null,null,1,0,0,0,null,null,null,null,null,"0",null,null,0," "]
["5.4.27","Turtas, kurio nusidėvėjimą, amortizaciją prašoma finansuoti",null,null,1,0,0,0,null,null,null,null,null,"0",null,null,0," "]
["5.4.28","Turtas, kurio nusidėvėjimą, amortizaciją prašoma finansuoti",null,null,1,0,0,0,null,null,null,null,null,"0",null,null,0," "]
["5.4.29","Turtas, kurio nusidėvėjimą, amortizaciją prašoma finansuoti",null,null,1,0,0,0,null,null,null,null,null,"0",null,null,0," "]
["5.5","Projektą vykdančio personalo darbo užmokestis ir išlaidos su darbo santykiais susijusiems darbdavio įsipareigojimams",null,null,null,null,{"$f":"SUM(G103:G152)","v":0},{"$f":"SUM(H103:H152)","v":0},null,"Faktiškai gaunamas darbo užmokesti už 1 valandą pagal  pastarųjų 6 mėn. vidurkį, Eur"]
["5.5.1","Pareigybės pavadinimas","Darbuotojo vardas pavardė","val.",null,{"$f":"IFERROR(ROUND(AVERAGE(J103:J107),2),\"0\")","v":"0"},{"$f":"ROUND(E103*F103,2)","v":0},{"$f":"ROUND(G103*$D$7,2)","v":0}]
[null,null,"Darbuotojo vardas pavardė"]
[null,null,"Darbuotojo vardas pavardė"]
[null,null,"Darbuotojo vardas pavardė"]
[null,null,"Darbuotojo vardas pavardė"]
["5.5.2","Pareigybės pavadinimas","Darbuotojo vardas pavardė","val.",null,{"$f":"IFERROR(ROUND(AVERAGE(J108:J112),2),\"0\")","v":"0"},{"$f":"ROUND(E108*F108,2)","v":0},{"$f":"ROUND(G108*$D$7,2)","v":0}]
[null,null,"Darbuotojo vardas pavardė"]
[null,null,"Darbuotojo vardas pavardė"]
[null,null,"Darbuotojo vardas pavardė"]
[null,null,"Darbuotojo vardas pavardė"]
["5.5.3","Pareigybės pavadinimas","Darbuotojo vardas pavardė","val.",null,{"$f":"IFERROR(ROUND(AVERAGE(J113:J117),2),\"0\")","v":"0"},{"$f":"ROUND(E113*F113,2)","v":0},{"$f":"ROUND(G113*$D$7,2)","v":0}]
[null,null,"Darbuotojo vardas pavardė"]
[null,null,"Darbuotojo vardas pavardė"]
[null,null,"Darbuotojo vardas pavardė"]
[null,null,"Darbuotojo vardas pavardė"]
["5.5.4","Pareigybės pavadinimas","Darbuotojo vardas pavardė","val.",null,{"$f":"IFERROR(ROUND(AVERAGE(J118:J122),2),\"0\")","v":"0"},{"$f":"ROUND(E118*F118,2)","v":0},{"$f":"ROUND(G118*$D$7,2)","v":0}]
[null,null,"Darbuotojo vardas pavardė"]
[null,null,"Darbuotojo vardas pavardė"]
[null,null,"Darbuotojo vardas pavardė"]
[null,null,"Darbuotojo vardas pavardė"]
["5.5.5","Pareigybės pavadinimas","Darbuotojo vardas pavardė","val.",null,{"$f":"IFERROR(ROUND(AVERAGE(J123:J127),2),\"0\")","v":"0"},{"$f":"ROUND(E123*F123,2)","v":0},{"$f":"ROUND(G123*$D$7,2)","v":0}]
[null,null,"Darbuotojo vardas pavardė"]
[null,null,"Darbuotojo vardas pavardė"]
[null,null,"Darbuotojo vardas pavardė"]
[null,null,"Darbuotojo vardas pavardė"]
["5.5.6","Pareigybės pavadinimas","Darbuotojo vardas pavardė","val.",null,{"$f":"IFERROR(ROUND(AVERAGE(J128:J132),2),\"0\")","v":"0"},{"$f":"ROUND(E128*F128,2)","v":0},{"$f":"ROUND(G128*$D$7,2)","v":0}]
[null,null,"Darbuotojo vardas pavardė"]
[null,null,"Darbuotojo vardas pavardė"]
[null,null,"Darbuotojo vardas pavardė"]
[null,null,"Darbuotojo vardas pavardė"]
["5.5.7","Pareigybės pavadinimas","Darbuotojo vardas pavardė","val.",null,{"$f":"IFERROR(ROUND(AVERAGE(J133:J137),2),\"0\")","v":"0"},{"$f":"ROUND(E133*F133,2)","v":0},{"$f":"ROUND(G133*$D$7,2)","v":0}]
[null,null,"Darbuotojo vardas pavardė"]
[null,null,"Darbuotojo vardas pavardė"]
[null,null,"Darbuotojo vardas pavardė"]
[null,null,"Darbuotojo vardas pavardė"]
["5.5.8","Pareigybės pavadinimas","Darbuotojo vardas pavardė","val.",null,{"$f":"IFERROR(ROUND(AVERAGE(J138:J142),2),\"0\")","v":"0"},{"$f":"ROUND(E138*F138,2)","v":0},{"$f":"ROUND(G138*$D$7,2)","v":0}]
[null,null,"Darbuotojo vardas pavardė"]
[null,null,"Darbuotojo vardas pavardė"]
[null,null,"Darbuotojo vardas pavardė"]
[null,null,"Darbuotojo vardas pavardė"]
["5.5.9","Pareigybės pavadinimas","Darbuotojo vardas pavardė","val.",null,{"$f":"IFERROR(ROUND(AVERAGE(J143:J147),2),\"0\")","v":"0"},{"$f":"ROUND(E143*F143,2)","v":0},{"$f":"ROUND(G143*$D$7,2)","v":0}]
[null,null,"Darbuotojo vardas pavardė"]
[null,null,"Darbuotojo vardas pavardė"]
[null,null,"Darbuotojo vardas pavardė"]
[null,null,"Darbuotojo vardas pavardė"]
["5.5.10","Pareigybės pavadinimas","Darbuotojo vardas pavardė","val.",null,{"$f":"IFERROR(ROUND(AVERAGE(J148:J152),2),\"0\")","v":"0"},{"$f":"ROUND(E148*F148,2)","v":0},{"$f":"ROUND(G148*$D$7,2)","v":0}]
[null,null,"Darbuotojo vardas pavardė"]
[null,null,"Darbuotojo vardas pavardė"]
[null,null,"Darbuotojo vardas pavardė"]
[null,null,"Darbuotojo vardas pavardė"]
["5.6","Projektą vykdančio personalo komandiruočių išlaidos",null,null,null,null,{"$f":"SUM(G154,G161,G168,G175,G182,G189,G196,G203,G210,G217)","v":0},{"$f":"SUM(H154,H161,H168,H175,H182,H189,H196,H203,H210,H217)","v":0}]
["5.6.1","Komandiruotės pavadinimas, vieta, trukmė dienomis, vykstančių asmenų skaičius","Iš viso komandiruotei",null,null,null,{"$f":"SUM(G155:G160)","v":0},{"$f":"ROUND(G154*$D$7,2)","v":0}]
[null,null,"Dienpinigiai",null,null,null,{"$f":"ROUND(E155*F155,2)","v":0}]
[null,null,"Gyvenamojo ploto nuoma",null,null,null,0]
[null,null,"Kelionės išlaidos",null,null,null,0]
[null,null,"Dalyvavimo mokestis",null,null,null,0]
[null,null,"Kitos išlaidų pavadinimas",null,null,null,0]
[null,null,"Kitos išlaidų pavadinimas",null,null,null,0]
["5.6.2","Komandiruotės pavadinimas, vieta, trukmė dienomis, vykstančių asmenų skaičius","Iš viso komandiruotei",null,null,null,{"$f":"SUM(G162:G167)","v":0},{"$f":"ROUND(G161*$D$7,2)","v":0}]
[null,null,"Dienpinigiai",null,null,null,{"$f":"ROUND(E162*F162,2)","v":0}]
[null,null,"Gyvenamojo ploto nuoma",null,null,null,0]
[null,null,"Kelionės išlaidos",null,null,null,0]
[null,null,"Dalyvavimo mokestis",null,null,null,0]
[null,null,"Kitos išlaidų pavadinimas",null,null,null,0]
[null,null,"Kitos išlaidų pavadinimas",null,null,null,0]
["5.6.3","Komandiruotės pavadinimas, vieta, trukmė dienomis, vykstančių asmenų skaičius","Iš viso komandiruotei",null,null,null,{"$f":"SUM(G169:G174)","v":0},{"$f":"ROUND(G168*$D$7,2)","v":0}]
[null,null,"Dienpinigiai",null,null,null,{"$f":"ROUND(E169*F169,2)","v":0}]
[null,null,"Gyvenamojo ploto nuoma",null,null,null,0]
[null,null,"Kelionės išlaidos",null,null,null,0]
[null,null,"Dalyvavimo mokestis",null,null,null,0]
[null,null,"Kitos išlaidų pavadinimas",null,null,null,0]
[null,null,"Kitos išlaidų pavadinimas",null,null,null,0]
["5.6.4","Komandiruotės pavadinimas, vieta, trukmė dienomis, vykstančių asmenų skaičius","Iš viso komandiruotei",null,null,null,{"$f":"SUM(G176:G181)","v":0},{"$f":"ROUND(G175*$D$7,2)","v":0}]
[null,null,"Dienpinigiai",null,null,null,{"$f":"ROUND(E176*F176,2)","v":0}]
[null,null,"Gyvenamojo ploto nuoma",null,null,null,0]
[null,null,"Kelionės išlaidos",null,null,null,0]
[null,null,"Dalyvavimo mokestis",null,null,null,0]
[null,null,"Kitos išlaidų pavadinimas",null,null,null,0]
[null,null,"Kitos išlaidų pavadinimas",null,null,null,0]
["5.6.5","Komandiruotės pavadinimas, vieta, trukmė dienomis, vykstančių asmenų skaičius","Iš viso komandiruotei",null,null,null,{"$f":"SUM(G183:G188)","v":0},{"$f":"ROUND(G182*$D$7,2)","v":0}]
[null,null,"Dienpinigiai",null,null,null,{"$f":"ROUND(E183*F183,2)","v":0}]
[null,null,"Gyvenamojo ploto nuoma",null,null,null,0]
[null,null,"Kelionės išlaidos",null,null,null,0]
[null,null,"Dalyvavimo mokestis",null,null,null,0]
[null,null,"Kitos išlaidų pavadinimas",null,null,null,0]
[null,null,"Kitos išlaidų pavadinimas",null,null,null,0]
["5.6.6","Komandiruotės pavadinimas, vieta, trukmė dienomis, vykstančių asmenų skaičius","Iš viso komandiruotei",null,null,null,{"$f":"SUM(G190:G195)","v":0},{"$f":"ROUND(G189*$D$7,2)","v":0}]
[null,null,"Dienpinigiai",null,null,null,{"$f":"ROUND(E190*F190,2)","v":0}]
[null,null,"Gyvenamojo ploto nuoma",null,null,null,0]
[null,null,"Kelionės išlaidos",null,null,null,0]
[null,null,"Dalyvavimo mokestis",null,null,null,0]
[null,null,"Kitos išlaidų pavadinimas",null,null,null,0]
[null,null,"Kitos išlaidų pavadinimas",null,null,null,0]
["5.6.7","Komandiruotės pavadinimas, vieta, trukmė dienomis, vykstančių asmenų skaičius","Iš viso komandiruotei",null,null,null,{"$f":"SUM(G197:G202)","v":0},{"$f":"ROUND(G196*$D$7,2)","v":0}]
[null,null,"Dienpinigiai",null,null,null,{"$f":"ROUND(E197*F197,2)","v":0}]
[null,null,"Gyvenamojo ploto nuoma",null,null,null,0]
[null,null,"Kelionės išlaidos",null,null,null,0]
[null,null,"Dalyvavimo mokestis",null,null,null,0]
[null,null,"Kitos išlaidų pavadinimas",null,null,null,0]
[null,null,"Kitos išlaidų pavadinimas",null,null,null,0]
["5.6.8","Komandiruotės pavadinimas, vieta, trukmė dienomis, vykstančių asmenų skaičius","Iš viso komandiruotei",null,null,null,{"$f":"SUM(G204:G209)","v":0},{"$f":"ROUND(G203*$D$7,2)","v":0}]
[null,null,"Dienpinigiai",null,null,null,{"$f":"ROUND(E204*F204,2)","v":0}]
[null,null,"Gyvenamojo ploto nuoma",null,null,null,0]
[null,null,"Kelionės išlaidos",null,null,null,0]
[null,null,"Dalyvavimo mokestis",null,null,null,0]
[null,null,"Kitos išlaidų pavadinimas",null,null,null,0]
[null,null,"Kitos išlaidų pavadinimas",null,null,null,0]
["5.6.9","Komandiruotės pavadinimas, vieta, trukmė dienomis, vykstančių asmenų skaičius","Iš viso komandiruotei",null,null,null,{"$f":"SUM(G211:G216)","v":0},{"$f":"ROUND(G210*$D$7,2)","v":0}]
[null,null,"Dienpinigiai",null,null,null,{"$f":"ROUND(E211*F211,2)","v":0}]
[null,null,"Gyvenamojo ploto nuoma",null,null,null,0]
[null,null,"Kelionės išlaidos",null,null,null,0]
[null,null,"Dalyvavimo mokestis",null,null,null,0]
[null,null,"Kitos išlaidų pavadinimas",null,null,null,0]
[null,null,"Kitos išlaidų pavadinimas",null,null,null,0]
["5.6.10","Komandiruotės pavadinimas, vieta, trukmė dienomis, vykstančių asmenų skaičius","Iš viso komandiruotei",null,null,null,{"$f":"SUM(G218:G223)","v":0},{"$f":"ROUND(G217*$D$7,2)","v":0}]
[null,null,"Dienpinigiai",null,null,null,{"$f":"ROUND(E218*F218,2)","v":0}]
[null,null,"Gyvenamojo ploto nuoma",null,null,null,0]
[null,null,"Kelionės išlaidos",null,null,null,0]
[null,null,"Dalyvavimo mokestis",null,null,null,0]
[null,null,"Kitos išlaidų pavadinimas",null,null,null,0]
[null,null,"Kitos išlaidų pavadinimas",null,null,null,0]
["5.7","Įrangos nuomos išlaidos, veiklai priskirtos pro rata principu. Įranga turi būti tiesiogiai susijusi su projekto įgyvendinimu ir negali būti įsigyta iš ES struktūrinių fondų ar kt. ES finansinių priemonių lėšų",null,null,null,null,{"$f":"SUM(G225:G241)","v":0},{"$f":"SUM(H225:H241)","v":0},null,"Faktinės 1 mėnesio išlaidos, Eur","Naudojimo projekte trukmė, mėn."]
["5.7.1","Įrangos pavadinimas",null,"pro rata proc.",null,{"$f":"J225*K225","v":0},{"$f":"ROUND(E225*F225,2)","v":0},{"$f":"ROUND(G225*$D$7,2)","v":0}]
["5.7.2","Įrangos pavadinimas",null,"pro rata proc.",null,0,0,{"$f":"ROUND(G226*$D$7,2)","v":0}]
["5.7.3","Įrangos pavadinimas",null,"pro rata proc.",null,0,0,0]
["5.7.4","Įrangos pavadinimas",null,"pro rata proc.",null,0,0,0]
["5.7.5","Įrangos pavadinimas",null,"pro rata proc.",null,0,0,0]
["5.7.6","Įrangos pavadinimas",null,"pro rata proc.",null,0,0,0]
["5.7.7","Įrangos pavadinimas",null,"pro rata proc.",null,0,0,0]
["5.7.8","Įrangos pavadinimas",null,"pro rata proc.",null,0,0,0]
["5.7.9","Įrangos pavadinimas",null,"pro rata proc.",null,0,0,0]
["5.7.10","Įrangos pavadinimas",null,"pro rata proc.",null,0,0,0]
["5.7.11","Įrangos pavadinimas",null,"pro rata proc.",null,0,0,0]
["5.7.12","Įrangos pavadinimas",null,"pro rata proc.",null,0,0,0]
["5.7.13","Įrangos pavadinimas",null,"pro rata proc.",null,0,0,0]
["5.7.14","Įrangos pavadinimas",null,"pro rata proc.",null,{"$f":"J238*K238","v":0},0,{"$f":"ROUND(G238*$D$7,2)","v":0}]
["5.7.15","Įrangos pavadinimas",null,"pro rata proc.",null,{"$f":"J239*K239","v":0},0,{"$f":"ROUND(G239*$D$7,2)","v":0}]
["5.7.16","Įrangos pavadinimas",null,"pro rata proc.",null,{"$f":"J240*K240","v":0},0,{"$f":"ROUND(G240*$D$7,2)","v":0}]
["5.7.17","Įrangos pavadinimas",null,"pro rata proc.",null,{"$f":"J241*K241","v":0},0,{"$f":"ROUND(G241*$D$7,2)","v":0}]
["5.8","Pastatų ar patalpų nuomos išlaidos, veiklai priskirtos pro rata principu. Pastatai ar patalpos turi būti tiesiogiai susijusi su projekto įgyvendinimu.",null,null,null,null,{"$f":"SUM(G243:G247)","v":0},{"$f":"SUM(H243:H247)","v":0},null,"Faktinės 1 mėnesio išlaidos, Eur","Naudojimo projekte trukmė, mėn."]
["5.8.1","Pastato, patalpų adresas",null,"pro rata proc.",null,{"$f":"J243*K243","v":0},{"$f":"ROUND(E243*F243,2)","v":0},{"$f":"ROUND(G243*$D$7,2)","v":0}]
["5.8.2","Pastato, patalpų adresas",null,"pro rata proc.",null,{"$f":"J244*K244","v":0},{"$f":"ROUND(E244*F244,2)","v":0},{"$f":"ROUND(G244*$D$7,2)","v":0}]
["5.8.3","Pastato, patalpų adresas",null,"pro rata proc.",null,{"$f":"J245*K245","v":0},{"$f":"ROUND(E245*F245,2)","v":0},{"$f":"ROUND(G245*$D$7,2)","v":0}]
["5.8.4","Pastato, patalpų adresas",null,"pro rata proc.",null,{"$f":"J246*K246","v":0},{"$f":"ROUND(E246*F246,2)","v":0},{"$f":"ROUND(G246*$D$7,2)","v":0}]
["5.8.5","Pastato, patalpų adresas",null,"pro rata proc.",null,{"$f":"J247*K247","v":0},{"$f":"ROUND(E247*F247,2)","v":0},{"$f":"ROUND(G247*$D$7,2)","v":0}]
["5.9","Projekto veikloms vykdyti reikalingų transporto priemonių nuomos išlaidos (išlaidos yra tinkamos finansuoti tik pagal Aprašą Nr. 2 vadovaujantis de minimis reglamento nuostatomis)",null,null,null,null,{"$f":"SUM(G249:G253)","v":0},{"$f":"SUM(H249:H253)","v":0}]
["5.9.1","Išlaidų pavadinimas",null,null,null,null,{"$f":"ROUND(E249*F249,2)","v":0},{"$f":"ROUND(G249*$D$7,2)","v":0}]
["5.9.2","Išlaidų pavadinimas",null,null,null,null,{"$f":"ROUND(E250*F250,2)","v":0},{"$f":"ROUND(G250*$D$7,2)","v":0}]
["5.9.3","Išlaidų pavadinimas",null,null,null,null,{"$f":"ROUND(E251*F251,2)","v":0},{"$f":"ROUND(G251*$D$7,2)","v":0}]
["5.9.4","Išlaidų pavadinimas",null,null,null,null,{"$f":"ROUND(E252*F252,2)","v":0},{"$f":"ROUND(G252*$D$7,2)","v":0}]
["5.9.5","Išlaidų pavadinimas",null,null,null,null,{"$f":"ROUND(E253*F253,2)","v":0},{"$f":"ROUND(G253*$D$7,2)","v":0}]
["Iš viso tinkamų finansuoti išlaidų:",null,null,null,null,null,{"$f":"G10+G21","v":0},{"$f":"H10+H21","v":0}]

{"sheet":"12","index":24,"n_rows":254,"n_cols":18,"rows_kept":254,"cut":false,"hidden":true,"merged":[[5,3,5,8],[8,1,8,2],[9,1,9,5],[10,1,10,2],[11,1,11,2],[12,1,12,2],[0,3,0,8],[2,0,2,2],[2,3,2,8],[3,3,3,4],[3,5,3,6],[4,0,4,2],[4,3,4,8],[19,1,19,2],[20,1,20,5],[21,1,21,5],[22,1,22,2],[23,1,23,2],[24,1,24,2],[13,1,13,2],[14,1,14,2],[15,1,15,2],[16,1,16,2],[17,1,17,2],[18,1,18,2],[31,1,31,2],[32,1,32,5],[33,1,33,2],[34,1,34,2],[35,1,35,2],[36,1,36,2],[25,1,25,2],[26,1,26,2],[27,1,27,2],[28,1,28,2],[29,1,29,2],[30,1,30,2],[43,1,43,5],[44,1,44,2],[45,1,45,2],[46,1,46,2],[47,1,47,2],[48,1,48,2],[37,1,37,2],[38,1,38,2],[39,1,39,2],[40,1,40,2],[41,1,41,2],[42,1,42,2],[55,1,55,2],[56,1,56,2],[57,1,57,2],[58,1,58,2],[59,1,59,2],[60,1,60,2],[49,1,49,2],[50,1,50,2],[51,1,51,2],[52,1,52,2],[53,1,53,2],[54,1,54,2],[67,1,67,2],[68,1,68,2],[69,1,69,2],[70,1,70,2],[71,1,71,5],[72,1,72,2],[61,1,61,2],[62,1,62,2],[63,1,63,2],[64,1,64,2],[65,1,65,2],[66,1,66,2],[79,1,79,2],[80,1,80,2],[81,1,81,2],[82,1,82,2],[83,1,83,2],[84,1,84,2],[73,1,73,2],[74,1,74,2],[75,1,75,2],[76,1,76,2],[77,1,77,2],[78,1,78,2],[91,1,91,2],[92,1,92,2],[93,1,93,2],[94,1,94,2],[95,1,95,2],[96,1,96,2],[85,1,85,2],[86,1,86,2],[87,1,87,2],[88,1,88,2],[89,1,89,2],[90,1,90,2],[97,1,97,2],[98,1,98,2],[99,1,99,2],[100,1,100,2],[101,1,101,5],[102,0,106,0],[102,1,106,1],[102,3,106,3],[102,4,106,4],[102,5,106,5],[102,6,106,6],[102,7,106,7],[102,8,106,8],[107,0,111,0],[107,1,111,1],[107,3,111,3],[107,4,111,4],[107,5,111,5],[107,6,111,6],[107,7,111,7],[107,8,111,8],[112,0,116,0],[112,1,116,1],[112,3,116,3],[112,4,116,4],[112,5,116,5],[112,6,116,6],[112,7,116,7],[112,8,116,8],[117,7,121,7],[117,8,121,8],[122,0,126,0],[122,1,126,1],[122,3,126,3],[122,4,126,4],[122,5,126,5],[122,6,126,6],[122,7,126,7],[122,8,126,8],[117,0,121,0],[117,1,121,1],[117,3,121,3],[117,4,121,4],[117,5,121,5],[117,6,121,6],[127,7,131,7],[127,8,131,8],[132,0,136,0],[132,1,136,1],[132,3,136,3],[132,4,136,4],[132,5,136,5],[132,6,136,6],[132,7,136,7],[132,8,136,8],[127,0,131,0],[127,1,131,1],[127,3,131,3],[127,4,131,4],[127,5,131,5],[127,6,131,6],[137,7,141,7],[137,8,141,8],[142,0,146,0],[142,1,146,1],[142,3,146,3],[142,4,146,4],[142,5,146,5],[142,6,146,6],[142,7,146,7],[142,8,146,8],[137,0,141,0],[137,1,141,1],[137,3,141,3],[137,4,141,4],[137,5,141,5],[137,6,141,6],[147,7,151,7],[147,8,151,8],[152,1,152,5],[153,0,159,0],[153,1,159,1],[153,8,159,8],[147,0,151,0],[147,1,151,1],[147,3,151,3],[147,4,151,4],[147,5,151,5],[147,6,151,6],[174,0,180,0],[174,1,180,1],[174,8,180,8],[181,0,187,0],[181,1,187,1],[181,8,187,8],[160,0,166,0],[160,1,166,1],[160,8,166,8],[167,0,173,0],[167,1,173,1],[167,8,173,8],[202,0,208,0],[202,1,208,1],[202,8,208,8],[209,0,215,0],[209,1,215,1],[209,8,215,8],[188,0,194,0],[188,1,194,1],[188,8,194,8],[195,0,201,0],[195,1,201,1],[195,8,201,8],[226,1,226,2],[227,1,227,2],[228,1,228,2],[229,1,229,2],[230,1,230,2],[231,1,231,2],[216,0,222,0],[216,1,222,1],[216,8,222,8],[223,1,223,5],[224,1,224,2],[225,1,225,2],[238,1,238,2],[239,1,239,2],[240,1,240,2],[241,1,241,5],[242,1,242,2],[243,1,243,2],[232,1,232,2],[233,1,233,2],[234,1,234,2],[235,1,235,2],[236,1,236,2],[237,1,237,2],[250,1,250,2],[251,1,251,2],[252,1,252,2],[253,0,253,5],[244,1,244,2],[245,1,245,2],[246,1,246,2],[247,1,247,5],[248,1,248,2],[249,1,249,2]]}
[null,null,"Pasirinkite veiklos tipą:"]
[null,null,"Fizinio rodiklio Nr.:"]
["Fizinio rodiklio pavadinimas:"]
[null,null,"Fizinio rodiklio matavimo vnt.:",null,null,"Fizinio rodiklio vnt. skaičius:"]
["Juridinis asmuo (pareiškėjas, partneris), atsakingas už fizinį rodiklį:"]
[null,null,"Vykdytojo tipas:"]
[null,null,"Finansavimo intensyvumas:",null,null,null,"Pasirinkite biudžeto išlaidų kategoriją:","Visos"]
[]
["Eil. Nr.","Išlaidų kategorijos pavadinimas",null,"Matavimo vnt.","Kiekis","Vieneto kaina be PVM, Eur","Tinkamų finansuoti išlaidų suma be PVM, Eur","Finansavimo suma, Eur","Išlaidų pagrindimo dokumentų pavadinimas, data ir Nr."]
[4,"ĮRANGA, ĮRENGINIAI IR KT. TURTAS (techninių žinių ir išradimų patentų arba teisių pagal licencijų sutartį įsigijimo išlaidos)",null,null,null,null,{"$f":"SUM(G11:G20)","v":0},{"$f":"SUM(H11:H20)","v":0}]
["4.1","Išlaidų pavadinimas",null,null,null,null,{"$f":"ROUND(E11*F11,2)","v":0},{"$f":"ROUND(G11*$D$7,2)","v":0}]
["4.2","Išlaidų pavadinimas",null,null,null,null,0,0]
["4.3","Išlaidų pavadinimas",null,null,null,null,0,0]
["4.4","Išlaidų pavadinimas",null,null,null,null,0,0]
["4.5","Išlaidų pavadinimas",null,null,null,null,0,0]
["4.6","Išlaidų pavadinimas",null,null,null,null,0,0]
["4.7","Išlaidų pavadinimas",null,null,null,null,0,0]
["4.8","Išlaidų pavadinimas",null,null,null,null,0,0]
["4.9","Išlaidų pavadinimas",null,null,null,null,0,0]
["4.10","Išlaidų pavadinimas",null,null,null,null,0,0]
[5,"PROJEKTO VYKDYMAS",null,null,null,null,{"$f":"G22+G33+G44+G72+G102+G153+G224+G242+G248","v":0},{"$f":"H22+H33+H44+H72+H102+H153+H224+H242+H248","v":0}]
["5.1","MTEP paslaugos",null,null,null,null,{"$f":"SUM(G23:G32)","v":0},{"$f":"SUM(H23:H32)","v":0}]
["5.1.1","Paslaugos pavadinimas",null,null,null,null,{"$f":"ROUND(E23*F23,2)","v":0},0]
["5.1.2","Paslaugos pavadinimas",null,null,null,null,0,0]
["5.1.3","Paslaugos pavadinimas",null,null,null,null,0,0]
["5.1.4","Paslaugos pavadinimas",null,null,null,null,0,0]
["5.1.5","Paslaugos pavadinimas",null,null,null,null,0,0]
["5.1.6","Paslaugos pavadinimas",null,null,null,null,0,0]
["5.1.7","Paslaugos pavadinimas",null,null,null,null,0,0]
["5.1.8","Paslaugos pavadinimas",null,null,null,null,0,0]
["5.1.9","Paslaugos pavadinimas",null,null,null,null,0,0]
["5.1.10","Paslaugos pavadinimas",null,null,null,null,0,0]
["5.2","Konsultavimo ir lygiavertės paslaugos, teikiamos vien tik projekto MTEP veiklai.",null,null,null,null,{"$f":"SUM(G34:G43)","v":0},{"$f":"SUM(H34:H43)","v":0}]
["5.2.1","Paslaugos pavadinimas",null,null,null,null,{"$f":"ROUND(E34*F34,2)","v":0},0]
["5.2.2","Paslaugos pavadinimas",null,null,null,null,0,0]
["5.2.3","Paslaugos pavadinimas",null,null,null,null,0,0]
["5.2.4","Paslaugos pavadinimas",null,null,null,null,0,0]
["5.2.5","Paslaugos pavadinimas",null,null,null,null,0,0]
["5.2.6","Paslaugos pavadinimas",null,null,null,null,0,0]
["5.2.7","Paslaugos pavadinimas",null,null,null,null,0,0]
["5.2.8","Paslaugos pavadinimas",null,null,null,null,0,0]
["5.2.9","Paslaugos pavadinimas",null,null,null,null,0,0]
["5.2.10","Paslaugos pavadinimas",null,null,null,null,0,0]
["5.3","Medžiagos, mažavertis inventorius, atsargos ir pan. produktai, priskirtini trumpalaikiam turtui ir tiesiogiai susiję su MTEP veikla",null,null,null,null,{"$f":"SUM(G45:G71)","v":0},{"$f":"SUM(H45:H71)","v":0}]
["5.3.1","Išlaidų pavadinimas",null,null,null,null,{"$f":"ROUND(E45*F45,2)","v":0},{"$f":"ROUND(G45*$D$7,2)","v":0}]
["5.3.2","Išlaidų pavadinimas",null,null,null,null,{"$f":"ROUND(E46*F46,2)","v":0},{"$f":"ROUND(G46*$D$7,2)","v":0}]
["5.3.3","Išlaidų pavadinimas",null,null,null,null,{"$f":"ROUND(E47*F47,2)","v":0},{"$f":"ROUND(G47*$D$7,2)","v":0}]
["5.3.4","Išlaidų pavadinimas",null,null,null,null,{"$f":"ROUND(E48*F48,2)","v":0},{"$f":"ROUND(G48*$D$7,2)","v":0}]
["5.3.5","Išlaidų pavadinimas",null,null,null,null,{"$f":"ROUND(E49*F49,2)","v":0},{"$f":"ROUND(G49*$D$7,2)","v":0}]
["5.3.6","Išlaidų pavadinimas",null,null,null,null,0,0]
["5.3.7","Išlaidų pavadinimas",null,null,null,null,0,0]
["5.3.8","Išlaidų pavadinimas",null,null,null,null,0,0]
["5.3.9","Išlaidų pavadinimas",null,null,null,null,0,0]
["5.3.10","Išlaidų pavadinimas",null,null,null,null,0,0]
["5.3.11","Išlaidų pavadinimas",null,null,null,null,0,0]
["5.3.12","Išlaidų pavadinimas",null,null,null,null,0,0]
["5.3.13","Išlaidų pavadinimas",null,null,null,null,0,0]
["5.3.14","Išlaidų pavadinimas",null,null,null,null,0,0]
["5.3.15","Išlaidų pavadinimas",null,null,null,null,0,0]
["5.3.16","Išlaidų pavadinimas",null,null,null,null,0,0]
["5.3.17","Išlaidų pavadinimas",null,null,null,null,0,0]
["5.3.18","Išlaidų pavadinimas",null,null,null,null,0,0]
["5.3.19","Išlaidų pavadinimas",null,null,null,null,0,0]
["5.3.20","Išlaidų pavadinimas",null,null,null,null,0,0]
["5.3.21","Išlaidų pavadinimas",null,null,null,null,0,0]
["5.3.22","Išlaidų pavadinimas",null,null,null,null,0,0]
["5.3.23","Išlaidų pavadinimas",null,null,null,null,0,0]
["5.3.24","Išlaidų pavadinimas",null,null,null,null,0,0]
["5.3.25","Išlaidų pavadinimas",null,null,null,null,0,0]
["5.3.26","Išlaidų pavadinimas",null,null,null,null,0,0]
["5.3.27","Išlaidų pavadinimas",null,null,null,null,0,0]
["5.4","Projekto MTEP veikloms naudojamo ilgalaikio materialaus turto (įrangos, prietaisų, įrankių, įrenginių, mašinų ir įrengimų, pastatų ir (ar) patalpų), nusidėvėjimo sąnaudos, jeigu šiam turtui įsigyti nebuvo naudojamos viešosios (įskaitant ir kitų valstybių) lėšos",null,null,null,null,{"$f":"SUM(G73:G101)","v":0},{"$f":"SUM(H73:H101)","v":0},null,"Turto įvedimo į eksploataciją data","Turto įsigijimo vertė, Eur","Turto nudėvėjimo, amortizacijos laikotarpis, mėn.","Numatoma turto likutinė vertė, Eur","1 mėn. nudėvėjimo, amortizacijos suma, Eur","Turto naudojamo projekto reikmėms laikas, mėn.","Turto panaudojimo projekto reikmėms dalis (proc.)","Projektui priskirta turto nusidėvėjimo, amortizacijos suma per projekto laikotarpį, Eur"]
["5.4.1","Turtas, kurio nusidėvėjimą, amortizaciją prašoma finansuoti",null,null,1,{"$f":"Q73","v":0},{"$f":"ROUND(E73*F73,2)","v":0},0,null,null,null,null,null,{"$f":"IFERROR(ROUND((K73-M73)/L73,2),\"0\")","v":"0"},null,null,{"$f":"N73*O73*P73","v":0},{"$f":"IF(J73=0,\" \",IF(J73+(L73*30.5)<TODAY(),\"DĖMESIO! Patikrinkite, ar nurodytas turtas dar nėra nudėvėtas, amortizuotas\",\" \"))","v":" "}]
["5.4.2","Turtas, kurio nusidėvėjimą, amortizaciją prašoma finansuoti",null,null,1,0,0,0,null,null,null,null,null,{"$f":"IFERROR(ROUND((K74-M74)/L74,2),\"0\")","v":"0"},null,null,{"$f":"N74*O74*P74","v":0},{"$f":"IF(J74=0,\" \",IF(J74+(L74*30.5)<TODAY(),\"DĖMESIO! Patikrinkite, ar nurodytas turtas dar nėra nudėvėtas, amortizuotas\",\" \"))","v":" "}]
["5.4.3","Turtas, kurio nusidėvėjimą, amortizaciją prašoma finansuoti",null,null,1,0,0,0,null,null,null,null,null,"0",null,null,0," "]
["5.4.4","Turtas, kurio nusidėvėjimą, amortizaciją prašoma finansuoti",null,null,1,0,0,0,null,null,null,null,null,"0",null,null,0," "]
["5.4.5","Turtas, kurio nusidėvėjimą, amortizaciją prašoma finansuoti",null,null,1,0,0,0,null,null,null,null,null,"0",null,null,0," "]
["5.4.6","Turtas, kurio nusidėvėjimą, amortizaciją prašoma finansuoti",null,null,1,0,0,0,null,null,null,null,null,"0",null,null,0," "]
["5.4.7","Turtas, kurio nusidėvėjimą, amortizaciją prašoma finansuoti",null,null,1,0,0,0,null,null,null,null,null,"0",null,null,0," "]
["5.4.8","Turtas, kurio nusidėvėjimą, amortizaciją prašoma finansuoti",null,null,1,0,0,0,null,null,null,null,null,"0",null,null,0," "]
["5.4.9","Turtas, kurio nusidėvėjimą, amortizaciją prašoma finansuoti",null,null,1,0,0,0,null,null,null,null,null,"0",null,null,0," "]
["5.4.10","Turtas, kurio nusidėvėjimą, amortizaciją prašoma finansuoti",null,null,1,0,0,0,null,null,null,null,null,"0",null,null,0," "]
["5.4.11","Turtas, kurio nusidėvėjimą, amortizaciją prašoma finansuoti",null,null,1,0,0,0,null,null,null,null,null,"0",null,null,0," "]
["5.4.12","Turtas, kurio nusidėvėjimą, amortizaciją prašoma finansuoti",null,null,1,0,0,0,null,null,null,null,null,"0",null,null,0," "]
["5.4.13","Turtas, kurio nusidėvėjimą, amortizaciją prašoma finansuoti",null,null,1,0,0,0,null,null,null,null,null,"0",null,null,0," "]
["5.4.14","Turtas, kurio nusidėvėjimą, amortizaciją prašoma finansuoti",null,null,1,0,0,0,null,null,null,null,null,"0",null,null,0," "]
["5.4.15","Turtas, kurio nusidėvėjimą, amortizaciją prašoma finansuoti",null,null,1,0,0,0,null,null,null,null,null,"0",null,null,0," "]
["5.4.16","Turtas, kurio nusidėvėjimą, amortizaciją prašoma finansuoti",null,null,1,0,0,0,null,null,null,null,null,"0",null,null,0," "]
["5.4.17","Turtas, kurio nusidėvėjimą, amortizaciją prašoma finansuoti",null,null,1,0,0,0,null,null,null,null,null,"0",null,null,0," "]
["5.4.18","Turtas, kurio nusidėvėjimą, amortizaciją prašoma finansuoti",null,null,1,0,0,0,null,null,null,null,null,"0",null,null,0," "]
["5.4.19","Turtas, kurio nusidėvėjimą, amortizaciją prašoma finansuoti",null,null,1,0,0,0,null,null,null,null,null,"0",null,null,0," "]
["5.4.20","Turtas, kurio nusidėvėjimą, amortizaciją prašoma finansuoti",null,null,1,0,0,0,null,null,null,null,null,"0",null,null,0," "]
["5.4.21","Turtas, kurio nusidėvėjimą, amortizaciją prašoma finansuoti",null,null,1,0,0,0,null,null,null,null,null,"0",null,null,0," "]
["5.4.22","Turtas, kurio nusidėvėjimą, amortizaciją prašoma finansuoti",null,null,1,0,0,0,null,null,null,null,null,"0",null,null,0," "]
["5.4.23","Turtas, kurio nusidėvėjimą, amortizaciją prašoma finansuoti",null,null,1,0,0,0,null,null,null,null,null,"0",null,null,0," "]
["5.4.24","Turtas, kurio nusidėvėjimą, amortizaciją prašoma finansuoti",null,null,1,0,0,0,null,null,null,null,null,"0",null,null,0," "]
["5.4.25","Turtas, kurio nusidėvėjimą, amortizaciją prašoma finansuoti",null,null,1,0,0,0,null,null,null,null,null,"0",null,null,0," "]
["5.4.26","Turtas, kurio nusidėvėjimą, amortizaciją prašoma finansuoti",null,null,1,0,0,0,null,null,null,null,null,"0",null,null,0," "]
["5.4.27","Turtas, kurio nusidėvėjimą, amortizaciją prašoma finansuoti",null,null,1,0,0,0,null,null,null,null,null,"0",null,null,0," "]
["5.4.28","Turtas, kurio nusidėvėjimą, amortizaciją prašoma finansuoti",null,null,1,0,0,0,null,null,null,null,null,"0",null,null,0," "]
["5.4.29","Turtas, kurio nusidėvėjimą, amortizaciją prašoma finansuoti",null,null,1,0,0,0,null,null,null,null,null,"0",null,null,0," "]
["5.5","Projektą vykdančio personalo darbo užmokestis ir išlaidos su darbo santykiais susijusiems darbdavio įsipareigojimams",null,null,null,null,{"$f":"SUM(G103:G152)","v":0},{"$f":"SUM(H103:H152)","v":0},null,"Faktiškai gaunamas darbo užmokesti už 1 valandą pagal  pastarųjų 6 mėn. vidurkį, Eur"]
["5.5.1","Pareigybės pavadinimas","Darbuotojo vardas pavardė","val.",null,{"$f":"IFERROR(ROUND(AVERAGE(J103:J107),2),\"0\")","v":"0"},{"$f":"ROUND(E103*F103,2)","v":0},{"$f":"ROUND(G103*$D$7,2)","v":0}]
[null,null,"Darbuotojo vardas pavardė"]
[null,null,"Darbuotojo vardas pavardė"]
[null,null,"Darbuotojo vardas pavardė"]
[null,null,"Darbuotojo vardas pavardė"]
["5.5.2","Pareigybės pavadinimas","Darbuotojo vardas pavardė","val.",null,{"$f":"IFERROR(ROUND(AVERAGE(J108:J112),2),\"0\")","v":"0"},{"$f":"ROUND(E108*F108,2)","v":0},{"$f":"ROUND(G108*$D$7,2)","v":0}]
[null,null,"Darbuotojo vardas pavardė"]
[null,null,"Darbuotojo vardas pavardė"]
[null,null,"Darbuotojo vardas pavardė"]
[null,null,"Darbuotojo vardas pavardė"]
["5.5.3","Pareigybės pavadinimas","Darbuotojo vardas pavardė","val.",null,{"$f":"IFERROR(ROUND(AVERAGE(J113:J117),2),\"0\")","v":"0"},{"$f":"ROUND(E113*F113,2)","v":0},{"$f":"ROUND(G113*$D$7,2)","v":0}]
[null,null,"Darbuotojo vardas pavardė"]
[null,null,"Darbuotojo vardas pavardė"]
[null,null,"Darbuotojo vardas pavardė"]
[null,null,"Darbuotojo vardas pavardė"]
["5.5.4","Pareigybės pavadinimas","Darbuotojo vardas pavardė","val.",null,{"$f":"IFERROR(ROUND(AVERAGE(J118:J122),2),\"0\")","v":"0"},{"$f":"ROUND(E118*F118,2)","v":0},{"$f":"ROUND(G118*$D$7,2)","v":0}]
[null,null,"Darbuotojo vardas pavardė"]
[null,null,"Darbuotojo vardas pavardė"]
[null,null,"Darbuotojo vardas pavardė"]
[null,null,"Darbuotojo vardas pavardė"]
["5.5.5","Pareigybės pavadinimas","Darbuotojo vardas pavardė","val.",null,{"$f":"IFERROR(ROUND(AVERAGE(J123:J127),2),\"0\")","v":"0"},{"$f":"ROUND(E123*F123,2)","v":0},{"$f":"ROUND(G123*$D$7,2)","v":0}]
[null,null,"Darbuotojo vardas pavardė"]
[null,null,"Darbuotojo vardas pavardė"]
[null,null,"Darbuotojo vardas pavardė"]
[null,null,"Darbuotojo vardas pavardė"]
["5.5.6","Pareigybės pavadinimas","Darbuotojo vardas pavardė","val.",null,{"$f":"IFERROR(ROUND(AVERAGE(J128:J132),2),\"0\")","v":"0"},{"$f":"ROUND(E128*F128,2)","v":0},{"$f":"ROUND(G128*$D$7,2)","v":0}]
[null,null,"Darbuotojo vardas pavardė"]
[null,null,"Darbuotojo vardas pavardė"]
[null,null,"Darbuotojo vardas pavardė"]
[null,null,"Darbuotojo vardas pavardė"]
["5.5.7","Pareigybės pavadinimas","Darbuotojo vardas pavardė","val.",null,{"$f":"IFERROR(ROUND(AVERAGE(J133:J137),2),\"0\")","v":"0"},{"$f":"ROUND(E133*F133,2)","v":0},{"$f":"ROUND(G133*$D$7,2)","v":0}]
[null,null,"Darbuotojo vardas pavardė"]
[null,null,"Darbuotojo vardas pavardė"]
[null,null,"Darbuotojo vardas pavardė"]
[null,null,"Darbuotojo vardas pavardė"]
["5.5.8","Pareigybės pavadinimas","Darbuotojo vardas pavardė","val.",null,{"$f":"IFERROR(ROUND(AVERAGE(J138:J142),2),\"0\")","v":"0"},{"$f":"ROUND(E138*F138,2)","v":0},{"$f":"ROUND(G138*$D$7,2)","v":0}]
[null,null,"Darbuotojo vardas pavardė"]
[null,null,"Darbuotojo vardas pavardė"]
[null,null,"Darbuotojo vardas pavardė"]
[null,null,"Darbuotojo vardas pavardė"]
["5.5.9","Pareigybės pavadinimas","Darbuotojo vardas pavardė","val.",null,{"$f":"IFERROR(ROUND(AVERAGE(J143:J147),2),\"0\")","v":"0"},{"$f":"ROUND(E143*F143,2)","v":0},{"$f":"ROUND(G143*$D$7,2)","v":0}]
[null,null,"Darbuotojo vardas pavardė"]
[null,null,"Darbuotojo vardas pavardė"]
[null,null,"Darbuotojo vardas pavardė"]
[null,null,"Darbuotojo vardas pavardė"]
["5.5.10","Pareigybės pavadinimas","Darbuotojo vardas pavardė","val.",null,{"$f":"IFERROR(ROUND(AVERAGE(J148:J152),2),\"0\")","v":"0"},{"$f":"ROUND(E148*F148,2)","v":0},{"$f":"ROUND(G148*$D$7,2)","v":0}]
[null,null,"Darbuotojo vardas pavardė"]
[null,null,"Darbuotojo vardas pavardė"]
[null,null,"Darbuotojo vardas pavardė"]
[null,null,"Darbuotojo vardas pavardė"]
["5.6","Projektą vykdančio personalo komandiruočių išlaidos",null,null,null,null,{"$f":"SUM(G154,G161,G168,G175,G182,G189,G196,G203,G210,G217)","v":0},{"$f":"SUM(H154,H161,H168,H175,H182,H189,H196,H203,H210,H217)","v":0}]
["5.6.1","Komandiruotės pavadinimas, vieta, trukmė dienomis, vykstančių asmenų skaičius","Iš viso komandiruotei",null,null,null,{"$f":"SUM(G155:G160)","v":0},{"$f":"ROUND(G154*$D$7,2)","v":0}]
[null,null,"Dienpinigiai",null,null,null,{"$f":"ROUND(E155*F155,2)","v":0}]
[null,null,"Gyvenamojo ploto nuoma",null,null,null,0]
[null,null,"Kelionės išlaidos",null,null,null,0]
[null,null,"Dalyvavimo mokestis",null,null,null,0]
[null,null,"Kitos išlaidų pavadinimas",null,null,null,0]
[null,null,"Kitos išlaidų pavadinimas",null,null,null,0]
["5.6.2","Komandiruotės pavadinimas, vieta, trukmė dienomis, vykstančių asmenų skaičius","Iš viso komandiruotei",null,null,null,{"$f":"SUM(G162:G167)","v":0},{"$f":"ROUND(G161*$D$7,2)","v":0}]
[null,null,"Dienpinigiai",null,null,null,{"$f":"ROUND(E162*F162,2)","v":0}]
[null,null,"Gyvenamojo ploto nuoma",null,null,null,0]
[null,null,"Kelionės išlaidos",null,null,null,0]
[null,null,"Dalyvavimo mokestis",null,null,null,0]
[null,null,"Kitos išlaidų pavadinimas",null,null,null,0]
[null,null,"Kitos išlaidų pavadinimas",null,null,null,0]
["5.6.3","Komandiruotės pavadinimas, vieta, trukmė dienomis, vykstančių asmenų skaičius","Iš viso komandiruotei",null,null,null,{"$f":"SUM(G169:G174)","v":0},{"$f":"ROUND(G168*$D$7,2)","v":0}]
[null,null,"Dienpinigiai",null,null,null,{"$f":"ROUND(E169*F169,2)","v":0}]
[null,null,"Gyvenamojo ploto nuoma",null,null,null,0]
[null,null,"Kelionės išlaidos",null,null,null,0]
[null,null,"Dalyvavimo mokestis",null,null,null,0]
[null,null,"Kitos išlaidų pavadinimas",null,null,null,0]
[null,null,"Kitos išlaidų pavadinimas",null,null,null,0]
["5.6.4","Komandiruotės pavadinimas, vieta, trukmė dienomis, vykstančių asmenų skaičius","Iš viso komandiruotei",null,null,null,{"$f":"SUM(G176:G181)","v":0},{"$f":"ROUND(G175*$D$7,2)","v":0}]
[null,null,"Dienpinigiai",null,null,null,{"$f":"ROUND(E176*F176,2)","v":0}]
[null,null,"Gyvenamojo ploto nuoma",null,null,null,0]
[null,null,"Kelionės išlaidos",null,null,null,0]
[null,null,"Dalyvavimo mokestis",null,null,null,0]
[null,null,"Kitos išlaidų pavadinimas",null,null,null,0]
[null,null,"Kitos išlaidų pavadinimas",null,null,null,0]
["5.6.5","Komandiruotės pavadinimas, vieta, trukmė dienomis, vykstančių asmenų skaičius","Iš viso komandiruotei",null,null,null,{"$f":"SUM(G183:G188)","v":0},{"$f":"ROUND(G182*$D$7,2)","v":0}]
[null,null,"Dienpinigiai",null,null,null,{"$f":"ROUND(E183*F183,2)","v":0}]
[null,null,"Gyvenamojo ploto nuoma",null,null,null,0]
[null,null,"Kelionės išlaidos",null,null,null,0]
[null,null,"Dalyvavimo mokestis",null,null,null,0]
[null,null,"Kitos išlaidų pavadinimas",null,null,null,0]
[null,null,"Kitos išlaidų pavadinimas",null,null,null,0]
["5.6.6","Komandiruotės pavadinimas, vieta, trukmė dienomis, vykstančių asmenų skaičius","Iš viso komandiruotei",null,null,null,{"$f":"SUM(G190:G195)","v":0},{"$f":"ROUND(G189*$D$7,2)","v":0}]
[null,null,"Dienpinigiai",null,null,null,{"$f":"ROUND(E190*F190,2)","v":0}]
[null,null,"Gyvenamojo ploto nuoma",null,null,null,0]
[null,null,"Kelionės išlaidos",null,null,null,0]
[null,null,"Dalyvavimo mokestis",null,null,null,0]
[null,null,"Kitos išlaidų pavadinimas",null,null,null,0]
[null,null,"Kitos išlaidų pavadinimas",null,null,null,0]
["5.6.7","Komandiruotės pavadinimas, vieta, trukmė dienomis, vykstančių asmenų skaičius","Iš viso komandiruotei",null,null,null,{"$f":"SUM(G197:G202)","v":0},{"$f":"ROUND(G196*$D$7,2)","v":0}]
[null,null,"Dienpinigiai",null,null,null,{"$f":"ROUND(E197*F197,2)","v":0}]
[null,null,"Gyvenamojo ploto nuoma",null,null,null,0]
[null,null,"Kelionės išlaidos",null,null,null,0]
[null,null,"Dalyvavimo mokestis",null,null,null,0]
[null,null,"Kitos išlaidų pavadinimas",null,null,null,0]
[null,null,"Kitos išlaidų pavadinimas",null,null,null,0]
["5.6.8","Komandiruotės pavadinimas, vieta, trukmė dienomis, vykstančių asmenų skaičius","Iš viso komandiruotei",null,null,null,{"$f":"SUM(G204:G209)","v":0},{"$f":"ROUND(G203*$D$7,2)","v":0}]
[null,null,"Dienpinigiai",null,null,null,{"$f":"ROUND(E204*F204,2)","v":0}]
[null,null,"Gyvenamojo ploto nuoma",null,null,null,0]
[null,null,"Kelionės išlaidos",null,null,null,0]
[null,null,"Dalyvavimo mokestis",null,null,null,0]
[null,null,"Kitos išlaidų pavadinimas",null,null,null,0]
[null,null,"Kitos išlaidų pavadinimas",null,null,null,0]
["5.6.9","Komandiruotės pavadinimas, vieta, trukmė dienomis, vykstančių asmenų skaičius","Iš viso komandiruotei",null,null,null,{"$f":"SUM(G211:G216)","v":0},{"$f":"ROUND(G210*$D$7,2)","v":0}]
[null,null,"Dienpinigiai",null,null,null,{"$f":"ROUND(E211*F211,2)","v":0}]
[null,null,"Gyvenamojo ploto nuoma",null,null,null,0]
[null,null,"Kelionės išlaidos",null,null,null,0]
[null,null,"Dalyvavimo mokestis",null,null,null,0]
[null,null,"Kitos išlaidų pavadinimas",null,null,null,0]
[null,null,"Kitos išlaidų pavadinimas",null,null,null,0]
["5.6.10","Komandiruotės pavadinimas, vieta, trukmė dienomis, vykstančių asmenų skaičius","Iš viso komandiruotei",null,null,null,{"$f":"SUM(G218:G223)","v":0},{"$f":"ROUND(G217*$D$7,2)","v":0}]
[null,null,"Dienpinigiai",null,null,null,{"$f":"ROUND(E218*F218,2)","v":0}]
[null,null,"Gyvenamojo ploto nuoma",null,null,null,0]
[null,null,"Kelionės išlaidos",null,null,null,0]
[null,null,"Dalyvavimo mokestis",null,null,null,0]
[null,null,"Kitos išlaidų pavadinimas",null,null,null,0]
[null,null,"Kitos išlaidų pavadinimas",null,null,null,0]
["5.7","Įrangos nuomos išlaidos, veiklai priskirtos pro rata principu. Įranga turi būti tiesiogiai susijusi su projekto įgyvendinimu ir negali būti įsigyta iš ES struktūrinių fondų ar kt. ES finansinių priemonių lėšų",null,null,null,null,{"$f":"SUM(G225:G241)","v":0},{"$f":"SUM(H225:H241)","v":0},null,"Faktinės 1 mėnesio išlaidos, Eur","Naudojimo projekte trukmė, mėn."]
["5.7.1","Įrangos pavadinimas",null,"pro rata proc.",null,{"$f":"J225*K225","v":0},{"$f":"ROUND(E225*F225,2)","v":0},{"$f":"ROUND(G225*$D$7,2)","v":0}]
["5.7.2","Įrangos pavadinimas",null,"pro rata proc.",null,0,0,{"$f":"ROUND(G226*$D$7,2)","v":0}]
["5.7.3","Įrangos pavadinimas",null,"pro rata proc.",null,0,0,0]
["5.7.4","Įrangos pavadinimas",null,"pro rata proc.",null,0,0,0]
["5.7.5","Įrangos pavadinimas",null,"pro rata proc.",null,0,0,0]
["5.7.6","Įrangos pavadinimas",null,"pro rata proc.",null,0,0,0]
["5.7.7","Įrangos pavadinimas",null,"pro rata proc.",null,0,0,0]
["5.7.8","Įrangos pavadinimas",null,"pro rata proc.",null,0,0,0]
["5.7.9","Įrangos pavadinimas",null,"pro rata proc.",null,0,0,0]
["5.7.10","Įrangos pavadinimas",null,"pro rata proc.",null,0,0,0]
["5.7.11","Įrangos pavadinimas",null,"pro rata proc.",null,0,0,0]
["5.7.12","Įrangos pavadinimas",null,"pro rata proc.",null,0,0,0]
["5.7.13","Įrangos pavadinimas",null,"pro rata proc.",null,0,0,0]
["5.7.14","Įrangos pavadinimas",null,"pro rata proc.",null,{"$f":"J238*K238","v":0},0,{"$f":"ROUND(G238*$D$7,2)","v":0}]
["5.7.15","Įrangos pavadinimas",null,"pro rata proc.",null,{"$f":"J239*K239","v":0},0,{"$f":"ROUND(G239*$D$7,2)","v":0}]
["5.7.16","Įrangos pavadinimas",null,"pro rata proc.",null,{"$f":"J240*K240","v":0},0,{"$f":"ROUND(G240*$D$7,2)","v":0}]
["5.7.17","Įrangos pavadinimas",null,"pro rata proc.",null,{"$f":"J241*K241","v":0},0,{"$f":"ROUND(G241*$D$7,2)","v":0}]
["5.8","Pastatų ar patalpų nuomos išlaidos, veiklai priskirtos pro rata principu. Pastatai ar patalpos turi būti tiesiogiai susijusi su projekto įgyvendinimu.",null,null,null,null,{"$f":"SUM(G243:G247)","v":0},{"$f":"SUM(H243:H247)","v":0},null,"Faktinės 1 mėnesio išlaidos, Eur","Naudojimo projekte trukmė, mėn."]
["5.8.1","Pastato, patalpų adresas",null,"pro rata proc.",null,{"$f":"J243*K243","v":0},{"$f":"ROUND(E243*F243,2)","v":0},{"$f":"ROUND(G243*$D$7,2)","v":0}]
["5.8.2","Pastato, patalpų adresas",null,"pro rata proc.",null,{"$f":"J244*K244","v":0},{"$f":"ROUND(E244*F244,2)","v":0},{"$f":"ROUND(G244*$D$7,2)","v":0}]
["5.8.3","Pastato, patalpų adresas",null,"pro rata proc.",null,{"$f":"J245*K245","v":0},{"$f":"ROUND(E245*F245,2)","v":0},{"$f":"ROUND(G245*$D$7,2)","v":0}]
["5.8.4","Pastato, patalpų adresas",null,"pro rata proc.",null,{"$f":"J246*K246","v":0},{"$f":"ROUND(E246*F246,2)","v":0},{"$f":"ROUND(G246*$D$7,2)","v":0}]
["5.8.5","Pastato, patalpų adresas",null,"pro rata proc.",null,{"$f":"J247*K247","v":0},{"$f":"ROUND(E247*F247,2)","v":0},{"$f":"ROUND(G247*$D$7,2)","v":0}]
["5.9","Projekto veikloms vykdyti reikalingų transporto priemonių nuomos išlaidos (išlaidos yra tinkamos finansuoti tik pagal Aprašą Nr. 2 vadovaujantis de minimis reglamento nuostatomis)",null,null,null,null,{"$f":"SUM(G249:G253)","v":0},{"$f":"SUM(H249:H253)","v":0}]
["5.9.1","Išlaidų pavadinimas",null,null,null,null,{"$f":"ROUND(E249*F249,2)","v":0},{"$f":"ROUND(G249*$D$7,2)","v":0}]
["5.9.2","Išlaidų pavadinimas",null,null,null,null,{"$f":"ROUND(E250*F250,2)","v":0},{"$f":"ROUND(G250*$D$7,2)","v":0}]
["5.9.3","Išlaidų pavadinimas",null,null,null,null,{"$f":"ROUND(E251*F251,2)","v":0},{"$f":"ROUND(G251*$D$7,2)","v":0}]
["5.9.4","Išlaidų pavadinimas",null,null,null,null,{"$f":"ROUND(E252*F252,2)","v":0},{"$f":"ROUND(G252*$D$7,2)","v":0}]
["5.9.5","Išlaidų pavadinimas",null,null,null,null,{"$f":"ROUND(E253*F253,2)","v":0},{"$f":"ROUND(G253*$D$7,2)","v":0}]
["Iš viso tinkamų finansuoti išlaidų:",null,null,null,null,null,{"$f":"G10+G21","v":0},{"$f":"H10+H21","v":0}]

{"sheet":"13","index":25,"n_rows":254,"n_cols":18,"rows_kept":254,"cut":false,"hidden":true,"merged":[[5,3,5,8],[8,1,8,2],[9,1,9,5],[10,1,10,2],[11,1,11,2],[12,1,12,2],[0,3,0,8],[2,0,2,2],[2,3,2,8],[3,3,3,4],[3,5,3,6],[4,0,4,2],[4,3,4,8],[19,1,19,2],[20,1,20,5],[21,1,21,5],[22,1,22,2],[23,1,23,2],[24,1,24,2],[13,1,13,2],[14,1,14,2],[15,1,15,2],[16,1,16,2],[17,1,17,2],[18,1,18,2],[31,1,31,2],[32,1,32,5],[33,1,33,2],[34,1,34,2],[35,1,35,2],[36,1,36,2],[25,1,25,2],[26,1,26,2],[27,1,27,2],[28,1,28,2],[29,1,29,2],[30,1,30,2],[43,1,43,5],[44,1,44,2],[45,1,45,2],[46,1,46,2],[47,1,47,2],[48,1,48,2],[37,1,37,2],[38,1,38,2],[39,1,39,2],[40,1,40,2],[41,1,41,2],[42,1,42,2],[55,1,55,2],[56,1,56,2],[57,1,57,2],[58,1,58,2],[59,1,59,2],[60,1,60,2],[49,1,49,2],[50,1,50,2],[51,1,51,2],[52,1,52,2],[53,1,53,2],[54,1,54,2],[67,1,67,2],[68,1,68,2],[69,1,69,2],[70,1,70,2],[71,1,71,5],[72,1,72,2],[61,1,61,2],[62,1,62,2],[63,1,63,2],[64,1,64,2],[65,1,65,2],[66,1,66,2],[79,1,79,2],[80,1,80,2],[81,1,81,2],[82,1,82,2],[83,1,83,2],[84,1,84,2],[73,1,73,2],[74,1,74,2],[75,1,75,2],[76,1,76,2],[77,1,77,2],[78,1,78,2],[91,1,91,2],[92,1,92,2],[93,1,93,2],[94,1,94,2],[95,1,95,2],[96,1,96,2],[85,1,85,2],[86,1,86,2],[87,1,87,2],[88,1,88,2],[89,1,89,2],[90,1,90,2],[97,1,97,2],[98,1,98,2],[99,1,99,2],[100,1,100,2],[101,1,101,5],[102,0,106,0],[102,1,106,1],[102,3,106,3],[102,4,106,4],[102,5,106,5],[102,6,106,6],[102,7,106,7],[102,8,106,8],[107,0,111,0],[107,1,111,1],[107,3,111,3],[107,4,111,4],[107,5,111,5],[107,6,111,6],[107,7,111,7],[107,8,111,8],[112,0,116,0],[112,1,116,1],[112,3,116,3],[112,4,116,4],[112,5,116,5],[112,6,116,6],[112,7,116,7],[112,8,116,8],[117,7,121,7],[117,8,121,8],[122,0,126,0],[122,1,126,1],[122,3,126,3],[122,4,126,4],[122,5,126,5],[122,6,126,6],[122,7,126,7],[122,8,126,8],[117,0,121,0],[117,1,121,1],[117,3,121,3],[117,4,121,4],[117,5,121,5],[117,6,121,6],[127,7,131,7],[127,8,131,8],[132,0,136,0],[132,1,136,1],[132,3,136,3],[132,4,136,4],[132,5,136,5],[132,6,136,6],[132,7,136,7],[132,8,136,8],[127,0,131,0],[127,1,131,1],[127,3,131,3],[127,4,131,4],[127,5,131,5],[127,6,131,6],[137,7,141,7],[137,8,141,8],[142,0,146,0],[142,1,146,1],[142,3,146,3],[142,4,146,4],[142,5,146,5],[142,6,146,6],[142,7,146,7],[142,8,146,8],[137,0,141,0],[137,1,141,1],[137,3,141,3],[137,4,141,4],[137,5,141,5],[137,6,141,6],[147,7,151,7],[147,8,151,8],[152,1,152,5],[153,0,159,0],[153,1,159,1],[153,8,159,8],[147,0,151,0],[147,1,151,1],[147,3,151,3],[147,4,151,4],[147,5,151,5],[147,6,151,6],[174,0,180,0],[174,1,180,1],[174,8,180,8],[181,0,187,0],[181,1,187,1],[181,8,187,8],[160,0,166,0],[160,1,166,1],[160,8,166,8],[167,0,173,0],[167,1,173,1],[167,8,173,8],[202,0,208,0],[202,1,208,1],[202,8,208,8],[209,0,215,0],[209,1,215,1],[209,8,215,8],[188,0,194,0],[188,1,194,1],[188,8,194,8],[195,0,201,0],[195,1,201,1],[195,8,201,8],[226,1,226,2],[227,1,227,2],[228,1,228,2],[229,1,229,2],[230,1,230,2],[231,1,231,2],[216,0,222,0],[216,1,222,1],[216,8,222,8],[223,1,223,5],[224,1,224,2],[225,1,225,2],[238,1,238,2],[239,1,239,2],[240,1,240,2],[241,1,241,5],[242,1,242,2],[243,1,243,2],[232,1,232,2],[233,1,233,2],[234,1,234,2],[235,1,235,2],[236,1,236,2],[237,1,237,2],[250,1,250,2],[251,1,251,2],[252,1,252,2],[253,0,253,5],[244,1,244,2],[245,1,245,2],[246,1,246,2],[247,1,247,5],[248,1,248,2],[249,1,249,2]]}
[null,null,"Pasirinkite veiklos tipą:"]
[null,null,"Fizinio rodiklio Nr.:"]
["Fizinio rodiklio pavadinimas:"]
[null,null,"Fizinio rodiklio matavimo vnt.:",null,null,"Fizinio rodiklio vnt. skaičius:"]
["Juridinis asmuo (pareiškėjas, partneris), atsakingas už fizinį rodiklį:"]
[null,null,"Vykdytojo tipas:"]
[null,null,"Finansavimo intensyvumas:",null,null,null,"Pasirinkite biudžeto išlaidų kategoriją:","Visos"]
[]
["Eil. Nr.","Išlaidų kategorijos pavadinimas",null,"Matavimo vnt.","Kiekis","Vieneto kaina be PVM, Eur","Tinkamų finansuoti išlaidų suma be PVM, Eur","Finansavimo suma, Eur","Išlaidų pagrindimo dokumentų pavadinimas, data ir Nr."]
[4,"ĮRANGA, ĮRENGINIAI IR KT. TURTAS (techninių žinių ir išradimų patentų arba teisių pagal licencijų sutartį įsigijimo išlaidos)",null,null,null,null,{"$f":"SUM(G11:G20)","v":0},{"$f":"SUM(H11:H20)","v":0}]
["4.1","Išlaidų pavadinimas",null,null,null,null,{"$f":"ROUND(E11*F11,2)","v":0},{"$f":"ROUND(G11*$D$7,2)","v":0}]
["4.2","Išlaidų pavadinimas",null,null,null,null,0,0]
["4.3","Išlaidų pavadinimas",null,null,null,null,0,0]
["4.4","Išlaidų pavadinimas",null,null,null,null,0,0]
["4.5","Išlaidų pavadinimas",null,null,null,null,0,0]
["4.6","Išlaidų pavadinimas",null,null,null,null,0,0]
["4.7","Išlaidų pavadinimas",null,null,null,null,0,0]
["4.8","Išlaidų pavadinimas",null,null,null,null,0,0]
["4.9","Išlaidų pavadinimas",null,null,null,null,0,0]
["4.10","Išlaidų pavadinimas",null,null,null,null,0,0]
[5,"PROJEKTO VYKDYMAS",null,null,null,null,{"$f":"G22+G33+G44+G72+G102+G153+G224+G242+G248","v":0},{"$f":"H22+H33+H44+H72+H102+H153+H224+H242+H248","v":0}]
["5.1","MTEP paslaugos",null,null,null,null,{"$f":"SUM(G23:G32)","v":0},{"$f":"SUM(H23:H32)","v":0}]
["5.1.1","Paslaugos pavadinimas",null,null,null,null,{"$f":"ROUND(E23*F23,2)","v":0},0]
["5.1.2","Paslaugos pavadinimas",null,null,null,null,0,0]
["5.1.3","Paslaugos pavadinimas",null,null,null,null,0,0]
["5.1.4","Paslaugos pavadinimas",null,null,null,null,0,0]
["5.1.5","Paslaugos pavadinimas",null,null,null,null,0,0]
["5.1.6","Paslaugos pavadinimas",null,null,null,null,0,0]
["5.1.7","Paslaugos pavadinimas",null,null,null,null,0,0]
["5.1.8","Paslaugos pavadinimas",null,null,null,null,0,0]
["5.1.9","Paslaugos pavadinimas",null,null,null,null,0,0]
["5.1.10","Paslaugos pavadinimas",null,null,null,null,0,0]
["5.2","Konsultavimo ir lygiavertės paslaugos, teikiamos vien tik projekto MTEP veiklai.",null,null,null,null,{"$f":"SUM(G34:G43)","v":0},{"$f":"SUM(H34:H43)","v":0}]
["5.2.1","Paslaugos pavadinimas",null,null,null,null,{"$f":"ROUND(E34*F34,2)","v":0},0]
["5.2.2","Paslaugos pavadinimas",null,null,null,null,0,0]
["5.2.3","Paslaugos pavadinimas",null,null,null,null,0,0]
["5.2.4","Paslaugos pavadinimas",null,null,null,null,0,0]
["5.2.5","Paslaugos pavadinimas",null,null,null,null,0,0]
["5.2.6","Paslaugos pavadinimas",null,null,null,null,0,0]
["5.2.7","Paslaugos pavadinimas",null,null,null,null,0,0]
["5.2.8","Paslaugos pavadinimas",null,null,null,null,0,0]
["5.2.9","Paslaugos pavadinimas",null,null,null,null,0,0]
["5.2.10","Paslaugos pavadinimas",null,null,null,null,0,0]
["5.3","Medžiagos, mažavertis inventorius, atsargos ir pan. produktai, priskirtini trumpalaikiam turtui ir tiesiogiai susiję su MTEP veikla",null,null,null,null,{"$f":"SUM(G45:G71)","v":0},{"$f":"SUM(H45:H71)","v":0}]
["5.3.1","Išlaidų pavadinimas",null,null,null,null,{"$f":"ROUND(E45*F45,2)","v":0},{"$f":"ROUND(G45*$D$7,2)","v":0}]
["5.3.2","Išlaidų pavadinimas",null,null,null,null,{"$f":"ROUND(E46*F46,2)","v":0},{"$f":"ROUND(G46*$D$7,2)","v":0}]
["5.3.3","Išlaidų pavadinimas",null,null,null,null,{"$f":"ROUND(E47*F47,2)","v":0},{"$f":"ROUND(G47*$D$7,2)","v":0}]
["5.3.4","Išlaidų pavadinimas",null,null,null,null,{"$f":"ROUND(E48*F48,2)","v":0},{"$f":"ROUND(G48*$D$7,2)","v":0}]
["5.3.5","Išlaidų pavadinimas",null,null,null,null,{"$f":"ROUND(E49*F49,2)","v":0},{"$f":"ROUND(G49*$D$7,2)","v":0}]
["5.3.6","Išlaidų pavadinimas",null,null,null,null,0,0]
["5.3.7","Išlaidų pavadinimas",null,null,null,null,0,0]
["5.3.8","Išlaidų pavadinimas",null,null,null,null,0,0]
["5.3.9","Išlaidų pavadinimas",null,null,null,null,0,0]
["5.3.10","Išlaidų pavadinimas",null,null,null,null,0,0]
["5.3.11","Išlaidų pavadinimas",null,null,null,null,0,0]
["5.3.12","Išlaidų pavadinimas",null,null,null,null,0,0]
["5.3.13","Išlaidų pavadinimas",null,null,null,null,0,0]
["5.3.14","Išlaidų pavadinimas",null,null,null,null,0,0]
["5.3.15","Išlaidų pavadinimas",null,null,null,null,0,0]
["5.3.16","Išlaidų pavadinimas",null,null,null,null,0,0]
["5.3.17","Išlaidų pavadinimas",null,null,null,null,0,0]
["5.3.18","Išlaidų pavadinimas",null,null,null,null,0,0]
["5.3.19","Išlaidų pavadinimas",null,null,null,null,0,0]
["5.3.20","Išlaidų pavadinimas",null,null,null,null,0,0]
["5.3.21","Išlaidų pavadinimas",null,null,null,null,0,0]
["5.3.22","Išlaidų pavadinimas",null,null,null,null,0,0]
["5.3.23","Išlaidų pavadinimas",null,null,null,null,0,0]
["5.3.24","Išlaidų pavadinimas",null,null,null,null,0,0]
["5.3.25","Išlaidų pavadinimas",null,null,null,null,0,0]
["5.3.26","Išlaidų pavadinimas",null,null,null,null,0,0]
["5.3.27","Išlaidų pavadinimas",null,null,null,null,0,0]
["5.4","Projekto MTEP veikloms naudojamo ilgalaikio materialaus turto (įrangos, prietaisų, įrankių, įrenginių, mašinų ir įrengimų, pastatų ir (ar) patalpų), nusidėvėjimo sąnaudos, jeigu šiam turtui įsigyti nebuvo naudojamos viešosios (įskaitant ir kitų valstybių) lėšos",null,null,null,null,{"$f":"SUM(G73:G101)","v":0},{"$f":"SUM(H73:H101)","v":0},null,"Turto įvedimo į eksploataciją data","Turto įsigijimo vertė, Eur","Turto nudėvėjimo, amortizacijos laikotarpis, mėn.","Numatoma turto likutinė vertė, Eur","1 mėn. nudėvėjimo, amortizacijos suma, Eur","Turto naudojamo projekto reikmėms laikas, mėn.","Turto panaudojimo projekto reikmėms dalis (proc.)","Projektui priskirta turto nusidėvėjimo, amortizacijos suma per projekto laikotarpį, Eur"]
["5.4.1","Turtas, kurio nusidėvėjimą, amortizaciją prašoma finansuoti",null,null,1,{"$f":"Q73","v":0},{"$f":"ROUND(E73*F73,2)","v":0},0,null,null,null,null,null,{"$f":"IFERROR(ROUND((K73-M73)/L73,2),\"0\")","v":"0"},null,null,{"$f":"N73*O73*P73","v":0},{"$f":"IF(J73=0,\" \",IF(J73+(L73*30.5)<TODAY(),\"DĖMESIO! Patikrinkite, ar nurodytas turtas dar nėra nudėvėtas, amortizuotas\",\" \"))","v":" "}]
["5.4.2","Turtas, kurio nusidėvėjimą, amortizaciją prašoma finansuoti",null,null,1,0,0,0,null,null,null,null,null,{"$f":"IFERROR(ROUND((K74-M74)/L74,2),\"0\")","v":"0"},null,null,{"$f":"N74*O74*P74","v":0},{"$f":"IF(J74=0,\" \",IF(J74+(L74*30.5)<TODAY(),\"DĖMESIO! Patikrinkite, ar nurodytas turtas dar nėra nudėvėtas, amortizuotas\",\" \"))","v":" "}]
["5.4.3","Turtas, kurio nusidėvėjimą, amortizaciją prašoma finansuoti",null,null,1,0,0,0,null,null,null,null,null,"0",null,null,0," "]
["5.4.4","Turtas, kurio nusidėvėjimą, amortizaciją prašoma finansuoti",null,null,1,0,0,0,null,null,null,null,null,"0",null,null,0," "]
["5.4.5","Turtas, kurio nusidėvėjimą, amortizaciją prašoma finansuoti",null,null,1,0,0,0,null,null,null,null,null,"0",null,null,0," "]
["5.4.6","Turtas, kurio nusidėvėjimą, amortizaciją prašoma finansuoti",null,null,1,0,0,0,null,null,null,null,null,"0",null,null,0," "]
["5.4.7","Turtas, kurio nusidėvėjimą, amortizaciją prašoma finansuoti",null,null,1,0,0,0,null,null,null,null,null,"0",null,null,0," "]
["5.4.8","Turtas, kurio nusidėvėjimą, amortizaciją prašoma finansuoti",null,null,1,0,0,0,null,null,null,null,null,"0",null,null,0," "]
["5.4.9","Turtas, kurio nusidėvėjimą, amortizaciją prašoma finansuoti",null,null,1,0,0,0,null,null,null,null,null,"0",null,null,0," "]
["5.4.10","Turtas, kurio nusidėvėjimą, amortizaciją prašoma finansuoti",null,null,1,0,0,0,null,null,null,null,null,"0",null,null,0," "]
["5.4.11","Turtas, kurio nusidėvėjimą, amortizaciją prašoma finansuoti",null,null,1,0,0,0,null,null,null,null,null,"0",null,null,0," "]
["5.4.12","Turtas, kurio nusidėvėjimą, amortizaciją prašoma finansuoti",null,null,1,0,0,0,null,null,null,null,null,"0",null,null,0," "]
["5.4.13","Turtas, kurio nusidėvėjimą, amortizaciją prašoma finansuoti",null,null,1,0,0,0,null,null,null,null,null,"0",null,null,0," "]
["5.4.14","Turtas, kurio nusidėvėjimą, amortizaciją prašoma finansuoti",null,null,1,0,0,0,null,null,null,null,null,"0",null,null,0," "]
["5.4.15","Turtas, kurio nusidėvėjimą, amortizaciją prašoma finansuoti",null,null,1,0,0,0,null,null,null,null,null,"0",null,null,0," "]
["5.4.16","Turtas, kurio nusidėvėjimą, amortizaciją prašoma finansuoti",null,null,1,0,0,0,null,null,null,null,null,"0",null,null,0," "]
["5.4.17","Turtas, kurio nusidėvėjimą, amortizaciją prašoma finansuoti",null,null,1,0,0,0,null,null,null,null,null,"0",null,null,0," "]
["5.4.18","Turtas, kurio nusidėvėjimą, amortizaciją prašoma finansuoti",null,null,1,0,0,0,null,null,null,null,null,"0",null,null,0," "]
["5.4.19","Turtas, kurio nusidėvėjimą, amortizaciją prašoma finansuoti",null,null,1,0,0,0,null,null,null,null,null,"0",null,null,0," "]
["5.4.20","Turtas, kurio nusidėvėjimą, amortizaciją prašoma finansuoti",null,null,1,0,0,0,null,null,null,null,null,"0",null,null,0," "]
["5.4.21","Turtas, kurio nusidėvėjimą, amortizaciją prašoma finansuoti",null,null,1,0,0,0,null,null,null,null,null,"0",null,null,0," "]
["5.4.22","Turtas, kurio nusidėvėjimą, amortizaciją prašoma finansuoti",null,null,1,0,0,0,null,null,null,null,null,"0",null,null,0," "]
["5.4.23","Turtas, kurio nusidėvėjimą, amortizaciją prašoma finansuoti",null,null,1,0,0,0,null,null,null,null,null,"0",null,null,0," "]
["5.4.24","Turtas, kurio nusidėvėjimą, amortizaciją prašoma finansuoti",null,null,1,0,0,0,null,null,null,null,null,"0",null,null,0," "]
["5.4.25","Turtas, kurio nusidėvėjimą, amortizaciją prašoma finansuoti",null,null,1,0,0,0,null,null,null,null,null,"0",null,null,0," "]
["5.4.26","Turtas, kurio nusidėvėjimą, amortizaciją prašoma finansuoti",null,null,1,0,0,0,null,null,null,null,null,"0",null,null,0," "]
["5.4.27","Turtas, kurio nusidėvėjimą, amortizaciją prašoma finansuoti",null,null,1,0,0,0,null,null,null,null,null,"0",null,null,0," "]
["5.4.28","Turtas, kurio nusidėvėjimą, amortizaciją prašoma finansuoti",null,null,1,0,0,0,null,null,null,null,null,"0",null,null,0," "]
["5.4.29","Turtas, kurio nusidėvėjimą, amortizaciją prašoma finansuoti",null,null,1,0,0,0,null,null,null,null,null,"0",null,null,0," "]
["5.5","Projektą vykdančio personalo darbo užmokestis ir išlaidos su darbo santykiais susijusiems darbdavio įsipareigojimams",null,null,null,null,{"$f":"SUM(G103:G152)","v":0},{"$f":"SUM(H103:H152)","v":0},null,"Faktiškai gaunamas darbo užmokesti už 1 valandą pagal  pastarųjų 6 mėn. vidurkį, Eur"]
["5.5.1","Pareigybės pavadinimas","Darbuotojo vardas pavardė","val.",null,{"$f":"IFERROR(ROUND(AVERAGE(J103:J107),2),\"0\")","v":"0"},{"$f":"ROUND(E103*F103,2)","v":0},{"$f":"ROUND(G103*$D$7,2)","v":0}]
[null,null,"Darbuotojo vardas pavardė"]
[null,null,"Darbuotojo vardas pavardė"]
[null,null,"Darbuotojo vardas pavardė"]
[null,null,"Darbuotojo vardas pavardė"]
["5.5.2","Pareigybės pavadinimas","Darbuotojo vardas pavardė","val.",null,{"$f":"IFERROR(ROUND(AVERAGE(J108:J112),2),\"0\")","v":"0"},{"$f":"ROUND(E108*F108,2)","v":0},{"$f":"ROUND(G108*$D$7,2)","v":0}]
[null,null,"Darbuotojo vardas pavardė"]
[null,null,"Darbuotojo vardas pavardė"]
[null,null,"Darbuotojo vardas pavardė"]
[null,null,"Darbuotojo vardas pavardė"]
["5.5.3","Pareigybės pavadinimas","Darbuotojo vardas pavardė","val.",null,{"$f":"IFERROR(ROUND(AVERAGE(J113:J117),2),\"0\")","v":"0"},{"$f":"ROUND(E113*F113,2)","v":0},{"$f":"ROUND(G113*$D$7,2)","v":0}]
[null,null,"Darbuotojo vardas pavardė"]
[null,null,"Darbuotojo vardas pavardė"]
[null,null,"Darbuotojo vardas pavardė"]
[null,null,"Darbuotojo vardas pavardė"]
["5.5.4","Pareigybės pavadinimas","Darbuotojo vardas pavardė","val.",null,{"$f":"IFERROR(ROUND(AVERAGE(J118:J122),2),\"0\")","v":"0"},{"$f":"ROUND(E118*F118,2)","v":0},{"$f":"ROUND(G118*$D$7,2)","v":0}]
[null,null,"Darbuotojo vardas pavardė"]
[null,null,"Darbuotojo vardas pavardė"]
[null,null,"Darbuotojo vardas pavardė"]
[null,null,"Darbuotojo vardas pavardė"]
["5.5.5","Pareigybės pavadinimas","Darbuotojo vardas pavardė","val.",null,{"$f":"IFERROR(ROUND(AVERAGE(J123:J127),2),\"0\")","v":"0"},{"$f":"ROUND(E123*F123,2)","v":0},{"$f":"ROUND(G123*$D$7,2)","v":0}]
[null,null,"Darbuotojo vardas pavardė"]
[null,null,"Darbuotojo vardas pavardė"]
[null,null,"Darbuotojo vardas pavardė"]
[null,null,"Darbuotojo vardas pavardė"]
["5.5.6","Pareigybės pavadinimas","Darbuotojo vardas pavardė","val.",null,{"$f":"IFERROR(ROUND(AVERAGE(J128:J132),2),\"0\")","v":"0"},{"$f":"ROUND(E128*F128,2)","v":0},{"$f":"ROUND(G128*$D$7,2)","v":0}]
[null,null,"Darbuotojo vardas pavardė"]
[null,null,"Darbuotojo vardas pavardė"]
[null,null,"Darbuotojo vardas pavardė"]
[null,null,"Darbuotojo vardas pavardė"]
["5.5.7","Pareigybės pavadinimas","Darbuotojo vardas pavardė","val.",null,{"$f":"IFERROR(ROUND(AVERAGE(J133:J137),2),\"0\")","v":"0"},{"$f":"ROUND(E133*F133,2)","v":0},{"$f":"ROUND(G133*$D$7,2)","v":0}]
[null,null,"Darbuotojo vardas pavardė"]
[null,null,"Darbuotojo vardas pavardė"]
[null,null,"Darbuotojo vardas pavardė"]
[null,null,"Darbuotojo vardas pavardė"]
["5.5.8","Pareigybės pavadinimas","Darbuotojo vardas pavardė","val.",null,{"$f":"IFERROR(ROUND(AVERAGE(J138:J142),2),\"0\")","v":"0"},{"$f":"ROUND(E138*F138,2)","v":0},{"$f":"ROUND(G138*$D$7,2)","v":0}]
[null,null,"Darbuotojo vardas pavardė"]
[null,null,"Darbuotojo vardas pavardė"]
[null,null,"Darbuotojo vardas pavardė"]
[null,null,"Darbuotojo vardas pavardė"]
["5.5.9","Pareigybės pavadinimas","Darbuotojo vardas pavardė","val.",null,{"$f":"IFERROR(ROUND(AVERAGE(J143:J147),2),\"0\")","v":"0"},{"$f":"ROUND(E143*F143,2)","v":0},{"$f":"ROUND(G143*$D$7,2)","v":0}]
[null,null,"Darbuotojo vardas pavardė"]
[null,null,"Darbuotojo vardas pavardė"]
[null,null,"Darbuotojo vardas pavardė"]
[null,null,"Darbuotojo vardas pavardė"]
["5.5.10","Pareigybės pavadinimas","Darbuotojo vardas pavardė","val.",null,{"$f":"IFERROR(ROUND(AVERAGE(J148:J152),2),\"0\")","v":"0"},{"$f":"ROUND(E148*F148,2)","v":0},{"$f":"ROUND(G148*$D$7,2)","v":0}]
[null,null,"Darbuotojo vardas pavardė"]
[null,null,"Darbuotojo vardas pavardė"]
[null,null,"Darbuotojo vardas pavardė"]
[null,null,"Darbuotojo vardas pavardė"]
["5.6","Projektą vykdančio personalo komandiruočių išlaidos",null,null,null,null,{"$f":"SUM(G154,G161,G168,G175,G182,G189,G196,G203,G210,G217)","v":0},{"$f":"SUM(H154,H161,H168,H175,H182,H189,H196,H203,H210,H217)","v":0}]
["5.6.1","Komandiruotės pavadinimas, vieta, trukmė dienomis, vykstančių asmenų skaičius","Iš viso komandiruotei",null,null,null,{"$f":"SUM(G155:G160)","v":0},{"$f":"ROUND(G154*$D$7,2)","v":0}]
[null,null,"Dienpinigiai",null,null,null,{"$f":"ROUND(E155*F155,2)","v":0}]
[null,null,"Gyvenamojo ploto nuoma",null,null,null,0]
[null,null,"Kelionės išlaidos",null,null,null,0]
[null,null,"Dalyvavimo mokestis",null,null,null,0]
[null,null,"Kitos išlaidų pavadinimas",null,null,null,0]
[null,null,"Kitos išlaidų pavadinimas",null,null,null,0]
["5.6.2","Komandiruotės pavadinimas, vieta, trukmė dienomis, vykstančių asmenų skaičius","Iš viso komandiruotei",null,null,null,{"$f":"SUM(G162:G167)","v":0},{"$f":"ROUND(G161*$D$7,2)","v":0}]
[null,null,"Dienpinigiai",null,null,null,{"$f":"ROUND(E162*F162,2)","v":0}]
[null,null,"Gyvenamojo ploto nuoma",null,null,null,0]
[null,null,"Kelionės išlaidos",null,null,null,0]
[null,null,"Dalyvavimo mokestis",null,null,null,0]
[null,null,"Kitos išlaidų pavadinimas",null,null,null,0]
[null,null,"Kitos išlaidų pavadinimas",null,null,null,0]
["5.6.3","Komandiruotės pavadinimas, vieta, trukmė dienomis, vykstančių asmenų skaičius","Iš viso komandiruotei",null,null,null,{"$f":"SUM(G169:G174)","v":0},{"$f":"ROUND(G168*$D$7,2)","v":0}]
[null,null,"Dienpinigiai",null,null,null,{"$f":"ROUND(E169*F169,2)","v":0}]
[null,null,"Gyvenamojo ploto nuoma",null,null,null,0]
[null,null,"Kelionės išlaidos",null,null,null,0]
[null,null,"Dalyvavimo mokestis",null,null,null,0]
[null,null,"Kitos išlaidų pavadinimas",null,null,null,0]
[null,null,"Kitos išlaidų pavadinimas",null,null,null,0]
["5.6.4","Komandiruotės pavadinimas, vieta, trukmė dienomis, vykstančių asmenų skaičius","Iš viso komandiruotei",null,null,null,{"$f":"SUM(G176:G181)","v":0},{"$f":"ROUND(G175*$D$7,2)","v":0}]
[null,null,"Dienpinigiai",null,null,null,{"$f":"ROUND(E176*F176,2)","v":0}]
[null,null,"Gyvenamojo ploto nuoma",null,null,null,0]
[null,null,"Kelionės išlaidos",null,null,null,0]
[null,null,"Dalyvavimo mokestis",null,null,null,0]
[null,null,"Kitos išlaidų pavadinimas",null,null,null,0]
[null,null,"Kitos išlaidų pavadinimas",null,null,null,0]
["5.6.5","Komandiruotės pavadinimas, vieta, trukmė dienomis, vykstančių asmenų skaičius","Iš viso komandiruotei",null,null,null,{"$f":"SUM(G183:G188)","v":0},{"$f":"ROUND(G182*$D$7,2)","v":0}]
[null,null,"Dienpinigiai",null,null,null,{"$f":"ROUND(E183*F183,2)","v":0}]
[null,null,"Gyvenamojo ploto nuoma",null,null,null,0]
[null,null,"Kelionės išlaidos",null,null,null,0]
[null,null,"Dalyvavimo mokestis",null,null,null,0]
[null,null,"Kitos išlaidų pavadinimas",null,null,null,0]
[null,null,"Kitos išlaidų pavadinimas",null,null,null,0]
["5.6.6","Komandiruotės pavadinimas, vieta, trukmė dienomis, vykstančių asmenų skaičius","Iš viso komandiruotei",null,null,null,{"$f":"SUM(G190:G195)","v":0},{"$f":"ROUND(G189*$D$7,2)","v":0}]
[null,null,"Dienpinigiai",null,null,null,{"$f":"ROUND(E190*F190,2)","v":0}]
[null,null,"Gyvenamojo ploto nuoma",null,null,null,0]
[null,null,"Kelionės išlaidos",null,null,null,0]
[null,null,"Dalyvavimo mokestis",null,null,null,0]
[null,null,"Kitos išlaidų pavadinimas",null,null,null,0]
[null,null,"Kitos išlaidų pavadinimas",null,null,null,0]
["5.6.7","Komandiruotės pavadinimas, vieta, trukmė dienomis, vykstančių asmenų skaičius","Iš viso komandiruotei",null,null,null,{"$f":"SUM(G197:G202)","v":0},{"$f":"ROUND(G196*$D$7,2)","v":0}]
[null,null,"Dienpinigiai",null,null,null,{"$f":"ROUND(E197*F197,2)","v":0}]
[null,null,"Gyvenamojo ploto nuoma",null,null,null,0]
[null,null,"Kelionės išlaidos",null,null,null,0]
[null,null,"Dalyvavimo mokestis",null,null,null,0]
[null,null,"Kitos išlaidų pavadinimas",null,null,null,0]
[null,null,"Kitos išlaidų pavadinimas",null,null,null,0]
["5.6.8","Komandiruotės pavadinimas, vieta, trukmė dienomis, vykstančių asmenų skaičius","Iš viso komandiruotei",null,null,null,{"$f":"SUM(G204:G209)","v":0},{"$f":"ROUND(G203*$D$7,2)","v":0}]
[null,null,"Dienpinigiai",null,null,null,{"$f":"ROUND(E204*F204,2)","v":0}]
[null,null,"Gyvenamojo ploto nuoma",null,null,null,0]
[null,null,"Kelionės išlaidos",null,null,null,0]
[null,null,"Dalyvavimo mokestis",null,null,null,0]
[null,null,"Kitos išlaidų pavadinimas",null,null,null,0]
[null,null,"Kitos išlaidų pavadinimas",null,null,null,0]
["5.6.9","Komandiruotės pavadinimas, vieta, trukmė dienomis, vykstančių asmenų skaičius","Iš viso komandiruotei",null,null,null,{"$f":"SUM(G211:G216)","v":0},{"$f":"ROUND(G210*$D$7,2)","v":0}]
[null,null,"Dienpinigiai",null,null,null,{"$f":"ROUND(E211*F211,2)","v":0}]
[null,null,"Gyvenamojo ploto nuoma",null,null,null,0]
[null,null,"Kelionės išlaidos",null,null,null,0]
[null,null,"Dalyvavimo mokestis",null,null,null,0]
[null,null,"Kitos išlaidų pavadinimas",null,null,null,0]
[null,null,"Kitos išlaidų pavadinimas",null,null,null,0]
["5.6.10","Komandiruotės pavadinimas, vieta, trukmė dienomis, vykstančių asmenų skaičius","Iš viso komandiruotei",null,null,null,{"$f":"SUM(G218:G223)","v":0},{"$f":"ROUND(G217*$D$7,2)","v":0}]
[null,null,"Dienpinigiai",null,null,null,{"$f":"ROUND(E218*F218,2)","v":0}]
[null,null,"Gyvenamojo ploto nuoma",null,null,null,0]
[null,null,"Kelionės išlaidos",null,null,null,0]
[null,null,"Dalyvavimo mokestis",null,null,null,0]
[null,null,"Kitos išlaidų pavadinimas",null,null,null,0]
[null,null,"Kitos išlaidų pavadinimas",null,null,null,0]
["5.7","Įrangos nuomos išlaidos, veiklai priskirtos pro rata principu. Įranga turi būti tiesiogiai susijusi su projekto įgyvendinimu ir negali būti įsigyta iš ES struktūrinių fondų ar kt. ES finansinių priemonių lėšų",null,null,null,null,{"$f":"SUM(G225:G241)","v":0},{"$f":"SUM(H225:H241)","v":0},null,"Faktinės 1 mėnesio išlaidos, Eur","Naudojimo projekte trukmė, mėn."]
["5.7.1","Įrangos pavadinimas",null,"pro rata proc.",null,{"$f":"J225*K225","v":0},{"$f":"ROUND(E225*F225,2)","v":0},{"$f":"ROUND(G225*$D$7,2)","v":0}]
["5.7.2","Įrangos pavadinimas",null,"pro rata proc.",null,0,0,{"$f":"ROUND(G226*$D$7,2)","v":0}]
["5.7.3","Įrangos pavadinimas",null,"pro rata proc.",null,0,0,0]
["5.7.4","Įrangos pavadinimas",null,"pro rata proc.",null,0,0,0]
["5.7.5","Įrangos pavadinimas",null,"pro rata proc.",null,0,0,0]
["5.7.6","Įrangos pavadinimas",null,"pro rata proc.",null,0,0,0]
["5.7.7","Įrangos pavadinimas",null,"pro rata proc.",null,0,0,0]
["5.7.8","Įrangos pavadinimas",null,"pro rata proc.",null,0,0,0]
["5.7.9","Įrangos pavadinimas",null,"pro rata proc.",null,0,0,0]
["5.7.10","Įrangos pavadinimas",null,"pro rata proc.",null,0,0,0]
["5.7.11","Įrangos pavadinimas",null,"pro rata proc.",null,0,0,0]
["5.7.12","Įrangos pavadinimas",null,"pro rata proc.",null,0,0,0]
["5.7.13","Įrangos pavadinimas",null,"pro rata proc.",null,0,0,0]
["5.7.14","Įrangos pavadinimas",null,"pro rata proc.",null,{"$f":"J238*K238","v":0},0,{"$f":"ROUND(G238*$D$7,2)","v":0}]
["5.7.15","Įrangos pavadinimas",null,"pro rata proc.",null,{"$f":"J239*K239","v":0},0,{"$f":"ROUND(G239*$D$7,2)","v":0}]
["5.7.16","Įrangos pavadinimas",null,"pro rata proc.",null,{"$f":"J240*K240","v":0},0,{"$f":"ROUND(G240*$D$7,2)","v":0}]
["5.7.17","Įrangos pavadinimas",null,"pro rata proc.",null,{"$f":"J241*K241","v":0},0,{"$f":"ROUND(G241*$D$7,2)","v":0}]
["5.8","Pastatų ar patalpų nuomos išlaidos, veiklai priskirtos pro rata principu. Pastatai ar patalpos turi būti tiesiogiai susijusi su projekto įgyvendinimu.",null,null,null,null,{"$f":"SUM(G243:G247)","v":0},{"$f":"SUM(H243:H247)","v":0},null,"Faktinės 1 mėnesio išlaidos, Eur","Naudojimo projekte trukmė, mėn."]
["5.8.1","Pastato, patalpų adresas",null,"pro rata proc.",null,{"$f":"J243*K243","v":0},{"$f":"ROUND(E243*F243,2)","v":0},{"$f":"ROUND(G243*$D$7,2)","v":0}]
["5.8.2","Pastato, patalpų adresas",null,"pro rata proc.",null,{"$f":"J244*K244","v":0},{"$f":"ROUND(E244*F244,2)","v":0},{"$f":"ROUND(G244*$D$7,2)","v":0}]
["5.8.3","Pastato, patalpų adresas",null,"pro rata proc.",null,{"$f":"J245*K245","v":0},{"$f":"ROUND(E245*F245,2)","v":0},{"$f":"ROUND(G245*$D$7,2)","v":0}]
["5.8.4","Pastato, patalpų adresas",null,"pro rata proc.",null,{"$f":"J246*K246","v":0},{"$f":"ROUND(E246*F246,2)","v":0},{"$f":"ROUND(G246*$D$7,2)","v":0}]
["5.8.5","Pastato, patalpų adresas",null,"pro rata proc.",null,{"$f":"J247*K247","v":0},{"$f":"ROUND(E247*F247,2)","v":0},{"$f":"ROUND(G247*$D$7,2)","v":0}]
["5.9","Projekto veikloms vykdyti reikalingų transporto priemonių nuomos išlaidos (išlaidos yra tinkamos finansuoti tik pagal Aprašą Nr. 2 vadovaujantis de minimis reglamento nuostatomis)",null,null,null,null,{"$f":"SUM(G249:G253)","v":0},{"$f":"SUM(H249:H253)","v":0}]
["5.9.1","Išlaidų pavadinimas",null,null,null,null,{"$f":"ROUND(E249*F249,2)","v":0},{"$f":"ROUND(G249*$D$7,2)","v":0}]
["5.9.2","Išlaidų pavadinimas",null,null,null,null,{"$f":"ROUND(E250*F250,2)","v":0},{"$f":"ROUND(G250*$D$7,2)","v":0}]
["5.9.3","Išlaidų pavadinimas",null,null,null,null,{"$f":"ROUND(E251*F251,2)","v":0},{"$f":"ROUND(G251*$D$7,2)","v":0}]
["5.9.4","Išlaidų pavadinimas",null,null,null,null,{"$f":"ROUND(E252*F252,2)","v":0},{"$f":"ROUND(G252*$D$7,2)","v":0}]
["5.9.5","Išlaidų pavadinimas",null,null,null,null,{"$f":"ROUND(E253*F253,2)","v":0},{"$f":"ROUND(G253*$D$7,2)","v":0}]
["Iš viso tinkamų finansuoti išlaidų:",null,null,null,null,null,{"$f":"G10+G21","v":0},{"$f":"H10+H21","v":0}]

{"sheet":"14","index":26,"n_rows":254,"n_cols":18,"rows_kept":254,"cut":false,"hidden":true,"merged":[[5,3,5,8],[8,1,8,2],[9,1,9,5],[10,1,10,2],[11,1,11,2],[12,1,12,2],[0,3,0,8],[2,0,2,2],[2,3,2,8],[3,3,3,4],[3,5,3,6],[4,0,4,2],[4,3,4,8],[19,1,19,2],[20,1,20,5],[21,1,21,5],[22,1,22,2],[23,1,23,2],[24,1,24,2],[13,1,13,2],[14,1,14,2],[15,1,15,2],[16,1,16,2],[17,1,17,2],[18,1,18,2],[31,1,31,2],[32,1,32,5],[33,1,33,2],[34,1,34,2],[35,1,35,2],[36,1,36,2],[25,1,25,2],[26,1,26,2],[27,1,27,2],[28,1,28,2],[29,1,29,2],[30,1,30,2],[43,1,43,5],[44,1,44,2],[45,1,45,2],[46,1,46,2],[47,1,47,2],[48,1,48,2],[37,1,37,2],[38,1,38,2],[39,1,39,2],[40,1,40,2],[41,1,41,2],[42,1,42,2],[55,1,55,2],[56,1,56,2],[57,1,57,2],[58,1,58,2],[59,1,59,2],[60,1,60,2],[49,1,49,2],[50,1,50,2],[51,1,51,2],[52,1,52,2],[53,1,53,2],[54,1,54,2],[67,1,67,2],[68,1,68,2],[69,1,69,2],[70,1,70,2],[71,1,71,5],[72,1,72,2],[61,1,61,2],[62,1,62,2],[63,1,63,2],[64,1,64,2],[65,1,65,2],[66,1,66,2],[79,1,79,2],[80,1,80,2],[81,1,81,2],[82,1,82,2],[83,1,83,2],[84,1,84,2],[73,1,73,2],[74,1,74,2],[75,1,75,2],[76,1,76,2],[77,1,77,2],[78,1,78,2],[91,1,91,2],[92,1,92,2],[93,1,93,2],[94,1,94,2],[95,1,95,2],[96,1,96,2],[85,1,85,2],[86,1,86,2],[87,1,87,2],[88,1,88,2],[89,1,89,2],[90,1,90,2],[97,1,97,2],[98,1,98,2],[99,1,99,2],[100,1,100,2],[101,1,101,5],[102,0,106,0],[102,1,106,1],[102,3,106,3],[102,4,106,4],[102,5,106,5],[102,6,106,6],[102,7,106,7],[102,8,106,8],[107,0,111,0],[107,1,111,1],[107,3,111,3],[107,4,111,4],[107,5,111,5],[107,6,111,6],[107,7,111,7],[107,8,111,8],[112,0,116,0],[112,1,116,1],[112,3,116,3],[112,4,116,4],[112,5,116,5],[112,6,116,6],[112,7,116,7],[112,8,116,8],[117,7,121,7],[117,8,121,8],[122,0,126,0],[122,1,126,1],[122,3,126,3],[122,4,126,4],[122,5,126,5],[122,6,126,6],[122,7,126,7],[122,8,126,8],[117,0,121,0],[117,1,121,1],[117,3,121,3],[117,4,121,4],[117,5,121,5],[117,6,121,6],[127,7,131,7],[127,8,131,8],[132,0,136,0],[132,1,136,1],[132,3,136,3],[132,4,136,4],[132,5,136,5],[132,6,136,6],[132,7,136,7],[132,8,136,8],[127,0,131,0],[127,1,131,1],[127,3,131,3],[127,4,131,4],[127,5,131,5],[127,6,131,6],[137,7,141,7],[137,8,141,8],[142,0,146,0],[142,1,146,1],[142,3,146,3],[142,4,146,4],[142,5,146,5],[142,6,146,6],[142,7,146,7],[142,8,146,8],[137,0,141,0],[137,1,141,1],[137,3,141,3],[137,4,141,4],[137,5,141,5],[137,6,141,6],[147,7,151,7],[147,8,151,8],[152,1,152,5],[153,0,159,0],[153,1,159,1],[153,8,159,8],[147,0,151,0],[147,1,151,1],[147,3,151,3],[147,4,151,4],[147,5,151,5],[147,6,151,6],[174,0,180,0],[174,1,180,1],[174,8,180,8],[181,0,187,0],[181,1,187,1],[181,8,187,8],[160,0,166,0],[160,1,166,1],[160,8,166,8],[167,0,173,0],[167,1,173,1],[167,8,173,8],[202,0,208,0],[202,1,208,1],[202,8,208,8],[209,0,215,0],[209,1,215,1],[209,8,215,8],[188,0,194,0],[188,1,194,1],[188,8,194,8],[195,0,201,0],[195,1,201,1],[195,8,201,8],[226,1,226,2],[227,1,227,2],[228,1,228,2],[229,1,229,2],[230,1,230,2],[231,1,231,2],[216,0,222,0],[216,1,222,1],[216,8,222,8],[223,1,223,5],[224,1,224,2],[225,1,225,2],[238,1,238,2],[239,1,239,2],[240,1,240,2],[241,1,241,5],[242,1,242,2],[243,1,243,2],[232,1,232,2],[233,1,233,2],[234,1,234,2],[235,1,235,2],[236,1,236,2],[237,1,237,2],[250,1,250,2],[251,1,251,2],[252,1,252,2],[253,0,253,5],[244,1,244,2],[245,1,245,2],[246,1,246,2],[247,1,247,5],[248,1,248,2],[249,1,249,2]]}
[null,null,"Pasirinkite veiklos tipą:"]
[null,null,"Fizinio rodiklio Nr.:"]
["Fizinio rodiklio pavadinimas:"]
[null,null,"Fizinio rodiklio matavimo vnt.:",null,null,"Fizinio rodiklio vnt. skaičius:"]
["Juridinis asmuo (pareiškėjas, partneris), atsakingas už fizinį rodiklį:"]
[null,null,"Vykdytojo tipas:"]
[null,null,"Finansavimo intensyvumas:",null,null,null,"Pasirinkite biudžeto išlaidų kategoriją:","Visos"]
[]
["Eil. Nr.","Išlaidų kategorijos pavadinimas",null,"Matavimo vnt.","Kiekis","Vieneto kaina be PVM, Eur","Tinkamų finansuoti išlaidų suma be PVM, Eur","Finansavimo suma, Eur","Išlaidų pagrindimo dokumentų pavadinimas, data ir Nr."]
[4,"ĮRANGA, ĮRENGINIAI IR KT. TURTAS (techninių žinių ir išradimų patentų arba teisių pagal licencijų sutartį įsigijimo išlaidos)",null,null,null,null,{"$f":"SUM(G11:G20)","v":0},{"$f":"SUM(H11:H20)","v":0}]
["4.1","Išlaidų pavadinimas",null,null,null,null,{"$f":"ROUND(E11*F11,2)","v":0},{"$f":"ROUND(G11*$D$7,2)","v":0}]
["4.2","Išlaidų pavadinimas",null,null,null,null,0,0]
["4.3","Išlaidų pavadinimas",null,null,null,null,0,0]
["4.4","Išlaidų pavadinimas",null,null,null,null,0,0]
["4.5","Išlaidų pavadinimas",null,null,null,null,0,0]
["4.6","Išlaidų pavadinimas",null,null,null,null,0,0]
["4.7","Išlaidų pavadinimas",null,null,null,null,0,0]
["4.8","Išlaidų pavadinimas",null,null,null,null,0,0]
["4.9","Išlaidų pavadinimas",null,null,null,null,0,0]
["4.10","Išlaidų pavadinimas",null,null,null,null,0,0]
[5,"PROJEKTO VYKDYMAS",null,null,null,null,{"$f":"G22+G33+G44+G72+G102+G153+G224+G242+G248","v":0},{"$f":"H22+H33+H44+H72+H102+H153+H224+H242+H248","v":0}]
["5.1","MTEP paslaugos",null,null,null,null,{"$f":"SUM(G23:G32)","v":0},{"$f":"SUM(H23:H32)","v":0}]
["5.1.1","Paslaugos pavadinimas",null,null,null,null,{"$f":"ROUND(E23*F23,2)","v":0},0]
["5.1.2","Paslaugos pavadinimas",null,null,null,null,0,0]
["5.1.3","Paslaugos pavadinimas",null,null,null,null,0,0]
["5.1.4","Paslaugos pavadinimas",null,null,null,null,0,0]
["5.1.5","Paslaugos pavadinimas",null,null,null,null,0,0]
["5.1.6","Paslaugos pavadinimas",null,null,null,null,0,0]
["5.1.7","Paslaugos pavadinimas",null,null,null,null,0,0]
["5.1.8","Paslaugos pavadinimas",null,null,null,null,0,0]
["5.1.9","Paslaugos pavadinimas",null,null,null,null,0,0]
["5.1.10","Paslaugos pavadinimas",null,null,null,null,0,0]
["5.2","Konsultavimo ir lygiavertės paslaugos, teikiamos vien tik projekto MTEP veiklai.",null,null,null,null,{"$f":"SUM(G34:G43)","v":0},{"$f":"SUM(H34:H43)","v":0}]
["5.2.1","Paslaugos pavadinimas",null,null,null,null,{"$f":"ROUND(E34*F34,2)","v":0},0]
["5.2.2","Paslaugos pavadinimas",null,null,null,null,0,0]
["5.2.3","Paslaugos pavadinimas",null,null,null,null,0,0]
["5.2.4","Paslaugos pavadinimas",null,null,null,null,0,0]
["5.2.5","Paslaugos pavadinimas",null,null,null,null,0,0]
["5.2.6","Paslaugos pavadinimas",null,null,null,null,0,0]
["5.2.7","Paslaugos pavadinimas",null,null,null,null,0,0]
["5.2.8","Paslaugos pavadinimas",null,null,null,null,0,0]
["5.2.9","Paslaugos pavadinimas",null,null,null,null,0,0]
["5.2.10","Paslaugos pavadinimas",null,null,null,null,0,0]
["5.3","Medžiagos, mažavertis inventorius, atsargos ir pan. produktai, priskirtini trumpalaikiam turtui ir tiesiogiai susiję su MTEP veikla",null,null,null,null,{"$f":"SUM(G45:G71)","v":0},{"$f":"SUM(H45:H71)","v":0}]
["5.3.1","Išlaidų pavadinimas",null,null,null,null,{"$f":"ROUND(E45*F45,2)","v":0},{"$f":"ROUND(G45*$D$7,2)","v":0}]
["5.3.2","Išlaidų pavadinimas",null,null,null,null,{"$f":"ROUND(E46*F46,2)","v":0},{"$f":"ROUND(G46*$D$7,2)","v":0}]
["5.3.3","Išlaidų pavadinimas",null,null,null,null,{"$f":"ROUND(E47*F47,2)","v":0},{"$f":"ROUND(G47*$D$7,2)","v":0}]
["5.3.4","Išlaidų pavadinimas",null,null,null,null,{"$f":"ROUND(E48*F48,2)","v":0},{"$f":"ROUND(G48*$D$7,2)","v":0}]
["5.3.5","Išlaidų pavadinimas",null,null,null,null,{"$f":"ROUND(E49*F49,2)","v":0},{"$f":"ROUND(G49*$D$7,2)","v":0}]
["5.3.6","Išlaidų pavadinimas",null,null,null,null,0,0]
["5.3.7","Išlaidų pavadinimas",null,null,null,null,0,0]
["5.3.8","Išlaidų pavadinimas",null,null,null,null,0,0]
["5.3.9","Išlaidų pavadinimas",null,null,null,null,0,0]
["5.3.10","Išlaidų pavadinimas",null,null,null,null,0,0]
["5.3.11","Išlaidų pavadinimas",null,null,null,null,0,0]
["5.3.12","Išlaidų pavadinimas",null,null,null,null,0,0]
["5.3.13","Išlaidų pavadinimas",null,null,null,null,0,0]
["5.3.14","Išlaidų pavadinimas",null,null,null,null,0,0]
["5.3.15","Išlaidų pavadinimas",null,null,null,null,0,0]
["5.3.16","Išlaidų pavadinimas",null,null,null,null,0,0]
["5.3.17","Išlaidų pavadinimas",null,null,null,null,0,0]
["5.3.18","Išlaidų pavadinimas",null,null,null,null,0,0]
["5.3.19","Išlaidų pavadinimas",null,null,null,null,0,0]
["5.3.20","Išlaidų pavadinimas",null,null,null,null,0,0]
["5.3.21","Išlaidų pavadinimas",null,null,null,null,0,0]
["5.3.22","Išlaidų pavadinimas",null,null,null,null,0,0]
["5.3.23","Išlaidų pavadinimas",null,null,null,null,0,0]
["5.3.24","Išlaidų pavadinimas",null,null,null,null,0,0]
["5.3.25","Išlaidų pavadinimas",null,null,null,null,0,0]
["5.3.26","Išlaidų pavadinimas",null,null,null,null,0,0]
["5.3.27","Išlaidų pavadinimas",null,null,null,null,0,0]
["5.4","Projekto MTEP veikloms naudojamo ilgalaikio materialaus turto (įrangos, prietaisų, įrankių, įrenginių, mašinų ir įrengimų, pastatų ir (ar) patalpų), nusidėvėjimo sąnaudos, jeigu šiam turtui įsigyti nebuvo naudojamos viešosios (įskaitant ir kitų valstybių) lėšos",null,null,null,null,{"$f":"SUM(G73:G101)","v":0},{"$f":"SUM(H73:H101)","v":0},null,"Turto įvedimo į eksploataciją data","Turto įsigijimo vertė, Eur","Turto nudėvėjimo, amortizacijos laikotarpis, mėn.","Numatoma turto likutinė vertė, Eur","1 mėn. nudėvėjimo, amortizacijos suma, Eur","Turto naudojamo projekto reikmėms laikas, mėn.","Turto panaudojimo projekto reikmėms dalis (proc.)","Projektui priskirta turto nusidėvėjimo, amortizacijos suma per projekto laikotarpį, Eur"]
["5.4.1","Turtas, kurio nusidėvėjimą, amortizaciją prašoma finansuoti",null,null,1,{"$f":"Q73","v":0},{"$f":"ROUND(E73*F73,2)","v":0},0,null,null,null,null,null,{"$f":"IFERROR(ROUND((K73-M73)/L73,2),\"0\")","v":"0"},null,null,{"$f":"N73*O73*P73","v":0},{"$f":"IF(J73=0,\" \",IF(J73+(L73*30.5)<TODAY(),\"DĖMESIO! Patikrinkite, ar nurodytas turtas dar nėra nudėvėtas, amortizuotas\",\" \"))","v":" "}]
["5.4.2","Turtas, kurio nusidėvėjimą, amortizaciją prašoma finansuoti",null,null,1,0,0,0,null,null,null,null,null,{"$f":"IFERROR(ROUND((K74-M74)/L74,2),\"0\")","v":"0"},null,null,{"$f":"N74*O74*P74","v":0},{"$f":"IF(J74=0,\" \",IF(J74+(L74*30.5)<TODAY(),\"DĖMESIO! Patikrinkite, ar nurodytas turtas dar nėra nudėvėtas, amortizuotas\",\" \"))","v":" "}]
["5.4.3","Turtas, kurio nusidėvėjimą, amortizaciją prašoma finansuoti",null,null,1,0,0,0,null,null,null,null,null,"0",null,null,0," "]
["5.4.4","Turtas, kurio nusidėvėjimą, amortizaciją prašoma finansuoti",null,null,1,0,0,0,null,null,null,null,null,"0",null,null,0," "]
["5.4.5","Turtas, kurio nusidėvėjimą, amortizaciją prašoma finansuoti",null,null,1,0,0,0,null,null,null,null,null,"0",null,null,0," "]
["5.4.6","Turtas, kurio nusidėvėjimą, amortizaciją prašoma finansuoti",null,null,1,0,0,0,null,null,null,null,null,"0",null,null,0," "]
["5.4.7","Turtas, kurio nusidėvėjimą, amortizaciją prašoma finansuoti",null,null,1,0,0,0,null,null,null,null,null,"0",null,null,0," "]
["5.4.8","Turtas, kurio nusidėvėjimą, amortizaciją prašoma finansuoti",null,null,1,0,0,0,null,null,null,null,null,"0",null,null,0," "]
["5.4.9","Turtas, kurio nusidėvėjimą, amortizaciją prašoma finansuoti",null,null,1,0,0,0,null,null,null,null,null,"0",null,null,0," "]
["5.4.10","Turtas, kurio nusidėvėjimą, amortizaciją prašoma finansuoti",null,null,1,0,0,0,null,null,null,null,null,"0",null,null,0," "]
["5.4.11","Turtas, kurio nusidėvėjimą, amortizaciją prašoma finansuoti",null,null,1,0,0,0,null,null,null,null,null,"0",null,null,0," "]
["5.4.12","Turtas, kurio nusidėvėjimą, amortizaciją prašoma finansuoti",null,null,1,0,0,0,null,null,null,null,null,"0",null,null,0," "]
["5.4.13","Turtas, kurio nusidėvėjimą, amortizaciją prašoma finansuoti",null,null,1,0,0,0,null,null,null,null,null,"0",null,null,0," "]
["5.4.14","Turtas, kurio nusidėvėjimą, amortizaciją prašoma finansuoti",null,null,1,0,0,0,null,null,null,null,null,"0",null,null,0," "]
["5.4.15","Turtas, kurio nusidėvėjimą, amortizaciją prašoma finansuoti",null,null,1,0,0,0,null,null,null,null,null,"0",null,null,0," "]
["5.4.16","Turtas, kurio nusidėvėjimą, amortizaciją prašoma finansuoti",null,null,1,0,0,0,null,null,null,null,null,"0",null,null,0," "]
["5.4.17","Turtas, kurio nusidėvėjimą, amortizaciją prašoma finansuoti",null,null,1,0,0,0,null,null,null,null,null,"0",null,null,0," "]
["5.4.18","Turtas, kurio nusidėvėjimą, amortizaciją prašoma finansuoti",null,null,1,0,0,0,null,null,null,null,null,"0",null,null,0," "]
["5.4.19","Turtas, kurio nusidėvėjimą, amortizaciją prašoma finansuoti",null,null,1,0,0,0,null,null,null,null,null,"0",null,null,0," "]
["5.4.20","Turtas, kurio nusidėvėjimą, amortizaciją prašoma finansuoti",null,null,1,0,0,0,null,null,null,null,null,"0",null,null,0," "]
["5.4.21","Turtas, kurio nusidėvėjimą, amortizaciją prašoma finansuoti",null,null,1,0,0,0,null,null,null,null,null,"0",null,null,0," "]
["5.4.22","Turtas, kurio nusidėvėjimą, amortizaciją prašoma finansuoti",null,null,1,0,0,0,null,null,null,null,null,"0",null,null,0," "]
["5.4.23","Turtas, kurio nusidėvėjimą, amortizaciją prašoma finansuoti",null,null,1,0,0,0,null,null,null,null,null,"0",null,null,0," "]
["5.4.24","Turtas, kurio nusidėvėjimą, amortizaciją prašoma finansuoti",null,null,1,0,0,0,null,null,null,null,null,"0",null,null,0," "]
["5.4.25","Turtas, kurio nusidėvėjimą, amortizaciją prašoma finansuoti",null,null,1,0,0,0,null,null,null,null,null,"0",null,null,0," "]
["5.4.26","Turtas, kurio nusidėvėjimą, amortizaciją prašoma finansuoti",null,null,1,0,0,0,null,null,null,null,null,"0",null,null,0," "]
["5.4.27","Turtas, kurio nusidėvėjimą, amortizaciją prašoma finansuoti",null,null,1,0,0,0,null,null,null,null,null,"0",null,null,0," "]
["5.4.28","Turtas, kurio nusidėvėjimą, amortizaciją prašoma finansuoti",null,null,1,0,0,0,null,null,null,null,null,"0",null,null,0," "]
["5.4.29","Turtas, kurio nusidėvėjimą, amortizaciją prašoma finansuoti",null,null,1,0,0,0,null,null,null,null,null,"0",null,null,0," "]
["5.5","Projektą vykdančio personalo darbo užmokestis ir išlaidos su darbo santykiais susijusiems darbdavio įsipareigojimams",null,null,null,null,{"$f":"SUM(G103:G152)","v":0},{"$f":"SUM(H103:H152)","v":0},null,"Faktiškai gaunamas darbo užmokesti už 1 valandą pagal  pastarųjų 6 mėn. vidurkį, Eur"]
["5.5.1","Pareigybės pavadinimas","Darbuotojo vardas pavardė","val.",null,{"$f":"IFERROR(ROUND(AVERAGE(J103:J107),2),\"0\")","v":"0"},{"$f":"ROUND(E103*F103,2)","v":0},{"$f":"ROUND(G103*$D$7,2)","v":0}]
[null,null,"Darbuotojo vardas pavardė"]
[null,null,"Darbuotojo vardas pavardė"]
[null,null,"Darbuotojo vardas pavardė"]
[null,null,"Darbuotojo vardas pavardė"]
["5.5.2","Pareigybės pavadinimas","Darbuotojo vardas pavardė","val.",null,{"$f":"IFERROR(ROUND(AVERAGE(J108:J112),2),\"0\")","v":"0"},{"$f":"ROUND(E108*F108,2)","v":0},{"$f":"ROUND(G108*$D$7,2)","v":0}]
[null,null,"Darbuotojo vardas pavardė"]
[null,null,"Darbuotojo vardas pavardė"]
[null,null,"Darbuotojo vardas pavardė"]
[null,null,"Darbuotojo vardas pavardė"]
["5.5.3","Pareigybės pavadinimas","Darbuotojo vardas pavardė","val.",null,{"$f":"IFERROR(ROUND(AVERAGE(J113:J117),2),\"0\")","v":"0"},{"$f":"ROUND(E113*F113,2)","v":0},{"$f":"ROUND(G113*$D$7,2)","v":0}]
[null,null,"Darbuotojo vardas pavardė"]
[null,null,"Darbuotojo vardas pavardė"]
[null,null,"Darbuotojo vardas pavardė"]
[null,null,"Darbuotojo vardas pavardė"]
["5.5.4","Pareigybės pavadinimas","Darbuotojo vardas pavardė","val.",null,{"$f":"IFERROR(ROUND(AVERAGE(J118:J122),2),\"0\")","v":"0"},{"$f":"ROUND(E118*F118,2)","v":0},{"$f":"ROUND(G118*$D$7,2)","v":0}]
[null,null,"Darbuotojo vardas pavardė"]
[null,null,"Darbuotojo vardas pavardė"]
[null,null,"Darbuotojo vardas pavardė"]
[null,null,"Darbuotojo vardas pavardė"]
["5.5.5","Pareigybės pavadinimas","Darbuotojo vardas pavardė","val.",null,{"$f":"IFERROR(ROUND(AVERAGE(J123:J127),2),\"0\")","v":"0"},{"$f":"ROUND(E123*F123,2)","v":0},{"$f":"ROUND(G123*$D$7,2)","v":0}]
[null,null,"Darbuotojo vardas pavardė"]
[null,null,"Darbuotojo vardas pavardė"]
[null,null,"Darbuotojo vardas pavardė"]
[null,null,"Darbuotojo vardas pavardė"]
["5.5.6","Pareigybės pavadinimas","Darbuotojo vardas pavardė","val.",null,{"$f":"IFERROR(ROUND(AVERAGE(J128:J132),2),\"0\")","v":"0"},{"$f":"ROUND(E128*F128,2)","v":0},{"$f":"ROUND(G128*$D$7,2)","v":0}]
[null,null,"Darbuotojo vardas pavardė"]
[null,null,"Darbuotojo vardas pavardė"]
[null,null,"Darbuotojo vardas pavardė"]
[null,null,"Darbuotojo vardas pavardė"]
["5.5.7","Pareigybės pavadinimas","Darbuotojo vardas pavardė","val.",null,{"$f":"IFERROR(ROUND(AVERAGE(J133:J137),2),\"0\")","v":"0"},{"$f":"ROUND(E133*F133,2)","v":0},{"$f":"ROUND(G133*$D$7,2)","v":0}]
[null,null,"Darbuotojo vardas pavardė"]
[null,null,"Darbuotojo vardas pavardė"]
[null,null,"Darbuotojo vardas pavardė"]
[null,null,"Darbuotojo vardas pavardė"]
["5.5.8","Pareigybės pavadinimas","Darbuotojo vardas pavardė","val.",null,{"$f":"IFERROR(ROUND(AVERAGE(J138:J142),2),\"0\")","v":"0"},{"$f":"ROUND(E138*F138,2)","v":0},{"$f":"ROUND(G138*$D$7,2)","v":0}]
[null,null,"Darbuotojo vardas pavardė"]
[null,null,"Darbuotojo vardas pavardė"]
[null,null,"Darbuotojo vardas pavardė"]
[null,null,"Darbuotojo vardas pavardė"]
["5.5.9","Pareigybės pavadinimas","Darbuotojo vardas pavardė","val.",null,{"$f":"IFERROR(ROUND(AVERAGE(J143:J147),2),\"0\")","v":"0"},{"$f":"ROUND(E143*F143,2)","v":0},{"$f":"ROUND(G143*$D$7,2)","v":0}]
[null,null,"Darbuotojo vardas pavardė"]
[null,null,"Darbuotojo vardas pavardė"]
[null,null,"Darbuotojo vardas pavardė"]
[null,null,"Darbuotojo vardas pavardė"]
["5.5.10","Pareigybės pavadinimas","Darbuotojo vardas pavardė","val.",null,{"$f":"IFERROR(ROUND(AVERAGE(J148:J152),2),\"0\")","v":"0"},{"$f":"ROUND(E148*F148,2)","v":0},{"$f":"ROUND(G148*$D$7,2)","v":0}]
[null,null,"Darbuotojo vardas pavardė"]
[null,null,"Darbuotojo vardas pavardė"]
[null,null,"Darbuotojo vardas pavardė"]
[null,null,"Darbuotojo vardas pavardė"]
["5.6","Projektą vykdančio personalo komandiruočių išlaidos",null,null,null,null,{"$f":"SUM(G154,G161,G168,G175,G182,G189,G196,G203,G210,G217)","v":0},{"$f":"SUM(H154,H161,H168,H175,H182,H189,H196,H203,H210,H217)","v":0}]
["5.6.1","Komandiruotės pavadinimas, vieta, trukmė dienomis, vykstančių asmenų skaičius","Iš viso komandiruotei",null,null,null,{"$f":"SUM(G155:G160)","v":0},{"$f":"ROUND(G154*$D$7,2)","v":0}]
[null,null,"Dienpinigiai",null,null,null,{"$f":"ROUND(E155*F155,2)","v":0}]
[null,null,"Gyvenamojo ploto nuoma",null,null,null,0]
[null,null,"Kelionės išlaidos",null,null,null,0]
[null,null,"Dalyvavimo mokestis",null,null,null,0]
[null,null,"Kitos išlaidų pavadinimas",null,null,null,0]
[null,null,"Kitos išlaidų pavadinimas",null,null,null,0]
["5.6.2","Komandiruotės pavadinimas, vieta, trukmė dienomis, vykstančių asmenų skaičius","Iš viso komandiruotei",null,null,null,{"$f":"SUM(G162:G167)","v":0},{"$f":"ROUND(G161*$D$7,2)","v":0}]
[null,null,"Dienpinigiai",null,null,null,{"$f":"ROUND(E162*F162,2)","v":0}]
[null,null,"Gyvenamojo ploto nuoma",null,null,null,0]
[null,null,"Kelionės išlaidos",null,null,null,0]
[null,null,"Dalyvavimo mokestis",null,null,null,0]
[null,null,"Kitos išlaidų pavadinimas",null,null,null,0]
[null,null,"Kitos išlaidų pavadinimas",null,null,null,0]
["5.6.3","Komandiruotės pavadinimas, vieta, trukmė dienomis, vykstančių asmenų skaičius","Iš viso komandiruotei",null,null,null,{"$f":"SUM(G169:G174)","v":0},{"$f":"ROUND(G168*$D$7,2)","v":0}]
[null,null,"Dienpinigiai",null,null,null,{"$f":"ROUND(E169*F169,2)","v":0}]
[null,null,"Gyvenamojo ploto nuoma",null,null,null,0]
[null,null,"Kelionės išlaidos",null,null,null,0]
[null,null,"Dalyvavimo mokestis",null,null,null,0]
[null,null,"Kitos išlaidų pavadinimas",null,null,null,0]
[null,null,"Kitos išlaidų pavadinimas",null,null,null,0]
["5.6.4","Komandiruotės pavadinimas, vieta, trukmė dienomis, vykstančių asmenų skaičius","Iš viso komandiruotei",null,null,null,{"$f":"SUM(G176:G181)","v":0},{"$f":"ROUND(G175*$D$7,2)","v":0}]
[null,null,"Dienpinigiai",null,null,null,{"$f":"ROUND(E176*F176,2)","v":0}]
[null,null,"Gyvenamojo ploto nuoma",null,null,null,0]
[null,null,"Kelionės išlaidos",null,null,null,0]
[null,null,"Dalyvavimo mokestis",null,null,null,0]
[null,null,"Kitos išlaidų pavadinimas",null,null,null,0]
[null,null,"Kitos išlaidų pavadinimas",null,null,null,0]
["5.6.5","Komandiruotės pavadinimas, vieta, trukmė dienomis, vykstančių asmenų skaičius","Iš viso komandiruotei",null,null,null,{"$f":"SUM(G183:G188)","v":0},{"$f":"ROUND(G182*$D$7,2)","v":0}]
[null,null,"Dienpinigiai",null,null,null,{"$f":"ROUND(E183*F183,2)","v":0}]
[null,null,"Gyvenamojo ploto nuoma",null,null,null,0]
[null,null,"Kelionės išlaidos",null,null,null,0]
[null,null,"Dalyvavimo mokestis",null,null,null,0]
[null,null,"Kitos išlaidų pavadinimas",null,null,null,0]
[null,null,"Kitos išlaidų pavadinimas",null,null,null,0]
["5.6.6","Komandiruotės pavadinimas, vieta, trukmė dienomis, vykstančių asmenų skaičius","Iš viso komandiruotei",null,null,null,{"$f":"SUM(G190:G195)","v":0},{"$f":"ROUND(G189*$D$7,2)","v":0}]
[null,null,"Dienpinigiai",null,null,null,{"$f":"ROUND(E190*F190,2)","v":0}]
[null,null,"Gyvenamojo ploto nuoma",null,null,null,0]
[null,null,"Kelionės išlaidos",null,null,null,0]
[null,null,"Dalyvavimo mokestis",null,null,null,0]
[null,null,"Kitos išlaidų pavadinimas",null,null,null,0]
[null,null,"Kitos išlaidų pavadinimas",null,null,null,0]
["5.6.7","Komandiruotės pavadinimas, vieta, trukmė dienomis, vykstančių asmenų skaičius","Iš viso komandiruotei",null,null,null,{"$f":"SUM(G197:G202)","v":0},{"$f":"ROUND(G196*$D$7,2)","v":0}]
[null,null,"Dienpinigiai",null,null,null,{"$f":"ROUND(E197*F197,2)","v":0}]
[null,null,"Gyvenamojo ploto nuoma",null,null,null,0]
[null,null,"Kelionės išlaidos",null,null,null,0]
[null,null,"Dalyvavimo mokestis",null,null,null,0]
[null,null,"Kitos išlaidų pavadinimas",null,null,null,0]
[null,null,"Kitos išlaidų pavadinimas",null,null,null,0]
["5.6.8","Komandiruotės pavadinimas, vieta, trukmė dienomis, vykstančių asmenų skaičius","Iš viso komandiruotei",null,null,null,{"$f":"SUM(G204:G209)","v":0},{"$f":"ROUND(G203*$D$7,2)","v":0}]
[null,null,"Dienpinigiai",null,null,null,{"$f":"ROUND(E204*F204,2)","v":0}]
[null,null,"Gyvenamojo ploto nuoma",null,null,null,0]
[null,null,"Kelionės išlaidos",null,null,null,0]
[null,null,"Dalyvavimo mokestis",null,null,null,0]
[null,null,"Kitos išlaidų pavadinimas",null,null,null,0]
[null,null,"Kitos išlaidų pavadinimas",null,null,null,0]
["5.6.9","Komandiruotės pavadinimas, vieta, trukmė dienomis, vykstančių asmenų skaičius","Iš viso komandiruotei",null,null,null,{"$f":"SUM(G211:G216)","v":0},{"$f":"ROUND(G210*$D$7,2)","v":0}]
[null,null,"Dienpinigiai",null,null,null,{"$f":"ROUND(E211*F211,2)","v":0}]
[null,null,"Gyvenamojo ploto nuoma",null,null,null,0]
[null,null,"Kelionės išlaidos",null,null,null,0]
[null,null,"Dalyvavimo mokestis",null,null,null,0]
[null,null,"Kitos išlaidų pavadinimas",null,null,null,0]
[null,null,"Kitos išlaidų pavadinimas",null,null,null,0]
["5.6.10","Komandiruotės pavadinimas, vieta, trukmė dienomis, vykstančių asmenų skaičius","Iš viso komandiruotei",null,null,null,{"$f":"SUM(G218:G223)","v":0},{"$f":"ROUND(G217*$D$7,2)","v":0}]
[null,null,"Dienpinigiai",null,null,null,{"$f":"ROUND(E218*F218,2)","v":0}]
[null,null,"Gyvenamojo ploto nuoma",null,null,null,0]
[null,null,"Kelionės išlaidos",null,null,null,0]
[null,null,"Dalyvavimo mokestis",null,null,null,0]
[null,null,"Kitos išlaidų pavadinimas",null,null,null,0]
[null,null,"Kitos išlaidų pavadinimas",null,null,null,0]
["5.7","Įrangos nuomos išlaidos, veiklai priskirtos pro rata principu. Įranga turi būti tiesiogiai susijusi su projekto įgyvendinimu ir negali būti įsigyta iš ES struktūrinių fondų ar kt. ES finansinių priemonių lėšų",null,null,null,null,{"$f":"SUM(G225:G241)","v":0},{"$f":"SUM(H225:H241)","v":0},null,"Faktinės 1 mėnesio išlaidos, Eur","Naudojimo projekte trukmė, mėn."]
["5.7.1","Įrangos pavadinimas",null,"pro rata proc.",null,{"$f":"J225*K225","v":0},{"$f":"ROUND(E225*F225,2)","v":0},{"$f":"ROUND(G225*$D$7,2)","v":0}]
["5.7.2","Įrangos pavadinimas",null,"pro rata proc.",null,0,0,{"$f":"ROUND(G226*$D$7,2)","v":0}]
["5.7.3","Įrangos pavadinimas",null,"pro rata proc.",null,0,0,0]
["5.7.4","Įrangos pavadinimas",null,"pro rata proc.",null,0,0,0]
["5.7.5","Įrangos pavadinimas",null,"pro rata proc.",null,0,0,0]
["5.7.6","Įrangos pavadinimas",null,"pro rata proc.",null,0,0,0]
["5.7.7","Įrangos pavadinimas",null,"pro rata proc.",null,0,0,0]
["5.7.8","Įrangos pavadinimas",null,"pro rata proc.",null,0,0,0]
["5.7.9","Įrangos pavadinimas",null,"pro rata proc.",null,0,0,0]
["5.7.10","Įrangos pavadinimas",null,"pro rata proc.",null,0,0,0]
["5.7.11","Įrangos pavadinimas",null,"pro rata proc.",null,0,0,0]
["5.7.12","Įrangos pavadinimas",null,"pro rata proc.",null,0,0,0]
["5.7.13","Įrangos pavadinimas",null,"pro rata proc.",null,0,0,0]
["5.7.14","Įrangos pavadinimas",null,"pro rata proc.",null,{"$f":"J238*K238","v":0},0,{"$f":"ROUND(G238*$D$7,2)","v":0}]
["5.7.15","Įrangos pavadinimas",null,"pro rata proc.",null,{"$f":"J239*K239","v":0},0,{"$f":"ROUND(G239*$D$7,2)","v":0}]
["5.7.16","Įrangos pavadinimas",null,"pro rata proc.",null,{"$f":"J240*K240","v":0},0,{"$f":"ROUND(G240*$D$7,2)","v":0}]
["5.7.17","Įrangos pavadinimas",null,"pro rata proc.",null,{"$f":"J241*K241","v":0},0,{"$f":"ROUND(G241*$D$7,2)","v":0}]
["5.8","Pastatų ar patalpų nuomos išlaidos, veiklai priskirtos pro rata principu. Pastatai ar patalpos turi būti tiesiogiai susijusi su projekto įgyvendinimu.",null,null,null,null,{"$f":"SUM(G243:G247)","v":0},{"$f":"SUM(H243:H247)","v":0},null,"Faktinės 1 mėnesio išlaidos, Eur","Naudojimo projekte trukmė, mėn."]
["5.8.1","Pastato, patalpų adresas",null,"pro rata proc.",null,{"$f":"J243*K243","v":0},{"$f":"ROUND(E243*F243,2)","v":0},{"$f":"ROUND(G243*$D$7,2)","v":0}]
["5.8.2","Pastato, patalpų adresas",null,"pro rata proc.",null,{"$f":"J244*K244","v":0},{"$f":"ROUND(E244*F244,2)","v":0},{"$f":"ROUND(G244*$D$7,2)","v":0}]
["5.8.3","Pastato, patalpų adresas",null,"pro rata proc.",null,{"$f":"J245*K245","v":0},{"$f":"ROUND(E245*F245,2)","v":0},{"$f":"ROUND(G245*$D$7,2)","v":0}]
["5.8.4","Pastato, patalpų adresas",null,"pro rata proc.",null,{"$f":"J246*K246","v":0},{"$f":"ROUND(E246*F246,2)","v":0},{"$f":"ROUND(G246*$D$7,2)","v":0}]
["5.8.5","Pastato, patalpų adresas",null,"pro rata proc.",null,{"$f":"J247*K247","v":0},{"$f":"ROUND(E247*F247,2)","v":0},{"$f":"ROUND(G247*$D$7,2)","v":0}]
["5.9","Projekto veikloms vykdyti reikalingų transporto priemonių nuomos išlaidos (išlaidos yra tinkamos finansuoti tik pagal Aprašą Nr. 2 vadovaujantis de minimis reglamento nuostatomis)",null,null,null,null,{"$f":"SUM(G249:G253)","v":0},{"$f":"SUM(H249:H253)","v":0}]
["5.9.1","Išlaidų pavadinimas",null,null,null,null,{"$f":"ROUND(E249*F249,2)","v":0},{"$f":"ROUND(G249*$D$7,2)","v":0}]
["5.9.2","Išlaidų pavadinimas",null,null,null,null,{"$f":"ROUND(E250*F250,2)","v":0},{"$f":"ROUND(G250*$D$7,2)","v":0}]
["5.9.3","Išlaidų pavadinimas",null,null,null,null,{"$f":"ROUND(E251*F251,2)","v":0},{"$f":"ROUND(G251*$D$7,2)","v":0}]
["5.9.4","Išlaidų pavadinimas",null,null,null,null,{"$f":"ROUND(E252*F252,2)","v":0},{"$f":"ROUND(G252*$D$7,2)","v":0}]
["5.9.5","Išlaidų pavadinimas",null,null,null,null,{"$f":"ROUND(E253*F253,2)","v":0},{"$f":"ROUND(G253*$D$7,2)","v":0}]
["Iš viso tinkamų finansuoti išlaidų:",null,null,null,null,null,{"$f":"G10+G21","v":0},{"$f":"H10+H21","v":0}]

{"sheet":"15","index":27,"n_rows":254,"n_cols":18,"rows_kept":254,"cut":false,"hidden":true,"merged":[[5,3,5,8],[8,1,8,2],[9,1,9,5],[10,1,10,2],[11,1,11,2],[12,1,12,2],[0,3,0,8],[2,0,2,2],[2,3,2,8],[3,3,3,4],[3,5,3,6],[4,0,4,2],[4,3,4,8],[19,1,19,2],[20,1,20,5],[21,1,21,5],[22,1,22,2],[23,1,23,2],[24,1,24,2],[13,1,13,2],[14,1,14,2],[15,1,15,2],[16,1,16,2],[17,1,17,2],[18,1,18,2],[31,1,31,2],[32,1,32,5],[33,1,33,2],[34,1,34,2],[35,1,35,2],[36,1,36,2],[25,1,25,2],[26,1,26,2],[27,1,27,2],[28,1,28,2],[29,1,29,2],[30,1,30,2],[43,1,43,5],[44,1,44,2],[45,1,45,2],[46,1,46,2],[47,1,47,2],[48,1,48,2],[37,1,37,2],[38,1,38,2],[39,1,39,2],[40,1,40,2],[41,1,41,2],[42,1,42,2],[55,1,55,2],[56,1,56,2],[57,1,57,2],[58,1,58,2],[59,1,59,2],[60,1,60,2],[49,1,49,2],[50,1,50,2],[51,1,51,2],[52,1,52,2],[53,1,53,2],[54,1,54,2],[67,1,67,2],[68,1,68,2],[69,1,69,2],[70,1,70,2],[71,1,71,5],[72,1,72,2],[61,1,61,2],[62,1,62,2],[63,1,63,2],[64,1,64,2],[65,1,65,2],[66,1,66,2],[79,1,79,2],[80,1,80,2],[81,1,81,2],[82,1,82,2],[83,1,83,2],[84,1,84,2],[73,1,73,2],[74,1,74,2],[75,1,75,2],[76,1,76,2],[77,1,77,2],[78,1,78,2],[91,1,91,2],[92,1,92,2],[93,1,93,2],[94,1,94,2],[95,1,95,2],[96,1,96,2],[85,1,85,2],[86,1,86,2],[87,1,87,2],[88,1,88,2],[89,1,89,2],[90,1,90,2],[97,1,97,2],[98,1,98,2],[99,1,99,2],[100,1,100,2],[101,1,101,5],[102,0,106,0],[102,1,106,1],[102,3,106,3],[102,4,106,4],[102,5,106,5],[102,6,106,6],[102,7,106,7],[102,8,106,8],[107,0,111,0],[107,1,111,1],[107,3,111,3],[107,4,111,4],[107,5,111,5],[107,6,111,6],[107,7,111,7],[107,8,111,8],[112,0,116,0],[112,1,116,1],[112,3,116,3],[112,4,116,4],[112,5,116,5],[112,6,116,6],[112,7,116,7],[112,8,116,8],[117,7,121,7],[117,8,121,8],[122,0,126,0],[122,1,126,1],[122,3,126,3],[122,4,126,4],[122,5,126,5],[122,6,126,6],[122,7,126,7],[122,8,126,8],[117,0,121,0],[117,1,121,1],[117,3,121,3],[117,4,121,4],[117,5,121,5],[117,6,121,6],[127,7,131,7],[127,8,131,8],[132,0,136,0],[132,1,136,1],[132,3,136,3],[132,4,136,4],[132,5,136,5],[132,6,136,6],[132,7,136,7],[132,8,136,8],[127,0,131,0],[127,1,131,1],[127,3,131,3],[127,4,131,4],[127,5,131,5],[127,6,131,6],[137,7,141,7],[137,8,141,8],[142,0,146,0],[142,1,146,1],[142,3,146,3],[142,4,146,4],[142,5,146,5],[142,6,146,6],[142,7,146,7],[142,8,146,8],[137,0,141,0],[137,1,141,1],[137,3,141,3],[137,4,141,4],[137,5,141,5],[137,6,141,6],[147,7,151,7],[147,8,151,8],[152,1,152,5],[153,0,159,0],[153,1,159,1],[153,8,159,8],[147,0,151,0],[147,1,151,1],[147,3,151,3],[147,4,151,4],[147,5,151,5],[147,6,151,6],[174,0,180,0],[174,1,180,1],[174,8,180,8],[181,0,187,0],[181,1,187,1],[181,8,187,8],[160,0,166,0],[160,1,166,1],[160,8,166,8],[167,0,173,0],[167,1,173,1],[167,8,173,8],[202,0,208,0],[202,1,208,1],[202,8,208,8],[209,0,215,0],[209,1,215,1],[209,8,215,8],[188,0,194,0],[188,1,194,1],[188,8,194,8],[195,0,201,0],[195,1,201,1],[195,8,201,8],[226,1,226,2],[227,1,227,2],[228,1,228,2],[229,1,229,2],[230,1,230,2],[231,1,231,2],[216,0,222,0],[216,1,222,1],[216,8,222,8],[223,1,223,5],[224,1,224,2],[225,1,225,2],[238,1,238,2],[239,1,239,2],[240,1,240,2],[241,1,241,5],[242,1,242,2],[243,1,243,2],[232,1,232,2],[233,1,233,2],[234,1,234,2],[235,1,235,2],[236,1,236,2],[237,1,237,2],[250,1,250,2],[251,1,251,2],[252,1,252,2],[253,0,253,5],[244,1,244,2],[245,1,245,2],[246,1,246,2],[247,1,247,5],[248,1,248,2],[249,1,249,2]]}
[null,null,"Pasirinkite veiklos tipą:"]
[null,null,"Fizinio rodiklio Nr.:"]
["Fizinio rodiklio pavadinimas:"]
[null,null,"Fizinio rodiklio matavimo vnt.:",null,null,"Fizinio rodiklio vnt. skaičius:"]
["Juridinis asmuo (pareiškėjas, partneris), atsakingas už fizinį rodiklį:"]
[null,null,"Vykdytojo tipas:"]
[null,null,"Finansavimo intensyvumas:",null,null,null,"Pasirinkite biudžeto išlaidų kategoriją:","Visos"]
[]
["Eil. Nr.","Išlaidų kategorijos pavadinimas",null,"Matavimo vnt.","Kiekis","Vieneto kaina be PVM, Eur","Tinkamų finansuoti išlaidų suma be PVM, Eur","Finansavimo suma, Eur","Išlaidų pagrindimo dokumentų pavadinimas, data ir Nr."]
[4,"ĮRANGA, ĮRENGINIAI IR KT. TURTAS (techninių žinių ir išradimų patentų arba teisių pagal licencijų sutartį įsigijimo išlaidos)",null,null,null,null,{"$f":"SUM(G11:G20)","v":0},{"$f":"SUM(H11:H20)","v":0}]
["4.1","Išlaidų pavadinimas",null,null,null,null,{"$f":"ROUND(E11*F11,2)","v":0},{"$f":"ROUND(G11*$D$7,2)","v":0}]
["4.2","Išlaidų pavadinimas",null,null,null,null,0,0]
["4.3","Išlaidų pavadinimas",null,null,null,null,0,0]
["4.4","Išlaidų pavadinimas",null,null,null,null,0,0]
["4.5","Išlaidų pavadinimas",null,null,null,null,0,0]
["4.6","Išlaidų pavadinimas",null,null,null,null,0,0]
["4.7","Išlaidų pavadinimas",null,null,null,null,0,0]
["4.8","Išlaidų pavadinimas",null,null,null,null,0,0]
["4.9","Išlaidų pavadinimas",null,null,null,null,0,0]
["4.10","Išlaidų pavadinimas",null,null,null,null,0,0]
[5,"PROJEKTO VYKDYMAS",null,null,null,null,{"$f":"G22+G33+G44+G72+G102+G153+G224+G242+G248","v":0},{"$f":"H22+H33+H44+H72+H102+H153+H224+H242+H248","v":0}]
["5.1","MTEP paslaugos",null,null,null,null,{"$f":"SUM(G23:G32)","v":0},{"$f":"SUM(H23:H32)","v":0}]
["5.1.1","Paslaugos pavadinimas",null,null,null,null,{"$f":"ROUND(E23*F23,2)","v":0},0]
["5.1.2","Paslaugos pavadinimas",null,null,null,null,0,0]
["5.1.3","Paslaugos pavadinimas",null,null,null,null,0,0]
["5.1.4","Paslaugos pavadinimas",null,null,null,null,0,0]
["5.1.5","Paslaugos pavadinimas",null,null,null,null,0,0]
["5.1.6","Paslaugos pavadinimas",null,null,null,null,0,0]
["5.1.7","Paslaugos pavadinimas",null,null,null,null,0,0]
["5.1.8","Paslaugos pavadinimas",null,null,null,null,0,0]
["5.1.9","Paslaugos pavadinimas",null,null,null,null,0,0]
["5.1.10","Paslaugos pavadinimas",null,null,null,null,0,0]
["5.2","Konsultavimo ir lygiavertės paslaugos, teikiamos vien tik projekto MTEP veiklai.",null,null,null,null,{"$f":"SUM(G34:G43)","v":0},{"$f":"SUM(H34:H43)","v":0}]
["5.2.1","Paslaugos pavadinimas",null,null,null,null,{"$f":"ROUND(E34*F34,2)","v":0},0]
["5.2.2","Paslaugos pavadinimas",null,null,null,null,0,0]
["5.2.3","Paslaugos pavadinimas",null,null,null,null,0,0]
["5.2.4","Paslaugos pavadinimas",null,null,null,null,0,0]
["5.2.5","Paslaugos pavadinimas",null,null,null,null,0,0]
["5.2.6","Paslaugos pavadinimas",null,null,null,null,0,0]
["5.2.7","Paslaugos pavadinimas",null,null,null,null,0,0]
["5.2.8","Paslaugos pavadinimas",null,null,null,null,0,0]
["5.2.9","Paslaugos pavadinimas",null,null,null,null,0,0]
["5.2.10","Paslaugos pavadinimas",null,null,null,null,0,0]
["5.3","Medžiagos, mažavertis inventorius, atsargos ir pan. produktai, priskirtini trumpalaikiam turtui ir tiesiogiai susiję su MTEP veikla",null,null,null,null,{"$f":"SUM(G45:G71)","v":0},{"$f":"SUM(H45:H71)","v":0}]
["5.3.1","Išlaidų pavadinimas",null,null,null,null,{"$f":"ROUND(E45*F45,2)","v":0},{"$f":"ROUND(G45*$D$7,2)","v":0}]
["5.3.2","Išlaidų pavadinimas",null,null,null,null,{"$f":"ROUND(E46*F46,2)","v":0},{"$f":"ROUND(G46*$D$7,2)","v":0}]
["5.3.3","Išlaidų pavadinimas",null,null,null,null,{"$f":"ROUND(E47*F47,2)","v":0},{"$f":"ROUND(G47*$D$7,2)","v":0}]
["5.3.4","Išlaidų pavadinimas",null,null,null,null,{"$f":"ROUND(E48*F48,2)","v":0},{"$f":"ROUND(G48*$D$7,2)","v":0}]
["5.3.5","Išlaidų pavadinimas",null,null,null,null,{"$f":"ROUND(E49*F49,2)","v":0},{"$f":"ROUND(G49*$D$7,2)","v":0}]
["5.3.6","Išlaidų pavadinimas",null,null,null,null,0,0]
["5.3.7","Išlaidų pavadinimas",null,null,null,null,0,0]
["5.3.8","Išlaidų pavadinimas",null,null,null,null,0,0]
["5.3.9","Išlaidų pavadinimas",null,null,null,null,0,0]
["5.3.10","Išlaidų pavadinimas",null,null,null,null,0,0]
["5.3.11","Išlaidų pavadinimas",null,null,null,null,0,0]
["5.3.12","Išlaidų pavadinimas",null,null,null,null,0,0]
["5.3.13","Išlaidų pavadinimas",null,null,null,null,0,0]
["5.3.14","Išlaidų pavadinimas",null,null,null,null,0,0]
["5.3.15","Išlaidų pavadinimas",null,null,null,null,0,0]
["5.3.16","Išlaidų pavadinimas",null,null,null,null,0,0]
["5.3.17","Išlaidų pavadinimas",null,null,null,null,0,0]
["5.3.18","Išlaidų pavadinimas",null,null,null,null,0,0]
["5.3.19","Išlaidų pavadinimas",null,null,null,null,0,0]
["5.3.20","Išlaidų pavadinimas",null,null,null,null,0,0]
["5.3.21","Išlaidų pavadinimas",null,null,null,null,0,0]
["5.3.22","Išlaidų pavadinimas",null,null,null,null,0,0]
["5.3.23","Išlaidų pavadinimas",null,null,null,null,0,0]
["5.3.24","Išlaidų pavadinimas",null,null,null,null,0,0]
["5.3.25","Išlaidų pavadinimas",null,null,null,null,0,0]
["5.3.26","Išlaidų pavadinimas",null,null,null,null,0,0]
["5.3.27","Išlaidų pavadinimas",null,null,null,null,0,0]
["5.4","Projekto MTEP veikloms naudojamo ilgalaikio materialaus turto (įrangos, prietaisų, įrankių, įrenginių, mašinų ir įrengimų, pastatų ir (ar) patalpų), nusidėvėjimo sąnaudos, jeigu šiam turtui įsigyti nebuvo naudojamos viešosios (įskaitant ir kitų valstybių) lėšos",null,null,null,null,{"$f":"SUM(G73:G101)","v":0},{"$f":"SUM(H73:H101)","v":0},null,"Turto įvedimo į eksploataciją data","Turto įsigijimo vertė, Eur","Turto nudėvėjimo, amortizacijos laikotarpis, mėn.","Numatoma turto likutinė vertė, Eur","1 mėn. nudėvėjimo, amortizacijos suma, Eur","Turto naudojamo projekto reikmėms laikas, mėn.","Turto panaudojimo projekto reikmėms dalis (proc.)","Projektui priskirta turto nusidėvėjimo, amortizacijos suma per projekto laikotarpį, Eur"]
["5.4.1","Turtas, kurio nusidėvėjimą, amortizaciją prašoma finansuoti",null,null,1,{"$f":"Q73","v":0},{"$f":"ROUND(E73*F73,2)","v":0},0,null,null,null,null,null,{"$f":"IFERROR(ROUND((K73-M73)/L73,2),\"0\")","v":"0"},null,null,{"$f":"N73*O73*P73","v":0},{"$f":"IF(J73=0,\" \",IF(J73+(L73*30.5)<TODAY(),\"DĖMESIO! Patikrinkite, ar nurodytas turtas dar nėra nudėvėtas, amortizuotas\",\" \"))","v":" "}]
["5.4.2","Turtas, kurio nusidėvėjimą, amortizaciją prašoma finansuoti",null,null,1,0,0,0,null,null,null,null,null,{"$f":"IFERROR(ROUND((K74-M74)/L74,2),\"0\")","v":"0"},null,null,{"$f":"N74*O74*P74","v":0},{"$f":"IF(J74=0,\" \",IF(J74+(L74*30.5)<TODAY(),\"DĖMESIO! Patikrinkite, ar nurodytas turtas dar nėra nudėvėtas, amortizuotas\",\" \"))","v":" "}]
["5.4.3","Turtas, kurio nusidėvėjimą, amortizaciją prašoma finansuoti",null,null,1,0,0,0,null,null,null,null,null,"0",null,null,0," "]
["5.4.4","Turtas, kurio nusidėvėjimą, amortizaciją prašoma finansuoti",null,null,1,0,0,0,null,null,null,null,null,"0",null,null,0," "]
["5.4.5","Turtas, kurio nusidėvėjimą, amortizaciją prašoma finansuoti",null,null,1,0,0,0,null,null,null,null,null,"0",null,null,0," "]
["5.4.6","Turtas, kurio nusidėvėjimą, amortizaciją prašoma finansuoti",null,null,1,0,0,0,null,null,null,null,null,"0",null,null,0," "]
["5.4.7","Turtas, kurio nusidėvėjimą, amortizaciją prašoma finansuoti",null,null,1,0,0,0,null,null,null,null,null,"0",null,null,0," "]
["5.4.8","Turtas, kurio nusidėvėjimą, amortizaciją prašoma finansuoti",null,null,1,0,0,0,null,null,null,null,null,"0",null,null,0," "]
["5.4.9","Turtas, kurio nusidėvėjimą, amortizaciją prašoma finansuoti",null,null,1,0,0,0,null,null,null,null,null,"0",null,null,0," "]
["5.4.10","Turtas, kurio nusidėvėjimą, amortizaciją prašoma finansuoti",null,null,1,0,0,0,null,null,null,null,null,"0",null,null,0," "]
["5.4.11","Turtas, kurio nusidėvėjimą, amortizaciją prašoma finansuoti",null,null,1,0,0,0,null,null,null,null,null,"0",null,null,0," "]
["5.4.12","Turtas, kurio nusidėvėjimą, amortizaciją prašoma finansuoti",null,null,1,0,0,0,null,null,null,null,null,"0",null,null,0," "]
["5.4.13","Turtas, kurio nusidėvėjimą, amortizaciją prašoma finansuoti",null,null,1,0,0,0,null,null,null,null,null,"0",null,null,0," "]
["5.4.14","Turtas, kurio nusidėvėjimą, amortizaciją prašoma finansuoti",null,null,1,0,0,0,null,null,null,null,null,"0",null,null,0," "]
["5.4.15","Turtas, kurio nusidėvėjimą, amortizaciją prašoma finansuoti",null,null,1,0,0,0,null,null,null,null,null,"0",null,null,0," "]
["5.4.16","Turtas, kurio nusidėvėjimą, amortizaciją prašoma finansuoti",null,null,1,0,0,0,null,null,null,null,null,"0",null,null,0," "]
["5.4.17","Turtas, kurio nusidėvėjimą, amortizaciją prašoma finansuoti",null,null,1,0,0,0,null,null,null,null,null,"0",null,null,0," "]
["5.4.18","Turtas, kurio nusidėvėjimą, amortizaciją prašoma finansuoti",null,null,1,0,0,0,null,null,null,null,null,"0",null,null,0," "]
["5.4.19","Turtas, kurio nusidėvėjimą, amortizaciją prašoma finansuoti",null,null,1,0,0,0,null,null,null,null,null,"0",null,null,0," "]
["5.4.20","Turtas, kurio nusidėvėjimą, amortizaciją prašoma finansuoti",null,null,1,0,0,0,null,null,null,null,null,"0",null,null,0," "]
["5.4.21","Turtas, kurio nusidėvėjimą, amortizaciją prašoma finansuoti",null,null,1,0,0,0,null,null,null,null,null,"0",null,null,0," "]
["5.4.22","Turtas, kurio nusidėvėjimą, amortizaciją prašoma finansuoti",null,null,1,0,0,0,null,null,null,null,null,"0",null,null,0," "]
["5.4.23","Turtas, kurio nusidėvėjimą, amortizaciją prašoma finansuoti",null,null,1,0,0,0,null,null,null,null,null,"0",null,null,0," "]
["5.4.24","Turtas, kurio nusidėvėjimą, amortizaciją prašoma finansuoti",null,null,1,0,0,0,null,null,null,null,null,"0",null,null,0," "]
["5.4.25","Turtas, kurio nusidėvėjimą, amortizaciją prašoma finansuoti",null,null,1,0,0,0,null,null,null,null,null,"0",null,null,0," "]
["5.4.26","Turtas, kurio nusidėvėjimą, amortizaciją prašoma finansuoti",null,null,1,0,0,0,null,null,null,null,null,"0",null,null,0," "]
["5.4.27","Turtas, kurio nusidėvėjimą, amortizaciją prašoma finansuoti",null,null,1,0,0,0,null,null,null,null,null,"0",null,null,0," "]
["5.4.28","Turtas, kurio nusidėvėjimą, amortizaciją prašoma finansuoti",null,null,1,0,0,0,null,null,null,null,null,"0",null,null,0," "]
["5.4.29","Turtas, kurio nusidėvėjimą, amortizaciją prašoma finansuoti",null,null,1,0,0,0,null,null,null,null,null,"0",null,null,0," "]
["5.5","Projektą vykdančio personalo darbo užmokestis ir išlaidos su darbo santykiais susijusiems darbdavio įsipareigojimams",null,null,null,null,{"$f":"SUM(G103:G152)","v":0},{"$f":"SUM(H103:H152)","v":0},null,"Faktiškai gaunamas darbo užmokesti už 1 valandą pagal  pastarųjų 6 mėn. vidurkį, Eur"]
["5.5.1","Pareigybės pavadinimas","Darbuotojo vardas pavardė","val.",null,{"$f":"IFERROR(ROUND(AVERAGE(J103:J107),2),\"0\")","v":"0"},{"$f":"ROUND(E103*F103,2)","v":0},{"$f":"ROUND(G103*$D$7,2)","v":0}]
[null,null,"Darbuotojo vardas pavardė"]
[null,null,"Darbuotojo vardas pavardė"]
[null,null,"Darbuotojo vardas pavardė"]
[null,null,"Darbuotojo vardas pavardė"]
["5.5.2","Pareigybės pavadinimas","Darbuotojo vardas pavardė","val.",null,{"$f":"IFERROR(ROUND(AVERAGE(J108:J112),2),\"0\")","v":"0"},{"$f":"ROUND(E108*F108,2)","v":0},{"$f":"ROUND(G108*$D$7,2)","v":0}]
[null,null,"Darbuotojo vardas pavardė"]
[null,null,"Darbuotojo vardas pavardė"]
[null,null,"Darbuotojo vardas pavardė"]
[null,null,"Darbuotojo vardas pavardė"]
["5.5.3","Pareigybės pavadinimas","Darbuotojo vardas pavardė","val.",null,{"$f":"IFERROR(ROUND(AVERAGE(J113:J117),2),\"0\")","v":"0"},{"$f":"ROUND(E113*F113,2)","v":0},{"$f":"ROUND(G113*$D$7,2)","v":0}]
[null,null,"Darbuotojo vardas pavardė"]
[null,null,"Darbuotojo vardas pavardė"]
[null,null,"Darbuotojo vardas pavardė"]
[null,null,"Darbuotojo vardas pavardė"]
["5.5.4","Pareigybės pavadinimas","Darbuotojo vardas pavardė","val.",null,{"$f":"IFERROR(ROUND(AVERAGE(J118:J122),2),\"0\")","v":"0"},{"$f":"ROUND(E118*F118,2)","v":0},{"$f":"ROUND(G118*$D$7,2)","v":0}]
[null,null,"Darbuotojo vardas pavardė"]
[null,null,"Darbuotojo vardas pavardė"]
[null,null,"Darbuotojo vardas pavardė"]
[null,null,"Darbuotojo vardas pavardė"]
["5.5.5","Pareigybės pavadinimas","Darbuotojo vardas pavardė","val.",null,{"$f":"IFERROR(ROUND(AVERAGE(J123:J127),2),\"0\")","v":"0"},{"$f":"ROUND(E123*F123,2)","v":0},{"$f":"ROUND(G123*$D$7,2)","v":0}]
[null,null,"Darbuotojo vardas pavardė"]
[null,null,"Darbuotojo vardas pavardė"]
[null,null,"Darbuotojo vardas pavardė"]
[null,null,"Darbuotojo vardas pavardė"]
["5.5.6","Pareigybės pavadinimas","Darbuotojo vardas pavardė","val.",null,{"$f":"IFERROR(ROUND(AVERAGE(J128:J132),2),\"0\")","v":"0"},{"$f":"ROUND(E128*F128,2)","v":0},{"$f":"ROUND(G128*$D$7,2)","v":0}]
[null,null,"Darbuotojo vardas pavardė"]
[null,null,"Darbuotojo vardas pavardė"]
[null,null,"Darbuotojo vardas pavardė"]
[null,null,"Darbuotojo vardas pavardė"]
["5.5.7","Pareigybės pavadinimas","Darbuotojo vardas pavardė","val.",null,{"$f":"IFERROR(ROUND(AVERAGE(J133:J137),2),\"0\")","v":"0"},{"$f":"ROUND(E133*F133,2)","v":0},{"$f":"ROUND(G133*$D$7,2)","v":0}]
[null,null,"Darbuotojo vardas pavardė"]
[null,null,"Darbuotojo vardas pavardė"]
[null,null,"Darbuotojo vardas pavardė"]
[null,null,"Darbuotojo vardas pavardė"]
["5.5.8","Pareigybės pavadinimas","Darbuotojo vardas pavardė","val.",null,{"$f":"IFERROR(ROUND(AVERAGE(J138:J142),2),\"0\")","v":"0"},{"$f":"ROUND(E138*F138,2)","v":0},{"$f":"ROUND(G138*$D$7,2)","v":0}]
[null,null,"Darbuotojo vardas pavardė"]
[null,null,"Darbuotojo vardas pavardė"]
[null,null,"Darbuotojo vardas pavardė"]
[null,null,"Darbuotojo vardas pavardė"]
["5.5.9","Pareigybės pavadinimas","Darbuotojo vardas pavardė","val.",null,{"$f":"IFERROR(ROUND(AVERAGE(J143:J147),2),\"0\")","v":"0"},{"$f":"ROUND(E143*F143,2)","v":0},{"$f":"ROUND(G143*$D$7,2)","v":0}]
[null,null,"Darbuotojo vardas pavardė"]
[null,null,"Darbuotojo vardas pavardė"]
[null,null,"Darbuotojo vardas pavardė"]
[null,null,"Darbuotojo vardas pavardė"]
["5.5.10","Pareigybės pavadinimas","Darbuotojo vardas pavardė","val.",null,{"$f":"IFERROR(ROUND(AVERAGE(J148:J152),2),\"0\")","v":"0"},{"$f":"ROUND(E148*F148,2)","v":0},{"$f":"ROUND(G148*$D$7,2)","v":0}]
[null,null,"Darbuotojo vardas pavardė"]
[null,null,"Darbuotojo vardas pavardė"]
[null,null,"Darbuotojo vardas pavardė"]
[null,null,"Darbuotojo vardas pavardė"]
["5.6","Projektą vykdančio personalo komandiruočių išlaidos",null,null,null,null,{"$f":"SUM(G154,G161,G168,G175,G182,G189,G196,G203,G210,G217)","v":0},{"$f":"SUM(H154,H161,H168,H175,H182,H189,H196,H203,H210,H217)","v":0}]
["5.6.1","Komandiruotės pavadinimas, vieta, trukmė dienomis, vykstančių asmenų skaičius","Iš viso komandiruotei",null,null,null,{"$f":"SUM(G155:G160)","v":0},{"$f":"ROUND(G154*$D$7,2)","v":0}]
[null,null,"Dienpinigiai",null,null,null,{"$f":"ROUND(E155*F155,2)","v":0}]
[null,null,"Gyvenamojo ploto nuoma",null,null,null,0]
[null,null,"Kelionės išlaidos",null,null,null,0]
[null,null,"Dalyvavimo mokestis",null,null,null,0]
[null,null,"Kitos išlaidų pavadinimas",null,null,null,0]
[null,null,"Kitos išlaidų pavadinimas",null,null,null,0]
["5.6.2","Komandiruotės pavadinimas, vieta, trukmė dienomis, vykstančių asmenų skaičius","Iš viso komandiruotei",null,null,null,{"$f":"SUM(G162:G167)","v":0},{"$f":"ROUND(G161*$D$7,2)","v":0}]
[null,null,"Dienpinigiai",null,null,null,{"$f":"ROUND(E162*F162,2)","v":0}]
[null,null,"Gyvenamojo ploto nuoma",null,null,null,0]
[null,null,"Kelionės išlaidos",null,null,null,0]
[null,null,"Dalyvavimo mokestis",null,null,null,0]
[null,null,"Kitos išlaidų pavadinimas",null,null,null,0]
[null,null,"Kitos išlaidų pavadinimas",null,null,null,0]
["5.6.3","Komandiruotės pavadinimas, vieta, trukmė dienomis, vykstančių asmenų skaičius","Iš viso komandiruotei",null,null,null,{"$f":"SUM(G169:G174)","v":0},{"$f":"ROUND(G168*$D$7,2)","v":0}]
[null,null,"Dienpinigiai",null,null,null,{"$f":"ROUND(E169*F169,2)","v":0}]
[null,null,"Gyvenamojo ploto nuoma",null,null,null,0]
[null,null,"Kelionės išlaidos",null,null,null,0]
[null,null,"Dalyvavimo mokestis",null,null,null,0]
[null,null,"Kitos išlaidų pavadinimas",null,null,null,0]
[null,null,"Kitos išlaidų pavadinimas",null,null,null,0]
["5.6.4","Komandiruotės pavadinimas, vieta, trukmė dienomis, vykstančių asmenų skaičius","Iš viso komandiruotei",null,null,null,{"$f":"SUM(G176:G181)","v":0},{"$f":"ROUND(G175*$D$7,2)","v":0}]
[null,null,"Dienpinigiai",null,null,null,{"$f":"ROUND(E176*F176,2)","v":0}]
[null,null,"Gyvenamojo ploto nuoma",null,null,null,0]
[null,null,"Kelionės išlaidos",null,null,null,0]
[null,null,"Dalyvavimo mokestis",null,null,null,0]
[null,null,"Kitos išlaidų pavadinimas",null,null,null,0]
[null,null,"Kitos išlaidų pavadinimas",null,null,null,0]
["5.6.5","Komandiruotės pavadinimas, vieta, trukmė dienomis, vykstančių asmenų skaičius","Iš viso komandiruotei",null,null,null,{"$f":"SUM(G183:G188)","v":0},{"$f":"ROUND(G182*$D$7,2)","v":0}]
[null,null,"Dienpinigiai",null,null,null,{"$f":"ROUND(E183*F183,2)","v":0}]
[null,null,"Gyvenamojo ploto nuoma",null,null,null,0]
[null,null,"Kelionės išlaidos",null,null,null,0]
[null,null,"Dalyvavimo mokestis",null,null,null,0]
[null,null,"Kitos išlaidų pavadinimas",null,null,null,0]
[null,null,"Kitos išlaidų pavadinimas",null,null,null,0]
["5.6.6","Komandiruotės pavadinimas, vieta, trukmė dienomis, vykstančių asmenų skaičius","Iš viso komandiruotei",null,null,null,{"$f":"SUM(G190:G195)","v":0},{"$f":"ROUND(G189*$D$7,2)","v":0}]
[null,null,"Dienpinigiai",null,null,null,{"$f":"ROUND(E190*F190,2)","v":0}]
[null,null,"Gyvenamojo ploto nuoma",null,null,null,0]
[null,null,"Kelionės išlaidos",null,null,null,0]
[null,null,"Dalyvavimo mokestis",null,null,null,0]
[null,null,"Kitos išlaidų pavadinimas",null,null,null,0]
[null,null,"Kitos išlaidų pavadinimas",null,null,null,0]
["5.6.7","Komandiruotės pavadinimas, vieta, trukmė dienomis, vykstančių asmenų skaičius","Iš viso komandiruotei",null,null,null,{"$f":"SUM(G197:G202)","v":0},{"$f":"ROUND(G196*$D$7,2)","v":0}]
[null,null,"Dienpinigiai",null,null,null,{"$f":"ROUND(E197*F197,2)","v":0}]
[null,null,"Gyvenamojo ploto nuoma",null,null,null,0]
[null,null,"Kelionės išlaidos",null,null,null,0]
[null,null,"Dalyvavimo mokestis",null,null,null,0]
[null,null,"Kitos išlaidų pavadinimas",null,null,null,0]
[null,null,"Kitos išlaidų pavadinimas",null,null,null,0]
["5.6.8","Komandiruotės pavadinimas, vieta, trukmė dienomis, vykstančių asmenų skaičius","Iš viso komandiruotei",null,null,null,{"$f":"SUM(G204:G209)","v":0},{"$f":"ROUND(G203*$D$7,2)","v":0}]
[null,null,"Dienpinigiai",null,null,null,{"$f":"ROUND(E204*F204,2)","v":0}]
[null,null,"Gyvenamojo ploto nuoma",null,null,null,0]
[null,null,"Kelionės išlaidos",null,null,null,0]
[null,null,"Dalyvavimo mokestis",null,null,null,0]
[null,null,"Kitos išlaidų pavadinimas",null,null,null,0]
[null,null,"Kitos išlaidų pavadinimas",null,null,null,0]
["5.6.9","Komandiruotės pavadinimas, vieta, trukmė dienomis, vykstančių asmenų skaičius","Iš viso komandiruotei",null,null,null,{"$f":"SUM(G211:G216)","v":0},{"$f":"ROUND(G210*$D$7,2)","v":0}]
[null,null,"Dienpinigiai",null,null,null,{"$f":"ROUND(E211*F211,2)","v":0}]
[null,null,"Gyvenamojo ploto nuoma",null,null,null,0]
[null,null,"Kelionės išlaidos",null,null,null,0]
[null,null,"Dalyvavimo mokestis",null,null,null,0]
[null,null,"Kitos išlaidų pavadinimas",null,null,null,0]
[null,null,"Kitos išlaidų pavadinimas",null,null,null,0]
["5.6.10","Komandiruotės pavadinimas, vieta, trukmė dienomis, vykstančių asmenų skaičius","Iš viso komandiruotei",null,null,null,{"$f":"SUM(G218:G223)","v":0},{"$f":"ROUND(G217*$D$7,2)","v":0}]
[null,null,"Dienpinigiai",null,null,null,{"$f":"ROUND(E218*F218,2)","v":0}]
[null,null,"Gyvenamojo ploto nuoma",null,null,null,0]
[null,null,"Kelionės išlaidos",null,null,null,0]
[null,null,"Dalyvavimo mokestis",null,null,null,0]
[null,null,"Kitos išlaidų pavadinimas",null,null,null,0]
[null,null,"Kitos išlaidų pavadinimas",null,null,null,0]
["5.7","Įrangos nuomos išlaidos, veiklai priskirtos pro rata principu. Įranga turi būti tiesiogiai susijusi su projekto įgyvendinimu ir negali būti įsigyta iš ES struktūrinių fondų ar kt. ES finansinių priemonių lėšų",null,null,null,null,{"$f":"SUM(G225:G241)","v":0},{"$f":"SUM(H225:H241)","v":0},null,"Faktinės 1 mėnesio išlaidos, Eur","Naudojimo projekte trukmė, mėn."]
["5.7.1","Įrangos pavadinimas",null,"pro rata proc.",null,{"$f":"J225*K225","v":0},{"$f":"ROUND(E225*F225,2)","v":0},{"$f":"ROUND(G225*$D$7,2)","v":0}]
["5.7.2","Įrangos pavadinimas",null,"pro rata proc.",null,0,0,{"$f":"ROUND(G226*$D$7,2)","v":0}]
["5.7.3","Įrangos pavadinimas",null,"pro rata proc.",null,0,0,0]
["5.7.4","Įrangos pavadinimas",null,"pro rata proc.",null,0,0,0]
["5.7.5","Įrangos pavadinimas",null,"pro rata proc.",null,0,0,0]
["5.7.6","Įrangos pavadinimas",null,"pro rata proc.",null,0,0,0]
["5.7.7","Įrangos pavadinimas",null,"pro rata proc.",null,0,0,0]
["5.7.8","Įrangos pavadinimas",null,"pro rata proc.",null,0,0,0]
["5.7.9","Įrangos pavadinimas",null,"pro rata proc.",null,0,0,0]
["5.7.10","Įrangos pavadinimas",null,"pro rata proc.",null,0,0,0]
["5.7.11","Įrangos pavadinimas",null,"pro rata proc.",null,0,0,0]
["5.7.12","Įrangos pavadinimas",null,"pro rata proc.",null,0,0,0]
["5.7.13","Įrangos pavadinimas",null,"pro rata proc.",null,0,0,0]
["5.7.14","Įrangos pavadinimas",null,"pro rata proc.",null,{"$f":"J238*K238","v":0},0,{"$f":"ROUND(G238*$D$7,2)","v":0}]
["5.7.15","Įrangos pavadinimas",null,"pro rata proc.",null,{"$f":"J239*K239","v":0},0,{"$f":"ROUND(G239*$D$7,2)","v":0}]
["5.7.16","Įrangos pavadinimas",null,"pro rata proc.",null,{"$f":"J240*K240","v":0},0,{"$f":"ROUND(G240*$D$7,2)","v":0}]
["5.7.17","Įrangos pavadinimas",null,"pro rata proc.",null,{"$f":"J241*K241","v":0},0,{"$f":"ROUND(G241*$D$7,2)","v":0}]
["5.8","Pastatų ar patalpų nuomos išlaidos, veiklai priskirtos pro rata principu. Pastatai ar patalpos turi būti tiesiogiai susijusi su projekto įgyvendinimu.",null,null,null,null,{"$f":"SUM(G243:G247)","v":0},{"$f":"SUM(H243:H247)","v":0},null,"Faktinės 1 mėnesio išlaidos, Eur","Naudojimo projekte trukmė, mėn."]
["5.8.1","Pastato, patalpų adresas",null,"pro rata proc.",null,{"$f":"J243*K243","v":0},{"$f":"ROUND(E243*F243,2)","v":0},{"$f":"ROUND(G243*$D$7,2)","v":0}]
["5.8.2","Pastato, patalpų adresas",null,"pro rata proc.",null,{"$f":"J244*K244","v":0},{"$f":"ROUND(E244*F244,2)","v":0},{"$f":"ROUND(G244*$D$7,2)","v":0}]
["5.8.3","Pastato, patalpų adresas",null,"pro rata proc.",null,{"$f":"J245*K245","v":0},{"$f":"ROUND(E245*F245,2)","v":0},{"$f":"ROUND(G245*$D$7,2)","v":0}]
["5.8.4","Pastato, patalpų adresas",null,"pro rata proc.",null,{"$f":"J246*K246","v":0},{"$f":"ROUND(E246*F246,2)","v":0},{"$f":"ROUND(G246*$D$7,2)","v":0}]
["5.8.5","Pastato, patalpų adresas",null,"pro rata proc.",null,{"$f":"J247*K247","v":0},{"$f":"ROUND(E247*F247,2)","v":0},{"$f":"ROUND(G247*$D$7,2)","v":0}]
["5.9","Projekto veikloms vykdyti reikalingų transporto priemonių nuomos išlaidos (išlaidos yra tinkamos finansuoti tik pagal Aprašą Nr. 2 vadovaujantis de minimis reglamento nuostatomis)",null,null,null,null,{"$f":"SUM(G249:G253)","v":0},{"$f":"SUM(H249:H253)","v":0}]
["5.9.1","Išlaidų pavadinimas",null,null,null,null,{"$f":"ROUND(E249*F249,2)","v":0},{"$f":"ROUND(G249*$D$7,2)","v":0}]
["5.9.2","Išlaidų pavadinimas",null,null,null,null,{"$f":"ROUND(E250*F250,2)","v":0},{"$f":"ROUND(G250*$D$7,2)","v":0}]
["5.9.3","Išlaidų pavadinimas",null,null,null,null,{"$f":"ROUND(E251*F251,2)","v":0},{"$f":"ROUND(G251*$D$7,2)","v":0}]
["5.9.4","Išlaidų pavadinimas",null,null,null,null,{"$f":"ROUND(E252*F252,2)","v":0},{"$f":"ROUND(G252*$D$7,2)","v":0}]
["5.9.5","Išlaidų pavadinimas",null,null,null,null,{"$f":"ROUND(E253*F253,2)","v":0},{"$f":"ROUND(G253*$D$7,2)","v":0}]
["Iš viso tinkamų finansuoti išlaidų:",null,null,null,null,null,{"$f":"G10+G21","v":0},{"$f":"H10+H21","v":0}]

{"sheet":"Netiesioginės išlaidos","index":28,"n_rows":33,"n_cols":8,"rows_kept":33,"cut":false,"hidden":false,"merged":[[30,0,30,1],[5,0,5,2],[7,0,7,2],[4,0,4,5],[2,0,2,7],[6,0,6,7],[8,0,8,2],[9,0,9,7]]}
["7. Netiesioginių išlaidų ir kt. išlaidų pagal fiksuotąją projekto išlaidų normą apskaičiavimas"]
[]
["Žemiau esančios lentelės žaliuose laukuose įrašykite planuojamas patirti su projekto administravimu susijusias išlaidas. Pareiškėjui ir kiekvienam projekto partneriui pildykite atskirą lentelės stulpelį. \n"]
[]
["1 lentelė: Netiesioginių išlaidų pasiskirstymas pagal projekto vykdytojus"]
["Netiesioginės išlaidos",null,null,"Pareiškėjo","Partnerio Nr. 1","Partnerio Nr. 2","Partnerio Nr. 3","Iš viso, Eur"]
[]
["Iš viso netiesioginių išlaidų:",null,null,null,null,null,null,{"$f":"SUM(D8:G8)","v":0}]
["Bendra finansavimo suma, Eur",null,null,{"$f":"D8*DATA!E2","v":0},{"$f":"E8*DATA!E3","v":0},{"$f":"F8*DATA!E4","v":0},{"$f":"G8*DATA!E5","v":0},{"$f":"SUM(D9:G9)","v":0}]
[]
[]
[]
[]
[]
[]
[]
["2 lentelė: Projekto biudžeto paskirstymas pagal pareiškėją ir partnerį (-ius)"]
[" =IF(B25+B28+B31=0;\"\";IF(OR(B22/B34*100>70;B25/B34*100>70;B28/B34*100;B31/B34*100);\"Klaida: Nei vienas juridinis asmuo negali patirti daugiau negu 70% išlaidų!\";\"\"))"]
["Pareiškėjas:",{"$f":"_xlfn.IFNA(VLOOKUP(\"Pareiškėjas\",DATA!N2:O5,2,FALSE),\"\")","v":""}]
["Išlaidų suma, Eur",{"$f":"+DATA!$I$2+D8","v":0}]
["Finansavimo suma, Eur",{"$f":"DATA!$J$2+D9","v":0}]
["Partneris Nr. 1:",{"$f":"_xlfn.IFNA(VLOOKUP(\"Partneris Nr. 1\",DATA!N2:O5,2,FALSE),\"\")","v":""}]
["Išlaidų suma, Eur",{"$f":"DATA!$I$3+E8","v":0}]
["Finansavimo suma, Eur",{"$f":"DATA!$J$3+E9","v":0}]
["Partneris Nr. 2:",{"$f":"_xlfn.IFNA(VLOOKUP(\"Partneris Nr. 2\",DATA!N2:O5,2,FALSE),\"\")","v":""}]
["Išlaidų suma, Eur",{"$f":"DATA!$I$4+F8","v":0}]
["Finansavimo suma, Eur",{"$f":"DATA!$J$4+F9","v":0}]
["Partneris Nr. 3:",{"$f":"_xlfn.IFNA(VLOOKUP(\"Partneris Nr. 3\",DATA!N2:O5,2,FALSE),\"\")","v":""}]
["Išlaidų suma, Eur",{"$f":"DATA!$I$5+G8","v":0}]
["Finansavimo suma, Eur",{"$f":"DATA!$J$5+G9","v":0}]
["Iš viso:"]
["Išlaidų suma, Eur",{"$f":"B20+B23+B26+B29","v":0}]
["Finansavimo suma, Eur",{"$f":"+B21+B24+B27+B30","v":0}]