{"text_format":"1","workbook":"xlsx","n_sheets":29,"sheets":["DATA","Instrukcija","Suvestine","1","2","3","4","5","6","7","16","17","18","19","20","21","22","23","24","25","8","9","10","11","12","13","14","15","Netiesioginės išlaidos"],"not_rendered":{"charts":0,"images":1,"macros":1,"external_links":0,"defined_names":26,"comments":1,"pivot_tables":0},"unopened":[],"bounds":{"document_bytes":16777216,"sheet_cells":100000,"rows_first":2000,"rows_last":500,"rows_between":2000,"halvings":0,"cell_chars":16384,"cell_head_chars":4096},"cells_cut":0,"cells_raw":0,"read":"whole","date_system":"1900"}

{"sheet":"DATA","index":0,"n_rows":22,"n_cols":15,"rows_kept":22,"cut":false,"hidden":true,"merged":[]}
[null,"Vykdytojo tipas","MT VID. intensyvumas","EP VID. intensyvumas",null,null,null,"Vykdytojo tipas","TIS","FS",null,null,null,"Vykdytojo tipas","Juridinis asmuo"]
[null,"Pareiškėjas",{"$f":"IF(ISERROR(AVERAGEIFS($D$8:$D$22,$C$8:$C$22,B2,$B$8:$B$22,\"Moksliniai tyrimai\")),0,AVERAGEIFS($D$8:$D$22,$C$8:$C$22,B2,$B$8:$B$22,\"Moksliniai tyrimai\"))","v":0},{"$f":"IF(ISERROR(AVERAGEIFS($D$8:$D$22,$C$8:$C$22,B2,$B$8:$B$22,\"Eksperimentinė plėtra\")),0,AVERAGEIFS($D$8:$D$22,$C$8:$C$22,B2,$B$8:$B$22,\"Eksperimentinė plėtra\"))","v":0},null,null,null,"Pareiškėjas",{"$f":"SUMIF($H$8:$H$22,H2,$I$8:$I$22)","v":0},{"$f":"SUMIF($H$8:$H$22,H2,$J$8:$J$22)","v":0},null,null,null,"Pareiškėjas",{"$f":"VLOOKUP(N2,$N$8:$O$22,2,FALSE)","v":{"$error":"#N/A"}}]
[null,"Partneris Nr. 1",{"$f":"IF(ISERROR(AVERAGEIFS($D$8:$D$22,$C$8:$C$22,B3,$B$8:$B$22,\"Moksliniai tyrimai\")),0,AVERAGEIFS($D$8:$D$22,$C$8:$C$22,B3,$B$8:$B$22,\"Moksliniai tyrimai\"))","v":0},{"$f":"IF(ISERROR(AVERAGEIFS($D$8:$D$22,$C$8:$C$22,B3,$B$8:$B$22,\"Eksperimentinė plėtra\")),0,AVERAGEIFS($D$8:$D$22,$C$8:$C$22,B3,$B$8:$B$22,\"Eksperimentinė plėtra\"))","v":0},null,null,null,"Partneris Nr. 1",{"$f":"SUMIF($H$8:$H$22,H3,$I$8:$I$22)","v":0},{"$f":"SUMIF($H$8:$H$22,H3,$J$8:$J$22)","v":0},null,null,null,"Partneris Nr. 1",{"$f":"VLOOKUP(N3,$N$8:$O$22,2,FALSE)","v":{"$error":"#N/A"}}]
[null,"Partneris Nr. 2",{"$f":"IF(ISERROR(AVERAGEIFS($D$8:$D$22,$C$8:$C$22,B4,$B$8:$B$22,\"Moksliniai tyrimai\")),0,AVERAGEIFS($D$8:$D$22,$C$8:$C$22,B4,$B$8:$B$22,\"Moksliniai tyrimai\"))","v":0},{"$f":"IF(ISERROR(AVERAGEIFS($D$8:$D$22,$C$8:$C$22,B4,$B$8:$B$22,\"Eksperimentinė plėtra\")),0,AVERAGEIFS($D$8:$D$22,$C$8:$C$22,B4,$B$8:$B$22,\"Eksperimentinė plėtra\"))","v":0},null,null,null,"Partneris Nr. 2",{"$f":"SUMIF($H$8:$H$22,H4,$I$8:$I$22)","v":0},{"$f":"SUMIF($H$8:$H$22,H4,$J$8:$J$22)","v":0},null,null,null,"Partneris Nr. 2",{"$f":"VLOOKUP(N4,$N$8:$O$22,2,FALSE)","v":{"$error":"#N/A"}}]
[null,"Partneris Nr. 3",{"$f":"IF(ISERROR(AVERAGEIFS($D$8:$D$22,$C$8:$C$22,B5,$B$8:$B$22,\"Moksliniai tyrimai\")),0,AVERAGEIFS($D$8:$D$22,$C$8:$C$22,B5,$B$8:$B$22,\"Moksliniai tyrimai\"))","v":0},{"$f":"IF(ISERROR(AVERAGEIFS($D$8:$D$22,$C$8:$C$22,B5,$B$8:$B$22,\"Eksperimentinė plėtra\")),0,AVERAGEIFS($D$8:$D$22,$C$8:$C$22,B5,$B$8:$B$22,\"Eksperimentinė plėtra\"))","v":0},null,null,null,"Partneris Nr. 3",{"$f":"SUMIF($H$8:$H$22,H5,$I$8:$I$22)","v":0},{"$f":"SUMIF($H$8:$H$22,H5,$J$8:$J$22)","v":0},null,null,null,"Partneris Nr. 3",{"$f":"VLOOKUP(N5,$N$8:$O$22,2,FALSE)","v":{"$error":"#N/A"}}]
[]
["Veiklos Nr.","Veiklos tipas","Vykdytojo tipas","Intensyvumas",null,null,"Veiklos Nr.","Vykdytojo tipas","TIS","FS",null,null,"Veiklos Nr.","Vykdytojo tipas","Juridinis asmuo"]
[1,{"$f":"IF('1'!$D$1=\"\",\"\",'1'!$D$1)","v":""},{"$f":"IF('1'!$D$6=\"\",\"\",'1'!$D$6)","v":""},{"$f":"IF('1'!$D$7=\"\",\"\",'1'!$D$7)","v":""},null,null,1,{"$f":"IF('1'!$D$6=\"\",\"\",'1'!$D$6)","v":""},{"$f":"'1'!$G$254","v":0},{"$f":"'1'!$H$254","v":0},null,null,1,{"$f":"IF('1'!$D$6=\"\",\"\",'1'!$D$6)","v":""},{"$f":"IF('1'!$D$5=\"\",\"\",'1'!$D$5)","v":""}]
[2,{"$f":"IF('2'!$D$1=\"\",\"\",'2'!$D$1)","v":""},{"$f":"IF('2'!$D$6=\"\",\"\",'2'!$D$6)","v":""},{"$f":"IF('2'!$D$7=\"\",\"\",'2'!$D$7)","v":""},null,null,2,{"$f":"IF('2'!$D$6=\"\",\"\",'2'!$D$6)","v":""},{"$f":"'2'!$G$254","v":0},{"$f":"'2'!$H$254","v":0},null,null,2,{"$f":"IF('2'!$D$6=\"\",\"\",'2'!$D$6)","v":""},{"$f":"IF('2'!$D$5=\"\",\"\",'2'!$D$5)","v":""}]
[3,{"$f":"IF('3'!$D$1=\"\",\"\",'3'!$D$1)","v":""},{"$f":"IF('3'!$D$6=\"\",\"\",'3'!$D$6)","v":""},{"$f":"IF('3'!$D$7=\"\",\"\",'3'!$D$7)","v":""},null,null,3,{"$f":"IF('3'!$D$6=\"\",\"\",'3'!$D$6)","v":""},{"$f":"'3'!$G$254","v":0},{"$f":"'3'!$H$254","v":0},null,null,3,{"$f":"IF('3'!$D$6=\"\",\"\",'3'!$D$6)","v":""},{"$f":"IF('3'!$D$5=\"\",\"\",'3'!$D$5)","v":""}]
[4,{"$f":"IF('4'!$D$1=\"\",\"\",'4'!$D$1)","v":""},{"$f":"IF('4'!$D$6=\"\",\"\",'4'!$D$6)","v":""},{"$f":"IF('4'!$D$7=\"\",\"\",'4'!$D$7)","v":""},null,null,4,{"$f":"IF('4'!$D$6=\"\",\"\",'4'!$D$6)","v":""},{"$f":"'4'!$G$254","v":0},{"$f":"'4'!$H$254","v":0},null,null,4,{"$f":"IF('4'!$D$6=\"\",\"\",'4'!$D$6)","v":""},{"$f":"IF('4'!$D$5=\"\",\"\",'4'!$D$5)","v":""}]
[5,{"$f":"IF('5'!$D$1=\"\",\"\",'5'!$D$1)","v":""},{"$f":"IF('5'!$D$6=\"\",\"\",'5'!$D$6)","v":""},{"$f":"IF('5'!$D$7=\"\",\"\",'5'!$D$7)","v":""},null,null,5,{"$f":"IF('5'!$D$6=\"\",\"\",'5'!$D$6)","v":""},{"$f":"'5'!$G$254","v":0},{"$f":"'5'!$H$254","v":0},null,null,5,{"$f":"IF('5'!$D$6=\"\",\"\",'5'!$D$6)","v":""},{"$f":"IF('5'!$D$5=\"\",\"\",'5'!$D$5)","v":""}]
[6,{"$f":"IF('6'!$D$1=\"\",\"\",'6'!$D$1)","v":""},{"$f":"IF('6'!$D$6=\"\",\"\",'6'!$D$6)","v":""},{"$f":"IF('6'!$D$7=\"\",\"\",'6'!$D$7)","v":""},null,null,6,{"$f":"IF('6'!$D$6=\"\",\"\",'6'!$D$6)","v":""},{"$f":"'6'!$G$254","v":0},{"$f":"'6'!$H$254","v":0},null,null,6,{"$f":"IF('6'!$D$6=\"\",\"\",'6'!$D$6)","v":""},{"$f":"IF('6'!$D$5=\"\",\"\",'6'!$D$5)","v":""}]
[7,{"$f":"IF('7'!$D$1=\"\",\"\",'7'!$D$1)","v":""},{"$f":"IF('7'!$D$6=\"\",\"\",'7'!$D$6)","v":""},{"$f":"IF('7'!$D$7=\"\",\"\",'7'!$D$7)","v":""},null,null,7,{"$f":"IF('7'!$D$6=\"\",\"\",'7'!$D$6)","v":""},{"$f":"'7'!$G$254","v":0},{"$f":"'7'!$H$254","v":0},null,null,7,{"$f":"IF('7'!$D$6=\"\",\"\",'7'!$D$6)","v":""},{"$f":"IF('7'!$D$5=\"\",\"\",'7'!$D$5)","v":""}]
[8,{"$f":"IF('8'!$D$1=\"\",\"\",'8'!$D$1)","v":""},{"$f":"IF('8'!$D$6=\"\",\"\",'8'!$D$6)","v":""},{"$f":"IF('8'!$D$7=\"\",\"\",'8'!$D$7)","v":""},null,null,8,{"$f":"IF('8'!$D$6=\"\",\"\",'8'!$D$6)","v":""},{"$f":"'8'!$G$254","v":0},{"$f":"'8'!$H$254","v":0},null,null,8,{"$f":"IF('8'!$D$6=\"\",\"\",'8'!$D$6)","v":""},{"$f":"IF('8'!$D$5=\"\",\"\",'8'!$D$5)","v":""}]
[9,{"$f":"IF('9'!$D$1=\"\",\"\",'9'!$D$1)","v":""},{"$f":"IF('9'!$D$6=\"\",\"\",'9'!$D$6)","v":""},{"$f":"IF('9'!$D$7=\"\",\"\",'9'!$D$7)","v":""},null,null,9,{"$f":"IF('9'!$D$6=\"\",\"\",'9'!$D$6)","v":""},{"$f":"'9'!$G$254","v":0},{"$f":"'9'!$H$254","v":0},null,null,9,{"$f":"IF('9'!$D$6=\"\",\"\",'9'!$D$6)","v":""},{"$f":"IF('9'!$D$5=\"\",\"\",'9'!$D$5)","v":""}]
[10,{"$f":"IF('10'!$D$1=\"\",\"\",'10'!$D$1)","v":""},{"$f":"IF('10'!$D$6=\"\",\"\",'10'!$D$6)","v":""},{"$f":"IF('10'!$D$7=\"\",\"\",'10'!$D$7)","v":""},null,null,10,{"$f":"IF('10'!$D$6=\"\",\"\",'10'!$D$6)","v":""},{"$f":"'10'!$G$254","v":0},{"$f":"'10'!$H$254","v":0},null,null,10,{"$f":"IF('10'!$D$6=\"\",\"\",'10'!$D$6)","v":""},{"$f":"IF('10'!$D$5=\"\",\"\",'10'!$D$5)","v":""}]
[11,{"$f":"IF('11'!$D$1=\"\",\"\",'11'!$D$1)","v":""},{"$f":"IF('11'!$D$6=\"\",\"\",'11'!$D$6)","v":""},{"$f":"IF('11'!$D$7=\"\",\"\",'11'!$D$7)","v":""},null,null,11,{"$f":"IF('11'!$D$6=\"\",\"\",'11'!$D$6)","v":""},{"$f":"'11'!$G$254","v":0},{"$f":"'11'!$H$254","v":0},null,null,11,{"$f":"IF('11'!$D$6=\"\",\"\",'11'!$D$6)","v":""},{"$f":"IF('11'!$D$5=\"\",\"\",'11'!$D$5)","v":""}]
[12,{"$f":"IF('12'!$D$1=\"\",\"\",'12'!$D$1)","v":""},{"$f":"IF('12'!$D$6=\"\",\"\",'12'!$D$6)","v":""},{"$f":"IF('12'!$D$7=\"\",\"\",'12'!$D$7)","v":""},null,null,12,{"$f":"IF('12'!$D$6=\"\",\"\",'12'!$D$6)","v":""},{"$f":"'12'!$G$254","v":0},{"$f":"'12'!$H$254","v":0},null,null,12,{"$f":"IF('12'!$D$6=\"\",\"\",'12'!$D$6)","v":""},{"$f":"IF('12'!$D$5=\"\",\"\",'12'!$D$5)","v":""}]
[13,{"$f":"IF('13'!$D$1=\"\",\"\",'13'!$D$1)","v":""},{"$f":"IF('13'!$D$6=\"\",\"\",'13'!$D$6)","v":""},{"$f":"IF('13'!$D$7=\"\",\"\",'13'!$D$7)","v":""},null,null,13,{"$f":"IF('13'!$D$6=\"\",\"\",'13'!$D$6)","v":""},{"$f":"'13'!$G$254","v":0},{"$f":"'13'!$H$254","v":0},null,null,13,{"$f":"IF('13'!$D$6=\"\",\"\",'13'!$D$6)","v":""},{"$f":"IF('13'!$D$5=\"\",\"\",'13'!$D$5)","v":""}]
[14,{"$f":"IF('14'!$D$1=\"\",\"\",'14'!$D$1)","v":""},{"$f":"IF('14'!$D$6=\"\",\"\",'14'!$D$6)","v":""},{"$f":"IF('14'!$D$7=\"\",\"\",'14'!$D$7)","v":""},null,null,14,{"$f":"IF('14'!$D$6=\"\",\"\",'14'!$D$6)","v":""},{"$f":"'14'!$G$254","v":0},{"$f":"'14'!$H$254","v":0},null,null,14,{"$f":"IF('14'!$D$6=\"\",\"\",'14'!$D$6)","v":""},{"$f":"IF('14'!$D$5=\"\",\"\",'14'!$D$5)","v":""}]
[15,{"$f":"IF('15'!$D$1=\"\",\"\",'15'!$D$1)","v":""},{"$f":"IF('15'!$D$6=\"\",\"\",'15'!$D$6)","v":""},{"$f":"IF('15'!$D$7=\"\",\"\",'15'!$D$7)","v":""},null,null,15,{"$f":"IF('15'!$D$6=\"\",\"\",'15'!$D$6)","v":""},{"$f":"'15'!$G$254","v":0},{"$f":"'15'!$H$254","v":0},null,null,15,{"$f":"IF('15'!$D$6=\"\",\"\",'15'!$D$6)","v":""},{"$f":"IF('15'!$D$5=\"\",\"\",'15'!$D$5)","v":""}]

{"sheet":"Instrukcija","index":1,"n_rows":11,"n_cols":4,"rows_kept":11,"cut":false,"hidden":false,"merged":[[0,3,0,5],[5,1,5,5],[8,1,8,5],[10,1,10,5],[2,0,2,5],[4,1,4,5],[6,1,6,5],[7,1,7,5],[9,1,9,5]]}
[null,null,null,"Verslo plano priedas „Reikalingi ištekliai“\nNr. 1A"]
[]
["Pildymo instrukcija"]
[]
[1,"Šis verslo plano priedas Nr. 1A pildomas tik projekto veikloms, nurodytoms 2014–2020 metų Europos Sąjungos fondų investicijų veiksmų programos 1 prioriteto „Mokslinių tyrimų, eksperimentinės plėtros ir inovacijų skatinimas“ priemonės Nr. 01.2.1-LVPA-K-856  „Eksperimentas“ projektų finansavimo sąlygų aprašo Nr. 1 ir Nr. 2 (toliau – Aprašas) 10.1 punkte."]
[2,"Pildykite tik žalia spalva pažymėtus laukus."]
[3,"Nereikalingų eilučių, stulpelių netrinkite, esant poreikiui eilutes, stulpelius galite tik paslėpti (hide)."]
[4,"Kiekvienam pirmo lygio (kurio paraiškoje nurodytas numeris susideda iš trijų skaitmenų) fiziniam rodikliui, nurodytam paraiškos 6 dalyje „Projekto loginis pagrindimas“, pildykite atskirą lapą. Fizinio rodiklio pavadinimas ir numeris turi sutapti su paraiškoje nurodytais fizinių rodiklių pavadinimais ir numeriais. Jei projektas vykdomas kartu su partneriu(-iais), veikloms, kurios vykdomos kartu su partneriu(-iais) rekomenduojama atskirai numatyti pareiškėjui ir partneriui(-iams) tenkančius fizinius rodiklius.\nAtkreipiame dėmesį, kad vienam fiziniam rodikliui gali būti priskirta tik viena biudžeto išlaidų kategorija."]
[5,"Jei projektas vykdomas kartu su partneriu(-iais), rekomenduojama pareiškėjui ir partneriui(-iams) numatyti atskirus  pirmo lygio fizinius rodiklius."]
[6,"Kai užpildysite visas fizinių rodiklių išlaidas, kortelėje „Suvestinė“ paspauskite viršuje kairėje pusėje esantį mygtuką „Tvarkyti lentelę“, kad užsipildytų suminė informacija šioje kortelėje."]
[7,"Antrajame konkurso etape kartu su verslo planu turi būti pateiktas ir šis verslo plano priedas (popierinė ir elektroninė versijos). LVPA teikiamoje elektroninėje versijoje turi likti visos skaičiavimams naudotos formulės."]

{"sheet":"Suvestine","index":2,"n_rows":80,"n_cols":6,"rows_kept":80,"cut":false,"hidden":false,"merged":[[79,0,79,1],[0,1,0,5],[56,0,56,1],[58,0,58,5],[73,0,73,1],[77,0,77,1],[78,0,78,1]]}
[null,"Veiklų, vykdomų pagal Aprašo 10.1 punktą, išlaidų suvestinė lentelė pagal fizinius rodiklius (lentelė užsipildo automatiškai)"]
[]
["Fizinio rodiklio Nr.","Fizinio rodiklio pavadinimas","Fizinio rodiklio matavimo vnt.","Fizinio rodiklio vnt. skaičius","Tinkamų finansuoti išlaidų suma, Eur","Finansavimo suma, Eur"]
["4","Įranga, įrenginiai ir kt. turtas",null,null,{"$f":"SUM(E5:E32)","v":0},{"$f":"SUM(F5:F32)","v":0}]
[{"$f":"'1'!$D$2","v":0},{"$f":"'1'!$D$3","v":0},{"$f":"'1'!$D$4","v":0},{"$f":"'1'!$H$4","v":0},{"$f":"'1'!$G$10","v":0},{"$f":"'1'!$H$10","v":0}]
[{"$f":"'2'!$D$2","v":0},{"$f":"'2'!$D$3","v":0},{"$f":"'2'!$D$4","v":0},{"$f":"'2'!$H$4","v":0},{"$f":"'2'!$G$10","v":0},{"$f":"'2'!$H$10","v":0}]
[{"$f":"'3'!$D$2","v":0},{"$f":"'3'!$D$3","v":0},{"$f":"'3'!$D$4","v":0},{"$f":"'3'!$H$4","v":0},{"$f":"'3'!$G$10","v":0},{"$f":"'3'!$H$10","v":0}]
[{"$f":"'4'!$D$2","v":0},{"$f":"'4'!$D$3","v":0},{"$f":"'4'!$D$4","v":0},{"$f":"'4'!$H$4","v":0},{"$f":"'4'!$G$10","v":0},{"$f":"'4'!$H$10","v":0}]
[{"$f":"'5'!$D$2","v":0},{"$f":"'5'!$D$3","v":0},{"$f":"'5'!$D$4","v":0},{"$f":"'5'!$H$4","v":0},{"$f":"'5'!$G$10","v":0},{"$f":"'5'!$H$10","v":0}]
[{"$f":"'6'!$D$2","v":0},{"$f":"'6'!$D$3","v":0},{"$f":"'6'!$D$4","v":0},{"$f":"'6'!$H$4","v":0},{"$f":"'6'!$G$10","v":0},{"$f":"'6'!$H$10","v":0}]
[{"$f":"'7'!$D$2","v":0},{"$f":"'7'!$D$3","v":0},{"$f":"'7'!$D$4","v":0},{"$f":"'7'!$H$4","v":0},{"$f":"'7'!$G$10","v":0},{"$f":"'7'!$H$10","v":0}]
[{"$f":"'8'!$D$2","v":0},{"$f":"'8'!$D$3","v":0},{"$f":"'7'!$D$4","v":0},{"$f":"'8'!$H$4","v":0},{"$f":"'8'!$G$10","v":0},{"$f":"'8'!$H$10","v":0}]
[{"$f":"'9'!$D$2","v":0},{"$f":"'9'!$D$3","v":0},{"$f":"'9'!$D$4","v":0},{"$f":"'9'!$H$4","v":0},{"$f":"'9'!$G$10","v":0},{"$f":"'9'!$H$10","v":0}]
[{"$f":"'10'!$D$2","v":0},{"$f":"'10'!$D$3","v":0},{"$f":"'10'!$D$4","v":0},{"$f":"'10'!$H$4","v":0},{"$f":"'10'!$G$10","v":0},{"$f":"'10'!$H$10","v":0}]
[{"$f":"'11'!$D$2","v":0},{"$f":"'11'!$D$3","v":0},{"$f":"'11'!$D$4","v":0},{"$f":"'11'!$H$4","v":0},{"$f":"'11'!$G$10","v":0},{"$f":"'11'!$H$10","v":0}]
[{"$f":"'12'!$D$2","v":0},{"$f":"'12'!$D$3","v":0},{"$f":"'12'!$D$4","v":0},{"$f":"'12'!$H$4","v":0},{"$f":"'12'!$G$10","v":0},{"$f":"'12'!$H$10","v":0}]
[{"$f":"'13'!$D$2","v":0},{"$f":"'13'!$D$3","v":0},{"$f":"'13'!$D$4","v":0},{"$f":"'13'!$H$4","v":0},{"$f":"'13'!$G$10","v":0},{"$f":"'13'!$H$10","v":0}]
[{"$f":"'14'!$D$2","v":0},{"$f":"'14'!$D$3","v":0},{"$f":"'14'!$D$4","v":0},{"$f":"'14'!$H$4","v":0},{"$f":"'14'!$G$10","v":0},{"$f":"'14'!$H$10","v":0}]
[{"$f":"'15'!$D$2","v":0},{"$f":"'15'!$D$3","v":0},{"$f":"'15'!$D$4","v":0},{"$f":"'15'!$H$4","v":0},{"$f":"'15'!$G$10","v":0},{"$f":"'15'!$H$10","v":0}]
[]
[]
[]
[]
[]
[]
[]
[]
[]
[]
[]
[]
[]
["5","Projekto vykdymas",null,null,{"$f":"SUM(E34:E56)","v":0},{"$f":"SUM(F34:F56)","v":0}]
[{"$f":"'1'!$D$2","v":0},{"$f":"'1'!$D$3","v":0},{"$f":"'1'!$D$4","v":0},{"$f":"'1'!$H$4","v":0},{"$f":"'1'!$G$21","v":0},{"$f":"'1'!$H$21","v":0}]
[{"$f":"'2'!$D$2","v":0},{"$f":"'2'!$D$3","v":0},{"$f":"'2'!$D$4","v":0},{"$f":"'2'!$H$4","v":0},{"$f":"'2'!$G$21","v":0},{"$f":"'2'!$H$21","v":0}]
[{"$f":"'3'!$D$2","v":0},{"$f":"'3'!$D$3","v":0},{"$f":"'3'!$D$4","v":0},{"$f":"'3'!$H$4","v":0},{"$f":"'3'!$G$21","v":0},{"$f":"'3'!$H$21","v":0}]
[{"$f":"'4'!$D$2","v":0},{"$f":"'4'!$D$3","v":0},{"$f":"'4'!$D$4","v":0},{"$f":"'4'!$H$4","v":0},{"$f":"'4'!$G$21","v":0},{"$f":"'4'!$H$21","v":0}]
[{"$f":"'5'!$D$2","v":0},{"$f":"'5'!$D$3","v":0},{"$f":"'5'!$D$4","v":0},{"$f":"'5'!$H$4","v":0},{"$f":"'5'!$G$21","v":0},{"$f":"'5'!$H$21","v":0}]
[{"$f":"'6'!$D$2","v":0},{"$f":"'6'!$D$3","v":0},{"$f":"'6'!$D$4","v":0},{"$f":"'6'!$H$4","v":0},{"$f":"'6'!$G$21","v":0},{"$f":"'6'!$H$21","v":0}]
[{"$f":"'7'!$D$2","v":0},{"$f":"'7'!$D$3","v":0},{"$f":"'7'!$D$4","v":0},{"$f":"'7'!$H$4","v":0},{"$f":"'7'!$G$21","v":0},{"$f":"'7'!$H$21","v":0}]
[{"$f":"'8'!$D$2","v":0},{"$f":"'8'!$D$3","v":0},{"$f":"'8'!$D$4","v":0},{"$f":"'8'!$H$4","v":0},{"$f":"'8'!$G$21","v":0},{"$f":"'8'!$H$21","v":0}]
[{"$f":"'9'!$D$2","v":0},{"$f":"'9'!$D$3","v":0},{"$f":"'9'!$D$4","v":0},{"$f":"'9'!$H$4","v":0},{"$f":"'9'!$G$21","v":0},{"$f":"'9'!$H$21","v":0}]
[{"$f":"'10'!$D$2","v":0},{"$f":"'10'!$D$3","v":0},{"$f":"'10'!$D$4","v":0},{"$f":"'10'!$H$4","v":0},{"$f":"'10'!$G$21","v":0},{"$f":"'10'!$H$21","v":0}]
[{"$f":"'11'!$D$2","v":0},{"$f":"'11'!$D$3","v":0},{"$f":"'11'!$D$4","v":0},{"$f":"'11'!$H$4","v":0},{"$f":"'11'!$G$21","v":0},{"$f":"'11'!$H$21","v":0}]
[{"$f":"'12'!$D$2","v":0},{"$f":"'12'!$D$3","v":0},{"$f":"'12'!$D$4","v":0},{"$f":"'12'!$H$4","v":0},{"$f":"'12'!$G$21","v":0},{"$f":"'12'!$H$21","v":0}]
[{"$f":"'13'!$D$2","v":0},{"$f":"'13'!$D$3","v":0},{"$f":"'13'!$D$4","v":0},{"$f":"'13'!$H$4","v":0},{"$f":"'13'!$G$21","v":0},{"$f":"'13'!$H$21","v":0}]
[{"$f":"'14'!$D$2","v":0},{"$f":"'14'!$D$3","v":0},{"$f":"'14'!$D$4","v":0},{"$f":"'14'!$H$4","v":0},{"$f":"'14'!$G$21","v":0},{"$f":"'14'!$H$21","v":0}]
[{"$f":"'15'!$D$2","v":0},{"$f":"'15'!$D$3","v":0},{"$f":"'15'!$D$4","v":0},{"$f":"'15'!$H$4","v":0},{"$f":"'15'!$G$21","v":0},{"$f":"'15'!$H$21","v":0}]
[]
[]
[]
[]
[]
[]
[]
[]
["Iš viso:",null,null,null,{"$f":"E4+E33","v":0},{"$f":"F4+F33","v":0}]
[]
["Veiklų, vykdomų pagal Aprašo 10.1 punktą, išlaidų suvestinė lentelė pagal išlaidų kategorijas (lentelė užsipildo automatiškai)"]
[]
["Fizinio rodiklio Nr.","Fizinio rodiklio pavadinimas","Tinkamų finansuoti išlaidų suma, Eur","Finansavimo suma, Eur"]
[4,"Įranga, įrenginiai ir kt. turtas",{"$f":"'1'!G10+'2'!G10+'3'!G10+'4'!G10+'5'!G10+'6'!G10+'7'!G10+'8'!G10+'9'!G10+'10'!G10+'11'!G10+'12'!G10+'13'!G10+'14'!G10+'15'!G10","v":0},{"$f":"'1'!H10+'2'!H10+'3'!H10+'4'!H10+'5'!H10+'6'!H10+'7'!H10+'8'!H10+'9'!H10+'10'!H10+'11'!H10+'12'!H10+'13'!H10+'14'!H10+'15'!H10","v":0}]
["5","Projekto vykdymas",{"$f":"'1'!G21+'2'!G21+'3'!G21+'4'!G21+'5'!G21+'6'!G21+'7'!G21+'8'!G21+'9'!G21+'10'!G21+'11'!G21+'12'!G21+'13'!G21+'14'!G21+'15'!G21","v":0},{"$f":"'1'!H21+'2'!H21+'3'!H21+'4'!H21+'5'!H21+'6'!H21+'7'!H21+'8'!H21+'9'!H21+'10'!H21+'11'!H21+'12'!H21+'13'!H21+'14'!H21+'15'!H21","v":0}]
["5.1","MTEP paslaugos",{"$f":"'1'!G22+'2'!G22+'3'!G22+'4'!G22+'5'!G22+'6'!G22+'7'!G22+'8'!G22+'9'!G22+'10'!G22+'11'!G22+'12'!G22+'13'!G22+'14'!G22+'15'!G22","v":0},{"$f":"'1'!H22+'2'!H22+'3'!H22+'4'!H22+'5'!H22+'6'!H22+'7'!H22+'8'!H22+'9'!H22+'10'!H22+'11'!H22+'12'!H22+'13'!H22+'14'!H22+'15'!H22","v":0}]
["5.2","Konsultavimo ir lygiavertės paslaugos, naudojamos vien tik projekto MTEP veiklai, išlaidos dėl MTEP veiklai reikalingų paslaugų",{"$f":"'1'!G33+'2'!G33+'3'!G33+'4'!G33+'5'!G33+'6'!G33+'7'!G33+'8'!G33+'9'!G33+'10'!G33+'11'!G33+'12'!G33+'13'!G33+'14'!G33+'15'!G33","v":0},{"$f":"'1'!H33+'2'!H33+'3'!H33+'4'!H33+'5'!H33+'6'!H33+'7'!H33+'8'!H33+'9'!H33+'10'!H33+'11'!H33+'12'!H33+'13'!H33+'14'!H33+'15'!H33","v":0}]
["5.3","Medžiagos, mažavertis inventorius, atsargos ir pan. produktai, priskirtini trumpalaikiam turtui ir tiesiogiai susiję su MTEP veikla",{"$f":"'1'!G44+'2'!G44+'3'!G44+'4'!G44+'5'!G44+'6'!G44+'7'!G44+'8'!G44+'9'!G44+'10'!G44+'11'!G44+'12'!G44+'13'!G44+'14'!G44+'15'!G44","v":0},{"$f":"'1'!H44+'2'!H44+'3'!H44+'4'!H44+'5'!H44+'6'!H44+'7'!H44+'8'!H44+'9'!H44+'10'!H44+'11'!H44+'12'!H44+'13'!H44+'14'!H44+'15'!H44","v":0}]
["5.4","Projekto MTEP veikloms naudojamo ilgalaikio materialaus turto (įrangos, prietaisų, įrankių, įrenginių, mašinų ir įrengimų, pastatų ir (ar) patalpų), nusidėvėjimo sąnaudos",{"$f":"'1'!G72+'2'!G72+'3'!G72+'4'!G72+'5'!G72+'6'!G72+'7'!G72+'8'!G72+'9'!G72+'10'!G72+'11'!G72+'12'!G72+'13'!G72+'14'!G72+'15'!G72","v":0},{"$f":"'1'!H72+'2'!H72+'3'!H72+'4'!H72+'5'!H72+'6'!H72+'7'!H72+'8'!H72+'9'!H72+'10'!H72+'11'!H72+'12'!H72+'13'!H72+'14'!H72+'15'!H72","v":0}]
["5.5","Projektą vykdančio personalo darbo užmokestis ir išlaidos su darbo santykiais susijusiems darbdavio įsipareigojimams",{"$f":"'1'!G102+'2'!G102+'3'!G102+'4'!G102+'5'!G102+'6'!G102+'7'!G102+'8'!G102+'9'!G102+'10'!G102+'11'!G102+'12'!G102+'13'!G102+'14'!G102+'15'!G102","v":0},{"$f":"'1'!H102+'2'!H102+'3'!H102+'4'!H102+'5'!H102+'6'!H102+'7'!H102+'8'!H102+'9'!H102+'10'!H102+'11'!H102+'12'!H102+'13'!H102+'14'!H102+'15'!H102","v":0}]
["5.6","Projektą vykdančio personalo komandiruočių išlaidos",{"$f":"'1'!G153+'2'!G153+'3'!G153+'4'!G153+'5'!G153+'6'!G153+'7'!G153+'8'!G153+'9'!G153+'10'!G153+'11'!G153+'12'!G153+'13'!G153+'14'!G153+'15'!G153","v":0},{"$f":"'1'!H153+'2'!H153+'3'!H153+'4'!H153+'5'!H153+'6'!H153+'7'!H153+'8'!H153+'9'!H153+'10'!H153+'11'!H153+'12'!H153+'13'!H153+'14'!H153+'15'!H153","v":0}]
["5.7","Įrangos nuomos išlaidos, veiklai priskirtos pro rata principu",{"$f":"'1'!G224+'2'!G224+'3'!G224+'4'!G224+'5'!G224+'6'!G224+'7'!G224+'8'!G224+'9'!G224+'10'!G224+'11'!G224+'12'!G224+'13'!G224+'14'!G224+'15'!G224","v":0},{"$f":"'1'!H224+'2'!H224+'3'!H224+'4'!H224+'5'!H224+'6'!H224+'7'!H224+'8'!H224+'9'!H224+'10'!H224+'11'!H224+'12'!H224+'13'!H224+'14'!H224+'15'!H224","v":0}]
["5.8","Pastatų ar patalpų nuomos išlaidos, veiklai priskirtos pro rata principu",{"$f":"'1'!G242+'2'!G242+'3'!G242+'4'!G242+'5'!G242+'6'!G242+'7'!G242+'8'!G242+'9'!G242+'10'!G242+'11'!G242+'12'!G242+'13'!G242+'14'!G242+'15'!G242","v":0},{"$f":"'1'!H242+'2'!H242+'3'!H242+'4'!H242+'5'!H242+'6'!H242+'7'!H242+'8'!H242+'9'!H242+'10'!H242+'11'!H242+'12'!H242+'13'!H242+'14'!H242+'15'!H242","v":0}]
["5.9","Projekto veikloms vykdyti reikalingų transporto priemonių nuomos išlaidos (išlaidos yra tinkamos finansuoti tik pagal Aprašą Nr. 2 vadovaujantis de minimis reglamento nuostatomis)",{"$f":"'1'!G248+'2'!G248+'3'!G248+'4'!G248+'5'!G248+'6'!G248+'7'!G248+'8'!G248+'9'!G248+'10'!G248+'11'!G248+'12'!G248+'13'!G248+'14'!G248+'15'!G248","v":0},{"$f":"'1'!H248+'2'!H248+'3'!H248+'4'!H248+'5'!H248+'6'!H248+'7'!H248+'8'!H248+'9'!H248+'10'!H248+'11'!H248+'12'!H248+'13'!H248+'14'!H248+'15'!H248","v":0}]
["7","Netiesioginės išlaidos ir kt. išlaidos pagal fiksuotąją projekto išlaidų normą",{"$f":"'Netiesioginės išlaidos'!H14","v":0},{"$f":"'Netiesioginės išlaidos'!H15","v":0}]
["Iš viso:",null,{"$f":"C62+C63+C73","v":0},{"$f":"D62+D63+D73","v":0}]
[]
[]
[]
["4, 5.1 ir 5.2 biudžeto eilučių suma ir procentinė dalis",null,{"$f":"C62+C64+C65","v":0},{"$f":"IFERROR(C78/C74, \"0%\")","v":"0%"},{"$f":"IF(C78>(C74*0.5),\"DĖMESIO! Patikrinkite, ar biudžeto eilučių Nr. 4, 5.1 ir 5.2 suma neviršija 50 proc. Aprašo 10.1 veiklai skirtų tinkamų finansuoti išlaidų\",\"\")","v":""}]
["5.8, 5.9 ir 7 biudžeto eilučių suma ir procentinė dalis",null,{"$f":"C71+C73","v":0},{"$f":"IFERROR(C79/C74, \"0%\")","v":"0%"},{"$f":"IF(C79>(C74*0.1),\"DĖMESIO! Patikrinkite, ar biudžeto eilučių Nr. 5.8, 5.9 ir 7 suma neviršija 10 proc. Aprašo 10.1 veiklai skirtų tinkamų finansuoti išlaidų\",\"\")","v":""}]
["5.4 biudžeto eilutės suma ir procentinė dalis",null,{"$f":"C67","v":0},{"$f":"IFERROR(C80/C74, \"0%\")","v":"0%"},{"$f":"IF(C80>(C74*0.5),\"DĖMESIO! Patikrinkite, ar biudžeto eilutės Nr. 5.4 suma neviršija 50 proc. Aprašo 10.1 veiklai skirtų tinkamų finansuoti išlaidų \",\"\")","v":""}]

{"sheet":"1","index":3,"n_rows":254,"n_cols":18,"rows_kept":254,"cut":false,"hidden":false,"merged":[[225,1,225,2],[89,1,89,2],[100,1,100,2],[101,1,101,5],[152,1,152,5],[76,1,76,2],[77,1,77,2],[78,1,78,2],[79,1,79,2],[80,1,80,2],[81,1,81,2],[82,1,82,2],[83,1,83,2],[84,1,84,2],[167,8,173,8],[174,8,180,8],[181,8,187,8],[188,8,194,8],[195,8,201,8],[147,6,151,6],[147,7,151,7],[147,8,151,8],[132,6,136,6],[132,7,136,7],[132,8,136,8],[153,8,159,8],[160,8,166,8],[202,8,208,8],[209,8,215,8],[216,8,222,8],[188,0,194,0],[188,1,194,1],[195,0,201,0],[195,1,201,1],[202,0,208,0],[202,1,208,1],[209,0,215,0],[209,1,215,1],[216,0,222,0],[216,1,222,1],[153,0,159,0],[153,1,159,1],[160,0,166,0],[160,1,166,1],[167,0,173,0],[167,1,173,1],[174,0,180,0],[174,1,180,1],[181,0,187,0],[181,1,187,1],[142,0,146,0],[142,1,146,1],[142,3,146,3],[142,4,146,4],[142,5,146,5],[142,6,146,6],[142,7,146,7],[142,8,146,8],[147,0,151,0],[147,1,151,1],[147,3,151,3],[147,4,151,4],[147,5,151,5],[137,0,141,0],[137,1,141,1],[137,3,141,3],[137,4,141,4],[137,5,141,5],[137,6,141,6],[137,7,141,7],[137,8,141,8],[132,0,136,0],[132,1,136,1],[132,3,136,3],[132,4,136,4],[132,5,136,5],[127,0,131,0],[127,1,131,1],[127,3,131,3],[127,4,131,4],[127,5,131,5],[127,6,131,6],[127,7,131,7],[127,8,131,8],[122,0,126,0],[122,1,126,1],[122,3,126,3],[122,4,126,4],[122,5,126,5],[122,6,126,6],[122,7,126,7],[122,8,126,8],[117,0,121,0],[117,1,121,1],[117,3,121,3],[117,4,121,4],[117,5,121,5],[117,6,121,6],[117,7,121,7],[117,8,121,8],[112,0,116,0],[112,1,116,1],[112,3,116,3],[112,4,116,4],[112,5,116,5],[112,6,116,6],[112,7,116,7],[112,8,116,8],[43,1,43,5],[85,1,85,2],[86,1,86,2],[102,6,106,6],[102,7,106,7],[102,8,106,8],[107,0,111,0],[107,1,111,1],[107,3,111,3],[107,4,111,4],[107,5,111,5],[107,6,111,6],[107,7,111,7],[107,8,111,8],[102,1,106,1],[102,3,106,3],[102,4,106,4],[102,5,106,5],[59,1,59,2],[74,1,74,2],[102,0,106,0],[60,1,60,2],[61,1,61,2],[62,1,62,2],[63,1,63,2],[64,1,64,2],[73,1,73,2],[75,1,75,2],[69,1,69,2],[90,1,90,2],[91,1,91,2],[92,1,92,2],[93,1,93,2],[13,1,13,2],[14,1,14,2],[15,1,15,2],[16,1,16,2],[17,1,17,2],[18,1,18,2],[19,1,19,2],[30,1,30,2],[22,1,22,2],[23,1,23,2],[24,1,24,2],[25,1,25,2],[26,1,26,2],[20,1,20,5],[27,1,27,2],[28,1,28,2],[29,1,29,2],[21,1,21,5],[2,0,2,2],[2,3,2,8],[8,1,8,2],[0,3,0,8],[9,1,9,5],[10,1,10,2],[11,1,11,2],[12,1,12,2],[4,0,4,2],[4,3,4,8],[3,3,3,4],[3,5,3,6],[5,3,5,8],[33,1,33,2],[34,1,34,2],[35,1,35,2],[36,1,36,2],[37,1,37,2],[31,1,31,2],[87,1,87,2],[40,1,40,2],[41,1,41,2],[42,1,42,2],[44,1,44,2],[45,1,45,2],[46,1,46,2],[47,1,47,2],[48,1,48,2],[70,1,70,2],[72,1,72,2],[38,1,38,2],[68,1,68,2],[32,1,32,5],[71,1,71,5],[49,1,49,2],[50,1,50,2],[39,1,39,2],[253,0,253,5],[223,1,223,5],[224,1,224,2],[237,1,237,2],[238,1,238,2],[239,1,239,2],[240,1,240,2],[245,1,245,2],[246,1,246,2],[241,1,241,5],[242,1,242,2],[243,1,243,2],[244,1,244,2],[226,1,226,2],[227,1,227,2],[228,1,228,2],[229,1,229,2],[230,1,230,2],[231,1,231,2],[232,1,232,2],[233,1,233,2],[234,1,234,2],[235,1,235,2],[247,1,247,5],[248,1,248,2],[249,1,249,2],[250,1,250,2],[251,1,251,2],[252,1,252,2],[51,1,51,2],[52,1,52,2],[99,1,99,2],[88,1,88,2],[94,1,94,2],[95,1,95,2],[96,1,96,2],[97,1,97,2],[98,1,98,2],[65,1,65,2],[66,1,66,2],[67,1,67,2],[53,1,53,2],[54,1,54,2],[55,1,55,2],[56,1,56,2],[57,1,57,2],[58,1,58,2],[236,1,236,2]]}
[null,null,"Pasirinkite veiklos tipą:"]
[null,null,"Fizinio rodiklio Nr.:"]
["Fizinio rodiklio pavadinimas:"]
[null,null,"Fizinio rodiklio matavimo vnt.:",null,null,"Fizinio rodiklio vnt. skaičius:"]
["Juridinis asmuo (pareiškėjas, partneris), atsakingas už fizinį rodiklį:"]
[null,null,"Vykdytojo tipas:"]
[null,null,"Finansavimo intensyvumas:",null,null,null,"Pasirinkite biudžeto išlaidų kategoriją:","Visos"]
[]
["Eil. Nr.","Išlaidų kategorijos pavadinimas",null,"Matavimo vnt.","Kiekis","Vieneto kaina be PVM, Eur","Tinkamų finansuoti išlaidų suma be PVM, Eur","Finansavimo suma, Eur","Išlaidų pagrindimo dokumentų pavadinimas, data ir Nr."]
[4,"ĮRANGA, ĮRENGINIAI IR KT. TURTAS (techninių žinių ir išradimų patentų arba teisių pagal licencijų sutartį įsigijimo išlaidos)",null,null,null,null,{"$f":"SUM(G11:G20)","v":0},{"$f":"SUM(H11:H20)","v":0}]
["4.1","Išlaidų pavadinimas",null,null,null,null,{"$f":"ROUND(E11*F11,2)","v":0},{"$f":"ROUND(G11*$D$7,2)","v":0}]
["4.2","Išlaidų pavadinimas",null,null,null,null,0,0]
["4.3","Išlaidų pavadinimas",null,null,null,null,0,0]
["4.4","Išlaidų pavadinimas",null,null,null,null,0,0]
["4.5","Išlaidų pavadinimas",null,null,null,null,0,0]
["4.6","Išlaidų pavadinimas",null,null,null,null,0,0]
["4.7","Išlaidų pavadinimas",null,null,null,null,0,0]
["4.8","Išlaidų pavadinimas",null,null,null,null,0,0]
["4.9","Išlaidų pavadinimas",null,null,null,null,0,0]
["4.10","Išlaidų pavadinimas",null,null,null,null,0,0]
[5,"PROJEKTO VYKDYMAS",null,null,null,null,{"$f":"G22+G33+G44+G72+G102+G153+G224+G242+G248","v":0},{"$f":"H22+H33+H44+H72+H102+H153+H224+H242+H248","v":0}]
["5.1","MTEP paslaugos",null,null,null,null,{"$f":"SUM(G23:G32)","v":0},{"$f":"SUM(H23:H32)","v":0}]
["5.1.1","Paslaugos pavadinimas",null,null,null,null,{"$f":"ROUND(E23*F23,2)","v":0},0]
["5.1.2","Paslaugos pavadinimas",null,null,null,null,0,0]
["5.1.3","Paslaugos pavadinimas",null,null,null,null,0,0]
["5.1.4","Paslaugos pavadinimas",null,null,null,null,0,0]
["5.1.5","Paslaugos pavadinimas",null,null,null,null,0,0]
["5.1.6","Paslaugos pavadinimas",null,null,null,null,0,0]
["5.1.7","Paslaugos pavadinimas",null,null,null,null,0,0]
["5.1.8","Paslaugos pavadinimas",null,null,null,null,0,0]
["5.1.9","Paslaugos pavadinimas",null,null,null,null,0,0]
["5.1.10","Paslaugos pavadinimas",null,null,null,null,0,0]
["5.2","Konsultavimo ir lygiavertės paslaugos, teikiamos vien tik projekto MTEP veiklai.",null,null,null,null,{"$f":"SUM(G34:G43)","v":0},{"$f":"SUM(H34:H43)","v":0}]
["5.2.1","Paslaugos pavadinimas",null,null,null,null,{"$f":"ROUND(E34*F34,2)","v":0},0]
["5.2.2","Paslaugos pavadinimas",null,null,null,null,0,0]
["5.2.3","Paslaugos pavadinimas",null,null,null,null,0,0]
["5.2.4","Paslaugos pavadinimas",null,null,null,null,0,0]
["5.2.5","Paslaugos pavadinimas",null,null,null,null,0,0]
["5.2.6","Paslaugos pavadinimas",null,null,null,null,0,0]
["5.2.7","Paslaugos pavadinimas",null,null,null,null,0,0]
["5.2.8","Paslaugos pavadinimas",null,null,null,null,0,0]
["5.2.9","Paslaugos pavadinimas",null,null,null,null,0,0]
["5.2.10","Paslaugos pavadinimas",null,null,null,null,0,0]
["5.3","Medžiagos, mažavertis inventorius, atsargos ir pan. produktai, priskirtini trumpalaikiam turtui ir tiesiogiai susiję su MTEP veikla",null,null,null,null,{"$f":"SUM(G45:G71)","v":0},{"$f":"SUM(H45:H71)","v":0}]
["5.3.1","Išlaidų pavadinimas",null,null,null,null,{"$f":"ROUND(E45*F45,2)","v":0},{"$f":"ROUND(G45*$D$7,2)","v":0}]
["5.3.2","Išlaidų pavadinimas",null,null,null,null,{"$f":"ROUND(E46*F46,2)","v":0},{"$f":"ROUND(G46*$D$7,2)","v":0}]
["5.3.3","Išlaidų pavadinimas",null,null,null,null,{"$f":"ROUND(E47*F47,2)","v":0},{"$f":"ROUND(G47*$D$7,2)","v":0}]
["5.3.4","Išlaidų pavadinimas",null,null,null,null,{"$f":"ROUND(E48*F48,2)","v":0},{"$f":"ROUND(G48*$D$7,2)","v":0}]
["5.3.5","Išlaidų pavadinimas",null,null,null,null,{"$f":"ROUND(E49*F49,2)","v":0},{"$f":"ROUND(G49*$D$7,2)","v":0}]
["5.3.6","Išlaidų pavadinimas",null,null,null,null,0,0]
["5.3.7","Išlaidų pavadinimas",null,null,null,null,0,0]
["5.3.8","Išlaidų pavadinimas",null,null,null,null,0,0]
["5.3.9","Išlaidų pavadinimas",null,null,null,null,0,0]
["5.3.10","Išlaidų pavadinimas",null,null,null,null,0,0]
["5.3.11","Išlaidų pavadinimas",null,null,null,null,0,0]
["5.3.12","Išlaidų pavadinimas",null,null,null,null,0,0]
["5.3.13","Išlaidų pavadinimas",null,null,null,null,0,0]
["5.3.14","Išlaidų pavadinimas",null,null,null,null,0,0]
["5.3.15","Išlaidų pavadinimas",null,null,null,null,0,0]
["5.3.16","Išlaidų pavadinimas",null,null,null,null,0,0]
["5.3.17","Išlaidų pavadinimas",null,null,null,null,0,0]
["5.3.18","Išlaidų pavadinimas",null,null,null,null,0,0]
["5.3.19","Išlaidų pavadinimas",null,null,null,null,0,0]
["5.3.20","Išlaidų pavadinimas",null,null,null,null,0,0]
["5.3.21","Išlaidų pavadinimas",null,null,null,null,0,0]
["5.3.22","Išlaidų pavadinimas",null,null,null,null,0,0]
["5.3.23","Išlaidų pavadinimas",null,null,null,null,0,0]
["5.3.24","Išlaidų pavadinimas",null,null,null,null,0,0]
["5.3.25","Išlaidų pavadinimas",null,null,null,null,0,0]
["5.3.26","Išlaidų pavadinimas",null,null,null,null,0,0]
["5.3.27","Išlaidų pavadinimas",null,null,null,null,0,0]
["5.4","Projekto MTEP veikloms naudojamo ilgalaikio materialaus turto (įrangos, prietaisų, įrankių, įrenginių, mašinų ir įrengimų, pastatų ir (ar) patalpų), nusidėvėjimo sąnaudos, jeigu šiam turtui įsigyti nebuvo naudojamos viešosios (įskaitant ir kitų valstybių) lėšos",null,null,null,null,{"$f":"SUM(G73:G101)","v":0},{"$f":"SUM(H73:H101)","v":0},null,"Turto įvedimo į eksploataciją data","Turto įsigijimo vertė, Eur","Turto nudėvėjimo, amortizacijos laikotarpis, mėn.","Numatoma turto likutinė vertė, Eur","1 mėn. nudėvėjimo, amortizacijos suma, Eur","Turto naudojamo projekto reikmėms laikas, mėn.","Turto panaudojimo projekto reikmėms dalis (proc.)","Projektui priskirta turto nusidėvėjimo, amortizacijos suma per projekto laikotarpį, Eur"]
["5.4.1","Turtas, kurio nusidėvėjimą, amortizaciją prašoma finansuoti",null,null,1,{"$f":"Q73","v":0},{"$f":"ROUND(E73*F73,2)","v":0},0,null,null,null,null,null,{"$f":"IFERROR(ROUND((K73-M73)/L73,2),\"0\")","v":"0"},null,null,{"$f":"N73*O73*P73","v":0},{"$f":"IF(J73=0,\" \",IF(J73+(L73*30.5)<TODAY(),\"DĖMESIO! Patikrinkite, ar nurodytas turtas dar nėra nudėvėtas, amortizuotas\",\" \"))","v":" "}]
["5.4.2","Turtas, kurio nusidėvėjimą, amortizaciją prašoma finansuoti",null,null,1,0,0,0,null,null,null,null,null,{"$f":"IFERROR(ROUND((K74-M74)/L74,2),\"0\")","v":"0"},null,null,{"$f":"N74*O74*P74","v":0},{"$f":"IF(J74=0,\" \",IF(J74+(L74*30.5)<TODAY(),\"DĖMESIO! Patikrinkite, ar nurodytas turtas dar nėra nudėvėtas, amortizuotas\",\" \"))","v":" "}]
["5.4.3","Turtas, kurio nusidėvėjimą, amortizaciją prašoma finansuoti",null,null,1,0,0,0,null,null,null,null,null,"0",null,null,0," "]
["5.4.4","Turtas, kurio nusidėvėjimą, amortizaciją prašoma finansuoti",null,null,1,0,0,0,null,null,null,null,null,"0",null,null,0," "]
["5.4.5","Turtas, kurio nusidėvėjimą, amortizaciją prašoma finansuoti",null,null,1,0,0,0,null,null,null,null,null,"0",null,null,0," "]
["5.4.6","Turtas, kurio nusidėvėjimą, amortizaciją prašoma finansuoti",null,null,1,0,0,0,null,null,null,null,null,"0",null,null,0," "]
["5.4.7","Turtas, kurio nusidėvėjimą, amortizaciją prašoma finansuoti",null,null,1,0,0,0,null,null,null,null,null,"0",null,null,0," "]
["5.4.8","Turtas, kurio nusidėvėjimą, amortizaciją prašoma finansuoti",null,null,1,0,0,0,null,null,null,null,null,"0",null,null,0," "]
["5.4.9","Turtas, kurio nusidėvėjimą, amortizaciją prašoma finansuoti",null,null,1,0,0,0,null,null,null,null,null,"0",null,null,0," "]
["5.4.10","Turtas, kurio nusidėvėjimą, amortizaciją prašoma finansuoti",null,null,1,0,0,0,null,null,null,null,null,"0",null,null,0," "]
["5.4.11","Turtas, kurio nusidėvėjimą, amortizaciją prašoma finansuoti",null,null,1,0,0,0,null,null,null,null,null,"0",null,null,0," "]
["5.4.12","Turtas, kurio nusidėvėjimą, amortizaciją prašoma finansuoti",null,null,1,0,0,0,null,null,null,null,null,"0",null,null,0," "]
["5.4.13","Turtas, kurio nusidėvėjimą, amortizaciją prašoma finansuoti",null,null,1,0,0,0,null,null,null,null,null,"0",null,null,0," "]
["5.4.14","Turtas, kurio nusidėvėjimą, amortizaciją prašoma finansuoti",null,null,1,0,0,0,null,null,null,null,null,"0",null,null,0," "]
["5.4.15","Turtas, kurio nusidėvėjimą, amortizaciją prašoma finansuoti",null,null,1,0,0,0,null,null,null,null,null,"0",null,null,0," "]
["5.4.16","Turtas, kurio nusidėvėjimą, amortizaciją prašoma finansuoti",null,null,1,{"$f":"Q88","v":0},0,0,null,null,null,null,null,{"$f":"IFERROR(ROUND((K88-M88)/L88,2),\"0\")","v":"0"},null,null,{"$f":"N88*O88*P88","v":0}," "]
["5.4.17","Turtas, kurio nusidėvėjimą, amortizaciją prašoma finansuoti",null,null,1,0,0,0,null,null,null,null,null,"0",null,null,0," "]
["5.4.18","Turtas, kurio nusidėvėjimą, amortizaciją prašoma finansuoti",null,null,1,{"$f":"Q90","v":0},{"$f":"ROUND(E90*F90,2)","v":0},{"$f":"ROUND(G90*$D$7,2)","v":0},null,null,null,null,null,"0",null,null,0," "]
["5.4.19","Turtas, kurio nusidėvėjimą, amortizaciją prašoma finansuoti",null,null,1,0,0,0,null,null,null,null,null,"0",null,null,0," "]
["5.4.20","Turtas, kurio nusidėvėjimą, amortizaciją prašoma finansuoti",null,null,1,0,0,0,null,null,null,null,null,"0",null,null,0," "]
["5.4.21","Turtas, kurio nusidėvėjimą, amortizaciją prašoma finansuoti",null,null,1,0,0,0,null,null,null,null,null,"0",null,null,0," "]
["5.4.22","Turtas, kurio nusidėvėjimą, amortizaciją prašoma finansuoti",null,null,1,0,0,0,null,null,null,null,null,"0",null,null,0," "]
["5.4.23","Turtas, kurio nusidėvėjimą, amortizaciją prašoma finansuoti",null,null,1,0,0,0,null,null,null,null,null,"0",null,null,0," "]
["5.4.24","Turtas, kurio nusidėvėjimą, amortizaciją prašoma finansuoti",null,null,1,0,0,0,null,null,null,null,null,"0",null,null,0," "]
["5.4.25","Turtas, kurio nusidėvėjimą, amortizaciją prašoma finansuoti",null,null,1,0,0,0,null,null,null,null,null,"0",null,null,0," "]
["5.4.26","Turtas, kurio nusidėvėjimą, amortizaciją prašoma finansuoti",null,null,1,0,0,0,null,null,null,null,null,"0",null,null,0," "]
["5.4.27","Turtas, kurio nusidėvėjimą, amortizaciją prašoma finansuoti",null,null,1,0,0,0,null,null,null,null,null,"0",null,null,0," "]
["5.4.28","Turtas, kurio nusidėvėjimą, amortizaciją prašoma finansuoti",null,null,1,0,0,0,null,null,null,null,null,"0",null,null,0," "]
["5.4.29","Turtas, kurio nusidėvėjimą, amortizaciją prašoma finansuoti",null,null,1,0,0,0,null,null,null,null,null,"0",null,null,0," "]
["5.5","Projektą vykdančio personalo darbo užmokestis ir išlaidos su darbo santykiais susijusiems darbdavio įsipareigojimams",null,null,null,null,{"$f":"SUM(G103:G152)","v":0},{"$f":"SUM(H103:H152)","v":0},null,"Faktiškai gaunamas darbo užmokesti už 1 valandą pagal  pastarųjų 6 mėn. vidurkį, Eur"]
["5.5.1","Pareigybės pavadinimas","Darbuotojo vardas pavardė","val.",null,{"$f":"IFERROR(ROUND(AVERAGE(J103:J107),2),\"0\")","v":"0"},{"$f":"ROUND(E103*F103,2)","v":0},{"$f":"ROUND(G103*$D$7,2)","v":0}]
[null,null,"Darbuotojo vardas pavardė"]
[null,null,"Darbuotojo vardas pavardė"]
[null,null,"Darbuotojo vardas pavardė"]
[null,null,"Darbuotojo vardas pavardė"]
["5.5.2","Pareigybės pavadinimas","Darbuotojo vardas pavardė","val.",null,{"$f":"IFERROR(ROUND(AVERAGE(J108:J112),2),\"0\")","v":"0"},{"$f":"ROUND(E108*F108,2)","v":0},{"$f":"ROUND(G108*$D$7,2)","v":0}]
[null,null,"Darbuotojo vardas pavardė"]
[null,null,"Darbuotojo vardas pavardė"]
[null,null,"Darbuotojo vardas pavardė"]
[null,null,"Darbuotojo vardas pavardė"]
["5.5.3","Pareigybės pavadinimas","Darbuotojo vardas pavardė","val.",null,{"$f":"IFERROR(ROUND(AVERAGE(J113:J117),2),\"0\")","v":"0"},{"$f":"ROUND(E113*F113,2)","v":0},{"$f":"ROUND(G113*$D$7,2)","v":0}]
[null,null,"Darbuotojo vardas pavardė"]
[null,null,"Darbuotojo vardas pavardė"]
[null,null,"Darbuotojo vardas pavardė"]
[null,null,"Darbuotojo vardas pavardė"]
["5.5.4","Pareigybės pavadinimas","Darbuotojo vardas pavardė","val.",null,{"$f":"IFERROR(ROUND(AVERAGE(J118:J122),2),\"0\")","v":"0"},{"$f":"ROUND(E118*F118,2)","v":0},{"$f":"ROUND(G118*$D$7,2)","v":0}]
[null,null,"Darbuotojo vardas pavardė"]
[null,null,"Darbuotojo vardas pavardė"]
[null,null,"Darbuotojo vardas pavardė"]
[null,null,"Darbuotojo vardas pavardė"]
["5.5.5","Pareigybės pavadinimas","Darbuotojo vardas pavardė","val.",null,{"$f":"IFERROR(ROUND(AVERAGE(J123:J127),2),\"0\")","v":"0"},{"$f":"ROUND(E123*F123,2)","v":0},{"$f":"ROUND(G123*$D$7,2)","v":0}]
[null,null,"Darbuotojo vardas pavardė"]
[null,null,"Darbuotojo vardas pavardė"]
[null,null,"Darbuotojo vardas pavardė"]
[null,null,"Darbuotojo vardas pavardė"]
["5.5.6","Pareigybės pavadinimas","Darbuotojo vardas pavardė","val.",null,{"$f":"IFERROR(ROUND(AVERAGE(J128:J132),2),\"0\")","v":"0"},{"$f":"ROUND(E128*F128,2)","v":0},{"$f":"ROUND(G128*$D$7,2)","v":0}]
[null,null,"Darbuotojo vardas pavardė"]
[null,null,"Darbuotojo vardas pavardė"]
[null,null,"Darbuotojo vardas pavardė"]
[null,null,"Darbuotojo vardas pavardė"]
["5.5.7","Pareigybės pavadinimas","Darbuotojo vardas pavardė","val.",null,{"$f":"IFERROR(ROUND(AVERAGE(J133:J137),2),\"0\")","v":"0"},{"$f":"ROUND(E133*F133,2)","v":0},{"$f":"ROUND(G133*$D$7,2)","v":0}]
[null,null,"Darbuotojo vardas pavardė"]
[null,null,"Darbuotojo vardas pavardė"]
[null,null,"Darbuotojo vardas pavardė"]
[null,null,"Darbuotojo vardas pavardė"]
["5.5.8","Pareigybės pavadinimas","Darbuotojo vardas pavardė","val.",null,{"$f":"IFERROR(ROUND(AVERAGE(J138:J142),2),\"0\")","v":"0"},{"$f":"ROUND(E138*F138,2)","v":0},{"$f":"ROUND(G138*$D$7,2)","v":0}]
[null,null,"Darbuotojo vardas pavardė"]
[null,null,"Darbuotojo vardas pavardė"]
[null,null,"Darbuotojo vardas pavardė"]
[null,null,"Darbuotojo vardas pavardė"]
["5.5.9","Pareigybės pavadinimas","Darbuotojo vardas pavardė","val.",null,{"$f":"IFERROR(ROUND(AVERAGE(J143:J147),2),\"0\")","v":"0"},{"$f":"ROUND(E143*F143,2)","v":0},{"$f":"ROUND(G143*$D$7,2)","v":0}]
[null,null,"Darbuotojo vardas pavardė"]
[null,null,"Darbuotojo vardas pavardė"]
[null,null,"Darbuotojo vardas pavardė"]
[null,null,"Darbuotojo vardas pavardė"]
["5.5.10","Pareigybės pavadinimas","Darbuotojo vardas pavardė","val.",null,{"$f":"IFERROR(ROUND(AVERAGE(J148:J152),2),\"0\")","v":"0"},{"$f":"ROUND(E148*F148,2)","v":0},{"$f":"ROUND(G148*$D$7,2)","v":0}]
[null,null,"Darbuotojo vardas pavardė"]
[null,null,"Darbuotojo vardas pavardė"]
[null,null,"Darbuotojo vardas pavardė"]
[null,null,"Darbuotojo vardas pavardė"]
["5.6","Projektą vykdančio personalo komandiruočių išlaidos",null,null,null,null,{"$f":"SUM(G154,G161,G168,G175,G182,G189,G196,G203,G210,G217)","v":0},{"$f":"SUM(H154,H161,H168,H175,H182,H189,H196,H203,H210,H217)","v":0}]
["5.6.1","Komandiruotės pavadinimas, vieta, trukmė dienomis, vykstančių asmenų skaičius","Iš viso komandiruotei",null,null,null,{"$f":"SUM(G155:G160)","v":0},{"$f":"ROUND(G154*$D$7,2)","v":0}]
[null,null,"Dienpinigiai",null,null,null,{"$f":"ROUND(E155*F155,2)","v":0}]
[null,null,"Gyvenamojo ploto nuoma",null,null,null,0]
[null,null,"Kelionės išlaidos",null,null,null,0]
[null,null,"Dalyvavimo mokestis",null,null,null,0]
[null,null,"Kitos išlaidų pavadinimas",null,null,null,0]
[null,null,"Kitos išlaidų pavadinimas",null,null,null,0]
["5.6.2","Komandiruotės pavadinimas, vieta, trukmė dienomis, vykstančių asmenų skaičius","Iš viso komandiruotei",null,null,null,{"$f":"SUM(G162:G167)","v":0},{"$f":"ROUND(G161*$D$7,2)","v":0}]
[null,null,"Dienpinigiai",null,null,null,{"$f":"ROUND(E162*F162,2)","v":0}]
[null,null,"Gyvenamojo ploto nuoma",null,null,null,0]
[null,null,"Kelionės išlaidos",null,null,null,0]
[null,null,"Dalyvavimo mokestis",null,null,null,0]
[null,null,"Kitos išlaidų pavadinimas",null,null,null,0]
[null,null,"Kitos išlaidų pavadinimas",null,null,null,0]
["5.6.3","Komandiruotės pavadinimas, vieta, trukmė dienomis, vykstančių asmenų skaičius","Iš viso komandiruotei",null,null,null,{"$f":"SUM(G169:G174)","v":0},{"$f":"ROUND(G168*$D$7,2)","v":0}]
[null,null,"Dienpinigiai",null,null,null,{"$f":"ROUND(E169*F169,2)","v":0}]
[null,null,"Gyvenamojo ploto nuoma",null,null,null,0]
[null,null,"Kelionės išlaidos",null,null,null,0]
[null,null,"Dalyvavimo mokestis",null,null,null,0]
[null,null,"Kitos išlaidų pavadinimas",null,null,null,0]
[null,null,"Kitos išlaidų pavadinimas",null,null,null,0]
["5.6.4","Komandiruotės pavadinimas, vieta, trukmė dienomis, vykstančių asmenų skaičius","Iš viso komandiruotei",null,null,null,{"$f":"SUM(G176:G181)","v":0},{"$f":"ROUND(G175*$D$7,2)","v":0}]
[null,null,"Dienpinigiai",null,null,null,{"$f":"ROUND(E176*F176,2)","v":0}]
[null,null,"Gyvenamojo ploto nuoma",null,null,null,0]
[null,null,"Kelionės išlaidos",null,null,null,0]
[null,null,"Dalyvavimo mokestis",null,null,null,0]
[null,null,"Kitos išlaidų pavadinimas",null,null,null,0]
[null,null,"Kitos išlaidų pavadinimas",null,null,null,0]
["5.6.5","Komandiruotės pavadinimas, vieta, trukmė dienomis, vykstančių asmenų skaičius","Iš viso komandiruotei",null,null,null,{"$f":"SUM(G183:G188)","v":0},{"$f":"ROUND(G182*$D$7,2)","v":0}]
[null,null,"Dienpinigiai",null,null,null,{"$f":"ROUND(E183*F183,2)","v":0}]
[null,null,"Gyvenamojo ploto nuoma",null,null,null,0]
[null,null,"Kelionės išlaidos",null,null,null,0]
[null,null,"Dalyvavimo mokestis",null,null,null,0]
[null,null,"Kitos išlaidų pavadinimas",null,null,null,0]
[null,null,"Kitos išlaidų pavadinimas",null,null,null,0]
["5.6.6","Komandiruotės pavadinimas, vieta, trukmė dienomis, vykstančių asmenų skaičius","Iš viso komandiruotei",null,null,null,{"$f":"SUM(G190:G195)","v":0},{"$f":"ROUND(G189*$D$7,2)","v":0}]
[null,null,"Dienpinigiai",null,null,null,{"$f":"ROUND(E190*F190,2)","v":0}]
[null,null,"Gyvenamojo ploto nuoma",null,null,null,0]
[null,null,"Kelionės išlaidos",null,null,null,0]
[null,null,"Dalyvavimo mokestis",null,null,null,0]
[null,null,"Kitos išlaidų pavadinimas",null,null,null,0]
[null,null,"Kitos išlaidų pavadinimas",null,null,null,0]
["5.6.7","Komandiruotės pavadinimas, vieta, trukmė dienomis, vykstančių asmenų skaičius","Iš viso komandiruotei",null,null,null,{"$f":"SUM(G197:G202)","v":0},{"$f":"ROUND(G196*$D$7,2)","v":0}]
[null,null,"Dienpinigiai",null,null,null,{"$f":"ROUND(E197*F197,2)","v":0}]
[null,null,"Gyvenamojo ploto nuoma",null,null,null,0]
[null,null,"Kelionės išlaidos",null,null,null,0]
[null,null,"Dalyvavimo mokestis",null,null,null,0]
[null,null,"Kitos išlaidų pavadinimas",null,null,null,0]
[null,null,"Kitos išlaidų pavadinimas",null,null,null,0]
["5.6.8","Komandiruotės pavadinimas, vieta, trukmė dienomis, vykstančių asmenų skaičius","Iš viso komandiruotei",null,null,null,{"$f":"SUM(G204:G209)","v":0},{"$f":"ROUND(G203*$D$7,2)","v":0}]
[null,null,"Dienpinigiai",null,null,null,{"$f":"ROUND(E204*F204,2)","v":0}]
[null,null,"Gyvenamojo ploto nuoma",null,null,null,0]
[null,null,"Kelionės išlaidos",null,null,null,0]
[null,null,"Dalyvavimo mokestis",null,null,null,0]
[null,null,"Kitos išlaidų pavadinimas",null,null,null,0]
[null,null,"Kitos išlaidų pavadinimas",null,null,null,0]
["5.6.9","Komandiruotės pavadinimas, vieta, trukmė dienomis, vykstančių asmenų skaičius","Iš viso komandiruotei",null,null,null,{"$f":"SUM(G211:G216)","v":0},{"$f":"ROUND(G210*$D$7,2)","v":0}]
[null,null,"Dienpinigiai",null,null,null,{"$f":"ROUND(E211*F211,2)","v":0}]
[null,null,"Gyvenamojo ploto nuoma",null,null,null,0]
[null,null,"Kelionės išlaidos",null,null,null,0]
[null,null,"Dalyvavimo mokestis",null,null,null,0]
[null,null,"Kitos išlaidų pavadinimas",null,null,null,0]
[null,null,"Kitos išlaidų pavadinimas",null,null,null,0]
["5.6.10","Komandiruotės pavadinimas, vieta, trukmė dienomis, vykstančių asmenų skaičius","Iš viso komandiruotei",null,null,null,{"$f":"SUM(G218:G223)","v":0},{"$f":"ROUND(G217*$D$7,2)","v":0}]
[null,null,"Dienpinigiai",null,null,null,{"$f":"ROUND(E218*F218,2)","v":0}]
[null,null,"Gyvenamojo ploto nuoma",null,null,null,0]
[null,null,"Kelionės išlaidos",null,null,null,0]
[null,null,"Dalyvavimo mokestis",null,null,null,0]
[null,null,"Kitos išlaidų pavadinimas",null,null,null,0]
[null,null,"Kitos išlaidų pavadinimas",null,null,null,0]
["5.7","Įrangos nuomos išlaidos, veiklai priskirtos pro rata principu. Įranga turi būti tiesiogiai susijusi su projekto įgyvendinimu ir negali būti įsigyta iš ES struktūrinių fondų ar kt. ES finansinių priemonių lėšų",null,null,null,null,{"$f":"SUM(G225:G241)","v":0},{"$f":"SUM(H225:H241)","v":0},null,"Faktinės 1 mėnesio išlaidos, Eur","Naudojimo projekte trukmė, mėn."]
["5.7.1","Įrangos pavadinimas",null,"pro rata proc.",null,{"$f":"J225*K225","v":0},{"$f":"ROUND(E225*F225,2)","v":0},{"$f":"ROUND(G225*$D$7,2)","v":0}]
["5.7.2","Įrangos pavadinimas",null,"pro rata proc.",null,0,0,{"$f":"ROUND(G226*$D$7,2)","v":0}]
["5.7.3","Įrangos pavadinimas",null,"pro rata proc.",null,0,0,0]
["5.7.4","Įrangos pavadinimas",null,"pro rata proc.",null,0,0,0]
["5.7.5","Įrangos pavadinimas",null,"pro rata proc.",null,0,0,0]
["5.7.6","Įrangos pavadinimas",null,"pro rata proc.",null,0,0,0]
["5.7.7","Įrangos pavadinimas",null,"pro rata proc.",null,0,0,0]
["5.7.8","Įrangos pavadinimas",null,"pro rata proc.",null,0,0,0]
["5.7.9","Įrangos pavadinimas",null,"pro rata proc.",null,0,0,0]
["5.7.10","Įrangos pavadinimas",null,"pro rata proc.",null,0,0,0]
["5.7.11","Įrangos pavadinimas",null,"pro rata proc.",null,0,0,0]
["5.7.12","Įrangos pavadinimas",null,"pro rata proc.",null,0,0,0]
["5.7.13","Įrangos pavadinimas",null,"pro rata proc.",null,0,0,0]
["5.7.14","Įrangos pavadinimas",null,"pro rata proc.",null,{"$f":"J238*K238","v":0},0,{"$f":"ROUND(G238*$D$7,2)","v":0}]
["5.7.15","Įrangos pavadinimas",null,"pro rata proc.",null,{"$f":"J239*K239","v":0},0,{"$f":"ROUND(G239*$D$7,2)","v":0}]
["5.7.16","Įrangos pavadinimas",null,"pro rata proc.",null,{"$f":"J240*K240","v":0},0,{"$f":"ROUND(G240*$D$7,2)","v":0}]
["5.7.17","Įrangos pavadinimas",null,"pro rata proc.",null,{"$f":"J241*K241","v":0},0,{"$f":"ROUND(G241*$D$7,2)","v":0}]
["5.8","Pastatų ar patalpų nuomos išlaidos, veiklai priskirtos pro rata principu. Pastatai ar patalpos turi būti tiesiogiai susijusi su projekto įgyvendinimu.",null,null,null,null,{"$f":"SUM(G243:G247)","v":0},{"$f":"SUM(H243:H247)","v":0},null,"Faktinės 1 mėnesio išlaidos, Eur","Naudojimo projekte trukmė, mėn."]
["5.8.1","Pastato, patalpų adresas",null,"pro rata proc.",null,{"$f":"J243*K243","v":0},{"$f":"ROUND(E243*F243,2)","v":0},{"$f":"ROUND(G243*$D$7,2)","v":0}]
["5.8.2","Pastato, patalpų adresas",null,"pro rata proc.",null,{"$f":"J244*K244","v":0},{"$f":"ROUND(E244*F244,2)","v":0},{"$f":"ROUND(G244*$D$7,2)","v":0}]
["5.8.3","Pastato, patalpų adresas",null,"pro rata proc.",null,{"$f":"J245*K245","v":0},{"$f":"ROUND(E245*F245,2)","v":0},{"$f":"ROUND(G245*$D$7,2)","v":0}]
["5.8.4","Pastato, patalpų adresas",null,"pro rata proc.",null,{"$f":"J246*K246","v":0},{"$f":"ROUND(E246*F246,2)","v":0},{"$f":"ROUND(G246*$D$7,2)","v":0}]
["5.8.5","Pastato, patalpų adresas",null,"pro rata proc.",null,{"$f":"J247*K247","v":0},{"$f":"ROUND(E247*F247,2)","v":0},{"$f":"ROUND(G247*$D$7,2)","v":0}]
["5.9","Projekto veikloms vykdyti reikalingų transporto priemonių nuomos išlaidos (išlaidos yra tinkamos finansuoti tik pagal Aprašą Nr. 2 vadovaujantis de minimis reglamento nuostatomis)",null,null,null,null,{"$f":"SUM(G249:G253)","v":0},{"$f":"SUM(H249:H253)","v":0}]
["5.9.1","Išlaidų pavadinimas",null,null,null,null,{"$f":"ROUND(E249*F249,2)","v":0},{"$f":"ROUND(G249*$D$7,2)","v":0}]
["5.9.2","Išlaidų pavadinimas",null,null,null,null,{"$f":"ROUND(E250*F250,2)","v":0},{"$f":"ROUND(G250*$D$7,2)","v":0}]
["5.9.3","Išlaidų pavadinimas",null,null,null,null,{"$f":"ROUND(E251*F251,2)","v":0},{"$f":"ROUND(G251*$D$7,2)","v":0}]
["5.9.4","Išlaidų pavadinimas",null,null,null,null,{"$f":"ROUND(E252*F252,2)","v":0},{"$f":"ROUND(G252*$D$7,2)","v":0}]
["5.9.5","Išlaidų pavadinimas",null,null,null,null,{"$f":"ROUND(E253*F253,2)","v":0},{"$f":"ROUND(G253*$D$7,2)","v":0}]
["Iš viso tinkamų finansuoti išlaidų:",null,null,null,null,null,{"$f":"G10+G21","v":0},{"$f":"H10+H21","v":0}]

{"sheet":"2","index":4,"n_rows":254,"n_cols":18,"rows_kept":254,"cut":false,"hidden":false,"merged":[[5,3,5,8],[8,1,8,2],[9,1,9,5],[10,1,10,2],[11,1,11,2],[12,1,12,2],[0,3,0,8],[2,0,2,2],[2,3,2,8],[3,3,3,4],[3,5,3,6],[4,0,4,2],[4,3,4,8],[19,1,19,2],[20,1,20,5],[21,1,21,5],[22,1,22,2],[23,1,23,2],[24,1,24,2],[13,1,13,2],[14,1,14,2],[15,1,15,2],[16,1,16,2],[17,1,17,2],[18,1,18,2],[31,1,31,2],[32,1,32,5],[33,1,33,2],[34,1,34,2],[35,1,35,2],[36,1,36,2],[25,1,25,2],[26,1,26,2],[27,1,27,2],[28,1,28,2],[29,1,29,2],[30,1,30,2],[43,1,43,5],[44,1,44,2],[45,1,45,2],[46,1,46,2],[47,1,47,2],[48,1,48,2],[37,1,37,2],[38,1,38,2],[39,1,39,2],[40,1,40,2],[41,1,41,2],[42,1,42,2],[55,1,55,2],[56,1,56,2],[57,1,57,2],[58,1,58,2],[59,1,59,2],[60,1,60,2],[49,1,49,2],[50,1,50,2],[51,1,51,2],[52,1,52,2],[53,1,53,2],[54,1,54,2],[67,1,67,2],[68,1,68,2],[69,1,69,2],[70,1,70,2],[71,1,71,5],[72,1,72,2],[61,1,61,2],[62,1,62,2],[63,1,63,2],[64,1,64,2],[65,1,65,2],[66,1,66,2],[79,1,79,2],[80,1,80,2],[81,1,81,2],[82,1,82,2],[83,1,83,2],[84,1,84,2],[73,1,73,2],[74,1,74,2],[75,1,75,2],[76,1,76,2],[77,1,77,2],[78,1,78,2],[91,1,91,2],[92,1,92,2],[93,1,93,2],[94,1,94,2],[95,1,95,2],[96,1,96,2],[85,1,85,2],[86,1,86,2],[87,1,87,2],[88,1,88,2],[89,1,89,2],[90,1,90,2],[97,1,97,2],[98,1,98,2],[99,1,99,2],[100,1,100,2],[101,1,101,5],[102,0,106,0],[102,1,106,1],[102,3,106,3],[102,4,106,4],[102,5,106,5],[102,6,106,6],[102,7,106,7],[102,8,106,8],[107,0,111,0],[107,1,111,1],[107,3,111,3],[107,4,111,4],[107,5,111,5],[107,6,111,6],[107,7,111,7],[107,8,111,8],[112,0,116,0],[112,1,116,1],[112,3,116,3],[112,4,116,4],[112,5,116,5],[112,6,116,6],[112,7,116,7],[112,8,116,8],[117,7,121,7],[117,8,121,8],[122,0,126,0],[122,1,126,1],[122,3,126,3],[122,4,126,4],[122,5,126,5],[122,6,126,6],[122,7,126,7],[122,8,126,8],[117,0,121,0],[117,1,121,1],[117,3,121,3],[117,4,121,4],[117,5,121,5],[117,6,121,6],[127,7,131,7],[127,8,131,8],[132,0,136,0],[132,1,136,1],[132,3,136,3],[132,4,136,4],[132,5,136,5],[132,6,136,6],[132,7,136,7],[132,8,136,8],[127,0,131,0],[127,1,131,1],[127,3,131,3],[127,4,131,4],[127,5,131,5],[127,6,131,6],[137,7,141,7],[137,8,141,8],[142,0,146,0],[142,1,146,1],[142,3,146,3],[142,4,146,4],[142,5,146,5],[142,6,146,6],[142,7,146,7],[142,8,146,8],[137,0,141,0],[137,1,141,1],[137,3,141,3],[137,4,141,4],[137,5,141,5],[137,6,141,6],[147,7,151,7],[147,8,151,8],[152,1,152,5],[153,0,159,0],[153,1,159,1],[153,8,159,8],[147,0,151,0],[147,1,151,1],[147,3,151,3],[147,4,151,4],[147,5,151,5],[147,6,151,6],[174,0,180,0],[174,1,180,1],[174,8,180,8],[181,0,187,0],[181,1,187,1],[181,8,187,8],[160,0,166,0],[160,1,166,1],[160,8,166,8],[167,0,173,0],[167,1,173,1],[167,8,173,8],[202,0,208,0],[202,1,208,1],[202,8,208,8],[209,0,215,0],[209,1,215,1],[209,8,215,8],[188,0,194,0],[188,1,194,1],[188,8,194,8],[195,0,201,0],[195,1,201,1],[195,8,201,8],[226,1,226,2],[227,1,227,2],[228,1,228,2],[229,1,229,2],[230,1,230,2],[231,1,231,2],[216,0,222,0],[216,1,222,1],[216,8,222,8],[223,1,223,5],[224,1,224,2],[225,1,225,2],[238,1,238,2],[239,1,239,2],[240,1,240,2],[241,1,241,5],[242,1,242,2],[243,1,243,2],[232,1,232,2],[233,1,233,2],[234,1,234,2],[235,1,235,2],[236,1,236,2],[237,1,237,2],[250,1,250,2],[251,1,251,2],[252,1,252,2],[253,0,253,5],[244,1,244,2],[245,1,245,2],[246,1,246,2],[247,1,247,5],[248,1,248,2],[249,1,249,2]]}
[null,null,"Pasirinkite veiklos tipą:"]
[null,null,"Fizinio rodiklio Nr.:"]
["Fizinio rodiklio pavadinimas:"]
[null,null,"Fizinio rodiklio matavimo vnt.:",null,null,"Fizinio rodiklio vnt. skaičius:"]
["Juridinis asmuo (pareiškėjas, partneris), atsakingas už fizinį rodiklį:"]
[null,null,"Vykdytojo tipas:"]
[null,null,"Finansavimo intensyvumas:",null,null,null,"Pasirinkite biudžeto išlaidų kategoriją:"]
[]
["Eil. Nr.","Išlaidų kategorijos pavadinimas",null,"Matavimo vnt.","Kiekis","Vieneto kaina be PVM, Eur","Tinkamų finansuoti išlaidų suma be PVM, Eur","Finansavimo suma, Eur","Išlaidų pagrindimo dokumentų pavadinimas, data ir Nr."]
[4,"ĮRANGA, ĮRENGINIAI IR KT. TURTAS (techninių žinių ir išradimų patentų arba teisių pagal licencijų sutartį įsigijimo išlaidos)",null,null,null,null,{"$f":"SUM(G11:G20)","v":0},{"$f":"SUM(H11:H20)","v":0}]
[4.0999999999999996,"Išlaidų pavadinimas",null,null,null,null,{"$f":"ROUND(E11*F11,2)","v":0},{"$f":"ROUND(G11*$D$7,2)","v":0}]
["4.2","Išlaidų pavadinimas",null,null,null,null,0,0]
["4.3","Išlaidų pavadinimas",null,null,null,null,0,0]
["4.4","Išlaidų pavadinimas",null,null,null,null,0,0]
["4.5","Išlaidų pavadinimas",null,null,null,null,0,0]
["4.6","Išlaidų pavadinimas",null,null,null,null,0,0]
["4.7","Išlaidų pavadinimas",null,null,null,null,0,0]
["4.8","Išlaidų pavadinimas",null,null,null,null,0,0]
["4.9","Išlaidų pavadinimas",null,null,null,null,0,0]
["4.10","Išlaidų pavadinimas",null,null,null,null,0,0]
[5,"PROJEKTO VYKDYMAS",null,null,null,null,{"$f":"G22+G33+G44+G72+G102+G153+G224+G242+G248","v":0},{"$f":"H22+H33+H44+H72+H102+H153+H224+H242+H248","v":0}]
["5.1","MTEP paslaugos",null,null,null,null,{"$f":"SUM(G23:G32)","v":0},{"$f":"SUM(H23:H32)","v":0}]
["5.1.1","Paslaugos pavadinimas",null,null,null,null,{"$f":"ROUND(E23*F23,2)","v":0},0]
["5.1.2","Paslaugos pavadinimas",null,null,null,null,0,0]
["5.1.3","Paslaugos pavadinimas",null,null,null,null,0,0]
["5.1.4","Paslaugos pavadinimas",null,null,null,null,0,0]
["5.1.5","Paslaugos pavadinimas",null,null,null,null,0,0]
["5.1.6","Paslaugos pavadinimas",null,null,null,null,0,0]
["5.1.7","Paslaugos pavadinimas",null,null,null,null,0,0]
["5.1.8","Paslaugos pavadinimas",null,null,null,null,0,0]
["5.1.9","Paslaugos pavadinimas",null,null,null,null,0,0]
["5.1.10","Paslaugos pavadinimas",null,null,null,null,0,0]
["5.2","Konsultavimo ir lygiavertės paslaugos, teikiamos vien tik projekto MTEP veiklai.",null,null,null,null,{"$f":"SUM(G34:G43)","v":0},{"$f":"SUM(H34:H43)","v":0}]
["5.2.1","Paslaugos pavadinimas",null,null,null,null,{"$f":"ROUND(E34*F34,2)","v":0},0]
["5.2.2","Paslaugos pavadinimas",null,null,null,null,0,0]
["5.2.3","Paslaugos pavadinimas",null,null,null,null,0,0]
["5.2.4","Paslaugos pavadinimas",null,null,null,null,0,0]
["5.2.5","Paslaugos pavadinimas",null,null,null,null,0,0]
["5.2.6","Paslaugos pavadinimas",null,null,null,null,0,0]
["5.2.7","Paslaugos pavadinimas",null,null,null,null,0,0]
["5.2.8","Paslaugos pavadinimas",null,null,null,null,0,0]
["5.2.9","Paslaugos pavadinimas",null,null,null,null,0,0]
["5.2.10","Paslaugos pavadinimas",null,null,null,null,0,0]
["5.3","Medžiagos, mažavertis inventorius, atsargos ir pan. produktai, priskirtini trumpalaikiam turtui ir tiesiogiai susiję su MTEP veikla",null,null,null,null,{"$f":"SUM(G45:G71)","v":0},{"$f":"SUM(H45:H71)","v":0}]
["5.3.1","Išlaidų pavadinimas",null,null,null,null,{"$f":"ROUND(E45*F45,2)","v":0},{"$f":"ROUND(G45*$D$7,2)","v":0}]
["5.3.2","Išlaidų pavadinimas",null,null,null,null,{"$f":"ROUND(E46*F46,2)","v":0},{"$f":"ROUND(G46*$D$7,2)","v":0}]
["5.3.3","Išlaidų pavadinimas",null,null,null,null,{"$f":"ROUND(E47*F47,2)","v":0},{"$f":"ROUND(G47*$D$7,2)","v":0}]
["5.3.4","Išlaidų pavadinimas",null,null,null,null,{"$f":"ROUND(E48*F48,2)","v":0},{"$f":"ROUND(G48*$D$7,2)","v":0}]
["5.3.5","Išlaidų pavadinimas",null,null,null,null,{"$f":"ROUND(E49*F49,2)","v":0},{"$f":"ROUND(G49*$D$7,2)","v":0}]
["5.3.6","Išlaidų pavadinimas",null,null,null,null,0,0]
["5.3.7","Išlaidų pavadinimas",null,null,null,null,0,0]
["5.3.8","Išlaidų pavadinimas",null,null,null,null,0,0]
["5.3.9","Išlaidų pavadinimas",null,null,null,null,0,0]
["5.3.10","Išlaidų pavadinimas",null,null,null,null,0,0]
["5.3.11","Išlaidų pavadinimas",null,null,null,null,0,0]
["5.3.12","Išlaidų pavadinimas",null,null,null,null,0,0]
["5.3.13","Išlaidų pavadinimas",null,null,null,null,0,0]
["5.3.14","Išlaidų pavadinimas",null,null,null,null,0,0]
["5.3.15","Išlaidų pavadinimas",null,null,null,null,0,0]
["5.3.16","Išlaidų pavadinimas",null,null,null,null,0,0]
["5.3.17","Išlaidų pavadinimas",null,null,null,null,0,0]
["5.3.18","Išlaidų pavadinimas",null,null,null,null,0,0]
["5.3.19","Išlaidų pavadinimas",null,null,null,null,0,0]
["5.3.20","Išlaidų pavadinimas",null,null,null,null,0,0]
["5.3.21","Išlaidų pavadinimas",null,null,null,null,0,0]
["5.3.22","Išlaidų pavadinimas",null,null,null,null,0,0]
["5.3.23","Išlaidų pavadinimas",null,null,null,null,0,0]
["5.3.24","Išlaidų pavadinimas",null,null,null,null,0,0]
["5.3.25","Išlaidų pavadinimas",null,null,null,null,0,0]
["5.3.26","Išlaidų pavadinimas",null,null,null,null,0,0]
["5.3.27","Išlaidų pavadinimas",null,null,null,null,0,0]
["5.4","Projekto MTEP veikloms naudojamo ilgalaikio materialaus turto (įrangos, prietaisų, įrankių, įrenginių, mašinų ir įrengimų, pastatų ir (ar) patalpų), nusidėvėjimo sąnaudos, jeigu šiam turtui įsigyti nebuvo naudojamos viešosios (įskaitant ir kitų valstybių) lėšos",null,null,null,null,{"$f":"SUM(G73:G101)","v":0},{"$f":"SUM(H73:H101)","v":0},null,"Turto įvedimo į eksploataciją data","Turto įsigijimo vertė, Eur","Turto nudėvėjimo, amortizacijos laikotarpis, mėn.","Numatoma turto likutinė vertė, Eur","1 mėn. nudėvėjimo, amortizacijos suma, Eur","Turto naudojamo projekto reikmėms laikas, mėn.","Turto panaudojimo projekto reikmėms dalis (proc.)","Projektui priskirta turto nusidėvėjimo, amortizacijos suma per projekto laikotarpį, Eur"]
["5.4.1","Turtas, kurio nusidėvėjimą, amortizaciją prašoma finansuoti",null,null,1,{"$f":"Q73","v":0},{"$f":"ROUND(E73*F73,2)","v":0},0,null,null,null,null,null,{"$f":"IFERROR(ROUND((K73-M73)/L73,2),\"0\")","v":"0"},null,null,{"$f":"N73*O73*P73","v":0},{"$f":"IF(J73=0,\" \",IF(J73+(L73*30.5)<TODAY(),\"DĖMESIO! Patikrinkite, ar nurodytas turtas dar nėra nudėvėtas, amortizuotas\",\" \"))","v":" "}]
["5.4.2","Turtas, kurio nusidėvėjimą, amortizaciją prašoma finansuoti",null,null,1,0,0,0,null,null,null,null,null,{"$f":"IFERROR(ROUND((K74-M74)/L74,2),\"0\")","v":"0"},null,null,{"$f":"N74*O74*P74","v":0},{"$f":"IF(J74=0,\" \",IF(J74+(L74*30.5)<TODAY(),\"DĖMESIO! Patikrinkite, ar nurodytas turtas dar nėra nudėvėtas, amortizuotas\",\" \"))","v":" "}]
["5.4.3","Turtas, kurio nusidėvėjimą, amortizaciją prašoma finansuoti",null,null,1,0,0,0,null,null,null,null,null,"0",null,null,0," "]
["5.4.4","Turtas, kurio nusidėvėjimą, amortizaciją prašoma finansuoti",null,null,1,0,0,0,null,null,null,null,null,"0",null,null,0," "]
["5.4.5","Turtas, kurio nusidėvėjimą, amortizaciją prašoma finansuoti",null,null,1,0,0,0,null,null,null,null,null,"0",null,null,0," "]
["5.4.6","Turtas, kurio nusidėvėjimą, amortizaciją prašoma finansuoti",null,null,1,0,0,0,null,null,null,null,null,"0",null,null,0," "]
["5.4.7","Turtas, kurio nusidėvėjimą, amortizaciją prašoma finansuoti",null,null,1,0,0,0,null,null,null,null,null,"0",null,null,0," "]
["5.4.8","Turtas, kurio nusidėvėjimą, amortizaciją prašoma finansuoti",null,null,1,0,0,0,null,null,null,null,null,"0",null,null,0," "]
["5.4.9","Turtas, kurio nusidėvėjimą, amortizaciją prašoma finansuoti",null,null,1,0,0,0,null,null,null,null,null,"0",null,null,0," "]
["5.4.10","Turtas, kurio nusidėvėjimą, amortizaciją prašoma finansuoti",null,null,1,0,0,0,null,null,null,null,null,"0",null,null,0," "]
["5.4.11","Turtas, kurio nusidėvėjimą, amortizaciją prašoma finansuoti",null,null,1,0,0,0,null,null,null,null,null,"0",null,null,0," "]
["5.4.12","Turtas, kurio nusidėvėjimą, amortizaciją prašoma finansuoti",null,null,1,0,0,0,null,null,null,null,null,"0",null,null,0," "]
["5.4.13","Turtas, kurio nusidėvėjimą, amortizaciją prašoma finansuoti",null,null,1,0,0,0,null,null,null,null,null,"0",null,null,0," "]
["5.4.14","Turtas, kurio nusidėvėjimą, amortizaciją prašoma finansuoti",null,null,1,0,0,0,null,null,null,null,null,"0",null,null,0," "]
["5.4.15","Turtas, kurio nusidėvėjimą, amortizaciją prašoma finansuoti",null,null,1,0,0,0,null,null,null,null,null,"0",null,null,0," "]
["5.4.16","Turtas, kurio nusidėvėjimą, amortizaciją prašoma finansuoti",null,null,1,0,0,0,null,null,null,null,null,"0",null,null,0," "]
["5.4.17","Turtas, kurio nusidėvėjimą, amortizaciją prašoma finansuoti",null,null,1,0,0,0,null,null,null,null,null,"0",null,null,0," "]
["5.4.18","Turtas, kurio nusidėvėjimą, amortizaciją prašoma finansuoti",null,null,1,0,0,0,null,null,null,null,null,"0",null,null,0," "]
["5.4.19","Turtas, kurio nusidėvėjimą, amortizaciją prašoma finansuoti",null,null,1,0,0,0,null,null,null,null,null,"0",null,null,0," "]
["5.4.20","Turtas, kurio nusidėvėjimą, amortizaciją prašoma finansuoti",null,null,1,0,0,0,null,null,null,null,null,"0",null,null,0," "]
["5.4.21","Turtas, kurio nusidėvėjimą, amortizaciją prašoma finansuoti",null,null,1,0,0,0,null,null,null,null,null,"0",null,null,0," "]
["5.4.22","Turtas, kurio nusidėvėjimą, amortizaciją prašoma finansuoti",null,null,1,0,0,0,null,null,null,null,null,"0",null,null,0," "]
["5.4.23","Turtas, kurio nusidėvėjimą, amortizaciją prašoma finansuoti",null,null,1,0,0,0,null,null,null,null,null,"0",null,null,0," "]
["5.4.24","Turtas, kurio nusidėvėjimą, amortizaciją prašoma finansuoti",null,null,1,0,0,0,null,null,null,null,null,"0",null,null,0," "]
["5.4.25","Turtas, kurio nusidėvėjimą, amortizaciją prašoma finansuoti",null,null,1,0,0,0,null,null,null,null,null,"0",null,null,0," "]
["5.4.26","Turtas, kurio nusidėvėjimą, amortizaciją prašoma finansuoti",null,null,1,0,0,0,null,null,null,null,null,"0",null,null,0," "]
["5.4.27","Turtas, kurio nusidėvėjimą, amortizaciją prašoma finansuoti",null,null,1,0,0,0,null,null,null,null,null,"0",null,null,0," "]
["5.4.28","Turtas, kurio nusidėvėjimą, amortizaciją prašoma finansuoti",null,null,1,0,0,0,null,null,null,null,null,"0",null,null,0," "]
["5.4.29","Turtas, kurio nusidėvėjimą, amortizaciją prašoma finansuoti",null,null,1,0,0,0,null,null,null,null,null,"0",null,null,0," "]
["5.5","Projektą vykdančio personalo darbo užmokestis ir išlaidos su darbo santykiais susijusiems darbdavio įsipareigojimams",null,null,null,null,{"$f":"SUM(G103:G152)","v":0},{"$f":"SUM(H103:H152)","v":0},null,"Faktiškai gaunamas darbo užmokesti už 1 valandą pagal  pastarųjų 6 mėn. vidurkį, Eur"]
["5.5.1","Pareigybės pavadinimas","Darbuotojo vardas pavardė","val.",null,{"$f":"IFERROR(ROUND(AVERAGE(J103:J107),2),\"0\")","v":"0"},{"$f":"ROUND(E103*F103,2)","v":0},{"$f":"ROUND(G103*$D$7,2)","v":0}]
[null,null,"Darbuotojo vardas pavardė"]
[null,null,"Darbuotojo vardas pavardė"]
[null,null,"Darbuotojo vardas pavardė"]
[null,null,"Darbuotojo vardas pavardė"]
["5.5.2","Pareigybės pavadinimas","Darbuotojo vardas pavardė","val.",null,{"$f":"IFERROR(ROUND(AVERAGE(J108:J112),2),\"0\")","v":"0"},{"$f":"ROUND(E108*F108,2)","v":0},{"$f":"ROUND(G108*$D$7,2)","v":0}]
[null,null,"Darbuotojo vardas pavardė"]
[null,null,"Darbuotojo vardas pavardė"]
[null,null,"Darbuotojo vardas pavardė"]
[null,null,"Darbuotojo vardas pavardė"]
["5.5.3","Pareigybės pavadinimas","Darbuotojo vardas pavardė","val.",null,{"$f":"IFERROR(ROUND(AVERAGE(J113:J117),2),\"0\")","v":"0"},{"$f":"ROUND(E113*F113,2)","v":0},{"$f":"ROUND(G113*$D$7,2)","v":0}]
[null,null,"Darbuotojo vardas pavardė"]
[null,null,"Darbuotojo vardas pavardė"]
[null,null,"Darbuotojo vardas pavardė"]
[null,null,"Darbuotojo vardas pavardė"]
["5.5.4","Pareigybės pavadinimas","Darbuotojo vardas pavardė","val.",null,{"$f":"IFERROR(ROUND(AVERAGE(J118:J122),2),\"0\")","v":"0"},{"$f":"ROUND(E118*F118,2)","v":0},{"$f":"ROUND(G118*$D$7,2)","v":0}]
[null,null,"Darbuotojo vardas pavardė"]
[null,null,"Darbuotojo vardas pavardė"]
[null,null,"Darbuotojo vardas pavardė"]
[null,null,"Darbuotojo vardas pavardė"]
["5.5.5","Pareigybės pavadinimas","Darbuotojo vardas pavardė","val.",null,{"$f":"IFERROR(ROUND(AVERAGE(J123:J127),2),\"0\")","v":"0"},{"$f":"ROUND(E123*F123,2)","v":0},{"$f":"ROUND(G123*$D$7,2)","v":0}]
[null,null,"Darbuotojo vardas pavardė"]
[null,null,"Darbuotojo vardas pavardė"]
[null,null,"Darbuotojo vardas pavardė"]
[null,null,"Darbuotojo vardas pavardė"]
["5.5.6","Pareigybės pavadinimas","Darbuotojo vardas pavardė","val.",null,{"$f":"IFERROR(ROUND(AVERAGE(J128:J132),2),\"0\")","v":"0"},{"$f":"ROUND(E128*F128,2)","v":0},{"$f":"ROUND(G128*$D$7,2)","v":0}]
[null,null,"Darbuotojo vardas pavardė"]
[null,null,"Darbuotojo vardas pavardė"]
[null,null,"Darbuotojo vardas pavardė"]
[null,null,"Darbuotojo vardas pavardė"]
["5.5.7","Pareigybės pavadinimas","Darbuotojo vardas pavardė","val.",null,{"$f":"IFERROR(ROUND(AVERAGE(J133:J137),2),\"0\")","v":"0"},{"$f":"ROUND(E133*F133,2)","v":0},{"$f":"ROUND(G133*$D$7,2)","v":0}]
[null,null,"Darbuotojo vardas pavardė"]
[null,null,"Darbuotojo vardas pavardė"]
[null,null,"Darbuotojo vardas pavardė"]
[null,null,"Darbuotojo vardas pavardė"]
["5.5.8","Pareigybės pavadinimas","Darbuotojo vardas pavardė","val.",null,{"$f":"IFERROR(ROUND(AVERAGE(J138:J142),2),\"0\")","v":"0"},{"$f":"ROUND(E138*F138,2)","v":0},{"$f":"ROUND(G138*$D$7,2)","v":0}]
[null,null,"Darbuotojo vardas pavardė"]
[null,null,"Darbuotojo vardas pavardė"]
[null,null,"Darbuotojo vardas pavardė"]
[null,null,"Darbuotojo vardas pavardė"]
["5.5.9","Pareigybės pavadinimas","Darbuotojo vardas pavardė","val.",null,{"$f":"IFERROR(ROUND(AVERAGE(J143:J147),2),\"0\")","v":"0"},{"$f":"ROUND(E143*F143,2)","v":0},{"$f":"ROUND(G143*$D$7,2)","v":0}]
[null,null,"Darbuotojo vardas pavardė"]
[null,null,"Darbuotojo vardas pavardė"]
[null,null,"Darbuotojo vardas pavardė"]
[null,null,"Darbuotojo vardas pavardė"]
["5.5.10","Pareigybės pavadinimas","Darbuotojo vardas pavardė","val.",null,{"$f":"IFERROR(ROUND(AVERAGE(J148:J152),2),\"0\")","v":"0"},{"$f":"ROUND(E148*F148,2)","v":0},{"$f":"ROUND(G148*$D$7,2)","v":0}]
[null,null,"Darbuotojo vardas pavardė"]
[null,null,"Darbuotojo vardas pavardė"]
[null,null,"Darbuotojo vardas pavardė"]
[null,null,"Darbuotojo vardas pavardė"]
["5.6","Projektą vykdančio personalo komandiruočių išlaidos",null,null,null,null,{"$f":"SUM(G154,G161,G168,G175,G182,G189,G196,G203,G210,G217)","v":0},{"$f":"SUM(H154,H161,H168,H175,H182,H189,H196,H203,H210,H217)","v":0}]
["5.6.1","Komandiruotės pavadinimas, vieta, trukmė dienomis, vykstančių asmenų skaičius","Iš viso komandiruotei",null,null,null,{"$f":"SUM(G155:G160)","v":0},{"$f":"ROUND(G154*$D$7,2)","v":0}]
[null,null,"Dienpinigiai",null,null,null,{"$f":"ROUND(E155*F155,2)","v":0}]
[null,null,"Gyvenamojo ploto nuoma",null,null,null,0]
[null,null,"Kelionės išlaidos",null,null,null,0]
[null,null,"Dalyvavimo mokestis",null,null,null,0]
[null,null,"Kitos išlaidų pavadinimas",null,null,null,0]
[null,null,"Kitos išlaidų pavadinimas",null,null,null,0]
["5.6.2","Komandiruotės pavadinimas, vieta, trukmė dienomis, vykstančių asmenų skaičius","Iš viso komandiruotei",null,null,null,{"$f":"SUM(G162:G167)","v":0},{"$f":"ROUND(G161*$D$7,2)","v":0}]
[null,null,"Dienpinigiai",null,null,null,{"$f":"ROUND(E162*F162,2)","v":0}]
[null,null,"Gyvenamojo ploto nuoma",null,null,null,0]
[null,null,"Kelionės išlaidos",null,null,null,0]
[null,null,"Dalyvavimo mokestis",null,null,null,0]
[null,null,"Kitos išlaidų pavadinimas",null,null,null,0]
[null,null,"Kitos išlaidų pavadinimas",null,null,null,0]
["5.6.3","Komandiruotės pavadinimas, vieta, trukmė dienomis, vykstančių asmenų skaičius","Iš viso komandiruotei",null,null,null,{"$f":"SUM(G169:G174)","v":0},{"$f":"ROUND(G168*$D$7,2)","v":0}]
[null,null,"Dienpinigiai",null,null,null,{"$f":"ROUND(E169*F169,2)","v":0}]
[null,null,"Gyvenamojo ploto nuoma",null,null,null,0]
[null,null,"Kelionės išlaidos",null,null,null,0]
[null,null,"Dalyvavimo mokestis",null,null,null,0]
[null,null,"Kitos išlaidų pavadinimas",null,null,null,0]
[null,null,"Kitos išlaidų pavadinimas",null,null,null,0]
["5.6.4","Komandiruotės pavadinimas, vieta, trukmė dienomis, vykstančių asmenų skaičius","Iš viso komandiruotei",null,null,null,{"$f":"SUM(G176:G181)","v":0},{"$f":"ROUND(G175*$D$7,2)","v":0}]
[null,null,"Dienpinigiai",null,null,null,{"$f":"ROUND(E176*F176,2)","v":0}]
[null,null,"Gyvenamojo ploto nuoma",null,null,null,0]
[null,null,"Kelionės išlaidos",null,null,null,0]
[null,null,"Dalyvavimo mokestis",null,null,null,0]
[null,null,"Kitos išlaidų pavadinimas",null,null,null,0]
[null,null,"Kitos išlaidų pavadinimas",null,null,null,0]
["5.6.5","Komandiruotės pavadinimas, vieta, trukmė dienomis, vykstančių asmenų skaičius","Iš viso komandiruotei",null,null,null,{"$f":"SUM(G183:G188)","v":0},{"$f":"ROUND(G182*$D$7,2)","v":0}]
[null,null,"Dienpinigiai",null,null,null,{"$f":"ROUND(E183*F183,2)","v":0}]
[null,null,"Gyvenamojo ploto nuoma",null,null,null,0]
[null,null,"Kelionės išlaidos",null,null,null,0]
[null,null,"Dalyvavimo mokestis",null,null,null,0]
[null,null,"Kitos išlaidų pavadinimas",null,null,null,0]
[null,null,"Kitos išlaidų pavadinimas",null,null,null,0]
["5.6.6","Komandiruotės pavadinimas, vieta, trukmė dienomis, vykstančių asmenų skaičius","Iš viso komandiruotei",null,null,null,{"$f":"SUM(G190:G195)","v":0},{"$f":"ROUND(G189*$D$7,2)","v":0}]
[null,null,"Dienpinigiai",null,null,null,{"$f":"ROUND(E190*F190,2)","v":0}]
[null,null,"Gyvenamojo ploto nuoma",null,null,null,0]
[null,null,"Kelionės išlaidos",null,null,null,0]
[null,null,"Dalyvavimo mokestis",null,null,null,0]
[null,null,"Kitos išlaidų pavadinimas",null,null,null,0]
[null,null,"Kitos išlaidų pavadinimas",null,null,null,0]
["5.6.7","Komandiruotės pavadinimas, vieta, trukmė dienomis, vykstančių asmenų skaičius","Iš viso komandiruotei",null,null,null,{"$f":"SUM(G197:G202)","v":0},{"$f":"ROUND(G196*$D$7,2)","v":0}]
[null,null,"Dienpinigiai",null,null,null,{"$f":"ROUND(E197*F197,2)","v":0}]
[null,null,"Gyvenamojo ploto nuoma",null,null,null,0]
[null,null,"Kelionės išlaidos",null,null,null,0]
[null,null,"Dalyvavimo mokestis",null,null,null,0]
[null,null,"Kitos išlaidų pavadinimas",null,null,null,0]
[null,null,"Kitos išlaidų pavadinimas",null,null,null,0]
["5.6.8","Komandiruotės pavadinimas, vieta, trukmė dienomis, vykstančių asmenų skaičius","Iš viso komandiruotei",null,null,null,{"$f":"SUM(G204:G209)","v":0},{"$f":"ROUND(G203*$D$7,2)","v":0}]
[null,null,"Dienpinigiai",null,null,null,{"$f":"ROUND(E204*F204,2)","v":0}]
[null,null,"Gyvenamojo ploto nuoma",null,null,null,0]
[null,null,"Kelionės išlaidos",null,null,null,0]
[null,null,"Dalyvavimo mokestis",null,null,null,0]
[null,null,"Kitos išlaidų pavadinimas",null,null,null,0]
[null,null,"Kitos išlaidų pavadinimas",null,null,null,0]
["5.6.9","Komandiruotės pavadinimas, vieta, trukmė dienomis, vykstančių asmenų skaičius","Iš viso komandiruotei",null,null,null,{"$f":"SUM(G211:G216)","v":0},{"$f":"ROUND(G210*$D$7,2)","v":0}]
[null,null,"Dienpinigiai",null,null,null,{"$f":"ROUND(E211*F211,2)","v":0}]
[null,null,"Gyvenamojo ploto nuoma",null,null,null,0]
[null,null,"Kelionės išlaidos",null,null,null,0]
[null,null,"Dalyvavimo mokestis",null,null,null,0]
[null,null,"Kitos išlaidų pavadinimas",null,null,null,0]
[null,null,"Kitos išlaidų pavadinimas",null,null,null,0]
["5.6.10","Komandiruotės pavadinimas, vieta, trukmė dienomis, vykstančių asmenų skaičius","Iš viso komandiruotei",null,null,null,{"$f":"SUM(G218:G223)","v":0},{"$f":"ROUND(G217*$D$7,2)","v":0}]
[null,null,"Dienpinigiai",null,null,null,{"$f":"ROUND(E218*F218,2)","v":0}]
[null,null,"Gyvenamojo ploto nuoma",null,null,null,0]
[null,null,"Kelionės išlaidos",null,null,null,0]
[null,null,"Dalyvavimo mokestis",null,null,null,0]
[null,null,"Kitos išlaidų pavadinimas",null,null,null,0]
[null,null,"Kitos išlaidų pavadinimas",null,null,null,0]
["5.7","Įrangos nuomos išlaidos, veiklai priskirtos pro rata principu. Įranga turi būti tiesiogiai susijusi su projekto įgyvendinimu ir negali būti įsigyta iš ES struktūrinių fondų ar kt. ES finansinių priemonių lėšų",null,null,null,null,{"$f":"SUM(G225:G241)","v":0},{"$f":"SUM(H225:H241)","v":0},null,"Faktinės 1 mėnesio išlaidos, Eur","Naudojimo projekte trukmė, mėn."]
["5.7.1","Įrangos pavadinimas",null,"pro rata proc.",null,{"$f":"J225*K225","v":0},{"$f":"ROUND(E225*F225,2)","v":0},{"$f":"ROUND(G225*$D$7,2)","v":0}]
["5.7.2","Įrangos pavadinimas",null,"pro rata proc.",null,0,0,{"$f":"ROUND(G226*$D$7,2)","v":0}]
["5.7.3","Įrangos pavadinimas",null,"pro rata proc.",null,0,0,0]
["5.7.4","Įrangos pavadinimas",null,"pro rata proc.",null,0,0,0]
["5.7.5","Įrangos pavadinimas",null,"pro rata proc.",null,0,0,0]
["5.7.6","Įrangos pavadinimas",null,"pro rata proc.",null,0,0,0]
["5.7.7","Įrangos pavadinimas",null,"pro rata proc.",null,0,0,0]
["5.7.8","Įrangos pavadinimas",null,"pro rata proc.",null,0,0,0]
["5.7.9","Įrangos pavadinimas",null,"pro rata proc.",null,0,0,0]
["5.7.10","Įrangos pavadinimas",null,"pro rata proc.",null,0,0,0]
["5.7.11","Įrangos pavadinimas",null,"pro rata proc.",null,0,0,0]
["5.7.12","Įrangos pavadinimas",null,"pro rata proc.",null,0,0,0]
["5.7.13","Įrangos pavadinimas",null,"pro rata proc.",null,0,0,0]
["5.7.14","Įrangos pavadinimas",null,"pro rata proc.",null,{"$f":"J238*K238","v":0},0,{"$f":"ROUND(G238*$D$7,2)","v":0}]
["5.7.15","Įrangos pavadinimas",null,"pro rata proc.",null,{"$f":"J239*K239","v":0},0,{"$f":"ROUND(G239*$D$7,2)","v":0}]
["5.7.16","Įrangos pavadinimas",null,"pro rata proc.",null,{"$f":"J240*K240","v":0},0,{"$f":"ROUND(G240*$D$7,2)","v":0}]
["5.7.17","Įrangos pavadinimas",null,"pro rata proc.",null,{"$f":"J241*K241","v":0},0,{"$f":"ROUND(G241*$D$7,2)","v":0}]
["5.8","Pastatų ar patalpų nuomos išlaidos, veiklai priskirtos pro rata principu. Pastatai ar patalpos turi būti tiesiogiai susijusi su projekto įgyvendinimu.",null,null,null,null,{"$f":"SUM(G243:G247)","v":0},{"$f":"SUM(H243:H247)","v":0},null,"Faktinės 1 mėnesio išlaidos, Eur","Naudojimo projekte trukmė, mėn."]
["5.8.1","Pastato, patalpų adresas",null,"pro rata proc.",null,{"$f":"J243*K243","v":0},{"$f":"ROUND(E243*F243,2)","v":0},{"$f":"ROUND(G243*$D$7,2)","v":0}]
["5.8.2","Pastato, patalpų adresas",null,"pro rata proc.",null,{"$f":"J244*K244","v":0},{"$f":"ROUND(E244*F244,2)","v":0},{"$f":"ROUND(G244*$D$7,2)","v":0}]
["5.8.3","Pastato, patalpų adresas",null,"pro rata proc.",null,{"$f":"J245*K245","v":0},{"$f":"ROUND(E245*F245,2)","v":0},{"$f":"ROUND(G245*$D$7,2)","v":0}]
["5.8.4","Pastato, patalpų adresas",null,"pro rata proc.",null,{"$f":"J246*K246","v":0},{"$f":"ROUND(E246*F246,2)","v":0},{"$f":"ROUND(G246*$D$7,2)","v":0}]
["5.8.5","Pastato, patalpų adresas",null,"pro rata proc.",null,{"$f":"J247*K247","v":0},{"$f":"ROUND(E247*F247,2)","v":0},{"$f":"ROUND(G247*$D$7,2)","v":0}]
["5.9","Projekto veikloms vykdyti reikalingų transporto priemonių nuomos išlaidos (išlaidos yra tinkamos finansuoti tik pagal Aprašą Nr. 2 vadovaujantis de minimis reglamento nuostatomis)",null,null,null,null,{"$f":"SUM(G249:G253)","v":0},{"$f":"SUM(H249:H253)","v":0}]
["5.9.1","Išlaidų pavadinimas",null,null,null,null,{"$f":"ROUND(E249*F249,2)","v":0},{"$f":"ROUND(G249*$D$7,2)","v":0}]
["5.9.2","Išlaidų pavadinimas",null,null,null,null,{"$f":"ROUND(E250*F250,2)","v":0},{"$f":"ROUND(G250*$D$7,2)","v":0}]
["5.9.3","Išlaidų pavadinimas",null,null,null,null,{"$f":"ROUND(E251*F251,2)","v":0},{"$f":"ROUND(G251*$D$7,2)","v":0}]
["5.9.4","Išlaidų pavadinimas",null,null,null,null,{"$f":"ROUND(E252*F252,2)","v":0},{"$f":"ROUND(G252*$D$7,2)","v":0}]
["5.9.5","Išlaidų pavadinimas",null,null,null,null,{"$f":"ROUND(E253*F253,2)","v":0},{"$f":"ROUND(G253*$D$7,2)","v":0}]
["Iš viso tinkamų finansuoti išlaidų:",null,null,null,null,null,{"$f":"G10+G21","v":0},{"$f":"H10+H21","v":0}]

{"sheet":"3","index":5,"n_rows":254,"n_cols":18,"rows_kept":254,"cut":false,"hidden":false,"merged":[[5,3,5,8],[8,1,8,2],[9,1,9,5],[10,1,10,2],[11,1,11,2],[12,1,12,2],[0,3,0,8],[2,0,2,2],[2,3,2,8],[3,3,3,4],[3,5,3,6],[4,0,4,2],[4,3,4,8],[19,1,19,2],[20,1,20,5],[21,1,21,5],[22,1,22,2],[23,1,23,2],[24,1,24,2],[13,1,13,2],[14,1,14,2],[15,1,15,2],[16,1,16,2],[17,1,17,2],[18,1,18,2],[31,1,31,2],[32,1,32,5],[33,1,33,2],[34,1,34,2],[35,1,35,2],[36,1,36,2],[25,1,25,2],[26,1,26,2],[27,1,27,2],[28,1,28,2],[29,1,29,2],[30,1,30,2],[43,1,43,5],[44,1,44,2],[45,1,45,2],[46,1,46,2],[47,1,47,2],[48,1,48,2],[37,1,37,2],[38,1,38,2],[39,1,39,2],[40,1,40,2],[41,1,41,2],[42,1,42,2],[55,1,55,2],[56,1,56,2],[57,1,57,2],[58,1,58,2],[59,1,59,2],[60,1,60,2],[49,1,49,2],[50,1,50,2],[51,1,51,2],[52,1,52,2],[53,1,53,2],[54,1,54,2],[67,1,67,2],[68,1,68,2],[69,1,69,2],[70,1,70,2],[71,1,71,5],[72,1,72,2],[61,1,61,2],[62,1,62,2],[63,1,63,2],[64,1,64,2],[65,1,65,2],[66,1,66,2],[79,1,79,2],[80,1,80,2],[81,1,81,2],[82,1,82,2],[83,1,83,2],[84,1,84,2],[73,1,73,2],[74,1,74,2],[75,1,75,2],[76,1,76,2],[77,1,77,2],[78,1,78,2],[91,1,91,2],[92,1,92,2],[93,1,93,2],[94,1,94,2],[95,1,95,2],[96,1,96,2],[85,1,85,2],[86,1,86,2],[87,1,87,2],[88,1,88,2],[89,1,89,2],[90,1,90,2],[97,1,97,2],[98,1,98,2],[99,1,99,2],[100,1,100,2],[101,1,101,5],[102,0,106,0],[102,1,106,1],[102,3,106,3],[102,4,106,4],[102,5,106,5],[102,6,106,6],[102,7,106,7],[102,8,106,8],[107,0,111,0],[107,1,111,1],[107,3,111,3],[107,4,111,4],[107,5,111,5],[107,6,111,6],[107,7,111,7],[107,8,111,8],[112,0,116,0],[112,1,116,1],[112,3,116,3],[112,4,116,4],[112,5,116,5],[112,6,116,6],[112,7,116,7],[112,8,116,8],[117,7,121,7],[117,8,121,8],[122,0,126,0],[122,1,126,1],[122,3,126,3],[122,4,126,4],[122,5,126,5],[122,6,126,6],[122,7,126,7],[122,8,126,8],[117,0,121,0],[117,1,121,1],[117,3,121,3],[117,4,121,4],[117,5,121,5],[117,6,121,6],[127,7,131,7],[127,8,131,8],[132,0,136,0],[132,1,136,1],[132,3,136,3],[132,4,136,4],[132,5,136,5],[132,6,136,6],[132,7,136,7],[132,8,136,8],[127,0,131,0],[127,1,131,1],[127,3,131,3],[127,4,131,4],[127,5,131,5],[127,6,131,6],[137,7,141,7],[137,8,141,8],[142,0,146,0],[142,1,146,1],[142,3,146,3],[142,4,146,4],[142,5,146,5],[142,6,146,6],[142,7,146,7],[142,8,146,8],[137,0,141,0],[137,1,141,1],[137,3,141,3],[137,4,141,4],[137,5,141,5],[137,6,141,6],[147,7,151,7],[147,8,151,8],[152,1,152,5],[153,0,159,0],[153,1,159,1],[153,8,159,8],[147,0,151,0],[147,1,151,1],[147,3,151,3],[147,4,151,4],[147,5,151,5],[147,6,151,6],[174,0,180,0],[174,1,180,1],[174,8,180,8],[181,0,187,0],[181,1,187,1],[181,8,187,8],[160,0,166,0],[160,1,166,1],[160,8,166,8],[167,0,173,0],[167,1,173,1],[167,8,173,8],[202,0,208,0],[202,1,208,1],[202,8,208,8],[209,0,215,0],[209,1,215,1],[209,8,215,8],[188,0,194,0],[188,1,194,1],[188,8,194,8],[195,0,201,0],[195,1,201,1],[195,8,201,8],[226,1,226,2],[227,1,227,2],[228,1,228,2],[229,1,229,2],[230,1,230,2],[231,1,231,2],[216,0,222,0],[216,1,222,1],[216,8,222,8],[223,1,223,5],[224,1,224,2],[225,1,225,2],[238,1,238,2],[239,1,239,2],[240,1,240,2],[241,1,241,5],[242,1,242,2],[243,1,243,2],[232,1,232,2],[233,1,233,2],[234,1,234,2],[235,1,235,2],[236,1,236,2],[237,1,237,2],[250,1,250,2],[251,1,251,2],[252,1,252,2],[253,0,253,5],[244,1,244,2],[245,1,245,2],[246,1,246,2],[247,1,247,5],[248,1,248,2],[249,1,249,2]]}
[null,null,"Pasirinkite veiklos tipą:"]
[null,null,"Fizinio rodiklio Nr.:"]
["Fizinio rodiklio pavadinimas:"]
[null,null,"Fizinio rodiklio matavimo vnt.:",null,null,"Fizinio rodiklio vnt. skaičius:"]
["Juridinis asmuo (pareiškėjas, partneris), atsakingas už fizinį rodiklį:"]
[null,null,"Vykdytojo tipas:"]
[null,null,"Finansavimo intensyvumas:",null,null,null,"Pasirinkite biudžeto išlaidų kategoriją:","Visos"]
[]
["Eil. Nr.","Išlaidų kategorijos pavadinimas",null,"Matavimo vnt.","Kiekis","Vieneto kaina be PVM, Eur","Tinkamų finansuoti išlaidų suma be PVM, Eur","Finansavimo suma, Eur","Išlaidų pagrindimo dokumentų pavadinimas, data ir Nr."]
[4,"ĮRANGA, ĮRENGINIAI IR KT. TURTAS (techninių žinių ir išradimų patentų arba teisių pagal licencijų sutartį įsigijimo išlaidos)",null,null,null,null,{"$f":"SUM(G11:G20)","v":0},{"$f":"SUM(H11:H20)","v":0}]
["4.1","Išlaidų pavadinimas",null,null,null,null,{"$f":"ROUND(E11*F11,2)","v":0},{"$f":"ROUND(G11*$D$7,2)","v":0}]
["4.2","Išlaidų pavadinimas",null,null,null,null,0,0]
["4.3","Išlaidų pavadinimas",null,null,null,null,0,0]
["4.4","Išlaidų pavadinimas",null,null,null,null,0,0]
["4.5","Išlaidų pavadinimas",null,null,null,null,0,0]
["4.6","Išlaidų pavadinimas",null,null,null,null,0,0]
["4.7","Išlaidų pavadinimas",null,null,null,null,0,0]
["4.8","Išlaidų pavadinimas",null,null,null,null,0,0]
["4.9","Išlaidų pavadinimas",null,null,null,null,0,0]
["4.10","Išlaidų pavadinimas",null,null,null,null,0,0]
[5,"PROJEKTO VYKDYMAS",null,null,null,null,{"$f":"G22+G33+G44+G72+G102+G153+G224+G242+G248","v":0},{"$f":"H22+H33+H44+H72+H102+H153+H224+H242+H248","v":0}]
["5.1","MTEP paslaugos",null,null,null,null,{"$f":"SUM(G23:G32)","v":0},{"$f":"SUM(H23:H32)","v":0}]
["5.1.1","Paslaugos pavadinimas",null,null,null,null,{"$f":"ROUND(E23*F23,2)","v":0},0]
["5.1.2","Paslaugos pavadinimas",null,null,null,null,0,0]
["5.1.3","Paslaugos pavadinimas",null,null,null,null,0,0]
["5.1.4","Paslaugos pavadinimas",null,null,null,null,0,0]
["5.1.5","Paslaugos pavadinimas",null,null,null,null,0,0]
["5.1.6","Paslaugos pavadinimas",null,null,null,null,0,0]
["5.1.7","Paslaugos pavadinimas",null,null,null,null,0,0]
["5.1.8","Paslaugos pavadinimas",null,null,null,null,0,0]
["5.1.9","Paslaugos pavadinimas",null,null,null,null,0,0]
["5.1.10","Paslaugos pavadinimas",null,null,null,null,0,0]
["5.2","Konsultavimo ir lygiavertės paslaugos, teikiamos vien tik projekto MTEP veiklai.",null,null,null,null,{"$f":"SUM(G34:G43)","v":0},{"$f":"SUM(H34:H43)","v":0}]
["5.2.1","Paslaugos pavadinimas",null,null,null,null,{"$f":"ROUND(E34*F34,2)","v":0},0]
["5.2.2","Paslaugos pavadinimas",null,null,null,null,0,0]
["5.2.3","Paslaugos pavadinimas",null,null,null,null,0,0]
["5.2.4","Paslaugos pavadinimas",null,null,null,null,0,0]
["5.2.5","Paslaugos pavadinimas",null,null,null,null,0,0]
["5.2.6","Paslaugos pavadinimas",null,null,null,null,0,0]
["5.2.7","Paslaugos pavadinimas",null,null,null,null,0,0]
["5.2.8","Paslaugos pavadinimas",null,null,null,null,0,0]
["5.2.9","Paslaugos pavadinimas",null,null,null,null,0,0]
["5.2.10","Paslaugos pavadinimas",null,null,null,null,0,0]
["5.3","Medžiagos, mažavertis inventorius, atsargos ir pan. produktai, priskirtini trumpalaikiam turtui ir tiesiogiai susiję su MTEP veikla",null,null,null,null,{"$f":"SUM(G45:G71)","v":0},{"$f":"SUM(H45:H71)","v":0}]
["5.3.1","Išlaidų pavadinimas",null,null,null,null,{"$f":"ROUND(E45*F45,2)","v":0},{"$f":"ROUND(G45*$D$7,2)","v":0}]
["5.3.2","Išlaidų pavadinimas",null,null,null,null,{"$f":"ROUND(E46*F46,2)","v":0},{"$f":"ROUND(G46*$D$7,2)","v":0}]
["5.3.3","Išlaidų pavadinimas",null,null,null,null,{"$f":"ROUND(E47*F47,2)","v":0},{"$f":"ROUND(G47*$D$7,2)","v":0}]
["5.3.4","Išlaidų pavadinimas",null,null,null,null,{"$f":"ROUND(E48*F48,2)","v":0},{"$f":"ROUND(G48*$D$7,2)","v":0}]
["5.3.5","Išlaidų pavadinimas",null,null,null,null,{"$f":"ROUND(E49*F49,2)","v":0},{"$f":"ROUND(G49*$D$7,2)","v":0}]
["5.3.6","Išlaidų pavadinimas",null,null,null,null,0,0]
["5.3.7","Išlaidų pavadinimas",null,null,null,null,0,0]
["5.3.8","Išlaidų pavadinimas",null,null,null,null,0,0]
["5.3.9","Išlaidų pavadinimas",null,null,null,null,0,0]
["5.3.10","Išlaidų pavadinimas",null,null,null,null,0,0]
["5.3.11","Išlaidų pavadinimas",null,null,null,null,0,0]
["5.3.12","Išlaidų pavadinimas",null,null,null,null,0,0]
["5.3.13","Išlaidų pavadinimas",null,null,null,null,0,0]
["5.3.14","Išlaidų pavadinimas",null,null,null,null,0,0]
["5.3.15","Išlaidų pavadinimas",null,null,null,null,0,0]
["5.3.16","Išlaidų pavadinimas",null,null,null,null,0,0]
["5.3.17","Išlaidų pavadinimas",null,null,null,null,0,0]
["5.3.18","Išlaidų pavadinimas",null,null,null,null,0,0]
["5.3.19","Išlaidų pavadinimas",null,null,null,null,0,0]
["5.3.20","Išlaidų pavadinimas",null,null,null,null,0,0]
["5.3.21","Išlaidų pavadinimas",null,null,null,null,0,0]
["5.3.22","Išlaidų pavadinimas",null,null,null,null,0,0]
["5.3.23","Išlaidų pavadinimas",null,null,null,null,0,0]
["5.3.24","Išlaidų pavadinimas",null,null,null,null,0,0]
["5.3.25","Išlaidų pavadinimas",null,null,null,null,0,0]
["5.3.26","Išlaidų pavadinimas",null,null,null,null,0,0]
["5.3.27","Išlaidų pavadinimas",null,null,null,null,0,0]
["5.4","Projekto MTEP veikloms naudojamo ilgalaikio materialaus turto (įrangos, prietaisų, įrankių, įrenginių, mašinų ir įrengimų, pastatų ir (ar) patalpų), nusidėvėjimo sąnaudos, jeigu šiam turtui įsigyti nebuvo naudojamos viešosios (įskaitant ir kitų valstybių) lėšos",null,null,null,null,{"$f":"SUM(G73:G101)","v":0},{"$f":"SUM(H73:H101)","v":0},null,"Turto įvedimo į eksploataciją data","Turto įsigijimo vertė, Eur","Turto nudėvėjimo, amortizacijos laikotarpis, mėn.","Numatoma turto likutinė vertė, Eur","1 mėn. nudėvėjimo, amortizacijos suma, Eur","Turto naudojamo projekto reikmėms laikas, mėn.","Turto panaudojimo projekto reikmėms dalis (proc.)","Projektui priskirta turto nusidėvėjimo, amortizacijos suma per projekto laikotarpį, Eur"]
["5.4.1","Turtas, kurio nusidėvėjimą, amortizaciją prašoma finansuoti",null,null,1,{"$f":"Q73","v":0},{"$f":"ROUND(E73*F73,2)","v":0},0,null,null,null,null,null,{"$f":"IFERROR(ROUND((K73-M73)/L73,2),\"0\")","v":"0"},null,null,{"$f":"N73*O73*P73","v":0},{"$f":"IF(J73=0,\" \",IF(J73+(L73*30.5)<TODAY(),\"DĖMESIO! Patikrinkite, ar nurodytas turtas dar nėra nudėvėtas, amortizuotas\",\" \"))","v":" "}]
["5.4.2","Turtas, kurio nusidėvėjimą, amortizaciją prašoma finansuoti",null,null,1,0,0,0,null,null,null,null,null,{"$f":"IFERROR(ROUND((K74-M74)/L74,2),\"0\")","v":"0"},null,null,{"$f":"N74*O74*P74","v":0},{"$f":"IF(J74=0,\" \",IF(J74+(L74*30.5)<TODAY(),\"DĖMESIO! Patikrinkite, ar nurodytas turtas dar nėra nudėvėtas, amortizuotas\",\" \"))","v":" "}]
["5.4.3","Turtas, kurio nusidėvėjimą, amortizaciją prašoma finansuoti",null,null,1,0,0,0,null,null,null,null,null,"0",null,null,0," "]
["5.4.4","Turtas, kurio nusidėvėjimą, amortizaciją prašoma finansuoti",null,null,1,0,0,0,null,null,null,null,null,"0",null,null,0," "]
["5.4.5","Turtas, kurio nusidėvėjimą, amortizaciją prašoma finansuoti",null,null,1,0,0,0,null,null,null,null,null,"0",null,null,0," "]
["5.4.6","Turtas, kurio nusidėvėjimą, amortizaciją prašoma finansuoti",null,null,1,0,0,0,null,null,null,null,null,"0",null,null,0," "]
["5.4.7","Turtas, kurio nusidėvėjimą, amortizaciją prašoma finansuoti",null,null,1,0,0,0,null,null,null,null,null,"0",null,null,0," "]
["5.4.8","Turtas, kurio nusidėvėjimą, amortizaciją prašoma finansuoti",null,null,1,0,0,0,null,null,null,null,null,"0",null,null,0," "]
["5.4.9","Turtas, kurio nusidėvėjimą, amortizaciją prašoma finansuoti",null,null,1,0,0,0,null,null,null,null,null,"0",null,null,0," "]
["5.4.10","Turtas, kurio nusidėvėjimą, amortizaciją prašoma finansuoti",null,null,1,0,0,0,null,null,null,null,null,"0",null,null,0," "]
["5.4.11","Turtas, kurio nusidėvėjimą, amortizaciją prašoma finansuoti",null,null,1,0,0,0,null,null,null,null,null,"0",null,null,0," "]
["5.4.12","Turtas, kurio nusidėvėjimą, amortizaciją prašoma finansuoti",null,null,1,0,0,0,null,null,null,null,null,"0",null,null,0," "]
["5.4.13","Turtas, kurio nusidėvėjimą, amortizaciją prašoma finansuoti",null,null,1,0,0,0,null,null,null,null,null,"0",null,null,0," "]
["5.4.14","Turtas, kurio nusidėvėjimą, amortizaciją prašoma finansuoti",null,null,1,0,0,0,null,null,null,null,null,"0",null,null,0," "]
["5.4.15","Turtas, kurio nusidėvėjimą, amortizaciją prašoma finansuoti",null,null,1,0,0,0,null,null,null,null,null,"0",null,null,0," "]
["5.4.16","Turtas, kurio nusidėvėjimą, amortizaciją prašoma finansuoti",null,null,1,0,0,0,null,null,null,null,null,"0",null,null,0," "]
["5.4.17","Turtas, kurio nusidėvėjimą, amortizaciją prašoma finansuoti",null,null,1,0,0,0,null,null,null,null,null,"0",null,null,0," "]
["5.4.18","Turtas, kurio nusidėvėjimą, amortizaciją prašoma finansuoti",null,null,1,0,0,0,null,null,null,null,null,"0",null,null,0," "]
["5.4.19","Turtas, kurio nusidėvėjimą, amortizaciją prašoma finansuoti",null,null,1,0,0,0,null,null,null,null,null,"0",null,null,0," "]
["5.4.20","Turtas, kurio nusidėvėjimą, amortizaciją prašoma finansuoti",null,null,1,0,0,0,null,null,null,null,null,"0",null,null,0," "]
["5.4.21","Turtas, kurio nusidėvėjimą, amortizaciją prašoma finansuoti",null,null,1,0,0,0,null,null,null,null,null,"0",null,null,0," "]
["5.4.22","Turtas, kurio nusidėvėjimą, amortizaciją prašoma finansuoti",null,null,1,0,0,0,null,null,null,null,null,"0",null,null,0," "]
["5.4.23","Turtas, kurio nusidėvėjimą, amortizaciją prašoma finansuoti",null,null,1,0,0,0,null,null,null,null,null,"0",null,null,0," "]
["5.4.24","Turtas, kurio nusidėvėjimą, amortizaciją prašoma finansuoti",null,null,1,0,0,0,null,null,null,null,null,"0",null,null,0," "]
["5.4.25","Turtas, kurio nusidėvėjimą, amortizaciją prašoma finansuoti",null,null,1,0,0,0,null,null,null,null,null,"0",null,null,0," "]
["5.4.26","Turtas, kurio nusidėvėjimą, amortizaciją prašoma finansuoti",null,null,1,0,0,0,null,null,null,null,null,"0",null,null,0," "]
["5.4.27","Turtas, kurio nusidėvėjimą, amortizaciją prašoma finansuoti",null,null,1,0,0,0,null,null,null,null,null,"0",null,null,0," "]
["5.4.28","Turtas, kurio nusidėvėjimą, amortizaciją prašoma finansuoti",null,null,1,0,0,0,null,null,null,null,null,"0",null,null,0," "]
["5.4.29","Turtas, kurio nusidėvėjimą, amortizaciją prašoma finansuoti",null,null,1,0,0,0,null,null,null,null,null,"0",null,null,0," "]
["5.5","Projektą vykdančio personalo darbo užmokestis ir išlaidos su darbo santykiais susijusiems darbdavio įsipareigojimams",null,null,null,null,{"$f":"SUM(G103:G152)","v":0},{"$f":"SUM(H103:H152)","v":0},null,"Faktiškai gaunamas darbo užmokesti už 1 valandą pagal  pastarųjų 6 mėn. vidurkį, Eur"]
["5.5.1","Pareigybės pavadinimas","Darbuotojo vardas pavardė","val.",null,{"$f":"IFERROR(ROUND(AVERAGE(J103:J107),2),\"0\")","v":"0"},{"$f":"ROUND(E103*F103,2)","v":0},{"$f":"ROUND(G103*$D$7,2)","v":0}]
[null,null,"Darbuotojo vardas pavardė"]
[null,null,"Darbuotojo vardas pavardė"]
[null,null,"Darbuotojo vardas pavardė"]
[null,null,"Darbuotojo vardas pavardė"]
["5.5.2","Pareigybės pavadinimas","Darbuotojo vardas pavardė","val.",null,{"$f":"IFERROR(ROUND(AVERAGE(J108:J112),2),\"0\")","v":"0"},{"$f":"ROUND(E108*F108,2)","v":0},{"$f":"ROUND(G108*$D$7,2)","v":0}]
[null,null,"Darbuotojo vardas pavardė"]
[null,null,"Darbuotojo vardas pavardė"]
[null,null,"Darbuotojo vardas pavardė"]
[null,null,"Darbuotojo vardas pavardė"]
["5.5.3","Pareigybės pavadinimas","Darbuotojo vardas pavardė","val.",null,{"$f":"IFERROR(ROUND(AVERAGE(J113:J117),2),\"0\")","v":"0"},{"$f":"ROUND(E113*F113,2)","v":0},{"$f":"ROUND(G113*$D$7,2)","v":0}]
[null,null,"Darbuotojo vardas pavardė"]
[null,null,"Darbuotojo vardas pavardė"]
[null,null,"Darbuotojo vardas pavardė"]
[null,null,"Darbuotojo vardas pavardė"]
["5.5.4","Pareigybės pavadinimas","Darbuotojo vardas pavardė","val.",null,{"$f":"IFERROR(ROUND(AVERAGE(J118:J122),2),\"0\")","v":"0"},{"$f":"ROUND(E118*F118,2)","v":0},{"$f":"ROUND(G118*$D$7,2)","v":0}]
[null,null,"Darbuotojo vardas pavardė"]
[null,null,"Darbuotojo vardas pavardė"]
[null,null,"Darbuotojo vardas pavardė"]
[null,null,"Darbuotojo vardas pavardė"]
["5.5.5","Pareigybės pavadinimas","Darbuotojo vardas pavardė","val.",null,{"$f":"IFERROR(ROUND(AVERAGE(J123:J127),2),\"0\")","v":"0"},{"$f":"ROUND(E123*F123,2)","v":0},{"$f":"ROUND(G123*$D$7,2)","v":0}]
[null,null,"Darbuotojo vardas pavardė"]
[null,null,"Darbuotojo vardas pavardė"]
[null,null,"Darbuotojo vardas pavardė"]
[null,null,"Darbuotojo vardas pavardė"]
["5.5.6","Pareigybės pavadinimas","Darbuotojo vardas pavardė","val.",null,{"$f":"IFERROR(ROUND(AVERAGE(J128:J132),2),\"0\")","v":"0"},{"$f":"ROUND(E128*F128,2)","v":0},{"$f":"ROUND(G128*$D$7,2)","v":0}]
[null,null,"Darbuotojo vardas pavardė"]
[null,null,"Darbuotojo vardas pavardė"]
[null,null,"Darbuotojo vardas pavardė"]
[null,null,"Darbuotojo vardas pavardė"]
["5.5.7","Pareigybės pavadinimas","Darbuotojo vardas pavardė","val.",null,{"$f":"IFERROR(ROUND(AVERAGE(J133:J137),2),\"0\")","v":"0"},{"$f":"ROUND(E133*F133,2)","v":0},{"$f":"ROUND(G133*$D$7,2)","v":0}]
[null,null,"Darbuotojo vardas pavardė"]
[null,null,"Darbuotojo vardas pavardė"]
[null,null,"Darbuotojo vardas pavardė"]
[null,null,"Darbuotojo vardas pavardė"]
["5.5.8","Pareigybės pavadinimas","Darbuotojo vardas pavardė","val.",null,{"$f":"IFERROR(ROUND(AVERAGE(J138:J142),2),\"0\")","v":"0"},{"$f":"ROUND(E138*F138,2)","v":0},{"$f":"ROUND(G138*$D$7,2)","v":0}]
[null,null,"Darbuotojo vardas pavardė"]
[null,null,"Darbuotojo vardas pavardė"]
[null,null,"Darbuotojo vardas pavardė"]
[null,null,"Darbuotojo vardas pavardė"]
["5.5.9","Pareigybės pavadinimas","Darbuotojo vardas pavardė","val.",null,{"$f":"IFERROR(ROUND(AVERAGE(J143:J147),2),\"0\")","v":"0"},{"$f":"ROUND(E143*F143,2)","v":0},{"$f":"ROUND(G143*$D$7,2)","v":0}]
[null,null,"Darbuotojo vardas pavardė"]
[null,null,"Darbuotojo vardas pavardė"]
[null,null,"Darbuotojo vardas pavardė"]
[null,null,"Darbuotojo vardas pavardė"]
["5.5.10","Pareigybės pavadinimas","Darbuotojo vardas pavardė","val.",null,{"$f":"IFERROR(ROUND(AVERAGE(J148:J152),2),\"0\")","v":"0"},{"$f":"ROUND(E148*F148,2)","v":0},{"$f":"ROUND(G148*$D$7,2)","v":0}]
[null,null,"Darbuotojo vardas pavardė"]
[null,null,"Darbuotojo vardas pavardė"]
[null,null,"Darbuotojo vardas pavardė"]
[null,null,"Darbuotojo vardas pavardė"]
["5.6","Projektą vykdančio personalo komandiruočių išlaidos",null,null,null,null,{"$f":"SUM(G154,G161,G168,G175,G182,G189,G196,G203,G210,G217)","v":0},{"$f":"SUM(H154,H161,H168,H175,H182,H189,H196,H203,H210,H217)","v":0}]
["5.6.1","Komandiruotės pavadinimas, vieta, trukmė dienomis, vykstančių asmenų skaičius","Iš viso komandiruotei",null,null,null,{"$f":"SUM(G155:G160)","v":0},{"$f":"ROUND(G154*$D$7,2)","v":0}]
[null,null,"Dienpinigiai",null,null,null,{"$f":"ROUND(E155*F155,2)","v":0}]
[null,null,"Gyvenamojo ploto nuoma",null,null,null,0]
[null,null,"Kelionės išlaidos",null,null,null,0]
[null,null,"Dalyvavimo mokestis",null,null,null,0]
[null,null,"Kitos išlaidų pavadinimas",null,null,null,0]
[null,null,"Kitos išlaidų pavadinimas",null,null,null,0]
["5.6.2","Komandiruotės pavadinimas, vieta, trukmė dienomis, vykstančių asmenų skaičius","Iš viso komandiruotei",null,null,null,{"$f":"SUM(G162:G167)","v":0},{"$f":"ROUND(G161*$D$7,2)","v":0}]
[null,null,"Dienpinigiai",null,null,null,{"$f":"ROUND(E162*F162,2)","v":0}]
[null,null,"Gyvenamojo ploto nuoma",null,null,null,0]
[null,null,"Kelionės išlaidos",null,null,null,0]
[null,null,"Dalyvavimo mokestis",null,null,null,0]
[null,null,"Kitos išlaidų pavadinimas",null,null,null,0]
[null,null,"Kitos išlaidų pavadinimas",null,null,null,0]
["5.6.3","Komandiruotės pavadinimas, vieta, trukmė dienomis, vykstančių asmenų skaičius","Iš viso komandiruotei",null,null,null,{"$f":"SUM(G169:G174)","v":0},{"$f":"ROUND(G168*$D$7,2)","v":0}]
[null,null,"Dienpinigiai",null,null,null,{"$f":"ROUND(E169*F169,2)","v":0}]
[null,null,"Gyvenamojo ploto nuoma",null,null,null,0]
[null,null,"Kelionės išlaidos",null,null,null,0]
[null,null,"Dalyvavimo mokestis",null,null,null,0]
[null,null,"Kitos išlaidų pavadinimas",null,null,null,0]
[null,null,"Kitos išlaidų pavadinimas",null,null,null,0]
["5.6.4","Komandiruotės pavadinimas, vieta, trukmė dienomis, vykstančių asmenų skaičius","Iš viso komandiruotei",null,null,null,{"$f":"SUM(G176:G181)","v":0},{"$f":"ROUND(G175*$D$7,2)","v":0}]
[null,null,"Dienpinigiai",null,null,null,{"$f":"ROUND(E176*F176,2)","v":0}]
[null,null,"Gyvenamojo ploto nuoma",null,null,null,0]
[null,null,"Kelionės išlaidos",null,null,null,0]
[null,null,"Dalyvavimo mokestis",null,null,null,0]
[null,null,"Kitos išlaidų pavadinimas",null,null,null,0]
[null,null,"Kitos išlaidų pavadinimas",null,null,null,0]
["5.6.5","Komandiruotės pavadinimas, vieta, trukmė dienomis, vykstančių asmenų skaičius","Iš viso komandiruotei",null,null,null,{"$f":"SUM(G183:G188)","v":0},{"$f":"ROUND(G182*$D$7,2)","v":0}]
[null,null,"Dienpinigiai",null,null,null,{"$f":"ROUND(E183*F183,2)","v":0}]
[null,null,"Gyvenamojo ploto nuoma",null,null,null,0]
[null,null,"Kelionės išlaidos",null,null,null,0]
[null,null,"Dalyvavimo mokestis",null,null,null,0]
[null,null,"Kitos išlaidų pavadinimas",null,null,null,0]
[null,null,"Kitos išlaidų pavadinimas",null,null,null,0]
["5.6.6","Komandiruotės pavadinimas, vieta, trukmė dienomis, vykstančių asmenų skaičius","Iš viso komandiruotei",null,null,null,{"$f":"SUM(G190:G195)","v":0},{"$f":"ROUND(G189*$D$7,2)","v":0}]
[null,null,"Dienpinigiai",null,null,null,{"$f":"ROUND(E190*F190,2)","v":0}]
[null,null,"Gyvenamojo ploto nuoma",null,null,null,0]
[null,null,"Kelionės išlaidos",null,null,null,0]
[null,null,"Dalyvavimo mokestis",null,null,null,0]
[null,null,"Kitos išlaidų pavadinimas",null,null,null,0]
[null,null,"Kitos išlaidų pavadinimas",null,null,null,0]
["5.6.7","Komandiruotės pavadinimas, vieta, trukmė dienomis, vykstančių asmenų skaičius","Iš viso komandiruotei",null,null,null,{"$f":"SUM(G197:G202)","v":0},{"$f":"ROUND(G196*$D$7,2)","v":0}]
[null,null,"Dienpinigiai",null,null,null,{"$f":"ROUND(E197*F197,2)","v":0}]
[null,null,"Gyvenamojo ploto nuoma",null,null,null,0]
[null,null,"Kelionės išlaidos",null,null,null,0]
[null,null,"Dalyvavimo mokestis",null,null,null,0]
[null,null,"Kitos išlaidų pavadinimas",null,null,null,0]
[null,null,"Kitos išlaidų pavadinimas",null,null,null,0]
["5.6.8","Komandiruotės pavadinimas, vieta, trukmė dienomis, vykstančių asmenų skaičius","Iš viso komandiruotei",null,null,null,{"$f":"SUM(G204:G209)","v":0},{"$f":"ROUND(G203*$D$7,2)","v":0}]
[null,null,"Dienpinigiai",null,null,null,{"$f":"ROUND(E204*F204,2)","v":0}]
[null,null,"Gyvenamojo ploto nuoma",null,null,null,0]
[null,null,"Kelionės išlaidos",null,null,null,0]
[null,null,"Dalyvavimo mokestis",null,null,null,0]
[null,null,"Kitos išlaidų pavadinimas",null,null,null,0]
[null,null,"Kitos išlaidų pavadinimas",null,null,null,0]
["5.6.9","Komandiruotės pavadinimas, vieta, trukmė dienomis, vykstančių asmenų skaičius","Iš viso komandiruotei",null,null,null,{"$f":"SUM(G211:G216)","v":0},{"$f":"ROUND(G210*$D$7,2)","v":0}]
[null,null,"Dienpinigiai",null,null,null,{"$f":"ROUND(E211*F211,2)","v":0}]
[null,null,"Gyvenamojo ploto nuoma",null,null,null,0]
[null,null,"Kelionės išlaidos",null,null,null,0]
[null,null,"Dalyvavimo mokestis",null,null,null,0]
[null,null,"Kitos išlaidų pavadinimas",null,null,null,0]
[null,null,"Kitos išlaidų pavadinimas",null,null,null,0]
["5.6.10","Komandiruotės pavadinimas, vieta, trukmė dienomis, vykstančių asmenų skaičius","Iš viso komandiruotei",null,null,null,{"$f":"SUM(G218:G223)","v":0},{"$f":"ROUND(G217*$D$7,2)","v":0}]
[null,null,"Dienpinigiai",null,null,null,{"$f":"ROUND(E218*F218,2)","v":0}]
[null,null,"Gyvenamojo ploto nuoma",null,null,null,0]
[null,null,"Kelionės išlaidos",null,null,null,0]
[null,null,"Dalyvavimo mokestis",null,null,null,0]
[null,null,"Kitos išlaidų pavadinimas",null,null,null,0]
[null,null,"Kitos išlaidų pavadinimas",null,null,null,0]
["5.7","Įrangos nuomos išlaidos, veiklai priskirtos pro rata principu. Įranga turi būti tiesiogiai susijusi su projekto įgyvendinimu ir negali būti įsigyta iš ES struktūrinių fondų ar kt. ES finansinių priemonių lėšų",null,null,null,null,{"$f":"SUM(G225:G241)","v":0},{"$f":"SUM(H225:H241)","v":0},null,"Faktinės 1 mėnesio išlaidos, Eur","Naudojimo projekte trukmė, mėn."]
["5.7.1","Įrangos pavadinimas",null,"pro rata proc.",null,{"$f":"J225*K225","v":0},{"$f":"ROUND(E225*F225,2)","v":0},{"$f":"ROUND(G225*$D$7,2)","v":0}]
["5.7.2","Įrangos pavadinimas",null,"pro rata proc.",null,0,0,{"$f":"ROUND(G226*$D$7,2)","v":0}]
["5.7.3","Įrangos pavadinimas",null,"pro rata proc.",null,0,0,0]
["5.7.4","Įrangos pavadinimas",null,"pro rata proc.",null,0,0,0]
["5.7.5","Įrangos pavadinimas",null,"pro rata proc.",null,0,0,0]
["5.7.6","Įrangos pavadinimas",null,"pro rata proc.",null,0,0,0]
["5.7.7","Įrangos pavadinimas",null,"pro rata proc.",null,0,0,0]
["5.7.8","Įrangos pavadinimas",null,"pro rata proc.",null,0,0,0]
["5.7.9","Įrangos pavadinimas",null,"pro rata proc.",null,0,0,0]
["5.7.10","Įrangos pavadinimas",null,"pro rata proc.",null,0,0,0]
["5.7.11","Įrangos pavadinimas",null,"pro rata proc.",null,0,0,0]
["5.7.12","Įrangos pavadinimas",null,"pro rata proc.",null,0,0,0]
["5.7.13","Įrangos pavadinimas",null,"pro rata proc.",null,0,0,0]
["5.7.14","Įrangos pavadinimas",null,"pro rata proc.",null,{"$f":"J238*K238","v":0},0,{"$f":"ROUND(G238*$D$7,2)","v":0}]
["5.7.15","Įrangos pavadinimas",null,"pro rata proc.",null,{"$f":"J239*K239","v":0},0,{"$f":"ROUND(G239*$D$7,2)","v":0}]
["5.7.16","Įrangos pavadinimas",null,"pro rata proc.",null,{"$f":"J240*K240","v":0},0,{"$f":"ROUND(G240*$D$7,2)","v":0}]
["5.7.17","Įrangos pavadinimas",null,"pro rata proc.",null,{"$f":"J241*K241","v":0},0,{"$f":"ROUND(G241*$D$7,2)","v":0}]
["5.8","Pastatų ar patalpų nuomos išlaidos, veiklai priskirtos pro rata principu. Pastatai ar patalpos turi būti tiesiogiai susijusi su projekto įgyvendinimu.",null,null,null,null,{"$f":"SUM(G243:G247)","v":0},{"$f":"SUM(H243:H247)","v":0},null,"Faktinės 1 mėnesio išlaidos, Eur","Naudojimo projekte trukmė, mėn."]
["5.8.1","Pastato, patalpų adresas",null,"pro rata proc.",null,{"$f":"J243*K243","v":0},{"$f":"ROUND(E243*F243,2)","v":0},{"$f":"ROUND(G243*$D$7,2)","v":0}]
["5.8.2","Pastato, patalpų adresas",null,"pro rata proc.",null,{"$f":"J244*K244","v":0},{"$f":"ROUND(E244*F244,2)","v":0},{"$f":"ROUND(G244*$D$7,2)","v":0}]
["5.8.3","Pastato, patalpų adresas",null,"pro rata proc.",null,{"$f":"J245*K245","v":0},{"$f":"ROUND(E245*F245,2)","v":0},{"$f":"ROUND(G245*$D$7,2)","v":0}]
["5.8.4","Pastato, patalpų adresas",null,"pro rata proc.",null,{"$f":"J246*K246","v":0},{"$f":"ROUND(E246*F246,2)","v":0},{"$f":"ROUND(G246*$D$7,2)","v":0}]
["5.8.5","Pastato, patalpų adresas",null,"pro rata proc.",null,{"$f":"J247*K247","v":0},{"$f":"ROUND(E247*F247,2)","v":0},{"$f":"ROUND(G247*$D$7,2)","v":0}]
["5.9","Projekto veikloms vykdyti reikalingų transporto priemonių nuomos išlaidos (išlaidos yra tinkamos finansuoti tik pagal Aprašą Nr. 2 vadovaujantis de minimis reglamento nuostatomis)",null,null,null,null,{"$f":"SUM(G249:G253)","v":0},{"$f":"SUM(H249:H253)","v":0}]
["5.9.1","Išlaidų pavadinimas",null,null,null,null,{"$f":"ROUND(E249*F249,2)","v":0},{"$f":"ROUND(G249*$D$7,2)","v":0}]
["5.9.2","Išlaidų pavadinimas",null,null,null,null,{"$f":"ROUND(E250*F250,2)","v":0},{"$f":"ROUND(G250*$D$7,2)","v":0}]
["5.9.3","Išlaidų pavadinimas",null,null,null,null,{"$f":"ROUND(E251*F251,2)","v":0},{"$f":"ROUND(G251*$D$7,2)","v":0}]
["5.9.4","Išlaidų pavadinimas",null,null,null,null,{"$f":"ROUND(E252*F252,2)","v":0},{"$f":"ROUND(G252*$D$7,2)","v":0}]
["5.9.5","Išlaidų pavadinimas",null,null,null,null,{"$f":"ROUND(E253*F253,2)","v":0},{"$f":"ROUND(G253*$D$7,2)","v":0}]
["Iš viso tinkamų finansuoti išlaidų:",null,null,null,null,null,{"$f":"G10+G21","v":0},{"$f":"H10+H21","v":0}]

{"sheet":"4","index":6,"n_rows":254,"n_cols":18,"rows_kept":254,"cut":false,"hidden":false,"merged":[[5,3,5,8],[8,1,8,2],[9,1,9,5],[10,1,10,2],[11,1,11,2],[12,1,12,2],[0,3,0,8],[2,0,2,2],[2,3,2,8],[3,3,3,4],[3,5,3,6],[4,0,4,2],[4,3,4,8],[19,1,19,2],[20,1,20,5],[21,1,21,5],[22,1,22,2],[23,1,23,2],[24,1,24,2],[13,1,13,2],[14,1,14,2],[15,1,15,2],[16,1,16,2],[17,1,17,2],[18,1,18,2],[31,1,31,2],[32,1,32,5],[33,1,33,2],[34,1,34,2],[35,1,35,2],[36,1,36,2],[25,1,25,2],[26,1,26,2],[27,1,27,2],[28,1,28,2],[29,1,29,2],[30,1,30,2],[43,1,43,5],[44,1,44,2],[45,1,45,2],[46,1,46,2],[47,1,47,2],[48,1,48,2],[37,1,37,2],[38,1,38,2],[39,1,39,2],[40,1,40,2],[41,1,41,2],[42,1,42,2],[55,1,55,2],[56,1,56,2],[57,1,57,2],[58,1,58,2],[59,1,59,2],[60,1,60,2],[49,1,49,2],[50,1,50,2],[51,1,51,2],[52,1,52,2],[53,1,53,2],[54,1,54,2],[67,1,67,2],[68,1,68,2],[69,1,69,2],[70,1,70,2],[71,1,71,5],[72,1,72,2],[61,1,61,2],[62,1,62,2],[63,1,63,2],[64,1,64,2],[65,1,65,2],[66,1,66,2],[79,1,79,2],[80,1,80,2],[81,1,81,2],[82,1,82,2],[83,1,83,2],[84,1,84,2],[73,1,73,2],[74,1,74,2],[75,1,75,2],[76,1,76,2],[77,1,77,2],[78,1,78,2],[91,1,91,2],[92,1,92,2],[93,1,93,2],[94,1,94,2],[95,1,95,2],[96,1,96,2],[85,1,85,2],[86,1,86,2],[87,1,87,2],[88,1,88,2],[89,1,89,2],[90,1,90,2],[97,1,97,2],[98,1,98,2],[99,1,99,2],[100,1,100,2],[101,1,101,5],[102,0,106,0],[102,1,106,1],[102,3,106,3],[102,4,106,4],[102,5,106,5],[102,6,106,6],[102,7,106,7],[102,8,106,8],[107,0,111,0],[107,1,111,1],[107,3,111,3],[107,4,111,4],[107,5,111,5],[107,6,111,6],[107,7,111,7],[107,8,111,8],[112,0,116,0],[112,1,116,1],[112,3,116,3],[112,4,116,4],[112,5,116,5],[112,6,116,6],[112,7,116,7],[112,8,116,8],[117,7,121,7],[117,8,121,8],[122,0,126,0],[122,1,126,1],[122,3,126,3],[122,4,126,4],[122,5,126,5],[122,6,126,6],[122,7,126,7],[122,8,126,8],[117,0,121,0],[117,1,121,1],[117,3,121,3],[117,4,121,4],[117,5,121,5],[117,6,121,6],[127,7,131,7],[127,8,131,8],[132,0,136,0],[132,1,136,1],[132,3,136,3],[132,4,136,4],[132,5,136,5],[132,6,136,6],[132,7,136,7],[132,8,136,8],[127,0,131,0],[127,1,131,1],[127,3,131,3],[127,4,131,4],[127,5,131,5],[127,6,131,6],[137,7,141,7],[137,8,141,8],[142,0,146,0],[142,1,146,1],[142,3,146,3],[142,4,146,4],[142,5,146,5],[142,6,146,6],[142,7,146,7],[142,8,146,8],[137,0,141,0],[137,1,141,1],[137,3,141,3],[137,4,141,4],[137,5,141,5],[137,6,141,6],[147,7,151,7],[147,8,151,8],[152,1,152,5],[153,0,159,0],[153,1,159,1],[153,8,159,8],[147,0,151,0],[147,1,151,1],[147,3,151,3],[147,4,151,4],[147,5,151,5],[147,6,151,6],[174,0,180,0],[174,1,180,1],[174,8,180,8],[181,0,187,0],[181,1,187,1],[181,8,187,8],[160,0,166,0],[160,1,166,1],[160,8,166,8],[167,0,173,0],[167,1,173,1],[167,8,173,8],[202,0,208,0],[202,1,208,1],[202,8,208,8],[209,0,215,0],[209,1,215,1],[209,8,215,8],[188,0,194,0],[188,1,194,1],[188,8,194,8],[195,0,201,0],[195,1,201,1],[195,8,201,8],[226,1,226,2],[227,1,227,2],[228,1,228,2],[229,1,229,2],[230,1,230,2],[231,1,231,2],[216,0,222,0],[216,1,222,1],[216,8,222,8],[223,1,223,5],[224,1,224,2],[225,1,225,2],[238,1,238,2],[239,1,239,2],[240,1,240,2],[241,1,241,5],[242,1,242,2],[243,1,243,2],[232,1,232,2],[233,1,233,2],[234,1,234,2],[235,1,235,2],[236,1,236,2],[237,1,237,2],[250,1,250,2],[251,1,251,2],[252,1,252,2],[253,0,253,5],[244,1,244,2],[245,1,245,2],[246,1,246,2],[247,1,247,5],[248,1,248,2],[249,1,249,2]]}
[null,null,"Pasirinkite veiklos tipą:"]
[null,null,"Fizinio rodiklio Nr.:"]
["Fizinio rodiklio pavadinimas:"]
[null,null,"Fizinio rodiklio matavimo vnt.:",null,null,"Fizinio rodiklio vnt. skaičius:"]
["Juridinis asmuo (pareiškėjas, partneris), atsakingas už fizinį rodiklį:"]
[null,null,"Vykdytojo tipas:"]
[null,null,"Finansavimo intensyvumas:",null,null,null,"Pasirinkite biudžeto išlaidų kategoriją:"]
[]
["Eil. Nr.","Išlaidų kategorijos pavadinimas",null,"Matavimo vnt.","Kiekis","Vieneto kaina be PVM, Eur","Tinkamų finansuoti išlaidų suma be PVM, Eur","Finansavimo suma, Eur","Išlaidų pagrindimo dokumentų pavadinimas, data ir Nr."]
[4,"ĮRANGA, ĮRENGINIAI IR KT. TURTAS (techninių žinių ir išradimų patentų arba teisių pagal licencijų sutartį įsigijimo išlaidos)",null,null,null,null,{"$f":"SUM(G11:G20)","v":0},{"$f":"SUM(H11:H20)","v":0}]
[4.0999999999999996,"Išlaidų pavadinimas",null,null,null,null,{"$f":"ROUND(E11*F11,2)","v":0},{"$f":"ROUND(G11*$D$7,2)","v":0}]
[4.2,"Išlaidų pavadinimas",null,null,null,null,0,0]
[4.3,"Išlaidų pavadinimas",null,null,null,null,0,0]
[4.4000000000000004,"Išlaidų pavadinimas",null,null,null,null,0,0]
[4.5,"Išlaidų pavadinimas",null,null,null,null,0,0]
[4.5999999999999996,"Išlaidų pavadinimas",null,null,null,null,0,0]
[4.7,"Išlaidų pavadinimas",null,null,null,null,0,0]
[4.8,"Išlaidų pavadinimas",null,null,null,null,0,0]
[4.9000000000000004,"Išlaidų pavadinimas",null,null,null,null,0,0]
[4.0999999999999996,"Išlaidų pavadinimas",null,null,null,null,0,0]
[5,"PROJEKTO VYKDYMAS",null,null,null,null,{"$f":"G22+G33+G44+G72+G102+G153+G224+G242+G248","v":0},{"$f":"H22+H33+H44+H72+H102+H153+H224+H242+H248","v":0}]
["5.1","MTEP paslaugos",null,null,null,null,{"$f":"SUM(G23:G32)","v":0},{"$f":"SUM(H23:H32)","v":0}]
["5.1.1","Paslaugos pavadinimas",null,null,null,null,{"$f":"ROUND(E23*F23,2)","v":0},0]
["5.1.2","Paslaugos pavadinimas",null,null,null,null,0,0]
["5.1.3","Paslaugos pavadinimas",null,null,null,null,0,0]
["5.1.4","Paslaugos pavadinimas",null,null,null,null,0,0]
["5.1.5","Paslaugos pavadinimas",null,null,null,null,0,0]
["5.1.6","Paslaugos pavadinimas",null,null,null,null,0,0]
["5.1.7","Paslaugos pavadinimas",null,null,null,null,0,0]
["5.1.8","Paslaugos pavadinimas",null,null,null,null,0,0]
["5.1.9","Paslaugos pavadinimas",null,null,null,null,0,0]
["5.1.10","Paslaugos pavadinimas",null,null,null,null,0,0]
["5.2","Konsultavimo ir lygiavertės paslaugos, teikiamos vien tik projekto MTEP veiklai.",null,null,null,null,{"$f":"SUM(G34:G43)","v":0},{"$f":"SUM(H34:H43)","v":0}]
["5.2.1","Paslaugos pavadinimas",null,null,null,null,{"$f":"ROUND(E34*F34,2)","v":0},0]
["5.2.2","Paslaugos pavadinimas",null,null,null,null,0,0]
["5.2.3","Paslaugos pavadinimas",null,null,null,null,0,0]
["5.2.4","Paslaugos pavadinimas",null,null,null,null,0,0]
["5.2.5","Paslaugos pavadinimas",null,null,null,null,0,0]
["5.2.6","Paslaugos pavadinimas",null,null,null,null,0,0]
["5.2.7","Paslaugos pavadinimas",null,null,null,null,0,0]
["5.2.8","Paslaugos pavadinimas",null,null,null,null,0,0]
["5.2.9","Paslaugos pavadinimas",null,null,null,null,0,0]
["5.2.10","Paslaugos pavadinimas",null,null,null,null,0,0]
["5.3","Medžiagos, mažavertis inventorius, atsargos ir pan. produktai, priskirtini trumpalaikiam turtui ir tiesiogiai susiję su MTEP veikla",null,null,null,null,{"$f":"SUM(G45:G71)","v":0},{"$f":"SUM(H45:H71)","v":0}]
["5.3.1","Išlaidų pavadinimas",null,null,null,null,{"$f":"ROUND(E45*F45,2)","v":0},{"$f":"ROUND(G45*$D$7,2)","v":0}]
["5.3.2","Išlaidų pavadinimas",null,null,null,null,{"$f":"ROUND(E46*F46,2)","v":0},{"$f":"ROUND(G46*$D$7,2)","v":0}]
["5.3.3","Išlaidų pavadinimas",null,null,null,null,{"$f":"ROUND(E47*F47,2)","v":0},{"$f":"ROUND(G47*$D$7,2)","v":0}]
["5.3.4","Išlaidų pavadinimas",null,null,null,null,{"$f":"ROUND(E48*F48,2)","v":0},{"$f":"ROUND(G48*$D$7,2)","v":0}]
["5.3.5","Išlaidų pavadinimas",null,null,null,null,{"$f":"ROUND(E49*F49,2)","v":0},{"$f":"ROUND(G49*$D$7,2)","v":0}]
["5.3.6","Išlaidų pavadinimas",null,null,null,null,0,0]
["5.3.7","Išlaidų pavadinimas",null,null,null,null,0,0]
["5.3.8","Išlaidų pavadinimas",null,null,null,null,0,0]
["5.3.9","Išlaidų pavadinimas",null,null,null,null,0,0]
["5.3.10","Išlaidų pavadinimas",null,null,null,null,0,0]
["5.3.11","Išlaidų pavadinimas",null,null,null,null,0,0]
["5.3.12","Išlaidų pavadinimas",null,null,null,null,0,0]
["5.3.13","Išlaidų pavadinimas",null,null,null,null,0,0]
["5.3.14","Išlaidų pavadinimas",null,null,null,null,0,0]
["5.3.15","Išlaidų pavadinimas",null,null,null,null,0,0]
["5.3.16","Išlaidų pavadinimas",null,null,null,null,0,0]
["5.3.17","Išlaidų pavadinimas",null,null,null,null,0,0]
["5.3.18","Išlaidų pavadinimas",null,null,null,null,0,0]
["5.3.19","Išlaidų pavadinimas",null,null,null,null,0,0]
["5.3.20","Išlaidų pavadinimas",null,null,null,null,0,0]
["5.3.21","Išlaidų pavadinimas",null,null,null,null,0,0]
["5.3.22","Išlaidų pavadinimas",null,null,null,null,0,0]
["5.3.23","Išlaidų pavadinimas",null,null,null,null,0,0]
["5.3.24","Išlaidų pavadinimas",null,null,null,null,0,0]
["5.3.25","Išlaidų pavadinimas",null,null,null,null,0,0]
["5.3.26","Išlaidų pavadinimas",null,null,null,null,0,0]
["5.3.27","Išlaidų pavadinimas",null,null,null,null,0,0]
["5.4","Projekto MTEP veikloms naudojamo ilgalaikio materialaus turto (įrangos, prietaisų, įrankių, įrenginių, mašinų ir įrengimų, pastatų ir (ar) patalpų), nusidėvėjimo sąnaudos, jeigu šiam turtui įsigyti nebuvo naudojamos viešosios (įskaitant ir kitų valstybių) lėšos",null,null,null,null,{"$f":"SUM(G73:G101)","v":0},{"$f":"SUM(H73:H101)","v":0},null,"Turto įvedimo į eksploataciją data","Turto įsigijimo vertė, Eur","Turto nudėvėjimo, amortizacijos laikotarpis, mėn.","Numatoma turto likutinė vertė, Eur","1 mėn. nudėvėjimo, amortizacijos suma, Eur","Turto naudojamo projekto reikmėms laikas, mėn.","Turto panaudojimo projekto reikmėms dalis (proc.)","Projektui priskirta turto nusidėvėjimo, amortizacijos suma per projekto laikotarpį, Eur"]
["5.4.1","Turtas, kurio nusidėvėjimą, amortizaciją prašoma finansuoti",null,null,1,{"$f":"Q73","v":0},{"$f":"ROUND(E73*F73,2)","v":0},0,null,null,null,null,null,{"$f":"IFERROR(ROUND((K73-M73)/L73,2),\"0\")","v":"0"},null,null,{"$f":"N73*O73*P73","v":0},{"$f":"IF(J73=0,\" \",IF(J73+(L73*30.5)<TODAY(),\"DĖMESIO! Patikrinkite, ar nurodytas turtas dar nėra nudėvėtas, amortizuotas\",\" \"))","v":" "}]
["5.4.2","Turtas, kurio nusidėvėjimą, amortizaciją prašoma finansuoti",null,null,1,0,0,0,null,null,null,null,null,{"$f":"IFERROR(ROUND((K74-M74)/L74,2),\"0\")","v":"0"},null,null,{"$f":"N74*O74*P74","v":0},{"$f":"IF(J74=0,\" \",IF(J74+(L74*30.5)<TODAY(),\"DĖMESIO! Patikrinkite, ar nurodytas turtas dar nėra nudėvėtas, amortizuotas\",\" \"))","v":" "}]
["5.4.3","Turtas, kurio nusidėvėjimą, amortizaciją prašoma finansuoti",null,null,1,0,0,0,null,null,null,null,null,"0",null,null,0," "]
["5.4.4","Turtas, kurio nusidėvėjimą, amortizaciją prašoma finansuoti",null,null,1,0,0,0,null,null,null,null,null,"0",null,null,0," "]
["5.4.5","Turtas, kurio nusidėvėjimą, amortizaciją prašoma finansuoti",null,null,1,0,0,0,null,null,null,null,null,"0",null,null,0," "]
["5.4.6","Turtas, kurio nusidėvėjimą, amortizaciją prašoma finansuoti",null,null,1,0,0,0,null,null,null,null,null,"0",null,null,0," "]
["5.4.7","Turtas, kurio nusidėvėjimą, amortizaciją prašoma finansuoti",null,null,1,0,0,0,null,null,null,null,null,"0",null,null,0," "]
["5.4.8","Turtas, kurio nusidėvėjimą, amortizaciją prašoma finansuoti",null,null,1,0,0,0,null,null,null,null,null,"0",null,null,0," "]
["5.4.9","Turtas, kurio nusidėvėjimą, amortizaciją prašoma finansuoti",null,null,1,0,0,0,null,null,null,null,null,"0",null,null,0," "]
["5.4.10","Turtas, kurio nusidėvėjimą, amortizaciją prašoma finansuoti",null,null,1,0,0,0,null,null,null,null,null,"0",null,null,0," "]
["5.4.11","Turtas, kurio nusidėvėjimą, amortizaciją prašoma finansuoti",null,null,1,0,0,0,null,null,null,null,null,"0",null,null,0," "]
["5.4.12","Turtas, kurio nusidėvėjimą, amortizaciją prašoma finansuoti",null,null,1,0,0,0,null,null,null,null,null,"0",null,null,0," "]
["5.4.13","Turtas, kurio nusidėvėjimą, amortizaciją prašoma finansuoti",null,null,1,0,0,0,null,null,null,null,null,"0",null,null,0," "]
["5.4.14","Turtas, kurio nusidėvėjimą, amortizaciją prašoma finansuoti",null,null,1,0,0,0,null,null,null,null,null,"0",null,null,0," "]
["5.4.15","Turtas, kurio nusidėvėjimą, amortizaciją prašoma finansuoti",null,null,1,0,0,0,null,null,null,null,null,"0",null,null,0," "]
["5.4.16","Turtas, kurio nusidėvėjimą, amortizaciją prašoma finansuoti",null,null,1,0,0,0,null,null,null,null,null,"0",null,null,0," "]
["5.4.17","Turtas, kurio nusidėvėjimą, amortizaciją prašoma finansuoti",null,null,1,0,0,0,null,null,null,null,null,"0",null,null,0," "]
["5.4.18","Turtas, kurio nusidėvėjimą, amortizaciją prašoma finansuoti",null,null,1,0,0,0,null,null,null,null,null,"0",null,null,0," "]
["5.4.19","Turtas, kurio nusidėvėjimą, amortizaciją prašoma finansuoti",null,null,1,0,0,0,null,null,null,null,null,"0",null,null,0," "]
["5.4.20","Turtas, kurio nusidėvėjimą, amortizaciją prašoma finansuoti",null,null,1,0,0,0,null,null,null,null,null,"0",null,null,0," "]
["5.4.21","Turtas, kurio nusidėvėjimą, amortizaciją prašoma finansuoti",null,null,1,0,0,0,null,null,null,null,null,"0",null,null,0," "]
["5.4.22","Turtas, kurio nusidėvėjimą, amortizaciją prašoma finansuoti",null,null,1,0,0,0,null,null,null,null,null,"0",null,null,0," "]
["5.4.23","Turtas, kurio nusidėvėjimą, amortizaciją prašoma finansuoti",null,null,1,0,0,0,null,null,null,null,null,"0",null,null,0," "]
["5.4.24","Turtas, kurio nusidėvėjimą, amortizaciją prašoma finansuoti",null,null,1,0,0,0,null,null,null,null,null,"0",null,null,0," "]
["5.4.25","Turtas, kurio nusidėvėjimą, amortizaciją prašoma finansuoti",null,null,1,0,0,0,null,null,null,null,null,"0",null,null,0," "]
["5.4.26","Turtas, kurio nusidėvėjimą, amortizaciją prašoma finansuoti",null,null,1,0,0,0,null,null,null,null,null,"0",null,null,0," "]
["5.4.27","Turtas, kurio nusidėvėjimą, amortizaciją prašoma finansuoti",null,null,1,0,0,0,null,null,null,null,null,"0",null,null,0," "]
["5.4.28","Turtas, kurio nusidėvėjimą, amortizaciją prašoma finansuoti",null,null,1,0,0,0,null,null,null,null,null,"0",null,null,0," "]
["5.4.29","Turtas, kurio nusidėvėjimą, amortizaciją prašoma finansuoti",null,null,1,0,0,0,null,null,null,null,null,"0",null,null,0," "]
["5.5","Projektą vykdančio personalo darbo užmokestis ir išlaidos su darbo santykiais susijusiems darbdavio įsipareigojimams",null,null,null,null,{"$f":"SUM(G103:G152)","v":0},{"$f":"SUM(H103:H152)","v":0},null,"Faktiškai gaunamas darbo užmokesti už 1 valandą pagal  pastarųjų 6 mėn. vidurkį, Eur"]
["5.5.1","Pareigybės pavadinimas","Darbuotojo vardas pavardė","val.",null,{"$f":"IFERROR(ROUND(AVERAGE(J103:J107),2),\"0\")","v":"0"},{"$f":"ROUND(E103*F103,2)","v":0},{"$f":"ROUND(G103*$D$7,2)","v":0}]
[null,null,"Darbuotojo vardas pavardė"]
[null,null,"Darbuotojo vardas pavardė"]
[null,null,"Darbuotojo vardas pavardė"]
[null,null,"Darbuotojo vardas pavardė"]
["5.5.2","Pareigybės pavadinimas","Darbuotojo vardas pavardė","val.",null,{"$f":"IFERROR(ROUND(AVERAGE(J108:J112),2),\"0\")","v":"0"},{"$f":"ROUND(E108*F108,2)","v":0},{"$f":"ROUND(G108*$D$7,2)","v":0}]
[null,null,"Darbuotojo vardas pavardė"]
[null,null,"Darbuotojo vardas pavardė"]
[null,null,"Darbuotojo vardas pavardė"]
[null,null,"Darbuotojo vardas pavardė"]
["5.5.3","Pareigybės pavadinimas","Darbuotojo vardas pavardė","val.",null,{"$f":"IFERROR(ROUND(AVERAGE(J113:J117),2),\"0\")","v":"0"},{"$f":"ROUND(E113*F113,2)","v":0},{"$f":"ROUND(G113*$D$7,2)","v":0}]
[null,null,"Darbuotojo vardas pavardė"]
[null,null,"Darbuotojo vardas pavardė"]
[null,null,"Darbuotojo vardas pavardė"]
[null,null,"Darbuotojo vardas pavardė"]
["5.5.4","Pareigybės pavadinimas","Darbuotojo vardas pavardė","val.",null,{"$f":"IFERROR(ROUND(AVERAGE(J118:J122),2),\"0\")","v":"0"},{"$f":"ROUND(E118*F118,2)","v":0},{"$f":"ROUND(G118*$D$7,2)","v":0}]
[null,null,"Darbuotojo vardas pavardė"]
[null,null,"Darbuotojo vardas pavardė"]
[null,null,"Darbuotojo vardas pavardė"]
[null,null,"Darbuotojo vardas pavardė"]
["5.5.5","Pareigybės pavadinimas","Darbuotojo vardas pavardė","val.",null,{"$f":"IFERROR(ROUND(AVERAGE(J123:J127),2),\"0\")","v":"0"},{"$f":"ROUND(E123*F123,2)","v":0},{"$f":"ROUND(G123*$D$7,2)","v":0}]
[null,null,"Darbuotojo vardas pavardė"]
[null,null,"Darbuotojo vardas pavardė"]
[null,null,"Darbuotojo vardas pavardė"]
[null,null,"Darbuotojo vardas pavardė"]
["5.5.6","Pareigybės pavadinimas","Darbuotojo vardas pavardė","val.",null,{"$f":"IFERROR(ROUND(AVERAGE(J128:J132),2),\"0\")","v":"0"},{"$f":"ROUND(E128*F128,2)","v":0},{"$f":"ROUND(G128*$D$7,2)","v":0}]
[null,null,"Darbuotojo vardas pavardė"]
[null,null,"Darbuotojo vardas pavardė"]
[null,null,"Darbuotojo vardas pavardė"]
[null,null,"Darbuotojo vardas pavardė"]
["5.5.7","Pareigybės pavadinimas","Darbuotojo vardas pavardė","val.",null,{"$f":"IFERROR(ROUND(AVERAGE(J133:J137),2),\"0\")","v":"0"},{"$f":"ROUND(E133*F133,2)","v":0},{"$f":"ROUND(G133*$D$7,2)","v":0}]
[null,null,"Darbuotojo vardas pavardė"]
[null,null,"Darbuotojo vardas pavardė"]
[null,null,"Darbuotojo vardas pavardė"]
[null,null,"Darbuotojo vardas pavardė"]
["5.5.8","Pareigybės pavadinimas","Darbuotojo vardas pavardė","val.",null,{"$f":"IFERROR(ROUND(AVERAGE(J138:J142),2),\"0\")","v":"0"},{"$f":"ROUND(E138*F138,2)","v":0},{"$f":"ROUND(G138*$D$7,2)","v":0}]
[null,null,"Darbuotojo vardas pavardė"]
[null,null,"Darbuotojo vardas pavardė"]
[null,null,"Darbuotojo vardas pavardė"]
[null,null,"Darbuotojo vardas pavardė"]
["5.5.9","Pareigybės pavadinimas","Darbuotojo vardas pavardė","val.",null,{"$f":"IFERROR(ROUND(AVERAGE(J143:J147),2),\"0\")","v":"0"},{"$f":"ROUND(E143*F143,2)","v":0},{"$f":"ROUND(G143*$D$7,2)","v":0}]
[null,null,"Darbuotojo vardas pavardė"]
[null,null,"Darbuotojo vardas pavardė"]
[null,null,"Darbuotojo vardas pavardė"]
[null,null,"Darbuotojo vardas pavardė"]
["5.5.10","Pareigybės pavadinimas","Darbuotojo vardas pavardė","val.",null,{"$f":"IFERROR(ROUND(AVERAGE(J148:J152),2),\"0\")","v":"0"},{"$f":"ROUND(E148*F148,2)","v":0},{"$f":"ROUND(G148*$D$7,2)","v":0}]
[null,null,"Darbuotojo vardas pavardė"]
[null,null,"Darbuotojo vardas pavardė"]
[null,null,"Darbuotojo vardas pavardė"]
[null,null,"Darbuotojo vardas pavardė"]
["5.6","Projektą vykdančio personalo komandiruočių išlaidos",null,null,null,null,{"$f":"SUM(G154,G161,G168,G175,G182,G189,G196,G203,G210,G217)","v":0},{"$f":"SUM(H154,H161,H168,H175,H182,H189,H196,H203,H210,H217)","v":0}]
["5.6.1","Komandiruotės pavadinimas, vieta, trukmė dienomis, vykstančių asmenų skaičius","Iš viso komandiruotei",null,null,null,{"$f":"SUM(G155:G160)","v":0},{"$f":"ROUND(G154*$D$7,2)","v":0}]
[null,null,"Dienpinigiai",null,null,null,{"$f":"ROUND(E155*F155,2)","v":0}]
[null,null,"Gyvenamojo ploto nuoma",null,null,null,0]
[null,null,"Kelionės išlaidos",null,null,null,0]
[null,null,"Dalyvavimo mokestis",null,null,null,0]
[null,null,"Kitos išlaidų pavadinimas",null,null,null,0]
[null,null,"Kitos išlaidų pavadinimas",null,null,null,0]
["5.6.2","Komandiruotės pavadinimas, vieta, trukmė dienomis, vykstančių asmenų skaičius","Iš viso komandiruotei",null,null,null,{"$f":"SUM(G162:G167)","v":0},{"$f":"ROUND(G161*$D$7,2)","v":0}]
[null,null,"Dienpinigiai",null,null,null,{"$f":"ROUND(E162*F162,2)","v":0}]
[null,null,"Gyvenamojo ploto nuoma",null,null,null,0]
[null,null,"Kelionės išlaidos",null,null,null,0]
[null,null,"Dalyvavimo mokestis",null,null,null,0]
[null,null,"Kitos išlaidų pavadinimas",null,null,null,0]
[null,null,"Kitos išlaidų pavadinimas",null,null,null,0]
["5.6.3","Komandiruotės pavadinimas, vieta, trukmė dienomis, vykstančių asmenų skaičius","Iš viso komandiruotei",null,null,null,{"$f":"SUM(G169:G174)","v":0},{"$f":"ROUND(G168*$D$7,2)","v":0}]
[null,null,"Dienpinigiai",null,null,null,{"$f":"ROUND(E169*F169,2)","v":0}]
[null,null,"Gyvenamojo ploto nuoma",null,null,null,0]
[null,null,"Kelionės išlaidos",null,null,null,0]
[null,null,"Dalyvavimo mokestis",null,null,null,0]
[null,null,"Kitos išlaidų pavadinimas",null,null,null,0]
[null,null,"Kitos išlaidų pavadinimas",null,null,null,0]
["5.6.4","Komandiruotės pavadinimas, vieta, trukmė dienomis, vykstančių asmenų skaičius","Iš viso komandiruotei",null,null,null,{"$f":"SUM(G176:G181)","v":0},{"$f":"ROUND(G175*$D$7,2)","v":0}]
[null,null,"Dienpinigiai",null,null,null,{"$f":"ROUND(E176*F176,2)","v":0}]
[null,null,"Gyvenamojo ploto nuoma",null,null,null,0]
[null,null,"Kelionės išlaidos",null,null,null,0]
[null,null,"Dalyvavimo mokestis",null,null,null,0]
[null,null,"Kitos išlaidų pavadinimas",null,null,null,0]
[null,null,"Kitos išlaidų pavadinimas",null,null,null,0]
["5.6.5","Komandiruotės pavadinimas, vieta, trukmė dienomis, vykstančių asmenų skaičius","Iš viso komandiruotei",null,null,null,{"$f":"SUM(G183:G188)","v":0},{"$f":"ROUND(G182*$D$7,2)","v":0}]
[null,null,"Dienpinigiai",null,null,null,{"$f":"ROUND(E183*F183,2)","v":0}]
[null,null,"Gyvenamojo ploto nuoma",null,null,null,0]
[null,null,"Kelionės išlaidos",null,null,null,0]
[null,null,"Dalyvavimo mokestis",null,null,null,0]
[null,null,"Kitos išlaidų pavadinimas",null,null,null,0]
[null,null,"Kitos išlaidų pavadinimas",null,null,null,0]
["5.6.6","Komandiruotės pavadinimas, vieta, trukmė dienomis, vykstančių asmenų skaičius","Iš viso komandiruotei",null,null,null,{"$f":"SUM(G190:G195)","v":0},{"$f":"ROUND(G189*$D$7,2)","v":0}]
[null,null,"Dienpinigiai",null,null,null,{"$f":"ROUND(E190*F190,2)","v":0}]
[null,null,"Gyvenamojo ploto nuoma",null,null,null,0]
[null,null,"Kelionės išlaidos",null,null,null,0]
[null,null,"Dalyvavimo mokestis",null,null,null,0]
[null,null,"Kitos išlaidų pavadinimas",null,null,null,0]
[null,null,"Kitos išlaidų pavadinimas",null,null,null,0]
["5.6.7","Komandiruotės pavadinimas, vieta, trukmė dienomis, vykstančių asmenų skaičius","Iš viso komandiruotei",null,null,null,{"$f":"SUM(G197:G202)","v":0},{"$f":"ROUND(G196*$D$7,2)","v":0}]
[null,null,"Dienpinigiai",null,null,null,{"$f":"ROUND(E197*F197,2)","v":0}]
[null,null,"Gyvenamojo ploto nuoma",null,null,null,0]
[null,null,"Kelionės išlaidos",null,null,null,0]
[null,null,"Dalyvavimo mokestis",null,null,null,0]
[null,null,"Kitos išlaidų pavadinimas",null,null,null,0]
[null,null,"Kitos išlaidų pavadinimas",null,null,null,0]
["5.6.8","Komandiruotės pavadinimas, vieta, trukmė dienomis, vykstančių asmenų skaičius","Iš viso komandiruotei",null,null,null,{"$f":"SUM(G204:G209)","v":0},{"$f":"ROUND(G203*$D$7,2)","v":0}]
[null,null,"Dienpinigiai",null,null,null,{"$f":"ROUND(E204*F204,2)","v":0}]
[null,null,"Gyvenamojo ploto nuoma",null,null,null,0]
[null,null,"Kelionės išlaidos",null,null,null,0]
[null,null,"Dalyvavimo mokestis",null,null,null,0]
[null,null,"Kitos išlaidų pavadinimas",null,null,null,0]
[null,null,"Kitos išlaidų pavadinimas",null,null,null,0]
["5.6.9","Komandiruotės pavadinimas, vieta, trukmė dienomis, vykstančių asmenų skaičius","Iš viso komandiruotei",null,null,null,{"$f":"SUM(G211:G216)","v":0},{"$f":"ROUND(G210*$D$7,2)","v":0}]
[null,null,"Dienpinigiai",null,null,null,{"$f":"ROUND(E211*F211,2)","v":0}]
[null,null,"Gyvenamojo ploto nuoma",null,null,null,0]
[null,null,"Kelionės išlaidos",null,null,null,0]
[null,null,"Dalyvavimo mokestis",null,null,null,0]
[null,null,"Kitos išlaidų pavadinimas",null,null,null,0]
[null,null,"Kitos išlaidų pavadinimas",null,null,null,0]
["5.6.10","Komandiruotės pavadinimas, vieta, trukmė dienomis, vykstančių asmenų skaičius","Iš viso komandiruotei",null,null,null,{"$f":"SUM(G218:G223)","v":0},{"$f":"ROUND(G217*$D$7,2)","v":0}]
[null,null,"Dienpinigiai",null,null,null,{"$f":"ROUND(E218*F218,2)","v":0}]
[null,null,"Gyvenamojo ploto nuoma",null,null,null,0]
[null,null,"Kelionės išlaidos",null,null,null,0]
[null,null,"Dalyvavimo mokestis",null,null,null,0]
[null,null,"Kitos išlaidų pavadinimas",null,null,null,0]
[null,null,"Kitos išlaidų pavadinimas",null,null,null,0]
["5.7","Įrangos nuomos išlaidos, veiklai priskirtos pro rata principu. Įranga turi būti tiesiogiai susijusi su projekto įgyvendinimu ir negali būti įsigyta iš ES struktūrinių fondų ar kt. ES finansinių priemonių lėšų",null,null,null,null,{"$f":"SUM(G225:G241)","v":0},{"$f":"SUM(H225:H241)","v":0},null,"Faktinės 1 mėnesio išlaidos, Eur","Naudojimo projekte trukmė, mėn."]
["5.7.1","Įrangos pavadinimas",null,"pro rata proc.",null,{"$f":"J225*K225","v":0},{"$f":"ROUND(E225*F225,2)","v":0},{"$f":"ROUND(G225*$D$7,2)","v":0}]
["5.7.2","Įrangos pavadinimas",null,"pro rata proc.",null,0,0,{"$f":"ROUND(G226*$D$7,2)","v":0}]
["5.7.3","Įrangos pavadinimas",null,"pro rata proc.",null,0,0,0]
["5.7.4","Įrangos pavadinimas",null,"pro rata proc.",null,0,0,0]
["5.7.5","Įrangos pavadinimas",null,"pro rata proc.",null,0,0,0]
["5.7.6","Įrangos pavadinimas",null,"pro rata proc.",null,0,0,0]
["5.7.7","Įrangos pavadinimas",null,"pro rata proc.",null,0,0,0]
["5.7.8","Įrangos pavadinimas",null,"pro rata proc.",null,0,0,0]
["5.7.9","Įrangos pavadinimas",null,"pro rata proc.",null,0,0,0]
["5.7.10","Įrangos pavadinimas",null,"pro rata proc.",null,0,0,0]
["5.7.11","Įrangos pavadinimas",null,"pro rata proc.",null,0,0,0]
["5.7.12","Įrangos pavadinimas",null,"pro rata proc.",null,0,0,0]
["5.7.13","Įrangos pavadinimas",null,"pro rata proc.",null,0,0,0]
["5.7.14","Įrangos pavadinimas",null,"pro rata proc.",null,{"$f":"J238*K238","v":0},0,{"$f":"ROUND(G238*$D$7,2)","v":0}]
["5.7.15","Įrangos pavadinimas",null,"pro rata proc.",null,{"$f":"J239*K239","v":0},0,{"$f":"ROUND(G239*$D$7,2)","v":0}]
["5.7.16","Įrangos pavadinimas",null,"pro rata proc.",null,{"$f":"J240*K240","v":0},0,{"$f":"ROUND(G240*$D$7,2)","v":0}]
["5.7.17","Įrangos pavadinimas",null,"pro rata proc.",null,{"$f":"J241*K241","v":0},0,{"$f":"ROUND(G241*$D$7,2)","v":0}]
["5.8","Pastatų ar patalpų nuomos išlaidos, veiklai priskirtos pro rata principu. Pastatai ar patalpos turi būti tiesiogiai susijusi su projekto įgyvendinimu.",null,null,null,null,{"$f":"SUM(G243:G247)","v":0},{"$f":"SUM(H243:H247)","v":0},null,"Faktinės 1 mėnesio išlaidos, Eur","Naudojimo projekte trukmė, mėn."]
["5.8.1","Pastato, patalpų adresas",null,"pro rata proc.",null,{"$f":"J243*K243","v":0},{"$f":"ROUND(E243*F243,2)","v":0},{"$f":"ROUND(G243*$D$7,2)","v":0}]
["5.8.2","Pastato, patalpų adresas",null,"pro rata proc.",null,{"$f":"J244*K244","v":0},{"$f":"ROUND(E244*F244,2)","v":0},{"$f":"ROUND(G244*$D$7,2)","v":0}]
["5.8.3","Pastato, patalpų adresas",null,"pro rata proc.",null,{"$f":"J245*K245","v":0},{"$f":"ROUND(E245*F245,2)","v":0},{"$f":"ROUND(G245*$D$7,2)","v":0}]
["5.8.4","Pastato, patalpų adresas",null,"pro rata proc.",null,{"$f":"J246*K246","v":0},{"$f":"ROUND(E246*F246,2)","v":0},{"$f":"ROUND(G246*$D$7,2)","v":0}]
["5.8.5","Pastato, patalpų adresas",null,"pro rata proc.",null,{"$f":"J247*K247","v":0},{"$f":"ROUND(E247*F247,2)","v":0},{"$f":"ROUND(G247*$D$7,2)","v":0}]
["5.9","Projekto veikloms vykdyti reikalingų transporto priemonių nuomos išlaidos (išlaidos yra tinkamos finansuoti tik pagal Aprašą Nr. 2 vadovaujantis de minimis reglamento nuostatomis)",null,null,null,null,{"$f":"SUM(G249:G253)","v":0},{"$f":"SUM(H249:H253)","v":0}]
["5.9.1","Išlaidų pavadinimas",null,null,null,null,{"$f":"ROUND(E249*F249,2)","v":0},{"$f":"ROUND(G249*$D$7,2)","v":0}]
["5.9.2","Išlaidų pavadinimas",null,null,null,null,{"$f":"ROUND(E250*F250,2)","v":0},{"$f":"ROUND(G250*$D$7,2)","v":0}]
["5.9.3","Išlaidų pavadinimas",null,null,null,null,{"$f":"ROUND(E251*F251,2)","v":0},{"$f":"ROUND(G251*$D$7,2)","v":0}]
["5.9.4","Išlaidų pavadinimas",null,null,null,null,{"$f":"ROUND(E252*F252,2)","v":0},{"$f":"ROUND(G252*$D$7,2)","v":0}]
["5.9.5","Išlaidų pavadinimas",null,null,null,null,{"$f":"ROUND(E253*F253,2)","v":0},{"$f":"ROUND(G253*$D$7,2)","v":0}]
["Iš viso tinkamų finansuoti išlaidų:",null,null,null,null,null,{"$f":"G10+G21","v":0},{"$f":"H10+H21","v":0}]

{"sheet":"5","index":7,"n_rows":254,"n_cols":18,"rows_kept":254,"cut":false,"hidden":false,"merged":[[5,3,5,8],[8,1,8,2],[9,1,9,5],[10,1,10,2],[11,1,11,2],[12,1,12,2],[0,3,0,8],[2,0,2,2],[2,3,2,8],[3,3,3,4],[3,5,3,6],[4,0,4,2],[4,3,4,8],[19,1,19,2],[20,1,20,5],[21,1,21,5],[22,1,22,2],[23,1,23,2],[24,1,24,2],[13,1,13,2],[14,1,14,2],[15,1,15,2],[16,1,16,2],[17,1,17,2],[18,1,18,2],[31,1,31,2],[32,1,32,5],[33,1,33,2],[34,1,34,2],[35,1,35,2],[36,1,36,2],[25,1,25,2],[26,1,26,2],[27,1,27,2],[28,1,28,2],[29,1,29,2],[30,1,30,2],[43,1,43,5],[44,1,44,2],[45,1,45,2],[46,1,46,2],[47,1,47,2],[48,1,48,2],[37,1,37,2],[38,1,38,2],[39,1,39,2],[40,1,40,2],[41,1,41,2],[42,1,42,2],[55,1,55,2],[56,1,56,2],[57,1,57,2],[58,1,58,2],[59,1,59,2],[60,1,60,2],[49,1,49,2],[50,1,50,2],[51,1,51,2],[52,1,52,2],[53,1,53,2],[54,1,54,2],[67,1,67,2],[68,1,68,2],[69,1,69,2],[70,1,70,2],[71,1,71,5],[72,1,72,2],[61,1,61,2],[62,1,62,2],[63,1,63,2],[64,1,64,2],[65,1,65,2],[66,1,66,2],[79,1,79,2],[80,1,80,2],[81,1,81,2],[82,1,82,2],[83,1,83,2],[84,1,84,2],[73,1,73,2],[74,1,74,2],[75,1,75,2],[76,1,76,2],[77,1,77,2],[78,1,78,2],[91,1,91,2],[92,1,92,2],[93,1,93,2],[94,1,94,2],[95,1,95,2],[96,1,96,2],[85,1,85,2],[86,1,86,2],[87,1,87,2],[88,1,88,2],[89,1,89,2],[90,1,90,2],[97,1,97,2],[98,1,98,2],[99,1,99,2],[100,1,100,2],[101,1,101,5],[102,0,106,0],[102,1,106,1],[102,3,106,3],[102,4,106,4],[102,5,106,5],[102,6,106,6],[102,7,106,7],[102,8,106,8],[107,0,111,0],[107,1,111,1],[107,3,111,3],[107,4,111,4],[107,5,111,5],[107,6,111,6],[107,7,111,7],[107,8,111,8],[112,0,116,0],[112,1,116,1],[112,3,116,3],[112,4,116,4],[112,5,116,5],[112,6,116,6],[112,7,116,7],[112,8,116,8],[117,7,121,7],[117,8,121,8],[122,0,126,0],[122,1,126,1],[122,3,126,3],[122,4,126,4],[122,5,126,5],[122,6,126,6],[122,7,126,7],[122,8,126,8],[117,0,121,0],[117,1,121,1],[117,3,121,3],[117,4,121,4],[117,5,121,5],[117,6,121,6],[127,7,131,7],[127,8,131,8],[132,0,136,0],[132,1,136,1],[132,3,136,3],[132,4,136,4],[132,5,136,5],[132,6,136,6],[132,7,136,7],[132,8,136,8],[127,0,131,0],[127,1,131,1],[127,3,131,3],[127,4,131,4],[127,5,131,5],[127,6,131,6],[137,7,141,7],[137,8,141,8],[142,0,146,0],[142,1,146,1],[142,3,146,3],[142,4,146,4],[142,5,146,5],[142,6,146,6],[142,7,146,7],[142,8,146,8],[137,0,141,0],[137,1,141,1],[137,3,141,3],[137,4,141,4],[137,5,141,5],[137,6,141,6],[147,7,151,7],[147,8,151,8],[152,1,152,5],[153,0,159,0],[153,1,159,1],[153,8,159,8],[147,0,151,0],[147,1,151,1],[147,3,151,3],[147,4,151,4],[147,5,151,5],[147,6,151,6],[174,0,180,0],[174,1,180,1],[174,8,180,8],[181,0,187,0],[181,1,187,1],[181,8,187,8],[160,0,166,0],[160,1,166,1],[160,8,166,8],[167,0,173,0],[167,1,173,1],[167,8,173,8],[202,0,208,0],[202,1,208,1],[202,8,208,8],[209,0,215,0],[209,1,215,1],[209,8,215,8],[188,0,194,0],[188,1,194,1],[188,8,194,8],[195,0,201,0],[195,1,201,1],[195,8,201,8],[226,1,226,2],[227,1,227,2],[228,1,228,2],[229,1,229,2],[230,1,230,2],[231,1,231,2],[216,0,222,0],[216,1,222,1],[216,8,222,8],[223,1,223,5],[224,1,224,2],[225,1,225,2],[238,1,238,2],[239,1,239,2],[240,1,240,2],[241,1,241,5],[242,1,242,2],[243,1,243,2],[232,1,232,2],[233,1,233,2],[234,1,234,2],[235,1,235,2],[236,1,236,2],[237,1,237,2],[250,1,250,2],[251,1,251,2],[252,1,252,2],[253,0,253,5],[244,1,244,2],[245,1,245,2],[246,1,246,2],[247,1,247,5],[248,1,248,2],[249,1,249,2]]}
[null,null,"Pasirinkite veiklos tipą:"]
[null,null,"Fizinio rodiklio Nr.:"]
["Fizinio rodiklio pavadinimas:"]
[null,null,"Fizinio rodiklio matavimo vnt.:",null,null,"Fizinio rodiklio vnt. skaičius:"]
["Juridinis asmuo (pareiškėjas, partneris), atsakingas už fizinį rodiklį:"]
[null,null,"Vykdytojo tipas:"]
[null,null,"Finansavimo intensyvumas:",null,null,null,"Pasirinkite biudžeto išlaidų kategoriją:","Visos"]
[]
["Eil. Nr.","Išlaidų kategorijos pavadinimas",null,"Matavimo vnt.","Kiekis","Vieneto kaina be PVM, Eur","Tinkamų finansuoti išlaidų suma be PVM, Eur","Finansavimo suma, Eur","Išlaidų pagrindimo dokumentų pavadinimas, data ir Nr."]
[4,"ĮRANGA, ĮRENGINIAI IR KT. TURTAS (techninių žinių ir išradimų patentų arba teisių pagal licencijų sutartį įsigijimo išlaidos)",null,null,null,null,{"$f":"SUM(G11:G20)","v":0},{"$f":"SUM(H11:H20)","v":0}]
["4.1","Išlaidų pavadinimas",null,null,null,null,{"$f":"ROUND(E11*F11,2)","v":0},{"$f":"ROUND(G11*$D$7,2)","v":0}]
["4.2","Išlaidų pavadinimas",null,null,null,null,0,0]
["4.3","Išlaidų pavadinimas",null,null,null,null,0,0]
["4.4","Išlaidų pavadinimas",null,null,null,null,0,0]
["4.5","Išlaidų pavadinimas",null,null,null,null,0,0]
["4.6","Išlaidų pavadinimas",null,null,null,null,0,0]
["4.7","Išlaidų pavadinimas",null,null,null,null,0,0]
["4.8","Išlaidų pavadinimas",null,null,null,null,0,0]
["4.9","Išlaidų pavadinimas",null,null,null,null,0,0]
["4.10","Išlaidų pavadinimas",null,null,null,null,0,0]
[5,"PROJEKTO VYKDYMAS",null,null,null,null,{"$f":"G22+G33+G44+G72+G102+G153+G224+G242+G248","v":0},{"$f":"H22+H33+H44+H72+H102+H153+H224+H242+H248","v":0}]
["5.1","MTEP paslaugos",null,null,null,null,{"$f":"SUM(G23:G32)","v":0},{"$f":"SUM(H23:H32)","v":0}]
["5.1.1","Paslaugos pavadinimas",null,null,null,null,{"$f":"ROUND(E23*F23,2)","v":0},0]
["5.1.2","Paslaugos pavadinimas",null,null,null,null,0,0]
["5.1.3","Paslaugos pavadinimas",null,null,null,null,0,0]
["5.1.4","Paslaugos pavadinimas",null,null,null,null,0,0]
["5.1.5","Paslaugos pavadinimas",null,null,null,null,0,0]
["5.1.6","Paslaugos pavadinimas",null,null,null,null,0,0]
["5.1.7","Paslaugos pavadinimas",null,null,null,null,0,0]
["5.1.8","Paslaugos pavadinimas",null,null,null,null,0,0]
["5.1.9","Paslaugos pavadinimas",null,null,null,null,0,0]
["5.1.10","Paslaugos pavadinimas",null,null,null,null,0,0]
["5.2","Konsultavimo ir lygiavertės paslaugos, teikiamos vien tik projekto MTEP veiklai.",null,null,null,null,{"$f":"SUM(G34:G43)","v":0},{"$f":"SUM(H34:H43)","v":0}]
["5.2.1","Paslaugos pavadinimas",null,null,null,null,{"$f":"ROUND(E34*F34,2)","v":0},0]
["5.2.2","Paslaugos pavadinimas",null,null,null,null,0,0]
["5.2.3","Paslaugos pavadinimas",null,null,null,null,0,0]
["5.2.4","Paslaugos pavadinimas",null,null,null,null,0,0]
["5.2.5","Paslaugos pavadinimas",null,null,null,null,0,0]
["5.2.6","Paslaugos pavadinimas",null,null,null,null,0,0]
["5.2.7","Paslaugos pavadinimas",null,null,null,null,0,0]
["5.2.8","Paslaugos pavadinimas",null,null,null,null,0,0]
["5.2.9","Paslaugos pavadinimas",null,null,null,null,0,0]
["5.2.10","Paslaugos pavadinimas",null,null,null,null,0,0]
["5.3","Medžiagos, mažavertis inventorius, atsargos ir pan. produktai, priskirtini trumpalaikiam turtui ir tiesiogiai susiję su MTEP veikla",null,null,null,null,{"$f":"SUM(G45:G71)","v":0},{"$f":"SUM(H45:H71)","v":0}]
["5.3.1","Išlaidų pavadinimas",null,null,null,null,{"$f":"ROUND(E45*F45,2)","v":0},{"$f":"ROUND(G45*$D$7,2)","v":0}]
["5.3.2","Išlaidų pavadinimas",null,null,null,null,{"$f":"ROUND(E46*F46,2)","v":0},{"$f":"ROUND(G46*$D$7,2)","v":0}]
["5.3.3","Išlaidų pavadinimas",null,null,null,null,{"$f":"ROUND(E47*F47,2)","v":0},{"$f":"ROUND(G47*$D$7,2)","v":0}]
["5.3.4","Išlaidų pavadinimas",null,null,null,null,{"$f":"ROUND(E48*F48,2)","v":0},{"$f":"ROUND(G48*$D$7,2)","v":0}]
["5.3.5","Išlaidų pavadinimas",null,null,null,null,{"$f":"ROUND(E49*F49,2)","v":0},{"$f":"ROUND(G49*$D$7,2)","v":0}]
["5.3.6","Išlaidų pavadinimas",null,null,null,null,0,0]
["5.3.7","Išlaidų pavadinimas",null,null,null,null,0,0]
["5.3.8","Išlaidų pavadinimas",null,null,null,null,0,0]
["5.3.9","Išlaidų pavadinimas",null,null,null,null,0,0]
["5.3.10","Išlaidų pavadinimas",null,null,null,null,0,0]
["5.3.11","Išlaidų pavadinimas",null,null,null,null,0,0]
["5.3.12","Išlaidų pavadinimas",null,null,null,null,0,0]
["5.3.13","Išlaidų pavadinimas",null,null,null,null,0,0]
["5.3.14","Išlaidų pavadinimas",null,null,null,null,0,0]
["5.3.15","Išlaidų pavadinimas",null,null,null,null,0,0]
["5.3.16","Išlaidų pavadinimas",null,null,null,null,0,0]
["5.3.17","Išlaidų pavadinimas",null,null,null,null,0,0]
["5.3.18","Išlaidų pavadinimas",null,null,null,null,0,0]
["5.3.19","Išlaidų pavadinimas",null,null,null,null,0,0]
["5.3.20","Išlaidų pavadinimas",null,null,null,null,0,0]
["5.3.21","Išlaidų pavadinimas",null,null,null,null,0,0]
["5.3.22","Išlaidų pavadinimas",null,null,null,null,0,0]
["5.3.23","Išlaidų pavadinimas",null,null,null,null,0,0]
["5.3.24","Išlaidų pavadinimas",null,null,null,null,0,0]
["5.3.25","Išlaidų pavadinimas",null,null,null,null,0,0]
["5.3.26","Išlaidų pavadinimas",null,null,null,null,0,0]
["5.3.27","Išlaidų pavadinimas",null,null,null,null,0,0]
["5.4","Projekto MTEP veikloms naudojamo ilgalaikio materialaus turto (įrangos, prietaisų, įrankių, įrenginių, mašinų ir įrengimų, pastatų ir (ar) patalpų), nusidėvėjimo sąnaudos, jeigu šiam turtui įsigyti nebuvo naudojamos viešosios (įskaitant ir kitų valstybių) lėšos",null,null,null,null,{"$f":"SUM(G73:G101)","v":0},{"$f":"SUM(H73:H101)","v":0},null,"Turto įvedimo į eksploataciją data","Turto įsigijimo vertė, Eur","Turto nudėvėjimo, amortizacijos laikotarpis, mėn.","Numatoma turto likutinė vertė, Eur","1 mėn. nudėvėjimo, amortizacijos suma, Eur","Turto naudojamo projekto reikmėms laikas, mėn.","Turto panaudojimo projekto reikmėms dalis (proc.)","Projektui priskirta turto nusidėvėjimo, amortizacijos suma per projekto laikotarpį, Eur"]
["5.4.1","Turtas, kurio nusidėvėjimą, amortizaciją prašoma finansuoti",null,null,1,{"$f":"Q73","v":0},{"$f":"ROUND(E73*F73,2)","v":0},0,null,null,null,null,null,{"$f":"IFERROR(ROUND((K73-M73)/L73,2),\"0\")","v":"0"},null,null,{"$f":"N73*O73*P73","v":0},{"$f":"IF(J73=0,\" \",IF(J73+(L73*30.5)<TODAY(),\"DĖMESIO! Patikrinkite, ar nurodytas turtas dar nėra nudėvėtas, amortizuotas\",\" \"))","v":" "}]
["5.4.2","Turtas, kurio nusidėvėjimą, amortizaciją prašoma finansuoti",null,null,1,0,0,0,null,null,null,null,null,{"$f":"IFERROR(ROUND((K74-M74)/L74,2),\"0\")","v":"0"},null,null,{"$f":"N74*O74*P74","v":0},{"$f":"IF(J74=0,\" \",IF(J74+(L74*30.5)<TODAY(),\"DĖMESIO! Patikrinkite, ar nurodytas turtas dar nėra nudėvėtas, amortizuotas\",\" \"))","v":" "}]
["5.4.3","Turtas, kurio nusidėvėjimą, amortizaciją prašoma finansuoti",null,null,1,0,0,0,null,null,null,null,null,"0",null,null,0," "]
["5.4.4","Turtas, kurio nusidėvėjimą, amortizaciją prašoma finansuoti",null,null,1,0,0,0,null,null,null,null,null,"0",null,null,0," "]
["5.4.5","Turtas, kurio nusidėvėjimą, amortizaciją prašoma finansuoti",null,null,1,0,0,0,null,null,null,null,null,"0",null,null,0," "]
["5.4.6","Turtas, kurio nusidėvėjimą, amortizaciją prašoma finansuoti",null,null,1,0,0,0,null,null,null,null,null,"0",null,null,0," "]
["5.4.7","Turtas, kurio nusidėvėjimą, amortizaciją prašoma finansuoti",null,null,1,0,0,0,null,null,null,null,null,"0",null,null,0," "]
["5.4.8","Turtas, kurio nusidėvėjimą, amortizaciją prašoma finansuoti",null,null,1,0,0,0,null,null,null,null,null,"0",null,null,0," "]
["5.4.9","Turtas, kurio nusidėvėjimą, amortizaciją prašoma finansuoti",null,null,1,0,0,0,null,null,null,null,null,"0",null,null,0," "]
["5.4.10","Turtas, kurio nusidėvėjimą, amortizaciją prašoma finansuoti",null,null,1,0,0,0,null,null,null,null,null,"0",null,null,0," "]
["5.4.11","Turtas, kurio nusidėvėjimą, amortizaciją prašoma finansuoti",null,null,1,0,0,0,null,null,null,null,null,"0",null,null,0," "]
["5.4.12","Turtas, kurio nusidėvėjimą, amortizaciją prašoma finansuoti",null,null,1,0,0,0,null,null,null,null,null,"0",null,null,0," "]
["5.4.13","Turtas, kurio nusidėvėjimą, amortizaciją prašoma finansuoti",null,null,1,0,0,0,null,null,null,null,null,"0",null,null,0," "]
["5.4.14","Turtas, kurio nusidėvėjimą, amortizaciją prašoma finansuoti",null,null,1,0,0,0,null,null,null,null,null,"0",null,null,0," "]
["5.4.15","Turtas, kurio nusidėvėjimą, amortizaciją prašoma finansuoti",null,null,1,0,0,0,null,null,null,null,null,"0",null,null,0," "]
["5.4.16","Turtas, kurio nusidėvėjimą, amortizaciją prašoma finansuoti",null,null,1,0,0,0,null,null,null,null,null,"0",null,null,0," "]
["5.4.17","Turtas, kurio nusidėvėjimą, amortizaciją prašoma finansuoti",null,null,1,0,0,0,null,null,null,null,null,"0",null,null,0," "]
["5.4.18","Turtas, kurio nusidėvėjimą, amortizaciją prašoma finansuoti",null,null,1,0,0,0,null,null,null,null,null,"0",null,null,0," "]
["5.4.19","Turtas, kurio nusidėvėjimą, amortizaciją prašoma finansuoti",null,null,1,0,0,0,null,null,null,null,null,"0",null,null,0," "]
["5.4.20","Turtas, kurio nusidėvėjimą, amortizaciją prašoma finansuoti",null,null,1,0,0,0,null,null,null,null,null,"0",null,null,0," "]
["5.4.21","Turtas, kurio nusidėvėjimą, amortizaciją prašoma finansuoti",null,null,1,0,0,0,null,null,null,null,null,"0",null,null,0," "]
["5.4.22","Turtas, kurio nusidėvėjimą, amortizaciją prašoma finansuoti",null,null,1,0,0,0,null,null,null,null,null,"0",null,null,0," "]
["5.4.23","Turtas, kurio nusidėvėjimą, amortizaciją prašoma finansuoti",null,null,1,0,0,0,null,null,null,null,null,"0",null,null,0," "]
["5.4.24","Turtas, kurio nusidėvėjimą, amortizaciją prašoma finansuoti",null,null,1,0,0,0,null,null,null,null,null,"0",null,null,0," "]
["5.4.25","Turtas, kurio nusidėvėjimą, amortizaciją prašoma finansuoti",null,null,1,0,0,0,null,null,null,null,null,"0",null,null,0," "]
["5.4.26","Turtas, kurio nusidėvėjimą, amortizaciją prašoma finansuoti",null,null,1,0,0,0,null,null,null,null,null,"0",null,null,0," "]
["5.4.27","Turtas, kurio nusidėvėjimą, amortizaciją prašoma finansuoti",null,null,1,0,0,0,null,null,null,null,null,"0",null,null,0," "]
["5.4.28","Turtas, kurio nusidėvėjimą, amortizaciją prašoma finansuoti",null,null,1,0,0,0,null,null,null,null,null,"0",null,null,0," "]
["5.4.29","Turtas, kurio nusidėvėjimą, amortizaciją prašoma finansuoti",null,null,1,0,0,0,null,null,null,null,null,"0",null,null,0," "]
["5.5","Projektą vykdančio personalo darbo užmokestis ir išlaidos su darbo santykiais susijusiems darbdavio įsipareigojimams",null,null,null,null,{"$f":"SUM(G103:G152)","v":0},{"$f":"SUM(H103:H152)","v":0},null,"Faktiškai gaunamas darbo užmokesti už 1 valandą pagal  pastarųjų 6 mėn. vidurkį, Eur"]
["5.5.1","Pareigybės pavadinimas","Darbuotojo vardas pavardė","val.",null,{"$f":"IFERROR(ROUND(AVERAGE(J103:J107),2),\"0\")","v":"0"},{"$f":"ROUND(E103*F103,2)","v":0},{"$f":"ROUND(G103*$D$7,2)","v":0}]
[null,null,"Darbuotojo vardas pavardė"]
[null,null,"Darbuotojo vardas pavardė"]
[null,null,"Darbuotojo vardas pavardė"]
[null,null,"Darbuotojo vardas pavardė"]
["5.5.2","Pareigybės pavadinimas","Darbuotojo vardas pavardė","val.",null,{"$f":"IFERROR(ROUND(AVERAGE(J108:J112),2),\"0\")","v":"0"},{"$f":"ROUND(E108*F108,2)","v":0},{"$f":"ROUND(G108*$D$7,2)","v":0}]
[null,null,"Darbuotojo vardas pavardė"]
[null,null,"Darbuotojo vardas pavardė"]
[null,null,"Darbuotojo vardas pavardė"]
[null,null,"Darbuotojo vardas pavardė"]
["5.5.3","Pareigybės pavadinimas","Darbuotojo vardas pavardė","val.",null,{"$f":"IFERROR(ROUND(AVERAGE(J113:J117),2),\"0\")","v":"0"},{"$f":"ROUND(E113*F113,2)","v":0},{"$f":"ROUND(G113*$D$7,2)","v":0}]
[null,null,"Darbuotojo vardas pavardė"]
[null,null,"Darbuotojo vardas pavardė"]
[null,null,"Darbuotojo vardas pavardė"]
[null,null,"Darbuotojo vardas pavardė"]
["5.5.4","Pareigybės pavadinimas","Darbuotojo vardas pavardė","val.",null,{"$f":"IFERROR(ROUND(AVERAGE(J118:J122),2),\"0\")","v":"0"},{"$f":"ROUND(E118*F118,2)","v":0},{"$f":"ROUND(G118*$D$7,2)","v":0}]
[null,null,"Darbuotojo vardas pavardė"]
[null,null,"Darbuotojo vardas pavardė"]
[null,null,"Darbuotojo vardas pavardė"]
[null,null,"Darbuotojo vardas pavardė"]
["5.5.5","Pareigybės pavadinimas","Darbuotojo vardas pavardė","val.",null,{"$f":"IFERROR(ROUND(AVERAGE(J123:J127),2),\"0\")","v":"0"},{"$f":"ROUND(E123*F123,2)","v":0},{"$f":"ROUND(G123*$D$7,2)","v":0}]
[null,null,"Darbuotojo vardas pavardė"]
[null,null,"Darbuotojo vardas pavardė"]
[null,null,"Darbuotojo vardas pavardė"]
[null,null,"Darbuotojo vardas pavardė"]
["5.5.6","Pareigybės pavadinimas","Darbuotojo vardas pavardė","val.",null,{"$f":"IFERROR(ROUND(AVERAGE(J128:J132),2),\"0\")","v":"0"},{"$f":"ROUND(E128*F128,2)","v":0},{"$f":"ROUND(G128*$D$7,2)","v":0}]
[null,null,"Darbuotojo vardas pavardė"]
[null,null,"Darbuotojo vardas pavardė"]
[null,null,"Darbuotojo vardas pavardė"]
[null,null,"Darbuotojo vardas pavardė"]
["5.5.7","Pareigybės pavadinimas","Darbuotojo vardas pavardė","val.",null,{"$f":"IFERROR(ROUND(AVERAGE(J133:J137),2),\"0\")","v":"0"},{"$f":"ROUND(E133*F133,2)","v":0},{"$f":"ROUND(G133*$D$7,2)","v":0}]
[null,null,"Darbuotojo vardas pavardė"]
[null,null,"Darbuotojo vardas pavardė"]
[null,null,"Darbuotojo vardas pavardė"]
[null,null,"Darbuotojo vardas pavardė"]
["5.5.8","Pareigybės pavadinimas","Darbuotojo vardas pavardė","val.",null,{"$f":"IFERROR(ROUND(AVERAGE(J138:J142),2),\"0\")","v":"0"},{"$f":"ROUND(E138*F138,2)","v":0},{"$f":"ROUND(G138*$D$7,2)","v":0}]
[null,null,"Darbuotojo vardas pavardė"]
[null,null,"Darbuotojo vardas pavardė"]
[null,null,"Darbuotojo vardas pavardė"]
[null,null,"Darbuotojo vardas pavardė"]
["5.5.9","Pareigybės pavadinimas","Darbuotojo vardas pavardė","val.",null,{"$f":"IFERROR(ROUND(AVERAGE(J143:J147),2),\"0\")","v":"0"},{"$f":"ROUND(E143*F143,2)","v":0},{"$f":"ROUND(G143*$D$7,2)","v":0}]
[null,null,"Darbuotojo vardas pavardė"]
[null,null,"Darbuotojo vardas pavardė"]
[null,null,"Darbuotojo vardas pavardė"]
[null,null,"Darbuotojo vardas pavardė"]
["5.5.10","Pareigybės pavadinimas","Darbuotojo vardas pavardė","val.",null,{"$f":"IFERROR(ROUND(AVERAGE(J148:J152),2),\"0\")","v":"0"},{"$f":"ROUND(E148*F148,2)","v":0},{"$f":"ROUND(G148*$D$7,2)","v":0}]
[null,null,"Darbuotojo vardas pavardė"]
[null,null,"Darbuotojo vardas pavardė"]
[null,null,"Darbuotojo vardas pavardė"]
[null,null,"Darbuotojo vardas pavardė"]
["5.6","Projektą vykdančio personalo komandiruočių išlaidos",null,null,null,null,{"$f":"SUM(G154,G161,G168,G175,G182,G189,G196,G203,G210,G217)","v":0},{"$f":"SUM(H154,H161,H168,H175,H182,H189,H196,H203,H210,H217)","v":0}]
["5.6.1","Komandiruotės pavadinimas, vieta, trukmė dienomis, vykstančių asmenų skaičius","Iš viso komandiruotei",null,null,null,{"$f":"SUM(G155:G160)","v":0},{"$f":"ROUND(G154*$D$7,2)","v":0}]
[null,null,"Dienpinigiai",null,null,null,{"$f":"ROUND(E155*F155,2)","v":0}]
[null,null,"Gyvenamojo ploto nuoma",null,null,null,0]
[null,null,"Kelionės išlaidos",null,null,null,0]
[null,null,"Dalyvavimo mokestis",null,null,null,0]
[null,null,"Kitos išlaidų pavadinimas",null,null,null,0]
[null,null,"Kitos išlaidų pavadinimas",null,null,null,0]
["5.6.2","Komandiruotės pavadinimas, vieta, trukmė dienomis, vykstančių asmenų skaičius","Iš viso komandiruotei",null,null,null,{"$f":"SUM(G162:G167)","v":0},{"$f":"ROUND(G161*$D$7,2)","v":0}]
[null,null,"Dienpinigiai",null,null,null,{"$f":"ROUND(E162*F162,2)","v":0}]
[null,null,"Gyvenamojo ploto nuoma",null,null,null,0]
[null,null,"Kelionės išlaidos",null,null,null,0]
[null,null,"Dalyvavimo mokestis",null,null,null,0]
[null,null,"Kitos išlaidų pavadinimas",null,null,null,0]
[null,null,"Kitos išlaidų pavadinimas",null,null,null,0]
["5.6.3","Komandiruotės pavadinimas, vieta, trukmė dienomis, vykstančių asmenų skaičius","Iš viso komandiruotei",null,null,null,{"$f":"SUM(G169:G174)","v":0},{"$f":"ROUND(G168*$D$7,2)","v":0}]
[null,null,"Dienpinigiai",null,null,null,{"$f":"ROUND(E169*F169,2)","v":0}]
[null,null,"Gyvenamojo ploto nuoma",null,null,null,0]
[null,null,"Kelionės išlaidos",null,null,null,0]
[null,null,"Dalyvavimo mokestis",null,null,null,0]
[null,null,"Kitos išlaidų pavadinimas",null,null,null,0]
[null,null,"Kitos išlaidų pavadinimas",null,null,null,0]
["5.6.4","Komandiruotės pavadinimas, vieta, trukmė dienomis, vykstančių asmenų skaičius","Iš viso komandiruotei",null,null,null,{"$f":"SUM(G176:G181)","v":0},{"$f":"ROUND(G175*$D$7,2)","v":0}]
[null,null,"Dienpinigiai",null,null,null,{"$f":"ROUND(E176*F176,2)","v":0}]
[null,null,"Gyvenamojo ploto nuoma",null,null,null,0]
[null,null,"Kelionės išlaidos",null,null,null,0]
[null,null,"Dalyvavimo mokestis",null,null,null,0]
[null,null,"Kitos išlaidų pavadinimas",null,null,null,0]
[null,null,"Kitos išlaidų pavadinimas",null,null,null,0]
["5.6.5","Komandiruotės pavadinimas, vieta, trukmė dienomis, vykstančių asmenų skaičius","Iš viso komandiruotei",null,null,null,{"$f":"SUM(G183:G188)","v":0},{"$f":"ROUND(G182*$D$7,2)","v":0}]
[null,null,"Dienpinigiai",null,null,null,{"$f":"ROUND(E183*F183,2)","v":0}]
[null,null,"Gyvenamojo ploto nuoma",null,null,null,0]
[null,null,"Kelionės išlaidos",null,null,null,0]
[null,null,"Dalyvavimo mokestis",null,null,null,0]
[null,null,"Kitos išlaidų pavadinimas",null,null,null,0]
[null,null,"Kitos išlaidų pavadinimas",null,null,null,0]
["5.6.6","Komandiruotės pavadinimas, vieta, trukmė dienomis, vykstančių asmenų skaičius","Iš viso komandiruotei",null,null,null,{"$f":"SUM(G190:G195)","v":0},{"$f":"ROUND(G189*$D$7,2)","v":0}]
[null,null,"Dienpinigiai",null,null,null,{"$f":"ROUND(E190*F190,2)","v":0}]
[null,null,"Gyvenamojo ploto nuoma",null,null,null,0]
[null,null,"Kelionės išlaidos",null,null,null,0]
[null,null,"Dalyvavimo mokestis",null,null,null,0]
[null,null,"Kitos išlaidų pavadinimas",null,null,null,0]
[null,null,"Kitos išlaidų pavadinimas",null,null,null,0]
["5.6.7","Komandiruotės pavadinimas, vieta, trukmė dienomis, vykstančių asmenų skaičius","Iš viso komandiruotei",null,null,null,{"$f":"SUM(G197:G202)","v":0},{"$f":"ROUND(G196*$D$7,2)","v":0}]
[null,null,"Dienpinigiai",null,null,null,{"$f":"ROUND(E197*F197,2)","v":0}]
[null,null,"Gyvenamojo ploto nuoma",null,null,null,0]
[null,null,"Kelionės išlaidos",null,null,null,0]
[null,null,"Dalyvavimo mokestis",null,null,null,0]
[null,null,"Kitos išlaidų pavadinimas",null,null,null,0]
[null,null,"Kitos išlaidų pavadinimas",null,null,null,0]
["5.6.8","Komandiruotės pavadinimas, vieta, trukmė dienomis, vykstančių asmenų skaičius","Iš viso komandiruotei",null,null,null,{"$f":"SUM(G204:G209)","v":0},{"$f":"ROUND(G203*$D$7,2)","v":0}]
[null,null,"Dienpinigiai",null,null,null,{"$f":"ROUND(E204*F204,2)","v":0}]
[null,null,"Gyvenamojo ploto nuoma",null,null,null,0]
[null,null,"Kelionės išlaidos",null,null,null,0]
[null,null,"Dalyvavimo mokestis",null,null,null,0]
[null,null,"Kitos išlaidų pavadinimas",null,null,null,0]
[null,null,"Kitos išlaidų pavadinimas",null,null,null,0]
["5.6.9","Komandiruotės pavadinimas, vieta, trukmė dienomis, vykstančių asmenų skaičius","Iš viso komandiruotei",null,null,null,{"$f":"SUM(G211:G216)","v":0},{"$f":"ROUND(G210*$D$7,2)","v":0}]
[null,null,"Dienpinigiai",null,null,null,{"$f":"ROUND(E211*F211,2)","v":0}]
[null,null,"Gyvenamojo ploto nuoma",null,null,null,0]
[null,null,"Kelionės išlaidos",null,null,null,0]
[null,null,"Dalyvavimo mokestis",null,null,null,0]
[null,null,"Kitos išlaidų pavadinimas",null,null,null,0]
[null,null,"Kitos išlaidų pavadinimas",null,null,null,0]
["5.6.10","Komandiruotės pavadinimas, vieta, trukmė dienomis, vykstančių asmenų skaičius","Iš viso komandiruotei",null,null,null,{"$f":"SUM(G218:G223)","v":0},{"$f":"ROUND(G217*$D$7,2)","v":0}]
[null,null,"Dienpinigiai",null,null,null,{"$f":"ROUND(E218*F218,2)","v":0}]
[null,null,"Gyvenamojo ploto nuoma",null,null,null,0]
[null,null,"Kelionės išlaidos",null,null,null,0]
[null,null,"Dalyvavimo mokestis",null,null,null,0]
[null,null,"Kitos išlaidų pavadinimas",null,null,null,0]
[null,null,"Kitos išlaidų pavadinimas",null,null,null,0]
["5.7","Įrangos nuomos išlaidos, veiklai priskirtos pro rata principu. Įranga turi būti tiesiogiai susijusi su projekto įgyvendinimu ir negali būti įsigyta iš ES struktūrinių fondų ar kt. ES finansinių priemonių lėšų",null,null,null,null,{"$f":"SUM(G225:G241)","v":0},{"$f":"SUM(H225:H241)","v":0},null,"Faktinės 1 mėnesio išlaidos, Eur","Naudojimo projekte trukmė, mėn."]
["5.7.1","Įrangos pavadinimas",null,"pro rata proc.",null,{"$f":"J225*K225","v":0},{"$f":"ROUND(E225*F225,2)","v":0},{"$f":"ROUND(G225*$D$7,2)","v":0}]
["5.7.2","Įrangos pavadinimas",null,"pro rata proc.",null,0,0,{"$f":"ROUND(G226*$D$7,2)","v":0}]
["5.7.3","Įrangos pavadinimas",null,"pro rata proc.",null,0,0,0]
["5.7.4","Įrangos pavadinimas",null,"pro rata proc.",null,0,0,0]
["5.7.5","Įrangos pavadinimas",null,"pro rata proc.",null,0,0,0]
["5.7.6","Įrangos pavadinimas",null,"pro rata proc.",null,0,0,0]
["5.7.7","Įrangos pavadinimas",null,"pro rata proc.",null,0,0,0]
["5.7.8","Įrangos pavadinimas",null,"pro rata proc.",null,0,0,0]
["5.7.9","Įrangos pavadinimas",null,"pro rata proc.",null,0,0,0]
["5.7.10","Įrangos pavadinimas",null,"pro rata proc.",null,0,0,0]
["5.7.11","Įrangos pavadinimas",null,"pro rata proc.",null,0,0,0]
["5.7.12","Įrangos pavadinimas",null,"pro rata proc.",null,0,0,0]
["5.7.13","Įrangos pavadinimas",null,"pro rata proc.",null,0,0,0]
["5.7.14","Įrangos pavadinimas",null,"pro rata proc.",null,{"$f":"J238*K238","v":0},0,{"$f":"ROUND(G238*$D$7,2)","v":0}]
["5.7.15","Įrangos pavadinimas",null,"pro rata proc.",null,{"$f":"J239*K239","v":0},0,{"$f":"ROUND(G239*$D$7,2)","v":0}]
["5.7.16","Įrangos pavadinimas",null,"pro rata proc.",null,{"$f":"J240*K240","v":0},0,{"$f":"ROUND(G240*$D$7,2)","v":0}]
["5.7.17","Įrangos pavadinimas",null,"pro rata proc.",null,{"$f":"J241*K241","v":0},0,{"$f":"ROUND(G241*$D$7,2)","v":0}]
["5.8","Pastatų ar patalpų nuomos išlaidos, veiklai priskirtos pro rata principu. Pastatai ar patalpos turi būti tiesiogiai susijusi su projekto įgyvendinimu.",null,null,null,null,{"$f":"SUM(G243:G247)","v":0},{"$f":"SUM(H243:H247)","v":0},null,"Faktinės 1 mėnesio išlaidos, Eur","Naudojimo projekte trukmė, mėn."]
["5.8.1","Pastato, patalpų adresas",null,"pro rata proc.",null,{"$f":"J243*K243","v":0},{"$f":"ROUND(E243*F243,2)","v":0},{"$f":"ROUND(G243*$D$7,2)","v":0}]
["5.8.2","Pastato, patalpų adresas",null,"pro rata proc.",null,{"$f":"J244*K244","v":0},{"$f":"ROUND(E244*F244,2)","v":0},{"$f":"ROUND(G244*$D$7,2)","v":0}]
["5.8.3","Pastato, patalpų adresas",null,"pro rata proc.",null,{"$f":"J245*K245","v":0},{"$f":"ROUND(E245*F245,2)","v":0},{"$f":"ROUND(G245*$D$7,2)","v":0}]
["5.8.4","Pastato, patalpų adresas",null,"pro rata proc.",null,{"$f":"J246*K246","v":0},{"$f":"ROUND(E246*F246,2)","v":0},{"$f":"ROUND(G246*$D$7,2)","v":0}]
["5.8.5","Pastato, patalpų adresas",null,"pro rata proc.",null,{"$f":"J247*K247","v":0},{"$f":"ROUND(E247*F247,2)","v":0},{"$f":"ROUND(G247*$D$7,2)","v":0}]
["5.9","Projekto veikloms vykdyti reikalingų transporto priemonių nuomos išlaidos (išlaidos yra tinkamos finansuoti tik pagal Aprašą Nr. 2 vadovaujantis de minimis reglamento nuostatomis)",null,null,null,null,{"$f":"SUM(G249:G253)","v":0},{"$f":"SUM(H249:H253)","v":0}]
["5.9.1","Išlaidų pavadinimas",null,null,null,null,{"$f":"ROUND(E249*F249,2)","v":0},{"$f":"ROUND(G249*$D$7,2)","v":0}]
["5.9.2","Išlaidų pavadinimas",null,null,null,null,{"$f":"ROUND(E250*F250,2)","v":0},{"$f":"ROUND(G250*$D$7,2)","v":0}]
["5.9.3","Išlaidų pavadinimas",null,null,null,null,{"$f":"ROUND(E251*F251,2)","v":0},{"$f":"ROUND(G251*$D$7,2)","v":0}]
["5.9.4","Išlaidų pavadinimas",null,null,null,null,{"$f":"ROUND(E252*F252,2)","v":0},{"$f":"ROUND(G252*$D$7,2)","v":0}]
["5.9.5","Išlaidų pavadinimas",null,null,null,null,{"$f":"ROUND(E253*F253,2)","v":0},{"$f":"ROUND(G253*$D$7,2)","v":0}]
["Iš viso tinkamų finansuoti išlaidų:",null,null,null,null,null,{"$f":"G10+G21","v":0},{"$f":"H10+H21","v":0}]

{"sheet":"6","index":8,"n_rows":254,"n_cols":18,"rows_kept":254,"cut":false,"hidden":false,"merged":[[5,3,5,8],[8,1,8,2],[9,1,9,5],[10,1,10,2],[11,1,11,2],[12,1,12,2],[0,3,0,8],[2,0,2,2],[2,3,2,8],[3,3,3,4],[3,5,3,6],[4,0,4,2],[4,3,4,8],[19,1,19,2],[20,1,20,5],[21,1,21,5],[22,1,22,2],[23,1,23,2],[24,1,24,2],[13,1,13,2],[14,1,14,2],[15,1,15,2],[16,1,16,2],[17,1,17,2],[18,1,18,2],[31,1,31,2],[32,1,32,5],[33,1,33,2],[34,1,34,2],[35,1,35,2],[36,1,36,2],[25,1,25,2],[26,1,26,2],[27,1,27,2],[28,1,28,2],[29,1,29,2],[30,1,30,2],[43,1,43,5],[44,1,44,2],[45,1,45,2],[46,1,46,2],[47,1,47,2],[48,1,48,2],[37,1,37,2],[38,1,38,2],[39,1,39,2],[40,1,40,2],[41,1,41,2],[42,1,42,2],[55,1,55,2],[56,1,56,2],[57,1,57,2],[58,1,58,2],[59,1,59,2],[60,1,60,2],[49,1,49,2],[50,1,50,2],[51,1,51,2],[52,1,52,2],[53,1,53,2],[54,1,54,2],[67,1,67,2],[68,1,68,2],[69,1,69,2],[70,1,70,2],[71,1,71,5],[72,1,72,2],[61,1,61,2],[62,1,62,2],[63,1,63,2],[64,1,64,2],[65,1,65,2],[66,1,66,2],[79,1,79,2],[80,1,80,2],[81,1,81,2],[82,1,82,2],[83,1,83,2],[84,1,84,2],[73,1,73,2],[74,1,74,2],[75,1,75,2],[76,1,76,2],[77,1,77,2],[78,1,78,2],[91,1,91,2],[92,1,92,2],[93,1,93,2],[94,1,94,2],[95,1,95,2],[96,1,96,2],[85,1,85,2],[86,1,86,2],[87,1,87,2],[88,1,88,2],[89,1,89,2],[90,1,90,2],[97,1,97,2],[98,1,98,2],[99,1,99,2],[100,1,100,2],[101,1,101,5],[102,0,106,0],[102,1,106,1],[102,3,106,3],[102,4,106,4],[102,5,106,5],[102,6,106,6],[102,7,106,7],[102,8,106,8],[107,0,111,0],[107,1,111,1],[107,3,111,3],[107,4,111,4],[107,5,111,5],[107,6,111,6],[107,7,111,7],[107,8,111,8],[112,0,116,0],[112,1,116,1],[112,3,116,3],[112,4,116,4],[112,5,116,5],[112,6,116,6],[112,7,116,7],[112,8,116,8],[117,7,121,7],[117,8,121,8],[122,0,126,0],[122,1,126,1],[122,3,126,3],[122,4,126,4],[122,5,126,5],[122,6,126,6],[122,7,126,7],[122,8,126,8],[117,0,121,0],[117,1,121,1],[117,3,121,3],[117,4,121,4],[117,5,121,5],[117,6,121,6],[127,7,131,7],[127,8,131,8],[132,0,136,0],[132,1,136,1],[132,3,136,3],[132,4,136,4],[132,5,136,5],[132,6,136,6],[132,7,136,7],[132,8,136,8],[127,0,131,0],[127,1,131,1],[127,3,131,3],[127,4,131,4],[127,5,131,5],[127,6,131,6],[137,7,141,7],[137,8,141,8],[142,0,146,0],[142,1,146,1],[142,3,146,3],[142,4,146,4],[142,5,146,5],[142,6,146,6],[142,7,146,7],[142,8,146,8],[137,0,141,0],[137,1,141,1],[137,3,141,3],[137,4,141,4],[137,5,141,5],[137,6,141,6],[147,7,151,7],[147,8,151,8],[152,1,152,5],[153,0,159,0],[153,1,159,1],[153,8,159,8],[147,0,151,0],[147,1,151,1],[147,3,151,3],[147,4,151,4],[147,5,151,5],[147,6,151,6],[174,0,180,0],[174,1,180,1],[174,8,180,8],[181,0,187,0],[181,1,187,1],[181,8,187,8],[160,0,166,0],[160,1,166,1],[160,8,166,8],[167,0,173,0],[167,1,173,1],[167,8,173,8],[202,0,208,0],[202,1,208,1],[202,8,208,8],[209,0,215,0],[209,1,215,1],[209,8,215,8],[188,0,194,0],[188,1,194,1],[188,8,194,8],[195,0,201,0],[195,1,201,1],[195,8,201,8],[226,1,226,2],[227,1,227,2],[228,1,228,2],[229,1,229,2],[230,1,230,2],[231,1,231,2],[216,0,222,0],[216,1,222,1],[216,8,222,8],[223,1,223,5],[224,1,224,2],[225,1,225,2],[238,1,238,2],[239,1,239,2],[240,1,240,2],[241,1,241,5],[242,1,242,2],[243,1,243,2],[232,1,232,2],[233,1,233,2],[234,1,234,2],[235,1,235,2],[236,1,236,2],[237,1,237,2],[250,1,250,2],[251,1,251,2],[252,1,252,2],[253,0,253,5],[244,1,244,2],[245,1,245,2],[246,1,246,2],[247,1,247,5],[248,1,248,2],[249,1,249,2]]}
[null,null,"Pasirinkite veiklos tipą:"]
[null,null,"Fizinio rodiklio Nr.:"]
["Fizinio rodiklio pavadinimas:"]
[null,null,"Fizinio rodiklio matavimo vnt.:",null,null,"Fizinio rodiklio vnt. skaičius:"]
["Juridinis asmuo (pareiškėjas, partneris), atsakingas už fizinį rodiklį:"]
[null,null,"Vykdytojo tipas:"]
[null,null,"Finansavimo intensyvumas:",null,null,null,"Pasirinkite biudžeto išlaidų kategoriją:","Visos"]
[]
["Eil. Nr.","Išlaidų kategorijos pavadinimas",null,"Matavimo vnt.","Kiekis","Vieneto kaina be PVM, Eur","Tinkamų finansuoti išlaidų suma be PVM, Eur","Finansavimo suma, Eur","Išlaidų pagrindimo dokumentų pavadinimas, data ir Nr."]
[4,"ĮRANGA, ĮRENGINIAI IR KT. TURTAS (techninių žinių ir išradimų patentų arba teisių pagal licencijų sutartį įsigijimo išlaidos)",null,null,null,null,{"$f":"SUM(G11:G20)","v":0},{"$f":"SUM(H11:H20)","v":0}]
["4.1","Išlaidų pavadinimas",null,null,null,null,{"$f":"ROUND(E11*F11,2)","v":0},{"$f":"ROUND(G11*$D$7,2)","v":0}]
["4.2","Išlaidų pavadinimas",null,null,null,null,0,0]
["4.3","Išlaidų pavadinimas",null,null,null,null,0,0]
["4.4","Išlaidų pavadinimas",null,null,null,null,0,0]
["4.5","Išlaidų pavadinimas",null,null,null,null,0,0]
["4.6","Išlaidų pavadinimas",null,null,null,null,0,0]
["4.7","Išlaidų pavadinimas",null,null,null,null,0,0]
["4.8","Išlaidų pavadinimas",null,null,null,null,0,0]
["4.9","Išlaidų pavadinimas",null,null,null,null,0,0]
["4.10","Išlaidų pavadinimas",null,null,null,null,0,0]
[5,"PROJEKTO VYKDYMAS",null,null,null,null,{"$f":"G22+G33+G44+G72+G102+G153+G224+G242+G248","v":0},{"$f":"H22+H33+H44+H72+H102+H153+H224+H242+H248","v":0}]
["5.1","MTEP paslaugos",null,null,null,null,{"$f":"SUM(G23:G32)","v":0},{"$f":"SUM(H23:H32)","v":0}]
["5.1.1","Paslaugos pavadinimas",null,null,null,null,{"$f":"ROUND(E23*F23,2)","v":0},0]
["5.1.2","Paslaugos pavadinimas",null,null,null,null,0,0]
["5.1.3","Paslaugos pavadinimas",null,null,null,null,0,0]
["5.1.4","Paslaugos pavadinimas",null,null,null,null,0,0]
["5.1.5","Paslaugos pavadinimas",null,null,null,null,0,0]
["5.1.6","Paslaugos pavadinimas",null,null,null,null,0,0]
["5.1.7","Paslaugos pavadinimas",null,null,null,null,0,0]
["5.1.8","Paslaugos pavadinimas",null,null,null,null,0,0]
["5.1.9","Paslaugos pavadinimas",null,null,null,null,0,0]
["5.1.10","Paslaugos pavadinimas",null,null,null,null,0,0]
["5.2","Konsultavimo ir lygiavertės paslaugos, teikiamos vien tik projekto MTEP veiklai.",null,null,null,null,{"$f":"SUM(G34:G43)","v":0},{"$f":"SUM(H34:H43)","v":0}]
["5.2.1","Paslaugos pavadinimas",null,null,null,null,{"$f":"ROUND(E34*F34,2)","v":0},0]
["5.2.2","Paslaugos pavadinimas",null,null,null,null,0,0]
["5.2.3","Paslaugos pavadinimas",null,null,null,null,0,0]
["5.2.4","Paslaugos pavadinimas",null,null,null,null,0,0]
["5.2.5","Paslaugos pavadinimas",null,null,null,null,0,0]
["5.2.6","Paslaugos pavadinimas",null,null,null,null,0,0]
["5.2.7","Paslaugos pavadinimas",null,null,null,null,0,0]
["5.2.8","Paslaugos pavadinimas",null,null,null,null,0,0]
["5.2.9","Paslaugos pavadinimas",null,null,null,null,0,0]
["5.2.10","Paslaugos pavadinimas",null,null,null,null,0,0]
["5.3","Medžiagos, mažavertis inventorius, atsargos ir pan. produktai, priskirtini trumpalaikiam turtui ir tiesiogiai susiję su MTEP veikla",null,null,null,null,{"$f":"SUM(G45:G71)","v":0},{"$f":"SUM(H45:H71)","v":0}]
["5.3.1","Išlaidų pavadinimas",null,null,null,null,{"$f":"ROUND(E45*F45,2)","v":0},{"$f":"ROUND(G45*$D$7,2)","v":0}]
["5.3.2","Išlaidų pavadinimas",null,null,null,null,{"$f":"ROUND(E46*F46,2)","v":0},{"$f":"ROUND(G46*$D$7,2)","v":0}]
["5.3.3","Išlaidų pavadinimas",null,null,null,null,{"$f":"ROUND(E47*F47,2)","v":0},{"$f":"ROUND(G47*$D$7,2)","v":0}]
["5.3.4","Išlaidų pavadinimas",null,null,null,null,{"$f":"ROUND(E48*F48,2)","v":0},{"$f":"ROUND(G48*$D$7,2)","v":0}]
["5.3.5","Išlaidų pavadinimas",null,null,null,null,{"$f":"ROUND(E49*F49,2)","v":0},{"$f":"ROUND(G49*$D$7,2)","v":0}]
["5.3.6","Išlaidų pavadinimas",null,null,null,null,0,0]
["5.3.7","Išlaidų pavadinimas",null,null,null,null,0,0]
["5.3.8","Išlaidų pavadinimas",null,null,null,null,0,0]
["5.3.9","Išlaidų pavadinimas",null,null,null,null,0,0]
["5.3.10","Išlaidų pavadinimas",null,null,null,null,0,0]
["5.3.11","Išlaidų pavadinimas",null,null,null,null,0,0]
["5.3.12","Išlaidų pavadinimas",null,null,null,null,0,0]
["5.3.13","Išlaidų pavadinimas",null,null,null,null,0,0]
["5.3.14","Išlaidų pavadinimas",null,null,null,null,0,0]
["5.3.15","Išlaidų pavadinimas",null,null,null,null,0,0]
["5.3.16","Išlaidų pavadinimas",null,null,null,null,0,0]
["5.3.17","Išlaidų pavadinimas",null,null,null,null,0,0]
["5.3.18","Išlaidų pavadinimas",null,null,null,null,0,0]
["5.3.19","Išlaidų pavadinimas",null,null,null,null,0,0]
["5.3.20","Išlaidų pavadinimas",null,null,null,null,0,0]
["5.3.21","Išlaidų pavadinimas",null,null,null,null,0,0]
["5.3.22","Išlaidų pavadinimas",null,null,null,null,0,0]
["5.3.23","Išlaidų pavadinimas",null,null,null,null,0,0]
["5.3.24","Išlaidų pavadinimas",null,null,null,null,0,0]
["5.3.25","Išlaidų pavadinimas",null,null,null,null,0,0]
["5.3.26","Išlaidų pavadinimas",null,null,null,null,0,0]
["5.3.27","Išlaidų pavadinimas",null,null,null,null,0,0]
["5.4","Projekto MTEP veikloms naudojamo ilgalaikio materialaus turto (įrangos, prietaisų, įrankių, įrenginių, mašinų ir įrengimų, pastatų ir (ar) patalpų), nusidėvėjimo sąnaudos, jeigu šiam turtui įsigyti nebuvo naudojamos viešosios (įskaitant ir kitų valstybių) lėšos",null,null,null,null,{"$f":"SUM(G73:G101)","v":0},{"$f":"SUM(H73:H101)","v":0},null,"Turto įvedimo į eksploataciją data","Turto įsigijimo vertė, Eur","Turto nudėvėjimo, amortizacijos laikotarpis, mėn.","Numatoma turto likutinė vertė, Eur","1 mėn. nudėvėjimo, amortizacijos suma, Eur","Turto naudojamo projekto reikmėms laikas, mėn.","Turto panaudojimo projekto reikmėms dalis (proc.)","Projektui priskirta turto nusidėvėjimo, amortizacijos suma per projekto laikotarpį, Eur"]
["5.4.1","Turtas, kurio nusidėvėjimą, amortizaciją prašoma finansuoti",null,null,1,{"$f":"Q73","v":0},{"$f":"ROUND(E73*F73,2)","v":0},0,null,null,null,null,null,{"$f":"IFERROR(ROUND((K73-M73)/L73,2),\"0\")","v":"0"},null,null,{"$f":"N73*O73*P73","v":0},{"$f":"IF(J73=0,\" \",IF(J73+(L73*30.5)<TODAY(),\"DĖMESIO! Patikrinkite, ar nurodytas turtas dar nėra nudėvėtas, amortizuotas\",\" \"))","v":" "}]
["5.4.2","Turtas, kurio nusidėvėjimą, amortizaciją prašoma finansuoti",null,null,1,0,0,0,null,null,null,null,null,{"$f":"IFERROR(ROUND((K74-M74)/L74,2),\"0\")","v":"0"},null,null,{"$f":"N74*O74*P74","v":0},{"$f":"IF(J74=0,\" \",IF(J74+(L74*30.5)<TODAY(),\"DĖMESIO! Patikrinkite, ar nurodytas turtas dar nėra nudėvėtas, amortizuotas\",\" \"))","v":" "}]
["5.4.3","Turtas, kurio nusidėvėjimą, amortizaciją prašoma finansuoti",null,null,1,0,0,0,null,null,null,null,null,"0",null,null,0," "]
["5.4.4","Turtas, kurio nusidėvėjimą, amortizaciją prašoma finansuoti",null,null,1,0,0,0,null,null,null,null,null,"0",null,null,0," "]
["5.4.5","Turtas, kurio nusidėvėjimą, amortizaciją prašoma finansuoti",null,null,1,0,0,0,null,null,null,null,null,"0",null,null,0," "]
["5.4.6","Turtas, kurio nusidėvėjimą, amortizaciją prašoma finansuoti",null,null,1,0,0,0,null,null,null,null,null,"0",null,null,0," "]
["5.4.7","Turtas, kurio nusidėvėjimą, amortizaciją prašoma finansuoti",null,null,1,0,0,0,null,null,null,null,null,"0",null,null,0," "]
["5.4.8","Turtas, kurio nusidėvėjimą, amortizaciją prašoma finansuoti",null,null,1,0,0,0,null,null,null,null,null,"0",null,null,0," "]
["5.4.9","Turtas, kurio nusidėvėjimą, amortizaciją prašoma finansuoti",null,null,1,0,0,0,null,null,null,null,null,"0",null,null,0," "]
["5.4.10","Turtas, kurio nusidėvėjimą, amortizaciją prašoma finansuoti",null,null,1,0,0,0,null,null,null,null,null,"0",null,null,0," "]
["5.4.11","Turtas, kurio nusidėvėjimą, amortizaciją prašoma finansuoti",null,null,1,0,0,0,null,null,null,null,null,"0",null,null,0," "]
["5.4.12","Turtas, kurio nusidėvėjimą, amortizaciją prašoma finansuoti",null,null,1,0,0,0,null,null,null,null,null,"0",null,null,0," "]
["5.4.13","Turtas, kurio nusidėvėjimą, amortizaciją prašoma finansuoti",null,null,1,0,0,0,null,null,null,null,null,"0",null,null,0," "]
["5.4.14","Turtas, kurio nusidėvėjimą, amortizaciją prašoma finansuoti",null,null,1,0,0,0,null,null,null,null,null,"0",null,null,0," "]
["5.4.15","Turtas, kurio nusidėvėjimą, amortizaciją prašoma finansuoti",null,null,1,0,0,0,null,null,null,null,null,"0",null,null,0," "]
["5.4.16","Turtas, kurio nusidėvėjimą, amortizaciją prašoma finansuoti",null,null,1,0,0,0,null,null,null,null,null,"0",null,null,0," "]
["5.4.17","Turtas, kurio nusidėvėjimą, amortizaciją prašoma finansuoti",null,null,1,0,0,0,null,null,null,null,null,"0",null,null,0," "]
["5.4.18","Turtas, kurio nusidėvėjimą, amortizaciją prašoma finansuoti",null,null,1,0,0,0,null,null,null,null,null,"0",null,null,0," "]
["5.4.19","Turtas, kurio nusidėvėjimą, amortizaciją prašoma finansuoti",null,null,1,0,0,0,null,null,null,null,null,"0",null,null,0," "]
["5.4.20","Turtas, kurio nusidėvėjimą, amortizaciją prašoma finansuoti",null,null,1,0,0,0,null,null,null,null,null,"0",null,null,0," "]
["5.4.21","Turtas, kurio nusidėvėjimą, amortizaciją prašoma finansuoti",null,null,1,0,0,0,null,null,null,null,null,"0",null,null,0," "]
["5.4.22","Turtas, kurio nusidėvėjimą, amortizaciją prašoma finansuoti",null,null,1,0,0,0,null,null,null,null,null,"0",null,null,0," "]
["5.4.23","Turtas, kurio nusidėvėjimą, amortizaciją prašoma finansuoti",null,null,1,0,0,0,null,null,null,null,null,"0",null,null,0," "]
["5.4.24","Turtas, kurio nusidėvėjimą, amortizaciją prašoma finansuoti",null,null,1,0,0,0,null,null,null,null,null,"0",null,null,0," "]
["5.4.25","Turtas, kurio nusidėvėjimą, amortizaciją prašoma finansuoti",null,null,1,0,0,0,null,null,null,null,null,"0",null,null,0," "]
["5.4.26","Turtas, kurio nusidėvėjimą, amortizaciją prašoma finansuoti",null,null,1,0,0,0,null,null,null,null,null,"0",null,null,0," "]
["5.4.27","Turtas, kurio nusidėvėjimą, amortizaciją prašoma finansuoti",null,null,1,0,0,0,null,null,null,null,null,"0",null,null,0," "]
["5.4.28","Turtas, kurio nusidėvėjimą, amortizaciją prašoma finansuoti",null,null,1,0,0,0,null,null,null,null,null,"0",null,null,0," "]
["5.4.29","Turtas, kurio nusidėvėjimą, amortizaciją prašoma finansuoti",null,null,1,0,0,0,null,null,null,null,null,"0",null,null,0," "]
["5.5","Projektą vykdančio personalo darbo užmokestis ir išlaidos su darbo santykiais susijusiems darbdavio įsipareigojimams",null,null,null,null,{"$f":"SUM(G103:G152)","v":0},{"$f":"SUM(H103:H152)","v":0},null,"Faktiškai gaunamas darbo užmokesti už 1 valandą pagal  pastarųjų 6 mėn. vidurkį, Eur"]
["5.5.1","Pareigybės pavadinimas","Darbuotojo vardas pavardė","val.",null,{"$f":"IFERROR(ROUND(AVERAGE(J103:J107),2),\"0\")","v":"0"},{"$f":"ROUND(E103*F103,2)","v":0},{"$f":"ROUND(G103*$D$7,2)","v":0}]
[null,null,"Darbuotojo vardas pavardė"]
[null,null,"Darbuotojo vardas pavardė"]
[null,null,"Darbuotojo vardas pavardė"]
[null,null,"Darbuotojo vardas pavardė"]
["5.5.2","Pareigybės pavadinimas","Darbuotojo vardas pavardė","val.",null,{"$f":"IFERROR(ROUND(AVERAGE(J108:J112),2),\"0\")","v":"0"},{"$f":"ROUND(E108*F108,2)","v":0},{"$f":"ROUND(G108*$D$7,2)","v":0}]
[null,null,"Darbuotojo vardas pavardė"]
[null,null,"Darbuotojo vardas pavardė"]
[null,null,"Darbuotojo vardas pavardė"]
[null,null,"Darbuotojo vardas pavardė"]
["5.5.3","Pareigybės pavadinimas","Darbuotojo vardas pavardė","val.",null,{"$f":"IFERROR(ROUND(AVERAGE(J113:J117),2),\"0\")","v":"0"},{"$f":"ROUND(E113*F113,2)","v":0},{"$f":"ROUND(G113*$D$7,2)","v":0}]
[null,null,"Darbuotojo vardas pavardė"]
[null,null,"Darbuotojo vardas pavardė"]
[null,null,"Darbuotojo vardas pavardė"]
[null,null,"Darbuotojo vardas pavardė"]
["5.5.4","Pareigybės pavadinimas","Darbuotojo vardas pavardė","val.",null,{"$f":"IFERROR(ROUND(AVERAGE(J118:J122),2),\"0\")","v":"0"},{"$f":"ROUND(E118*F118,2)","v":0},{"$f":"ROUND(G118*$D$7,2)","v":0}]
[null,null,"Darbuotojo vardas pavardė"]
[null,null,"Darbuotojo vardas pavardė"]
[null,null,"Darbuotojo vardas pavardė"]
[null,null,"Darbuotojo vardas pavardė"]
["5.5.5","Pareigybės pavadinimas","Darbuotojo vardas pavardė","val.",null,{"$f":"IFERROR(ROUND(AVERAGE(J123:J127),2),\"0\")","v":"0"},{"$f":"ROUND(E123*F123,2)","v":0},{"$f":"ROUND(G123*$D$7,2)","v":0}]
[null,null,"Darbuotojo vardas pavardė"]
[null,null,"Darbuotojo vardas pavardė"]
[null,null,"Darbuotojo vardas pavardė"]
[null,null,"Darbuotojo vardas pavardė"]
["5.5.6","Pareigybės pavadinimas","Darbuotojo vardas pavardė","val.",null,{"$f":"IFERROR(ROUND(AVERAGE(J128:J132),2),\"0\")","v":"0"},{"$f":"ROUND(E128*F128,2)","v":0},{"$f":"ROUND(G128*$D$7,2)","v":0}]
[null,null,"Darbuotojo vardas pavardė"]
[null,null,"Darbuotojo vardas pavardė"]
[null,null,"Darbuotojo vardas pavardė"]
[null,null,"Darbuotojo vardas pavardė"]
["5.5.7","Pareigybės pavadinimas","Darbuotojo vardas pavardė","val.",null,{"$f":"IFERROR(ROUND(AVERAGE(J133:J137),2),\"0\")","v":"0"},{"$f":"ROUND(E133*F133,2)","v":0},{"$f":"ROUND(G133*$D$7,2)","v":0}]
[null,null,"Darbuotojo vardas pavardė"]
[null,null,"Darbuotojo vardas pavardė"]
[null,null,"Darbuotojo vardas pavardė"]
[null,null,"Darbuotojo vardas pavardė"]
["5.5.8","Pareigybės pavadinimas","Darbuotojo vardas pavardė","val.",null,{"$f":"IFERROR(ROUND(AVERAGE(J138:J142),2),\"0\")","v":"0"},{"$f":"ROUND(E138*F138,2)","v":0},{"$f":"ROUND(G138*$D$7,2)","v":0}]
[null,null,"Darbuotojo vardas pavardė"]
[null,null,"Darbuotojo vardas pavardė"]
[null,null,"Darbuotojo vardas pavardė"]
[null,null,"Darbuotojo vardas pavardė"]
["5.5.9","Pareigybės pavadinimas","Darbuotojo vardas pavardė","val.",null,{"$f":"IFERROR(ROUND(AVERAGE(J143:J147),2),\"0\")","v":"0"},{"$f":"ROUND(E143*F143,2)","v":0},{"$f":"ROUND(G143*$D$7,2)","v":0}]
[null,null,"Darbuotojo vardas pavardė"]
[null,null,"Darbuotojo vardas pavardė"]
[null,null,"Darbuotojo vardas pavardė"]
[null,null,"Darbuotojo vardas pavardė"]
["5.5.10","Pareigybės pavadinimas","Darbuotojo vardas pavardė","val.",null,{"$f":"IFERROR(ROUND(AVERAGE(J148:J152),2),\"0\")","v":"0"},{"$f":"ROUND(E148*F148,2)","v":0},{"$f":"ROUND(G148*$D$7,2)","v":0}]
[null,null,"Darbuotojo vardas pavardė"]
[null,null,"Darbuotojo vardas pavardė"]
[null,null,"Darbuotojo vardas pavardė"]
[null,null,"Darbuotojo vardas pavardė"]
["5.6","Projektą vykdančio personalo komandiruočių išlaidos",null,null,null,null,{"$f":"SUM(G154,G161,G168,G175,G182,G189,G196,G203,G210,G217)","v":0},{"$f":"SUM(H154,H161,H168,H175,H182,H189,H196,H203,H210,H217)","v":0}]
["5.6.1","Komandiruotės pavadinimas, vieta, trukmė dienomis, vykstančių asmenų skaičius","Iš viso komandiruotei",null,null,null,{"$f":"SUM(G155:G160)","v":0},{"$f":"ROUND(G154*$D$7,2)","v":0}]
[null,null,"Dienpinigiai",null,null,null,{"$f":"ROUND(E155*F155,2)","v":0}]
[null,null,"Gyvenamojo ploto nuoma",null,null,null,0]
[null,null,"Kelionės išlaidos",null,null,null,0]
[null,null,"Dalyvavimo mokestis",null,null,null,0]
[null,null,"Kitos išlaidų pavadinimas",null,null,null,0]
[null,null,"Kitos išlaidų pavadinimas",null,null,null,0]
["5.6.2","Komandiruotės pavadinimas, vieta, trukmė dienomis, vykstančių asmenų skaičius","Iš viso komandiruotei",null,null,null,{"$f":"SUM(G162:G167)","v":0},{"$f":"ROUND(G161*$D$7,2)","v":0}]
[null,null,"Dienpinigiai",null,null,null,{"$f":"ROUND(E162*F162,2)","v":0}]
[null,null,"Gyvenamojo ploto nuoma",null,null,null,0]
[null,null,"Kelionės išlaidos",null,null,null,0]
[null,null,"Dalyvavimo mokestis",null,null,null,0]
[null,null,"Kitos išlaidų pavadinimas",null,null,null,0]
[null,null,"Kitos išlaidų pavadinimas",null,null,null,0]
["5.6.3","Komandiruotės pavadinimas, vieta, trukmė dienomis, vykstančių asmenų skaičius","Iš viso komandiruotei",null,null,null,{"$f":"SUM(G169:G174)","v":0},{"$f":"ROUND(G168*$D$7,2)","v":0}]
[null,null,"Dienpinigiai",null,null,null,{"$f":"ROUND(E169*F169,2)","v":0}]
[null,null,"Gyvenamojo ploto nuoma",null,null,null,0]
[null,null,"Kelionės išlaidos",null,null,null,0]
[null,null,"Dalyvavimo mokestis",null,null,null,0]
[null,null,"Kitos išlaidų pavadinimas",null,null,null,0]
[null,null,"Kitos išlaidų pavadinimas",null,null,null,0]
["5.6.4","Komandiruotės pavadinimas, vieta, trukmė dienomis, vykstančių asmenų skaičius","Iš viso komandiruotei",null,null,null,{"$f":"SUM(G176:G181)","v":0},{"$f":"ROUND(G175*$D$7,2)","v":0}]
[null,null,"Dienpinigiai",null,null,null,{"$f":"ROUND(E176*F176,2)","v":0}]
[null,null,"Gyvenamojo ploto nuoma",null,null,null,0]
[null,null,"Kelionės išlaidos",null,null,null,0]
[null,null,"Dalyvavimo mokestis",null,null,null,0]
[null,null,"Kitos išlaidų pavadinimas",null,null,null,0]
[null,null,"Kitos išlaidų pavadinimas",null,null,null,0]
["5.6.5","Komandiruotės pavadinimas, vieta, trukmė dienomis, vykstančių asmenų skaičius","Iš viso komandiruotei",null,null,null,{"$f":"SUM(G183:G188)","v":0},{"$f":"ROUND(G182*$D$7,2)","v":0}]
[null,null,"Dienpinigiai",null,null,null,{"$f":"ROUND(E183*F183,2)","v":0}]
[null,null,"Gyvenamojo ploto nuoma",null,null,null,0]
[null,null,"Kelionės išlaidos",null,null,null,0]
[null,null,"Dalyvavimo mokestis",null,null,null,0]
[null,null,"Kitos išlaidų pavadinimas",null,null,null,0]
[null,null,"Kitos išlaidų pavadinimas",null,null,null,0]
["5.6.6","Komandiruotės pavadinimas, vieta, trukmė dienomis, vykstančių asmenų skaičius","Iš viso komandiruotei",null,null,null,{"$f":"SUM(G190:G195)","v":0},{"$f":"ROUND(G189*$D$7,2)","v":0}]
[null,null,"Dienpinigiai",null,null,null,{"$f":"ROUND(E190*F190,2)","v":0}]
[null,null,"Gyvenamojo ploto nuoma",null,null,null,0]
[null,null,"Kelionės išlaidos",null,null,null,0]
[null,null,"Dalyvavimo mokestis",null,null,null,0]
[null,null,"Kitos išlaidų pavadinimas",null,null,null,0]
[null,null,"Kitos išlaidų pavadinimas",null,null,null,0]
["5.6.7","Komandiruotės pavadinimas, vieta, trukmė dienomis, vykstančių asmenų skaičius","Iš viso komandiruotei",null,null,null,{"$f":"SUM(G197:G202)","v":0},{"$f":"ROUND(G196*$D$7,2)","v":0}]
[null,null,"Dienpinigiai",null,null,null,{"$f":"ROUND(E197*F197,2)","v":0}]
[null,null,"Gyvenamojo ploto nuoma",null,null,null,0]
[null,null,"Kelionės išlaidos",null,null,null,0]
[null,null,"Dalyvavimo mokestis",null,null,null,0]
[null,null,"Kitos išlaidų pavadinimas",null,null,null,0]
[null,null,"Kitos išlaidų pavadinimas",null,null,null,0]
["5.6.8","Komandiruotės pavadinimas, vieta, trukmė dienomis, vykstančių asmenų skaičius","Iš viso komandiruotei",null,null,null,{"$f":"SUM(G204:G209)","v":0},{"$f":"ROUND(G203*$D$7,2)","v":0}]
[null,null,"Dienpinigiai",null,null,null,{"$f":"ROUND(E204*F204,2)","v":0}]
[null,null,"Gyvenamojo ploto nuoma",null,null,null,0]
[null,null,"Kelionės išlaidos",null,null,null,0]
[null,null,"Dalyvavimo mokestis",null,null,null,0]
[null,null,"Kitos išlaidų pavadinimas",null,null,null,0]
[null,null,"Kitos išlaidų pavadinimas",null,null,null,0]
["5.6.9","Komandiruotės pavadinimas, vieta, trukmė dienomis, vykstančių asmenų skaičius","Iš viso komandiruotei",null,null,null,{"$f":"SUM(G211:G216)","v":0},{"$f":"ROUND(G210*$D$7,2)","v":0}]
[null,null,"Dienpinigiai",null,null,null,{"$f":"ROUND(E211*F211,2)","v":0}]
[null,null,"Gyvenamojo ploto nuoma",null,null,null,0]
[null,null,"Kelionės išlaidos",null,null,null,0]
[null,null,"Dalyvavimo mokestis",null,null,null,0]
[null,null,"Kitos išlaidų pavadinimas",null,null,null,0]
[null,null,"Kitos išlaidų pavadinimas",null,null,null,0]
["5.6.10","Komandiruotės pavadinimas, vieta, trukmė dienomis, vykstančių asmenų skaičius","Iš viso komandiruotei",null,null,null,{"$f":"SUM(G218:G223)","v":0},{"$f":"ROUND(G217*$D$7,2)","v":0}]
[null,null,"Dienpinigiai",null,null,null,{"$f":"ROUND(E218*F218,2)","v":0}]
[null,null,"Gyvenamojo ploto nuoma",null,null,null,0]
[null,null,"Kelionės išlaidos",null,null,null,0]
[null,null,"Dalyvavimo mokestis",null,null,null,0]
[null,null,"Kitos išlaidų pavadinimas",null,null,null,0]
[null,null,"Kitos išlaidų pavadinimas",null,null,null,0]
["5.7","Įrangos nuomos išlaidos, veiklai priskirtos pro rata principu. Įranga turi būti tiesiogiai susijusi su projekto įgyvendinimu ir negali būti įsigyta iš ES struktūrinių fondų ar kt. ES finansinių priemonių lėšų",null,null,null,null,{"$f":"SUM(G225:G241)","v":0},{"$f":"SUM(H225:H241)","v":0},null,"Faktinės 1 mėnesio išlaidos, Eur","Naudojimo projekte trukmė, mėn."]
["5.7.1","Įrangos pavadinimas",null,"pro rata proc.",null,{"$f":"J225*K225","v":0},{"$f":"ROUND(E225*F225,2)","v":0},{"$f":"ROUND(G225*$D$7,2)","v":0}]
["5.7.2","Įrangos pavadinimas",null,"pro rata proc.",null,0,0,{"$f":"ROUND(G226*$D$7,2)","v":0}]
["5.7.3","Įrangos pavadinimas",null,"pro rata proc.",null,0,0,0]
["5.7.4","Įrangos pavadinimas",null,"pro rata proc.",null,0,0,0]
["5.7.5","Įrangos pavadinimas",null,"pro rata proc.",null,0,0,0]
["5.7.6","Įrangos pavadinimas",null,"pro rata proc.",null,0,0,0]
["5.7.7","Įrangos pavadinimas",null,"pro rata proc.",null,0,0,0]
["5.7.8","Įrangos pavadinimas",null,"pro rata proc.",null,0,0,0]
["5.7.9","Įrangos pavadinimas",null,"pro rata proc.",null,0,0,0]
["5.7.10","Įrangos pavadinimas",null,"pro rata proc.",null,0,0,0]
["5.7.11","Įrangos pavadinimas",null,"pro rata proc.",null,0,0,0]
["5.7.12","Įrangos pavadinimas",null,"pro rata proc.",null,0,0,0]
["5.7.13","Įrangos pavadinimas",null,"pro rata proc.",null,0,0,0]
["5.7.14","Įrangos pavadinimas",null,"pro rata proc.",null,{"$f":"J238*K238","v":0},0,{"$f":"ROUND(G238*$D$7,2)","v":0}]
["5.7.15","Įrangos pavadinimas",null,"pro rata proc.",null,{"$f":"J239*K239","v":0},0,{"$f":"ROUND(G239*$D$7,2)","v":0}]
["5.7.16","Įrangos pavadinimas",null,"pro rata proc.",null,{"$f":"J240*K240","v":0},0,{"$f":"ROUND(G240*$D$7,2)","v":0}]
["5.7.17","Įrangos pavadinimas",null,"pro rata proc.",null,{"$f":"J241*K241","v":0},0,{"$f":"ROUND(G241*$D$7,2)","v":0}]
["5.8","Pastatų ar patalpų nuomos išlaidos, veiklai priskirtos pro rata principu. Pastatai ar patalpos turi būti tiesiogiai susijusi su projekto įgyvendinimu.",null,null,null,null,{"$f":"SUM(G243:G247)","v":0},{"$f":"SUM(H243:H247)","v":0},null,"Faktinės 1 mėnesio išlaidos, Eur","Naudojimo projekte trukmė, mėn."]
["5.8.1","Pastato, patalpų adresas",null,"pro rata proc.",null,{"$f":"J243*K243","v":0},{"$f":"ROUND(E243*F243,2)","v":0},{"$f":"ROUND(G243*$D$7,2)","v":0}]
["5.8.2","Pastato, patalpų adresas",null,"pro rata proc.",null,{"$f":"J244*K244","v":0},{"$f":"ROUND(E244*F244,2)","v":0},{"$f":"ROUND(G244*$D$7,2)","v":0}]
["5.8.3","Pastato, patalpų adresas",null,"pro rata proc.",null,{"$f":"J245*K245","v":0},{"$f":"ROUND(E245*F245,2)","v":0},{"$f":"ROUND(G245*$D$7,2)","v":0}]
["5.8.4","Pastato, patalpų adresas",null,"pro rata proc.",null,{"$f":"J246*K246","v":0},{"$f":"ROUND(E246*F246,2)","v":0},{"$f":"ROUND(G246*$D$7,2)","v":0}]
["5.8.5","Pastato, patalpų adresas",null,"pro rata proc.",null,{"$f":"J247*K247","v":0},{"$f":"ROUND(E247*F247,2)","v":0},{"$f":"ROUND(G247*$D$7,2)","v":0}]
["5.9","Projekto veikloms vykdyti reikalingų transporto priemonių nuomos išlaidos (išlaidos yra tinkamos finansuoti tik pagal Aprašą Nr. 2 vadovaujantis de minimis reglamento nuostatomis)",null,null,null,null,{"$f":"SUM(G249:G253)","v":0},{"$f":"SUM(H249:H253)","v":0}]
["5.9.1","Išlaidų pavadinimas",null,null,null,null,{"$f":"ROUND(E249*F249,2)","v":0},{"$f":"ROUND(G249*$D$7,2)","v":0}]
["5.9.2","Išlaidų pavadinimas",null,null,null,null,{"$f":"ROUND(E250*F250,2)","v":0},{"$f":"ROUND(G250*$D$7,2)","v":0}]
["5.9.3","Išlaidų pavadinimas",null,null,null,null,{"$f":"ROUND(E251*F251,2)","v":0},{"$f":"ROUND(G251*$D$7,2)","v":0}]
["5.9.4","Išlaidų pavadinimas",null,null,null,null,{"$f":"ROUND(E252*F252,2)","v":0},{"$f":"ROUND(G252*$D$7,2)","v":0}]
["5.9.5","Išlaidų pavadinimas",null,null,null,null,{"$f":"ROUND(E253*F253,2)","v":0},{"$f":"ROUND(G253*$D$7,2)","v":0}]
["Iš viso tinkamų finansuoti išlaidų:",null,null,null,null,null,{"$f":"G10+G21","v":0},{"$f":"H10+H21","v":0}]

{"sheet":"7","index":9,"n_rows":254,"n_cols":18,"rows_kept":254,"cut":false,"hidden":false,"merged":[[5,3,5,8],[8,1,8,2],[9,1,9,5],[10,1,10,2],[11,1,11,2],[12,1,12,2],[0,3,0,8],[2,0,2,2],[2,3,2,8],[3,3,3,4],[3,5,3,6],[4,0,4,2],[4,3,4,8],[19,1,19,2],[20,1,20,5],[21,1,21,5],[22,1,22,2],[23,1,23,2],[24,1,24,2],[13,1,13,2],[14,1,14,2],[15,1,15,2],[16,1,16,2],[17,1,17,2],[18,1,18,2],[31,1,31,2],[32,1,32,5],[33,1,33,2],[34,1,34,2],[35,1,35,2],[36,1,36,2],[25,1,25,2],[26,1,26,2],[27,1,27,2],[28,1,28,2],[29,1,29,2],[30,1,30,2],[43,1,43,5],[44,1,44,2],[45,1,45,2],[46,1,46,2],[47,1,47,2],[48,1,48,2],[37,1,37,2],[38,1,38,2],[39,1,39,2],[40,1,40,2],[41,1,41,2],[42,1,42,2],[55,1,55,2],[56,1,56,2],[57,1,57,2],[58,1,58,2],[59,1,59,2],[60,1,60,2],[49,1,49,2],[50,1,50,2],[51,1,51,2],[52,1,52,2],[53,1,53,2],[54,1,54,2],[67,1,67,2],[68,1,68,2],[69,1,69,2],[70,1,70,2],[71,1,71,5],[72,1,72,2],[61,1,61,2],[62,1,62,2],[63,1,63,2],[64,1,64,2],[65,1,65,2],[66,1,66,2],[79,1,79,2],[80,1,80,2],[81,1,81,2],[82,1,82,2],[83,1,83,2],[84,1,84,2],[73,1,73,2],[74,1,74,2],[75,1,75,2],[76,1,76,2],[77,1,77,2],[78,1,78,2],[91,1,91,2],[92,1,92,2],[93,1,93,2],[94,1,94,2],[95,1,95,2],[96,1,96,2],[85,1,85,2],[86,1,86,2],[87,1,87,2],[88,1,88,2],[89,1,89,2],[90,1,90,2],[97,1,97,2],[98,1,98,2],[99,1,99,2],[100,1,100,2],[101,1,101,5],[102,0,106,0],[102,1,106,1],[102,3,106,3],[102,4,106,4],[102,5,106,5],[102,6,106,6],[102,7,106,7],[102,8,106,8],[107,0,111,0],[107,1,111,1],[107,3,111,3],[107,4,111,4],[107,5,111,5],[107,6,111,6],[107,7,111,7],[107,8,111,8],[112,0,116,0],[112,1,116,1],[112,3,116,3],[112,4,116,4],[112,5,116,5],[112,6,116,6],[112,7,116,7],[112,8,116,8],[117,7,121,7],[117,8,121,8],[122,0,126,0],[122,1,126,1],[122,3,126,3],[122,4,126,4],[122,5,126,5],[122,6,126,6],[122,7,126,7],[122,8,126,8],[117,0,121,0],[117,1,121,1],[117,3,121,3],[117,4,121,4],[117,5,121,5],[117,6,121,6],[127,7,131,7],[127,8,131,8],[132,0,136,0],[132,1,136,1],[132,3,136,3],[132,4,136,4],[132,5,136,5],[132,6,136,6],[132,7,136,7],[132,8,136,8],[127,0,131,0],[127,1,131,1],[127,3,131,3],[127,4,131,4],[127,5,131,5],[127,6,131,6],[137,7,141,7],[137,8,141,8],[142,0,146,0],[142,1,146,1],[142,3,146,3],[142,4,146,4],[142,5,146,5],[142,6,146,6],[142,7,146,7],[142,8,146,8],[137,0,141,0],[137,1,141,1],[137,3,141,3],[137,4,141,4],[137,5,141,5],[137,6,141,6],[147,7,151,7],[147,8,151,8],[152,1,152,5],[153,0,159,0],[153,1,159,1],[153,8,159,8],[147,0,151,0],[147,1,151,1],[147,3,151,3],[147,4,151,4],[147,5,151,5],[147,6,151,6],[174,0,180,0],[174,1,180,1],[174,8,180,8],[181,0,187,0],[181,1,187,1],[181,8,187,8],[160,0,166,0],[160,1,166,1],[160,8,166,8],[167,0,173,0],[167,1,173,1],[167,8,173,8],[202,0,208,0],[202,1,208,1],[202,8,208,8],[209,0,215,0],[209,1,215,1],[209,8,215,8],[188,0,194,0],[188,1,194,1],[188,8,194,8],[195,0,201,0],[195,1,201,1],[195,8,201,8],[226,1,226,2],[227,1,227,2],[228,1,228,2],[229,1,229,2],[230,1,230,2],[231,1,231,2],[216,0,222,0],[216,1,222,1],[216,8,222,8],[223,1,223,5],[224,1,224,2],[225,1,225,2],[238,1,238,2],[239,1,239,2],[240,1,240,2],[241,1,241,5],[242,1,242,2],[243,1,243,2],[232,1,232,2],[233,1,233,2],[234,1,234,2],[235,1,235,2],[236,1,236,2],[237,1,237,2],[250,1,250,2],[251,1,251,2],[252,1,252,2],[253,0,253,5],[244,1,244,2],[245,1,245,2],[246,1,246,2],[247,1,247,5],[248,1,248,2],[249,1,249,2]]}
[null,null,"Pasirinkite veiklos tipą:"]
[null,null,"Fizinio rodiklio Nr.:"]
["Fizinio rodiklio pavadinimas:"]
[null,null,"Fizinio rodiklio matavimo vnt.:",null,null,"Fizinio rodiklio vnt. skaičius:"]
["Juridinis asmuo (pareiškėjas, partneris), atsakingas už fizinį rodiklį:"]
[null,null,"Vykdytojo tipas:"]
[null,null,"Finansavimo intensyvumas:",null,null,null,"Pasirinkite biudžeto išlaidų kategoriją:","Visos"]
[]
["Eil. Nr.","Išlaidų kategorijos pavadinimas",null,"Matavimo vnt.","Kiekis","Vieneto kaina be PVM, Eur","Tinkamų finansuoti išlaidų suma be PVM, Eur","Finansavimo suma, Eur","Išlaidų pagrindimo dokumentų pavadinimas, data ir Nr."]
[4,"ĮRANGA, ĮRENGINIAI IR KT. TURTAS (techninių žinių ir išradimų patentų arba teisių pagal licencijų sutartį įsigijimo išlaidos)",null,null,null,null,{"$f":"SUM(G11:G20)","v":0},{"$f":"SUM(H11:H20)","v":0}]
["4.1","Išlaidų pavadinimas",null,null,null,null,{"$f":"ROUND(E11*F11,2)","v":0},{"$f":"ROUND(G11*$D$7,2)","v":0}]
["4.2","Išlaidų pavadinimas",null,null,null,null,0,0]
["4.3","Išlaidų pavadinimas",null,null,null,null,0,0]
["4.4","Išlaidų pavadinimas",null,null,null,null,0,0]
["4.5","Išlaidų pavadinimas",null,null,null,null,0,0]
["4.6","Išlaidų pavadinimas",null,null,null,null,0,0]
["4.7","Išlaidų pavadinimas",null,null,null,null,0,0]
["4.8","Išlaidų pavadinimas",null,null,null,null,0,0]
["4.9","Išlaidų pavadinimas",null,null,null,null,0,0]
["4.10","Išlaidų pavadinimas",null,null,null,null,0,0]
[5,"PROJEKTO VYKDYMAS",null,null,null,null,{"$f":"G22+G33+G44+G72+G102+G153+G224+G242+G248","v":0},{"$f":"H22+H33+H44+H72+H102+H153+H224+H242+H248","v":0}]
["5.1","MTEP paslaugos",null,null,null,null,{"$f":"SUM(G23:G32)","v":0},{"$f":"SUM(H23:H32)","v":0}]
["5.1.1","Paslaugos pavadinimas",null,null,null,null,{"$f":"ROUND(E23*F23,2)","v":0},0]
["5.1.2","Paslaugos pavadinimas",null,null,null,null,0,0]
["5.1.3","Paslaugos pavadinimas",null,null,null,null,0,0]
["5.1.4","Paslaugos pavadinimas",null,null,null,null,0,0]
["5.1.5","Paslaugos pavadinimas",null,null,null,null,0,0]
["5.1.6","Paslaugos pavadinimas",null,null,null,null,0,0]
["5.1.7","Paslaugos pavadinimas",null,null,null,null,0,0]
["5.1.8","Paslaugos pavadinimas",null,null,null,null,0,0]
["5.1.9","Paslaugos pavadinimas",null,null,null,null,0,0]
["5.1.10","Paslaugos pavadinimas",null,null,null,null,0,0]
["5.2","Konsultavimo ir lygiavertės paslaugos, teikiamos vien tik projekto MTEP veiklai.",null,null,null,null,{"$f":"SUM(G34:G43)","v":0},{"$f":"SUM(H34:H43)","v":0}]
["5.2.1","Paslaugos pavadinimas",null,null,null,null,{"$f":"ROUND(E34*F34,2)","v":0},0]
["5.2.2","Paslaugos pavadinimas",null,null,null,null,0,0]
["5.2.3","Paslaugos pavadinimas",null,null,null,null,0,0]
["5.2.4","Paslaugos pavadinimas",null,null,null,null,0,0]
["5.2.5","Paslaugos pavadinimas",null,null,null,null,0,0]
["5.2.6","Paslaugos pavadinimas",null,null,null,null,0,0]
["5.2.7","Paslaugos pavadinimas",null,null,null,null,0,0]
["5.2.8","Paslaugos pavadinimas",null,null,null,null,0,0]
["5.2.9","Paslaugos pavadinimas",null,null,null,null,0,0]
["5.2.10","Paslaugos pavadinimas",null,null,null,null,0,0]
["5.3","Medžiagos, mažavertis inventorius, atsargos ir pan. produktai, priskirtini trumpalaikiam turtui ir tiesiogiai susiję su MTEP veikla",null,null,null,null,{"$f":"SUM(G45:G71)","v":0},{"$f":"SUM(H45:H71)","v":0}]
["5.3.1","Išlaidų pavadinimas",null,null,null,null,{"$f":"ROUND(E45*F45,2)","v":0},{"$f":"ROUND(G45*$D$7,2)","v":0}]
["5.3.2","Išlaidų pavadinimas",null,null,null,null,{"$f":"ROUND(E46*F46,2)","v":0},{"$f":"ROUND(G46*$D$7,2)","v":0}]
["5.3.3","Išlaidų pavadinimas",null,null,null,null,{"$f":"ROUND(E47*F47,2)","v":0},{"$f":"ROUND(G47*$D$7,2)","v":0}]
["5.3.4","Išlaidų pavadinimas",null,null,null,null,{"$f":"ROUND(E48*F48,2)","v":0},{"$f":"ROUND(G48*$D$7,2)","v":0}]
["5.3.5","Išlaidų pavadinimas",null,null,null,null,{"$f":"ROUND(E49*F49,2)","v":0},{"$f":"ROUND(G49*$D$7,2)","v":0}]
["5.3.6","Išlaidų pavadinimas",null,null,null,null,0,0]
["5.3.7","Išlaidų pavadinimas",null,null,null,null,0,0]
["5.3.8","Išlaidų pavadinimas",null,null,null,null,0,0]
["5.3.9","Išlaidų pavadinimas",null,null,null,null,0,0]
["5.3.10","Išlaidų pavadinimas",null,null,null,null,0,0]
["5.3.11","Išlaidų pavadinimas",null,null,null,null,0,0]
["5.3.12","Išlaidų pavadinimas",null,null,null,null,0,0]
["5.3.13","Išlaidų pavadinimas",null,null,null,null,0,0]
["5.3.14","Išlaidų pavadinimas",null,null,null,null,0,0]
["5.3.15","Išlaidų pavadinimas",null,null,null,null,0,0]
["5.3.16","Išlaidų pavadinimas",null,null,null,null,0,0]
["5.3.17","Išlaidų pavadinimas",null,null,null,null,0,0]
["5.3.18","Išlaidų pavadinimas",null,null,null,null,0,0]
["5.3.19","Išlaidų pavadinimas",null,null,null,null,0,0]
["5.3.20","Išlaidų pavadinimas",null,null,null,null,0,0]
["5.3.21","Išlaidų pavadinimas",null,null,null,null,0,0]
["5.3.22","Išlaidų pavadinimas",null,null,null,null,0,0]
["5.3.23","Išlaidų pavadinimas",null,null,null,null,0,0]
["5.3.24","Išlaidų pavadinimas",null,null,null,null,0,0]
["5.3.25","Išlaidų pavadinimas",null,null,null,null,0,0]
["5.3.26","Išlaidų pavadinimas",null,null,null,null,0,0]
["5.3.27","Išlaidų pavadinimas",null,null,null,null,0,0]
["5.4","Projekto MTEP veikloms naudojamo ilgalaikio materialaus turto (įrangos, prietaisų, įrankių, įrenginių, mašinų ir įrengimų, pastatų ir (ar) patalpų), nusidėvėjimo sąnaudos, jeigu šiam turtui įsigyti nebuvo naudojamos viešosios (įskaitant ir kitų valstybių) lėšos",null,null,null,null,{"$f":"SUM(G73:G101)","v":0},{"$f":"SUM(H73:H101)","v":0},null,"Turto įvedimo į eksploataciją data","Turto įsigijimo vertė, Eur","Turto nudėvėjimo, amortizacijos laikotarpis, mėn.","Numatoma turto likutinė vertė, Eur","1 mėn. nudėvėjimo, amortizacijos suma, Eur","Turto naudojamo projekto reikmėms laikas, mėn.","Turto panaudojimo projekto reikmėms dalis (proc.)","Projektui priskirta turto nusidėvėjimo, amortizacijos suma per projekto laikotarpį, Eur"]
["5.4.1","Turtas, kurio nusidėvėjimą, amortizaciją prašoma finansuoti",null,null,1,{"$f":"Q73","v":0},{"$f":"ROUND(E73*F73,2)","v":0},0,null,null,null,null,null,{"$f":"IFERROR(ROUND((K73-M73)/L73,2),\"0\")","v":"0"},null,null,{"$f":"N73*O73*P73","v":0},{"$f":"IF(J73=0,\" \",IF(J73+(L73*30.5)<TODAY(),\"DĖMESIO! Patikrinkite, ar nurodytas turtas dar nėra nudėvėtas, amortizuotas\",\" \"))","v":" "}]
["5.4.2","Turtas, kurio nusidėvėjimą, amortizaciją prašoma finansuoti",null,null,1,0,0,0,null,null,null,null,null,{"$f":"IFERROR(ROUND((K74-M74)/L74,2),\"0\")","v":"0"},null,null,{"$f":"N74*O74*P74","v":0},{"$f":"IF(J74=0,\" \",IF(J74+(L74*30.5)<TODAY(),\"DĖMESIO! Patikrinkite, ar nurodytas turtas dar nėra nudėvėtas, amortizuotas\",\" \"))","v":" "}]
["5.4.3","Turtas, kurio nusidėvėjimą, amortizaciją prašoma finansuoti",null,null,1,0,0,0,null,null,null,null,null,"0",null,null,0," "]
["5.4.4","Turtas, kurio nusidėvėjimą, amortizaciją prašoma finansuoti",null,null,1,0,0,0,null,null,null,null,null,"0",null,null,0," "]
["5.4.5","Turtas, kurio nusidėvėjimą, amortizaciją prašoma finansuoti",null,null,1,0,0,0,null,null,null,null,null,"0",null,null,0," "]
["5.4.6","Turtas, kurio nusidėvėjimą, amortizaciją prašoma finansuoti",null,null,1,0,0,0,null,null,null,null,null,"0",null,null,0," "]
["5.4.7","Turtas, kurio nusidėvėjimą, amortizaciją prašoma finansuoti",null,null,1,0,0,0,null,null,null,null,null,"0",null,null,0," "]
["5.4.8","Turtas, kurio nusidėvėjimą, amortizaciją prašoma finansuoti",null,null,1,0,0,0,null,null,null,null,null,"0",null,null,0," "]
["5.4.9","Turtas, kurio nusidėvėjimą, amortizaciją prašoma finansuoti",null,null,1,0,0,0,null,null,null,null,null,"0",null,null,0," "]
["5.4.10","Turtas, kurio nusidėvėjimą, amortizaciją prašoma finansuoti",null,null,1,0,0,0,null,null,null,null,null,"0",null,null,0," "]
["5.4.11","Turtas, kurio nusidėvėjimą, amortizaciją prašoma finansuoti",null,null,1,0,0,0,null,null,null,null,null,"0",null,null,0," "]
["5.4.12","Turtas, kurio nusidėvėjimą, amortizaciją prašoma finansuoti",null,null,1,0,0,0,null,null,null,null,null,"0",null,null,0," "]
["5.4.13","Turtas, kurio nusidėvėjimą, amortizaciją prašoma finansuoti",null,null,1,0,0,0,null,null,null,null,null,"0",null,null,0," "]
["5.4.14","Turtas, kurio nusidėvėjimą, amortizaciją prašoma finansuoti",null,null,1,0,0,0,null,null,null,null,null,"0",null,null,0," "]
["5.4.15","Turtas, kurio nusidėvėjimą, amortizaciją prašoma finansuoti",null,null,1,0,0,0,null,null,null,null,null,"0",null,null,0," "]
["5.4.16","Turtas, kurio nusidėvėjimą, amortizaciją prašoma finansuoti",null,null,1,0,0,0,null,null,null,null,null,"0",null,null,0," "]
["5.4.17","Turtas, kurio nusidėvėjimą, amortizaciją prašoma finansuoti",null,null,1,0,0,0,null,null,null,null,null,"0",null,null,0," "]
["5.4.18","Turtas, kurio nusidėvėjimą, amortizaciją prašoma finansuoti",null,null,1,0,0,0,null,null,null,null,null,"0",null,null,0," "]
["5.4.19","Turtas, kurio nusidėvėjimą, amortizaciją prašoma finansuoti",null,null,1,0,0,0,null,null,null,null,null,"0",null,null,0," "]
["5.4.20","Turtas, kurio nusidėvėjimą, amortizaciją prašoma finansuoti",null,null,1,0,0,0,null,null,null,null,null,"0",null,null,0," "]
["5.4.21","Turtas, kurio nusidėvėjimą, amortizaciją prašoma finansuoti",null,null,1,0,0,0,null,null,null,null,null,"0",null,null,0," "]
["5.4.22","Turtas, kurio nusidėvėjimą, amortizaciją prašoma finansuoti",null,null,1,0,0,0,null,null,null,null,null,"0",null,null,0," "]
["5.4.23","Turtas, kurio nusidėvėjimą, amortizaciją prašoma finansuoti",null,null,1,0,0,0,null,null,null,null,null,"0",null,null,0," "]
["5.4.24","Turtas, kurio nusidėvėjimą, amortizaciją prašoma finansuoti",null,null,1,0,0,0,null,null,null,null,null,"0",null,null,0," "]
["5.4.25","Turtas, kurio nusidėvėjimą, amortizaciją prašoma finansuoti",null,null,1,0,0,0,null,null,null,null,null,"0",null,null,0," "]
["5.4.26","Turtas, kurio nusidėvėjimą, amortizaciją prašoma finansuoti",null,null,1,0,0,0,null,null,null,null,null,"0",null,null,0," "]
["5.4.27","Turtas, kurio nusidėvėjimą, amortizaciją prašoma finansuoti",null,null,1,0,0,0,null,null,null,null,null,"0",null,null,0," "]
["5.4.28","Turtas, kurio nusidėvėjimą, amortizaciją prašoma finansuoti",null,null,1,0,0,0,null,null,null,null,null,"0",null,null,0," "]
["5.4.29","Turtas, kurio nusidėvėjimą, amortizaciją prašoma finansuoti",null,null,1,0,0,0,null,null,null,null,null,"0",null,null,0," "]
["5.5","Projektą vykdančio personalo darbo užmokestis ir išlaidos su darbo santykiais susijusiems darbdavio įsipareigojimams",null,null,null,null,{"$f":"SUM(G103:G152)","v":0},{"$f":"SUM(H103:H152)","v":0},null,"Faktiškai gaunamas darbo užmokesti už 1 valandą pagal  pastarųjų 6 mėn. vidurkį, Eur"]
["5.5.1","Pareigybės pavadinimas","Darbuotojo vardas pavardė","val.",null,{"$f":"IFERROR(ROUND(AVERAGE(J103:J107),2),\"0\")","v":"0"},{"$f":"ROUND(E103*F103,2)","v":0},{"$f":"ROUND(G103*$D$7,2)","v":0}]
[null,null,"Darbuotojo vardas pavardė"]
[null,null,"Darbuotojo vardas pavardė"]
[null,null,"Darbuotojo vardas pavardė"]
[null,null,"Darbuotojo vardas pavardė"]
["5.5.2","Pareigybės pavadinimas","Darbuotojo vardas pavardė","val.",null,{"$f":"IFERROR(ROUND(AVERAGE(J108:J112),2),\"0\")","v":"0"},{"$f":"ROUND(E108*F108,2)","v":0},{"$f":"ROUND(G108*$D$7,2)","v":0}]
[null,null,"Darbuotojo vardas pavardė"]
[null,null,"Darbuotojo vardas pavardė"]
[null,null,"Darbuotojo vardas pavardė"]
[null,null,"Darbuotojo vardas pavardė"]
["5.5.3","Pareigybės pavadinimas","Darbuotojo vardas pavardė","val.",null,{"$f":"IFERROR(ROUND(AVERAGE(J113:J117),2),\"0\")","v":"0"},{"$f":"ROUND(E113*F113,2)","v":0},{"$f":"ROUND(G113*$D$7,2)","v":0}]
[null,null,"Darbuotojo vardas pavardė"]
[null,null,"Darbuotojo vardas pavardė"]
[null,null,"Darbuotojo vardas pavardė"]
[null,null,"Darbuotojo vardas pavardė"]
["5.5.4","Pareigybės pavadinimas","Darbuotojo vardas pavardė","val.",null,{"$f":"IFERROR(ROUND(AVERAGE(J118:J122),2),\"0\")","v":"0"},{"$f":"ROUND(E118*F118,2)","v":0},{"$f":"ROUND(G118*$D$7,2)","v":0}]
[null,null,"Darbuotojo vardas pavardė"]
[null,null,"Darbuotojo vardas pavardė"]
[null,null,"Darbuotojo vardas pavardė"]
[null,null,"Darbuotojo vardas pavardė"]
["5.5.5","Pareigybės pavadinimas","Darbuotojo vardas pavardė","val.",null,{"$f":"IFERROR(ROUND(AVERAGE(J123:J127),2),\"0\")","v":"0"},{"$f":"ROUND(E123*F123,2)","v":0},{"$f":"ROUND(G123*$D$7,2)","v":0}]
[null,null,"Darbuotojo vardas pavardė"]
[null,null,"Darbuotojo vardas pavardė"]
[null,null,"Darbuotojo vardas pavardė"]
[null,null,"Darbuotojo vardas pavardė"]
["5.5.6","Pareigybės pavadinimas","Darbuotojo vardas pavardė","val.",null,{"$f":"IFERROR(ROUND(AVERAGE(J128:J132),2),\"0\")","v":"0"},{"$f":"ROUND(E128*F128,2)","v":0},{"$f":"ROUND(G128*$D$7,2)","v":0}]
[null,null,"Darbuotojo vardas pavardė"]
[null,null,"Darbuotojo vardas pavardė"]
[null,null,"Darbuotojo vardas pavardė"]
[null,null,"Darbuotojo vardas pavardė"]
["5.5.7","Pareigybės pavadinimas","Darbuotojo vardas pavardė","val.",null,{"$f":"IFERROR(ROUND(AVERAGE(J133:J137),2),\"0\")","v":"0"},{"$f":"ROUND(E133*F133,2)","v":0},{"$f":"ROUND(G133*$D$7,2)","v":0}]
[null,null,"Darbuotojo vardas pavardė"]
[null,null,"Darbuotojo vardas pavardė"]
[null,null,"Darbuotojo vardas pavardė"]
[null,null,"Darbuotojo vardas pavardė"]
["5.5.8","Pareigybės pavadinimas","Darbuotojo vardas pavardė","val.",null,{"$f":"IFERROR(ROUND(AVERAGE(J138:J142),2),\"0\")","v":"0"},{"$f":"ROUND(E138*F138,2)","v":0},{"$f":"ROUND(G138*$D$7,2)","v":0}]
[null,null,"Darbuotojo vardas pavardė"]
[null,null,"Darbuotojo vardas pavardė"]
[null,null,"Darbuotojo vardas pavardė"]
[null,null,"Darbuotojo vardas pavardė"]
["5.5.9","Pareigybės pavadinimas","Darbuotojo vardas pavardė","val.",null,{"$f":"IFERROR(ROUND(AVERAGE(J143:J147),2),\"0\")","v":"0"},{"$f":"ROUND(E143*F143,2)","v":0},{"$f":"ROUND(G143*$D$7,2)","v":0}]
[null,null,"Darbuotojo vardas pavardė"]
[null,null,"Darbuotojo vardas pavardė"]
[null,null,"Darbuotojo vardas pavardė"]
[null,null,"Darbuotojo vardas pavardė"]
["5.5.10","Pareigybės pavadinimas","Darbuotojo vardas pavardė","val.",null,{"$f":"IFERROR(ROUND(AVERAGE(J148:J152),2),\"0\")","v":"0"},{"$f":"ROUND(E148*F148,2)","v":0},{"$f":"ROUND(G148*$D$7,2)","v":0}]
[null,null,"Darbuotojo vardas pavardė"]
[null,null,"Darbuotojo vardas pavardė"]
[null,null,"Darbuotojo vardas pavardė"]
[null,null,"Darbuotojo vardas pavardė"]
["5.6","Projektą vykdančio personalo komandiruočių išlaidos",null,null,null,null,{"$f":"SUM(G154,G161,G168,G175,G182,G189,G196,G203,G210,G217)","v":0},{"$f":"SUM(H154,H161,H168,H175,H182,H189,H196,H203,H210,H217)","v":0}]
["5.6.1","Komandiruotės pavadinimas, vieta, trukmė dienomis, vykstančių asmenų skaičius","Iš viso komandiruotei",null,null,null,{"$f":"SUM(G155:G160)","v":0},{"$f":"ROUND(G154*$D$7,2)","v":0}]
[null,null,"Dienpinigiai",null,null,null,{"$f":"ROUND(E155*F155,2)","v":0}]
[null,null,"Gyvenamojo ploto nuoma",null,null,null,0]
[null,null,"Kelionės išlaidos",null,null,null,0]
[null,null,"Dalyvavimo mokestis",null,null,null,0]
[null,null,"Kitos išlaidų pavadinimas",null,null,null,0]
[null,null,"Kitos išlaidų pavadinimas",null,null,null,0]
["5.6.2","Komandiruotės pavadinimas, vieta, trukmė dienomis, vykstančių asmenų skaičius","Iš viso komandiruotei",null,null,null,{"$f":"SUM(G162:G167)","v":0},{"$f":"ROUND(G161*$D$7,2)","v":0}]
[null,null,"Dienpinigiai",null,null,null,{"$f":"ROUND(E162*F162,2)","v":0}]
[null,null,"Gyvenamojo ploto nuoma",null,null,null,0]
[null,null,"Kelionės išlaidos",null,null,null,0]
[null,null,"Dalyvavimo mokestis",null,null,null,0]
[null,null,"Kitos išlaidų pavadinimas",null,null,null,0]
[null,null,"Kitos išlaidų pavadinimas",null,null,null,0]
["5.6.3","Komandiruotės pavadinimas, vieta, trukmė dienomis, vykstančių asmenų skaičius","Iš viso komandiruotei",null,null,null,{"$f":"SUM(G169:G174)","v":0},{"$f":"ROUND(G168*$D$7,2)","v":0}]
[null,null,"Dienpinigiai",null,null,null,{"$f":"ROUND(E169*F169,2)","v":0}]
[null,null,"Gyvenamojo ploto nuoma",null,null,null,0]
[null,null,"Kelionės išlaidos",null,null,null,0]
[null,null,"Dalyvavimo mokestis",null,null,null,0]
[null,null,"Kitos išlaidų pavadinimas",null,null,null,0]
[null,null,"Kitos išlaidų pavadinimas",null,null,null,0]
["5.6.4","Komandiruotės pavadinimas, vieta, trukmė dienomis, vykstančių asmenų skaičius","Iš viso komandiruotei",null,null,null,{"$f":"SUM(G176:G181)","v":0},{"$f":"ROUND(G175*$D$7,2)","v":0}]
[null,null,"Dienpinigiai",null,null,null,{"$f":"ROUND(E176*F176,2)","v":0}]
[null,null,"Gyvenamojo ploto nuoma",null,null,null,0]
[null,null,"Kelionės išlaidos",null,null,null,0]
[null,null,"Dalyvavimo mokestis",null,null,null,0]
[null,null,"Kitos išlaidų pavadinimas",null,null,null,0]
[null,null,"Kitos išlaidų pavadinimas",null,null,null,0]
["5.6.5","Komandiruotės pavadinimas, vieta, trukmė dienomis, vykstančių asmenų skaičius","Iš viso komandiruotei",null,null,null,{"$f":"SUM(G183:G188)","v":0},{"$f":"ROUND(G182*$D$7,2)","v":0}]
[null,null,"Dienpinigiai",null,null,null,{"$f":"ROUND(E183*F183,2)","v":0}]
[null,null,"Gyvenamojo ploto nuoma",null,null,null,0]
[null,null,"Kelionės išlaidos",null,null,null,0]
[null,null,"Dalyvavimo mokestis",null,null,null,0]
[null,null,"Kitos išlaidų pavadinimas",null,null,null,0]
[null,null,"Kitos išlaidų pavadinimas",null,null,null,0]
["5.6.6","Komandiruotės pavadinimas, vieta, trukmė dienomis, vykstančių asmenų skaičius","Iš viso komandiruotei",null,null,null,{"$f":"SUM(G190:G195)","v":0},{"$f":"ROUND(G189*$D$7,2)","v":0}]
[null,null,"Dienpinigiai",null,null,null,{"$f":"ROUND(E190*F190,2)","v":0}]
[null,null,"Gyvenamojo ploto nuoma",null,null,null,0]
[null,null,"Kelionės išlaidos",null,null,null,0]
[null,null,"Dalyvavimo mokestis",null,null,null,0]
[null,null,"Kitos išlaidų pavadinimas",null,null,null,0]
[null,null,"Kitos išlaidų pavadinimas",null,null,null,0]
["5.6.7","Komandiruotės pavadinimas, vieta, trukmė dienomis, vykstančių asmenų skaičius","Iš viso komandiruotei",null,null,null,{"$f":"SUM(G197:G202)","v":0},{"$f":"ROUND(G196*$D$7,2)","v":0}]
[null,null,"Dienpinigiai",null,null,null,{"$f":"ROUND(E197*F197,2)","v":0}]
[null,null,"Gyvenamojo ploto nuoma",null,null,null,0]
[null,null,"Kelionės išlaidos",null,null,null,0]
[null,null,"Dalyvavimo mokestis",null,null,null,0]
[null,null,"Kitos išlaidų pavadinimas",null,null,null,0]
[null,null,"Kitos išlaidų pavadinimas",null,null,null,0]
["5.6.8","Komandiruotės pavadinimas, vieta, trukmė dienomis, vykstančių asmenų skaičius","Iš viso komandiruotei",null,null,null,{"$f":"SUM(G204:G209)","v":0},{"$f":"ROUND(G203*$D$7,2)","v":0}]
[null,null,"Dienpinigiai",null,null,null,{"$f":"ROUND(E204*F204,2)","v":0}]
[null,null,"Gyvenamojo ploto nuoma",null,null,null,0]
[null,null,"Kelionės išlaidos",null,null,null,0]
[null,null,"Dalyvavimo mokestis",null,null,null,0]
[null,null,"Kitos išlaidų pavadinimas",null,null,null,0]
[null,null,"Kitos išlaidų pavadinimas",null,null,null,0]
["5.6.9","Komandiruotės pavadinimas, vieta, trukmė dienomis, vykstančių asmenų skaičius","Iš viso komandiruotei",null,null,null,{"$f":"SUM(G211:G216)","v":0},{"$f":"ROUND(G210*$D$7,2)","v":0}]
[null,null,"Dienpinigiai",null,null,null,{"$f":"ROUND(E211*F211,2)","v":0}]
[null,null,"Gyvenamojo ploto nuoma",null,null,null,0]
[null,null,"Kelionės išlaidos",null,null,null,0]
[null,null,"Dalyvavimo mokestis",null,null,null,0]
[null,null,"Kitos išlaidų pavadinimas",null,null,null,0]
[null,null,"Kitos išlaidų pavadinimas",null,null,null,0]
["5.6.10","Komandiruotės pavadinimas, vieta, trukmė dienomis, vykstančių asmenų skaičius","Iš viso komandiruotei",null,null,null,{"$f":"SUM(G218:G223)","v":0},{"$f":"ROUND(G217*$D$7,2)","v":0}]
[null,null,"Dienpinigiai",null,null,null,{"$f":"ROUND(E218*F218,2)","v":0}]
[null,null,"Gyvenamojo ploto nuoma",null,null,null,0]
[null,null,"Kelionės išlaidos",null,null,null,0]
[null,null,"Dalyvavimo mokestis",null,null,null,0]
[null,null,"Kitos išlaidų pavadinimas",null,null,null,0]
[null,null,"Kitos išlaidų pavadinimas",null,null,null,0]
["5.7","Įrangos nuomos išlaidos, veiklai priskirtos pro rata principu. Įranga turi būti tiesiogiai susijusi su projekto įgyvendinimu ir negali būti įsigyta iš ES struktūrinių fondų ar kt. ES finansinių priemonių lėšų",null,null,null,null,{"$f":"SUM(G225:G241)","v":0},{"$f":"SUM(H225:H241)","v":0},null,"Faktinės 1 mėnesio išlaidos, Eur","Naudojimo projekte trukmė, mėn."]
["5.7.1","Įrangos pavadinimas",null,"pro rata proc.",null,{"$f":"J225*K225","v":0},{"$f":"ROUND(E225*F225,2)","v":0},{"$f":"ROUND(G225*$D$7,2)","v":0}]
["5.7.2","Įrangos pavadinimas",null,"pro rata proc.",null,0,0,{"$f":"ROUND(G226*$D$7,2)","v":0}]
["5.7.3","Įrangos pavadinimas",null,"pro rata proc.",null,0,0,0]
["5.7.4","Įrangos pavadinimas",null,"pro rata proc.",null,0,0,0]
["5.7.5","Įrangos pavadinimas",null,"pro rata proc.",null,0,0,0]
["5.7.6","Įrangos pavadinimas",null,"pro rata proc.",null,0,0,0]
["5.7.7","Įrangos pavadinimas",null,"pro rata proc.",null,0,0,0]
["5.7.8","Įrangos pavadinimas",null,"pro rata proc.",null,0,0,0]
["5.7.9","Įrangos pavadinimas",null,"pro rata proc.",null,0,0,0]
["5.7.10","Įrangos pavadinimas",null,"pro rata proc.",null,0,0,0]
["5.7.11","Įrangos pavadinimas",null,"pro rata proc.",null,0,0,0]
["5.7.12","Įrangos pavadinimas",null,"pro rata proc.",null,0,0,0]
["5.7.13","Įrangos pavadinimas",null,"pro rata proc.",null,0,0,0]
["5.7.14","Įrangos pavadinimas",null,"pro rata proc.",null,{"$f":"J238*K238","v":0},0,{"$f":"ROUND(G238*$D$7,2)","v":0}]
["5.7.15","Įrangos pavadinimas",null,"pro rata proc.",null,{"$f":"J239*K239","v":0},0,{"$f":"ROUND(G239*$D$7,2)","v":0}]
["5.7.16","Įrangos pavadinimas",null,"pro rata proc.",null,{"$f":"J240*K240","v":0},0,{"$f":"ROUND(G240*$D$7,2)","v":0}]
["5.7.17","Įrangos pavadinimas",null,"pro rata proc.",null,{"$f":"J241*K241","v":0},0,{"$f":"ROUND(G241*$D$7,2)","v":0}]
["5.8","Pastatų ar patalpų nuomos išlaidos, veiklai priskirtos pro rata principu. Pastatai ar patalpos turi būti tiesiogiai susijusi su projekto įgyvendinimu.",null,null,null,null,{"$f":"SUM(G243:G247)","v":0},{"$f":"SUM(H243:H247)","v":0},null,"Faktinės 1 mėnesio išlaidos, Eur","Naudojimo projekte trukmė, mėn."]
["5.8.1","Pastato, patalpų adresas",null,"pro rata proc.",null,{"$f":"J243*K243","v":0},{"$f":"ROUND(E243*F243,2)","v":0},{"$f":"ROUND(G243*$D$7,2)","v":0}]
["5.8.2","Pastato, patalpų adresas",null,"pro rata proc.",null,{"$f":"J244*K244","v":0},{"$f":"ROUND(E244*F244,2)","v":0},{"$f":"ROUND(G244*$D$7,2)","v":0}]
["5.8.3","Pastato, patalpų adresas",null,"pro rata proc.",null,{"$f":"J245*K245","v":0},{"$f":"ROUND(E245*F245,2)","v":0},{"$f":"ROUND(G245*$D$7,2)","v":0}]
["5.8.4","Pastato, patalpų adresas",null,"pro rata proc.",null,{"$f":"J246*K246","v":0},{"$f":"ROUND(E246*F246,2)","v":0},{"$f":"ROUND(G246*$D$7,2)","v":0}]
["5.8.5","Pastato, patalpų adresas",null,"pro rata proc.",null,{"$f":"J247*K247","v":0},{"$f":"ROUND(E247*F247,2)","v":0},{"$f":"ROUND(G247*$D$7,2)","v":0}]
["5.9","Projekto veikloms vykdyti reikalingų transporto priemonių nuomos išlaidos (išlaidos yra tinkamos finansuoti tik pagal Aprašą Nr. 2 vadovaujantis de minimis reglamento nuostatomis)",null,null,null,null,{"$f":"SUM(G249:G253)","v":0},{"$f":"SUM(H249:H253)","v":0}]
["5.9.1","Išlaidų pavadinimas",null,null,null,null,{"$f":"ROUND(E249*F249,2)","v":0},{"$f":"ROUND(G249*$D$7,2)","v":0}]
["5.9.2","Išlaidų pavadinimas",null,null,null,null,{"$f":"ROUND(E250*F250,2)","v":0},{"$f":"ROUND(G250*$D$7,2)","v":0}]
["5.9.3","Išlaidų pavadinimas",null,null,null,null,{"$f":"ROUND(E251*F251,2)","v":0},{"$f":"ROUND(G251*$D$7,2)","v":0}]
["5.9.4","Išlaidų pavadinimas",null,null,null,null,{"$f":"ROUND(E252*F252,2)","v":0},{"$f":"ROUND(G252*$D$7,2)","v":0}]
["5.9.5","Išlaidų pavadinimas",null,null,null,null,{"$f":"ROUND(E253*F253,2)","v":0},{"$f":"ROUND(G253*$D$7,2)","v":0}]
["Iš viso tinkamų finansuoti išlaidų:",null,null,null,null,null,{"$f":"G10+G21","v":0},{"$f":"H10+H21","v":0}]

{"sheet":"16","index":10,"n_rows":248,"n_cols":19,"rows_kept":248,"cut":false,"hidden":true,"merged":[[5,3,5,8],[8,1,8,2],[9,1,9,5],[10,1,10,2],[11,1,11,2],[12,1,12,2],[0,3,0,8],[2,0,2,2],[2,3,2,8],[3,3,3,4],[3,5,3,6],[4,0,4,2],[4,3,4,8],[19,1,19,2],[20,1,20,5],[21,1,21,5],[22,1,22,2],[23,1,23,2],[24,1,24,2],[13,1,13,2],[14,1,14,2],[15,1,15,2],[16,1,16,2],[17,1,17,2],[18,1,18,2],[31,1,31,2],[32,1,32,5],[33,1,33,2],[34,1,34,2],[35,1,35,2],[36,1,36,2],[25,1,25,2],[26,1,26,2],[27,1,27,2],[28,1,28,2],[29,1,29,2],[30,1,30,2],[43,1,43,5],[44,1,44,2],[45,1,45,2],[46,1,46,2],[47,1,47,2],[48,1,48,2],[37,1,37,2],[38,1,38,2],[39,1,39,2],[40,1,40,2],[41,1,41,2],[42,1,42,2],[55,1,55,2],[56,1,56,2],[57,1,57,2],[58,1,58,2],[59,1,59,2],[60,1,60,2],[49,1,49,2],[50,1,50,2],[51,1,51,2],[52,1,52,2],[53,1,53,2],[54,1,54,2],[67,1,67,2],[68,1,68,2],[69,1,69,2],[70,1,70,2],[71,1,71,5],[72,1,72,2],[61,1,61,2],[62,1,62,2],[63,1,63,2],[64,1,64,2],[65,1,65,2],[66,1,66,2],[79,1,79,2],[80,1,80,2],[81,1,81,2],[82,1,82,2],[83,1,83,2],[84,1,84,2],[73,1,73,2],[74,1,74,2],[75,1,75,2],[76,1,76,2],[77,1,77,2],[78,1,78,2],[91,1,91,2],[92,1,92,2],[93,1,93,2],[94,1,94,2],[95,1,95,2],[96,1,96,2],[85,1,85,2],[86,1,86,2],[87,1,87,2],[88,1,88,2],[89,1,89,2],[90,1,90,2],[97,1,97,2],[98,1,98,2],[99,1,99,2],[100,1,100,2],[101,1,101,5],[102,0,106,0],[102,1,106,1],[102,3,106,3],[102,4,106,4],[102,5,106,5],[102,6,106,6],[102,7,106,7],[102,8,106,8],[107,0,111,0],[107,1,111,1],[107,3,111,3],[107,4,111,4],[107,5,111,5],[107,6,111,6],[107,7,111,7],[107,8,111,8],[112,0,116,0],[112,1,116,1],[112,3,116,3],[112,4,116,4],[112,5,116,5],[112,6,116,6],[112,7,116,7],[112,8,116,8],[117,7,121,7],[117,8,121,8],[122,0,126,0],[122,1,126,1],[122,3,126,3],[122,4,126,4],[122,5,126,5],[122,6,126,6],[122,7,126,7],[122,8,126,8],[117,0,121,0],[117,1,121,1],[117,3,121,3],[117,4,121,4],[117,5,121,5],[117,6,121,6],[127,7,131,7],[127,8,131,8],[132,0,136,0],[132,1,136,1],[132,3,136,3],[132,4,136,4],[132,5,136,5],[132,6,136,6],[132,7,136,7],[132,8,136,8],[127,0,131,0],[127,1,131,1],[127,3,131,3],[127,4,131,4],[127,5,131,5],[127,6,131,6],[137,7,141,7],[137,8,141,8],[142,0,146,0],[142,1,146,1],[142,3,146,3],[142,4,146,4],[142,5,146,5],[142,6,146,6],[142,7,146,7],[142,8,146,8],[137,0,141,0],[137,1,141,1],[137,3,141,3],[137,4,141,4],[137,5,141,5],[137,6,141,6],[160,0,166,0],[160,1,166,1],[160,8,166,8],[167,0,173,0],[167,1,173,1],[167,8,173,8],[147,7,151,7],[147,8,151,8],[152,1,152,5],[153,0,159,0],[153,1,159,1],[153,8,159,8],[147,0,151,0],[147,1,151,1],[147,3,151,3],[147,4,151,4],[147,5,151,5],[147,6,151,6],[188,0,194,0],[188,1,194,1],[188,8,194,8],[195,0,201,0],[195,1,201,1],[195,8,201,8],[174,0,180,0],[174,1,180,1],[174,8,180,8],[181,0,187,0],[181,1,187,1],[181,8,187,8],[216,0,222,0],[216,1,222,1],[216,8,222,8],[223,1,223,5],[224,1,224,2],[225,1,225,2],[202,0,208,0],[202,1,208,1],[202,8,208,8],[209,0,215,0],[209,1,215,1],[209,8,215,8],[232,1,232,2],[233,1,233,2],[234,1,234,2],[235,1,235,2],[236,1,236,2],[237,1,237,2],[226,1,226,2],[227,1,227,2],[228,1,228,2],[229,1,229,2],[230,1,230,2],[231,1,231,2],[244,1,244,2],[245,1,245,2],[246,1,246,2],[247,0,247,5],[238,1,238,2],[239,1,239,2],[240,1,240,2],[241,1,241,5],[242,1,242,2],[243,1,243,2]]}
[null,null,"Pasirinkite veiklos tipą:"]
[null,null,"Fizinio rodiklio Nr.:"]
["Fizinio rodiklio pavadinimas:"]
[null,null,"Fizinio rodiklio matavimo vnt.:",null,null,"Fizinio rodiklio vnt. skaičius:"]
["Juridinis asmuo (pareiškėjas, partneris), atsakingas už fizinį rodiklį:"]
[null,null,"Vykdytojo tipas:"]
[null,null,"Finansavimo intensyvumas:",null,null,null,"Pasirinkite biudžeto išlaidų kategoriją:","Visos"]
[]
["Eil. Nr.","Išlaidų kategorijos pavadinimas",null,"Matavimo vnt.","Kiekis","Vieneto kaina be PVM, Eur","Tinkamų finansuoti išlaidų suma be PVM, Eur","Finansavimo suma, Eur","Išlaidų pagrindimo dokumentų pavadinimas, data ir Nr."]
[4,"ĮRANGA, ĮRENGINIAI IR KT. TURTAS (techninių žinių ir išradimų patentų arba teisių pagal licencijų sutartį įsigijimo išlaidos)",null,null,null,null,{"$f":"SUM(G11:G20)","v":0},{"$f":"SUM(H11:H20)","v":0}]
["4.1","Išlaidų pavadinimas",null,null,null,null,{"$f":"ROUND(E11*F11,2)","v":0},{"$f":"ROUND(G11*$D$7,2)","v":0}]
["4.2","Išlaidų pavadinimas",null,null,null,null,0,0]
["4.3","Išlaidų pavadinimas",null,null,null,null,0,0]
["4.4","Išlaidų pavadinimas",null,null,null,null,0,0]
["4.5","Išlaidų pavadinimas",null,null,null,null,0,0]
["4.6","Išlaidų pavadinimas",null,null,null,null,0,0]
["4.7","Išlaidų pavadinimas",null,null,null,null,0,0]
["4.8","Išlaidų pavadinimas",null,null,null,null,0,0]
["4.9","Išlaidų pavadinimas",null,null,null,null,0,0]
["4.10","Išlaidų pavadinimas",null,null,null,null,0,0]
[5,"PROJEKTO VYKDYMAS",null,null,null,null,{"$f":"G22+G33+G44+G72+G102+G153+G224+G242","v":0},{"$f":"H22+H33+H44+H72+H102+H153+H224+H242","v":0}]
["5.1","MTEP paslaugos",null,null,null,null,{"$f":"SUM(G23:G32)","v":0},{"$f":"SUM(H23:H32)","v":0}]
["5.1.1","Paslaugos pavadinimas",null,null,null,null,{"$f":"ROUND(E23*F23,2)","v":0},0]
["5.1.2","Paslaugos pavadinimas",null,null,null,null,0,0]
["5.1.3","Paslaugos pavadinimas",null,null,null,null,0,0]
["5.1.4","Paslaugos pavadinimas",null,null,null,null,0,0]
["5.1.5","Paslaugos pavadinimas",null,null,null,null,0,0]
["5.1.6","Paslaugos pavadinimas",null,null,null,null,0,0]
["5.1.7","Paslaugos pavadinimas",null,null,null,null,0,0]
["5.1.8","Paslaugos pavadinimas",null,null,null,null,0,0]
["5.1.9","Paslaugos pavadinimas",null,null,null,null,0,0]
["5.1.10","Paslaugos pavadinimas",null,null,null,null,0,0]
["5.2","Konsultavimo ir lygiavertės paslaugos, teikiamos vien tik projekto MTEP veiklai.",null,null,null,null,{"$f":"SUM(G34:G43)","v":0},{"$f":"SUM(H34:H43)","v":0}]
["5.2.1","Paslaugos pavadinimas",null,null,null,null,{"$f":"ROUND(E34*F34,2)","v":0},0]
["5.2.2","Paslaugos pavadinimas",null,null,null,null,0,0]
["5.2.3","Paslaugos pavadinimas",null,null,null,null,0,0]
["5.2.4","Paslaugos pavadinimas",null,null,null,null,0,0]
["5.2.5","Paslaugos pavadinimas",null,null,null,null,0,0]
["5.2.6","Paslaugos pavadinimas",null,null,null,null,0,0]
["5.2.7","Paslaugos pavadinimas",null,null,null,null,0,0]
["5.2.8","Paslaugos pavadinimas",null,null,null,null,0,0]
["5.2.9","Paslaugos pavadinimas",null,null,null,null,0,0]
["5.2.10","Paslaugos pavadinimas",null,null,null,null,0,0]
["5.3","Medžiagos, mažavertis inventorius, atsargos ir pan. produktai, priskirtini trumpalaikiam turtui ir tiesiogiai susiję su MTEP veikla",null,null,null,null,{"$f":"SUM(G45:G71)","v":0},{"$f":"SUM(H45:H71)","v":0}]
["5.3.1","Išlaidų pavadinimas",null,null,null,null,{"$f":"ROUND(E45*F45,2)","v":0},{"$f":"ROUND(G45*$D$7,2)","v":0}]
["5.3.2","Išlaidų pavadinimas",null,null,null,null,{"$f":"ROUND(E46*F46,2)","v":0},{"$f":"ROUND(G46*$D$7,2)","v":0}]
["5.3.3","Išlaidų pavadinimas",null,null,null,null,{"$f":"ROUND(E47*F47,2)","v":0},{"$f":"ROUND(G47*$D$7,2)","v":0}]
["5.3.4","Išlaidų pavadinimas",null,null,null,null,{"$f":"ROUND(E48*F48,2)","v":0},{"$f":"ROUND(G48*$D$7,2)","v":0}]
["5.3.5","Išlaidų pavadinimas",null,null,null,null,{"$f":"ROUND(E49*F49,2)","v":0},{"$f":"ROUND(G49*$D$7,2)","v":0}]
["5.3.6","Išlaidų pavadinimas",null,null,null,null,0,0]
["5.3.7","Išlaidų pavadinimas",null,null,null,null,0,0]
["5.3.8","Išlaidų pavadinimas",null,null,null,null,0,0]
["5.3.9","Išlaidų pavadinimas",null,null,null,null,0,0]
["5.3.10","Išlaidų pavadinimas",null,null,null,null,0,0]
["5.3.11","Išlaidų pavadinimas",null,null,null,null,0,0]
["5.3.12","Išlaidų pavadinimas",null,null,null,null,0,0]
["5.3.13","Išlaidų pavadinimas",null,null,null,null,0,0]
["5.3.14","Išlaidų pavadinimas",null,null,null,null,0,0]
["5.3.15","Išlaidų pavadinimas",null,null,null,null,0,0]
["5.3.16","Išlaidų pavadinimas",null,null,null,null,0,0]
["5.3.17","Išlaidų pavadinimas",null,null,null,null,0,0]
["5.3.18","Išlaidų pavadinimas",null,null,null,null,0,0]
["5.3.19","Išlaidų pavadinimas",null,null,null,null,0,0]
["5.3.20","Išlaidų pavadinimas",null,null,null,null,0,0]
["5.3.21","Išlaidų pavadinimas",null,null,null,null,0,0]
["5.3.22","Išlaidų pavadinimas",null,null,null,null,0,0]
["5.3.23","Išlaidų pavadinimas",null,null,null,null,0,0]
["5.3.24","Išlaidų pavadinimas",null,null,null,null,0,0]
["5.3.25","Išlaidų pavadinimas",null,null,null,null,0,0]
["5.3.26","Išlaidų pavadinimas",null,null,null,null,0,0]
["5.3.27","Išlaidų pavadinimas",null,null,null,null,0,0]
["5.4","Projekto MTEP veikloms naudojamo ilgalaikio materialaus turto (įrangos, prietaisų, įrankių, įrenginių, mašinų ir įrengimų, pastatų ir (ar) patalpų), nusidėvėjimo sąnaudos, jeigu šiam turtui įsigyti nebuvo naudojamos viešosios (įskaitant ir kitų valstybių) lėšos",null,null,null,null,{"$f":"SUM(G73:G101)","v":0},{"$f":"SUM(H73:H101)","v":0},null,null,"Turto įvedimo į eksploataciją data","Turto įsigijimo vertė, Eur","Turto nudėvėjimo, amortizacijos laikotarpis, mėn.","Numatoma turto likutinė vertė, Eur","1 mėn. nudėvėjimo, amortizacijos suma, Eur","Turto naudojamo projekto reikmėms laikas, mėn.","Turto panaudojimo projekto reikmėms dalis (proc.)","Projektui priskirta turto nusidėvėjimo, amortizacijos suma per projekto laikotarpį, Eur"]
["5.4.1","Turtas, kurio nusidėvėjimą, amortizaciją prašoma finansuoti",null,null,1,{"$f":"R73","v":0},{"$f":"ROUND(E73*F73,2)","v":0},0,null,null,null,null,null,null,{"$f":"IFERROR(ROUND((L73-N73)/M73,2),\"0\")","v":"0"},null,null,{"$f":"O73*P73*Q73","v":0},{"$f":"IF(K73=0,\" \",IF(K73+(M73*30.5)<TODAY(),\"DĖMESIO! Patikrinkite, ar nurodytas turtas dar nėra nudėvėtas, amortizuotas\",\" \"))","v":" "}]
["5.4.2","Turtas, kurio nusidėvėjimą, amortizaciją prašoma finansuoti",null,null,1,0,0,0,null,null,null,null,null,null,{"$f":"IFERROR(ROUND((L74-N74)/M74,2),\"0\")","v":"0"},null,null,{"$f":"O74*P74*Q74","v":0},{"$f":"IF(K74=0,\" \",IF(K74+(M74*30.5)<TODAY(),\"DĖMESIO! Patikrinkite, ar nurodytas turtas dar nėra nudėvėtas, amortizuotas\",\" \"))","v":" "}]
["5.4.3","Turtas, kurio nusidėvėjimą, amortizaciją prašoma finansuoti",null,null,1,0,0,0,null,null,null,null,null,null,"0",null,null,0," "]
["5.4.4","Turtas, kurio nusidėvėjimą, amortizaciją prašoma finansuoti",null,null,1,0,0,0,null,null,null,null,null,null,"0",null,null,0," "]
["5.4.5","Turtas, kurio nusidėvėjimą, amortizaciją prašoma finansuoti",null,null,1,0,0,0,null,null,null,null,null,null,"0",null,null,0," "]
["5.4.6","Turtas, kurio nusidėvėjimą, amortizaciją prašoma finansuoti",null,null,1,0,0,0,null,null,null,null,null,null,"0",null,null,0," "]
["5.4.7","Turtas, kurio nusidėvėjimą, amortizaciją prašoma finansuoti",null,null,1,0,0,0,null,null,null,null,null,null,"0",null,null,0," "]
["5.4.8","Turtas, kurio nusidėvėjimą, amortizaciją prašoma finansuoti",null,null,1,0,0,0,null,null,null,null,null,null,"0",null,null,0," "]
["5.4.9","Turtas, kurio nusidėvėjimą, amortizaciją prašoma finansuoti",null,null,1,0,0,0,null,null,null,null,null,null,"0",null,null,0," "]
["5.4.10","Turtas, kurio nusidėvėjimą, amortizaciją prašoma finansuoti",null,null,1,0,0,0,null,null,null,null,null,null,"0",null,null,0," "]
["5.4.11","Turtas, kurio nusidėvėjimą, amortizaciją prašoma finansuoti",null,null,1,0,0,0,null,null,null,null,null,null,"0",null,null,0," "]
["5.4.12","Turtas, kurio nusidėvėjimą, amortizaciją prašoma finansuoti",null,null,1,0,0,0,null,null,null,null,null,null,"0",null,null,0," "]
["5.4.13","Turtas, kurio nusidėvėjimą, amortizaciją prašoma finansuoti",null,null,1,0,0,0,null,null,null,null,null,null,"0",null,null,0," "]
["5.4.14","Turtas, kurio nusidėvėjimą, amortizaciją prašoma finansuoti",null,null,1,0,0,0,null,null,null,null,null,null,"0",null,null,0," "]
["5.4.15","Turtas, kurio nusidėvėjimą, amortizaciją prašoma finansuoti",null,null,1,0,0,0,null,null,null,null,null,null,"0",null,null,0," "]
["5.4.16","Turtas, kurio nusidėvėjimą, amortizaciją prašoma finansuoti",null,null,1,0,0,0,null,null,null,null,null,null,"0",null,null,0," "]
["5.4.17","Turtas, kurio nusidėvėjimą, amortizaciją prašoma finansuoti",null,null,1,0,0,0,null,null,null,null,null,null,"0",null,null,0," "]
["5.4.18","Turtas, kurio nusidėvėjimą, amortizaciją prašoma finansuoti",null,null,1,0,0,0,null,null,null,null,null,null,"0",null,null,0," "]
["5.4.19","Turtas, kurio nusidėvėjimą, amortizaciją prašoma finansuoti",null,null,1,0,0,0,null,null,null,null,null,null,"0",null,null,0," "]
["5.4.20","Turtas, kurio nusidėvėjimą, amortizaciją prašoma finansuoti",null,null,1,0,0,0,null,null,null,null,null,null,"0",null,null,0," "]
["5.4.21","Turtas, kurio nusidėvėjimą, amortizaciją prašoma finansuoti",null,null,1,0,0,0,null,null,null,null,null,null,"0",null,null,0," "]
["5.4.22","Turtas, kurio nusidėvėjimą, amortizaciją prašoma finansuoti",null,null,1,0,0,0,null,null,null,null,null,null,"0",null,null,0," "]
["5.4.23","Turtas, kurio nusidėvėjimą, amortizaciją prašoma finansuoti",null,null,1,0,0,0,null,null,null,null,null,null,"0",null,null,0," "]
["5.4.24","Turtas, kurio nusidėvėjimą, amortizaciją prašoma finansuoti",null,null,1,0,0,0,null,null,null,null,null,null,"0",null,null,0," "]
["5.4.25","Turtas, kurio nusidėvėjimą, amortizaciją prašoma finansuoti",null,null,1,0,0,0,null,null,null,null,null,null,"0",null,null,0," "]
["5.4.26","Turtas, kurio nusidėvėjimą, amortizaciją prašoma finansuoti",null,null,1,0,0,0,null,null,null,null,null,null,"0",null,null,0," "]
["5.4.27","Turtas, kurio nusidėvėjimą, amortizaciją prašoma finansuoti",null,null,1,0,0,0,null,null,null,null,null,null,"0",null,null,0," "]
["5.4.28","Turtas, kurio nusidėvėjimą, amortizaciją prašoma finansuoti",null,null,1,0,0,0,null,null,null,null,null,null,"0",null,null,0," "]
["5.4.29","Turtas, kurio nusidėvėjimą, amortizaciją prašoma finansuoti",null,null,1,0,0,0,null,null,null,null,null,null,"0",null,null,0," "]
["5.5","Projektą vykdančio personalo darbo užmokestis ir išlaidos su darbo santykiais susijusiems darbdavio įsipareigojimams",null,null,null,null,{"$f":"SUM(G103:G152)","v":0},{"$f":"SUM(H103:H152)","v":0},null,null,"Faktiškai gaunamas darbo užmokesti už 1 valandą pagal  pastarųjų 6 mėn. vidurkį, Eur"]
["5.5.1","Pareigybės pavadinimas","Darbuotojo vardas pavardė","val.",null,{"$f":"IFERROR(ROUND(AVERAGE(K103:K107),2),\"0\")","v":"0"},{"$f":"ROUND(E103*F103,2)","v":0},{"$f":"ROUND(G103*$D$7,2)","v":0}]
[null,null,"Darbuotojo vardas pavardė"]
[null,null,"Darbuotojo vardas pavardė"]
[null,null,"Darbuotojo vardas pavardė"]
[null,null,"Darbuotojo vardas pavardė"]
["5.5.2","Pareigybės pavadinimas","Darbuotojo vardas pavardė","val.",null,{"$f":"IFERROR(ROUND(AVERAGE(K108:K112),2),\"0\")","v":"0"},{"$f":"ROUND(E108*F108,2)","v":0},{"$f":"ROUND(G108*$D$7,2)","v":0}]
[null,null,"Darbuotojo vardas pavardė"]
[null,null,"Darbuotojo vardas pavardė"]
[null,null,"Darbuotojo vardas pavardė"]
[null,null,"Darbuotojo vardas pavardė"]
["5.5.3","Pareigybės pavadinimas","Darbuotojo vardas pavardė","val.",null,{"$f":"IFERROR(ROUND(AVERAGE(K113:K117),2),\"0\")","v":"0"},{"$f":"ROUND(E113*F113,2)","v":0},{"$f":"ROUND(G113*$D$7,2)","v":0}]
[null,null,"Darbuotojo vardas pavardė"]
[null,null,"Darbuotojo vardas pavardė"]
[null,null,"Darbuotojo vardas pavardė"]
[null,null,"Darbuotojo vardas pavardė"]
["5.5.4","Pareigybės pavadinimas","Darbuotojo vardas pavardė","val.",null,{"$f":"IFERROR(ROUND(AVERAGE(K118:K122),2),\"0\")","v":"0"},{"$f":"ROUND(E118*F118,2)","v":0},{"$f":"ROUND(G118*$D$7,2)","v":0}]
[null,null,"Darbuotojo vardas pavardė"]
[null,null,"Darbuotojo vardas pavardė"]
[null,null,"Darbuotojo vardas pavardė"]
[null,null,"Darbuotojo vardas pavardė"]
["5.5.5","Pareigybės pavadinimas","Darbuotojo vardas pavardė","val.",null,{"$f":"IFERROR(ROUND(AVERAGE(K123:K127),2),\"0\")","v":"0"},{"$f":"ROUND(E123*F123,2)","v":0},{"$f":"ROUND(G123*$D$7,2)","v":0}]
[null,null,"Darbuotojo vardas pavardė"]
[null,null,"Darbuotojo vardas pavardė"]
[null,null,"Darbuotojo vardas pavardė"]
[null,null,"Darbuotojo vardas pavardė"]
["5.5.6","Pareigybės pavadinimas","Darbuotojo vardas pavardė","val.",null,{"$f":"IFERROR(ROUND(AVERAGE(K128:K132),2),\"0\")","v":"0"},{"$f":"ROUND(E128*F128,2)","v":0},{"$f":"ROUND(G128*$D$7,2)","v":0}]
[null,null,"Darbuotojo vardas pavardė"]
[null,null,"Darbuotojo vardas pavardė"]
[null,null,"Darbuotojo vardas pavardė"]
[null,null,"Darbuotojo vardas pavardė"]
["5.5.7","Pareigybės pavadinimas","Darbuotojo vardas pavardė","val.",null,{"$f":"IFERROR(ROUND(AVERAGE(K133:K137),2),\"0\")","v":"0"},{"$f":"ROUND(E133*F133,2)","v":0},{"$f":"ROUND(G133*$D$7,2)","v":0}]
[null,null,"Darbuotojo vardas pavardė"]
[null,null,"Darbuotojo vardas pavardė"]
[null,null,"Darbuotojo vardas pavardė"]
[null,null,"Darbuotojo vardas pavardė"]
["5.5.8","Pareigybės pavadinimas","Darbuotojo vardas pavardė","val.",null,{"$f":"IFERROR(ROUND(AVERAGE(K138:K142),2),\"0\")","v":"0"},{"$f":"ROUND(E138*F138,2)","v":0},{"$f":"ROUND(G138*$D$7,2)","v":0}]
[null,null,"Darbuotojo vardas pavardė"]
[null,null,"Darbuotojo vardas pavardė"]
[null,null,"Darbuotojo vardas pavardė"]
[null,null,"Darbuotojo vardas pavardė"]
["5.5.9","Pareigybės pavadinimas","Darbuotojo vardas pavardė","val.",null,{"$f":"IFERROR(ROUND(AVERAGE(K143:K147),2),\"0\")","v":"0"},{"$f":"ROUND(E143*F143,2)","v":0},{"$f":"ROUND(G143*$D$7,2)","v":0}]
[null,null,"Darbuotojo vardas pavardė"]
[null,null,"Darbuotojo vardas pavardė"]
[null,null,"Darbuotojo vardas pavardė"]
[null,null,"Darbuotojo vardas pavardė"]
["5.5.10","Pareigybės pavadinimas","Darbuotojo vardas pavardė","val.",null,{"$f":"IFERROR(ROUND(AVERAGE(K148:K152),2),\"0\")","v":"0"},{"$f":"ROUND(E148*F148,2)","v":0},{"$f":"ROUND(G148*$D$7,2)","v":0}]
[null,null,"Darbuotojo vardas pavardė"]
[null,null,"Darbuotojo vardas pavardė"]
[null,null,"Darbuotojo vardas pavardė"]
[null,null,"Darbuotojo vardas pavardė"]
["5.6","Projektą vykdančio personalo komandiruočių išlaidos",null,null,null,null,{"$f":"SUM(G154,G161,G168,G175,G182,G189,G196,G203,G210,G217)","v":0},{"$f":"SUM(H154,H161,H168,H175,H182,H189,H196,H203,H210,H217)","v":0}]
["5.6.1","Komandiruotės pavadinimas, vieta, trukmė dienomis, vykstančių asmenų skaičius","Iš viso komandiruotei",null,null,null,{"$f":"SUM(G155:G160)","v":0},{"$f":"ROUND(G154*$D$7,2)","v":0}]
[null,null,"Dienpinigiai",null,null,null,{"$f":"ROUND(E155*F155,2)","v":0}]
[null,null,"Gyvenamojo ploto nuoma",null,null,null,0]
[null,null,"Kelionės išlaidos",null,null,null,0]
[null,null,"Dalyvavimo mokestis",null,null,null,0]
[null,null,"Kitos išlaidų pavadinimas",null,null,null,0]
[null,null,"Kitos išlaidų pavadinimas",null,null,null,0]
["5.6.2","Komandiruotės pavadinimas, vieta, trukmė dienomis, vykstančių asmenų skaičius","Iš viso komandiruotei",null,null,null,{"$f":"SUM(G162:G167)","v":0},{"$f":"ROUND(G161*$D$7,2)","v":0}]
[null,null,"Dienpinigiai",null,null,null,{"$f":"ROUND(E162*F162,2)","v":0}]
[null,null,"Gyvenamojo ploto nuoma",null,null,null,0]
[null,null,"Kelionės išlaidos",null,null,null,0]
[null,null,"Dalyvavimo mokestis",null,null,null,0]
[null,null,"Kitos išlaidų pavadinimas",null,null,null,0]
[null,null,"Kitos išlaidų pavadinimas",null,null,null,0]
["5.6.3","Komandiruotės pavadinimas, vieta, trukmė dienomis, vykstančių asmenų skaičius","Iš viso komandiruotei",null,null,null,{"$f":"SUM(G169:G174)","v":0},{"$f":"ROUND(G168*$D$7,2)","v":0}]
[null,null,"Dienpinigiai",null,null,null,{"$f":"ROUND(E169*F169,2)","v":0}]
[null,null,"Gyvenamojo ploto nuoma",null,null,null,0]
[null,null,"Kelionės išlaidos",null,null,null,0]
[null,null,"Dalyvavimo mokestis",null,null,null,0]
[null,null,"Kitos išlaidų pavadinimas",null,null,null,0]
[null,null,"Kitos išlaidų pavadinimas",null,null,null,0]
["5.6.4","Komandiruotės pavadinimas, vieta, trukmė dienomis, vykstančių asmenų skaičius","Iš viso komandiruotei",null,null,null,{"$f":"SUM(G176:G181)","v":0},{"$f":"ROUND(G175*$D$7,2)","v":0}]
[null,null,"Dienpinigiai",null,null,null,{"$f":"ROUND(E176*F176,2)","v":0}]
[null,null,"Gyvenamojo ploto nuoma",null,null,null,0]
[null,null,"Kelionės išlaidos",null,null,null,0]
[null,null,"Dalyvavimo mokestis",null,null,null,0]
[null,null,"Kitos išlaidų pavadinimas",null,null,null,0]
[null,null,"Kitos išlaidų pavadinimas",null,null,null,0]
["5.6.5","Komandiruotės pavadinimas, vieta, trukmė dienomis, vykstančių asmenų skaičius","Iš viso komandiruotei",null,null,null,{"$f":"SUM(G183:G188)","v":0},{"$f":"ROUND(G182*$D$7,2)","v":0}]
[null,null,"Dienpinigiai",null,null,null,{"$f":"ROUND(E183*F183,2)","v":0}]
[null,null,"Gyvenamojo ploto nuoma",null,null,null,0]
[null,null,"Kelionės išlaidos",null,null,null,0]
[null,null,"Dalyvavimo mokestis",null,null,null,0]
[null,null,"Kitos išlaidų pavadinimas",null,null,null,0]
[null,null,"Kitos išlaidų pavadinimas",null,null,null,0]
["5.6.6","Komandiruotės pavadinimas, vieta, trukmė dienomis, vykstančių asmenų skaičius","Iš viso komandiruotei",null,null,null,{"$f":"SUM(G190:G195)","v":0},{"$f":"ROUND(G189*$D$7,2)","v":0}]
[null,null,"Dienpinigiai",null,null,null,{"$f":"ROUND(E190*F190,2)","v":0}]
[null,null,"Gyvenamojo ploto nuoma",null,null,null,0]
[null,null,"Kelionės išlaidos",null,null,null,0]
[null,null,"Dalyvavimo mokestis",null,null,null,0]
[null,null,"Kitos išlaidų pavadinimas",null,null,null,0]
[null,null,"Kitos išlaidų pavadinimas",null,null,null,0]
["5.6.7","Komandiruotės pavadinimas, vieta, trukmė dienomis, vykstančių asmenų skaičius","Iš viso komandiruotei",null,null,null,{"$f":"SUM(G197:G202)","v":0},{"$f":"ROUND(G196*$D$7,2)","v":0}]
[null,null,"Dienpinigiai",null,null,null,{"$f":"ROUND(E197*F197,2)","v":0}]
[null,null,"Gyvenamojo ploto nuoma",null,null,null,0]
[null,null,"Kelionės išlaidos",null,null,null,0]
[null,null,"Dalyvavimo mokestis",null,null,null,0]
[null,null,"Kitos išlaidų pavadinimas",null,null,null,0]
[null,null,"Kitos išlaidų pavadinimas",null,null,null,0]
["5.6.8","Komandiruotės pavadinimas, vieta, trukmė dienomis, vykstančių asmenų skaičius","Iš viso komandiruotei",null,null,null,{"$f":"SUM(G204:G209)","v":0},{"$f":"ROUND(G203*$D$7,2)","v":0}]
[null,null,"Dienpinigiai",null,null,null,{"$f":"ROUND(E204*F204,2)","v":0}]
[null,null,"Gyvenamojo ploto nuoma",null,null,null,0]
[null,null,"Kelionės išlaidos",null,null,null,0]
[null,null,"Dalyvavimo mokestis",null,null,null,0]
[null,null,"Kitos išlaidų pavadinimas",null,null,null,0]
[null,null,"Kitos išlaidų pavadinimas",null,null,null,0]
["5.6.9","Komandiruotės pavadinimas, vieta, trukmė dienomis, vykstančių asmenų skaičius","Iš viso komandiruotei",null,null,null,{"$f":"SUM(G211:G216)","v":0},{"$f":"ROUND(G210*$D$7,2)","v":0}]
[null,null,"Dienpinigiai",null,null,null,{"$f":"ROUND(E211*F211,2)","v":0}]
[null,null,"Gyvenamojo ploto nuoma",null,null,null,0]
[null,null,"Kelionės išlaidos",null,null,null,0]
[null,null,"Dalyvavimo mokestis",null,null,null,0]
[null,null,"Kitos išlaidų pavadinimas",null,null,null,0]
[null,null,"Kitos išlaidų pavadinimas",null,null,null,0]
["5.6.10","Komandiruotės pavadinimas, vieta, trukmė dienomis, vykstančių asmenų skaičius","Iš viso komandiruotei",null,null,null,{"$f":"SUM(G218:G223)","v":0},{"$f":"ROUND(G217*$D$7,2)","v":0}]
[null,null,"Dienpinigiai",null,null,null,{"$f":"ROUND(E218*F218,2)","v":0}]
[null,null,"Gyvenamojo ploto nuoma",null,null,null,0]
[null,null,"Kelionės išlaidos",null,null,null,0]
[null,null,"Dalyvavimo mokestis",null,null,null,0]
[null,null,"Kitos išlaidų pavadinimas",null,null,null,0]
[null,null,"Kitos išlaidų pavadinimas",null,null,null,0]
["5.7","Įrangos nuomos išlaidos, veiklai priskirtos pro rata principu. Įranga turi būti tiesiogiai susijusi su projekto įgyvendinimu ir negali būti įsigyta iš ES struktūrinių fondų ar kt. ES finansinių priemonių lėšų",null,null,null,null,{"$f":"SUM(G225:G241)","v":0},{"$f":"SUM(H225:H241)","v":0},null,null,"Faktinės 1 mėnesio išlaidos, Eur","Naudojimo projekte trukmė, mėn."]
["5.7.1","Įrangos pavadinimas",null,"pro rata proc.",null,{"$f":"K225*L225","v":0},{"$f":"ROUND(E225*F225,2)","v":0},{"$f":"ROUND(G225*$D$7,2)","v":0}]
["5.7.2","Įrangos pavadinimas",null,"pro rata proc.",null,{"$f":"K226*L226","v":0},0,{"$f":"ROUND(G226*$D$7,2)","v":0}]
["5.7.3","Įrangos pavadinimas",null,"pro rata proc.",null,0,0,0]
["5.7.4","Įrangos pavadinimas",null,"pro rata proc.",null,0,0,0]
["5.7.5","Įrangos pavadinimas",null,"pro rata proc.",null,0,0,0]
["5.7.6","Įrangos pavadinimas",null,"pro rata proc.",null,0,0,0]
["5.7.7","Įrangos pavadinimas",null,"pro rata proc.",null,0,0,0]
["5.7.8","Įrangos pavadinimas",null,"pro rata proc.",null,0,0,0]
["5.7.9","Įrangos pavadinimas",null,"pro rata proc.",null,0,0,0]
["5.7.10","Įrangos pavadinimas",null,"pro rata proc.",null,0,0,0]
["5.7.11","Įrangos pavadinimas",null,"pro rata proc.",null,0,0,0]
["5.7.12","Įrangos pavadinimas",null,"pro rata proc.",null,0,0,0]
["5.7.13","Įrangos pavadinimas",null,"pro rata proc.",null,0,0,0]
["5.7.14","Įrangos pavadinimas",null,"pro rata proc.",null,{"$f":"K238*L238","v":0},0,{"$f":"ROUND(G238*$D$7,2)","v":0}]
["5.7.15","Įrangos pavadinimas",null,"pro rata proc.",null,{"$f":"K239*L239","v":0},0,{"$f":"ROUND(G239*$D$7,2)","v":0}]
["5.7.16","Įrangos pavadinimas",null,"pro rata proc.",null,{"$f":"K240*L240","v":0},0,{"$f":"ROUND(G240*$D$7,2)","v":0}]
["5.7.17","Įrangos pavadinimas",null,"pro rata proc.",null,{"$f":"K241*L241","v":0},0,{"$f":"ROUND(G241*$D$7,2)","v":0}]
["5.8","Pastatų ar patalpų nuomos išlaidos, veiklai priskirtos pro rata principu. Pastatai ar patalpos turi būti tiesiogiai susijusi su projekto įgyvendinimu.",null,null,null,null,{"$f":"SUM(G243:G247)","v":0},{"$f":"SUM(H243:H247)","v":0},null,null,"Faktinės 1 mėnesio išlaidos, Eur","Naudojimo projekte trukmė, mėn."]
["5.8.1","Pastato, patalpų adresas",null,"pro rata proc.",null,{"$f":"K243*L243","v":0},{"$f":"ROUND(E243*F243,2)","v":0},{"$f":"ROUND(G243*$D$7,2)","v":0}]
["5.8.2","Pastato, patalpų adresas",null,"pro rata proc.",null,{"$f":"K244*L244","v":0},{"$f":"ROUND(E244*F244,2)","v":0},{"$f":"ROUND(G244*$D$7,2)","v":0}]
["5.8.3","Pastato, patalpų adresas",null,"pro rata proc.",null,{"$f":"K245*L245","v":0},{"$f":"ROUND(E245*F245,2)","v":0},{"$f":"ROUND(G245*$D$7,2)","v":0}]
["5.8.4","Pastato, patalpų adresas",null,"pro rata proc.",null,{"$f":"K246*L246","v":0},{"$f":"ROUND(E246*F246,2)","v":0},{"$f":"ROUND(G246*$D$7,2)","v":0}]
["5.8.5","Pastato, patalpų adresas",null,"pro rata proc.",null,{"$f":"K247*L247","v":0},{"$f":"ROUND(E247*F247,2)","v":0},{"$f":"ROUND(G247*$D$7,2)","v":0}]
["Iš viso tinkamų finansuoti išlaidų:",null,null,null,null,null,{"$f":"G10+G21","v":0},{"$f":"H10+H21","v":0}]

{"sheet":"17","index":11,"n_rows":248,"n_cols":19,"rows_kept":248,"cut":false,"hidden":true,"merged":[[5,3,5,8],[8,1,8,2],[9,1,9,5],[10,1,10,2],[11,1,11,2],[12,1,12,2],[0,3,0,8],[2,0,2,2],[2,3,2,8],[3,3,3,4],[3,5,3,6],[4,0,4,2],[4,3,4,8],[19,1,19,2],[20,1,20,5],[21,1,21,5],[22,1,22,2],[23,1,23,2],[24,1,24,2],[13,1,13,2],[14,1,14,2],[15,1,15,2],[16,1,16,2],[17,1,17,2],[18,1,18,2],[31,1,31,2],[32,1,32,5],[33,1,33,2],[34,1,34,2],[35,1,35,2],[36,1,36,2],[25,1,25,2],[26,1,26,2],[27,1,27,2],[28,1,28,2],[29,1,29,2],[30,1,30,2],[43,1,43,5],[44,1,44,2],[45,1,45,2],[46,1,46,2],[47,1,47,2],[48,1,48,2],[37,1,37,2],[38,1,38,2],[39,1,39,2],[40,1,40,2],[41,1,41,2],[42,1,42,2],[55,1,55,2],[56,1,56,2],[57,1,57,2],[58,1,58,2],[59,1,59,2],[60,1,60,2],[49,1,49,2],[50,1,50,2],[51,1,51,2],[52,1,52,2],[53,1,53,2],[54,1,54,2],[67,1,67,2],[68,1,68,2],[69,1,69,2],[70,1,70,2],[71,1,71,5],[72,1,72,2],[61,1,61,2],[62,1,62,2],[63,1,63,2],[64,1,64,2],[65,1,65,2],[66,1,66,2],[79,1,79,2],[80,1,80,2],[81,1,81,2],[82,1,82,2],[83,1,83,2],[84,1,84,2],[73,1,73,2],[74,1,74,2],[75,1,75,2],[76,1,76,2],[77,1,77,2],[78,1,78,2],[91,1,91,2],[92,1,92,2],[93,1,93,2],[94,1,94,2],[95,1,95,2],[96,1,96,2],[85,1,85,2],[86,1,86,2],[87,1,87,2],[88,1,88,2],[89,1,89,2],[90,1,90,2],[97,1,97,2],[98,1,98,2],[99,1,99,2],[100,1,100,2],[101,1,101,5],[102,0,106,0],[102,1,106,1],[102,3,106,3],[102,4,106,4],[102,5,106,5],[102,6,106,6],[102,7,106,7],[102,8,106,8],[107,0,111,0],[107,1,111,1],[107,3,111,3],[107,4,111,4],[107,5,111,5],[107,6,111,6],[107,7,111,7],[107,8,111,8],[112,0,116,0],[112,1,116,1],[112,3,116,3],[112,4,116,4],[112,5,116,5],[112,6,116,6],[112,7,116,7],[112,8,116,8],[117,7,121,7],[117,8,121,8],[122,0,126,0],[122,1,126,1],[122,3,126,3],[122,4,126,4],[122,5,126,5],[122,6,126,6],[122,7,126,7],[122,8,126,8],[117,0,121,0],[117,1,121,1],[117,3,121,3],[117,4,121,4],[117,5,121,5],[117,6,121,6],[127,7,131,7],[127,8,131,8],[132,0,136,0],[132,1,136,1],[132,3,136,3],[132,4,136,4],[132,5,136,5],[132,6,136,6],[132,7,136,7],[132,8,136,8],[127,0,131,0],[127,1,131,1],[127,3,131,3],[127,4,131,4],[127,5,131,5],[127,6,131,6],[137,7,141,7],[137,8,141,8],[142,0,146,0],[142,1,146,1],[142,3,146,3],[142,4,146,4],[142,5,146,5],[142,6,146,6],[142,7,146,7],[142,8,146,8],[137,0,141,0],[137,1,141,1],[137,3,141,3],[137,4,141,4],[137,5,141,5],[137,6,141,6],[160,0,166,0],[160,1,166,1],[160,8,166,8],[167,0,173,0],[167,1,173,1],[167,8,173,8],[147,7,151,7],[147,8,151,8],[152,1,152,5],[153,0,159,0],[153,1,159,1],[153,8,159,8],[147,0,151,0],[147,1,151,1],[147,3,151,3],[147,4,151,4],[147,5,151,5],[147,6,151,6],[188,0,194,0],[188,1,194,1],[188,8,194,8],[195,0,201,0],[195,1,201,1],[195,8,201,8],[174,0,180,0],[174,1,180,1],[174,8,180,8],[181,0,187,0],[181,1,187,1],[181,8,187,8],[216,0,222,0],[216,1,222,1],[216,8,222,8],[223,1,223,5],[224,1,224,2],[225,1,225,2],[202,0,208,0],[202,1,208,1],[202,8,208,8],[209,0,215,0],[209,1,215,1],[209,8,215,8],[232,1,232,2],[233,1,233,2],[234,1,234,2],[235,1,235,2],[236,1,236,2],[237,1,237,2],[226,1,226,2],[227,1,227,2],[228,1,228,2],[229,1,229,2],[230,1,230,2],[231,1,231,2],[244,1,244,2],[245,1,245,2],[246,1,246,2],[247,0,247,5],[238,1,238,2],[239,1,239,2],[240,1,240,2],[241,1,241,5],[242,1,242,2],[243,1,243,2]]}
[null,null,"Pasirinkite veiklos tipą:"]
[null,null,"Fizinio rodiklio Nr.:"]
["Fizinio rodiklio pavadinimas:"]
[null,null,"Fizinio rodiklio matavimo vnt.:",null,null,"Fizinio rodiklio vnt. skaičius:"]
["Juridinis asmuo (pareiškėjas, partneris), atsakingas už fizinį rodiklį:"]
[null,null,"Vykdytojo tipas:"]
[null,null,"Finansavimo intensyvumas:",null,null,null,"Pasirinkite biudžeto išlaidų kategoriją:","Visos"]
[]
["Eil. Nr.","Išlaidų kategorijos pavadinimas",null,"Matavimo vnt.","Kiekis","Vieneto kaina be PVM, Eur","Tinkamų finansuoti išlaidų suma be PVM, Eur","Finansavimo suma, Eur","Išlaidų pagrindimo dokumentų pavadinimas, data ir Nr."]
[4,"ĮRANGA, ĮRENGINIAI IR KT. TURTAS (techninių žinių ir išradimų patentų arba teisių pagal licencijų sutartį įsigijimo išlaidos)",null,null,null,null,{"$f":"SUM(G11:G20)","v":0},{"$f":"SUM(H11:H20)","v":0}]
["4.1","Išlaidų pavadinimas",null,null,null,null,{"$f":"ROUND(E11*F11,2)","v":0},{"$f":"ROUND(G11*$D$7,2)","v":0}]
["4.2","Išlaidų pavadinimas",null,null,null,null,0,0]
["4.3","Išlaidų pavadinimas",null,null,null,null,0,0]
["4.4","Išlaidų pavadinimas",null,null,null,null,0,0]
["4.5","Išlaidų pavadinimas",null,null,null,null,0,0]
["4.6","Išlaidų pavadinimas",null,null,null,null,0,0]
["4.7","Išlaidų pavadinimas",null,null,null,null,0,0]
["4.8","Išlaidų pavadinimas",null,null,null,null,0,0]
["4.9","Išlaidų pavadinimas",null,null,null,null,0,0]
["4.10","Išlaidų pavadinimas",null,null,null,null,0,0]
[5,"PROJEKTO VYKDYMAS",null,null,null,null,{"$f":"G22+G33+G44+G72+G102+G153+G224+G242","v":0},{"$f":"H22+H33+H44+H72+H102+H153+H224+H242","v":0}]
["5.1","MTEP paslaugos",null,null,null,null,{"$f":"SUM(G23:G32)","v":0},{"$f":"SUM(H23:H32)","v":0}]
["5.1.1","Paslaugos pavadinimas",null,null,null,null,{"$f":"ROUND(E23*F23,2)","v":0},0]
["5.1.2","Paslaugos pavadinimas",null,null,null,null,0,0]
["5.1.3","Paslaugos pavadinimas",null,null,null,null,0,0]
["5.1.4","Paslaugos pavadinimas",null,null,null,null,0,0]
["5.1.5","Paslaugos pavadinimas",null,null,null,null,0,0]
["5.1.6","Paslaugos pavadinimas",null,null,null,null,0,0]
["5.1.7","Paslaugos pavadinimas",null,null,null,null,0,0]
["5.1.8","Paslaugos pavadinimas",null,null,null,null,0,0]
["5.1.9","Paslaugos pavadinimas",null,null,null,null,0,0]
["5.1.10","Paslaugos pavadinimas",null,null,null,null,0,0]
["5.2","Konsultavimo ir lygiavertės paslaugos, teikiamos vien tik projekto MTEP veiklai.",null,null,null,null,{"$f":"SUM(G34:G43)","v":0},{"$f":"SUM(H34:H43)","v":0}]
["5.2.1","Paslaugos pavadinimas",null,null,null,null,{"$f":"ROUND(E34*F34,2)","v":0},0]
["5.2.2","Paslaugos pavadinimas",null,null,null,null,0,0]
["5.2.3","Paslaugos pavadinimas",null,null,null,null,0,0]
["5.2.4","Paslaugos pavadinimas",null,null,null,null,0,0]
["5.2.5","Paslaugos pavadinimas",null,null,null,null,0,0]
["5.2.6","Paslaugos pavadinimas",null,null,null,null,0,0]
["5.2.7","Paslaugos pavadinimas",null,null,null,null,0,0]
["5.2.8","Paslaugos pavadinimas",null,null,null,null,0,0]
["5.2.9","Paslaugos pavadinimas",null,null,null,null,0,0]
["5.2.10","Paslaugos pavadinimas",null,null,null,null,0,0]
["5.3","Medžiagos, mažavertis inventorius, atsargos ir pan. produktai, priskirtini trumpalaikiam turtui ir tiesiogiai susiję su MTEP veikla",null,null,null,null,{"$f":"SUM(G45:G71)","v":0},{"$f":"SUM(H45:H71)","v":0}]
["5.3.1","Išlaidų pavadinimas",null,null,null,null,{"$f":"ROUND(E45*F45,2)","v":0},{"$f":"ROUND(G45*$D$7,2)","v":0}]
["5.3.2","Išlaidų pavadinimas",null,null,null,null,{"$f":"ROUND(E46*F46,2)","v":0},{"$f":"ROUND(G46*$D$7,2)","v":0}]
["5.3.3","Išlaidų pavadinimas",null,null,null,null,{"$f":"ROUND(E47*F47,2)","v":0},{"$f":"ROUND(G47*$D$7,2)","v":0}]
["5.3.4","Išlaidų pavadinimas",null,null,null,null,{"$f":"ROUND(E48*F48,2)","v":0},{"$f":"ROUND(G48*$D$7,2)","v":0}]
["5.3.5","Išlaidų pavadinimas",null,null,null,null,{"$f":"ROUND(E49*F49,2)","v":0},{"$f":"ROUND(G49*$D$7,2)","v":0}]
["5.3.6","Išlaidų pavadinimas",null,null,null,null,0,0]
["5.3.7","Išlaidų pavadinimas",null,null,null,null,0,0]
["5.3.8","Išlaidų pavadinimas",null,null,null,null,0,0]
["5.3.9","Išlaidų pavadinimas",null,null,null,null,0,0]
["5.3.10","Išlaidų pavadinimas",null,null,null,null,0,0]
["5.3.11","Išlaidų pavadinimas",null,null,null,null,0,0]
["5.3.12","Išlaidų pavadinimas",null,null,null,null,0,0]
["5.3.13","Išlaidų pavadinimas",null,null,null,null,0,0]
["5.3.14","Išlaidų pavadinimas",null,null,null,null,0,0]
["5.3.15","Išlaidų pavadinimas",null,null,null,null,0,0]
["5.3.16","Išlaidų pavadinimas",null,null,null,null,0,0]
["5.3.17","Išlaidų pavadinimas",null,null,null,null,0,0]
["5.3.18","Išlaidų pavadinimas",null,null,null,null,0,0]
["5.3.19","Išlaidų pavadinimas",null,null,null,null,0,0]
["5.3.20","Išlaidų pavadinimas",null,null,null,null,0,0]
["5.3.21","Išlaidų pavadinimas",null,null,null,null,0,0]
["5.3.22","Išlaidų pavadinimas",null,null,null,null,0,0]
["5.3.23","Išlaidų pavadinimas",null,null,null,null,0,0]
["5.3.24","Išlaidų pavadinimas",null,null,null,null,0,0]
["5.3.25","Išlaidų pavadinimas",null,null,null,null,0,0]
["5.3.26","Išlaidų pavadinimas",null,null,null,null,0,0]
["5.3.27","Išlaidų pavadinimas",null,null,null,null,0,0]
["5.4","Projekto MTEP veikloms naudojamo ilgalaikio materialaus turto (įrangos, prietaisų, įrankių, įrenginių, mašinų ir įrengimų, pastatų ir (ar) patalpų), nusidėvėjimo sąnaudos, jeigu šiam turtui įsigyti nebuvo naudojamos viešosios (įskaitant ir kitų valstybių) lėšos",null,null,null,null,{"$f":"SUM(G73:G101)","v":0},{"$f":"SUM(H73:H101)","v":0},null,null,"Turto įvedimo į eksploataciją data","Turto įsigijimo vertė, Eur","Turto nudėvėjimo, amortizacijos laikotarpis, mėn.","Numatoma turto likutinė vertė, Eur","1 mėn. nudėvėjimo, amortizacijos suma, Eur","Turto naudojamo projekto reikmėms laikas, mėn.","Turto panaudojimo projekto reikmėms dalis (proc.)","Projektui priskirta turto nusidėvėjimo, amortizacijos suma per projekto laikotarpį, Eur"]
["5.4.1","Turtas, kurio nusidėvėjimą, amortizaciją prašoma finansuoti",null,null,1,{"$f":"R73","v":0},{"$f":"ROUND(E73*F73,2)","v":0},0,null,null,null,null,null,null,{"$f":"IFERROR(ROUND((L73-N73)/M73,2),\"0\")","v":"0"},null,null,{"$f":"O73*P73*Q73","v":0},{"$f":"IF(K73=0,\" \",IF(K73+(M73*30.5)<TODAY(),\"DĖMESIO! Patikrinkite, ar nurodytas turtas dar nėra nudėvėtas, amortizuotas\",\" \"))","v":" "}]
["5.4.2","Turtas, kurio nusidėvėjimą, amortizaciją prašoma finansuoti",null,null,1,0,0,0,null,null,null,null,null,null,{"$f":"IFERROR(ROUND((L74-N74)/M74,2),\"0\")","v":"0"},null,null,{"$f":"O74*P74*Q74","v":0},{"$f":"IF(K74=0,\" \",IF(K74+(M74*30.5)<TODAY(),\"DĖMESIO! Patikrinkite, ar nurodytas turtas dar nėra nudėvėtas, amortizuotas\",\" \"))","v":" "}]
["5.4.3","Turtas, kurio nusidėvėjimą, amortizaciją prašoma finansuoti",null,null,1,0,0,0,null,null,null,null,null,null,"0",null,null,0," "]
["5.4.4","Turtas, kurio nusidėvėjimą, amortizaciją prašoma finansuoti",null,null,1,0,0,0,null,null,null,null,null,null,"0",null,null,0," "]
["5.4.5","Turtas, kurio nusidėvėjimą, amortizaciją prašoma finansuoti",null,null,1,0,0,0,null,null,null,null,null,null,"0",null,null,0," "]
["5.4.6","Turtas, kurio nusidėvėjimą, amortizaciją prašoma finansuoti",null,null,1,0,0,0,null,null,null,null,null,null,"0",null,null,0," "]
["5.4.7","Turtas, kurio nusidėvėjimą, amortizaciją prašoma finansuoti",null,null,1,0,0,0,null,null,null,null,null,null,"0",null,null,0," "]
["5.4.8","Turtas, kurio nusidėvėjimą, amortizaciją prašoma finansuoti",null,null,1,0,0,0,null,null,null,null,null,null,"0",null,null,0," "]
["5.4.9","Turtas, kurio nusidėvėjimą, amortizaciją prašoma finansuoti",null,null,1,0,0,0,null,null,null,null,null,null,"0",null,null,0," "]
["5.4.10","Turtas, kurio nusidėvėjimą, amortizaciją prašoma finansuoti",null,null,1,0,0,0,null,null,null,null,null,null,"0",null,null,0," "]
["5.4.11","Turtas, kurio nusidėvėjimą, amortizaciją prašoma finansuoti",null,null,1,0,0,0,null,null,null,null,null,null,"0",null,null,0," "]
["5.4.12","Turtas, kurio nusidėvėjimą, amortizaciją prašoma finansuoti",null,null,1,0,0,0,null,null,null,null,null,null,"0",null,null,0," "]
["5.4.13","Turtas, kurio nusidėvėjimą, amortizaciją prašoma finansuoti",null,null,1,0,0,0,null,null,null,null,null,null,"0",null,null,0," "]
["5.4.14","Turtas, kurio nusidėvėjimą, amortizaciją prašoma finansuoti",null,null,1,0,0,0,null,null,null,null,null,null,"0",null,null,0," "]
["5.4.15","Turtas, kurio nusidėvėjimą, amortizaciją prašoma finansuoti",null,null,1,0,0,0,null,null,null,null,null,null,"0",null,null,0," "]
["5.4.16","Turtas, kurio nusidėvėjimą, amortizaciją prašoma finansuoti",null,null,1,0,0,0,null,null,null,null,null,null,"0",null,null,0," "]
["5.4.17","Turtas, kurio nusidėvėjimą, amortizaciją prašoma finansuoti",null,null,1,0,0,0,null,null,null,null,null,null,"0",null,null,0," "]
["5.4.18","Turtas, kurio nusidėvėjimą, amortizaciją prašoma finansuoti",null,null,1,0,0,0,null,null,null,null,null,null,"0",null,null,0," "]
["5.4.19","Turtas, kurio nusidėvėjimą, amortizaciją prašoma finansuoti",null,null,1,0,0,0,null,null,null,null,null,null,"0",null,null,0," "]
["5.4.20","Turtas, kurio nusidėvėjimą, amortizaciją prašoma finansuoti",null,null,1,0,0,0,null,null,null,null,null,null,"0",null,null,0," "]
["5.4.21","Turtas, kurio nusidėvėjimą, amortizaciją prašoma finansuoti",null,null,1,0,0,0,null,null,null,null,null,null,"0",null,null,0," "]
["5.4.22","Turtas, kurio nusidėvėjimą, amortizaciją prašoma finansuoti",null,null,1,0,0,0,null,null,null,null,null,null,"0",null,null,0," "]
["5.4.23","Turtas, kurio nusidėvėjimą, amortizaciją prašoma finansuoti",null,null,1,0,0,0,null,null,null,null,null,null,"0",null,null,0," "]
["5.4.24","Turtas, kurio nusidėvėjimą, amortizaciją prašoma finansuoti",null,null,1,0,0,0,null,null,null,null,null,null,"0",null,null,0," "]
["5.4.25","Turtas, kurio nusidėvėjimą, amortizaciją prašoma finansuoti",null,null,1,0,0,0,null,null,null,null,null,null,"0",null,null,0," "]
["5.4.26","Turtas, kurio nusidėvėjimą, amortizaciją prašoma finansuoti",null,null,1,0,0,0,null,null,null,null,null,null,"0",null,null,0," "]
["5.4.27","Turtas, kurio nusidėvėjimą, amortizaciją prašoma finansuoti",null,null,1,0,0,0,null,null,null,null,null,null,"0",null,null,0," "]
["5.4.28","Turtas, kurio nusidėvėjimą, amortizaciją prašoma finansuoti",null,null,1,0,0,0,null,null,null,null,null,null,"0",null,null,0," "]
["5.4.29","Turtas, kurio nusidėvėjimą, amortizaciją prašoma finansuoti",null,null,1,0,0,0,null,null,null,null,null,null,"0",null,null,0," "]
["5.5","Projektą vykdančio personalo darbo užmokestis ir išlaidos su darbo santykiais susijusiems darbdavio įsipareigojimams",null,null,null,null,{"$f":"SUM(G103:G152)","v":0},{"$f":"SUM(H103:H152)","v":0},null,null,"Faktiškai gaunamas darbo užmokesti už 1 valandą pagal  pastarųjų 6 mėn. vidurkį, Eur"]
["5.5.1","Pareigybės pavadinimas","Darbuotojo vardas pavardė","val.",null,{"$f":"IFERROR(ROUND(AVERAGE(K103:K107),2),\"0\")","v":"0"},{"$f":"ROUND(E103*F103,2)","v":0},{"$f":"ROUND(G103*$D$7,2)","v":0}]
[null,null,"Darbuotojo vardas pavardė"]
[null,null,"Darbuotojo vardas pavardė"]
[null,null,"Darbuotojo vardas pavardė"]
[null,null,"Darbuotojo vardas pavardė"]
["5.5.2","Pareigybės pavadinimas","Darbuotojo vardas pavardė","val.",null,{"$f":"IFERROR(ROUND(AVERAGE(K108:K112),2),\"0\")","v":"0"},{"$f":"ROUND(E108*F108,2)","v":0},{"$f":"ROUND(G108*$D$7,2)","v":0}]
[null,null,"Darbuotojo vardas pavardė"]
[null,null,"Darbuotojo vardas pavardė"]
[null,null,"Darbuotojo vardas pavardė"]
[null,null,"Darbuotojo vardas pavardė"]
["5.5.3","Pareigybės pavadinimas","Darbuotojo vardas pavardė","val.",null,{"$f":"IFERROR(ROUND(AVERAGE(K113:K117),2),\"0\")","v":"0"},{"$f":"ROUND(E113*F113,2)","v":0},{"$f":"ROUND(G113*$D$7,2)","v":0}]
[null,null,"Darbuotojo vardas pavardė"]
[null,null,"Darbuotojo vardas pavardė"]
[null,null,"Darbuotojo vardas pavardė"]
[null,null,"Darbuotojo vardas pavardė"]
["5.5.4","Pareigybės pavadinimas","Darbuotojo vardas pavardė","val.",null,{"$f":"IFERROR(ROUND(AVERAGE(K118:K122),2),\"0\")","v":"0"},{"$f":"ROUND(E118*F118,2)","v":0},{"$f":"ROUND(G118*$D$7,2)","v":0}]
[null,null,"Darbuotojo vardas pavardė"]
[null,null,"Darbuotojo vardas pavardė"]
[null,null,"Darbuotojo vardas pavardė"]
[null,null,"Darbuotojo vardas pavardė"]
["5.5.5","Pareigybės pavadinimas","Darbuotojo vardas pavardė","val.",null,{"$f":"IFERROR(ROUND(AVERAGE(K123:K127),2),\"0\")","v":"0"},{"$f":"ROUND(E123*F123,2)","v":0},{"$f":"ROUND(G123*$D$7,2)","v":0}]
[null,null,"Darbuotojo vardas pavardė"]
[null,null,"Darbuotojo vardas pavardė"]
[null,null,"Darbuotojo vardas pavardė"]
[null,null,"Darbuotojo vardas pavardė"]
["5.5.6","Pareigybės pavadinimas","Darbuotojo vardas pavardė","val.",null,{"$f":"IFERROR(ROUND(AVERAGE(K128:K132),2),\"0\")","v":"0"},{"$f":"ROUND(E128*F128,2)","v":0},{"$f":"ROUND(G128*$D$7,2)","v":0}]
[null,null,"Darbuotojo vardas pavardė"]
[null,null,"Darbuotojo vardas pavardė"]
[null,null,"Darbuotojo vardas pavardė"]
[null,null,"Darbuotojo vardas pavardė"]
["5.5.7","Pareigybės pavadinimas","Darbuotojo vardas pavardė","val.",null,{"$f":"IFERROR(ROUND(AVERAGE(K133:K137),2),\"0\")","v":"0"},{"$f":"ROUND(E133*F133,2)","v":0},{"$f":"ROUND(G133*$D$7,2)","v":0}]
[null,null,"Darbuotojo vardas pavardė"]
[null,null,"Darbuotojo vardas pavardė"]
[null,null,"Darbuotojo vardas pavardė"]
[null,null,"Darbuotojo vardas pavardė"]
["5.5.8","Pareigybės pavadinimas","Darbuotojo vardas pavardė","val.",null,{"$f":"IFERROR(ROUND(AVERAGE(K138:K142),2),\"0\")","v":"0"},{"$f":"ROUND(E138*F138,2)","v":0},{"$f":"ROUND(G138*$D$7,2)","v":0}]
[null,null,"Darbuotojo vardas pavardė"]
[null,null,"Darbuotojo vardas pavardė"]
[null,null,"Darbuotojo vardas pavardė"]
[null,null,"Darbuotojo vardas pavardė"]
["5.5.9","Pareigybės pavadinimas","Darbuotojo vardas pavardė","val.",null,{"$f":"IFERROR(ROUND(AVERAGE(K143:K147),2),\"0\")","v":"0"},{"$f":"ROUND(E143*F143,2)","v":0},{"$f":"ROUND(G143*$D$7,2)","v":0}]
[null,null,"Darbuotojo vardas pavardė"]
[null,null,"Darbuotojo vardas pavardė"]
[null,null,"Darbuotojo vardas pavardė"]
[null,null,"Darbuotojo vardas pavardė"]
["5.5.10","Pareigybės pavadinimas","Darbuotojo vardas pavardė","val.",null,{"$f":"IFERROR(ROUND(AVERAGE(K148:K152),2),\"0\")","v":"0"},{"$f":"ROUND(E148*F148,2)","v":0},{"$f":"ROUND(G148*$D$7,2)","v":0}]
[null,null,"Darbuotojo vardas pavardė"]
[null,null,"Darbuotojo vardas pavardė"]
[null,null,"Darbuotojo vardas pavardė"]
[null,null,"Darbuotojo vardas pavardė"]
["5.6","Projektą vykdančio personalo komandiruočių išlaidos",null,null,null,null,{"$f":"SUM(G154,G161,G168,G175,G182,G189,G196,G203,G210,G217)","v":0},{"$f":"SUM(H154,H161,H168,H175,H182,H189,H196,H203,H210,H217)","v":0}]
["5.6.1","Komandiruotės pavadinimas, vieta, trukmė dienomis, vykstančių asmenų skaičius","Iš viso komandiruotei",null,null,null,{"$f":"SUM(G155:G160)","v":0},{"$f":"ROUND(G154*$D$7,2)","v":0}]
[null,null,"Dienpinigiai",null,null,null,{"$f":"ROUND(E155*F155,2)","v":0}]
[null,null,"Gyvenamojo ploto nuoma",null,null,null,0]
[null,null,"Kelionės išlaidos",null,null,null,0]
[null,null,"Dalyvavimo mokestis",null,null,null,0]
[null,null,"Kitos išlaidų pavadinimas",null,null,null,0]
[null,null,"Kitos išlaidų pavadinimas",null,null,null,0]
["5.6.2","Komandiruotės pavadinimas, vieta, trukmė dienomis, vykstančių asmenų skaičius","Iš viso komandiruotei",null,null,null,{"$f":"SUM(G162:G167)","v":0},{"$f":"ROUND(G161*$D$7,2)","v":0}]
[null,null,"Dienpinigiai",null,null,null,{"$f":"ROUND(E162*F162,2)","v":0}]
[null,null,"Gyvenamojo ploto nuoma",null,null,null,0]
[null,null,"Kelionės išlaidos",null,null,null,0]
[null,null,"Dalyvavimo mokestis",null,null,null,0]
[null,null,"Kitos išlaidų pavadinimas",null,null,null,0]
[null,null,"Kitos išlaidų pavadinimas",null,null,null,0]
["5.6.3","Komandiruotės pavadinimas, vieta, trukmė dienomis, vykstančių asmenų skaičius","Iš viso komandiruotei",null,null,null,{"$f":"SUM(G169:G174)","v":0},{"$f":"ROUND(G168*$D$7,2)","v":0}]
[null,null,"Dienpinigiai",null,null,null,{"$f":"ROUND(E169*F169,2)","v":0}]
[null,null,"Gyvenamojo ploto nuoma",null,null,null,0]
[null,null,"Kelionės išlaidos",null,null,null,0]
[null,null,"Dalyvavimo mokestis",null,null,null,0]
[null,null,"Kitos išlaidų pavadinimas",null,null,null,0]
[null,null,"Kitos išlaidų pavadinimas",null,null,null,0]
["5.6.4","Komandiruotės pavadinimas, vieta, trukmė dienomis, vykstančių asmenų skaičius","Iš viso komandiruotei",null,null,null,{"$f":"SUM(G176:G181)","v":0},{"$f":"ROUND(G175*$D$7,2)","v":0}]
[null,null,"Dienpinigiai",null,null,null,{"$f":"ROUND(E176*F176,2)","v":0}]
[null,null,"Gyvenamojo ploto nuoma",null,null,null,0]
[null,null,"Kelionės išlaidos",null,null,null,0]
[null,null,"Dalyvavimo mokestis",null,null,null,0]
[null,null,"Kitos išlaidų pavadinimas",null,null,null,0]
[null,null,"Kitos išlaidų pavadinimas",null,null,null,0]
["5.6.5","Komandiruotės pavadinimas, vieta, trukmė dienomis, vykstančių asmenų skaičius","Iš viso komandiruotei",null,null,null,{"$f":"SUM(G183:G188)","v":0},{"$f":"ROUND(G182*$D$7,2)","v":0}]
[null,null,"Dienpinigiai",null,null,null,{"$f":"ROUND(E183*F183,2)","v":0}]
[null,null,"Gyvenamojo ploto nuoma",null,null,null,0]
[null,null,"Kelionės išlaidos",null,null,null,0]
[null,null,"Dalyvavimo mokestis",null,null,null,0]
[null,null,"Kitos išlaidų pavadinimas",null,null,null,0]
[null,null,"Kitos išlaidų pavadinimas",null,null,null,0]
["5.6.6","Komandiruotės pavadinimas, vieta, trukmė dienomis, vykstančių asmenų skaičius","Iš viso komandiruotei",null,null,null,{"$f":"SUM(G190:G195)","v":0},{"$f":"ROUND(G189*$D$7,2)","v":0}]
[null,null,"Dienpinigiai",null,null,null,{"$f":"ROUND(E190*F190,2)","v":0}]
[null,null,"Gyvenamojo ploto nuoma",null,null,null,0]
[null,null,"Kelionės išlaidos",null,null,null,0]
[null,null,"Dalyvavimo mokestis",null,null,null,0]
[null,null,"Kitos išlaidų pavadinimas",null,null,null,0]
[null,null,"Kitos išlaidų pavadinimas",null,null,null,0]
["5.6.7","Komandiruotės pavadinimas, vieta, trukmė dienomis, vykstančių asmenų skaičius","Iš viso komandiruotei",null,null,null,{"$f":"SUM(G197:G202)","v":0},{"$f":"ROUND(G196*$D$7,2)","v":0}]
[null,null,"Dienpinigiai",null,null,null,{"$f":"ROUND(E197*F197,2)","v":0}]
[null,null,"Gyvenamojo ploto nuoma",null,null,null,0]
[null,null,"Kelionės išlaidos",null,null,null,0]
[null,null,"Dalyvavimo mokestis",null,null,null,0]
[null,null,"Kitos išlaidų pavadinimas",null,null,null,0]
[null,null,"Kitos išlaidų pavadinimas",null,null,null,0]
["5.6.8","Komandiruotės pavadinimas, vieta, trukmė dienomis, vykstančių asmenų skaičius","Iš viso komandiruotei",null,null,null,{"$f":"SUM(G204:G209)","v":0},{"$f":"ROUND(G203*$D$7,2)","v":0}]
[null,null,"Dienpinigiai",null,null,null,{"$f":"ROUND(E204*F204,2)","v":0}]
[null,null,"Gyvenamojo ploto nuoma",null,null,null,0]
[null,null,"Kelionės išlaidos",null,null,null,0]
[null,null,"Dalyvavimo mokestis",null,null,null,0]
[null,null,"Kitos išlaidų pavadinimas",null,null,null,0]
[null,null,"Kitos išlaidų pavadinimas",null,null,null,0]
["5.6.9","Komandiruotės pavadinimas, vieta, trukmė dienomis, vykstančių asmenų skaičius","Iš viso komandiruotei",null,null,null,{"$f":"SUM(G211:G216)","v":0},{"$f":"ROUND(G210*$D$7,2)","v":0}]
[null,null,"Dienpinigiai",null,null,null,{"$f":"ROUND(E211*F211,2)","v":0}]
[null,null,"Gyvenamojo ploto nuoma",null,null,null,0]
[null,null,"Kelionės išlaidos",null,null,null,0]
[null,null,"Dalyvavimo mokestis",null,null,null,0]
[null,null,"Kitos išlaidų pavadinimas",null,null,null,0]
[null,null,"Kitos išlaidų pavadinimas",null,null,null,0]
["5.6.10","Komandiruotės pavadinimas, vieta, trukmė dienomis, vykstančių asmenų skaičius","Iš viso komandiruotei",null,null,null,{"$f":"SUM(G218:G223)","v":0},{"$f":"ROUND(G217*$D$7,2)","v":0}]
[null,null,"Dienpinigiai",null,null,null,{"$f":"ROUND(E218*F218,2)","v":0}]
[null,null,"Gyvenamojo ploto nuoma",null,null,null,0]
[null,null,"Kelionės išlaidos",null,null,null,0]
[null,null,"Dalyvavimo mokestis",null,null,null,0]
[null,null,"Kitos išlaidų pavadinimas",null,null,null,0]
[null,null,"Kitos išlaidų pavadinimas",null,null,null,0]
["5.7","Įrangos nuomos išlaidos, veiklai priskirtos pro rata principu. Įranga turi būti tiesiogiai susijusi su projekto įgyvendinimu ir negali būti įsigyta iš ES struktūrinių fondų ar kt. ES finansinių priemonių lėšų",null,null,null,null,{"$f":"SUM(G225:G241)","v":0},{"$f":"SUM(H225:H241)","v":0},null,null,"Faktinės 1 mėnesio išlaidos, Eur","Naudojimo projekte trukmė, mėn."]
["5.7.1","Įrangos pavadinimas",null,"pro rata proc.",null,{"$f":"K225*L225","v":0},{"$f":"ROUND(E225*F225,2)","v":0},{"$f":"ROUND(G225*$D$7,2)","v":0}]
["5.7.2","Įrangos pavadinimas",null,"pro rata proc.",null,{"$f":"K226*L226","v":0},0,{"$f":"ROUND(G226*$D$7,2)","v":0}]
["5.7.3","Įrangos pavadinimas",null,"pro rata proc.",null,0,0,0]
["5.7.4","Įrangos pavadinimas",null,"pro rata proc.",null,0,0,0]
["5.7.5","Įrangos pavadinimas",null,"pro rata proc.",null,0,0,0]
["5.7.6","Įrangos pavadinimas",null,"pro rata proc.",null,0,0,0]
["5.7.7","Įrangos pavadinimas",null,"pro rata proc.",null,0,0,0]
["5.7.8","Įrangos pavadinimas",null,"pro rata proc.",null,0,0,0]
["5.7.9","Įrangos pavadinimas",null,"pro rata proc.",null,0,0,0]
["5.7.10","Įrangos pavadinimas",null,"pro rata proc.",null,0,0,0]
["5.7.11","Įrangos pavadinimas",null,"pro rata proc.",null,0,0,0]
["5.7.12","Įrangos pavadinimas",null,"pro rata proc.",null,0,0,0]
["5.7.13","Įrangos pavadinimas",null,"pro rata proc.",null,0,0,0]
["5.7.14","Įrangos pavadinimas",null,"pro rata proc.",null,{"$f":"K238*L238","v":0},0,{"$f":"ROUND(G238*$D$7,2)","v":0}]
["5.7.15","Įrangos pavadinimas",null,"pro rata proc.",null,{"$f":"K239*L239","v":0},0,{"$f":"ROUND(G239*$D$7,2)","v":0}]
["5.7.16","Įrangos pavadinimas",null,"pro rata proc.",null,{"$f":"K240*L240","v":0},0,{"$f":"ROUND(G240*$D$7,2)","v":0}]
["5.7.17","Įrangos pavadinimas",null,"pro rata proc.",null,{"$f":"K241*L241","v":0},0,{"$f":"ROUND(G241*$D$7,2)","v":0}]
["5.8","Pastatų ar patalpų nuomos išlaidos, veiklai priskirtos pro rata principu. Pastatai ar patalpos turi būti tiesiogiai susijusi su projekto įgyvendinimu.",null,null,null,null,{"$f":"SUM(G243:G247)","v":0},{"$f":"SUM(H243:H247)","v":0},null,null,"Faktinės 1 mėnesio išlaidos, Eur","Naudojimo projekte trukmė, mėn."]
["5.8.1","Pastato, patalpų adresas",null,"pro rata proc.",null,{"$f":"K243*L243","v":0},{"$f":"ROUND(E243*F243,2)","v":0},{"$f":"ROUND(G243*$D$7,2)","v":0}]
["5.8.2","Pastato, patalpų adresas",null,"pro rata proc.",null,{"$f":"K244*L244","v":0},{"$f":"ROUND(E244*F244,2)","v":0},{"$f":"ROUND(G244*$D$7,2)","v":0}]
["5.8.3","Pastato, patalpų adresas",null,"pro rata proc.",null,{"$f":"K245*L245","v":0},{"$f":"ROUND(E245*F245,2)","v":0},{"$f":"ROUND(G245*$D$7,2)","v":0}]
["5.8.4","Pastato, patalpų adresas",null,"pro rata proc.",null,{"$f":"K246*L246","v":0},{"$f":"ROUND(E246*F246,2)","v":0},{"$f":"ROUND(G246*$D$7,2)","v":0}]
["5.8.5","Pastato, patalpų adresas",null,"pro rata proc.",null,{"$f":"K247*L247","v":0},{"$f":"ROUND(E247*F247,2)","v":0},{"$f":"ROUND(G247*$D$7,2)","v":0}]
["Iš viso tinkamų finansuoti išlaidų:",null,null,null,null,null,{"$f":"G10+G21","v":0},{"$f":"H10+H21","v":0}]

{"sheet":"18","index":12,"n_rows":248,"n_cols":19,"rows_kept":248,"cut":false,"hidden":true,"merged":[[5,3,5,8],[8,1,8,2],[9,1,9,5],[10,1,10,2],[11,1,11,2],[12,1,12,2],[0,3,0,8],[2,0,2,2],[2,3,2,8],[3,3,3,4],[3,5,3,6],[4,0,4,2],[4,3,4,8],[19,1,19,2],[20,1,20,5],[21,1,21,5],[22,1,22,2],[23,1,23,2],[24,1,24,2],[13,1,13,2],[14,1,14,2],[15,1,15,2],[16,1,16,2],[17,1,17,2],[18,1,18,2],[31,1,31,2],[32,1,32,5],[33,1,33,2],[34,1,34,2],[35,1,35,2],[36,1,36,2],[25,1,25,2],[26,1,26,2],[27,1,27,2],[28,1,28,2],[29,1,29,2],[30,1,30,2],[43,1,43,5],[44,1,44,2],[45,1,45,2],[46,1,46,2],[47,1,47,2],[48,1,48,2],[37,1,37,2],[38,1,38,2],[39,1,39,2],[40,1,40,2],[41,1,41,2],[42,1,42,2],[55,1,55,2],[56,1,56,2],[57,1,57,2],[58,1,58,2],[59,1,59,2],[60,1,60,2],[49,1,49,2],[50,1,50,2],[51,1,51,2],[52,1,52,2],[53,1,53,2],[54,1,54,2],[67,1,67,2],[68,1,68,2],[69,1,69,2],[70,1,70,2],[71,1,71,5],[72,1,72,2],[61,1,61,2],[62,1,62,2],[63,1,63,2],[64,1,64,2],[65,1,65,2],[66,1,66,2],[79,1,79,2],[80,1,80,2],[81,1,81,2],[82,1,82,2],[83,1,83,2],[84,1,84,2],[73,1,73,2],[74,1,74,2],[75,1,75,2],[76,1,76,2],[77,1,77,2],[78,1,78,2],[91,1,91,2],[92,1,92,2],[93,1,93,2],[94,1,94,2],[95,1,95,2],[96,1,96,2],[85,1,85,2],[86,1,86,2],[87,1,87,2],[88,1,88,2],[89,1,89,2],[90,1,90,2],[97,1,97,2],[98,1,98,2],[99,1,99,2],[100,1,100,2],[101,1,101,5],[102,0,106,0],[102,1,106,1],[102,3,106,3],[102,4,106,4],[102,5,106,5],[102,6,106,6],[102,7,106,7],[102,8,106,8],[107,0,111,0],[107,1,111,1],[107,3,111,3],[107,4,111,4],[107,5,111,5],[107,6,111,6],[107,7,111,7],[107,8,111,8],[112,0,116,0],[112,1,116,1],[112,3,116,3],[112,4,116,4],[112,5,116,5],[112,6,116,6],[112,7,116,7],[112,8,116,8],[117,7,121,7],[117,8,121,8],[122,0,126,0],[122,1,126,1],[122,3,126,3],[122,4,126,4],[122,5,126,5],[122,6,126,6],[122,7,126,7],[122,8,126,8],[117,0,121,0],[117,1,121,1],[117,3,121,3],[117,4,121,4],[117,5,121,5],[117,6,121,6],[127,7,131,7],[127,8,131,8],[132,0,136,0],[132,1,136,1],[132,3,136,3],[132,4,136,4],[132,5,136,5],[132,6,136,6],[132,7,136,7],[132,8,136,8],[127,0,131,0],[127,1,131,1],[127,3,131,3],[127,4,131,4],[127,5,131,5],[127,6,131,6],[137,7,141,7],[137,8,141,8],[142,0,146,0],[142,1,146,1],[142,3,146,3],[142,4,146,4],[142,5,146,5],[142,6,146,6],[142,7,146,7],[142,8,146,8],[137,0,141,0],[137,1,141,1],[137,3,141,3],[137,4,141,4],[137,5,141,5],[137,6,141,6],[160,0,166,0],[160,1,166,1],[160,8,166,8],[167,0,173,0],[167,1,173,1],[167,8,173,8],[147,7,151,7],[147,8,151,8],[152,1,152,5],[153,0,159,0],[153,1,159,1],[153,8,159,8],[147,0,151,0],[147,1,151,1],[147,3,151,3],[147,4,151,4],[147,5,151,5],[147,6,151,6],[188,0,194,0],[188,1,194,1],[188,8,194,8],[195,0,201,0],[195,1,201,1],[195,8,201,8],[174,0,180,0],[174,1,180,1],[174,8,180,8],[181,0,187,0],[181,1,187,1],[181,8,187,8],[216,0,222,0],[216,1,222,1],[216,8,222,8],[223,1,223,5],[224,1,224,2],[225,1,225,2],[202,0,208,0],[202,1,208,1],[202,8,208,8],[209,0,215,0],[209,1,215,1],[209,8,215,8],[232,1,232,2],[233,1,233,2],[234,1,234,2],[235,1,235,2],[236,1,236,2],[237,1,237,2],[226,1,226,2],[227,1,227,2],[228,1,228,2],[229,1,229,2],[230,1,230,2],[231,1,231,2],[244,1,244,2],[245,1,245,2],[246,1,246,2],[247,0,247,5],[238,1,238,2],[239,1,239,2],[240,1,240,2],[241,1,241,5],[242,1,242,2],[243,1,243,2]]}
[null,null,"Pasirinkite veiklos tipą:"]
[null,null,"Fizinio rodiklio Nr.:"]
["Fizinio rodiklio pavadinimas:"]
[null,null,"Fizinio rodiklio matavimo vnt.:",null,null,"Fizinio rodiklio vnt. skaičius:"]
["Juridinis asmuo (pareiškėjas, partneris), atsakingas už fizinį rodiklį:"]
[null,null,"Vykdytojo tipas:"]
[null,null,"Finansavimo intensyvumas:",null,null,null,"Pasirinkite biudžeto išlaidų kategoriją:","Visos"]
[]
["Eil. Nr.","Išlaidų kategorijos pavadinimas",null,"Matavimo vnt.","Kiekis","Vieneto kaina be PVM, Eur","Tinkamų finansuoti išlaidų suma be PVM, Eur","Finansavimo suma, Eur","Išlaidų pagrindimo dokumentų pavadinimas, data ir Nr."]
[4,"ĮRANGA, ĮRENGINIAI IR KT. TURTAS (techninių žinių ir išradimų patentų arba teisių pagal licencijų sutartį įsigijimo išlaidos)",null,null,null,null,{"$f":"SUM(G11:G20)","v":0},{"$f":"SUM(H11:H20)","v":0}]
["4.1","Išlaidų pavadinimas",null,null,null,null,{"$f":"ROUND(E11*F11,2)","v":0},{"$f":"ROUND(G11*$D$7,2)","v":0}]
["4.2","Išlaidų pavadinimas",null,null,null,null,0,0]
["4.3","Išlaidų pavadinimas",null,null,null,null,0,0]
["4.4","Išlaidų pavadinimas",null,null,null,null,0,0]
["4.5","Išlaidų pavadinimas",null,null,null,null,0,0]
["4.6","Išlaidų pavadinimas",null,null,null,null,0,0]
["4.7","Išlaidų pavadinimas",null,null,null,null,0,0]
["4.8","Išlaidų pavadinimas",null,null,null,null,0,0]
["4.9","Išlaidų pavadinimas",null,null,null,null,0,0]
["4.10","Išlaidų pavadinimas",null,null,null,null,0,0]
[5,"PROJEKTO VYKDYMAS",null,null,null,null,{"$f":"G22+G33+G44+G72+G102+G153+G224+G242","v":0},{"$f":"H22+H33+H44+H72+H102+H153+H224+H242","v":0}]
["5.1","MTEP paslaugos",null,null,null,null,{"$f":"SUM(G23:G32)","v":0},{"$f":"SUM(H23:H32)","v":0}]
["5.1.1","Paslaugos pavadinimas",null,null,null,null,{"$f":"ROUND(E23*F23,2)","v":0},0]
["5.1.2","Paslaugos pavadinimas",null,null,null,null,0,0]
["5.1.3","Paslaugos pavadinimas",null,null,null,null,0,0]
["5.1.4","Paslaugos pavadinimas",null,null,null,null,0,0]
["5.1.5","Paslaugos pavadinimas",null,null,null,null,0,0]
["5.1.6","Paslaugos pavadinimas",null,null,null,null,0,0]
["5.1.7","Paslaugos pavadinimas",null,null,null,null,0,0]
["5.1.8","Paslaugos pavadinimas",null,null,null,null,0,0]
["5.1.9","Paslaugos pavadinimas",null,null,null,null,0,0]
["5.1.10","Paslaugos pavadinimas",null,null,null,null,0,0]
["5.2","Konsultavimo ir lygiavertės paslaugos, teikiamos vien tik projekto MTEP veiklai.",null,null,null,null,{"$f":"SUM(G34:G43)","v":0},{"$f":"SUM(H34:H43)","v":0}]
["5.2.1","Paslaugos pavadinimas",null,null,null,null,{"$f":"ROUND(E34*F34,2)","v":0},0]
["5.2.2","Paslaugos pavadinimas",null,null,null,null,0,0]
["5.2.3","Paslaugos pavadinimas",null,null,null,null,0,0]
["5.2.4","Paslaugos pavadinimas",null,null,null,null,0,0]
["5.2.5","Paslaugos pavadinimas",null,null,null,null,0,0]
["5.2.6","Paslaugos pavadinimas",null,null,null,null,0,0]
["5.2.7","Paslaugos pavadinimas",null,null,null,null,0,0]
["5.2.8","Paslaugos pavadinimas",null,null,null,null,0,0]
["5.2.9","Paslaugos pavadinimas",null,null,null,null,0,0]
["5.2.10","Paslaugos pavadinimas",null,null,null,null,0,0]
["5.3","Medžiagos, mažavertis inventorius, atsargos ir pan. produktai, priskirtini trumpalaikiam turtui ir tiesiogiai susiję su MTEP veikla",null,null,null,null,{"$f":"SUM(G45:G71)","v":0},{"$f":"SUM(H45:H71)","v":0}]
["5.3.1","Išlaidų pavadinimas",null,null,null,null,{"$f":"ROUND(E45*F45,2)","v":0},{"$f":"ROUND(G45*$D$7,2)","v":0}]
["5.3.2","Išlaidų pavadinimas",null,null,null,null,{"$f":"ROUND(E46*F46,2)","v":0},{"$f":"ROUND(G46*$D$7,2)","v":0}]
["5.3.3","Išlaidų pavadinimas",null,null,null,null,{"$f":"ROUND(E47*F47,2)","v":0},{"$f":"ROUND(G47*$D$7,2)","v":0}]
["5.3.4","Išlaidų pavadinimas",null,null,null,null,{"$f":"ROUND(E48*F48,2)","v":0},{"$f":"ROUND(G48*$D$7,2)","v":0}]
["5.3.5","Išlaidų pavadinimas",null,null,null,null,{"$f":"ROUND(E49*F49,2)","v":0},{"$f":"ROUND(G49*$D$7,2)","v":0}]
["5.3.6","Išlaidų pavadinimas",null,null,null,null,0,0]
["5.3.7","Išlaidų pavadinimas",null,null,null,null,0,0]
["5.3.8","Išlaidų pavadinimas",null,null,null,null,0,0]
["5.3.9","Išlaidų pavadinimas",null,null,null,null,0,0]
["5.3.10","Išlaidų pavadinimas",null,null,null,null,0,0]
["5.3.11","Išlaidų pavadinimas",null,null,null,null,0,0]
["5.3.12","Išlaidų pavadinimas",null,null,null,null,0,0]
["5.3.13","Išlaidų pavadinimas",null,null,null,null,0,0]
["5.3.14","Išlaidų pavadinimas",null,null,null,null,0,0]
["5.3.15","Išlaidų pavadinimas",null,null,null,null,0,0]
["5.3.16","Išlaidų pavadinimas",null,null,null,null,0,0]
["5.3.17","Išlaidų pavadinimas",null,null,null,null,0,0]
["5.3.18","Išlaidų pavadinimas",null,null,null,null,0,0]
["5.3.19","Išlaidų pavadinimas",null,null,null,null,0,0]
["5.3.20","Išlaidų pavadinimas",null,null,null,null,0,0]
["5.3.21","Išlaidų pavadinimas",null,null,null,null,0,0]
["5.3.22","Išlaidų pavadinimas",null,null,null,null,0,0]
["5.3.23","Išlaidų pavadinimas",null,null,null,null,0,0]
["5.3.24","Išlaidų pavadinimas",null,null,null,null,0,0]
["5.3.25","Išlaidų pavadinimas",null,null,null,null,0,0]
["5.3.26","Išlaidų pavadinimas",null,null,null,null,0,0]
["5.3.27","Išlaidų pavadinimas",null,null,null,null,0,0]
["5.4","Projekto MTEP veikloms naudojamo ilgalaikio materialaus turto (įrangos, prietaisų, įrankių, įrenginių, mašinų ir įrengimų, pastatų ir (ar) patalpų), nusidėvėjimo sąnaudos, jeigu šiam turtui įsigyti nebuvo naudojamos viešosios (įskaitant ir kitų valstybių) lėšos",null,null,null,null,{"$f":"SUM(G73:G101)","v":0},{"$f":"SUM(H73:H101)","v":0},null,null,"Turto įvedimo į eksploataciją data","Turto įsigijimo vertė, Eur","Turto nudėvėjimo, amortizacijos laikotarpis, mėn.","Numatoma turto likutinė vertė, Eur","1 mėn. nudėvėjimo, amortizacijos suma, Eur","Turto naudojamo projekto reikmėms laikas, mėn.","Turto panaudojimo projekto reikmėms dalis (proc.)","Projektui priskirta turto nusidėvėjimo, amortizacijos suma per projekto laikotarpį, Eur"]
["5.4.1","Turtas, kurio nusidėvėjimą, amortizaciją prašoma finansuoti",null,null,1,{"$f":"R73","v":0},{"$f":"ROUND(E73*F73,2)","v":0},0,null,null,null,null,null,null,{"$f":"IFERROR(ROUND((L73-N73)/M73,2),\"0\")","v":"0"},null,null,{"$f":"O73*P73*Q73","v":0},{"$f":"IF(K73=0,\" \",IF(K73+(M73*30.5)<TODAY(),\"DĖMESIO! Patikrinkite, ar nurodytas turtas dar nėra nudėvėtas, amortizuotas\",\" \"))","v":" "}]
["5.4.2","Turtas, kurio nusidėvėjimą, amortizaciją prašoma finansuoti",null,null,1,0,0,0,null,null,null,null,null,null,{"$f":"IFERROR(ROUND((L74-N74)/M74,2),\"0\")","v":"0"},null,null,{"$f":"O74*P74*Q74","v":0},{"$f":"IF(K74=0,\" \",IF(K74+(M74*30.5)<TODAY(),\"DĖMESIO! Patikrinkite, ar nurodytas turtas dar nėra nudėvėtas, amortizuotas\",\" \"))","v":" "}]
["5.4.3","Turtas, kurio nusidėvėjimą, amortizaciją prašoma finansuoti",null,null,1,0,0,0,null,null,null,null,null,null,"0",null,null,0," "]
["5.4.4","Turtas, kurio nusidėvėjimą, amortizaciją prašoma finansuoti",null,null,1,0,0,0,null,null,null,null,null,null,"0",null,null,0," "]
["5.4.5","Turtas, kurio nusidėvėjimą, amortizaciją prašoma finansuoti",null,null,1,0,0,0,null,null,null,null,null,null,"0",null,null,0," "]
["5.4.6","Turtas, kurio nusidėvėjimą, amortizaciją prašoma finansuoti",null,null,1,0,0,0,null,null,null,null,null,null,"0",null,null,0," "]
["5.4.7","Turtas, kurio nusidėvėjimą, amortizaciją prašoma finansuoti",null,null,1,0,0,0,null,null,null,null,null,null,"0",null,null,0," "]
["5.4.8","Turtas, kurio nusidėvėjimą, amortizaciją prašoma finansuoti",null,null,1,0,0,0,null,null,null,null,null,null,"0",null,null,0," "]
["5.4.9","Turtas, kurio nusidėvėjimą, amortizaciją prašoma finansuoti",null,null,1,0,0,0,null,null,null,null,null,null,"0",null,null,0," "]
["5.4.10","Turtas, kurio nusidėvėjimą, amortizaciją prašoma finansuoti",null,null,1,0,0,0,null,null,null,null,null,null,"0",null,null,0," "]
["5.4.11","Turtas, kurio nusidėvėjimą, amortizaciją prašoma finansuoti",null,null,1,0,0,0,null,null,null,null,null,null,"0",null,null,0," "]
["5.4.12","Turtas, kurio nusidėvėjimą, amortizaciją prašoma finansuoti",null,null,1,0,0,0,null,null,null,null,null,null,"0",null,null,0," "]
["5.4.13","Turtas, kurio nusidėvėjimą, amortizaciją prašoma finansuoti",null,null,1,0,0,0,null,null,null,null,null,null,"0",null,null,0," "]
["5.4.14","Turtas, kurio nusidėvėjimą, amortizaciją prašoma finansuoti",null,null,1,0,0,0,null,null,null,null,null,null,"0",null,null,0," "]
["5.4.15","Turtas, kurio nusidėvėjimą, amortizaciją prašoma finansuoti",null,null,1,0,0,0,null,null,null,null,null,null,"0",null,null,0," "]
["5.4.16","Turtas, kurio nusidėvėjimą, amortizaciją prašoma finansuoti",null,null,1,0,0,0,null,null,null,null,null,null,"0",null,null,0," "]
["5.4.17","Turtas, kurio nusidėvėjimą, amortizaciją prašoma finansuoti",null,null,1,0,0,0,null,null,null,null,null,null,"0",null,null,0," "]
["5.4.18","Turtas, kurio nusidėvėjimą, amortizaciją prašoma finansuoti",null,null,1,0,0,0,null,null,null,null,null,null,"0",null,null,0," "]
["5.4.19","Turtas, kurio nusidėvėjimą, amortizaciją prašoma finansuoti",null,null,1,0,0,0,null,null,null,null,null,null,"0",null,null,0," "]
["5.4.20","Turtas, kurio nusidėvėjimą, amortizaciją prašoma finansuoti",null,null,1,0,0,0,null,null,null,null,null,null,"0",null,null,0," "]
["5.4.21","Turtas, kurio nusidėvėjimą, amortizaciją prašoma finansuoti",null,null,1,0,0,0,null,null,null,null,null,null,"0",null,null,0," "]
["5.4.22","Turtas, kurio nusidėvėjimą, amortizaciją prašoma finansuoti",null,null,1,0,0,0,null,null,null,null,null,null,"0",null,null,0," "]
["5.4.23","Turtas, kurio nusidėvėjimą, amortizaciją prašoma finansuoti",null,null,1,0,0,0,null,null,null,null,null,null,"0",null,null,0," "]
["5.4.24","Turtas, kurio nusidėvėjimą, amortizaciją prašoma finansuoti",null,null,1,0,0,0,null,null,null,null,null,null,"0",null,null,0," "]
["5.4.25","Turtas, kurio nusidėvėjimą, amortizaciją prašoma finansuoti",null,null,1,0,0,0,null,null,null,null,null,null,"0",null,null,0," "]
["5.4.26","Turtas, kurio nusidėvėjimą, amortizaciją prašoma finansuoti",null,null,1,0,0,0,null,null,null,null,null,null,"0",null,null,0," "]
["5.4.27","Turtas, kurio nusidėvėjimą, amortizaciją prašoma finansuoti",null,null,1,0,0,0,null,null,null,null,null,null,"0",null,null,0," "]
["5.4.28","Turtas, kurio nusidėvėjimą, amortizaciją prašoma finansuoti",null,null,1,0,0,0,null,null,null,null,null,null,"0",null,null,0," "]
["5.4.29","Turtas, kurio nusidėvėjimą, amortizaciją prašoma finansuoti",null,null,1,0,0,0,null,null,null,null,null,null,"0",null,null,0," "]
["5.5","Projektą vykdančio personalo darbo užmokestis ir išlaidos su darbo santykiais susijusiems darbdavio įsipareigojimams",null,null,null,null,{"$f":"SUM(G103:G152)","v":0},{"$f":"SUM(H103:H152)","v":0},null,null,"Faktiškai gaunamas darbo užmokesti už 1 valandą pagal  pastarųjų 6 mėn. vidurkį, Eur"]
["5.5.1","Pareigybės pavadinimas","Darbuotojo vardas pavardė","val.",null,{"$f":"IFERROR(ROUND(AVERAGE(K103:K107),2),\"0\")","v":"0"},{"$f":"ROUND(E103*F103,2)","v":0},{"$f":"ROUND(G103*$D$7,2)","v":0}]
[null,null,"Darbuotojo vardas pavardė"]
[null,null,"Darbuotojo vardas pavardė"]
[null,null,"Darbuotojo vardas pavardė"]
[null,null,"Darbuotojo vardas pavardė"]
["5.5.2","Pareigybės pavadinimas","Darbuotojo vardas pavardė","val.",null,{"$f":"IFERROR(ROUND(AVERAGE(K108:K112),2),\"0\")","v":"0"},{"$f":"ROUND(E108*F108,2)","v":0},{"$f":"ROUND(G108*$D$7,2)","v":0}]
[null,null,"Darbuotojo vardas pavardė"]
[null,null,"Darbuotojo vardas pavardė"]
[null,null,"Darbuotojo vardas pavardė"]
[null,null,"Darbuotojo vardas pavardė"]
["5.5.3","Pareigybės pavadinimas","Darbuotojo vardas pavardė","val.",null,{"$f":"IFERROR(ROUND(AVERAGE(K113:K117),2),\"0\")","v":"0"},{"$f":"ROUND(E113*F113,2)","v":0},{"$f":"ROUND(G113*$D$7,2)","v":0}]
[null,null,"Darbuotojo vardas pavardė"]
[null,null,"Darbuotojo vardas pavardė"]
[null,null,"Darbuotojo vardas pavardė"]
[null,null,"Darbuotojo vardas pavardė"]
["5.5.4","Pareigybės pavadinimas","Darbuotojo vardas pavardė","val.",null,{"$f":"IFERROR(ROUND(AVERAGE(K118:K122),2),\"0\")","v":"0"},{"$f":"ROUND(E118*F118,2)","v":0},{"$f":"ROUND(G118*$D$7,2)","v":0}]
[null,null,"Darbuotojo vardas pavardė"]
[null,null,"Darbuotojo vardas pavardė"]
[null,null,"Darbuotojo vardas pavardė"]
[null,null,"Darbuotojo vardas pavardė"]
["5.5.5","Pareigybės pavadinimas","Darbuotojo vardas pavardė","val.",null,{"$f":"IFERROR(ROUND(AVERAGE(K123:K127),2),\"0\")","v":"0"},{"$f":"ROUND(E123*F123,2)","v":0},{"$f":"ROUND(G123*$D$7,2)","v":0}]
[null,null,"Darbuotojo vardas pavardė"]
[null,null,"Darbuotojo vardas pavardė"]
[null,null,"Darbuotojo vardas pavardė"]
[null,null,"Darbuotojo vardas pavardė"]
["5.5.6","Pareigybės pavadinimas","Darbuotojo vardas pavardė","val.",null,{"$f":"IFERROR(ROUND(AVERAGE(K128:K132),2),\"0\")","v":"0"},{"$f":"ROUND(E128*F128,2)","v":0},{"$f":"ROUND(G128*$D$7,2)","v":0}]
[null,null,"Darbuotojo vardas pavardė"]
[null,null,"Darbuotojo vardas pavardė"]
[null,null,"Darbuotojo vardas pavardė"]
[null,null,"Darbuotojo vardas pavardė"]
["5.5.7","Pareigybės pavadinimas","Darbuotojo vardas pavardė","val.",null,{"$f":"IFERROR(ROUND(AVERAGE(K133:K137),2),\"0\")","v":"0"},{"$f":"ROUND(E133*F133,2)","v":0},{"$f":"ROUND(G133*$D$7,2)","v":0}]
[null,null,"Darbuotojo vardas pavardė"]
[null,null,"Darbuotojo vardas pavardė"]
[null,null,"Darbuotojo vardas pavardė"]
[null,null,"Darbuotojo vardas pavardė"]
["5.5.8","Pareigybės pavadinimas","Darbuotojo vardas pavardė","val.",null,{"$f":"IFERROR(ROUND(AVERAGE(K138:K142),2),\"0\")","v":"0"},{"$f":"ROUND(E138*F138,2)","v":0},{"$f":"ROUND(G138*$D$7,2)","v":0}]
[null,null,"Darbuotojo vardas pavardė"]
[null,null,"Darbuotojo vardas pavardė"]
[null,null,"Darbuotojo vardas pavardė"]
[null,null,"Darbuotojo vardas pavardė"]
["5.5.9","Pareigybės pavadinimas","Darbuotojo vardas pavardė","val.",null,{"$f":"IFERROR(ROUND(AVERAGE(K143:K147),2),\"0\")","v":"0"},{"$f":"ROUND(E143*F143,2)","v":0},{"$f":"ROUND(G143*$D$7,2)","v":0}]
[null,null,"Darbuotojo vardas pavardė"]
[null,null,"Darbuotojo vardas pavardė"]
[null,null,"Darbuotojo vardas pavardė"]
[null,null,"Darbuotojo vardas pavardė"]
["5.5.10","Pareigybės pavadinimas","Darbuotojo vardas pavardė","val.",null,{"$f":"IFERROR(ROUND(AVERAGE(K148:K152),2),\"0\")","v":"0"},{"$f":"ROUND(E148*F148,2)","v":0},{"$f":"ROUND(G148*$D$7,2)","v":0}]
[null,null,"Darbuotojo vardas pavardė"]
[null,null,"Darbuotojo vardas pavardė"]
[null,null,"Darbuotojo vardas pavardė"]
[null,null,"Darbuotojo vardas pavardė"]
["5.6","Projektą vykdančio personalo komandiruočių išlaidos",null,null,null,null,{"$f":"SUM(G154,G161,G168,G175,G182,G189,G196,G203,G210,G217)","v":0},{"$f":"SUM(H154,H161,H168,H175,H182,H189,H196,H203,H210,H217)","v":0}]
["5.6.1","Komandiruotės pavadinimas, vieta, trukmė dienomis, vykstančių asmenų skaičius","Iš viso komandiruotei",null,null,null,{"$f":"SUM(G155:G160)","v":0},{"$f":"ROUND(G154*$D$7,2)","v":0}]
[null,null,"Dienpinigiai",null,null,null,{"$f":"ROUND(E155*F155,2)","v":0}]
[null,null,"Gyvenamojo ploto nuoma",null,null,null,0]
[null,null,"Kelionės išlaidos",null,null,null,0]
[null,null,"Dalyvavimo mokestis",null,null,null,0]
[null,null,"Kitos išlaidų pavadinimas",null,null,null,0]
[null,null,"Kitos išlaidų pavadinimas",null,null,null,0]
["5.6.2","Komandiruotės pavadinimas, vieta, trukmė dienomis, vykstančių asmenų skaičius","Iš viso komandiruotei",null,null,null,{"$f":"SUM(G162:G167)","v":0},{"$f":"ROUND(G161*$D$7,2)","v":0}]
[null,null,"Dienpinigiai",null,null,null,{"$f":"ROUND(E162*F162,2)","v":0}]
[null,null,"Gyvenamojo ploto nuoma",null,null,null,0]
[null,null,"Kelionės išlaidos",null,null,null,0]
[null,null,"Dalyvavimo mokestis",null,null,null,0]
[null,null,"Kitos išlaidų pavadinimas",null,null,null,0]
[null,null,"Kitos išlaidų pavadinimas",null,null,null,0]
["5.6.3","Komandiruotės pavadinimas, vieta, trukmė dienomis, vykstančių asmenų skaičius","Iš viso komandiruotei",null,null,null,{"$f":"SUM(G169:G174)","v":0},{"$f":"ROUND(G168*$D$7,2)","v":0}]
[null,null,"Dienpinigiai",null,null,null,{"$f":"ROUND(E169*F169,2)","v":0}]
[null,null,"Gyvenamojo ploto nuoma",null,null,null,0]
[null,null,"Kelionės išlaidos",null,null,null,0]
[null,null,"Dalyvavimo mokestis",null,null,null,0]
[null,null,"Kitos išlaidų pavadinimas",null,null,null,0]
[null,null,"Kitos išlaidų pavadinimas",null,null,null,0]
["5.6.4","Komandiruotės pavadinimas, vieta, trukmė dienomis, vykstančių asmenų skaičius","Iš viso komandiruotei",null,null,null,{"$f":"SUM(G176:G181)","v":0},{"$f":"ROUND(G175*$D$7,2)","v":0}]
[null,null,"Dienpinigiai",null,null,null,{"$f":"ROUND(E176*F176,2)","v":0}]
[null,null,"Gyvenamojo ploto nuoma",null,null,null,0]
[null,null,"Kelionės išlaidos",null,null,null,0]
[null,null,"Dalyvavimo mokestis",null,null,null,0]
[null,null,"Kitos išlaidų pavadinimas",null,null,null,0]
[null,null,"Kitos išlaidų pavadinimas",null,null,null,0]
["5.6.5","Komandiruotės pavadinimas, vieta, trukmė dienomis, vykstančių asmenų skaičius","Iš viso komandiruotei",null,null,null,{"$f":"SUM(G183:G188)","v":0},{"$f":"ROUND(G182*$D$7,2)","v":0}]
[null,null,"Dienpinigiai",null,null,null,{"$f":"ROUND(E183*F183,2)","v":0}]
[null,null,"Gyvenamojo ploto nuoma",null,null,null,0]
[null,null,"Kelionės išlaidos",null,null,null,0]
[null,null,"Dalyvavimo mokestis",null,null,null,0]
[null,null,"Kitos išlaidų pavadinimas",null,null,null,0]
[null,null,"Kitos išlaidų pavadinimas",null,null,null,0]
["5.6.6","Komandiruotės pavadinimas, vieta, trukmė dienomis, vykstančių asmenų skaičius","Iš viso komandiruotei",null,null,null,{"$f":"SUM(G190:G195)","v":0},{"$f":"ROUND(G189*$D$7,2)","v":0}]
[null,null,"Dienpinigiai",null,null,null,{"$f":"ROUND(E190*F190,2)","v":0}]
[null,null,"Gyvenamojo ploto nuoma",null,null,null,0]
[null,null,"Kelionės išlaidos",null,null,null,0]
[null,null,"Dalyvavimo mokestis",null,null,null,0]
[null,null,"Kitos išlaidų pavadinimas",null,null,null,0]
[null,null,"Kitos išlaidų pavadinimas",null,null,null,0]
["5.6.7","Komandiruotės pavadinimas, vieta, trukmė dienomis, vykstančių asmenų skaičius","Iš viso komandiruotei",null,null,null,{"$f":"SUM(G197:G202)","v":0},{"$f":"ROUND(G196*$D$7,2)","v":0}]
[null,null,"Dienpinigiai",null,null,null,{"$f":"ROUND(E197*F197,2)","v":0}]
[null,null,"Gyvenamojo ploto nuoma",null,null,null,0]
[null,null,"Kelionės išlaidos",null,null,null,0]
[null,null,"Dalyvavimo mokestis",null,null,null,0]
[null,null,"Kitos išlaidų pavadinimas",null,null,null,0]
[null,null,"Kitos išlaidų pavadinimas",null,null,null,0]
["5.6.8","Komandiruotės pavadinimas, vieta, trukmė dienomis, vykstančių asmenų skaičius","Iš viso komandiruotei",null,null,null,{"$f":"SUM(G204:G209)","v":0},{"$f":"ROUND(G203*$D$7,2)","v":0}]
[null,null,"Dienpinigiai",null,null,null,{"$f":"ROUND(E204*F204,2)","v":0}]
[null,null,"Gyvenamojo ploto nuoma",null,null,null,0]
[null,null,"Kelionės išlaidos",null,null,null,0]
[null,null,"Dalyvavimo mokestis",null,null,null,0]
[null,null,"Kitos išlaidų pavadinimas",null,null,null,0]
[null,null,"Kitos išlaidų pavadinimas",null,null,null,0]
["5.6.9","Komandiruotės pavadinimas, vieta, trukmė dienomis, vykstančių asmenų skaičius","Iš viso komandiruotei",null,null,null,{"$f":"SUM(G211:G216)","v":0},{"$f":"ROUND(G210*$D$7,2)","v":0}]
[null,null,"Dienpinigiai",null,null,null,{"$f":"ROUND(E211*F211,2)","v":0}]
[null,null,"Gyvenamojo ploto nuoma",null,null,null,0]
[null,null,"Kelionės išlaidos",null,null,null,0]
[null,null,"Dalyvavimo mokestis",null,null,null,0]
[null,null,"Kitos išlaidų pavadinimas",null,null,null,0]
[null,null,"Kitos išlaidų pavadinimas",null,null,null,0]
["5.6.10","Komandiruotės pavadinimas, vieta, trukmė dienomis, vykstančių asmenų skaičius","Iš viso komandiruotei",null,null,null,{"$f":"SUM(G218:G223)","v":0},{"$f":"ROUND(G217*$D$7,2)","v":0}]
[null,null,"Dienpinigiai",null,null,null,{"$f":"ROUND(E218*F218,2)","v":0}]
[null,null,"Gyvenamojo ploto nuoma",null,null,null,0]
[null,null,"Kelionės išlaidos",null,null,null,0]
[null,null,"Dalyvavimo mokestis",null,null,null,0]
[null,null,"Kitos išlaidų pavadinimas",null,null,null,0]
[null,null,"Kitos išlaidų pavadinimas",null,null,null,0]
["5.7","Įrangos nuomos išlaidos, veiklai priskirtos pro rata principu. Įranga turi būti tiesiogiai susijusi su projekto įgyvendinimu ir negali būti įsigyta iš ES struktūrinių fondų ar kt. ES finansinių priemonių lėšų",null,null,null,null,{"$f":"SUM(G225:G241)","v":0},{"$f":"SUM(H225:H241)","v":0},null,null,"Faktinės 1 mėnesio išlaidos, Eur","Naudojimo projekte trukmė, mėn."]
["5.7.1","Įrangos pavadinimas",null,"pro rata proc.",null,{"$f":"K225*L225","v":0},{"$f":"ROUND(E225*F225,2)","v":0},{"$f":"ROUND(G225*$D$7,2)","v":0}]
["5.7.2","Įrangos pavadinimas",null,"pro rata proc.",null,{"$f":"K226*L226","v":0},0,{"$f":"ROUND(G226*$D$7,2)","v":0}]
["5.7.3","Įrangos pavadinimas",null,"pro rata proc.",null,0,0,0]
["5.7.4","Įrangos pavadinimas",null,"pro rata proc.",null,0,0,0]
["5.7.5","Įrangos pavadinimas",null,"pro rata proc.",null,0,0,0]
["5.7.6","Įrangos pavadinimas",null,"pro rata proc.",null,0,0,0]
["5.7.7","Įrangos pavadinimas",null,"pro rata proc.",null,0,0,0]
["5.7.8","Įrangos pavadinimas",null,"pro rata proc.",null,0,0,0]
["5.7.9","Įrangos pavadinimas",null,"pro rata proc.",null,0,0,0]
["5.7.10","Įrangos pavadinimas",null,"pro rata proc.",null,0,0,0]
["5.7.11","Įrangos pavadinimas",null,"pro rata proc.",null,0,0,0]
["5.7.12","Įrangos pavadinimas",null,"pro rata proc.",null,0,0,0]
["5.7.13","Įrangos pavadinimas",null,"pro rata proc.",null,0,0,0]
["5.7.14","Įrangos pavadinimas",null,"pro rata proc.",null,{"$f":"K238*L238","v":0},0,{"$f":"ROUND(G238*$D$7,2)","v":0}]
["5.7.15","Įrangos pavadinimas",null,"pro rata proc.",null,{"$f":"K239*L239","v":0},0,{"$f":"ROUND(G239*$D$7,2)","v":0}]
["5.7.16","Įrangos pavadinimas",null,"pro rata proc.",null,{"$f":"K240*L240","v":0},0,{"$f":"ROUND(G240*$D$7,2)","v":0}]
["5.7.17","Įrangos pavadinimas",null,"pro rata proc.",null,{"$f":"K241*L241","v":0},0,{"$f":"ROUND(G241*$D$7,2)","v":0}]
["5.8","Pastatų ar patalpų nuomos išlaidos, veiklai priskirtos pro rata principu. Pastatai ar patalpos turi būti tiesiogiai susijusi su projekto įgyvendinimu.",null,null,null,null,{"$f":"SUM(G243:G247)","v":0},{"$f":"SUM(H243:H247)","v":0},null,null,"Faktinės 1 mėnesio išlaidos, Eur","Naudojimo projekte trukmė, mėn."]
["5.8.1","Pastato, patalpų adresas",null,"pro rata proc.",null,{"$f":"K243*L243","v":0},{"$f":"ROUND(E243*F243,2)","v":0},{"$f":"ROUND(G243*$D$7,2)","v":0}]
["5.8.2","Pastato, patalpų adresas",null,"pro rata proc.",null,{"$f":"K244*L244","v":0},{"$f":"ROUND(E244*F244,2)","v":0},{"$f":"ROUND(G244*$D$7,2)","v":0}]
["5.8.3","Pastato, patalpų adresas",null,"pro rata proc.",null,{"$f":"K245*L245","v":0},{"$f":"ROUND(E245*F245,2)","v":0},{"$f":"ROUND(G245*$D$7,2)","v":0}]
["5.8.4","Pastato, patalpų adresas",null,"pro rata proc.",null,{"$f":"K246*L246","v":0},{"$f":"ROUND(E246*F246,2)","v":0},{"$f":"ROUND(G246*$D$7,2)","v":0}]
["5.8.5","Pastato, patalpų adresas",null,"pro rata proc.",null,{"$f":"K247*L247","v":0},{"$f":"ROUND(E247*F247,2)","v":0},{"$f":"ROUND(G247*$D$7,2)","v":0}]
["Iš viso tinkamų finansuoti išlaidų:",null,null,null,null,null,{"$f":"G10+G21","v":0},{"$f":"H10+H21","v":0}]

{"sheet":"19","index":13,"n_rows":248,"n_cols":19,"rows_kept":248,"cut":false,"hidden":true,"merged":[[5,3,5,8],[8,1,8,2],[9,1,9,5],[10,1,10,2],[11,1,11,2],[12,1,12,2],[0,3,0,8],[2,0,2,2],[2,3,2,8],[3,3,3,4],[3,5,3,6],[4,0,4,2],[4,3,4,8],[19,1,19,2],[20,1,20,5],[21,1,21,5],[22,1,22,2],[23,1,23,2],[24,1,24,2],[13,1,13,2],[14,1,14,2],[15,1,15,2],[16,1,16,2],[17,1,17,2],[18,1,18,2],[31,1,31,2],[32,1,32,5],[33,1,33,2],[34,1,34,2],[35,1,35,2],[36,1,36,2],[25,1,25,2],[26,1,26,2],[27,1,27,2],[28,1,28,2],[29,1,29,2],[30,1,30,2],[43,1,43,5],[44,1,44,2],[45,1,45,2],[46,1,46,2],[47,1,47,2],[48,1,48,2],[37,1,37,2],[38,1,38,2],[39,1,39,2],[40,1,40,2],[41,1,41,2],[42,1,42,2],[55,1,55,2],[56,1,56,2],[57,1,57,2],[58,1,58,2],[59,1,59,2],[60,1,60,2],[49,1,49,2],[50,1,50,2],[51,1,51,2],[52,1,52,2],[53,1,53,2],[54,1,54,2],[67,1,67,2],[68,1,68,2],[69,1,69,2],[70,1,70,2],[71,1,71,5],[72,1,72,2],[61,1,61,2],[62,1,62,2],[63,1,63,2],[64,1,64,2],[65,1,65,2],[66,1,66,2],[79,1,79,2],[80,1,80,2],[81,1,81,2],[82,1,82,2],[83,1,83,2],[84,1,84,2],[73,1,73,2],[74,1,74,2],[75,1,75,2],[76,1,76,2],[77,1,77,2],[78,1,78,2],[91,1,91,2],[92,1,92,2],[93,1,93,2],[94,1,94,2],[95,1,95,2],[96,1,96,2],[85,1,85,2],[86,1,86,2],[87,1,87,2],[88,1,88,2],[89,1,89,2],[90,1,90,2],[97,1,97,2],[98,1,98,2],[99,1,99,2],[100,1,100,2],[101,1,101,5],[102,0,106,0],[102,1,106,1],[102,3,106,3],[102,4,106,4],[102,5,106,5],[102,6,106,6],[102,7,106,7],[102,8,106,8],[107,0,111,0],[107,1,111,1],[107,3,111,3],[107,4,111,4],[107,5,111,5],[107,6,111,6],[107,7,111,7],[107,8,111,8],[112,0,116,0],[112,1,116,1],[112,3,116,3],[112,4,116,4],[112,5,116,5],[112,6,116,6],[112,7,116,7],[112,8,116,8],[117,7,121,7],[117,8,121,8],[122,0,126,0],[122,1,126,1],[122,3,126,3],[122,4,126,4],[122,5,126,5],[122,6,126,6],[122,7,126,7],[122,8,126,8],[117,0,121,0],[117,1,121,1],[117,3,121,3],[117,4,121,4],[117,5,121,5],[117,6,121,6],[127,7,131,7],[127,8,131,8],[132,0,136,0],[132,1,136,1],[132,3,136,3],[132,4,136,4],[132,5,136,5],[132,6,136,6],[132,7,136,7],[132,8,136,8],[127,0,131,0],[127,1,131,1],[127,3,131,3],[127,4,131,4],[127,5,131,5],[127,6,131,6],[137,7,141,7],[137,8,141,8],[142,0,146,0],[142,1,146,1],[142,3,146,3],[142,4,146,4],[142,5,146,5],[142,6,146,6],[142,7,146,7],[142,8,146,8],[137,0,141,0],[137,1,141,1],[137,3,141,3],[137,4,141,4],[137,5,141,5],[137,6,141,6],[160,0,166,0],[160,1,166,1],[160,8,166,8],[167,0,173,0],[167,1,173,1],[167,8,173,8],[147,7,151,7],[147,8,151,8],[152,1,152,5],[153,0,159,0],[153,1,159,1],[153,8,159,8],[147,0,151,0],[147,1,151,1],[147,3,151,3],[147,4,151,4],[147,5,151,5],[147,6,151,6],[188,0,194,0],[188,1,194,1],[188,8,194,8],[195,0,201,0],[195,1,201,1],[195,8,201,8],[174,0,180,0],[174,1,180,1],[174,8,180,8],[181,0,187,0],[181,1,187,1],[181,8,187,8],[216,0,222,0],[216,1,222,1],[216,8,222,8],[223,1,223,5],[224,1,224,2],[225,1,225,2],[202,0,208,0],[202,1,208,1],[202,8,208,8],[209,0,215,0],[209,1,215,1],[209,8,215,8],[232,1,232,2],[233,1,233,2],[234,1,234,2],[235,1,235,2],[236,1,236,2],[237,1,237,2],[226,1,226,2],[227,1,227,2],[228,1,228,2],[229,1,229,2],[230,1,230,2],[231,1,231,2],[244,1,244,2],[245,1,245,2],[246,1,246,2],[247,0,247,5],[238,1,238,2],[239,1,239,2],[240,1,240,2],[241,1,241,5],[242,1,242,2],[243,1,243,2]]}
[null,null,"Pasirinkite veiklos tipą:"]
[null,null,"Fizinio rodiklio Nr.:"]
["Fizinio rodiklio pavadinimas:"]
[null,null,"Fizinio rodiklio matavimo vnt.:",null,null,"Fizinio rodiklio vnt. skaičius:"]
["Juridinis asmuo (pareiškėjas, partneris), atsakingas už fizinį rodiklį:"]
[null,null,"Vykdytojo tipas:"]
[null,null,"Finansavimo intensyvumas:",null,null,null,"Pasirinkite biudžeto išlaidų kategoriją:","Visos"]
[]
["Eil. Nr.","Išlaidų kategorijos pavadinimas",null,"Matavimo vnt.","Kiekis","Vieneto kaina be PVM, Eur","Tinkamų finansuoti išlaidų suma be PVM, Eur","Finansavimo suma, Eur","Išlaidų pagrindimo dokumentų pavadinimas, data ir Nr."]
[4,"ĮRANGA, ĮRENGINIAI IR KT. TURTAS (techninių žinių ir išradimų patentų arba teisių pagal licencijų sutartį įsigijimo išlaidos)",null,null,null,null,{"$f":"SUM(G11:G20)","v":0},{"$f":"SUM(H11:H20)","v":0}]
["4.1","Išlaidų pavadinimas",null,null,null,null,{"$f":"ROUND(E11*F11,2)","v":0},{"$f":"ROUND(G11*$D$7,2)","v":0}]
["4.2","Išlaidų pavadinimas",null,null,null,null,0,0]
["4.3","Išlaidų pavadinimas",null,null,null,null,0,0]
["4.4","Išlaidų pavadinimas",null,null,null,null,0,0]
["4.5","Išlaidų pavadinimas",null,null,null,null,0,0]
["4.6","Išlaidų pavadinimas",null,null,null,null,0,0]
["4.7","Išlaidų pavadinimas",null,null,null,null,0,0]
["4.8","Išlaidų pavadinimas",null,null,null,null,0,0]
["4.9","Išlaidų pavadinimas",null,null,null,null,0,0]
["4.10","Išlaidų pavadinimas",null,null,null,null,0,0]
[5,"PROJEKTO VYKDYMAS",null,null,null,null,{"$f":"G22+G33+G44+G72+G102+G153+G224+G242","v":0},{"$f":"H22+H33+H44+H72+H102+H153+H224+H242","v":0}]
["5.1","MTEP paslaugos",null,null,null,null,{"$f":"SUM(G23:G32)","v":0},{"$f":"SUM(H23:H32)","v":0}]
["5.1.1","Paslaugos pavadinimas",null,null,null,null,{"$f":"ROUND(E23*F23,2)","v":0},0]
["5.1.2","Paslaugos pavadinimas",null,null,null,null,0,0]
["5.1.3","Paslaugos pavadinimas",null,null,null,null,0,0]
["5.1.4","Paslaugos pavadinimas",null,null,null,null,0,0]
["5.1.5","Paslaugos pavadinimas",null,null,null,null,0,0]
["5.1.6","Paslaugos pavadinimas",null,null,null,null,0,0]
["5.1.7","Paslaugos pavadinimas",null,null,null,null,0,0]
["5.1.8","Paslaugos pavadinimas",null,null,null,null,0,0]
["5.1.9","Paslaugos pavadinimas",null,null,null,null,0,0]
["5.1.10","Paslaugos pavadinimas",null,null,null,null,0,0]
["5.2","Konsultavimo ir lygiavertės paslaugos, teikiamos vien tik projekto MTEP veiklai.",null,null,null,null,{"$f":"SUM(G34:G43)","v":0},{"$f":"SUM(H34:H43)","v":0}]
["5.2.1","Paslaugos pavadinimas",null,null,null,null,{"$f":"ROUND(E34*F34,2)","v":0},0]
["5.2.2","Paslaugos pavadinimas",null,null,null,null,0,0]
["5.2.3","Paslaugos pavadinimas",null,null,null,null,0,0]
["5.2.4","Paslaugos pavadinimas",null,null,null,null,0,0]
["5.2.5","Paslaugos pavadinimas",null,null,null,null,0,0]
["5.2.6","Paslaugos pavadinimas",null,null,null,null,0,0]
["5.2.7","Paslaugos pavadinimas",null,null,null,null,0,0]
["5.2.8","Paslaugos pavadinimas",null,null,null,null,0,0]
["5.2.9","Paslaugos pavadinimas",null,null,null,null,0,0]
["5.2.10","Paslaugos pavadinimas",null,null,null,null,0,0]
["5.3","Medžiagos, mažavertis inventorius, atsargos ir pan. produktai, priskirtini trumpalaikiam turtui ir tiesiogiai susiję su MTEP veikla",null,null,null,null,{"$f":"SUM(G45:G71)","v":0},{"$f":"SUM(H45:H71)","v":0}]
["5.3.1","Išlaidų pavadinimas",null,null,null,null,{"$f":"ROUND(E45*F45,2)","v":0},{"$f":"ROUND(G45*$D$7,2)","v":0}]
["5.3.2","Išlaidų pavadinimas",null,null,null,null,{"$f":"ROUND(E46*F46,2)","v":0},{"$f":"ROUND(G46*$D$7,2)","v":0}]
["5.3.3","Išlaidų pavadinimas",null,null,null,null,{"$f":"ROUND(E47*F47,2)","v":0},{"$f":"ROUND(G47*$D$7,2)","v":0}]
["5.3.4","Išlaidų pavadinimas",null,null,null,null,{"$f":"ROUND(E48*F48,2)","v":0},{"$f":"ROUND(G48*$D$7,2)","v":0}]
["5.3.5","Išlaidų pavadinimas",null,null,null,null,{"$f":"ROUND(E49*F49,2)","v":0},{"$f":"ROUND(G49*$D$7,2)","v":0}]
["5.3.6","Išlaidų pavadinimas",null,null,null,null,0,0]
["5.3.7","Išlaidų pavadinimas",null,null,null,null,0,0]
["5.3.8","Išlaidų pavadinimas",null,null,null,null,0,0]
["5.3.9","Išlaidų pavadinimas",null,null,null,null,0,0]
["5.3.10","Išlaidų pavadinimas",null,null,null,null,0,0]
["5.3.11","Išlaidų pavadinimas",null,null,null,null,0,0]
["5.3.12","Išlaidų pavadinimas",null,null,null,null,0,0]
["5.3.13","Išlaidų pavadinimas",null,null,null,null,0,0]
["5.3.14","Išlaidų pavadinimas",null,null,null,null,0,0]
["5.3.15","Išlaidų pavadinimas",null,null,null,null,0,0]
["5.3.16","Išlaidų pavadinimas",null,null,null,null,0,0]
["5.3.17","Išlaidų pavadinimas",null,null,null,null,0,0]
["5.3.18","Išlaidų pavadinimas",null,null,null,null,0,0]
["5.3.19","Išlaidų pavadinimas",null,null,null,null,0,0]
["5.3.20","Išlaidų pavadinimas",null,null,null,null,0,0]
["5.3.21","Išlaidų pavadinimas",null,null,null,null,0,0]
["5.3.22","Išlaidų pavadinimas",null,null,null,null,0,0]
["5.3.23","Išlaidų pavadinimas",null,null,null,null,0,0]
["5.3.24","Išlaidų pavadinimas",null,null,null,null,0,0]
["5.3.25","Išlaidų pavadinimas",null,null,null,null,0,0]
["5.3.26","Išlaidų pavadinimas",null,null,null,null,0,0]
["5.3.27","Išlaidų pavadinimas",null,null,null,null,0,0]
["5.4","Projekto MTEP veikloms naudojamo ilgalaikio materialaus turto (įrangos, prietaisų, įrankių, įrenginių, mašinų ir įrengimų, pastatų ir (ar) patalpų), nusidėvėjimo sąnaudos, jeigu šiam turtui įsigyti nebuvo naudojamos viešosios (įskaitant ir kitų valstybių) lėšos",null,null,null,null,{"$f":"SUM(G73:G101)","v":0},{"$f":"SUM(H73:H101)","v":0},null,null,"Turto įvedimo į eksploataciją data","Turto įsigijimo vertė, Eur","Turto nudėvėjimo, amortizacijos laikotarpis, mėn.","Numatoma turto likutinė vertė, Eur","1 mėn. nudėvėjimo, amortizacijos suma, Eur","Turto naudojamo projekto reikmėms laikas, mėn.","Turto panaudojimo projekto reikmėms dalis (proc.)","Projektui priskirta turto nusidėvėjimo, amortizacijos suma per projekto laikotarpį, Eur"]
["5.4.1","Turtas, kurio nusidėvėjimą, amortizaciją prašoma finansuoti",null,null,1,{"$f":"R73","v":0},{"$f":"ROUND(E73*F73,2)","v":0},0,null,null,null,null,null,null,{"$f":"IFERROR(ROUND((L73-N73)/M73,2),\"0\")","v":"0"},null,null,{"$f":"O73*P73*Q73","v":0},{"$f":"IF(K73=0,\" \",IF(K73+(M73*30.5)<TODAY(),\"DĖMESIO! Patikrinkite, ar nurodytas turtas dar nėra nudėvėtas, amortizuotas\",\" \"))","v":" "}]
["5.4.2","Turtas, kurio nusidėvėjimą, amortizaciją prašoma finansuoti",null,null,1,0,0,0,null,null,null,null,null,null,{"$f":"IFERROR(ROUND((L74-N74)/M74,2),\"0\")","v":"0"},null,null,{"$f":"O74*P74*Q74","v":0},{"$f":"IF(K74=0,\" \",IF(K74+(M74*30.5)<TODAY(),\"DĖMESIO! Patikrinkite, ar nurodytas turtas dar nėra nudėvėtas, amortizuotas\",\" \"))","v":" "}]
["5.4.3","Turtas, kurio nusidėvėjimą, amortizaciją prašoma finansuoti",null,null,1,0,0,0,null,null,null,null,null,null,"0",null,null,0," "]
["5.4.4","Turtas, kurio nusidėvėjimą, amortizaciją prašoma finansuoti",null,null,1,0,0,0,null,null,null,null,null,null,"0",null,null,0," "]
["5.4.5","Turtas, kurio nusidėvėjimą, amortizaciją prašoma finansuoti",null,null,1,0,0,0,null,null,null,null,null,null,"0",null,null,0," "]
["5.4.6","Turtas, kurio nusidėvėjimą, amortizaciją prašoma finansuoti",null,null,1,0,0,0,null,null,null,null,null,null,"0",null,null,0," "]
["5.4.7","Turtas, kurio nusidėvėjimą, amortizaciją prašoma finansuoti",null,null,1,0,0,0,null,null,null,null,null,null,"0",null,null,0," "]
["5.4.8","Turtas, kurio nusidėvėjimą, amortizaciją prašoma finansuoti",null,null,1,0,0,0,null,null,null,null,null,null,"0",null,null,0," "]
["5.4.9","Turtas, kurio nusidėvėjimą, amortizaciją prašoma finansuoti",null,null,1,0,0,0,null,null,null,null,null,null,"0",null,null,0," "]
["5.4.10","Turtas, kurio nusidėvėjimą, amortizaciją prašoma finansuoti",null,null,1,0,0,0,null,null,null,null,null,null,"0",null,null,0," "]
["5.4.11","Turtas, kurio nusidėvėjimą, amortizaciją prašoma finansuoti",null,null,1,0,0,0,null,null,null,null,null,null,"0",null,null,0," "]
["5.4.12","Turtas, kurio nusidėvėjimą, amortizaciją prašoma finansuoti",null,null,1,0,0,0,null,null,null,null,null,null,"0",null,null,0," "]
["5.4.13","Turtas, kurio nusidėvėjimą, amortizaciją prašoma finansuoti",null,null,1,0,0,0,null,null,null,null,null,null,"0",null,null,0," "]
["5.4.14","Turtas, kurio nusidėvėjimą, amortizaciją prašoma finansuoti",null,null,1,0,0,0,null,null,null,null,null,null,"0",null,null,0," "]
["5.4.15","Turtas, kurio nusidėvėjimą, amortizaciją prašoma finansuoti",null,null,1,0,0,0,null,null,null,null,null,null,"0",null,null,0," "]
["5.4.16","Turtas, kurio nusidėvėjimą, amortizaciją prašoma finansuoti",null,null,1,0,0,0,null,null,null,null,null,null,"0",null,null,0," "]
["5.4.17","Turtas, kurio nusidėvėjimą, amortizaciją prašoma finansuoti",null,null,1,0,0,0,null,null,null,null,null,null,"0",null,null,0," "]
["5.4.18","Turtas, kurio nusidėvėjimą, amortizaciją prašoma finansuoti",null,null,1,0,0,0,null,null,null,null,null,null,"0",null,null,0," "]
["5.4.19","Turtas, kurio nusidėvėjimą, amortizaciją prašoma finansuoti",null,null,1,0,0,0,null,null,null,null,null,null,"0",null,null,0," "]
["5.4.20","Turtas, kurio nusidėvėjimą, amortizaciją prašoma finansuoti",null,null,1,0,0,0,null,null,null,null,null,null,"0",null,null,0," "]
["5.4.21","Turtas, kurio nusidėvėjimą, amortizaciją prašoma finansuoti",null,null,1,0,0,0,null,null,null,null,null,null,"0",null,null,0," "]
["5.4.22","Turtas, kurio nusidėvėjimą, amortizaciją prašoma finansuoti",null,null,1,0,0,0,null,null,null,null,null,null,"0",null,null,0," "]
["5.4.23","Turtas, kurio nusidėvėjimą, amortizaciją prašoma finansuoti",null,null,1,0,0,0,null,null,null,null,null,null,"0",null,null,0," "]
["5.4.24","Turtas, kurio nusidėvėjimą, amortizaciją prašoma finansuoti",null,null,1,0,0,0,null,null,null,null,null,null,"0",null,null,0," "]
["5.4.25","Turtas, kurio nusidėvėjimą, amortizaciją prašoma finansuoti",null,null,1,0,0,0,null,null,null,null,null,null,"0",null,null,0," "]
["5.4.26","Turtas, kurio nusidėvėjimą, amortizaciją prašoma finansuoti",null,null,1,0,0,0,null,null,null,null,null,null,"0",null,null,0," "]
["5.4.27","Turtas, kurio nusidėvėjimą, amortizaciją prašoma finansuoti",null,null,1,0,0,0,null,null,null,null,null,null,"0",null,null,0," "]
["5.4.28","Turtas, kurio nusidėvėjimą, amortizaciją prašoma finansuoti",null,null,1,0,0,0,null,null,null,null,null,null,"0",null,null,0," "]
["5.4.29","Turtas, kurio nusidėvėjimą, amortizaciją prašoma finansuoti",null,null,1,0,0,0,null,null,null,null,null,null,"0",null,null,0," "]
["5.5","Projektą vykdančio personalo darbo užmokestis ir išlaidos su darbo santykiais susijusiems darbdavio įsipareigojimams",null,null,null,null,{"$f":"SUM(G103:G152)","v":0},{"$f":"SUM(H103:H152)","v":0},null,null,"Faktiškai gaunamas darbo užmokesti už 1 valandą pagal  pastarųjų 6 mėn. vidurkį, Eur"]
["5.5.1","Pareigybės pavadinimas","Darbuotojo vardas pavardė","val.",null,{"$f":"IFERROR(ROUND(AVERAGE(K103:K107),2),\"0\")","v":"0"},{"$f":"ROUND(E103*F103,2)","v":0},{"$f":"ROUND(G103*$D$7,2)","v":0}]
[null,null,"Darbuotojo vardas pavardė"]
[null,null,"Darbuotojo vardas pavardė"]
[null,null,"Darbuotojo vardas pavardė"]
[null,null,"Darbuotojo vardas pavardė"]
["5.5.2","Pareigybės pavadinimas","Darbuotojo vardas pavardė","val.",null,{"$f":"IFERROR(ROUND(AVERAGE(K108:K112),2),\"0\")","v":"0"},{"$f":"ROUND(E108*F108,2)","v":0},{"$f":"ROUND(G108*$D$7,2)","v":0}]
[null,null,"Darbuotojo vardas pavardė"]
[null,null,"Darbuotojo vardas pavardė"]
[null,null,"Darbuotojo vardas pavardė"]
[null,null,"Darbuotojo vardas pavardė"]
["5.5.3","Pareigybės pavadinimas","Darbuotojo vardas pavardė","val.",null,{"$f":"IFERROR(ROUND(AVERAGE(K113:K117),2),\"0\")","v":"0"},{"$f":"ROUND(E113*F113,2)","v":0},{"$f":"ROUND(G113*$D$7,2)","v":0}]
[null,null,"Darbuotojo vardas pavardė"]
[null,null,"Darbuotojo vardas pavardė"]
[null,null,"Darbuotojo vardas pavardė"]
[null,null,"Darbuotojo vardas pavardė"]
["5.5.4","Pareigybės pavadinimas","Darbuotojo vardas pavardė","val.",null,{"$f":"IFERROR(ROUND(AVERAGE(K118:K122),2),\"0\")","v":"0"},{"$f":"ROUND(E118*F118,2)","v":0},{"$f":"ROUND(G118*$D$7,2)","v":0}]
[null,null,"Darbuotojo vardas pavardė"]
[null,null,"Darbuotojo vardas pavardė"]
[null,null,"Darbuotojo vardas pavardė"]
[null,null,"Darbuotojo vardas pavardė"]
["5.5.5","Pareigybės pavadinimas","Darbuotojo vardas pavardė","val.",null,{"$f":"IFERROR(ROUND(AVERAGE(K123:K127),2),\"0\")","v":"0"},{"$f":"ROUND(E123*F123,2)","v":0},{"$f":"ROUND(G123*$D$7,2)","v":0}]
[null,null,"Darbuotojo vardas pavardė"]
[null,null,"Darbuotojo vardas pavardė"]
[null,null,"Darbuotojo vardas pavardė"]
[null,null,"Darbuotojo vardas pavardė"]
["5.5.6","Pareigybės pavadinimas","Darbuotojo vardas pavardė","val.",null,{"$f":"IFERROR(ROUND(AVERAGE(K128:K132),2),\"0\")","v":"0"},{"$f":"ROUND(E128*F128,2)","v":0},{"$f":"ROUND(G128*$D$7,2)","v":0}]
[null,null,"Darbuotojo vardas pavardė"]
[null,null,"Darbuotojo vardas pavardė"]
[null,null,"Darbuotojo vardas pavardė"]
[null,null,"Darbuotojo vardas pavardė"]
["5.5.7","Pareigybės pavadinimas","Darbuotojo vardas pavardė","val.",null,{"$f":"IFERROR(ROUND(AVERAGE(K133:K137),2),\"0\")","v":"0"},{"$f":"ROUND(E133*F133,2)","v":0},{"$f":"ROUND(G133*$D$7,2)","v":0}]
[null,null,"Darbuotojo vardas pavardė"]
[null,null,"Darbuotojo vardas pavardė"]
[null,null,"Darbuotojo vardas pavardė"]
[null,null,"Darbuotojo vardas pavardė"]
["5.5.8","Pareigybės pavadinimas","Darbuotojo vardas pavardė","val.",null,{"$f":"IFERROR(ROUND(AVERAGE(K138:K142),2),\"0\")","v":"0"},{"$f":"ROUND(E138*F138,2)","v":0},{"$f":"ROUND(G138*$D$7,2)","v":0}]
[null,null,"Darbuotojo vardas pavardė"]
[null,null,"Darbuotojo vardas pavardė"]
[null,null,"Darbuotojo vardas pavardė"]
[null,null,"Darbuotojo vardas pavardė"]
["5.5.9","Pareigybės pavadinimas","Darbuotojo vardas pavardė","val.",null,{"$f":"IFERROR(ROUND(AVERAGE(K143:K147),2),\"0\")","v":"0"},{"$f":"ROUND(E143*F143,2)","v":0},{"$f":"ROUND(G143*$D$7,2)","v":0}]
[null,null,"Darbuotojo vardas pavardė"]
[null,null,"Darbuotojo vardas pavardė"]
[null,null,"Darbuotojo vardas pavardė"]
[null,null,"Darbuotojo vardas pavardė"]
["5.5.10","Pareigybės pavadinimas","Darbuotojo vardas pavardė","val.",null,{"$f":"IFERROR(ROUND(AVERAGE(K148:K152),2),\"0\")","v":"0"},{"$f":"ROUND(E148*F148,2)","v":0},{"$f":"ROUND(G148*$D$7,2)","v":0}]
[null,null,"Darbuotojo vardas pavardė"]
[null,null,"Darbuotojo vardas pavardė"]
[null,null,"Darbuotojo vardas pavardė"]
[null,null,"Darbuotojo vardas pavardė"]
["5.6","Projektą vykdančio personalo komandiruočių išlaidos",null,null,null,null,{"$f":"SUM(G154,G161,G168,G175,G182,G189,G196,G203,G210,G217)","v":0},{"$f":"SUM(H154,H161,H168,H175,H182,H189,H196,H203,H210,H217)","v":0}]
["5.6.1","Komandiruotės pavadinimas, vieta, trukmė dienomis, vykstančių asmenų skaičius","Iš viso komandiruotei",null,null,null,{"$f":"SUM(G155:G160)","v":0},{"$f":"ROUND(G154*$D$7,2)","v":0}]
[null,null,"Dienpinigiai",null,null,null,{"$f":"ROUND(E155*F155,2)","v":0}]
[null,null,"Gyvenamojo ploto nuoma",null,null,null,0]
[null,null,"Kelionės išlaidos",null,null,null,0]
[null,null,"Dalyvavimo mokestis",null,null,null,0]
[null,null,"Kitos išlaidų pavadinimas",null,null,null,0]
[null,null,"Kitos išlaidų pavadinimas",null,null,null,0]
["5.6.2","Komandiruotės pavadinimas, vieta, trukmė dienomis, vykstančių asmenų skaičius","Iš viso komandiruotei",null,null,null,{"$f":"SUM(G162:G167)","v":0},{"$f":"ROUND(G161*$D$7,2)","v":0}]
[null,null,"Dienpinigiai",null,null,null,{"$f":"ROUND(E162*F162,2)","v":0}]
[null,null,"Gyvenamojo ploto nuoma",null,null,null,0]
[null,null,"Kelionės išlaidos",null,null,null,0]
[null,null,"Dalyvavimo mokestis",null,null,null,0]
[null,null,"Kitos išlaidų pavadinimas",null,null,null,0]
[null,null,"Kitos išlaidų pavadinimas",null,null,null,0]
["5.6.3","Komandiruotės pavadinimas, vieta, trukmė dienomis, vykstančių asmenų skaičius","Iš viso komandiruotei",null,null,null,{"$f":"SUM(G169:G174)","v":0},{"$f":"ROUND(G168*$D$7,2)","v":0}]
[null,null,"Dienpinigiai",null,null,null,{"$f":"ROUND(E169*F169,2)","v":0}]
[null,null,"Gyvenamojo ploto nuoma",null,null,null,0]
[null,null,"Kelionės išlaidos",null,null,null,0]
[null,null,"Dalyvavimo mokestis",null,null,null,0]
[null,null,"Kitos išlaidų pavadinimas",null,null,null,0]
[null,null,"Kitos išlaidų pavadinimas",null,null,null,0]
["5.6.4","Komandiruotės pavadinimas, vieta, trukmė dienomis, vykstančių asmenų skaičius","Iš viso komandiruotei",null,null,null,{"$f":"SUM(G176:G181)","v":0},{"$f":"ROUND(G175*$D$7,2)","v":0}]
[null,null,"Dienpinigiai",null,null,null,{"$f":"ROUND(E176*F176,2)","v":0}]
[null,null,"Gyvenamojo ploto nuoma",null,null,null,0]
[null,null,"Kelionės išlaidos",null,null,null,0]
[null,null,"Dalyvavimo mokestis",null,null,null,0]
[null,null,"Kitos išlaidų pavadinimas",null,null,null,0]
[null,null,"Kitos išlaidų pavadinimas",null,null,null,0]
["5.6.5","Komandiruotės pavadinimas, vieta, trukmė dienomis, vykstančių asmenų skaičius","Iš viso komandiruotei",null,null,null,{"$f":"SUM(G183:G188)","v":0},{"$f":"ROUND(G182*$D$7,2)","v":0}]
[null,null,"Dienpinigiai",null,null,null,{"$f":"ROUND(E183*F183,2)","v":0}]
[null,null,"Gyvenamojo ploto nuoma",null,null,null,0]
[null,null,"Kelionės išlaidos",null,null,null,0]
[null,null,"Dalyvavimo mokestis",null,null,null,0]
[null,null,"Kitos išlaidų pavadinimas",null,null,null,0]
[null,null,"Kitos išlaidų pavadinimas",null,null,null,0]
["5.6.6","Komandiruotės pavadinimas, vieta, trukmė dienomis, vykstančių asmenų skaičius","Iš viso komandiruotei",null,null,null,{"$f":"SUM(G190:G195)","v":0},{"$f":"ROUND(G189*$D$7,2)","v":0}]
[null,null,"Dienpinigiai",null,null,null,{"$f":"ROUND(E190*F190,2)","v":0}]
[null,null,"Gyvenamojo ploto nuoma",null,null,null,0]
[null,null,"Kelionės išlaidos",null,null,null,0]
[null,null,"Dalyvavimo mokestis",null,null,null,0]
[null,null,"Kitos išlaidų pavadinimas",null,null,null,0]
[null,null,"Kitos išlaidų pavadinimas",null,null,null,0]
["5.6.7","Komandiruotės pavadinimas, vieta, trukmė dienomis, vykstančių asmenų skaičius","Iš viso komandiruotei",null,null,null,{"$f":"SUM(G197:G202)","v":0},{"$f":"ROUND(G196*$D$7,2)","v":0}]
[null,null,"Dienpinigiai",null,null,null,{"$f":"ROUND(E197*F197,2)","v":0}]
[null,null,"Gyvenamojo ploto nuoma",null,null,null,0]
[null,null,"Kelionės išlaidos",null,null,null,0]
[null,null,"Dalyvavimo mokestis",null,null,null,0]
[null,null,"Kitos išlaidų pavadinimas",null,null,null,0]
[null,null,"Kitos išlaidų pavadinimas",null,null,null,0]
["5.6.8","Komandiruotės pavadinimas, vieta, trukmė dienomis, vykstančių asmenų skaičius","Iš viso komandiruotei",null,null,null,{"$f":"SUM(G204:G209)","v":0},{"$f":"ROUND(G203*$D$7,2)","v":0}]
[null,null,"Dienpinigiai",null,null,null,{"$f":"ROUND(E204*F204,2)","v":0}]
[null,null,"Gyvenamojo ploto nuoma",null,null,null,0]
[null,null,"Kelionės išlaidos",null,null,null,0]
[null,null,"Dalyvavimo mokestis",null,null,null,0]
[null,null,"Kitos išlaidų pavadinimas",null,null,null,0]
[null,null,"Kitos išlaidų pavadinimas",null,null,null,0]
["5.6.9","Komandiruotės pavadinimas, vieta, trukmė dienomis, vykstančių asmenų skaičius","Iš viso komandiruotei",null,null,null,{"$f":"SUM(G211:G216)","v":0},{"$f":"ROUND(G210*$D$7,2)","v":0}]
[null,null,"Dienpinigiai",null,null,null,{"$f":"ROUND(E211*F211,2)","v":0}]
[null,null,"Gyvenamojo ploto nuoma",null,null,null,0]
[null,null,"Kelionės išlaidos",null,null,null,0]
[null,null,"Dalyvavimo mokestis",null,null,null,0]
[null,null,"Kitos išlaidų pavadinimas",null,null,null,0]
[null,null,"Kitos išlaidų pavadinimas",null,null,null,0]
["5.6.10","Komandiruotės pavadinimas, vieta, trukmė dienomis, vykstančių asmenų skaičius","Iš viso komandiruotei",null,null,null,{"$f":"SUM(G218:G223)","v":0},{"$f":"ROUND(G217*$D$7,2)","v":0}]
[null,null,"Dienpinigiai",null,null,null,{"$f":"ROUND(E218*F218,2)","v":0}]
[null,null,"Gyvenamojo ploto nuoma",null,null,null,0]
[null,null,"Kelionės išlaidos",null,null,null,0]
[null,null,"Dalyvavimo mokestis",null,null,null,0]
[null,null,"Kitos išlaidų pavadinimas",null,null,null,0]
[null,null,"Kitos išlaidų pavadinimas",null,null,null,0]
["5.7","Įrangos nuomos išlaidos, veiklai priskirtos pro rata principu. Įranga turi būti tiesiogiai susijusi su projekto įgyvendinimu ir negali būti įsigyta iš ES struktūrinių fondų ar kt. ES finansinių priemonių lėšų",null,null,null,null,{"$f":"SUM(G225:G241)","v":0},{"$f":"SUM(H225:H241)","v":0},null,null,"Faktinės 1 mėnesio išlaidos, Eur","Naudojimo projekte trukmė, mėn."]
["5.7.1","Įrangos pavadinimas",null,"pro rata proc.",null,{"$f":"K225*L225","v":0},{"$f":"ROUND(E225*F225,2)","v":0},{"$f":"ROUND(G225*$D$7,2)","v":0}]
["5.7.2","Įrangos pavadinimas",null,"pro rata proc.",null,{"$f":"K226*L226","v":0},0,{"$f":"ROUND(G226*$D$7,2)","v":0}]
["5.7.3","Įrangos pavadinimas",null,"pro rata proc.",null,0,0,0]
["5.7.4","Įrangos pavadinimas",null,"pro rata proc.",null,0,0,0]
["5.7.5","Įrangos pavadinimas",null,"pro rata proc.",null,0,0,0]
["5.7.6","Įrangos pavadinimas",null,"pro rata proc.",null,0,0,0]
["5.7.7","Įrangos pavadinimas",null,"pro rata proc.",null,0,0,0]
["5.7.8","Įrangos pavadinimas",null,"pro rata proc.",null,0,0,0]
["5.7.9","Įrangos pavadinimas",null,"pro rata proc.",null,0,0,0]
["5.7.10","Įrangos pavadinimas",null,"pro rata proc.",null,0,0,0]
["5.7.11","Įrangos pavadinimas",null,"pro rata proc.",null,0,0,0]
["5.7.12","Įrangos pavadinimas",null,"pro rata proc.",null,0,0,0]
["5.7.13","Įrangos pavadinimas",null,"pro rata proc.",null,0,0,0]
["5.7.14","Įrangos pavadinimas",null,"pro rata proc.",null,{"$f":"K238*L238","v":0},0,{"$f":"ROUND(G238*$D$7,2)","v":0}]
["5.7.15","Įrangos pavadinimas",null,"pro rata proc.",null,{"$f":"K239*L239","v":0},0,{"$f":"ROUND(G239*$D$7,2)","v":0}]
["5.7.16","Įrangos pavadinimas",null,"pro rata proc.",null,{"$f":"K240*L240","v":0},0,{"$f":"ROUND(G240*$D$7,2)","v":0}]
["5.7.17","Įrangos pavadinimas",null,"pro rata proc.",null,{"$f":"K241*L241","v":0},0,{"$f":"ROUND(G241*$D$7,2)","v":0}]
["5.8","Pastatų ar patalpų nuomos išlaidos, veiklai priskirtos pro rata principu. Pastatai ar patalpos turi būti tiesiogiai susijusi su projekto įgyvendinimu.",null,null,null,null,{"$f":"SUM(G243:G247)","v":0},{"$f":"SUM(H243:H247)","v":0},null,null,"Faktinės 1 mėnesio išlaidos, Eur","Naudojimo projekte trukmė, mėn."]
["5.8.1","Pastato, patalpų adresas",null,"pro rata proc.",null,{"$f":"K243*L243","v":0},{"$f":"ROUND(E243*F243,2)","v":0},{"$f":"ROUND(G243*$D$7,2)","v":0}]
["5.8.2","Pastato, patalpų adresas",null,"pro rata proc.",null,{"$f":"K244*L244","v":0},{"$f":"ROUND(E244*F244,2)","v":0},{"$f":"ROUND(G244*$D$7,2)","v":0}]
["5.8.3","Pastato, patalpų adresas",null,"pro rata proc.",null,{"$f":"K245*L245","v":0},{"$f":"ROUND(E245*F245,2)","v":0},{"$f":"ROUND(G245*$D$7,2)","v":0}]
["5.8.4","Pastato, patalpų adresas",null,"pro rata proc.",null,{"$f":"K246*L246","v":0},{"$f":"ROUND(E246*F246,2)","v":0},{"$f":"ROUND(G246*$D$7,2)","v":0}]
["5.8.5","Pastato, patalpų adresas",null,"pro rata proc.",null,{"$f":"K247*L247","v":0},{"$f":"ROUND(E247*F247,2)","v":0},{"$f":"ROUND(G247*$D$7,2)","v":0}]
["Iš viso tinkamų finansuoti išlaidų:",null,null,null,null,null,{"$f":"G10+G21","v":0},{"$f":"H10+H21","v":0}]

{"sheet":"20","index":14,"n_rows":248,"n_cols":19,"rows_kept":248,"cut":false,"hidden":true,"merged":[[5,3,5,8],[8,1,8,2],[9,1,9,5],[10,1,10,2],[11,1,11,2],[12,1,12,2],[0,3,0,8],[2,0,2,2],[2,3,2,8],[3,3,3,4],[3,5,3,6],[4,0,4,2],[4,3,4,8],[19,1,19,2],[20,1,20,5],[21,1,21,5],[22,1,22,2],[23,1,23,2],[24,1,24,2],[13,1,13,2],[14,1,14,2],[15,1,15,2],[16,1,16,2],[17,1,17,2],[18,1,18,2],[31,1,31,2],[32,1,32,5],[33,1,33,2],[34,1,34,2],[35,1,35,2],[36,1,36,2],[25,1,25,2],[26,1,26,2],[27,1,27,2],[28,1,28,2],[29,1,29,2],[30,1,30,2],[43,1,43,5],[44,1,44,2],[45,1,45,2],[46,1,46,2],[47,1,47,2],[48,1,48,2],[37,1,37,2],[38,1,38,2],[39,1,39,2],[40,1,40,2],[41,1,41,2],[42,1,42,2],[55,1,55,2],[56,1,56,2],[57,1,57,2],[58,1,58,2],[59,1,59,2],[60,1,60,2],[49,1,49,2],[50,1,50,2],[51,1,51,2],[52,1,52,2],[53,1,53,2],[54,1,54,2],[67,1,67,2],[68,1,68,2],[69,1,69,2],[70,1,70,2],[71,1,71,5],[72,1,72,2],[61,1,61,2],[62,1,62,2],[63,1,63,2],[64,1,64,2],[65,1,65,2],[66,1,66,2],[79,1,79,2],[80,1,80,2],[81,1,81,2],[82,1,82,2],[83,1,83,2],[84,1,84,2],[73,1,73,2],[74,1,74,2],[75,1,75,2],[76,1,76,2],[77,1,77,2],[78,1,78,2],[91,1,91,2],[92,1,92,2],[93,1,93,2],[94,1,94,2],[95,1,95,2],[96,1,96,2],[85,1,85,2],[86,1,86,2],[87,1,87,2],[88,1,88,2],[89,1,89,2],[90,1,90,2],[97,1,97,2],[98,1,98,2],[99,1,99,2],[100,1,100,2],[101,1,101,5],[102,0,106,0],[102,1,106,1],[102,3,106,3],[102,4,106,4],[102,5,106,5],[102,6,106,6],[102,7,106,7],[102,8,106,8],[107,0,111,0],[107,1,111,1],[107,3,111,3],[107,4,111,4],[107,5,111,5],[107,6,111,6],[107,7,111,7],[107,8,111,8],[112,0,116,0],[112,1,116,1],[112,3,116,3],[112,4,116,4],[112,5,116,5],[112,6,116,6],[112,7,116,7],[112,8,116,8],[117,7,121,7],[117,8,121,8],[122,0,126,0],[122,1,126,1],[122,3,126,3],[122,4,126,4],[122,5,126,5],[122,6,126,6],[122,7,126,7],[122,8,126,8],[117,0,121,0],[117,1,121,1],[117,3,121,3],[117,4,121,4],[117,5,121,5],[117,6,121,6],[127,7,131,7],[127,8,131,8],[132,0,136,0],[132,1,136,1],[132,3,136,3],[132,4,136,4],[132,5,136,5],[132,6,136,6],[132,7,136,7],[132,8,136,8],[127,0,131,0],[127,1,131,1],[127,3,131,3],[127,4,131,4],[127,5,131,5],[127,6,131,6],[137,7,141,7],[137,8,141,8],[142,0,146,0],[142,1,146,1],[142,3,146,3],[142,4,146,4],[142,5,146,5],[142,6,146,6],[142,7,146,7],[142,8,146,8],[137,0,141,0],[137,1,141,1],[137,3,141,3],[137,4,141,4],[137,5,141,5],[137,6,141,6],[160,0,166,0],[160,1,166,1],[160,8,166,8],[167,0,173,0],[167,1,173,1],[167,8,173,8],[147,7,151,7],[147,8,151,8],[152,1,152,5],[153,0,159,0],[153,1,159,1],[153,8,159,8],[147,0,151,0],[147,1,151,1],[147,3,151,3],[147,4,151,4],[147,5,151,5],[147,6,151,6],[188,0,194,0],[188,1,194,1],[188,8,194,8],[195,0,201,0],[195,1,201,1],[195,8,201,8],[174,0,180,0],[174,1,180,1],[174,8,180,8],[181,0,187,0],[181,1,187,1],[181,8,187,8],[216,0,222,0],[216,1,222,1],[216,8,222,8],[223,1,223,5],[224,1,224,2],[225,1,225,2],[202,0,208,0],[202,1,208,1],[202,8,208,8],[209,0,215,0],[209,1,215,1],[209,8,215,8],[232,1,232,2],[233,1,233,2],[234,1,234,2],[235,1,235,2],[236,1,236,2],[237,1,237,2],[226,1,226,2],[227,1,227,2],[228,1,228,2],[229,1,229,2],[230,1,230,2],[231,1,231,2],[244,1,244,2],[245,1,245,2],[246,1,246,2],[247,0,247,5],[238,1,238,2],[239,1,239,2],[240,1,240,2],[241,1,241,5],[242,1,242,2],[243,1,243,2]]}
[null,null,"Pasirinkite veiklos tipą:"]
[null,null,"Fizinio rodiklio Nr.:"]
["Fizinio rodiklio pavadinimas:"]
[null,null,"Fizinio rodiklio matavimo vnt.:",null,null,"Fizinio rodiklio vnt. skaičius:"]
["Juridinis asmuo (pareiškėjas, partneris), atsakingas už fizinį rodiklį:"]
[null,null,"Vykdytojo tipas:"]
[null,null,"Finansavimo intensyvumas:",null,null,null,"Pasirinkite biudžeto išlaidų kategoriją:","Visos"]
[]
["Eil. Nr.","Išlaidų kategorijos pavadinimas",null,"Matavimo vnt.","Kiekis","Vieneto kaina be PVM, Eur","Tinkamų finansuoti išlaidų suma be PVM, Eur","Finansavimo suma, Eur","Išlaidų pagrindimo dokumentų pavadinimas, data ir Nr."]
[4,"ĮRANGA, ĮRENGINIAI IR KT. TURTAS (techninių žinių ir išradimų patentų arba teisių pagal licencijų sutartį įsigijimo išlaidos)",null,null,null,null,{"$f":"SUM(G11:G20)","v":0},{"$f":"SUM(H11:H20)","v":0}]
["4.1","Išlaidų pavadinimas",null,null,null,null,{"$f":"ROUND(E11*F11,2)","v":0},{"$f":"ROUND(G11*$D$7,2)","v":0}]
["4.2","Išlaidų pavadinimas",null,null,null,null,0,0]
["4.3","Išlaidų pavadinimas",null,null,null,null,0,0]
["4.4","Išlaidų pavadinimas",null,null,null,null,0,0]
["4.5","Išlaidų pavadinimas",null,null,null,null,0,0]
["4.6","Išlaidų pavadinimas",null,null,null,null,0,0]
["4.7","Išlaidų pavadinimas",null,null,null,null,0,0]
["4.8","Išlaidų pavadinimas",null,null,null,null,0,0]
["4.9","Išlaidų pavadinimas",null,null,null,null,0,0]
["4.10","Išlaidų pavadinimas",null,null,null,null,0,0]
[5,"PROJEKTO VYKDYMAS",null,null,null,null,{"$f":"G22+G33+G44+G72+G102+G153+G224+G242","v":0},{"$f":"H22+H33+H44+H72+H102+H153+H224+H242","v":0}]
["5.1","MTEP paslaugos",null,null,null,null,{"$f":"SUM(G23:G32)","v":0},{"$f":"SUM(H23:H32)","v":0}]
["5.1.1","Paslaugos pavadinimas",null,null,null,null,{"$f":"ROUND(E23*F23,2)","v":0},0]
["5.1.2","Paslaugos pavadinimas",null,null,null,null,0,0]
["5.1.3","Paslaugos pavadinimas",null,null,null,null,0,0]
["5.1.4","Paslaugos pavadinimas",null,null,null,null,0,0]
["5.1.5","Paslaugos pavadinimas",null,null,null,null,0,0]
["5.1.6","Paslaugos pavadinimas",null,null,null,null,0,0]
["5.1.7","Paslaugos pavadinimas",null,null,null,null,0,0]
["5.1.8","Paslaugos pavadinimas",null,null,null,null,0,0]
["5.1.9","Paslaugos pavadinimas",null,null,null,null,0,0]
["5.1.10","Paslaugos pavadinimas",null,null,null,null,0,0]
["5.2","Konsultavimo ir lygiavertės paslaugos, teikiamos vien tik projekto MTEP veiklai.",null,null,null,null,{"$f":"SUM(G34:G43)","v":0},{"$f":"SUM(H34:H43)","v":0}]
["5.2.1","Paslaugos pavadinimas",null,null,null,null,{"$f":"ROUND(E34*F34,2)","v":0},0]
["5.2.2","Paslaugos pavadinimas",null,null,null,null,0,0]
["5.2.3","Paslaugos pavadinimas",null,null,null,null,0,0]
["5.2.4","Paslaugos pavadinimas",null,null,null,null,0,0]
["5.2.5","Paslaugos pavadinimas",null,null,null,null,0,0]
["5.2.6","Paslaugos pavadinimas",null,null,null,null,0,0]
["5.2.7","Paslaugos pavadinimas",null,null,null,null,0,0]
["5.2.8","Paslaugos pavadinimas",null,null,null,null,0,0]
["5.2.9","Paslaugos pavadinimas",null,null,null,null,0,0]
["5.2.10","Paslaugos pavadinimas",null,null,null,null,0,0]
["5.3","Medžiagos, mažavertis inventorius, atsargos ir pan. produktai, priskirtini trumpalaikiam turtui ir tiesiogiai susiję su MTEP veikla",null,null,null,null,{"$f":"SUM(G45:G71)","v":0},{"$f":"SUM(H45:H71)","v":0}]
["5.3.1","Išlaidų pavadinimas",null,null,null,null,{"$f":"ROUND(E45*F45,2)","v":0},{"$f":"ROUND(G45*$D$7,2)","v":0}]
["5.3.2","Išlaidų pavadinimas",null,null,null,null,{"$f":"ROUND(E46*F46,2)","v":0},{"$f":"ROUND(G46*$D$7,2)","v":0}]
["5.3.3","Išlaidų pavadinimas",null,null,null,null,{"$f":"ROUND(E47*F47,2)","v":0},{"$f":"ROUND(G47*$D$7,2)","v":0}]
["5.3.4","Išlaidų pavadinimas",null,null,null,null,{"$f":"ROUND(E48*F48,2)","v":0},{"$f":"ROUND(G48*$D$7,2)","v":0}]
["5.3.5","Išlaidų pavadinimas",null,null,null,null,{"$f":"ROUND(E49*F49,2)","v":0},{"$f":"ROUND(G49*$D$7,2)","v":0}]
["5.3.6","Išlaidų pavadinimas",null,null,null,null,0,0]
["5.3.7","Išlaidų pavadinimas",null,null,null,null,0,0]
["5.3.8","Išlaidų pavadinimas",null,null,null,null,0,0]
["5.3.9","Išlaidų pavadinimas",null,null,null,null,0,0]
["5.3.10","Išlaidų pavadinimas",null,null,null,null,0,0]
["5.3.11","Išlaidų pavadinimas",null,null,null,null,0,0]
["5.3.12","Išlaidų pavadinimas",null,null,null,null,0,0]
["5.3.13","Išlaidų pavadinimas",null,null,null,null,0,0]
["5.3.14","Išlaidų pavadinimas",null,null,null,null,0,0]
["5.3.15","Išlaidų pavadinimas",null,null,null,null,0,0]
["5.3.16","Išlaidų pavadinimas",null,null,null,null,0,0]
["5.3.17","Išlaidų pavadinimas",null,null,null,null,0,0]
["5.3.18","Išlaidų pavadinimas",null,null,null,null,0,0]
["5.3.19","Išlaidų pavadinimas",null,null,null,null,0,0]
["5.3.20","Išlaidų pavadinimas",null,null,null,null,0,0]
["5.3.21","Išlaidų pavadinimas",null,null,null,null,0,0]
["5.3.22","Išlaidų pavadinimas",null,null,null,null,0,0]
["5.3.23","Išlaidų pavadinimas",null,null,null,null,0,0]
["5.3.24","Išlaidų pavadinimas",null,null,null,null,0,0]
["5.3.25","Išlaidų pavadinimas",null,null,null,null,0,0]
["5.3.26","Išlaidų pavadinimas",null,null,null,null,0,0]
["5.3.27","Išlaidų pavadinimas",null,null,null,null,0,0]
["5.4","Projekto MTEP veikloms naudojamo ilgalaikio materialaus turto (įrangos, prietaisų, įrankių, įrenginių, mašinų ir įrengimų, pastatų ir (ar) patalpų), nusidėvėjimo sąnaudos, jeigu šiam turtui įsigyti nebuvo naudojamos viešosios (įskaitant ir kitų valstybių) lėšos",null,null,null,null,{"$f":"SUM(G73:G101)","v":0},{"$f":"SUM(H73:H101)","v":0},null,null,"Turto įvedimo į eksploataciją data","Turto įsigijimo vertė, Eur","Turto nudėvėjimo, amortizacijos laikotarpis, mėn.","Numatoma turto likutinė vertė, Eur","1 mėn. nudėvėjimo, amortizacijos suma, Eur","Turto naudojamo projekto reikmėms laikas, mėn.","Turto panaudojimo projekto reikmėms dalis (proc.)","Projektui priskirta turto nusidėvėjimo, amortizacijos suma per projekto laikotarpį, Eur"]
["5.4.1","Turtas, kurio nusidėvėjimą, amortizaciją prašoma finansuoti",null,null,1,{"$f":"R73","v":0},{"$f":"ROUND(E73*F73,2)","v":0},0,null,null,null,null,null,null,{"$f":"IFERROR(ROUND((L73-N73)/M73,2),\"0\")","v":"0"},null,null,{"$f":"O73*P73*Q73","v":0},{"$f":"IF(K73=0,\" \",IF(K73+(M73*30.5)<TODAY(),\"DĖMESIO! Patikrinkite, ar nurodytas turtas dar nėra nudėvėtas, amortizuotas\",\" \"))","v":" "}]
["5.4.2","Turtas, kurio nusidėvėjimą, amortizaciją prašoma finansuoti",null,null,1,0,0,0,null,null,null,null,null,null,{"$f":"IFERROR(ROUND((L74-N74)/M74,2),\"0\")","v":"0"},null,null,{"$f":"O74*P74*Q74","v":0},{"$f":"IF(K74=0,\" \",IF(K74+(M74*30.5)<TODAY(),\"DĖMESIO! Patikrinkite, ar nurodytas turtas dar nėra nudėvėtas, amortizuotas\",\" \"))","v":" "}]
["5.4.3","Turtas, kurio nusidėvėjimą, amortizaciją prašoma finansuoti",null,null,1,0,0,0,null,null,null,null,null,null,"0",null,null,0," "]
["5.4.4","Turtas, kurio nusidėvėjimą, amortizaciją prašoma finansuoti",null,null,1,0,0,0,null,null,null,null,null,null,"0",null,null,0," "]
["5.4.5","Turtas, kurio nusidėvėjimą, amortizaciją prašoma finansuoti",null,null,1,0,0,0,null,null,null,null,null,null,"0",null,null,0," "]
["5.4.6","Turtas, kurio nusidėvėjimą, amortizaciją prašoma finansuoti",null,null,1,0,0,0,null,null,null,null,null,null,"0",null,null,0," "]
["5.4.7","Turtas, kurio nusidėvėjimą, amortizaciją prašoma finansuoti",null,null,1,0,0,0,null,null,null,null,null,null,"0",null,null,0," "]
["5.4.8","Turtas, kurio nusidėvėjimą, amortizaciją prašoma finansuoti",null,null,1,0,0,0,null,null,null,null,null,null,"0",null,null,0," "]
["5.4.9","Turtas, kurio nusidėvėjimą, amortizaciją prašoma finansuoti",null,null,1,0,0,0,null,null,null,null,null,null,"0",null,null,0," "]
["5.4.10","Turtas, kurio nusidėvėjimą, amortizaciją prašoma finansuoti",null,null,1,0,0,0,null,null,null,null,null,null,"0",null,null,0," "]
["5.4.11","Turtas, kurio nusidėvėjimą, amortizaciją prašoma finansuoti",null,null,1,0,0,0,null,null,null,null,null,null,"0",null,null,0," "]
["5.4.12","Turtas, kurio nusidėvėjimą, amortizaciją prašoma finansuoti",null,null,1,0,0,0,null,null,null,null,null,null,"0",null,null,0," "]
["5.4.13","Turtas, kurio nusidėvėjimą, amortizaciją prašoma finansuoti",null,null,1,0,0,0,null,null,null,null,null,null,"0",null,null,0," "]
["5.4.14","Turtas, kurio nusidėvėjimą, amortizaciją prašoma finansuoti",null,null,1,0,0,0,null,null,null,null,null,null,"0",null,null,0," "]
["5.4.15","Turtas, kurio nusidėvėjimą, amortizaciją prašoma finansuoti",null,null,1,0,0,0,null,null,null,null,null,null,"0",null,null,0," "]
["5.4.16","Turtas, kurio nusidėvėjimą, amortizaciją prašoma finansuoti",null,null,1,0,0,0,null,null,null,null,null,null,"0",null,null,0," "]
["5.4.17","Turtas, kurio nusidėvėjimą, amortizaciją prašoma finansuoti",null,null,1,0,0,0,null,null,null,null,null,null,"0",null,null,0," "]
["5.4.18","Turtas, kurio nusidėvėjimą, amortizaciją prašoma finansuoti",null,null,1,0,0,0,null,null,null,null,null,null,"0",null,null,0," "]
["5.4.19","Turtas, kurio nusidėvėjimą, amortizaciją prašoma finansuoti",null,null,1,0,0,0,null,null,null,null,null,null,"0",null,null,0," "]
["5.4.20","Turtas, kurio nusidėvėjimą, amortizaciją prašoma finansuoti",null,null,1,0,0,0,null,null,null,null,null,null,"0",null,null,0," "]
["5.4.21","Turtas, kurio nusidėvėjimą, amortizaciją prašoma finansuoti",null,null,1,0,0,0,null,null,null,null,null,null,"0",null,null,0," "]
["5.4.22","Turtas, kurio nusidėvėjimą, amortizaciją prašoma finansuoti",null,null,1,0,0,0,null,null,null,null,null,null,"0",null,null,0," "]
["5.4.23","Turtas, kurio nusidėvėjimą, amortizaciją prašoma finansuoti",null,null,1,0,0,0,null,null,null,null,null,null,"0",null,null,0," "]
["5.4.24","Turtas, kurio nusidėvėjimą, amortizaciją prašoma finansuoti",null,null,1,0,0,0,null,null,null,null,null,null,"0",null,null,0," "]
["5.4.25","Turtas, kurio nusidėvėjimą, amortizaciją prašoma finansuoti",null,null,1,0,0,0,null,null,null,null,null,null,"0",null,null,0," "]
["5.4.26","Turtas, kurio nusidėvėjimą, amortizaciją prašoma finansuoti",null,null,1,0,0,0,null,null,null,null,null,null,"0",null,null,0," "]
["5.4.27","Turtas, kurio nusidėvėjimą, amortizaciją prašoma finansuoti",null,null,1,0,0,0,null,null,null,null,null,null,"0",null,null,0," "]
["5.4.28","Turtas, kurio nusidėvėjimą, amortizaciją prašoma finansuoti",null,null,1,0,0,0,null,null,null,null,null,null,"0",null,null,0," "]
["5.4.29","Turtas, kurio nusidėvėjimą, amortizaciją prašoma finansuoti",null,null,1,0,0,0,null,null,null,null,null,null,"0",null,null,0," "]
["5.5","Projektą vykdančio personalo darbo užmokestis ir išlaidos su darbo santykiais susijusiems darbdavio įsipareigojimams",null,null,null,null,{"$f":"SUM(G103:G152)","v":0},{"$f":"SUM(H103:H152)","v":0},null,null,"Faktiškai gaunamas darbo užmokesti už 1 valandą pagal  pastarųjų 6 mėn. vidurkį, Eur"]
["5.5.1","Pareigybės pavadinimas","Darbuotojo vardas pavardė","val.",null,{"$f":"IFERROR(ROUND(AVERAGE(K103:K107),2),\"0\")","v":"0"},{"$f":"ROUND(E103*F103,2)","v":0},{"$f":"ROUND(G103*$D$7,2)","v":0}]
[null,null,"Darbuotojo vardas pavardė"]
[null,null,"Darbuotojo vardas pavardė"]
[null,null,"Darbuotojo vardas pavardė"]
[null,null,"Darbuotojo vardas pavardė"]
["5.5.2","Pareigybės pavadinimas","Darbuotojo vardas pavardė","val.",null,{"$f":"IFERROR(ROUND(AVERAGE(K108:K112),2),\"0\")","v":"0"},{"$f":"ROUND(E108*F108,2)","v":0},{"$f":"ROUND(G108*$D$7,2)","v":0}]
[null,null,"Darbuotojo vardas pavardė"]
[null,null,"Darbuotojo vardas pavardė"]
[null,null,"Darbuotojo vardas pavardė"]
[null,null,"Darbuotojo vardas pavardė"]
["5.5.3","Pareigybės pavadinimas","Darbuotojo vardas pavardė","val.",null,{"$f":"IFERROR(ROUND(AVERAGE(K113:K117),2),\"0\")","v":"0"},{"$f":"ROUND(E113*F113,2)","v":0},{"$f":"ROUND(G113*$D$7,2)","v":0}]
[null,null,"Darbuotojo vardas pavardė"]
[null,null,"Darbuotojo vardas pavardė"]
[null,null,"Darbuotojo vardas pavardė"]
[null,null,"Darbuotojo vardas pavardė"]
["5.5.4","Pareigybės pavadinimas","Darbuotojo vardas pavardė","val.",null,{"$f":"IFERROR(ROUND(AVERAGE(K118:K122),2),\"0\")","v":"0"},{"$f":"ROUND(E118*F118,2)","v":0},{"$f":"ROUND(G118*$D$7,2)","v":0}]
[null,null,"Darbuotojo vardas pavardė"]
[null,null,"Darbuotojo vardas pavardė"]
[null,null,"Darbuotojo vardas pavardė"]
[null,null,"Darbuotojo vardas pavardė"]
["5.5.5","Pareigybės pavadinimas","Darbuotojo vardas pavardė","val.",null,{"$f":"IFERROR(ROUND(AVERAGE(K123:K127),2),\"0\")","v":"0"},{"$f":"ROUND(E123*F123,2)","v":0},{"$f":"ROUND(G123*$D$7,2)","v":0}]
[null,null,"Darbuotojo vardas pavardė"]
[null,null,"Darbuotojo vardas pavardė"]
[null,null,"Darbuotojo vardas pavardė"]
[null,null,"Darbuotojo vardas pavardė"]
["5.5.6","Pareigybės pavadinimas","Darbuotojo vardas pavardė","val.",null,{"$f":"IFERROR(ROUND(AVERAGE(K128:K132),2),\"0\")","v":"0"},{"$f":"ROUND(E128*F128,2)","v":0},{"$f":"ROUND(G128*$D$7,2)","v":0}]
[null,null,"Darbuotojo vardas pavardė"]
[null,null,"Darbuotojo vardas pavardė"]
[null,null,"Darbuotojo vardas pavardė"]
[null,null,"Darbuotojo vardas pavardė"]
["5.5.7","Pareigybės pavadinimas","Darbuotojo vardas pavardė","val.",null,{"$f":"IFERROR(ROUND(AVERAGE(K133:K137),2),\"0\")","v":"0"},{"$f":"ROUND(E133*F133,2)","v":0},{"$f":"ROUND(G133*$D$7,2)","v":0}]
[null,null,"Darbuotojo vardas pavardė"]
[null,null,"Darbuotojo vardas pavardė"]
[null,null,"Darbuotojo vardas pavardė"]
[null,null,"Darbuotojo vardas pavardė"]
["5.5.8","Pareigybės pavadinimas","Darbuotojo vardas pavardė","val.",null,{"$f":"IFERROR(ROUND(AVERAGE(K138:K142),2),\"0\")","v":"0"},{"$f":"ROUND(E138*F138,2)","v":0},{"$f":"ROUND(G138*$D$7,2)","v":0}]
[null,null,"Darbuotojo vardas pavardė"]
[null,null,"Darbuotojo vardas pavardė"]
[null,null,"Darbuotojo vardas pavardė"]
[null,null,"Darbuotojo vardas pavardė"]
["5.5.9","Pareigybės pavadinimas","Darbuotojo vardas pavardė","val.",null,{"$f":"IFERROR(ROUND(AVERAGE(K143:K147),2),\"0\")","v":"0"},{"$f":"ROUND(E143*F143,2)","v":0},{"$f":"ROUND(G143*$D$7,2)","v":0}]
[null,null,"Darbuotojo vardas pavardė"]
[null,null,"Darbuotojo vardas pavardė"]
[null,null,"Darbuotojo vardas pavardė"]
[null,null,"Darbuotojo vardas pavardė"]
["5.5.10","Pareigybės pavadinimas","Darbuotojo vardas pavardė","val.",null,{"$f":"IFERROR(ROUND(AVERAGE(K148:K152),2),\"0\")","v":"0"},{"$f":"ROUND(E148*F148,2)","v":0},{"$f":"ROUND(G148*$D$7,2)","v":0}]
[null,null,"Darbuotojo vardas pavardė"]
[null,null,"Darbuotojo vardas pavardė"]
[null,null,"Darbuotojo vardas pavardė"]
[null,null,"Darbuotojo vardas pavardė"]
["5.6","Projektą vykdančio personalo komandiruočių išlaidos",null,null,null,null,{"$f":"SUM(G154,G161,G168,G175,G182,G189,G196,G203,G210,G217)","v":0},{"$f":"SUM(H154,H161,H168,H175,H182,H189,H196,H203,H210,H217)","v":0}]
["5.6.1","Komandiruotės pavadinimas, vieta, trukmė dienomis, vykstančių asmenų skaičius","Iš viso komandiruotei",null,null,null,{"$f":"SUM(G155:G160)","v":0},{"$f":"ROUND(G154*$D$7,2)","v":0}]
[null,null,"Dienpinigiai",null,null,null,{"$f":"ROUND(E155*F155,2)","v":0}]
[null,null,"Gyvenamojo ploto nuoma",null,null,null,0]
[null,null,"Kelionės išlaidos",null,null,null,0]
[null,null,"Dalyvavimo mokestis",null,null,null,0]
[null,null,"Kitos išlaidų pavadinimas",null,null,null,0]
[null,null,"Kitos išlaidų pavadinimas",null,null,null,0]
["5.6.2","Komandiruotės pavadinimas, vieta, trukmė dienomis, vykstančių asmenų skaičius","Iš viso komandiruotei",null,null,null,{"$f":"SUM(G162:G167)","v":0},{"$f":"ROUND(G161*$D$7,2)","v":0}]
[null,null,"Dienpinigiai",null,null,null,{"$f":"ROUND(E162*F162,2)","v":0}]
[null,null,"Gyvenamojo ploto nuoma",null,null,null,0]
[null,null,"Kelionės išlaidos",null,null,null,0]
[null,null,"Dalyvavimo mokestis",null,null,null,0]
[null,null,"Kitos išlaidų pavadinimas",null,null,null,0]
[null,null,"Kitos išlaidų pavadinimas",null,null,null,0]
["5.6.3","Komandiruotės pavadinimas, vieta, trukmė dienomis, vykstančių asmenų skaičius","Iš viso komandiruotei",null,null,null,{"$f":"SUM(G169:G174)","v":0},{"$f":"ROUND(G168*$D$7,2)","v":0}]
[null,null,"Dienpinigiai",null,null,null,{"$f":"ROUND(E169*F169,2)","v":0}]
[null,null,"Gyvenamojo ploto nuoma",null,null,null,0]
[null,null,"Kelionės išlaidos",null,null,null,0]
[null,null,"Dalyvavimo mokestis",null,null,null,0]
[null,null,"Kitos išlaidų pavadinimas",null,null,null,0]
[null,null,"Kitos išlaidų pavadinimas",null,null,null,0]
["5.6.4","Komandiruotės pavadinimas, vieta, trukmė dienomis, vykstančių asmenų skaičius","Iš viso komandiruotei",null,null,null,{"$f":"SUM(G176:G181)","v":0},{"$f":"ROUND(G175*$D$7,2)","v":0}]
[null,null,"Dienpinigiai",null,null,null,{"$f":"ROUND(E176*F176,2)","v":0}]
[null,null,"Gyvenamojo ploto nuoma",null,null,null,0]
[null,null,"Kelionės išlaidos",null,null,null,0]
[null,null,"Dalyvavimo mokestis",null,null,null,0]
[null,null,"Kitos išlaidų pavadinimas",null,null,null,0]
[null,null,"Kitos išlaidų pavadinimas",null,null,null,0]
["5.6.5","Komandiruotės pavadinimas, vieta, trukmė dienomis, vykstančių asmenų skaičius","Iš viso komandiruotei",null,null,null,{"$f":"SUM(G183:G188)","v":0},{"$f":"ROUND(G182*$D$7,2)","v":0}]
[null,null,"Dienpinigiai",null,null,null,{"$f":"ROUND(E183*F183,2)","v":0}]
[null,null,"Gyvenamojo ploto nuoma",null,null,null,0]
[null,null,"Kelionės išlaidos",null,null,null,0]
[null,null,"Dalyvavimo mokestis",null,null,null,0]
[null,null,"Kitos išlaidų pavadinimas",null,null,null,0]
[null,null,"Kitos išlaidų pavadinimas",null,null,null,0]
["5.6.6","Komandiruotės pavadinimas, vieta, trukmė dienomis, vykstančių asmenų skaičius","Iš viso komandiruotei",null,null,null,{"$f":"SUM(G190:G195)","v":0},{"$f":"ROUND(G189*$D$7,2)","v":0}]
[null,null,"Dienpinigiai",null,null,null,{"$f":"ROUND(E190*F190,2)","v":0}]
[null,null,"Gyvenamojo ploto nuoma",null,null,null,0]
[null,null,"Kelionės išlaidos",null,null,null,0]
[null,null,"Dalyvavimo mokestis",null,null,null,0]
[null,null,"Kitos išlaidų pavadinimas",null,null,null,0]
[null,null,"Kitos išlaidų pavadinimas",null,null,null,0]
["5.6.7","Komandiruotės pavadinimas, vieta, trukmė dienomis, vykstančių asmenų skaičius","Iš viso komandiruotei",null,null,null,{"$f":"SUM(G197:G202)","v":0},{"$f":"ROUND(G196*$D$7,2)","v":0}]
[null,null,"Dienpinigiai",null,null,null,{"$f":"ROUND(E197*F197,2)","v":0}]
[null,null,"Gyvenamojo ploto nuoma",null,null,null,0]
[null,null,"Kelionės išlaidos",null,null,null,0]
[null,null,"Dalyvavimo mokestis",null,null,null,0]
[null,null,"Kitos išlaidų pavadinimas",null,null,null,0]
[null,null,"Kitos išlaidų pavadinimas",null,null,null,0]
["5.6.8","Komandiruotės pavadinimas, vieta, trukmė dienomis, vykstančių asmenų skaičius","Iš viso komandiruotei",null,null,null,{"$f":"SUM(G204:G209)","v":0},{"$f":"ROUND(G203*$D$7,2)","v":0}]
[null,null,"Dienpinigiai",null,null,null,{"$f":"ROUND(E204*F204,2)","v":0}]
[null,null,"Gyvenamojo ploto nuoma",null,null,null,0]
[null,null,"Kelionės išlaidos",null,null,null,0]
[null,null,"Dalyvavimo mokestis",null,null,null,0]
[null,null,"Kitos išlaidų pavadinimas",null,null,null,0]
[null,null,"Kitos išlaidų pavadinimas",null,null,null,0]
["5.6.9","Komandiruotės pavadinimas, vieta, trukmė dienomis, vykstančių asmenų skaičius","Iš viso komandiruotei",null,null,null,{"$f":"SUM(G211:G216)","v":0},{"$f":"ROUND(G210*$D$7,2)","v":0}]
[null,null,"Dienpinigiai",null,null,null,{"$f":"ROUND(E211*F211,2)","v":0}]
[null,null,"Gyvenamojo ploto nuoma",null,null,null,0]
[null,null,"Kelionės išlaidos",null,null,null,0]
[null,null,"Dalyvavimo mokestis",null,null,null,0]
[null,null,"Kitos išlaidų pavadinimas",null,null,null,0]
[null,null,"Kitos išlaidų pavadinimas",null,null,null,0]
["5.6.10","Komandiruotės pavadinimas, vieta, trukmė dienomis, vykstančių asmenų skaičius","Iš viso komandiruotei",null,null,null,{"$f":"SUM(G218:G223)","v":0},{"$f":"ROUND(G217*$D$7,2)","v":0}]
[null,null,"Dienpinigiai",null,null,null,{"$f":"ROUND(E218*F218,2)","v":0}]
[null,null,"Gyvenamojo ploto nuoma",null,null,null,0]
[null,null,"Kelionės išlaidos",null,null,null,0]
[null,null,"Dalyvavimo mokestis",null,null,null,0]
[null,null,"Kitos išlaidų pavadinimas",null,null,null,0]
[null,null,"Kitos išlaidų pavadinimas",null,null,null,0]
["5.7","Įrangos nuomos išlaidos, veiklai priskirtos pro rata principu. Įranga turi būti tiesiogiai susijusi su projekto įgyvendinimu ir negali būti įsigyta iš ES struktūrinių fondų ar kt. ES finansinių priemonių lėšų",null,null,null,null,{"$f":"SUM(G225:G241)","v":0},{"$f":"SUM(H225:H241)","v":0},null,null,"Faktinės 1 mėnesio išlaidos, Eur","Naudojimo projekte trukmė, mėn."]
["5.7.1","Įrangos pavadinimas",null,"pro rata proc.",null,{"$f":"K225*L225","v":0},{"$f":"ROUND(E225*F225,2)","v":0},{"$f":"ROUND(G225*$D$7,2)","v":0}]
["5.7.2","Įrangos pavadinimas",null,"pro rata proc.",null,{"$f":"K226*L226","v":0},0,{"$f":"ROUND(G226*$D$7,2)","v":0}]
["5.7.3","Įrangos pavadinimas",null,"pro rata proc.",null,0,0,0]
["5.7.4","Įrangos pavadinimas",null,"pro rata proc.",null,0,0,0]
["5.7.5","Įrangos pavadinimas",null,"pro rata proc.",null,0,0,0]
["5.7.6","Įrangos pavadinimas",null,"pro rata proc.",null,0,0,0]
["5.7.7","Įrangos pavadinimas",null,"pro rata proc.",null,0,0,0]
["5.7.8","Įrangos pavadinimas",null,"pro rata proc.",null,0,0,0]
["5.7.9","Įrangos pavadinimas",null,"pro rata proc.",null,0,0,0]
["5.7.10","Įrangos pavadinimas",null,"pro rata proc.",null,0,0,0]
["5.7.11","Įrangos pavadinimas",null,"pro rata proc.",null,0,0,0]
["5.7.12","Įrangos pavadinimas",null,"pro rata proc.",null,0,0,0]
["5.7.13","Įrangos pavadinimas",null,"pro rata proc.",null,0,0,0]
["5.7.14","Įrangos pavadinimas",null,"pro rata proc.",null,{"$f":"K238*L238","v":0},0,{"$f":"ROUND(G238*$D$7,2)","v":0}]
["5.7.15","Įrangos pavadinimas",null,"pro rata proc.",null,{"$f":"K239*L239","v":0},0,{"$f":"ROUND(G239*$D$7,2)","v":0}]
["5.7.16","Įrangos pavadinimas",null,"pro rata proc.",null,{"$f":"K240*L240","v":0},0,{"$f":"ROUND(G240*$D$7,2)","v":0}]
["5.7.17","Įrangos pavadinimas",null,"pro rata proc.",null,{"$f":"K241*L241","v":0},0,{"$f":"ROUND(G241*$D$7,2)","v":0}]
["5.8","Pastatų ar patalpų nuomos išlaidos, veiklai priskirtos pro rata principu. Pastatai ar patalpos turi būti tiesiogiai susijusi su projekto įgyvendinimu.",null,null,null,null,{"$f":"SUM(G243:G247)","v":0},{"$f":"SUM(H243:H247)","v":0},null,null,"Faktinės 1 mėnesio išlaidos, Eur","Naudojimo projekte trukmė, mėn."]
["5.8.1","Pastato, patalpų adresas",null,"pro rata proc.",null,{"$f":"K243*L243","v":0},{"$f":"ROUND(E243*F243,2)","v":0},{"$f":"ROUND(G243*$D$7,2)","v":0}]
["5.8.2","Pastato, patalpų adresas",null,"pro rata proc.",null,{"$f":"K244*L244","v":0},{"$f":"ROUND(E244*F244,2)","v":0},{"$f":"ROUND(G244*$D$7,2)","v":0}]
["5.8.3","Pastato, patalpų adresas",null,"pro rata proc.",null,{"$f":"K245*L245","v":0},{"$f":"ROUND(E245*F245,2)","v":0},{"$f":"ROUND(G245*$D$7,2)","v":0}]
["5.8.4","Pastato, patalpų adresas",null,"pro rata proc.",null,{"$f":"K246*L246","v":0},{"$f":"ROUND(E246*F246,2)","v":0},{"$f":"ROUND(G246*$D$7,2)","v":0}]
["5.8.5","Pastato, patalpų adresas",null,"pro rata proc.",null,{"$f":"K247*L247","v":0},{"$f":"ROUND(E247*F247,2)","v":0},{"$f":"ROUND(G247*$D$7,2)","v":0}]
["Iš viso tinkamų finansuoti išlaidų:",null,null,null,null,null,{"$f":"G10+G21","v":0},{"$f":"H10+H21","v":0}]

{"sheet":"21","index":15,"n_rows":248,"n_cols":19,"rows_kept":248,"cut":false,"hidden":true,"merged":[[5,3,5,8],[8,1,8,2],[9,1,9,5],[10,1,10,2],[11,1,11,2],[12,1,12,2],[0,3,0,8],[2,0,2,2],[2,3,2,8],[3,3,3,4],[3,5,3,6],[4,0,4,2],[4,3,4,8],[19,1,19,2],[20,1,20,5],[21,1,21,5],[22,1,22,2],[23,1,23,2],[24,1,24,2],[13,1,13,2],[14,1,14,2],[15,1,15,2],[16,1,16,2],[17,1,17,2],[18,1,18,2],[31,1,31,2],[32,1,32,5],[33,1,33,2],[34,1,34,2],[35,1,35,2],[36,1,36,2],[25,1,25,2],[26,1,26,2],[27,1,27,2],[28,1,28,2],[29,1,29,2],[30,1,30,2],[43,1,43,5],[44,1,44,2],[45,1,45,2],[46,1,46,2],[47,1,47,2],[48,1,48,2],[37,1,37,2],[38,1,38,2],[39,1,39,2],[40,1,40,2],[41,1,41,2],[42,1,42,2],[55,1,55,2],[56,1,56,2],[57,1,57,2],[58,1,58,2],[59,1,59,2],[60,1,60,2],[49,1,49,2],[50,1,50,2],[51,1,51,2],[52,1,52,2],[53,1,53,2],[54,1,54,2],[67,1,67,2],[68,1,68,2],[69,1,69,2],[70,1,70,2],[71,1,71,5],[72,1,72,2],[61,1,61,2],[62,1,62,2],[63,1,63,2],[64,1,64,2],[65,1,65,2],[66,1,66,2],[79,1,79,2],[80,1,80,2],[81,1,81,2],[82,1,82,2],[83,1,83,2],[84,1,84,2],[73,1,73,2],[74,1,74,2],[75,1,75,2],[76,1,76,2],[77,1,77,2],[78,1,78,2],[91,1,91,2],[92,1,92,2],[93,1,93,2],[94,1,94,2],[95,1,95,2],[96,1,96,2],[85,1,85,2],[86,1,86,2],[87,1,87,2],[88,1,88,2],[89,1,89,2],[90,1,90,2],[97,1,97,2],[98,1,98,2],[99,1,99,2],[100,1,100,2],[101,1,101,5],[102,0,106,0],[102,1,106,1],[102,3,106,3],[102,4,106,4],[102,5,106,5],[102,6,106,6],[102,7,106,7],[102,8,106,8],[107,0,111,0],[107,1,111,1],[107,3,111,3],[107,4,111,4],[107,5,111,5],[107,6,111,6],[107,7,111,7],[107,8,111,8],[112,0,116,0],[112,1,116,1],[112,3,116,3],[112,4,116,4],[112,5,116,5],[112,6,116,6],[112,7,116,7],[112,8,116,8],[117,7,121,7],[117,8,121,8],[122,0,126,0],[122,1,126,1],[122,3,126,3],[122,4,126,4],[122,5,126,5],[122,6,126,6],[122,7,126,7],[122,8,126,8],[117,0,121,0],[117,1,121,1],[117,3,121,3],[117,4,121,4],[117,5,121,5],[117,6,121,6],[127,7,131,7],[127,8,131,8],[132,0,136,0],[132,1,136,1],[132,3,136,3],[132,4,136,4],[132,5,136,5],[132,6,136,6],[132,7,136,7],[132,8,136,8],[127,0,131,0],[127,1,131,1],[127,3,131,3],[127,4,131,4],[127,5,131,5],[127,6,131,6],[137,7,141,7],[137,8,141,8],[142,0,146,0],[142,1,146,1],[142,3,146,3],[142,4,146,4],[142,5,146,5],[142,6,146,6],[142,7,146,7],[142,8,146,8],[137,0,141,0],[137,1,141,1],[137,3,141,3],[137,4,141,4],[137,5,141,5],[137,6,141,6],[160,0,166,0],[160,1,166,1],[160,8,166,8],[167,0,173,0],[167,1,173,1],[167,8,173,8],[147,7,151,7],[147,8,151,8],[152,1,152,5],[153,0,159,0],[153,1,159,1],[153,8,159,8],[147,0,151,0],[147,1,151,1],[147,3,151,3],[147,4,151,4],[147,5,151,5],[147,6,151,6],[188,0,194,0],[188,1,194,1],[188,8,194,8],[195,0,201,0],[195,1,201,1],[195,8,201,8],[174,0,180,0],[174,1,180,1],[174,8,180,8],[181,0,187,0],[181,1,187,1],[181,8,187,8],[216,0,222,0],[216,1,222,1],[216,8,222,8],[223,1,223,5],[224,1,224,2],[225,1,225,2],[202,0,208,0],[202,1,208,1],[202,8,208,8],[209,0,215,0],[209,1,215,1],[209,8,215,8],[232,1,232,2],[233,1,233,2],[234,1,234,2],[235,1,235,2],[236,1,236,2],[237,1,237,2],[226,1,226,2],[227,1,227,2],[228,1,228,2],[229,1,229,2],[230,1,230,2],[231,1,231,2],[244,1,244,2],[245,1,245,2],[246,1,246,2],[247,0,247,5],[238,1,238,2],[239,1,239,2],[240,1,240,2],[241,1,241,5],[242,1,242,2],[243,1,243,2]]}
[null,null,"Pasirinkite veiklos tipą:"]
[null,null,"Fizinio rodiklio Nr.:"]
["Fizinio rodiklio pavadinimas:"]
[null,null,"Fizinio rodiklio matavimo vnt.:",null,null,"Fizinio rodiklio vnt. skaičius:"]
["Juridinis asmuo (pareiškėjas, partneris), atsakingas už fizinį rodiklį:"]
[null,null,"Vykdytojo tipas:"]
[null,null,"Finansavimo intensyvumas:",null,null,null,"Pasirinkite biudžeto išlaidų kategoriją:","Visos"]
[]
["Eil. Nr.","Išlaidų kategorijos pavadinimas",null,"Matavimo vnt.","Kiekis","Vieneto kaina be PVM, Eur","Tinkamų finansuoti išlaidų suma be PVM, Eur","Finansavimo suma, Eur","Išlaidų pagrindimo dokumentų pavadinimas, data ir Nr."]
[4,"ĮRANGA, ĮRENGINIAI IR KT. TURTAS (techninių žinių ir išradimų patentų arba teisių pagal licencijų sutartį įsigijimo išlaidos)",null,null,null,null,{"$f":"SUM(G11:G20)","v":0},{"$f":"SUM(H11:H20)","v":0}]
["4.1","Išlaidų pavadinimas",null,null,null,null,{"$f":"ROUND(E11*F11,2)","v":0},{"$f":"ROUND(G11*$D$7,2)","v":0}]
["4.2","Išlaidų pavadinimas",null,null,null,null,0,0]
["4.3","Išlaidų pavadinimas",null,null,null,null,0,0]
["4.4","Išlaidų pavadinimas",null,null,null,null,0,0]
["4.5","Išlaidų pavadinimas",null,null,null,null,0,0]
["4.6","Išlaidų pavadinimas",null,null,null,null,0,0]
["4.7","Išlaidų pavadinimas",null,null,null,null,0,0]
["4.8","Išlaidų pavadinimas",null,null,null,null,0,0]
["4.9","Išlaidų pavadinimas",null,null,null,null,0,0]
["4.10","Išlaidų pavadinimas",null,null,null,null,0,0]
[5,"PROJEKTO VYKDYMAS",null,null,null,null,{"$f":"G22+G33+G44+G72+G102+G153+G224+G242","v":0},{"$f":"H22+H33+H44+H72+H102+H153+H224+H242","v":0}]
["5.1","MTEP paslaugos",null,null,null,null,{"$f":"SUM(G23:G32)","v":0},{"$f":"SUM(H23:H32)","v":0}]
["5.1.1","Paslaugos pavadinimas",null,null,null,null,{"$f":"ROUND(E23*F23,2)","v":0},0]
["5.1.2","Paslaugos pavadinimas",null,null,null,null,0,0]
["5.1.3","Paslaugos pavadinimas",null,null,null,null,0,0]
["5.1.4","Paslaugos pavadinimas",null,null,null,null,0,0]
["5.1.5","Paslaugos pavadinimas",null,null,null,null,0,0]
["5.1.6","Paslaugos pavadinimas",null,null,null,null,0,0]
["5.1.7","Paslaugos pavadinimas",null,null,null,null,0,0]
["5.1.8","Paslaugos pavadinimas",null,null,null,null,0,0]
["5.1.9","Paslaugos pavadinimas",null,null,null,null,0,0]
["5.1.10","Paslaugos pavadinimas",null,null,null,null,0,0]
["5.2","Konsultavimo ir lygiavertės paslaugos, teikiamos vien tik projekto MTEP veiklai.",null,null,null,null,{"$f":"SUM(G34:G43)","v":0},{"$f":"SUM(H34:H43)","v":0}]
["5.2.1","Paslaugos pavadinimas",null,null,null,null,{"$f":"ROUND(E34*F34,2)","v":0},0]
["5.2.2","Paslaugos pavadinimas",null,null,null,null,0,0]
["5.2.3","Paslaugos pavadinimas",null,null,null,null,0,0]
["5.2.4","Paslaugos pavadinimas",null,null,null,null,0,0]
["5.2.5","Paslaugos pavadinimas",null,null,null,null,0,0]
["5.2.6","Paslaugos pavadinimas",null,null,null,null,0,0]
["5.2.7","Paslaugos pavadinimas",null,null,null,null,0,0]
["5.2.8","Paslaugos pavadinimas",null,null,null,null,0,0]
["5.2.9","Paslaugos pavadinimas",null,null,null,null,0,0]
["5.2.10","Paslaugos pavadinimas",null,null,null,null,0,0]
["5.3","Medžiagos, mažavertis inventorius, atsargos ir pan. produktai, priskirtini trumpalaikiam turtui ir tiesiogiai susiję su MTEP veikla",null,null,null,null,{"$f":"SUM(G45:G71)","v":0},{"$f":"SUM(H45:H71)","v":0}]
["5.3.1","Išlaidų pavadinimas",null,null,null,null,{"$f":"ROUND(E45*F45,2)","v":0},{"$f":"ROUND(G45*$D$7,2)","v":0}]
["5.3.2","Išlaidų pavadinimas",null,null,null,null,{"$f":"ROUND(E46*F46,2)","v":0},{"$f":"ROUND(G46*$D$7,2)","v":0}]
["5.3.3","Išlaidų pavadinimas",null,null,null,null,{"$f":"ROUND(E47*F47,2)","v":0},{"$f":"ROUND(G47*$D$7,2)","v":0}]
["5.3.4","Išlaidų pavadinimas",null,null,null,null,{"$f":"ROUND(E48*F48,2)","v":0},{"$f":"ROUND(G48*$D$7,2)","v":0}]
["5.3.5","Išlaidų pavadinimas",null,null,null,null,{"$f":"ROUND(E49*F49,2)","v":0},{"$f":"ROUND(G49*$D$7,2)","v":0}]
["5.3.6","Išlaidų pavadinimas",null,null,null,null,0,0]
["5.3.7","Išlaidų pavadinimas",null,null,null,null,0,0]
["5.3.8","Išlaidų pavadinimas",null,null,null,null,0,0]
["5.3.9","Išlaidų pavadinimas",null,null,null,null,0,0]
["5.3.10","Išlaidų pavadinimas",null,null,null,null,0,0]
["5.3.11","Išlaidų pavadinimas",null,null,null,null,0,0]
["5.3.12","Išlaidų pavadinimas",null,null,null,null,0,0]
["5.3.13","Išlaidų pavadinimas",null,null,null,null,0,0]
["5.3.14","Išlaidų pavadinimas",null,null,null,null,0,0]
["5.3.15","Išlaidų pavadinimas",null,null,null,null,0,0]
["5.3.16","Išlaidų pavadinimas",null,null,null,null,0,0]
["5.3.17","Išlaidų pavadinimas",null,null,null,null,0,0]
["5.3.18","Išlaidų pavadinimas",null,null,null,null,0,0]
["5.3.19","Išlaidų pavadinimas",null,null,null,null,0,0]
["5.3.20","Išlaidų pavadinimas",null,null,null,null,0,0]
["5.3.21","Išlaidų pavadinimas",null,null,null,null,0,0]
["5.3.22","Išlaidų pavadinimas",null,null,null,null,0,0]
["5.3.23","Išlaidų pavadinimas",null,null,null,null,0,0]
["5.3.24","Išlaidų pavadinimas",null,null,null,null,0,0]
["5.3.25","Išlaidų pavadinimas",null,null,null,null,0,0]
["5.3.26","Išlaidų pavadinimas",null,null,null,null,0,0]
["5.3.27","Išlaidų pavadinimas",null,null,null,null,0,0]
["5.4","Projekto MTEP veikloms naudojamo ilgalaikio materialaus turto (įrangos, prietaisų, įrankių, įrenginių, mašinų ir įrengimų, pastatų ir (ar) patalpų), nusidėvėjimo sąnaudos, jeigu šiam turtui įsigyti nebuvo naudojamos viešosios (įskaitant ir kitų valstybių) lėšos",null,null,null,null,{"$f":"SUM(G73:G101)","v":0},{"$f":"SUM(H73:H101)","v":0},null,null,"Turto įvedimo į eksploataciją data","Turto įsigijimo vertė, Eur","Turto nudėvėjimo, amortizacijos laikotarpis, mėn.","Numatoma turto likutinė vertė, Eur","1 mėn. nudėvėjimo, amortizacijos suma, Eur","Turto naudojamo projekto reikmėms laikas, mėn.","Turto panaudojimo projekto reikmėms dalis (proc.)","Projektui priskirta turto nusidėvėjimo, amortizacijos suma per projekto laikotarpį, Eur"]
["5.4.1","Turtas, kurio nusidėvėjimą, amortizaciją prašoma finansuoti",null,null,1,{"$f":"R73","v":0},{"$f":"ROUND(E73*F73,2)","v":0},0,null,null,null,null,null,null,{"$f":"IFERROR(ROUND((L73-N73)/M73,2),\"0\")","v":"0"},null,null,{"$f":"O73*P73*Q73","v":0},{"$f":"IF(K73=0,\" \",IF(K73+(M73*30.5)<TODAY(),\"DĖMESIO! Patikrinkite, ar nurodytas turtas dar nėra nudėvėtas, amortizuotas\",\" \"))","v":" "}]
["5.4.2","Turtas, kurio nusidėvėjimą, amortizaciją prašoma finansuoti",null,null,1,0,0,0,null,null,null,null,null,null,{"$f":"IFERROR(ROUND((L74-N74)/M74,2),\"0\")","v":"0"},null,null,{"$f":"O74*P74*Q74","v":0},{"$f":"IF(K74=0,\" \",IF(K74+(M74*30.5)<TODAY(),\"DĖMESIO! Patikrinkite, ar nurodytas turtas dar nėra nudėvėtas, amortizuotas\",\" \"))","v":" "}]
["5.4.3","Turtas, kurio nusidėvėjimą, amortizaciją prašoma finansuoti",null,null,1,0,0,0,null,null,null,null,null,null,"0",null,null,0," "]
["5.4.4","Turtas, kurio nusidėvėjimą, amortizaciją prašoma finansuoti",null,null,1,0,0,0,null,null,null,null,null,null,"0",null,null,0," "]
["5.4.5","Turtas, kurio nusidėvėjimą, amortizaciją prašoma finansuoti",null,null,1,0,0,0,null,null,null,null,null,null,"0",null,null,0," "]
["5.4.6","Turtas, kurio nusidėvėjimą, amortizaciją prašoma finansuoti",null,null,1,0,0,0,null,null,null,null,null,null,"0",null,null,0," "]
["5.4.7","Turtas, kurio nusidėvėjimą, amortizaciją prašoma finansuoti",null,null,1,0,0,0,null,null,null,null,null,null,"0",null,null,0," "]
["5.4.8","Turtas, kurio nusidėvėjimą, amortizaciją prašoma finansuoti",null,null,1,0,0,0,null,null,null,null,null,null,"0",null,null,0," "]
["5.4.9","Turtas, kurio nusidėvėjimą, amortizaciją prašoma finansuoti",null,null,1,0,0,0,null,null,null,null,null,null,"0",null,null,0," "]
["5.4.10","Turtas, kurio nusidėvėjimą, amortizaciją prašoma finansuoti",null,null,1,0,0,0,null,null,null,null,null,null,"0",null,null,0," "]
["5.4.11","Turtas, kurio nusidėvėjimą, amortizaciją prašoma finansuoti",null,null,1,0,0,0,null,null,null,null,null,null,"0",null,null,0," "]
["5.4.12","Turtas, kurio nusidėvėjimą, amortizaciją prašoma finansuoti",null,null,1,0,0,0,null,null,null,null,null,null,"0",null,null,0," "]
["5.4.13","Turtas, kurio nusidėvėjimą, amortizaciją prašoma finansuoti",null,null,1,0,0,0,null,null,null,null,null,null,"0",null,null,0," "]
["5.4.14","Turtas, kurio nusidėvėjimą, amortizaciją prašoma finansuoti",null,null,1,0,0,0,null,null,null,null,null,null,"0",null,null,0," "]
["5.4.15","Turtas, kurio nusidėvėjimą, amortizaciją prašoma finansuoti",null,null,1,0,0,0,null,null,null,null,null,null,"0",null,null,0," "]
["5.4.16","Turtas, kurio nusidėvėjimą, amortizaciją prašoma finansuoti",null,null,1,0,0,0,null,null,null,null,null,null,"0",null,null,0," "]
["5.4.17","Turtas, kurio nusidėvėjimą, amortizaciją prašoma finansuoti",null,null,1,0,0,0,null,null,null,null,null,null,"0",null,null,0," "]
["5.4.18","Turtas, kurio nusidėvėjimą, amortizaciją prašoma finansuoti",null,null,1,0,0,0,null,null,null,null,null,null,"0",null,null,0," "]
["5.4.19","Turtas, kurio nusidėvėjimą, amortizaciją prašoma finansuoti",null,null,1,0,0,0,null,null,null,null,null,null,"0",null,null,0," "]
["5.4.20","Turtas, kurio nusidėvėjimą, amortizaciją prašoma finansuoti",null,null,1,0,0,0,null,null,null,null,null,null,"0",null,null,0," "]
["5.4.21","Turtas, kurio nusidėvėjimą, amortizaciją prašoma finansuoti",null,null,1,0,0,0,null,null,null,null,null,null,"0",null,null,0," "]
["5.4.22","Turtas, kurio nusidėvėjimą, amortizaciją prašoma finansuoti",null,null,1,0,0,0,null,null,null,null,null,null,"0",null,null,0," "]
["5.4.23","Turtas, kurio nusidėvėjimą, amortizaciją prašoma finansuoti",null,null,1,0,0,0,null,null,null,null,null,null,"0",null,null,0," "]
["5.4.24","Turtas, kurio nusidėvėjimą, amortizaciją prašoma finansuoti",null,null,1,0,0,0,null,null,null,null,null,null,"0",null,null,0," "]
["5.4.25","Turtas, kurio nusidėvėjimą, amortizaciją prašoma finansuoti",null,null,1,0,0,0,null,null,null,null,null,null,"0",null,null,0," "]
["5.4.26","Turtas, kurio nusidėvėjimą, amortizaciją prašoma finansuoti",null,null,1,0,0,0,null,null,null,null,null,null,"0",null,null,0," "]
["5.4.27","Turtas, kurio nusidėvėjimą, amortizaciją prašoma finansuoti",null,null,1,0,0,0,null,null,null,null,null,null,"0",null,null,0," "]
["5.4.28","Turtas, kurio nusidėvėjimą, amortizaciją prašoma finansuoti",null,null,1,0,0,0,null,null,null,null,null,null,"0",null,null,0," "]
["5.4.29","Turtas, kurio nusidėvėjimą, amortizaciją prašoma finansuoti",null,null,1,0,0,0,null,null,null,null,null,null,"0",null,null,0," "]
["5.5","Projektą vykdančio personalo darbo užmokestis ir išlaidos su darbo santykiais susijusiems darbdavio įsipareigojimams",null,null,null,null,{"$f":"SUM(G103:G152)","v":0},{"$f":"SUM(H103:H152)","v":0},null,null,"Faktiškai gaunamas darbo užmokesti už 1 valandą pagal  pastarųjų 6 mėn. vidurkį, Eur"]
["5.5.1","Pareigybės pavadinimas","Darbuotojo vardas pavardė","val.",null,{"$f":"IFERROR(ROUND(AVERAGE(K103:K107),2),\"0\")","v":"0"},{"$f":"ROUND(E103*F103,2)","v":0},{"$f":"ROUND(G103*$D$7,2)","v":0}]
[null,null,"Darbuotojo vardas pavardė"]
[null,null,"Darbuotojo vardas pavardė"]
[null,null,"Darbuotojo vardas pavardė"]
[null,null,"Darbuotojo vardas pavardė"]
["5.5.2","Pareigybės pavadinimas","Darbuotojo vardas pavardė","val.",null,{"$f":"IFERROR(ROUND(AVERAGE(K108:K112),2),\"0\")","v":"0"},{"$f":"ROUND(E108*F108,2)","v":0},{"$f":"ROUND(G108*$D$7,2)","v":0}]
[null,null,"Darbuotojo vardas pavardė"]
[null,null,"Darbuotojo vardas pavardė"]
[null,null,"Darbuotojo vardas pavardė"]
[null,null,"Darbuotojo vardas pavardė"]
["5.5.3","Pareigybės pavadinimas","Darbuotojo vardas pavardė","val.",null,{"$f":"IFERROR(ROUND(AVERAGE(K113:K117),2),\"0\")","v":"0"},{"$f":"ROUND(E113*F113,2)","v":0},{"$f":"ROUND(G113*$D$7,2)","v":0}]
[null,null,"Darbuotojo vardas pavardė"]
[null,null,"Darbuotojo vardas pavardė"]
[null,null,"Darbuotojo vardas pavardė"]
[null,null,"Darbuotojo vardas pavardė"]
["5.5.4","Pareigybės pavadinimas","Darbuotojo vardas pavardė","val.",null,{"$f":"IFERROR(ROUND(AVERAGE(K118:K122),2),\"0\")","v":"0"},{"$f":"ROUND(E118*F118,2)","v":0},{"$f":"ROUND(G118*$D$7,2)","v":0}]
[null,null,"Darbuotojo vardas pavardė"]
[null,null,"Darbuotojo vardas pavardė"]
[null,null,"Darbuotojo vardas pavardė"]
[null,null,"Darbuotojo vardas pavardė"]
["5.5.5","Pareigybės pavadinimas","Darbuotojo vardas pavardė","val.",null,{"$f":"IFERROR(ROUND(AVERAGE(K123:K127),2),\"0\")","v":"0"},{"$f":"ROUND(E123*F123,2)","v":0},{"$f":"ROUND(G123*$D$7,2)","v":0}]
[null,null,"Darbuotojo vardas pavardė"]
[null,null,"Darbuotojo vardas pavardė"]
[null,null,"Darbuotojo vardas pavardė"]
[null,null,"Darbuotojo vardas pavardė"]
["5.5.6","Pareigybės pavadinimas","Darbuotojo vardas pavardė","val.",null,{"$f":"IFERROR(ROUND(AVERAGE(K128:K132),2),\"0\")","v":"0"},{"$f":"ROUND(E128*F128,2)","v":0},{"$f":"ROUND(G128*$D$7,2)","v":0}]
[null,null,"Darbuotojo vardas pavardė"]
[null,null,"Darbuotojo vardas pavardė"]
[null,null,"Darbuotojo vardas pavardė"]
[null,null,"Darbuotojo vardas pavardė"]
["5.5.7","Pareigybės pavadinimas","Darbuotojo vardas pavardė","val.",null,{"$f":"IFERROR(ROUND(AVERAGE(K133:K137),2),\"0\")","v":"0"},{"$f":"ROUND(E133*F133,2)","v":0},{"$f":"ROUND(G133*$D$7,2)","v":0}]
[null,null,"Darbuotojo vardas pavardė"]
[null,null,"Darbuotojo vardas pavardė"]
[null,null,"Darbuotojo vardas pavardė"]
[null,null,"Darbuotojo vardas pavardė"]
["5.5.8","Pareigybės pavadinimas","Darbuotojo vardas pavardė","val.",null,{"$f":"IFERROR(ROUND(AVERAGE(K138:K142),2),\"0\")","v":"0"},{"$f":"ROUND(E138*F138,2)","v":0},{"$f":"ROUND(G138*$D$7,2)","v":0}]
[null,null,"Darbuotojo vardas pavardė"]
[null,null,"Darbuotojo vardas pavardė"]
[null,null,"Darbuotojo vardas pavardė"]
[null,null,"Darbuotojo vardas pavardė"]
["5.5.9","Pareigybės pavadinimas","Darbuotojo vardas pavardė","val.",null,{"$f":"IFERROR(ROUND(AVERAGE(K143:K147),2),\"0\")","v":"0"},{"$f":"ROUND(E143*F143,2)","v":0},{"$f":"ROUND(G143*$D$7,2)","v":0}]
[null,null,"Darbuotojo vardas pavardė"]
[null,null,"Darbuotojo vardas pavardė"]
[null,null,"Darbuotojo vardas pavardė"]
[null,null,"Darbuotojo vardas pavardė"]
["5.5.10","Pareigybės pavadinimas","Darbuotojo vardas pavardė","val.",null,{"$f":"IFERROR(ROUND(AVERAGE(K148:K152),2),\"0\")","v":"0"},{"$f":"ROUND(E148*F148,2)","v":0},{"$f":"ROUND(G148*$D$7,2)","v":0}]
[null,null,"Darbuotojo vardas pavardė"]
[null,null,"Darbuotojo vardas pavardė"]
[null,null,"Darbuotojo vardas pavardė"]
[null,null,"Darbuotojo vardas pavardė"]
["5.6","Projektą vykdančio personalo komandiruočių išlaidos",null,null,null,null,{"$f":"SUM(G154,G161,G168,G175,G182,G189,G196,G203,G210,G217)","v":0},{"$f":"SUM(H154,H161,H168,H175,H182,H189,H196,H203,H210,H217)","v":0}]
["5.6.1","Komandiruotės pavadinimas, vieta, trukmė dienomis, vykstančių asmenų skaičius","Iš viso komandiruotei",null,null,null,{"$f":"SUM(G155:G160)","v":0},{"$f":"ROUND(G154*$D$7,2)","v":0}]
[null,null,"Dienpinigiai",null,null,null,{"$f":"ROUND(E155*F155,2)","v":0}]
[null,null,"Gyvenamojo ploto nuoma",null,null,null,0]
[null,null,"Kelionės išlaidos",null,null,null,0]
[null,null,"Dalyvavimo mokestis",null,null,null,0]
[null,null,"Kitos išlaidų pavadinimas",null,null,null,0]
[null,null,"Kitos išlaidų pavadinimas",null,null,null,0]
["5.6.2","Komandiruotės pavadinimas, vieta, trukmė dienomis, vykstančių asmenų skaičius","Iš viso komandiruotei",null,null,null,{"$f":"SUM(G162:G167)","v":0},{"$f":"ROUND(G161*$D$7,2)","v":0}]
[null,null,"Dienpinigiai",null,null,null,{"$f":"ROUND(E162*F162,2)","v":0}]
[null,null,"Gyvenamojo ploto nuoma",null,null,null,0]
[null,null,"Kelionės išlaidos",null,null,null,0]
[null,null,"Dalyvavimo mokestis",null,null,null,0]
[null,null,"Kitos išlaidų pavadinimas",null,null,null,0]
[null,null,"Kitos išlaidų pavadinimas",null,null,null,0]
["5.6.3","Komandiruotės pavadinimas, vieta, trukmė dienomis, vykstančių asmenų skaičius","Iš viso komandiruotei",null,null,null,{"$f":"SUM(G169:G174)","v":0},{"$f":"ROUND(G168*$D$7,2)","v":0}]
[null,null,"Dienpinigiai",null,null,null,{"$f":"ROUND(E169*F169,2)","v":0}]
[null,null,"Gyvenamojo ploto nuoma",null,null,null,0]
[null,null,"Kelionės išlaidos",null,null,null,0]
[null,null,"Dalyvavimo mokestis",null,null,null,0]
[null,null,"Kitos išlaidų pavadinimas",null,null,null,0]
[null,null,"Kitos išlaidų pavadinimas",null,null,null,0]
["5.6.4","Komandiruotės pavadinimas, vieta, trukmė dienomis, vykstančių asmenų skaičius","Iš viso komandiruotei",null,null,null,{"$f":"SUM(G176:G181)","v":0},{"$f":"ROUND(G175*$D$7,2)","v":0}]
[null,null,"Dienpinigiai",null,null,null,{"$f":"ROUND(E176*F176,2)","v":0}]
[null,null,"Gyvenamojo ploto nuoma",null,null,null,0]
[null,null,"Kelionės išlaidos",null,null,null,0]
[null,null,"Dalyvavimo mokestis",null,null,null,0]
[null,null,"Kitos išlaidų pavadinimas",null,null,null,0]
[null,null,"Kitos išlaidų pavadinimas",null,null,null,0]
["5.6.5","Komandiruotės pavadinimas, vieta, trukmė dienomis, vykstančių asmenų skaičius","Iš viso komandiruotei",null,null,null,{"$f":"SUM(G183:G188)","v":0},{"$f":"ROUND(G182*$D$7,2)","v":0}]
[null,null,"Dienpinigiai",null,null,null,{"$f":"ROUND(E183*F183,2)","v":0}]
[null,null,"Gyvenamojo ploto nuoma",null,null,null,0]
[null,null,"Kelionės išlaidos",null,null,null,0]
[null,null,"Dalyvavimo mokestis",null,null,null,0]
[null,null,"Kitos išlaidų pavadinimas",null,null,null,0]
[null,null,"Kitos išlaidų pavadinimas",null,null,null,0]
["5.6.6","Komandiruotės pavadinimas, vieta, trukmė dienomis, vykstančių asmenų skaičius","Iš viso komandiruotei",null,null,null,{"$f":"SUM(G190:G195)","v":0},{"$f":"ROUND(G189*$D$7,2)","v":0}]
[null,null,"Dienpinigiai",null,null,null,{"$f":"ROUND(E190*F190,2)","v":0}]
[null,null,"Gyvenamojo ploto nuoma",null,null,null,0]
[null,null,"Kelionės išlaidos",null,null,null,0]
[null,null,"Dalyvavimo mokestis",null,null,null,0]
[null,null,"Kitos išlaidų pavadinimas",null,null,null,0]
[null,null,"Kitos išlaidų pavadinimas",null,null,null,0]
["5.6.7","Komandiruotės pavadinimas, vieta, trukmė dienomis, vykstančių asmenų skaičius","Iš viso komandiruotei",null,null,null,{"$f":"SUM(G197:G202)","v":0},{"$f":"ROUND(G196*$D$7,2)","v":0}]
[null,null,"Dienpinigiai",null,null,null,{"$f":"ROUND(E197*F197,2)","v":0}]
[null,null,"Gyvenamojo ploto nuoma",null,null,null,0]
[null,null,"Kelionės išlaidos",null,null,null,0]
[null,null,"Dalyvavimo mokestis",null,null,null,0]
[null,null,"Kitos išlaidų pavadinimas",null,null,null,0]
[null,null,"Kitos išlaidų pavadinimas",null,null,null,0]
["5.6.8","Komandiruotės pavadinimas, vieta, trukmė dienomis, vykstančių asmenų skaičius","Iš viso komandiruotei",null,null,null,{"$f":"SUM(G204:G209)","v":0},{"$f":"ROUND(G203*$D$7,2)","v":0}]
[null,null,"Dienpinigiai",null,null,null,{"$f":"ROUND(E204*F204,2)","v":0}]
[null,null,"Gyvenamojo ploto nuoma",null,null,null,0]
[null,null,"Kelionės išlaidos",null,null,null,0]
[null,null,"Dalyvavimo mokestis",null,null,null,0]
[null,null,"Kitos išlaidų pavadinimas",null,null,null,0]
[null,null,"Kitos išlaidų pavadinimas",null,null,null,0]
["5.6.9","Komandiruotės pavadinimas, vieta, trukmė dienomis, vykstančių asmenų skaičius","Iš viso komandiruotei",null,null,null,{"$f":"SUM(G211:G216)","v":0},{"$f":"ROUND(G210*$D$7,2)","v":0}]
[null,null,"Dienpinigiai",null,null,null,{"$f":"ROUND(E211*F211,2)","v":0}]
[null,null,"Gyvenamojo ploto nuoma",null,null,null,0]
[null,null,"Kelionės išlaidos",null,null,null,0]
[null,null,"Dalyvavimo mokestis",null,null,null,0]
[null,null,"Kitos išlaidų pavadinimas",null,null,null,0]
[null,null,"Kitos išlaidų pavadinimas",null,null,null,0]
["5.6.10","Komandiruotės pavadinimas, vieta, trukmė dienomis, vykstančių asmenų skaičius","Iš viso komandiruotei",null,null,null,{"$f":"SUM(G218:G223)","v":0},{"$f":"ROUND(G217*$D$7,2)","v":0}]
[null,null,"Dienpinigiai",null,null,null,{"$f":"ROUND(E218*F218,2)","v":0}]
[null,null,"Gyvenamojo ploto nuoma",null,null,null,0]
[null,null,"Kelionės išlaidos",null,null,null,0]
[null,null,"Dalyvavimo mokestis",null,null,null,0]
[null,null,"Kitos išlaidų pavadinimas",null,null,null,0]
[null,null,"Kitos išlaidų pavadinimas",null,null,null,0]
["5.7","Įrangos nuomos išlaidos, veiklai priskirtos pro rata principu. Įranga turi būti tiesiogiai susijusi su projekto įgyvendinimu ir negali būti įsigyta iš ES struktūrinių fondų ar kt. ES finansinių priemonių lėšų",null,null,null,null,{"$f":"SUM(G225:G241)","v":0},{"$f":"SUM(H225:H241)","v":0},null,null,"Faktinės 1 mėnesio išlaidos, Eur","Naudojimo projekte trukmė, mėn."]
["5.7.1","Įrangos pavadinimas",null,"pro rata proc.",null,{"$f":"K225*L225","v":0},{"$f":"ROUND(E225*F225,2)","v":0},{"$f":"ROUND(G225*$D$7,2)","v":0}]
["5.7.2","Įrangos pavadinimas",null,"pro rata proc.",null,{"$f":"K226*L226","v":0},0,{"$f":"ROUND(G226*$D$7,2)","v":0}]
["5.7.3","Įrangos pavadinimas",null,"pro rata proc.",null,0,0,0]
["5.7.4","Įrangos pavadinimas",null,"pro rata proc.",null,0,0,0]
["5.7.5","Įrangos pavadinimas",null,"pro rata proc.",null,0,0,0]
["5.7.6","Įrangos pavadinimas",null,"pro rata proc.",null,0,0,0]
["5.7.7","Įrangos pavadinimas",null,"pro rata proc.",null,0,0,0]
["5.7.8","Įrangos pavadinimas",null,"pro rata proc.",null,0,0,0]
["5.7.9","Įrangos pavadinimas",null,"pro rata proc.",null,0,0,0]
["5.7.10","Įrangos pavadinimas",null,"pro rata proc.",null,0,0,0]
["5.7.11","Įrangos pavadinimas",null,"pro rata proc.",null,0,0,0]
["5.7.12","Įrangos pavadinimas",null,"pro rata proc.",null,0,0,0]
["5.7.13","Įrangos pavadinimas",null,"pro rata proc.",null,0,0,0]
["5.7.14","Įrangos pavadinimas",null,"pro rata proc.",null,{"$f":"K238*L238","v":0},0,{"$f":"ROUND(G238*$D$7,2)","v":0}]
["5.7.15","Įrangos pavadinimas",null,"pro rata proc.",null,{"$f":"K239*L239","v":0},0,{"$f":"ROUND(G239*$D$7,2)","v":0}]
["5.7.16","Įrangos pavadinimas",null,"pro rata proc.",null,{"$f":"K240*L240","v":0},0,{"$f":"ROUND(G240*$D$7,2)","v":0}]
["5.7.17","Įrangos pavadinimas",null,"pro rata proc.",null,{"$f":"K241*L241","v":0},0,{"$f":"ROUND(G241*$D$7,2)","v":0}]
["5.8","Pastatų ar patalpų nuomos išlaidos, veiklai priskirtos pro rata principu. Pastatai ar patalpos turi būti tiesiogiai susijusi su projekto įgyvendinimu.",null,null,null,null,{"$f":"SUM(G243:G247)","v":0},{"$f":"SUM(H243:H247)","v":0},null,null,"Faktinės 1 mėnesio išlaidos, Eur","Naudojimo projekte trukmė, mėn."]
["5.8.1","Pastato, patalpų adresas",null,"pro rata proc.",null,{"$f":"K243*L243","v":0},{"$f":"ROUND(E243*F243,2)","v":0},{"$f":"ROUND(G243*$D$7,2)","v":0}]
["5.8.2","Pastato, patalpų adresas",null,"pro rata proc.",null,{"$f":"K244*L244","v":0},{"$f":"ROUND(E244*F244,2)","v":0},{"$f":"ROUND(G244*$D$7,2)","v":0}]
["5.8.3","Pastato, patalpų adresas",null,"pro rata proc.",null,{"$f":"K245*L245","v":0},{"$f":"ROUND(E245*F245,2)","v":0},{"$f":"ROUND(G245*$D$7,2)","v":0}]
["5.8.4","Pastato, patalpų adresas",null,"pro rata proc.",null,{"$f":"K246*L246","v":0},{"$f":"ROUND(E246*F246,2)","v":0},{"$f":"ROUND(G246*$D$7,2)","v":0}]
["5.8.5","Pastato, patalpų adresas",null,"pro rata proc.",null,{"$f":"K247*L247","v":0},{"$f":"ROUND(E247*F247,2)","v":0},{"$f":"ROUND(G247*$D$7,2)","v":0}]
["Iš viso tinkamų finansuoti išlaidų:",null,null,null,null,null,{"$f":"G10+G21","v":0},{"$f":"H10+H21","v":0}]

{"sheet":"22","index":16,"n_rows":248,"n_cols":19,"rows_kept":248,"cut":false,"hidden":true,"merged":[[5,3,5,8],[8,1,8,2],[9,1,9,5],[10,1,10,2],[11,1,11,2],[12,1,12,2],[0,3,0,8],[2,0,2,2],[2,3,2,8],[3,3,3,4],[3,5,3,6],[4,0,4,2],[4,3,4,8],[19,1,19,2],[20,1,20,5],[21,1,21,5],[22,1,22,2],[23,1,23,2],[24,1,24,2],[13,1,13,2],[14,1,14,2],[15,1,15,2],[16,1,16,2],[17,1,17,2],[18,1,18,2],[31,1,31,2],[32,1,32,5],[33,1,33,2],[34,1,34,2],[35,1,35,2],[36,1,36,2],[25,1,25,2],[26,1,26,2],[27,1,27,2],[28,1,28,2],[29,1,29,2],[30,1,30,2],[43,1,43,5],[44,1,44,2],[45,1,45,2],[46,1,46,2],[47,1,47,2],[48,1,48,2],[37,1,37,2],[38,1,38,2],[39,1,39,2],[40,1,40,2],[41,1,41,2],[42,1,42,2],[55,1,55,2],[56,1,56,2],[57,1,57,2],[58,1,58,2],[59,1,59,2],[60,1,60,2],[49,1,49,2],[50,1,50,2],[51,1,51,2],[52,1,52,2],[53,1,53,2],[54,1,54,2],[67,1,67,2],[68,1,68,2],[69,1,69,2],[70,1,70,2],[71,1,71,5],[72,1,72,2],[61,1,61,2],[62,1,62,2],[63,1,63,2],[64,1,64,2],[65,1,65,2],[66,1,66,2],[79,1,79,2],[80,1,80,2],[81,1,81,2],[82,1,82,2],[83,1,83,2],[84,1,84,2],[73,1,73,2],[74,1,74,2],[75,1,75,2],[76,1,76,2],[77,1,77,2],[78,1,78,2],[91,1,91,2],[92,1,92,2],[93,1,93,2],[94,1,94,2],[95,1,95,2],[96,1,96,2],[85,1,85,2],[86,1,86,2],[87,1,87,2],[88,1,88,2],[89,1,89,2],[90,1,90,2],[97,1,97,2],[98,1,98,2],[99,1,99,2],[100,1,100,2],[101,1,101,5],[102,0,106,0],[102,1,106,1],[102,3,106,3],[102,4,106,4],[102,5,106,5],[102,6,106,6],[102,7,106,7],[102,8,106,8],[107,0,111,0],[107,1,111,1],[107,3,111,3],[107,4,111,4],[107,5,111,5],[107,6,111,6],[107,7,111,7],[107,8,111,8],[112,0,116,0],[112,1,116,1],[112,3,116,3],[112,4,116,4],[112,5,116,5],[112,6,116,6],[112,7,116,7],[112,8,116,8],[117,7,121,7],[117,8,121,8],[122,0,126,0],[122,1,126,1],[122,3,126,3],[122,4,126,4],[122,5,126,5],[122,6,126,6],[122,7,126,7],[122,8,126,8],[117,0,121,0],[117,1,121,1],[117,3,121,3],[117,4,121,4],[117,5,121,5],[117,6,121,6],[127,7,131,7],[127,8,131,8],[132,0,136,0],[132,1,136,1],[132,3,136,3],[132,4,136,4],[132,5,136,5],[132,6,136,6],[132,7,136,7],[132,8,136,8],[127,0,131,0],[127,1,131,1],[127,3,131,3],[127,4,131,4],[127,5,131,5],[127,6,131,6],[137,7,141,7],[137,8,141,8],[142,0,146,0],[142,1,146,1],[142,3,146,3],[142,4,146,4],[142,5,146,5],[142,6,146,6],[142,7,146,7],[142,8,146,8],[137,0,141,0],[137,1,141,1],[137,3,141,3],[137,4,141,4],[137,5,141,5],[137,6,141,6],[160,0,166,0],[160,1,166,1],[160,8,166,8],[167,0,173,0],[167,1,173,1],[167,8,173,8],[147,7,151,7],[147,8,151,8],[152,1,152,5],[153,0,159,0],[153,1,159,1],[153,8,159,8],[147,0,151,0],[147,1,151,1],[147,3,151,3],[147,4,151,4],[147,5,151,5],[147,6,151,6],[188,0,194,0],[188,1,194,1],[188,8,194,8],[195,0,201,0],[195,1,201,1],[195,8,201,8],[174,0,180,0],[174,1,180,1],[174,8,180,8],[181,0,187,0],[181,1,187,1],[181,8,187,8],[216,0,222,0],[216,1,222,1],[216,8,222,8],[223,1,223,5],[224,1,224,2],[225,1,225,2],[202,0,208,0],[202,1,208,1],[202,8,208,8],[209,0,215,0],[209,1,215,1],[209,8,215,8],[232,1,232,2],[233,1,233,2],[234,1,234,2],[235,1,235,2],[236,1,236,2],[237,1,237,2],[226,1,226,2],[227,1,227,2],[228,1,228,2],[229,1,229,2],[230,1,230,2],[231,1,231,2],[244,1,244,2],[245,1,245,2],[246,1,246,2],[247,0,247,5],[238,1,238,2],[239,1,239,2],[240,1,240,2],[241,1,241,5],[242,1,242,2],[243,1,243,2]]}
[null,null,"Pasirinkite veiklos tipą:"]
[null,null,"Fizinio rodiklio Nr.:"]
["Fizinio rodiklio pavadinimas:"]
[null,null,"Fizinio rodiklio matavimo vnt.:",null,null,"Fizinio rodiklio vnt. skaičius:"]
["Juridinis asmuo (pareiškėjas, partneris), atsakingas už fizinį rodiklį:"]
[null,null,"Vykdytojo tipas:"]
[null,null,"Finansavimo intensyvumas:",null,null,null,"Pasirinkite biudžeto išlaidų kategoriją:","Visos"]
[]
["Eil. Nr.","Išlaidų kategorijos pavadinimas",null,"Matavimo vnt.","Kiekis","Vieneto kaina be PVM, Eur","Tinkamų finansuoti išlaidų suma be PVM, Eur","Finansavimo suma, Eur","Išlaidų pagrindimo dokumentų pavadinimas, data ir Nr."]
[4,"ĮRANGA, ĮRENGINIAI IR KT. TURTAS (techninių žinių ir išradimų patentų arba teisių pagal licencijų sutartį įsigijimo išlaidos)",null,null,null,null,{"$f":"SUM(G11:G20)","v":0},{"$f":"SUM(H11:H20)","v":0}]
["4.1","Išlaidų pavadinimas",null,null,null,null,{"$f":"ROUND(E11*F11,2)","v":0},{"$f":"ROUND(G11*$D$7,2)","v":0}]
["4.2","Išlaidų pavadinimas",null,null,null,null,0,0]
["4.3","Išlaidų pavadinimas",null,null,null,null,0,0]
["4.4","Išlaidų pavadinimas",null,null,null,null,0,0]
["4.5","Išlaidų pavadinimas",null,null,null,null,0,0]
["4.6","Išlaidų pavadinimas",null,null,null,null,0,0]
["4.7","Išlaidų pavadinimas",null,null,null,null,0,0]
["4.8","Išlaidų pavadinimas",null,null,null,null,0,0]
["4.9","Išlaidų pavadinimas",null,null,null,null,0,0]
["4.10","Išlaidų pavadinimas",null,null,null,null,0,0]
[5,"PROJEKTO VYKDYMAS",null,null,null,null,{"$f":"G22+G33+G44+G72+G102+G153+G224+G242","v":0},{"$f":"H22+H33+H44+H72+H102+H153+H224+H242","v":0}]
["5.1","MTEP paslaugos",null,null,null,null,{"$f":"SUM(G23:G32)","v":0},{"$f":"SUM(H23:H32)","v":0}]
["5.1.1","Paslaugos pavadinimas",null,null,null,null,{"$f":"ROUND(E23*F23,2)","v":0},0]
["5.1.2","Paslaugos pavadinimas",null,null,null,null,0,0]
["5.1.3","Paslaugos pavadinimas",null,null,null,null,0,0]
["5.1.4","Paslaugos pavadinimas",null,null,null,null,0,0]
["5.1.5","Paslaugos pavadinimas",null,null,null,null,0,0]
["5.1.6","Paslaugos pavadinimas",null,null,null,null,0,0]
["5.1.7","Paslaugos pavadinimas",null,null,null,null,0,0]
["5.1.8","Paslaugos pavadinimas",null,null,null,null,0,0]
["5.1.9","Paslaugos pavadinimas",null,null,null,null,0,0]
["5.1.10","Paslaugos pavadinimas",null,null,null,null,0,0]
["5.2","Konsultavimo ir lygiavertės paslaugos, teikiamos vien tik projekto MTEP veiklai.",null,null,null,null,{"$f":"SUM(G34:G43)","v":0},{"$f":"SUM(H34:H43)","v":0}]
["5.2.1","Paslaugos pavadinimas",null,null,null,null,{"$f":"ROUND(E34*F34,2)","v":0},0]
["5.2.2","Paslaugos pavadinimas",null,null,null,null,0,0]
["5.2.3","Paslaugos pavadinimas",null,null,null,null,0,0]
["5.2.4","Paslaugos pavadinimas",null,null,null,null,0,0]
["5.2.5","Paslaugos pavadinimas",null,null,null,null,0,0]
["5.2.6","Paslaugos pavadinimas",null,null,null,null,0,0]
["5.2.7","Paslaugos pavadinimas",null,null,null,null,0,0]
["5.2.8","Paslaugos pavadinimas",null,null,null,null,0,0]
["5.2.9","Paslaugos pavadinimas",null,null,null,null,0,0]
["5.2.10","Paslaugos pavadinimas",null,null,null,null,0,0]
["5.3","Medžiagos, mažavertis inventorius, atsargos ir pan. produktai, priskirtini trumpalaikiam turtui ir tiesiogiai susiję su MTEP veikla",null,null,null,null,{"$f":"SUM(G45:G71)","v":0},{"$f":"SUM(H45:H71)","v":0}]
["5.3.1","Išlaidų pavadinimas",null,null,null,null,{"$f":"ROUND(E45*F45,2)","v":0},{"$f":"ROUND(G45*$D$7,2)","v":0}]
["5.3.2","Išlaidų pavadinimas",null,null,null,null,{"$f":"ROUND(E46*F46,2)","v":0},{"$f":"ROUND(G46*$D$7,2)","v":0}]
["5.3.3","Išlaidų pavadinimas",null,null,null,null,{"$f":"ROUND(E47*F47,2)","v":0},{"$f":"ROUND(G47*$D$7,2)","v":0}]
["5.3.4","Išlaidų pavadinimas",null,null,null,null,{"$f":"ROUND(E48*F48,2)","v":0},{"$f":"ROUND(G48*$D$7,2)","v":0}]
["5.3.5","Išlaidų pavadinimas",null,null,null,null,{"$f":"ROUND(E49*F49,2)","v":0},{"$f":"ROUND(G49*$D$7,2)","v":0}]
["5.3.6","Išlaidų pavadinimas",null,null,null,null,0,0]
["5.3.7","Išlaidų pavadinimas",null,null,null,null,0,0]
["5.3.8","Išlaidų pavadinimas",null,null,null,null,0,0]
["5.3.9","Išlaidų pavadinimas",null,null,null,null,0,0]
["5.3.10","Išlaidų pavadinimas",null,null,null,null,0,0]
["5.3.11","Išlaidų pavadinimas",null,null,null,null,0,0]
["5.3.12","Išlaidų pavadinimas",null,null,null,null,0,0]
["5.3.13","Išlaidų pavadinimas",null,null,null,null,0,0]
["5.3.14","Išlaidų pavadinimas",null,null,null,null,0,0]
["5.3.15","Išlaidų pavadinimas",null,null,null,null,0,0]
["5.3.16","Išlaidų pavadinimas",null,null,null,null,0,0]
["5.3.17","Išlaidų pavadinimas",null,null,null,null,0,0]
["5.3.18","Išlaidų pavadinimas",null,null,null,null,0,0]
["5.3.19","Išlaidų pavadinimas",null,null,null,null,0,0]
["5.3.20","Išlaidų pavadinimas",null,null,null,null,0,0]
["5.3.21","Išlaidų pavadinimas",null,null,null,null,0,0]
["5.3.22","Išlaidų pavadinimas",null,null,null,null,0,0]
["5.3.23","Išlaidų pavadinimas",null,null,null,null,0,0]
["5.3.24","Išlaidų pavadinimas",null,null,null,null,0,0]
["5.3.25","Išlaidų pavadinimas",null,null,null,null,0,0]
["5.3.26","Išlaidų pavadinimas",null,null,null,null,0,0]
["5.3.27","Išlaidų pavadinimas",null,null,null,null,0,0]
["5.4","Projekto MTEP veikloms naudojamo ilgalaikio materialaus turto (įrangos, prietaisų, įrankių, įrenginių, mašinų ir įrengimų, pastatų ir (ar) patalpų), nusidėvėjimo sąnaudos, jeigu šiam turtui įsigyti nebuvo naudojamos viešosios (įskaitant ir kitų valstybių) lėšos",null,null,null,null,{"$f":"SUM(G73:G101)","v":0},{"$f":"SUM(H73:H101)","v":0},null,null,"Turto įvedimo į eksploataciją data","Turto įsigijimo vertė, Eur","Turto nudėvėjimo, amortizacijos laikotarpis, mėn.","Numatoma turto likutinė vertė, Eur","1 mėn. nudėvėjimo, amortizacijos suma, Eur","Turto naudojamo projekto reikmėms laikas, mėn.","Turto panaudojimo projekto reikmėms dalis (proc.)","Projektui priskirta turto nusidėvėjimo, amortizacijos suma per projekto laikotarpį, Eur"]
["5.4.1","Turtas, kurio nusidėvėjimą, amortizaciją prašoma finansuoti",null,null,1,{"$f":"R73","v":0},{"$f":"ROUND(E73*F73,2)","v":0},0,null,null,null,null,null,null,{"$f":"IFERROR(ROUND((L73-N73)/M73,2),\"0\")","v":"0"},null,null,{"$f":"O73*P73*Q73","v":0},{"$f":"IF(K73=0,\" \",IF(K73+(M73*30.5)<TODAY(),\"DĖMESIO! Patikrinkite, ar nurodytas turtas dar nėra nudėvėtas, amortizuotas\",\" \"))","v":" "}]
["5.4.2","Turtas, kurio nusidėvėjimą, amortizaciją prašoma finansuoti",null,null,1,0,0,0,null,null,null,null,null,null,{"$f":"IFERROR(ROUND((L74-N74)/M74,2),\"0\")","v":"0"},null,null,{"$f":"O74*P74*Q74","v":0},{"$f":"IF(K74=0,\" \",IF(K74+(M74*30.5)<TODAY(),\"DĖMESIO! Patikrinkite, ar nurodytas turtas dar nėra nudėvėtas, amortizuotas\",\" \"))","v":" "}]
["5.4.3","Turtas, kurio nusidėvėjimą, amortizaciją prašoma finansuoti",null,null,1,0,0,0,null,null,null,null,null,null,"0",null,null,0," "]
["5.4.4","Turtas, kurio nusidėvėjimą, amortizaciją prašoma finansuoti",null,null,1,0,0,0,null,null,null,null,null,null,"0",null,null,0," "]
["5.4.5","Turtas, kurio nusidėvėjimą, amortizaciją prašoma finansuoti",null,null,1,0,0,0,null,null,null,null,null,null,"0",null,null,0," "]
["5.4.6","Turtas, kurio nusidėvėjimą, amortizaciją prašoma finansuoti",null,null,1,0,0,0,null,null,null,null,null,null,"0",null,null,0," "]
["5.4.7","Turtas, kurio nusidėvėjimą, amortizaciją prašoma finansuoti",null,null,1,0,0,0,null,null,null,null,null,null,"0",null,null,0," "]
["5.4.8","Turtas, kurio nusidėvėjimą, amortizaciją prašoma finansuoti",null,null,1,0,0,0,null,null,null,null,null,null,"0",null,null,0," "]
["5.4.9","Turtas, kurio nusidėvėjimą, amortizaciją prašoma finansuoti",null,null,1,0,0,0,null,null,null,null,null,null,"0",null,null,0," "]
["5.4.10","Turtas, kurio nusidėvėjimą, amortizaciją prašoma finansuoti",null,null,1,0,0,0,null,null,null,null,null,null,"0",null,null,0," "]
["5.4.11","Turtas, kurio nusidėvėjimą, amortizaciją prašoma finansuoti",null,null,1,0,0,0,null,null,null,null,null,null,"0",null,null,0," "]
["5.4.12","Turtas, kurio nusidėvėjimą, amortizaciją prašoma finansuoti",null,null,1,0,0,0,null,null,null,null,null,null,"0",null,null,0," "]
["5.4.13","Turtas, kurio nusidėvėjimą, amortizaciją prašoma finansuoti",null,null,1,0,0,0,null,null,null,null,null,null,"0",null,null,0," "]
["5.4.14","Turtas, kurio nusidėvėjimą, amortizaciją prašoma finansuoti",null,null,1,0,0,0,null,null,null,null,null,null,"0",null,null,0," "]
["5.4.15","Turtas, kurio nusidėvėjimą, amortizaciją prašoma finansuoti",null,null,1,0,0,0,null,null,null,null,null,null,"0",null,null,0," "]
["5.4.16","Turtas, kurio nusidėvėjimą, amortizaciją prašoma finansuoti",null,null,1,0,0,0,null,null,null,null,null,null,"0",null,null,0," "]
["5.4.17","Turtas, kurio nusidėvėjimą, amortizaciją prašoma finansuoti",null,null,1,0,0,0,null,null,null,null,null,null,"0",null,null,0," "]
["5.4.18","Turtas, kurio nusidėvėjimą, amortizaciją prašoma finansuoti",null,null,1,0,0,0,null,null,null,null,null,null,"0",null,null,0," "]
["5.4.19","Turtas, kurio nusidėvėjimą, amortizaciją prašoma finansuoti",null,null,1,0,0,0,null,null,null,null,null,null,"0",null,null,0," "]
["5.4.20","Turtas, kurio nusidėvėjimą, amortizaciją prašoma finansuoti",null,null,1,0,0,0,null,null,null,null,null,null,"0",null,null,0," "]
["5.4.21","Turtas, kurio nusidėvėjimą, amortizaciją prašoma finansuoti",null,null,1,0,0,0,null,null,null,null,null,null,"0",null,null,0," "]
["5.4.22","Turtas, kurio nusidėvėjimą, amortizaciją prašoma finansuoti",null,null,1,0,0,0,null,null,null,null,null,null,"0",null,null,0," "]
["5.4.23","Turtas, kurio nusidėvėjimą, amortizaciją prašoma finansuoti",null,null,1,0,0,0,null,null,null,null,null,null,"0",null,null,0," "]
["5.4.24","Turtas, kurio nusidėvėjimą, amortizaciją prašoma finansuoti",null,null,1,0,0,0,null,null,null,null,null,null,"0",null,null,0," "]
["5.4.25","Turtas, kurio nusidėvėjimą, amortizaciją prašoma finansuoti",null,null,1,0,0,0,null,null,null,null,null,null,"0",null,null,0," "]
["5.4.26","Turtas, kurio nusidėvėjimą, amortizaciją prašoma finansuoti",null,null,1,0,0,0,null,null,null,null,null,null,"0",null,null,0," "]
["5.4.27","Turtas, kurio nusidėvėjimą, amortizaciją prašoma finansuoti",null,null,1,0,0,0,null,null,null,null,null,null,"0",null,null,0," "]
["5.4.28","Turtas, kurio nusidėvėjimą, amortizaciją prašoma finansuoti",null,null,1,0,0,0,null,null,null,null,null,null,"0",null,null,0," "]
["5.4.29","Turtas, kurio nusidėvėjimą, amortizaciją prašoma finansuoti",null,null,1,0,0,0,null,null,null,null,null,null,"0",null,null,0," "]
["5.5","Projektą vykdančio personalo darbo užmokestis ir išlaidos su darbo santykiais susijusiems darbdavio įsipareigojimams",null,null,null,null,{"$f":"SUM(G103:G152)","v":0},{"$f":"SUM(H103:H152)","v":0},null,null,"Faktiškai gaunamas darbo užmokesti už 1 valandą pagal  pastarųjų 6 mėn. vidurkį, Eur"]
["5.5.1","Pareigybės pavadinimas","Darbuotojo vardas pavardė","val.",null,{"$f":"IFERROR(ROUND(AVERAGE(K103:K107),2),\"0\")","v":"0"},{"$f":"ROUND(E103*F103,2)","v":0},{"$f":"ROUND(G103*$D$7,2)","v":0}]
[null,null,"Darbuotojo vardas pavardė"]
[null,null,"Darbuotojo vardas pavardė"]
[null,null,"Darbuotojo vardas pavardė"]
[null,null,"Darbuotojo vardas pavardė"]
["5.5.2","Pareigybės pavadinimas","Darbuotojo vardas pavardė","val.",null,{"$f":"IFERROR(ROUND(AVERAGE(K108:K112),2),\"0\")","v":"0"},{"$f":"ROUND(E108*F108,2)","v":0},{"$f":"ROUND(G108*$D$7,2)","v":0}]
[null,null,"Darbuotojo vardas pavardė"]
[null,null,"Darbuotojo vardas pavardė"]
[null,null,"Darbuotojo vardas pavardė"]
[null,null,"Darbuotojo vardas pavardė"]
["5.5.3","Pareigybės pavadinimas","Darbuotojo vardas pavardė","val.",null,{"$f":"IFERROR(ROUND(AVERAGE(K113:K117),2),\"0\")","v":"0"},{"$f":"ROUND(E113*F113,2)","v":0},{"$f":"ROUND(G113*$D$7,2)","v":0}]
[null,null,"Darbuotojo vardas pavardė"]
[null,null,"Darbuotojo vardas pavardė"]
[null,null,"Darbuotojo vardas pavardė"]
[null,null,"Darbuotojo vardas pavardė"]
["5.5.4","Pareigybės pavadinimas","Darbuotojo vardas pavardė","val.",null,{"$f":"IFERROR(ROUND(AVERAGE(K118:K122),2),\"0\")","v":"0"},{"$f":"ROUND(E118*F118,2)","v":0},{"$f":"ROUND(G118*$D$7,2)","v":0}]
[null,null,"Darbuotojo vardas pavardė"]
[null,null,"Darbuotojo vardas pavardė"]
[null,null,"Darbuotojo vardas pavardė"]
[null,null,"Darbuotojo vardas pavardė"]
["5.5.5","Pareigybės pavadinimas","Darbuotojo vardas pavardė","val.",null,{"$f":"IFERROR(ROUND(AVERAGE(K123:K127),2),\"0\")","v":"0"},{"$f":"ROUND(E123*F123,2)","v":0},{"$f":"ROUND(G123*$D$7,2)","v":0}]
[null,null,"Darbuotojo vardas pavardė"]
[null,null,"Darbuotojo vardas pavardė"]
[null,null,"Darbuotojo vardas pavardė"]
[null,null,"Darbuotojo vardas pavardė"]
["5.5.6","Pareigybės pavadinimas","Darbuotojo vardas pavardė","val.",null,{"$f":"IFERROR(ROUND(AVERAGE(K128:K132),2),\"0\")","v":"0"},{"$f":"ROUND(E128*F128,2)","v":0},{"$f":"ROUND(G128*$D$7,2)","v":0}]
[null,null,"Darbuotojo vardas pavardė"]
[null,null,"Darbuotojo vardas pavardė"]
[null,null,"Darbuotojo vardas pavardė"]
[null,null,"Darbuotojo vardas pavardė"]
["5.5.7","Pareigybės pavadinimas","Darbuotojo vardas pavardė","val.",null,{"$f":"IFERROR(ROUND(AVERAGE(K133:K137),2),\"0\")","v":"0"},{"$f":"ROUND(E133*F133,2)","v":0},{"$f":"ROUND(G133*$D$7,2)","v":0}]
[null,null,"Darbuotojo vardas pavardė"]
[null,null,"Darbuotojo vardas pavardė"]
[null,null,"Darbuotojo vardas pavardė"]
[null,null,"Darbuotojo vardas pavardė"]
["5.5.8","Pareigybės pavadinimas","Darbuotojo vardas pavardė","val.",null,{"$f":"IFERROR(ROUND(AVERAGE(K138:K142),2),\"0\")","v":"0"},{"$f":"ROUND(E138*F138,2)","v":0},{"$f":"ROUND(G138*$D$7,2)","v":0}]
[null,null,"Darbuotojo vardas pavardė"]
[null,null,"Darbuotojo vardas pavardė"]
[null,null,"Darbuotojo vardas pavardė"]
[null,null,"Darbuotojo vardas pavardė"]
["5.5.9","Pareigybės pavadinimas","Darbuotojo vardas pavardė","val.",null,{"$f":"IFERROR(ROUND(AVERAGE(K143:K147),2),\"0\")","v":"0"},{"$f":"ROUND(E143*F143,2)","v":0},{"$f":"ROUND(G143*$D$7,2)","v":0}]
[null,null,"Darbuotojo vardas pavardė"]
[null,null,"Darbuotojo vardas pavardė"]
[null,null,"Darbuotojo vardas pavardė"]
[null,null,"Darbuotojo vardas pavardė"]
["5.5.10","Pareigybės pavadinimas","Darbuotojo vardas pavardė","val.",null,{"$f":"IFERROR(ROUND(AVERAGE(K148:K152),2),\"0\")","v":"0"},{"$f":"ROUND(E148*F148,2)","v":0},{"$f":"ROUND(G148*$D$7,2)","v":0}]
[null,null,"Darbuotojo vardas pavardė"]
[null,null,"Darbuotojo vardas pavardė"]
[null,null,"Darbuotojo vardas pavardė"]
[null,null,"Darbuotojo vardas pavardė"]
["5.6","Projektą vykdančio personalo komandiruočių išlaidos",null,null,null,null,{"$f":"SUM(G154,G161,G168,G175,G182,G189,G196,G203,G210,G217)","v":0},{"$f":"SUM(H154,H161,H168,H175,H182,H189,H196,H203,H210,H217)","v":0}]
["5.6.1","Komandiruotės pavadinimas, vieta, trukmė dienomis, vykstančių asmenų skaičius","Iš viso komandiruotei",null,null,null,{"$f":"SUM(G155:G160)","v":0},{"$f":"ROUND(G154*$D$7,2)","v":0}]
[null,null,"Dienpinigiai",null,null,null,{"$f":"ROUND(E155*F155,2)","v":0}]
[null,null,"Gyvenamojo ploto nuoma",null,null,null,0]
[null,null,"Kelionės išlaidos",null,null,null,0]
[null,null,"Dalyvavimo mokestis",null,null,null,0]
[null,null,"Kitos išlaidų pavadinimas",null,null,null,0]
[null,null,"Kitos išlaidų pavadinimas",null,null,null,0]
["5.6.2","Komandiruotės pavadinimas, vieta, trukmė dienomis, vykstančių asmenų skaičius","Iš viso komandiruotei",null,null,null,{"$f":"SUM(G162:G167)","v":0},{"$f":"ROUND(G161*$D$7,2)","v":0}]
[null,null,"Dienpinigiai",null,null,null,{"$f":"ROUND(E162*F162,2)","v":0}]
[null,null,"Gyvenamojo ploto nuoma",null,null,null,0]
[null,null,"Kelionės išlaidos",null,null,null,0]
[null,null,"Dalyvavimo mokestis",null,null,null,0]
[null,null,"Kitos išlaidų pavadinimas",null,null,null,0]
[null,null,"Kitos išlaidų pavadinimas",null,null,null,0]
["5.6.3","Komandiruotės pavadinimas, vieta, trukmė dienomis, vykstančių asmenų skaičius","Iš viso komandiruotei",null,null,null,{"$f":"SUM(G169:G174)","v":0},{"$f":"ROUND(G168*$D$7,2)","v":0}]
[null,null,"Dienpinigiai",null,null,null,{"$f":"ROUND(E169*F169,2)","v":0}]
[null,null,"Gyvenamojo ploto nuoma",null,null,null,0]
[null,null,"Kelionės išlaidos",null,null,null,0]
[null,null,"Dalyvavimo mokestis",null,null,null,0]
[null,null,"Kitos išlaidų pavadinimas",null,null,null,0]
[null,null,"Kitos išlaidų pavadinimas",null,null,null,0]
["5.6.4","Komandiruotės pavadinimas, vieta, trukmė dienomis, vykstančių asmenų skaičius","Iš viso komandiruotei",null,null,null,{"$f":"SUM(G176:G181)","v":0},{"$f":"ROUND(G175*$D$7,2)","v":0}]
[null,null,"Dienpinigiai",null,null,null,{"$f":"ROUND(E176*F176,2)","v":0}]
[null,null,"Gyvenamojo ploto nuoma",null,null,null,0]
[null,null,"Kelionės išlaidos",null,null,null,0]
[null,null,"Dalyvavimo mokestis",null,null,null,0]
[null,null,"Kitos išlaidų pavadinimas",null,null,null,0]
[null,null,"Kitos išlaidų pavadinimas",null,null,null,0]
["5.6.5","Komandiruotės pavadinimas, vieta, trukmė dienomis, vykstančių asmenų skaičius","Iš viso komandiruotei",null,null,null,{"$f":"SUM(G183:G188)","v":0},{"$f":"ROUND(G182*$D$7,2)","v":0}]
[null,null,"Dienpinigiai",null,null,null,{"$f":"ROUND(E183*F183,2)","v":0}]
[null,null,"Gyvenamojo ploto nuoma",null,null,null,0]
[null,null,"Kelionės išlaidos",null,null,null,0]
[null,null,"Dalyvavimo mokestis",null,null,null,0]
[null,null,"Kitos išlaidų pavadinimas",null,null,null,0]
[null,null,"Kitos išlaidų pavadinimas",null,null,null,0]
["5.6.6","Komandiruotės pavadinimas, vieta, trukmė dienomis, vykstančių asmenų skaičius","Iš viso komandiruotei",null,null,null,{"$f":"SUM(G190:G195)","v":0},{"$f":"ROUND(G189*$D$7,2)","v":0}]
[null,null,"Dienpinigiai",null,null,null,{"$f":"ROUND(E190*F190,2)","v":0}]
[null,null,"Gyvenamojo ploto nuoma",null,null,null,0]
[null,null,"Kelionės išlaidos",null,null,null,0]
[null,null,"Dalyvavimo mokestis",null,null,null,0]
[null,null,"Kitos išlaidų pavadinimas",null,null,null,0]
[null,null,"Kitos išlaidų pavadinimas",null,null,null,0]
["5.6.7","Komandiruotės pavadinimas, vieta, trukmė dienomis, vykstančių asmenų skaičius","Iš viso komandiruotei",null,null,null,{"$f":"SUM(G197:G202)","v":0},{"$f":"ROUND(G196*$D$7,2)","v":0}]
[null,null,"Dienpinigiai",null,null,null,{"$f":"ROUND(E197*F197,2)","v":0}]
[null,null,"Gyvenamojo ploto nuoma",null,null,null,0]
[null,null,"Kelionės išlaidos",null,null,null,0]
[null,null,"Dalyvavimo mokestis",null,null,null,0]
[null,null,"Kitos išlaidų pavadinimas",null,null,null,0]
[null,null,"Kitos išlaidų pavadinimas",null,null,null,0]
["5.6.8","Komandiruotės pavadinimas, vieta, trukmė dienomis, vykstančių asmenų skaičius","Iš viso komandiruotei",null,null,null,{"$f":"SUM(G204:G209)","v":0},{"$f":"ROUND(G203*$D$7,2)","v":0}]
[null,null,"Dienpinigiai",null,null,null,{"$f":"ROUND(E204*F204,2)","v":0}]
[null,null,"Gyvenamojo ploto nuoma",null,null,null,0]
[null,null,"Kelionės išlaidos",null,null,null,0]
[null,null,"Dalyvavimo mokestis",null,null,null,0]
[null,null,"Kitos išlaidų pavadinimas",null,null,null,0]
[null,null,"Kitos išlaidų pavadinimas",null,null,null,0]
["5.6.9","Komandiruotės pavadinimas, vieta, trukmė dienomis, vykstančių asmenų skaičius","Iš viso komandiruotei",null,null,null,{"$f":"SUM(G211:G216)","v":0},{"$f":"ROUND(G210*$D$7,2)","v":0}]
[null,null,"Dienpinigiai",null,null,null,{"$f":"ROUND(E211*F211,2)","v":0}]
[null,null,"Gyvenamojo ploto nuoma",null,null,null,0]
[null,null,"Kelionės išlaidos",null,null,null,0]
[null,null,"Dalyvavimo mokestis",null,null,null,0]
[null,null,"Kitos išlaidų pavadinimas",null,null,null,0]
[null,null,"Kitos išlaidų pavadinimas",null,null,null,0]
["5.6.10","Komandiruotės pavadinimas, vieta, trukmė dienomis, vykstančių asmenų skaičius","Iš viso komandiruotei",null,null,null,{"$f":"SUM(G218:G223)","v":0},{"$f":"ROUND(G217*$D$7,2)","v":0}]
[null,null,"Dienpinigiai",null,null,null,{"$f":"ROUND(E218*F218,2)","v":0}]
[null,null,"Gyvenamojo ploto nuoma",null,null,null,0]
[null,null,"Kelionės išlaidos",null,null,null,0]
[null,null,"Dalyvavimo mokestis",null,null,null,0]
[null,null,"Kitos išlaidų pavadinimas",null,null,null,0]
[null,null,"Kitos išlaidų pavadinimas",null,null,null,0]
["5.7","Įrangos nuomos išlaidos, veiklai priskirtos pro rata principu. Įranga turi būti tiesiogiai susijusi su projekto įgyvendinimu ir negali būti įsigyta iš ES struktūrinių fondų ar kt. ES finansinių priemonių lėšų",null,null,null,null,{"$f":"SUM(G225:G241)","v":0},{"$f":"SUM(H225:H241)","v":0},null,null,"Faktinės 1 mėnesio išlaidos, Eur","Naudojimo projekte trukmė, mėn."]
["5.7.1","Įrangos pavadinimas",null,"pro rata proc.",null,{"$f":"K225*L225","v":0},{"$f":"ROUND(E225*F225,2)","v":0},{"$f":"ROUND(G225*$D$7,2)","v":0}]
["5.7.2","Įrangos pavadinimas",null,"pro rata proc.",null,{"$f":"K226*L226","v":0},0,{"$f":"ROUND(G226*$D$7,2)","v":0}]
["5.7.3","Įrangos pavadinimas",null,"pro rata proc.",null,0,0,0]
["5.7.4","Įrangos pavadinimas",null,"pro rata proc.",null,0,0,0]
["5.7.5","Įrangos pavadinimas",null,"pro rata proc.",null,0,0,0]
["5.7.6","Įrangos pavadinimas",null,"pro rata proc.",null,0,0,0]
["5.7.7","Įrangos pavadinimas",null,"pro rata proc.",null,0,0,0]
["5.7.8","Įrangos pavadinimas",null,"pro rata proc.",null,0,0,0]
["5.7.9","Įrangos pavadinimas",null,"pro rata proc.",null,0,0,0]
["5.7.10","Įrangos pavadinimas",null,"pro rata proc.",null,0,0,0]
["5.7.11","Įrangos pavadinimas",null,"pro rata proc.",null,0,0,0]
["5.7.12","Įrangos pavadinimas",null,"pro rata proc.",null,0,0,0]
["5.7.13","Įrangos pavadinimas",null,"pro rata proc.",null,0,0,0]
["5.7.14","Įrangos pavadinimas",null,"pro rata proc.",null,{"$f":"K238*L238","v":0},0,{"$f":"ROUND(G238*$D$7,2)","v":0}]
["5.7.15","Įrangos pavadinimas",null,"pro rata proc.",null,{"$f":"K239*L239","v":0},0,{"$f":"ROUND(G239*$D$7,2)","v":0}]
["5.7.16","Įrangos pavadinimas",null,"pro rata proc.",null,{"$f":"K240*L240","v":0},0,{"$f":"ROUND(G240*$D$7,2)","v":0}]
["5.7.17","Įrangos pavadinimas",null,"pro rata proc.",null,{"$f":"K241*L241","v":0},0,{"$f":"ROUND(G241*$D$7,2)","v":0}]
["5.8","Pastatų ar patalpų nuomos išlaidos, veiklai priskirtos pro rata principu. Pastatai ar patalpos turi būti tiesiogiai susijusi su projekto įgyvendinimu.",null,null,null,null,{"$f":"SUM(G243:G247)","v":0},{"$f":"SUM(H243:H247)","v":0},null,null,"Faktinės 1 mėnesio išlaidos, Eur","Naudojimo projekte trukmė, mėn."]
["5.8.1","Pastato, patalpų adresas",null,"pro rata proc.",null,{"$f":"K243*L243","v":0},{"$f":"ROUND(E243*F243,2)","v":0},{"$f":"ROUND(G243*$D$7,2)","v":0}]
["5.8.2","Pastato, patalpų adresas",null,"pro rata proc.",null,{"$f":"K244*L244","v":0},{"$f":"ROUND(E244*F244,2)","v":0},{"$f":"ROUND(G244*$D$7,2)","v":0}]
["5.8.3","Pastato, patalpų adresas",null,"pro rata proc.",null,{"$f":"K245*L245","v":0},{"$f":"ROUND(E245*F245,2)","v":0},{"$f":"ROUND(G245*$D$7,2)","v":0}]
["5.8.4","Pastato, patalpų adresas",null,"pro rata proc.",null,{"$f":"K246*L246","v":0},{"$f":"ROUND(E246*F246,2)","v":0},{"$f":"ROUND(G246*$D$7,2)","v":0}]
["5.8.5","Pastato, patalpų adresas",null,"pro rata proc.",null,{"$f":"K247*L247","v":0},{"$f":"ROUND(E247*F247,2)","v":0},{"$f":"ROUND(G247*$D$7,2)","v":0}]
["Iš viso tinkamų finansuoti išlaidų:",null,null,null,null,null,{"$f":"G10+G21","v":0},{"$f":"H10+H21","v":0}]

{"sheet":"23","index":17,"n_rows":248,"n_cols":19,"rows_kept":248,"cut":false,"hidden":true,"merged":[[5,3,5,8],[8,1,8,2],[9,1,9,5],[10,1,10,2],[11,1,11,2],[12,1,12,2],[0,3,0,8],[2,0,2,2],[2,3,2,8],[3,3,3,4],[3,5,3,6],[4,0,4,2],[4,3,4,8],[19,1,19,2],[20,1,20,5],[21,1,21,5],[22,1,22,2],[23,1,23,2],[24,1,24,2],[13,1,13,2],[14,1,14,2],[15,1,15,2],[16,1,16,2],[17,1,17,2],[18,1,18,2],[31,1,31,2],[32,1,32,5],[33,1,33,2],[34,1,34,2],[35,1,35,2],[36,1,36,2],[25,1,25,2],[26,1,26,2],[27,1,27,2],[28,1,28,2],[29,1,29,2],[30,1,30,2],[43,1,43,5],[44,1,44,2],[45,1,45,2],[46,1,46,2],[47,1,47,2],[48,1,48,2],[37,1,37,2],[38,1,38,2],[39,1,39,2],[40,1,40,2],[41,1,41,2],[42,1,42,2],[55,1,55,2],[56,1,56,2],[57,1,57,2],[58,1,58,2],[59,1,59,2],[60,1,60,2],[49,1,49,2],[50,1,50,2],[51,1,51,2],[52,1,52,2],[53,1,53,2],[54,1,54,2],[67,1,67,2],[68,1,68,2],[69,1,69,2],[70,1,70,2],[71,1,71,5],[72,1,72,2],[61,1,61,2],[62,1,62,2],[63,1,63,2],[64,1,64,2],[65,1,65,2],[66,1,66,2],[79,1,79,2],[80,1,80,2],[81,1,81,2],[82,1,82,2],[83,1,83,2],[84,1,84,2],[73,1,73,2],[74,1,74,2],[75,1,75,2],[76,1,76,2],[77,1,77,2],[78,1,78,2],[91,1,91,2],[92,1,92,2],[93,1,93,2],[94,1,94,2],[95,1,95,2],[96,1,96,2],[85,1,85,2],[86,1,86,2],[87,1,87,2],[88,1,88,2],[89,1,89,2],[90,1,90,2],[97,1,97,2],[98,1,98,2],[99,1,99,2],[100,1,100,2],[101,1,101,5],[102,0,106,0],[102,1,106,1],[102,3,106,3],[102,4,106,4],[102,5,106,5],[102,6,106,6],[102,7,106,7],[102,8,106,8],[107,0,111,0],[107,1,111,1],[107,3,111,3],[107,4,111,4],[107,5,111,5],[107,6,111,6],[107,7,111,7],[107,8,111,8],[112,0,116,0],[112,1,116,1],[112,3,116,3],[112,4,116,4],[112,5,116,5],[112,6,116,6],[112,7,116,7],[112,8,116,8],[117,7,121,7],[117,8,121,8],[122,0,126,0],[122,1,126,1],[122,3,126,3],[122,4,126,4],[122,5,126,5],[122,6,126,6],[122,7,126,7],[122,8,126,8],[117,0,121,0],[117,1,121,1],[117,3,121,3],[117,4,121,4],[117,5,121,5],[117,6,121,6],[127,7,131,7],[127,8,131,8],[132,0,136,0],[132,1,136,1],[132,3,136,3],[132,4,136,4],[132,5,136,5],[132,6,136,6],[132,7,136,7],[132,8,136,8],[127,0,131,0],[127,1,131,1],[127,3,131,3],[127,4,131,4],[127,5,131,5],[127,6,131,6],[137,7,141,7],[137,8,141,8],[142,0,146,0],[142,1,146,1],[142,3,146,3],[142,4,146,4],[142,5,146,5],[142,6,146,6],[142,7,146,7],[142,8,146,8],[137,0,141,0],[137,1,141,1],[137,3,141,3],[137,4,141,4],[137,5,141,5],[137,6,141,6],[160,0,166,0],[160,1,166,1],[160,8,166,8],[167,0,173,0],[167,1,173,1],[167,8,173,8],[147,7,151,7],[147,8,151,8],[152,1,152,5],[153,0,159,0],[153,1,159,1],[153,8,159,8],[147,0,151,0],[147,1,151,1],[147,3,151,3],[147,4,151,4],[147,5,151,5],[147,6,151,6],[188,0,194,0],[188,1,194,1],[188,8,194,8],[195,0,201,0],[195,1,201,1],[195,8,201,8],[174,0,180,0],[174,1,180,1],[174,8,180,8],[181,0,187,0],[181,1,187,1],[181,8,187,8],[216,0,222,0],[216,1,222,1],[216,8,222,8],[223,1,223,5],[224,1,224,2],[225,1,225,2],[202,0,208,0],[202,1,208,1],[202,8,208,8],[209,0,215,0],[209,1,215,1],[209,8,215,8],[232,1,232,2],[233,1,233,2],[234,1,234,2],[235,1,235,2],[236,1,236,2],[237,1,237,2],[226,1,226,2],[227,1,227,2],[228,1,228,2],[229,1,229,2],[230,1,230,2],[231,1,231,2],[244,1,244,2],[245,1,245,2],[246,1,246,2],[247,0,247,5],[238,1,238,2],[239,1,239,2],[240,1,240,2],[241,1,241,5],[242,1,242,2],[243,1,243,2]]}
[null,null,"Pasirinkite veiklos tipą:"]
[null,null,"Fizinio rodiklio Nr.:"]
["Fizinio rodiklio pavadinimas:"]
[null,null,"Fizinio rodiklio matavimo vnt.:",null,null,"Fizinio rodiklio vnt. skaičius:"]
["Juridinis asmuo (pareiškėjas, partneris), atsakingas už fizinį rodiklį:"]
[null,null,"Vykdytojo tipas:"]
[null,null,"Finansavimo intensyvumas:",null,null,null,"Pasirinkite biudžeto išlaidų kategoriją:","Visos"]
[]
["Eil. Nr.","Išlaidų kategorijos pavadinimas",null,"Matavimo vnt.","Kiekis","Vieneto kaina be PVM, Eur","Tinkamų finansuoti išlaidų suma be PVM, Eur","Finansavimo suma, Eur","Išlaidų pagrindimo dokumentų pavadinimas, data ir Nr."]
[4,"ĮRANGA, ĮRENGINIAI IR KT. TURTAS (techninių žinių ir išradimų patentų arba teisių pagal licencijų sutartį įsigijimo išlaidos)",null,null,null,null,{"$f":"SUM(G11:G20)","v":0},{"$f":"SUM(H11:H20)","v":0}]
["4.1","Išlaidų pavadinimas",null,null,null,null,{"$f":"ROUND(E11*F11,2)","v":0},{"$f":"ROUND(G11*$D$7,2)","v":0}]
["4.2","Išlaidų pavadinimas",null,null,null,null,0,0]
["4.3","Išlaidų pavadinimas",null,null,null,null,0,0]
["4.4","Išlaidų pavadinimas",null,null,null,null,0,0]
["4.5","Išlaidų pavadinimas",null,null,null,null,0,0]
["4.6","Išlaidų pavadinimas",null,null,null,null,0,0]
["4.7","Išlaidų pavadinimas",null,null,null,null,0,0]
["4.8","Išlaidų pavadinimas",null,null,null,null,0,0]
["4.9","Išlaidų pavadinimas",null,null,null,null,0,0]
["4.10","Išlaidų pavadinimas",null,null,null,null,0,0]
[5,"PROJEKTO VYKDYMAS",null,null,null,null,{"$f":"G22+G33+G44+G72+G102+G153+G224+G242","v":0},{"$f":"H22+H33+H44+H72+H102+H153+H224+H242","v":0}]
["5.1","MTEP paslaugos",null,null,null,null,{"$f":"SUM(G23:G32)","v":0},{"$f":"SUM(H23:H32)","v":0}]
["5.1.1","Paslaugos pavadinimas",null,null,null,null,{"$f":"ROUND(E23*F23,2)","v":0},0]
["5.1.2","Paslaugos pavadinimas",null,null,null,null,0,0]
["5.1.3","Paslaugos pavadinimas",null,null,null,null,0,0]
["5.1.4","Paslaugos pavadinimas",null,null,null,null,0,0]
["5.1.5","Paslaugos pavadinimas",null,null,null,null,0,0]
["5.1.6","Paslaugos pavadinimas",null,null,null,null,0,0]
["5.1.7","Paslaugos pavadinimas",null,null,null,null,0,0]
["5.1.8","Paslaugos pavadinimas",null,null,null,null,0,0]
["5.1.9","Paslaugos pavadinimas",null,null,null,null,0,0]
["5.1.10","Paslaugos pavadinimas",null,null,null,null,0,0]
["5.2","Konsultavimo ir lygiavertės paslaugos, teikiamos vien tik projekto MTEP veiklai.",null,null,null,null,{"$f":"SUM(G34:G43)","v":0},{"$f":"SUM(H34:H43)","v":0}]
["5.2.1","Paslaugos pavadinimas",null,null,null,null,{"$f":"ROUND(E34*F34,2)","v":0},0]
["5.2.2","Paslaugos pavadinimas",null,null,null,null,0,0]
["5.2.3","Paslaugos pavadinimas",null,null,null,null,0,0]
["5.2.4","Paslaugos pavadinimas",null,null,null,null,0,0]
["5.2.5","Paslaugos pavadinimas",null,null,null,null,0,0]
["5.2.6","Paslaugos pavadinimas",null,null,null,null,0,0]
["5.2.7","Paslaugos pavadinimas",null,null,null,null,0,0]
["5.2.8","Paslaugos pavadinimas",null,null,null,null,0,0]
["5.2.9","Paslaugos pavadinimas",null,null,null,null,0,0]
["5.2.10","Paslaugos pavadinimas",null,null,null,null,0,0]
["5.3","Medžiagos, mažavertis inventorius, atsargos ir pan. produktai, priskirtini trumpalaikiam turtui ir tiesiogiai susiję su MTEP veikla",null,null,null,null,{"$f":"SUM(G45:G71)","v":0},{"$f":"SUM(H45:H71)","v":0}]
["5.3.1","Išlaidų pavadinimas",null,null,null,null,{"$f":"ROUND(E45*F45,2)","v":0},{"$f":"ROUND(G45*$D$7,2)","v":0}]
["5.3.2","Išlaidų pavadinimas",null,null,null,null,{"$f":"ROUND(E46*F46,2)","v":0},{"$f":"ROUND(G46*$D$7,2)","v":0}]
["5.3.3","Išlaidų pavadinimas",null,null,null,null,{"$f":"ROUND(E47*F47,2)","v":0},{"$f":"ROUND(G47*$D$7,2)","v":0}]
["5.3.4","Išlaidų pavadinimas",null,null,null,null,{"$f":"ROUND(E48*F48,2)","v":0},{"$f":"ROUND(G48*$D$7,2)","v":0}]
["5.3.5","Išlaidų pavadinimas",null,null,null,null,{"$f":"ROUND(E49*F49,2)","v":0},{"$f":"ROUND(G49*$D$7,2)","v":0}]
["5.3.6","Išlaidų pavadinimas",null,null,null,null,0,0]
["5.3.7","Išlaidų pavadinimas",null,null,null,null,0,0]
["5.3.8","Išlaidų pavadinimas",null,null,null,null,0,0]
["5.3.9","Išlaidų pavadinimas",null,null,null,null,0,0]
["5.3.10","Išlaidų pavadinimas",null,null,null,null,0,0]
["5.3.11","Išlaidų pavadinimas",null,null,null,null,0,0]
["5.3.12","Išlaidų pavadinimas",null,null,null,null,0,0]
["5.3.13","Išlaidų pavadinimas",null,null,null,null,0,0]
["5.3.14","Išlaidų pavadinimas",null,null,null,null,0,0]
["5.3.15","Išlaidų pavadinimas",null,null,null,null,0,0]
["5.3.16","Išlaidų pavadinimas",null,null,null,null,0,0]
["5.3.17","Išlaidų pavadinimas",null,null,null,null,0,0]
["5.3.18","Išlaidų pavadinimas",null,null,null,null,0,0]
["5.3.19","Išlaidų pavadinimas",null,null,null,null,0,0]
["5.3.20","Išlaidų pavadinimas",null,null,null,null,0,0]
["5.3.21","Išlaidų pavadinimas",null,null,null,null,0,0]
["5.3.22","Išlaidų pavadinimas",null,null,null,null,0,0]
["5.3.23","Išlaidų pavadinimas",null,null,null,null,0,0]
["5.3.24","Išlaidų pavadinimas",null,null,null,null,0,0]
["5.3.25","Išlaidų pavadinimas",null,null,null,null,0,0]
["5.3.26","Išlaidų pavadinimas",null,null,null,null,0,0]
["5.3.27","Išlaidų pavadinimas",null,null,null,null,0,0]
["5.4","Projekto MTEP veikloms naudojamo ilgalaikio materialaus turto (įrangos, prietaisų, įrankių, įrenginių, mašinų ir įrengimų, pastatų ir (ar) patalpų), nusidėvėjimo sąnaudos, jeigu šiam turtui įsigyti nebuvo naudojamos viešosios (įskaitant ir kitų valstybių) lėšos",null,null,null,null,{"$f":"SUM(G73:G101)","v":0},{"$f":"SUM(H73:H101)","v":0},null,null,"Turto įvedimo į eksploataciją data","Turto įsigijimo vertė, Eur","Turto nudėvėjimo, amortizacijos laikotarpis, mėn.","Numatoma turto likutinė vertė, Eur","1 mėn. nudėvėjimo, amortizacijos suma, Eur","Turto naudojamo projekto reikmėms laikas, mėn.","Turto panaudojimo projekto reikmėms dalis (proc.)","Projektui priskirta turto nusidėvėjimo, amortizacijos suma per projekto laikotarpį, Eur"]
["5.4.1","Turtas, kurio nusidėvėjimą, amortizaciją prašoma finansuoti",null,null,1,{"$f":"R73","v":0},{"$f":"ROUND(E73*F73,2)","v":0},0,null,null,null,null,null,null,{"$f":"IFERROR(ROUND((L73-N73)/M73,2),\"0\")","v":"0"},null,null,{"$f":"O73*P73*Q73","v":0},{"$f":"IF(K73=0,\" \",IF(K73+(M73*30.5)<TODAY(),\"DĖMESIO! Patikrinkite, ar nurodytas turtas dar nėra nudėvėtas, amortizuotas\",\" \"))","v":" "}]
["5.4.2","Turtas, kurio nusidėvėjimą, amortizaciją prašoma finansuoti",null,null,1,0,0,0,null,null,null,null,null,null,{"$f":"IFERROR(ROUND((L74-N74)/M74,2),\"0\")","v":"0"},null,null,{"$f":"O74*P74*Q74","v":0},{"$f":"IF(K74=0,\" \",IF(K74+(M74*30.5)<TODAY(),\"DĖMESIO! Patikrinkite, ar nurodytas turtas dar nėra nudėvėtas, amortizuotas\",\" \"))","v":" "}]
["5.4.3","Turtas, kurio nusidėvėjimą, amortizaciją prašoma finansuoti",null,null,1,0,0,0,null,null,null,null,null,null,"0",null,null,0," "]
["5.4.4","Turtas, kurio nusidėvėjimą, amortizaciją prašoma finansuoti",null,null,1,0,0,0,null,null,null,null,null,null,"0",null,null,0," "]
["5.4.5","Turtas, kurio nusidėvėjimą, amortizaciją prašoma finansuoti",null,null,1,0,0,0,null,null,null,null,null,null,"0",null,null,0," "]
["5.4.6","Turtas, kurio nusidėvėjimą, amortizaciją prašoma finansuoti",null,null,1,0,0,0,null,null,null,null,null,null,"0",null,null,0," "]
["5.4.7","Turtas, kurio nusidėvėjimą, amortizaciją prašoma finansuoti",null,null,1,0,0,0,null,null,null,null,null,null,"0",null,null,0," "]
["5.4.8","Turtas, kurio nusidėvėjimą, amortizaciją prašoma finansuoti",null,null,1,0,0,0,null,null,null,null,null,null,"0",null,null,0," "]
["5.4.9","Turtas, kurio nusidėvėjimą, amortizaciją prašoma finansuoti",null,null,1,0,0,0,null,null,null,null,null,null,"0",null,null,0," "]
["5.4.10","Turtas, kurio nusidėvėjimą, amortizaciją prašoma finansuoti",null,null,1,0,0,0,null,null,null,null,null,null,"0",null,null,0," "]
["5.4.11","Turtas, kurio nusidėvėjimą, amortizaciją prašoma finansuoti",null,null,1,0,0,0,null,null,null,null,null,null,"0",null,null,0," "]
["5.4.12","Turtas, kurio nusidėvėjimą, amortizaciją prašoma finansuoti",null,null,1,0,0,0,null,null,null,null,null,null,"0",null,null,0," "]
["5.4.13","Turtas, kurio nusidėvėjimą, amortizaciją prašoma finansuoti",null,null,1,0,0,0,null,null,null,null,null,null,"0",null,null,0," "]
["5.4.14","Turtas, kurio nusidėvėjimą, amortizaciją prašoma finansuoti",null,null,1,0,0,0,null,null,null,null,null,null,"0",null,null,0," "]
["5.4.15","Turtas, kurio nusidėvėjimą, amortizaciją prašoma finansuoti",null,null,1,0,0,0,null,null,null,null,null,null,"0",null,null,0," "]
["5.4.16","Turtas, kurio nusidėvėjimą, amortizaciją prašoma finansuoti",null,null,1,0,0,0,null,null,null,null,null,null,"0",null,null,0," "]
["5.4.17","Turtas, kurio nusidėvėjimą, amortizaciją prašoma finansuoti",null,null,1,0,0,0,null,null,null,null,null,null,"0",null,null,0," "]
["5.4.18","Turtas, kurio nusidėvėjimą, amortizaciją prašoma finansuoti",null,null,1,0,0,0,null,null,null,null,null,null,"0",null,null,0," "]
["5.4.19","Turtas, kurio nusidėvėjimą, amortizaciją prašoma finansuoti",null,null,1,0,0,0,null,null,null,null,null,null,"0",null,null,0," "]
["5.4.20","Turtas, kurio nusidėvėjimą, amortizaciją prašoma finansuoti",null,null,1,0,0,0,null,null,null,null,null,null,"0",null,null,0," "]
["5.4.21","Turtas, kurio nusidėvėjimą, amortizaciją prašoma finansuoti",null,null,1,0,0,0,null,null,null,null,null,null,"0",null,null,0," "]
["5.4.22","Turtas, kurio nusidėvėjimą, amortizaciją prašoma finansuoti",null,null,1,0,0,0,null,null,null,null,null,null,"0",null,null,0," "]
["5.4.23","Turtas, kurio nusidėvėjimą, amortizaciją prašoma finansuoti",null,null,1,0,0,0,null,null,null,null,null,null,"0",null,null,0," "]
["5.4.24","Turtas, kurio nusidėvėjimą, amortizaciją prašoma finansuoti",null,null,1,0,0,0,null,null,null,null,null,null,"0",null,null,0," "]
["5.4.25","Turtas, kurio nusidėvėjimą, amortizaciją prašoma finansuoti",null,null,1,0,0,0,null,null,null,null,null,null,"0",null,null,0," "]
["5.4.26","Turtas, kurio nusidėvėjimą, amortizaciją prašoma finansuoti",null,null,1,0,0,0,null,null,null,null,null,null,"0",null,null,0," "]
["5.4.27","Turtas, kurio nusidėvėjimą, amortizaciją prašoma finansuoti",null,null,1,0,0,0,null,null,null,null,null,null,"0",null,null,0," "]
["5.4.28","Turtas, kurio nusidėvėjimą, amortizaciją prašoma finansuoti",null,null,1,0,0,0,null,null,null,null,null,null,"0",null,null,0," "]
["5.4.29","Turtas, kurio nusidėvėjimą, amortizaciją prašoma finansuoti",null,null,1,0,0,0,null,null,null,null,null,null,"0",null,null,0," "]
["5.5","Projektą vykdančio personalo darbo užmokestis ir išlaidos su darbo santykiais susijusiems darbdavio įsipareigojimams",null,null,null,null,{"$f":"SUM(G103:G152)","v":0},{"$f":"SUM(H103:H152)","v":0},null,null,"Faktiškai gaunamas darbo užmokesti už 1 valandą pagal  pastarųjų 6 mėn. vidurkį, Eur"]
["5.5.1","Pareigybės pavadinimas","Darbuotojo vardas pavardė","val.",null,{"$f":"IFERROR(ROUND(AVERAGE(K103:K107),2),\"0\")","v":"0"},{"$f":"ROUND(E103*F103,2)","v":0},{"$f":"ROUND(G103*$D$7,2)","v":0}]
[null,null,"Darbuotojo vardas pavardė"]
[null,null,"Darbuotojo vardas pavardė"]
[null,null,"Darbuotojo vardas pavardė"]
[null,null,"Darbuotojo vardas pavardė"]
["5.5.2","Pareigybės pavadinimas","Darbuotojo vardas pavardė","val.",null,{"$f":"IFERROR(ROUND(AVERAGE(K108:K112),2),\"0\")","v":"0"},{"$f":"ROUND(E108*F108,2)","v":0},{"$f":"ROUND(G108*$D$7,2)","v":0}]
[null,null,"Darbuotojo vardas pavardė"]
[null,null,"Darbuotojo vardas pavardė"]
[null,null,"Darbuotojo vardas pavardė"]
[null,null,"Darbuotojo vardas pavardė"]
["5.5.3","Pareigybės pavadinimas","Darbuotojo vardas pavardė","val.",null,{"$f":"IFERROR(ROUND(AVERAGE(K113:K117),2),\"0\")","v":"0"},{"$f":"ROUND(E113*F113,2)","v":0},{"$f":"ROUND(G113*$D$7,2)","v":0}]
[null,null,"Darbuotojo vardas pavardė"]
[null,null,"Darbuotojo vardas pavardė"]
[null,null,"Darbuotojo vardas pavardė"]
[null,null,"Darbuotojo vardas pavardė"]
["5.5.4","Pareigybės pavadinimas","Darbuotojo vardas pavardė","val.",null,{"$f":"IFERROR(ROUND(AVERAGE(K118:K122),2),\"0\")","v":"0"},{"$f":"ROUND(E118*F118,2)","v":0},{"$f":"ROUND(G118*$D$7,2)","v":0}]
[null,null,"Darbuotojo vardas pavardė"]
[null,null,"Darbuotojo vardas pavardė"]
[null,null,"Darbuotojo vardas pavardė"]
[null,null,"Darbuotojo vardas pavardė"]
["5.5.5","Pareigybės pavadinimas","Darbuotojo vardas pavardė","val.",null,{"$f":"IFERROR(ROUND(AVERAGE(K123:K127),2),\"0\")","v":"0"},{"$f":"ROUND(E123*F123,2)","v":0},{"$f":"ROUND(G123*$D$7,2)","v":0}]
[null,null,"Darbuotojo vardas pavardė"]
[null,null,"Darbuotojo vardas pavardė"]
[null,null,"Darbuotojo vardas pavardė"]
[null,null,"Darbuotojo vardas pavardė"]
["5.5.6","Pareigybės pavadinimas","Darbuotojo vardas pavardė","val.",null,{"$f":"IFERROR(ROUND(AVERAGE(K128:K132),2),\"0\")","v":"0"},{"$f":"ROUND(E128*F128,2)","v":0},{"$f":"ROUND(G128*$D$7,2)","v":0}]
[null,null,"Darbuotojo vardas pavardė"]
[null,null,"Darbuotojo vardas pavardė"]
[null,null,"Darbuotojo vardas pavardė"]
[null,null,"Darbuotojo vardas pavardė"]
["5.5.7","Pareigybės pavadinimas","Darbuotojo vardas pavardė","val.",null,{"$f":"IFERROR(ROUND(AVERAGE(K133:K137),2),\"0\")","v":"0"},{"$f":"ROUND(E133*F133,2)","v":0},{"$f":"ROUND(G133*$D$7,2)","v":0}]
[null,null,"Darbuotojo vardas pavardė"]
[null,null,"Darbuotojo vardas pavardė"]
[null,null,"Darbuotojo vardas pavardė"]
[null,null,"Darbuotojo vardas pavardė"]
["5.5.8","Pareigybės pavadinimas","Darbuotojo vardas pavardė","val.",null,{"$f":"IFERROR(ROUND(AVERAGE(K138:K142),2),\"0\")","v":"0"},{"$f":"ROUND(E138*F138,2)","v":0},{"$f":"ROUND(G138*$D$7,2)","v":0}]
[null,null,"Darbuotojo vardas pavardė"]
[null,null,"Darbuotojo vardas pavardė"]
[null,null,"Darbuotojo vardas pavardė"]
[null,null,"Darbuotojo vardas pavardė"]
["5.5.9","Pareigybės pavadinimas","Darbuotojo vardas pavardė","val.",null,{"$f":"IFERROR(ROUND(AVERAGE(K143:K147),2),\"0\")","v":"0"},{"$f":"ROUND(E143*F143,2)","v":0},{"$f":"ROUND(G143*$D$7,2)","v":0}]
[null,null,"Darbuotojo vardas pavardė"]
[null,null,"Darbuotojo vardas pavardė"]
[null,null,"Darbuotojo vardas pavardė"]
[null,null,"Darbuotojo vardas pavardė"]
["5.5.10","Pareigybės pavadinimas","Darbuotojo vardas pavardė","val.",null,{"$f":"IFERROR(ROUND(AVERAGE(K148:K152),2),\"0\")","v":"0"},{"$f":"ROUND(E148*F148,2)","v":0},{"$f":"ROUND(G148*$D$7,2)","v":0}]
[null,null,"Darbuotojo vardas pavardė"]
[null,null,"Darbuotojo vardas pavardė"]
[null,null,"Darbuotojo vardas pavardė"]
[null,null,"Darbuotojo vardas pavardė"]
["5.6","Projektą vykdančio personalo komandiruočių išlaidos",null,null,null,null,{"$f":"SUM(G154,G161,G168,G175,G182,G189,G196,G203,G210,G217)","v":0},{"$f":"SUM(H154,H161,H168,H175,H182,H189,H196,H203,H210,H217)","v":0}]
["5.6.1","Komandiruotės pavadinimas, vieta, trukmė dienomis, vykstančių asmenų skaičius","Iš viso komandiruotei",null,null,null,{"$f":"SUM(G155:G160)","v":0},{"$f":"ROUND(G154*$D$7,2)","v":0}]
[null,null,"Dienpinigiai",null,null,null,{"$f":"ROUND(E155*F155,2)","v":0}]
[null,null,"Gyvenamojo ploto nuoma",null,null,null,0]
[null,null,"Kelionės išlaidos",null,null,null,0]
[null,null,"Dalyvavimo mokestis",null,null,null,0]
[null,null,"Kitos išlaidų pavadinimas",null,null,null,0]
[null,null,"Kitos išlaidų pavadinimas",null,null,null,0]
["5.6.2","Komandiruotės pavadinimas, vieta, trukmė dienomis, vykstančių asmenų skaičius","Iš viso komandiruotei",null,null,null,{"$f":"SUM(G162:G167)","v":0},{"$f":"ROUND(G161*$D$7,2)","v":0}]
[null,null,"Dienpinigiai",null,null,null,{"$f":"ROUND(E162*F162,2)","v":0}]
[null,null,"Gyvenamojo ploto nuoma",null,null,null,0]
[null,null,"Kelionės išlaidos",null,null,null,0]
[null,null,"Dalyvavimo mokestis",null,null,null,0]
[null,null,"Kitos išlaidų pavadinimas",null,null,null,0]
[null,null,"Kitos išlaidų pavadinimas",null,null,null,0]
["5.6.3","Komandiruotės pavadinimas, vieta, trukmė dienomis, vykstančių asmenų skaičius","Iš viso komandiruotei",null,null,null,{"$f":"SUM(G169:G174)","v":0},{"$f":"ROUND(G168*$D$7,2)","v":0}]
[null,null,"Dienpinigiai",null,null,null,{"$f":"ROUND(E169*F169,2)","v":0}]
[null,null,"Gyvenamojo ploto nuoma",null,null,null,0]
[null,null,"Kelionės išlaidos",null,null,null,0]
[null,null,"Dalyvavimo mokestis",null,null,null,0]
[null,null,"Kitos išlaidų pavadinimas",null,null,null,0]
[null,null,"Kitos išlaidų pavadinimas",null,null,null,0]
["5.6.4","Komandiruotės pavadinimas, vieta, trukmė dienomis, vykstančių asmenų skaičius","Iš viso komandiruotei",null,null,null,{"$f":"SUM(G176:G181)","v":0},{"$f":"ROUND(G175*$D$7,2)","v":0}]
[null,null,"Dienpinigiai",null,null,null,{"$f":"ROUND(E176*F176,2)","v":0}]
[null,null,"Gyvenamojo ploto nuoma",null,null,null,0]
[null,null,"Kelionės išlaidos",null,null,null,0]
[null,null,"Dalyvavimo mokestis",null,null,null,0]
[null,null,"Kitos išlaidų pavadinimas",null,null,null,0]
[null,null,"Kitos išlaidų pavadinimas",null,null,null,0]
["5.6.5","Komandiruotės pavadinimas, vieta, trukmė dienomis, vykstančių asmenų skaičius","Iš viso komandiruotei",null,null,null,{"$f":"SUM(G183:G188)","v":0},{"$f":"ROUND(G182*$D$7,2)","v":0}]
[null,null,"Dienpinigiai",null,null,null,{"$f":"ROUND(E183*F183,2)","v":0}]
[null,null,"Gyvenamojo ploto nuoma",null,null,null,0]
[null,null,"Kelionės išlaidos",null,null,null,0]
[null,null,"Dalyvavimo mokestis",null,null,null,0]
[null,null,"Kitos išlaidų pavadinimas",null,null,null,0]
[null,null,"Kitos išlaidų pavadinimas",null,null,null,0]
["5.6.6","Komandiruotės pavadinimas, vieta, trukmė dienomis, vykstančių asmenų skaičius","Iš viso komandiruotei",null,null,null,{"$f":"SUM(G190:G195)","v":0},{"$f":"ROUND(G189*$D$7,2)","v":0}]
[null,null,"Dienpinigiai",null,null,null,{"$f":"ROUND(E190*F190,2)","v":0}]
[null,null,"Gyvenamojo ploto nuoma",null,null,null,0]
[null,null,"Kelionės išlaidos",null,null,null,0]
[null,null,"Dalyvavimo mokestis",null,null,null,0]
[null,null,"Kitos išlaidų pavadinimas",null,null,null,0]
[null,null,"Kitos išlaidų pavadinimas",null,null,null,0]
["5.6.7","Komandiruotės pavadinimas, vieta, trukmė dienomis, vykstančių asmenų skaičius","Iš viso komandiruotei",null,null,null,{"$f":"SUM(G197:G202)","v":0},{"$f":"ROUND(G196*$D$7,2)","v":0}]
[null,null,"Dienpinigiai",null,null,null,{"$f":"ROUND(E197*F197,2)","v":0}]
[null,null,"Gyvenamojo ploto nuoma",null,null,null,0]
[null,null,"Kelionės išlaidos",null,null,null,0]
[null,null,"Dalyvavimo mokestis",null,null,null,0]
[null,null,"Kitos išlaidų pavadinimas",null,null,null,0]
[null,null,"Kitos išlaidų pavadinimas",null,null,null,0]
["5.6.8","Komandiruotės pavadinimas, vieta, trukmė dienomis, vykstančių asmenų skaičius","Iš viso komandiruotei",null,null,null,{"$f":"SUM(G204:G209)","v":0},{"$f":"ROUND(G203*$D$7,2)","v":0}]
[null,null,"Dienpinigiai",null,null,null,{"$f":"ROUND(E204*F204,2)","v":0}]
[null,null,"Gyvenamojo ploto nuoma",null,null,null,0]
[null,null,"Kelionės išlaidos",null,null,null,0]
[null,null,"Dalyvavimo mokestis",null,null,null,0]
[null,null,"Kitos išlaidų pavadinimas",null,null,null,0]
[null,null,"Kitos išlaidų pavadinimas",null,null,null,0]
["5.6.9","Komandiruotės pavadinimas, vieta, trukmė dienomis, vykstančių asmenų skaičius","Iš viso komandiruotei",null,null,null,{"$f":"SUM(G211:G216)","v":0},{"$f":"ROUND(G210*$D$7,2)","v":0}]
[null,null,"Dienpinigiai",null,null,null,{"$f":"ROUND(E211*F211,2)","v":0}]
[null,null,"Gyvenamojo ploto nuoma",null,null,null,0]
[null,null,"Kelionės išlaidos",null,null,null,0]
[null,null,"Dalyvavimo mokestis",null,null,null,0]
[null,null,"Kitos išlaidų pavadinimas",null,null,null,0]
[null,null,"Kitos išlaidų pavadinimas",null,null,null,0]
["5.6.10","Komandiruotės pavadinimas, vieta, trukmė dienomis, vykstančių asmenų skaičius","Iš viso komandiruotei",null,null,null,{"$f":"SUM(G218:G223)","v":0},{"$f":"ROUND(G217*$D$7,2)","v":0}]
[null,null,"Dienpinigiai",null,null,null,{"$f":"ROUND(E218*F218,2)","v":0}]
[null,null,"Gyvenamojo ploto nuoma",null,null,null,0]
[null,null,"Kelionės išlaidos",null,null,null,0]
[null,null,"Dalyvavimo mokestis",null,null,null,0]
[null,null,"Kitos išlaidų pavadinimas",null,null,null,0]
[null,null,"Kitos išlaidų pavadinimas",null,null,null,0]
["5.7","Įrangos nuomos išlaidos, veiklai priskirtos pro rata principu. Įranga turi būti tiesiogiai susijusi su projekto įgyvendinimu ir negali būti įsigyta iš ES struktūrinių fondų ar kt. ES finansinių priemonių lėšų",null,null,null,null,{"$f":"SUM(G225:G241)","v":0},{"$f":"SUM(H225:H241)","v":0},null,null,"Faktinės 1 mėnesio išlaidos, Eur","Naudojimo projekte trukmė, mėn."]
["5.7.1","Įrangos pavadinimas",null,"pro rata proc.",null,{"$f":"K225*L225","v":0},{"$f":"ROUND(E225*F225,2)","v":0},{"$f":"ROUND(G225*$D$7,2)","v":0}]
["5.7.2","Įrangos pavadinimas",null,"pro rata proc.",null,{"$f":"K226*L226","v":0},0,{"$f":"ROUND(G226*$D$7,2)","v":0}]
["5.7.3","Įrangos pavadinimas",null,"pro rata proc.",null,0,0,0]
["5.7.4","Įrangos pavadinimas",null,"pro rata proc.",null,0,0,0]
["5.7.5","Įrangos pavadinimas",null,"pro rata proc.",null,0,0,0]
["5.7.6","Įrangos pavadinimas",null,"pro rata proc.",null,0,0,0]
["5.7.7","Įrangos pavadinimas",null,"pro rata proc.",null,0,0,0]
["5.7.8","Įrangos pavadinimas",null,"pro rata proc.",null,0,0,0]
["5.7.9","Įrangos pavadinimas",null,"pro rata proc.",null,0,0,0]
["5.7.10","Įrangos pavadinimas",null,"pro rata proc.",null,0,0,0]
["5.7.11","Įrangos pavadinimas",null,"pro rata proc.",null,0,0,0]
["5.7.12","Įrangos pavadinimas",null,"pro rata proc.",null,0,0,0]
["5.7.13","Įrangos pavadinimas",null,"pro rata proc.",null,0,0,0]
["5.7.14","Įrangos pavadinimas",null,"pro rata proc.",null,{"$f":"K238*L238","v":0},0,{"$f":"ROUND(G238*$D$7,2)","v":0}]
["5.7.15","Įrangos pavadinimas",null,"pro rata proc.",null,{"$f":"K239*L239","v":0},0,{"$f":"ROUND(G239*$D$7,2)","v":0}]
["5.7.16","Įrangos pavadinimas",null,"pro rata proc.",null,{"$f":"K240*L240","v":0},0,{"$f":"ROUND(G240*$D$7,2)","v":0}]
["5.7.17","Įrangos pavadinimas",null,"pro rata proc.",null,{"$f":"K241*L241","v":0},0,{"$f":"ROUND(G241*$D$7,2)","v":0}]
["5.8","Pastatų ar patalpų nuomos išlaidos, veiklai priskirtos pro rata principu. Pastatai ar patalpos turi būti tiesiogiai susijusi su projekto įgyvendinimu.",null,null,null,null,{"$f":"SUM(G243:G247)","v":0},{"$f":"SUM(H243:H247)","v":0},null,null,"Faktinės 1 mėnesio išlaidos, Eur","Naudojimo projekte trukmė, mėn."]
["5.8.1","Pastato, patalpų adresas",null,"pro rata proc.",null,{"$f":"K243*L243","v":0},{"$f":"ROUND(E243*F243,2)","v":0},{"$f":"ROUND(G243*$D$7,2)","v":0}]
["5.8.2","Pastato, patalpų adresas",null,"pro rata proc.",null,{"$f":"K244*L244","v":0},{"$f":"ROUND(E244*F244,2)","v":0},{"$f":"ROUND(G244*$D$7,2)","v":0}]
["5.8.3","Pastato, patalpų adresas",null,"pro rata proc.",null,{"$f":"K245*L245","v":0},{"$f":"ROUND(E245*F245,2)","v":0},{"$f":"ROUND(G245*$D$7,2)","v":0}]
["5.8.4","Pastato, patalpų adresas",null,"pro rata proc.",null,{"$f":"K246*L246","v":0},{"$f":"ROUND(E246*F246,2)","v":0},{"$f":"ROUND(G246*$D$7,2)","v":0}]
["5.8.5","Pastato, patalpų adresas",null,"pro rata proc.",null,{"$f":"K247*L247","v":0},{"$f":"ROUND(E247*F247,2)","v":0},{"$f":"ROUND(G247*$D$7,2)","v":0}]
["Iš viso tinkamų finansuoti išlaidų:",null,null,null,null,null,{"$f":"G10+G21","v":0},{"$f":"H10+H21","v":0}]

{"sheet":"24","index":18,"n_rows":248,"n_cols":19,"rows_kept":248,"cut":false,"hidden":true,"merged":[[5,3,5,8],[8,1,8,2],[9,1,9,5],[10,1,10,2],[11,1,11,2],[12,1,12,2],[0,3,0,8],[2,0,2,2],[2,3,2,8],[3,3,3,4],[3,5,3,6],[4,0,4,2],[4,3,4,8],[19,1,19,2],[20,1,20,5],[21,1,21,5],[22,1,22,2],[23,1,23,2],[24,1,24,2],[13,1,13,2],[14,1,14,2],[15,1,15,2],[16,1,16,2],[17,1,17,2],[18,1,18,2],[31,1,31,2],[32,1,32,5],[33,1,33,2],[34,1,34,2],[35,1,35,2],[36,1,36,2],[25,1,25,2],[26,1,26,2],[27,1,27,2],[28,1,28,2],[29,1,29,2],[30,1,30,2],[43,1,43,5],[44,1,44,2],[45,1,45,2],[46,1,46,2],[47,1,47,2],[48,1,48,2],[37,1,37,2],[38,1,38,2],[39,1,39,2],[40,1,40,2],[41,1,41,2],[42,1,42,2],[55,1,55,2],[56,1,56,2],[57,1,57,2],[58,1,58,2],[59,1,59,2],[60,1,60,2],[49,1,49,2],[50,1,50,2],[51,1,51,2],[52,1,52,2],[53,1,53,2],[54,1,54,2],[67,1,67,2],[68,1,68,2],[69,1,69,2],[70,1,70,2],[71,1,71,5],[72,1,72,2],[61,1,61,2],[62,1,62,2],[63,1,63,2],[64,1,64,2],[65,1,65,2],[66,1,66,2],[79,1,79,2],[80,1,80,2],[81,1,81,2],[82,1,82,2],[83,1,83,2],[84,1,84,2],[73,1,73,2],[74,1,74,2],[75,1,75,2],[76,1,76,2],[77,1,77,2],[78,1,78,2],[91,1,91,2],[92,1,92,2],[93,1,93,2],[94,1,94,2],[95,1,95,2],[96,1,96,2],[85,1,85,2],[86,1,86,2],[87,1,87,2],[88,1,88,2],[89,1,89,2],[90,1,90,2],[97,1,97,2],[98,1,98,2],[99,1,99,2],[100,1,100,2],[101,1,101,5],[102,0,106,0],[102,1,106,1],[102,3,106,3],[102,4,106,4],[102,5,106,5],[102,6,106,6],[102,7,106,7],[102,8,106,8],[107,0,111,0],[107,1,111,1],[107,3,111,3],[107,4,111,4],[107,5,111,5],[107,6,111,6],[107,7,111,7],[107,8,111,8],[112,0,116,0],[112,1,116,1],[112,3,116,3],[112,4,116,4],[112,5,116,5],[112,6,116,6],[112,7,116,7],[112,8,116,8],[117,7,121,7],[117,8,121,8],[122,0,126,0],[122,1,126,1],[122,3,126,3],[122,4,126,4],[122,5,126,5],[122,6,126,6],[122,7,126,7],[122,8,126,8],[117,0,121,0],[117,1,121,1],[117,3,121,3],[117,4,121,4],[117,5,121,5],[117,6,121,6],[127,7,131,7],[127,8,131,8],[132,0,136,0],[132,1,136,1],[132,3,136,3],[132,4,136,4],[132,5,136,5],[132,6,136,6],[132,7,136,7],[132,8,136,8],[127,0,131,0],[127,1,131,1],[127,3,131,3],[127,4,131,4],[127,5,131,5],[127,6,131,6],[137,7,141,7],[137,8,141,8],[142,0,146,0],[142,1,146,1],[142,3,146,3],[142,4,146,4],[142,5,146,5],[142,6,146,6],[142,7,146,7],[142,8,146,8],[137,0,141,0],[137,1,141,1],[137,3,141,3],[137,4,141,4],[137,5,141,5],[137,6,141,6],[160,0,166,0],[160,1,166,1],[160,8,166,8],[167,0,173,0],[167,1,173,1],[167,8,173,8],[147,7,151,7],[147,8,151,8],[152,1,152,5],[153,0,159,0],[153,1,159,1],[153,8,159,8],[147,0,151,0],[147,1,151,1],[147,3,151,3],[147,4,151,4],[147,5,151,5],[147,6,151,6],[188,0,194,0],[188,1,194,1],[188,8,194,8],[195,0,201,0],[195,1,201,1],[195,8,201,8],[174,0,180,0],[174,1,180,1],[174,8,180,8],[181,0,187,0],[181,1,187,1],[181,8,187,8],[216,0,222,0],[216,1,222,1],[216,8,222,8],[223,1,223,5],[224,1,224,2],[225,1,225,2],[202,0,208,0],[202,1,208,1],[202,8,208,8],[209,0,215,0],[209,1,215,1],[209,8,215,8],[232,1,232,2],[233,1,233,2],[234,1,234,2],[235,1,235,2],[236,1,236,2],[237,1,237,2],[226,1,226,2],[227,1,227,2],[228,1,228,2],[229,1,229,2],[230,1,230,2],[231,1,231,2],[244,1,244,2],[245,1,245,2],[246,1,246,2],[247,0,247,5],[238,1,238,2],[239,1,239,2],[240,1,240,2],[241,1,241,5],[242,1,242,2],[243,1,243,2]]}
[null,null,"Pasirinkite veiklos tipą:"]
[null,null,"Fizinio rodiklio Nr.:"]
["Fizinio rodiklio pavadinimas:"]
[null,null,"Fizinio rodiklio matavimo vnt.:",null,null,"Fizinio rodiklio vnt. skaičius:"]
["Juridinis asmuo (pareiškėjas, partneris), atsakingas už fizinį rodiklį:"]
[null,null,"Vykdytojo tipas:"]
[null,null,"Finansavimo intensyvumas:",null,null,null,"Pasirinkite biudžeto išlaidų kategoriją:","Visos"]
[]
["Eil. Nr.","Išlaidų kategorijos pavadinimas",null,"Matavimo vnt.","Kiekis","Vieneto kaina be PVM, Eur","Tinkamų finansuoti išlaidų suma be PVM, Eur","Finansavimo suma, Eur","Išlaidų pagrindimo dokumentų pavadinimas, data ir Nr."]
[4,"ĮRANGA, ĮRENGINIAI IR KT. TURTAS (techninių žinių ir išradimų patentų arba teisių pagal licencijų sutartį įsigijimo išlaidos)",null,null,null,null,{"$f":"SUM(G11:G20)","v":0},{"$f":"SUM(H11:H20)","v":0}]
["4.1","Išlaidų pavadinimas",null,null,null,null,{"$f":"ROUND(E11*F11,2)","v":0},{"$f":"ROUND(G11*$D$7,2)","v":0}]
["4.2","Išlaidų pavadinimas",null,null,null,null,0,0]
["4.3","Išlaidų pavadinimas",null,null,null,null,0,0]
["4.4","Išlaidų pavadinimas",null,null,null,null,0,0]
["4.5","Išlaidų pavadinimas",null,null,null,null,0,0]
["4.6","Išlaidų pavadinimas",null,null,null,null,0,0]
["4.7","Išlaidų pavadinimas",null,null,null,null,0,0]
["4.8","Išlaidų pavadinimas",null,null,null,null,0,0]
["4.9","Išlaidų pavadinimas",null,null,null,null,0,0]
["4.10","Išlaidų pavadinimas",null,null,null,null,0,0]
[5,"PROJEKTO VYKDYMAS",null,null,null,null,{"$f":"G22+G33+G44+G72+G102+G153+G224+G242","v":0},{"$f":"H22+H33+H44+H72+H102+H153+H224+H242","v":0}]
["5.1","MTEP paslaugos",null,null,null,null,{"$f":"SUM(G23:G32)","v":0},{"$f":"SUM(H23:H32)","v":0}]
["5.1.1","Paslaugos pavadinimas",null,null,null,null,{"$f":"ROUND(E23*F23,2)","v":0},0]
["5.1.2","Paslaugos pavadinimas",null,null,null,null,0,0]
["5.1.3","Paslaugos pavadinimas",null,null,null,null,0,0]
["5.1.4","Paslaugos pavadinimas",null,null,null,null,0,0]
["5.1.5","Paslaugos pavadinimas",null,null,null,null,0,0]
["5.1.6","Paslaugos pavadinimas",null,null,null,null,0,0]
["5.1.7","Paslaugos pavadinimas",null,null,null,null,0,0]
["5.1.8","Paslaugos pavadinimas",null,null,null,null,0,0]
["5.1.9","Paslaugos pavadinimas",null,null,null,null,0,0]
["5.1.10","Paslaugos pavadinimas",null,null,null,null,0,0]
["5.2","Konsultavimo ir lygiavertės paslaugos, teikiamos vien tik projekto MTEP veiklai.",null,null,null,null,{"$f":"SUM(G34:G43)","v":0},{"$f":"SUM(H34:H43)","v":0}]
["5.2.1","Paslaugos pavadinimas",null,null,null,null,{"$f":"ROUND(E34*F34,2)","v":0},0]
["5.2.2","Paslaugos pavadinimas",null,null,null,null,0,0]
["5.2.3","Paslaugos pavadinimas",null,null,null,null,0,0]
["5.2.4","Paslaugos pavadinimas",null,null,null,null,0,0]
["5.2.5","Paslaugos pavadinimas",null,null,null,null,0,0]
["5.2.6","Paslaugos pavadinimas",null,null,null,null,0,0]
["5.2.7","Paslaugos pavadinimas",null,null,null,null,0,0]
["5.2.8","Paslaugos pavadinimas",null,null,null,null,0,0]
["5.2.9","Paslaugos pavadinimas",null,null,null,null,0,0]
["5.2.10","Paslaugos pavadinimas",null,null,null,null,0,0]
["5.3","Medžiagos, mažavertis inventorius, atsargos ir pan. produktai, priskirtini trumpalaikiam turtui ir tiesiogiai susiję su MTEP veikla",null,null,null,null,{"$f":"SUM(G45:G71)","v":0},{"$f":"SUM(H45:H71)","v":0}]
["5.3.1","Išlaidų pavadinimas",null,null,null,null,{"$f":"ROUND(E45*F45,2)","v":0},{"$f":"ROUND(G45*$D$7,2)","v":0}]
["5.3.2","Išlaidų pavadinimas",null,null,null,null,{"$f":"ROUND(E46*F46,2)","v":0},{"$f":"ROUND(G46*$D$7,2)","v":0}]
["5.3.3","Išlaidų pavadinimas",null,null,null,null,{"$f":"ROUND(E47*F47,2)","v":0},{"$f":"ROUND(G47*$D$7,2)","v":0}]
["5.3.4","Išlaidų pavadinimas",null,null,null,null,{"$f":"ROUND(E48*F48,2)","v":0},{"$f":"ROUND(G48*$D$7,2)","v":0}]
["5.3.5","Išlaidų pavadinimas",null,null,null,null,{"$f":"ROUND(E49*F49,2)","v":0},{"$f":"ROUND(G49*$D$7,2)","v":0}]
["5.3.6","Išlaidų pavadinimas",null,null,null,null,0,0]
["5.3.7","Išlaidų pavadinimas",null,null,null,null,0,0]
["5.3.8","Išlaidų pavadinimas",null,null,null,null,0,0]
["5.3.9","Išlaidų pavadinimas",null,null,null,null,0,0]
["5.3.10","Išlaidų pavadinimas",null,null,null,null,0,0]
["5.3.11","Išlaidų pavadinimas",null,null,null,null,0,0]
["5.3.12","Išlaidų pavadinimas",null,null,null,null,0,0]
["5.3.13","Išlaidų pavadinimas",null,null,null,null,0,0]
["5.3.14","Išlaidų pavadinimas",null,null,null,null,0,0]
["5.3.15","Išlaidų pavadinimas",null,null,null,null,0,0]
["5.3.16","Išlaidų pavadinimas",null,null,null,null,0,0]
["5.3.17","Išlaidų pavadinimas",null,null,null,null,0,0]
["5.3.18","Išlaidų pavadinimas",null,null,null,null,0,0]
["5.3.19","Išlaidų pavadinimas",null,null,null,null,0,0]
["5.3.20","Išlaidų pavadinimas",null,null,null,null,0,0]
["5.3.21","Išlaidų pavadinimas",null,null,null,null,0,0]
["5.3.22","Išlaidų pavadinimas",null,null,null,null,0,0]
["5.3.23","Išlaidų pavadinimas",null,null,null,null,0,0]
["5.3.24","Išlaidų pavadinimas",null,null,null,null,0,0]
["5.3.25","Išlaidų pavadinimas",null,null,null,null,0,0]
["5.3.26","Išlaidų pavadinimas",null,null,null,null,0,0]
["5.3.27","Išlaidų pavadinimas",null,null,null,null,0,0]
["5.4","Projekto MTEP veikloms naudojamo ilgalaikio materialaus turto (įrangos, prietaisų, įrankių, įrenginių, mašinų ir įrengimų, pastatų ir (ar) patalpų), nusidėvėjimo sąnaudos, jeigu šiam turtui įsigyti nebuvo naudojamos viešosios (įskaitant ir kitų valstybių) lėšos",null,null,null,null,{"$f":"SUM(G73:G101)","v":0},{"$f":"SUM(H73:H101)","v":0},null,null,"Turto įvedimo į eksploataciją data","Turto įsigijimo vertė, Eur","Turto nudėvėjimo, amortizacijos laikotarpis, mėn.","Numatoma turto likutinė vertė, Eur","1 mėn. nudėvėjimo, amortizacijos suma, Eur","Turto naudojamo projekto reikmėms laikas, mėn.","Turto panaudojimo projekto reikmėms dalis (proc.)","Projektui priskirta turto nusidėvėjimo, amortizacijos suma per projekto laikotarpį, Eur"]
["5.4.1","Turtas, kurio nusidėvėjimą, amortizaciją prašoma finansuoti",null,null,1,{"$f":"R73","v":0},{"$f":"ROUND(E73*F73,2)","v":0},0,null,null,null,null,null,null,{"$f":"IFERROR(ROUND((L73-N73)/M73,2),\"0\")","v":"0"},null,null,{"$f":"O73*P73*Q73","v":0},{"$f":"IF(K73=0,\" \",IF(K73+(M73*30.5)<TODAY(),\"DĖMESIO! Patikrinkite, ar nurodytas turtas dar nėra nudėvėtas, amortizuotas\",\" \"))","v":" "}]
["5.4.2","Turtas, kurio nusidėvėjimą, amortizaciją prašoma finansuoti",null,null,1,0,0,0,null,null,null,null,null,null,{"$f":"IFERROR(ROUND((L74-N74)/M74,2),\"0\")","v":"0"},null,null,{"$f":"O74*P74*Q74","v":0},{"$f":"IF(K74=0,\" \",IF(K74+(M74*30.5)<TODAY(),\"DĖMESIO! Patikrinkite, ar nurodytas turtas dar nėra nudėvėtas, amortizuotas\",\" \"))","v":" "}]
["5.4.3","Turtas, kurio nusidėvėjimą, amortizaciją prašoma finansuoti",null,null,1,0,0,0,null,null,null,null,null,null,"0",null,null,0," "]
["5.4.4","Turtas, kurio nusidėvėjimą, amortizaciją prašoma finansuoti",null,null,1,0,0,0,null,null,null,null,null,null,"0",null,null,0," "]
["5.4.5","Turtas, kurio nusidėvėjimą, amortizaciją prašoma finansuoti",null,null,1,0,0,0,null,null,null,null,null,null,"0",null,null,0," "]
["5.4.6","Turtas, kurio nusidėvėjimą, amortizaciją prašoma finansuoti",null,null,1,0,0,0,null,null,null,null,null,null,"0",null,null,0," "]
["5.4.7","Turtas, kurio nusidėvėjimą, amortizaciją prašoma finansuoti",null,null,1,0,0,0,null,null,null,null,null,null,"0",null,null,0," "]
["5.4.8","Turtas, kurio nusidėvėjimą, amortizaciją prašoma finansuoti",null,null,1,0,0,0,null,null,null,null,null,null,"0",null,null,0," "]
["5.4.9","Turtas, kurio nusidėvėjimą, amortizaciją prašoma finansuoti",null,null,1,0,0,0,null,null,null,null,null,null,"0",null,null,0," "]
["5.4.10","Turtas, kurio nusidėvėjimą, amortizaciją prašoma finansuoti",null,null,1,0,0,0,null,null,null,null,null,null,"0",null,null,0," "]
["5.4.11","Turtas, kurio nusidėvėjimą, amortizaciją prašoma finansuoti",null,null,1,0,0,0,null,null,null,null,null,null,"0",null,null,0," "]
["5.4.12","Turtas, kurio nusidėvėjimą, amortizaciją prašoma finansuoti",null,null,1,0,0,0,null,null,null,null,null,null,"0",null,null,0," "]
["5.4.13","Turtas, kurio nusidėvėjimą, amortizaciją prašoma finansuoti",null,null,1,0,0,0,null,null,null,null,null,null,"0",null,null,0," "]
["5.4.14","Turtas, kurio nusidėvėjimą, amortizaciją prašoma finansuoti",null,null,1,0,0,0,null,null,null,null,null,null,"0",null,null,0," "]
["5.4.15","Turtas, kurio nusidėvėjimą, amortizaciją prašoma finansuoti",null,null,1,0,0,0,null,null,null,null,null,null,"0",null,null,0," "]
["5.4.16","Turtas, kurio nusidėvėjimą, amortizaciją prašoma finansuoti",null,null,1,0,0,0,null,null,null,null,null,null,"0",null,null,0," "]
["5.4.17","Turtas, kurio nusidėvėjimą, amortizaciją prašoma finansuoti",null,null,1,0,0,0,null,null,null,null,null,null,"0",null,null,0," "]
["5.4.18","Turtas, kurio nusidėvėjimą, amortizaciją prašoma finansuoti",null,null,1,0,0,0,null,null,null,null,null,null,"0",null,null,0," "]
["5.4.19","Turtas, kurio nusidėvėjimą, amortizaciją prašoma finansuoti",null,null,1,0,0,0,null,null,null,null,null,null,"0",null,null,0," "]
["5.4.20","Turtas, kurio nusidėvėjimą, amortizaciją prašoma finansuoti",null,null,1,0,0,0,null,null,null,null,null,null,"0",null,null,0," "]
["5.4.21","Turtas, kurio nusidėvėjimą, amortizaciją prašoma finansuoti",null,null,1,0,0,0,null,null,null,null,null,null,"0",null,null,0," "]
["5.4.22","Turtas, kurio nusidėvėjimą, amortizaciją prašoma finansuoti",null,null,1,0,0,0,null,null,null,null,null,null,"0",null,null,0," "]
["5.4.23","Turtas, kurio nusidėvėjimą, amortizaciją prašoma finansuoti",null,null,1,0,0,0,null,null,null,null,null,null,"0",null,null,0," "]
["5.4.24","Turtas, kurio nusidėvėjimą, amortizaciją prašoma finansuoti",null,null,1,0,0,0,null,null,null,null,null,null,"0",null,null,0," "]
["5.4.25","Turtas, kurio nusidėvėjimą, amortizaciją prašoma finansuoti",null,null,1,0,0,0,null,null,null,null,null,null,"0",null,null,0," "]
["5.4.26","Turtas, kurio nusidėvėjimą, amortizaciją prašoma finansuoti",null,null,1,0,0,0,null,null,null,null,null,null,"0",null,null,0," "]
["5.4.27","Turtas, kurio nusidėvėjimą, amortizaciją prašoma finansuoti",null,null,1,0,0,0,null,null,null,null,null,null,"0",null,null,0," "]
["5.4.28","Turtas, kurio nusidėvėjimą, amortizaciją prašoma finansuoti",null,null,1,0,0,0,null,null,null,null,null,null,"0",null,null,0," "]
["5.4.29","Turtas, kurio nusidėvėjimą, amortizaciją prašoma finansuoti",null,null,1,0,0,0,null,null,null,null,null,null,"0",null,null,0," "]
["5.5","Projektą vykdančio personalo darbo užmokestis ir išlaidos su darbo santykiais susijusiems darbdavio įsipareigojimams",null,null,null,null,{"$f":"SUM(G103:G152)","v":0},{"$f":"SUM(H103:H152)","v":0},null,null,"Faktiškai gaunamas darbo užmokesti už 1 valandą pagal  pastarųjų 6 mėn. vidurkį, Eur"]
["5.5.1","Pareigybės pavadinimas","Darbuotojo vardas pavardė","val.",null,{"$f":"IFERROR(ROUND(AVERAGE(K103:K107),2),\"0\")","v":"0"},{"$f":"ROUND(E103*F103,2)","v":0},{"$f":"ROUND(G103*$D$7,2)","v":0}]
[null,null,"Darbuotojo vardas pavardė"]
[null,null,"Darbuotojo vardas pavardė"]
[null,null,"Darbuotojo vardas pavardė"]
[null,null,"Darbuotojo vardas pavardė"]
["5.5.2","Pareigybės pavadinimas","Darbuotojo vardas pavardė","val.",null,{"$f":"IFERROR(ROUND(AVERAGE(K108:K112),2),\"0\")","v":"0"},{"$f":"ROUND(E108*F108,2)","v":0},{"$f":"ROUND(G108*$D$7,2)","v":0}]
[null,null,"Darbuotojo vardas pavardė"]
[null,null,"Darbuotojo vardas pavardė"]
[null,null,"Darbuotojo vardas pavardė"]
[null,null,"Darbuotojo vardas pavardė"]
["5.5.3","Pareigybės pavadinimas","Darbuotojo vardas pavardė","val.",null,{"$f":"IFERROR(ROUND(AVERAGE(K113:K117),2),\"0\")","v":"0"},{"$f":"ROUND(E113*F113,2)","v":0},{"$f":"ROUND(G113*$D$7,2)","v":0}]
[null,null,"Darbuotojo vardas pavardė"]
[null,null,"Darbuotojo vardas pavardė"]
[null,null,"Darbuotojo vardas pavardė"]
[null,null,"Darbuotojo vardas pavardė"]
["5.5.4","Pareigybės pavadinimas","Darbuotojo vardas pavardė","val.",null,{"$f":"IFERROR(ROUND(AVERAGE(K118:K122),2),\"0\")","v":"0"},{"$f":"ROUND(E118*F118,2)","v":0},{"$f":"ROUND(G118*$D$7,2)","v":0}]
[null,null,"Darbuotojo vardas pavardė"]
[null,null,"Darbuotojo vardas pavardė"]
[null,null,"Darbuotojo vardas pavardė"]
[null,null,"Darbuotojo vardas pavardė"]
["5.5.5","Pareigybės pavadinimas","Darbuotojo vardas pavardė","val.",null,{"$f":"IFERROR(ROUND(AVERAGE(K123:K127),2),\"0\")","v":"0"},{"$f":"ROUND(E123*F123,2)","v":0},{"$f":"ROUND(G123*$D$7,2)","v":0}]
[null,null,"Darbuotojo vardas pavardė"]
[null,null,"Darbuotojo vardas pavardė"]
[null,null,"Darbuotojo vardas pavardė"]
[null,null,"Darbuotojo vardas pavardė"]
["5.5.6","Pareigybės pavadinimas","Darbuotojo vardas pavardė","val.",null,{"$f":"IFERROR(ROUND(AVERAGE(K128:K132),2),\"0\")","v":"0"},{"$f":"ROUND(E128*F128,2)","v":0},{"$f":"ROUND(G128*$D$7,2)","v":0}]
[null,null,"Darbuotojo vardas pavardė"]
[null,null,"Darbuotojo vardas pavardė"]
[null,null,"Darbuotojo vardas pavardė"]
[null,null,"Darbuotojo vardas pavardė"]
["5.5.7","Pareigybės pavadinimas","Darbuotojo vardas pavardė","val.",null,{"$f":"IFERROR(ROUND(AVERAGE(K133:K137),2),\"0\")","v":"0"},{"$f":"ROUND(E133*F133,2)","v":0},{"$f":"ROUND(G133*$D$7,2)","v":0}]
[null,null,"Darbuotojo vardas pavardė"]
[null,null,"Darbuotojo vardas pavardė"]
[null,null,"Darbuotojo vardas pavardė"]
[null,null,"Darbuotojo vardas pavardė"]
["5.5.8","Pareigybės pavadinimas","Darbuotojo vardas pavardė","val.",null,{"$f":"IFERROR(ROUND(AVERAGE(K138:K142),2),\"0\")","v":"0"},{"$f":"ROUND(E138*F138,2)","v":0},{"$f":"ROUND(G138*$D$7,2)","v":0}]
[null,null,"Darbuotojo vardas pavardė"]
[null,null,"Darbuotojo vardas pavardė"]
[null,null,"Darbuotojo vardas pavardė"]
[null,null,"Darbuotojo vardas pavardė"]
["5.5.9","Pareigybės pavadinimas","Darbuotojo vardas pavardė","val.",null,{"$f":"IFERROR(ROUND(AVERAGE(K143:K147),2),\"0\")","v":"0"},{"$f":"ROUND(E143*F143,2)","v":0},{"$f":"ROUND(G143*$D$7,2)","v":0}]
[null,null,"Darbuotojo vardas pavardė"]
[null,null,"Darbuotojo vardas pavardė"]
[null,null,"Darbuotojo vardas pavardė"]
[null,null,"Darbuotojo vardas pavardė"]
["5.5.10","Pareigybės pavadinimas","Darbuotojo vardas pavardė","val.",null,{"$f":"IFERROR(ROUND(AVERAGE(K148:K152),2),\"0\")","v":"0"},{"$f":"ROUND(E148*F148,2)","v":0},{"$f":"ROUND(G148*$D$7,2)","v":0}]
[null,null,"Darbuotojo vardas pavardė"]
[null,null,"Darbuotojo vardas pavardė"]
[null,null,"Darbuotojo vardas pavardė"]
[null,null,"Darbuotojo vardas pavardė"]
["5.6","Projektą vykdančio personalo komandiruočių išlaidos",null,null,null,null,{"$f":"SUM(G154,G161,G168,G175,G182,G189,G196,G203,G210,G217)","v":0},{"$f":"SUM(H154,H161,H168,H175,H182,H189,H196,H203,H210,H217)","v":0}]
["5.6.1","Komandiruotės pavadinimas, vieta, trukmė dienomis, vykstančių asmenų skaičius","Iš viso komandiruotei",null,null,null,{"$f":"SUM(G155:G160)","v":0},{"$f":"ROUND(G154*$D$7,2)","v":0}]
[null,null,"Dienpinigiai",null,null,null,{"$f":"ROUND(E155*F155,2)","v":0}]
[null,null,"Gyvenamojo ploto nuoma",null,null,null,0]
[null,null,"Kelionės išlaidos",null,null,null,0]
[null,null,"Dalyvavimo mokestis",null,null,null,0]
[null,null,"Kitos išlaidų pavadinimas",null,null,null,0]
[null,null,"Kitos išlaidų pavadinimas",null,null,null,0]
["5.6.2","Komandiruotės pavadinimas, vieta, trukmė dienomis, vykstančių asmenų skaičius","Iš viso komandiruotei",null,null,null,{"$f":"SUM(G162:G167)","v":0},{"$f":"ROUND(G161*$D$7,2)","v":0}]
[null,null,"Dienpinigiai",null,null,null,{"$f":"ROUND(E162*F162,2)","v":0}]
[null,null,"Gyvenamojo ploto nuoma",null,null,null,0]
[null,null,"Kelionės išlaidos",null,null,null,0]
[null,null,"Dalyvavimo mokestis",null,null,null,0]
[null,null,"Kitos išlaidų pavadinimas",null,null,null,0]
[null,null,"Kitos išlaidų pavadinimas",null,null,null,0]
["5.6.3","Komandiruotės pavadinimas, vieta, trukmė dienomis, vykstančių asmenų skaičius","Iš viso komandiruotei",null,null,null,{"$f":"SUM(G169:G174)","v":0},{"$f":"ROUND(G168*$D$7,2)","v":0}]
[null,null,"Dienpinigiai",null,null,null,{"$f":"ROUND(E169*F169,2)","v":0}]
[null,null,"Gyvenamojo ploto nuoma",null,null,null,0]
[null,null,"Kelionės išlaidos",null,null,null,0]
[null,null,"Dalyvavimo mokestis",null,null,null,0]
[null,null,"Kitos išlaidų pavadinimas",null,null,null,0]
[null,null,"Kitos išlaidų pavadinimas",null,null,null,0]
["5.6.4","Komandiruotės pavadinimas, vieta, trukmė dienomis, vykstančių asmenų skaičius","Iš viso komandiruotei",null,null,null,{"$f":"SUM(G176:G181)","v":0},{"$f":"ROUND(G175*$D$7,2)","v":0}]
[null,null,"Dienpinigiai",null,null,null,{"$f":"ROUND(E176*F176,2)","v":0}]
[null,null,"Gyvenamojo ploto nuoma",null,null,null,0]
[null,null,"Kelionės išlaidos",null,null,null,0]
[null,null,"Dalyvavimo mokestis",null,null,null,0]
[null,null,"Kitos išlaidų pavadinimas",null,null,null,0]
[null,null,"Kitos išlaidų pavadinimas",null,null,null,0]
["5.6.5","Komandiruotės pavadinimas, vieta, trukmė dienomis, vykstančių asmenų skaičius","Iš viso komandiruotei",null,null,null,{"$f":"SUM(G183:G188)","v":0},{"$f":"ROUND(G182*$D$7,2)","v":0}]
[null,null,"Dienpinigiai",null,null,null,{"$f":"ROUND(E183*F183,2)","v":0}]
[null,null,"Gyvenamojo ploto nuoma",null,null,null,0]
[null,null,"Kelionės išlaidos",null,null,null,0]
[null,null,"Dalyvavimo mokestis",null,null,null,0]
[null,null,"Kitos išlaidų pavadinimas",null,null,null,0]
[null,null,"Kitos išlaidų pavadinimas",null,null,null,0]
["5.6.6","Komandiruotės pavadinimas, vieta, trukmė dienomis, vykstančių asmenų skaičius","Iš viso komandiruotei",null,null,null,{"$f":"SUM(G190:G195)","v":0},{"$f":"ROUND(G189*$D$7,2)","v":0}]
[null,null,"Dienpinigiai",null,null,null,{"$f":"ROUND(E190*F190,2)","v":0}]
[null,null,"Gyvenamojo ploto nuoma",null,null,null,0]
[null,null,"Kelionės išlaidos",null,null,null,0]
[null,null,"Dalyvavimo mokestis",null,null,null,0]
[null,null,"Kitos išlaidų pavadinimas",null,null,null,0]
[null,null,"Kitos išlaidų pavadinimas",null,null,null,0]
["5.6.7","Komandiruotės pavadinimas, vieta, trukmė dienomis, vykstančių asmenų skaičius","Iš viso komandiruotei",null,null,null,{"$f":"SUM(G197:G202)","v":0},{"$f":"ROUND(G196*$D$7,2)","v":0}]
[null,null,"Dienpinigiai",null,null,null,{"$f":"ROUND(E197*F197,2)","v":0}]
[null,null,"Gyvenamojo ploto nuoma",null,null,null,0]
[null,null,"Kelionės išlaidos",null,null,null,0]
[null,null,"Dalyvavimo mokestis",null,null,null,0]
[null,null,"Kitos išlaidų pavadinimas",null,null,null,0]
[null,null,"Kitos išlaidų pavadinimas",null,null,null,0]
["5.6.8","Komandiruotės pavadinimas, vieta, trukmė dienomis, vykstančių asmenų skaičius","Iš viso komandiruotei",null,null,null,{"$f":"SUM(G204:G209)","v":0},{"$f":"ROUND(G203*$D$7,2)","v":0}]
[null,null,"Dienpinigiai",null,null,null,{"$f":"ROUND(E204*F204,2)","v":0}]
[null,null,"Gyvenamojo ploto nuoma",null,null,null,0]
[null,null,"Kelionės išlaidos",null,null,null,0]
[null,null,"Dalyvavimo mokestis",null,null,null,0]
[null,null,"Kitos išlaidų pavadinimas",null,null,null,0]
[null,null,"Kitos išlaidų pavadinimas",null,null,null,0]
["5.6.9","Komandiruotės pavadinimas, vieta, trukmė dienomis, vykstančių asmenų skaičius","Iš viso komandiruotei",null,null,null,{"$f":"SUM(G211:G216)","v":0},{"$f":"ROUND(G210*$D$7,2)","v":0}]
[null,null,"Dienpinigiai",null,null,null,{"$f":"ROUND(E211*F211,2)","v":0}]
[null,null,"Gyvenamojo ploto nuoma",null,null,null,0]
[null,null,"Kelionės išlaidos",null,null,null,0]
[null,null,"Dalyvavimo mokestis",null,null,null,0]
[null,null,"Kitos išlaidų pavadinimas",null,null,null,0]
[null,null,"Kitos išlaidų pavadinimas",null,null,null,0]
["5.6.10","Komandiruotės pavadinimas, vieta, trukmė dienomis, vykstančių asmenų skaičius","Iš viso komandiruotei",null,null,null,{"$f":"SUM(G218:G223)","v":0},{"$f":"ROUND(G217*$D$7,2)","v":0}]
[null,null,"Dienpinigiai",null,null,null,{"$f":"ROUND(E218*F218,2)","v":0}]
[null,null,"Gyvenamojo ploto nuoma",null,null,null,0]
[null,null,"Kelionės išlaidos",null,null,null,0]
[null,null,"Dalyvavimo mokestis",null,null,null,0]
[null,null,"Kitos išlaidų pavadinimas",null,null,null,0]
[null,null,"Kitos išlaidų pavadinimas",null,null,null,0]
["5.7","Įrangos nuomos išlaidos, veiklai priskirtos pro rata principu. Įranga turi būti tiesiogiai susijusi su projekto įgyvendinimu ir negali būti įsigyta iš ES struktūrinių fondų ar kt. ES finansinių priemonių lėšų",null,null,null,null,{"$f":"SUM(G225:G241)","v":0},{"$f":"SUM(H225:H241)","v":0},null,null,"Faktinės 1 mėnesio išlaidos, Eur","Naudojimo projekte trukmė, mėn."]
["5.7.1","Įrangos pavadinimas",null,"pro rata proc.",null,{"$f":"K225*L225","v":0},{"$f":"ROUND(E225*F225,2)","v":0},{"$f":"ROUND(G225*$D$7,2)","v":0}]
["5.7.2","Įrangos pavadinimas",null,"pro rata proc.",null,{"$f":"K226*L226","v":0},0,{"$f":"ROUND(G226*$D$7,2)","v":0}]
["5.7.3","Įrangos pavadinimas",null,"pro rata proc.",null,0,0,0]
["5.7.4","Įrangos pavadinimas",null,"pro rata proc.",null,0,0,0]
["5.7.5","Įrangos pavadinimas",null,"pro rata proc.",null,0,0,0]
["5.7.6","Įrangos pavadinimas",null,"pro rata proc.",null,0,0,0]
["5.7.7","Įrangos pavadinimas",null,"pro rata proc.",null,0,0,0]
["5.7.8","Įrangos pavadinimas",null,"pro rata proc.",null,0,0,0]
["5.7.9","Įrangos pavadinimas",null,"pro rata proc.",null,0,0,0]
["5.7.10","Įrangos pavadinimas",null,"pro rata proc.",null,0,0,0]
["5.7.11","Įrangos pavadinimas",null,"pro rata proc.",null,0,0,0]
["5.7.12","Įrangos pavadinimas",null,"pro rata proc.",null,0,0,0]
["5.7.13","Įrangos pavadinimas",null,"pro rata proc.",null,0,0,0]
["5.7.14","Įrangos pavadinimas",null,"pro rata proc.",null,{"$f":"K238*L238","v":0},0,{"$f":"ROUND(G238*$D$7,2)","v":0}]
["5.7.15","Įrangos pavadinimas",null,"pro rata proc.",null,{"$f":"K239*L239","v":0},0,{"$f":"ROUND(G239*$D$7,2)","v":0}]
["5.7.16","Įrangos pavadinimas",null,"pro rata proc.",null,{"$f":"K240*L240","v":0},0,{"$f":"ROUND(G240*$D$7,2)","v":0}]
["5.7.17","Įrangos pavadinimas",null,"pro rata proc.",null,{"$f":"K241*L241","v":0},0,{"$f":"ROUND(G241*$D$7,2)","v":0}]
["5.8","Pastatų ar patalpų nuomos išlaidos, veiklai priskirtos pro rata principu. Pastatai ar patalpos turi būti tiesiogiai susijusi su projekto įgyvendinimu.",null,null,null,null,{"$f":"SUM(G243:G247)","v":0},{"$f":"SUM(H243:H247)","v":0},null,null,"Faktinės 1 mėnesio išlaidos, Eur","Naudojimo projekte trukmė, mėn."]
["5.8.1","Pastato, patalpų adresas",null,"pro rata proc.",null,{"$f":"K243*L243","v":0},{"$f":"ROUND(E243*F243,2)","v":0},{"$f":"ROUND(G243*$D$7,2)","v":0}]
["5.8.2","Pastato, patalpų adresas",null,"pro rata proc.",null,{"$f":"K244*L244","v":0},{"$f":"ROUND(E244*F244,2)","v":0},{"$f":"ROUND(G244*$D$7,2)","v":0}]
["5.8.3","Pastato, patalpų adresas",null,"pro rata proc.",null,{"$f":"K245*L245","v":0},{"$f":"ROUND(E245*F245,2)","v":0},{"$f":"ROUND(G245*$D$7,2)","v":0}]
["5.8.4","Pastato, patalpų adresas",null,"pro rata proc.",null,{"$f":"K246*L246","v":0},{"$f":"ROUND(E246*F246,2)","v":0},{"$f":"ROUND(G246*$D$7,2)","v":0}]
["5.8.5","Pastato, patalpų adresas",null,"pro rata proc.",null,{"$f":"K247*L247","v":0},{"$f":"ROUND(E247*F247,2)","v":0},{"$f":"ROUND(G247*$D$7,2)","v":0}]
["Iš viso tinkamų finansuoti išlaidų:",null,null,null,null,null,{"$f":"G10+G21","v":0},{"$f":"H10+H21","v":0}]

{"sheet":"25","index":19,"n_rows":248,"n_cols":19,"rows_kept":248,"cut":false,"hidden":true,"merged":[[5,3,5,8],[8,1,8,2],[9,1,9,5],[10,1,10,2],[11,1,11,2],[12,1,12,2],[0,3,0,8],[2,0,2,2],[2,3,2,8],[3,3,3,4],[3,5,3,6],[4,0,4,2],[4,3,4,8],[19,1,19,2],[20,1,20,5],[21,1,21,5],[22,1,22,2],[23,1,23,2],[24,1,24,2],[13,1,13,2],[14,1,14,2],[15,1,15,2],[16,1,16,2],[17,1,17,2],[18,1,18,2],[31,1,31,2],[32,1,32,5],[33,1,33,2],[34,1,34,2],[35,1,35,2],[36,1,36,2],[25,1,25,2],[26,1,26,2],[27,1,27,2],[28,1,28,2],[29,1,29,2],[30,1,30,2],[43,1,43,5],[44,1,44,2],[45,1,45,2],[46,1,46,2],[47,1,47,2],[48,1,48,2],[37,1,37,2],[38,1,38,2],[39,1,39,2],[40,1,40,2],[41,1,41,2],[42,1,42,2],[55,1,55,2],[56,1,56,2],[57,1,57,2],[58,1,58,2],[59,1,59,2],[60,1,60,2],[49,1,49,2],[50,1,50,2],[51,1,51,2],[52,1,52,2],[53,1,53,2],[54,1,54,2],[67,1,67,2],[68,1,68,2],[69,1,69,2],[70,1,70,2],[71,1,71,5],[72,1,72,2],[61,1,61,2],[62,1,62,2],[63,1,63,2],[64,1,64,2],[65,1,65,2],[66,1,66,2],[79,1,79,2],[80,1,80,2],[81,1,81,2],[82,1,82,2],[83,1,83,2],[84,1,84,2],[73,1,73,2],[74,1,74,2],[75,1,75,2],[76,1,76,2],[77,1,77,2],[78,1,78,2],[91,1,91,2],[92,1,92,2],[93,1,93,2],[94,1,94,2],[95,1,95,2],[96,1,96,2],[85,1,85,2],[86,1,86,2],[87,1,87,2],[88,1,88,2],[89,1,89,2],[90,1,90,2],[97,1,97,2],[98,1,98,2],[99,1,99,2],[100,1,100,2],[101,1,101,5],[102,0,106,0],[102,1,106,1],[102,3,106,3],[102,4,106,4],[102,5,106,5],[102,6,106,6],[102,7,106,7],[102,8,106,8],[107,0,111,0],[107,1,111,1],[107,3,111,3],[107,4,111,4],[107,5,111,5],[107,6,111,6],[107,7,111,7],[107,8,111,8],[112,0,116,0],[112,1,116,1],[112,3,116,3],[112,4,116,4],[112,5,116,5],[112,6,116,6],[112,7,116,7],[112,8,116,8],[117,7,121,7],[117,8,121,8],[122,0,126,0],[122,1,126,1],[122,3,126,3],[122,4,126,4],[122,5,126,5],[122,6,126,6],[122,7,126,7],[122,8,126,8],[117,0,121,0],[117,1,121,1],[117,3,121,3],[117,4,121,4],[117,5,121,5],[117,6,121,6],[127,7,131,7],[127,8,131,8],[132,0,136,0],[132,1,136,1],[132,3,136,3],[132,4,136,4],[132,5,136,5],[132,6,136,6],[132,7,136,7],[132,8,136,8],[127,0,131,0],[127,1,131,1],[127,3,131,3],[127,4,131,4],[127,5,131,5],[127,6,131,6],[137,7,141,7],[137,8,141,8],[142,0,146,0],[142,1,146,1],[142,3,146,3],[142,4,146,4],[142,5,146,5],[142,6,146,6],[142,7,146,7],[142,8,146,8],[137,0,141,0],[137,1,141,1],[137,3,141,3],[137,4,141,4],[137,5,141,5],[137,6,141,6],[160,0,166,0],[160,1,166,1],[160,8,166,8],[167,0,173,0],[167,1,173,1],[167,8,173,8],[147,7,151,7],[147,8,151,8],[152,1,152,5],[153,0,159,0],[153,1,159,1],[153,8,159,8],[147,0,151,0],[147,1,151,1],[147,3,151,3],[147,4,151,4],[147,5,151,5],[147,6,151,6],[188,0,194,0],[188,1,194,1],[188,8,194,8],[195,0,201,0],[195,1,201,1],[195,8,201,8],[174,0,180,0],[174,1,180,1],[174,8,180,8],[181,0,187,0],[181,1,187,1],[181,8,187,8],[216,0,222,0],[216,1,222,1],[216,8,222,8],[223,1,223,5],[224,1,224,2],[225,1,225,2],[202,0,208,0],[202,1,208,1],[202,8,208,8],[209,0,215,0],[209,1,215,1],[209,8,215,8],[232,1,232,2],[233,1,233,2],[234,1,234,2],[235,1,235,2],[236,1,236,2],[237,1,237,2],[226,1,226,2],[227,1,227,2],[228,1,228,2],[229,1,229,2],[230,1,230,2],[231,1,231,2],[244,1,244,2],[245,1,245,2],[246,1,246,2],[247,0,247,5],[238,1,238,2],[239,1,239,2],[240,1,240,2],[241,1,241,5],[242,1,242,2],[243,1,243,2]]}
[null,null,"Pasirinkite veiklos tipą:"]
[null,null,"Fizinio rodiklio Nr.:"]
["Fizinio rodiklio pavadinimas:"]
[null,null,"Fizinio rodiklio matavimo vnt.:",null,null,"Fizinio rodiklio vnt. skaičius:"]
["Juridinis asmuo (pareiškėjas, partneris), atsakingas už fizinį rodiklį:"]
[null,null,"Vykdytojo tipas:"]
[null,null,"Finansavimo intensyvumas:",null,null,null,"Pasirinkite biudžeto išlaidų kategoriją:","Visos"]
[]
["Eil. Nr.","Išlaidų kategorijos pavadinimas",null,"Matavimo vnt.","Kiekis","Vieneto kaina be PVM, Eur","Tinkamų finansuoti išlaidų suma be PVM, Eur","Finansavimo suma, Eur","Išlaidų pagrindimo dokumentų pavadinimas, data ir Nr."]
[4,"ĮRANGA, ĮRENGINIAI IR KT. TURTAS (techninių žinių ir išradimų patentų arba teisių pagal licencijų sutartį įsigijimo išlaidos)",null,null,null,null,{"$f":"SUM(G11:G20)","v":0},{"$f":"SUM(H11:H20)","v":0}]
["4.1","Išlaidų pavadinimas",null,null,null,null,{"$f":"ROUND(E11*F11,2)","v":0},{"$f":"ROUND(G11*$D$7,2)","v":0}]
["4.2","Išlaidų pavadinimas",null,null,null,null,0,0]
["4.3","Išlaidų pavadinimas",null,null,null,null,0,0]
["4.4","Išlaidų pavadinimas",null,null,null,null,0,0]
["4.5","Išlaidų pavadinimas",null,null,null,null,0,0]
["4.6","Išlaidų pavadinimas",null,null,null,null,0,0]
["4.7","Išlaidų pavadinimas",null,null,null,null,0,0]
["4.8","Išlaidų pavadinimas",null,null,null,null,0,0]
["4.9","Išlaidų pavadinimas",null,null,null,null,0,0]
["4.10","Išlaidų pavadinimas",null,null,null,null,0,0]
[5,"PROJEKTO VYKDYMAS",null,null,null,null,{"$f":"G22+G33+G44+G72+G102+G153+G224+G242","v":0},{"$f":"H22+H33+H44+H72+H102+H153+H224+H242","v":0}]
["5.1","MTEP paslaugos",null,null,null,null,{"$f":"SUM(G23:G32)","v":0},{"$f":"SUM(H23:H32)","v":0}]
["5.1.1","Paslaugos pavadinimas",null,null,null,null,{"$f":"ROUND(E23*F23,2)","v":0},0]
["5.1.2","Paslaugos pavadinimas",null,null,null,null,0,0]
["5.1.3","Paslaugos pavadinimas",null,null,null,null,0,0]
["5.1.4","Paslaugos pavadinimas",null,null,null,null,0,0]
["5.1.5","Paslaugos pavadinimas",null,null,null,null,0,0]
["5.1.6","Paslaugos pavadinimas",null,null,null,null,0,0]
["5.1.7","Paslaugos pavadinimas",null,null,null,null,0,0]
["5.1.8","Paslaugos pavadinimas",null,null,null,null,0,0]
["5.1.9","Paslaugos pavadinimas",null,null,null,null,0,0]
["5.1.10","Paslaugos pavadinimas",null,null,null,null,0,0]
["5.2","Konsultavimo ir lygiavertės paslaugos, teikiamos vien tik projekto MTEP veiklai.",null,null,null,null,{"$f":"SUM(G34:G43)","v":0},{"$f":"SUM(H34:H43)","v":0}]
["5.2.1","Paslaugos pavadinimas",null,null,null,null,{"$f":"ROUND(E34*F34,2)","v":0},0]
["5.2.2","Paslaugos pavadinimas",null,null,null,null,0,0]
["5.2.3","Paslaugos pavadinimas",null,null,null,null,0,0]
["5.2.4","Paslaugos pavadinimas",null,null,null,null,0,0]
["5.2.5","Paslaugos pavadinimas",null,null,null,null,0,0]
["5.2.6","Paslaugos pavadinimas",null,null,null,null,0,0]
["5.2.7","Paslaugos pavadinimas",null,null,null,null,0,0]
["5.2.8","Paslaugos pavadinimas",null,null,null,null,0,0]
["5.2.9","Paslaugos pavadinimas",null,null,null,null,0,0]
["5.2.10","Paslaugos pavadinimas",null,null,null,null,0,0]
["5.3","Medžiagos, mažavertis inventorius, atsargos ir pan. produktai, priskirtini trumpalaikiam turtui ir tiesiogiai susiję su MTEP veikla",null,null,null,null,{"$f":"SUM(G45:G71)","v":0},{"$f":"SUM(H45:H71)","v":0}]
["5.3.1","Išlaidų pavadinimas",null,null,null,null,{"$f":"ROUND(E45*F45,2)","v":0},{"$f":"ROUND(G45*$D$7,2)","v":0}]
["5.3.2","Išlaidų pavadinimas",null,null,null,null,{"$f":"ROUND(E46*F46,2)","v":0},{"$f":"ROUND(G46*$D$7,2)","v":0}]
["5.3.3","Išlaidų pavadinimas",null,null,null,null,{"$f":"ROUND(E47*F47,2)","v":0},{"$f":"ROUND(G47*$D$7,2)","v":0}]
["5.3.4","Išlaidų pavadinimas",null,null,null,null,{"$f":"ROUND(E48*F48,2)","v":0},{"$f":"ROUND(G48*$D$7,2)","v":0}]
["5.3.5","Išlaidų pavadinimas",null,null,null,null,{"$f":"ROUND(E49*F49,2)","v":0},{"$f":"ROUND(G49*$D$7,2)","v":0}]
["5.3.6","Išlaidų pavadinimas",null,null,null,null,0,0]
["5.3.7","Išlaidų pavadinimas",null,null,null,null,0,0]
["5.3.8","Išlaidų pavadinimas",null,null,null,null,0,0]
["5.3.9","Išlaidų pavadinimas",null,null,null,null,0,0]
["5.3.10","Išlaidų pavadinimas",null,null,null,null,0,0]
["5.3.11","Išlaidų pavadinimas",null,null,null,null,0,0]
["5.3.12","Išlaidų pavadinimas",null,null,null,null,0,0]
["5.3.13","Išlaidų pavadinimas",null,null,null,null,0,0]
["5.3.14","Išlaidų pavadinimas",null,null,null,null,0,0]
["5.3.15","Išlaidų pavadinimas",null,null,null,null,0,0]
["5.3.16","Išlaidų pavadinimas",null,null,null,null,0,0]
["5.3.17","Išlaidų pavadinimas",null,null,null,null,0,0]
["5.3.18","Išlaidų pavadinimas",null,null,null,null,0,0]
["5.3.19","Išlaidų pavadinimas",null,null,null,null,0,0]
["5.3.20","Išlaidų pavadinimas",null,null,null,null,0,0]
["5.3.21","Išlaidų pavadinimas",null,null,null,null,0,0]
["5.3.22","Išlaidų pavadinimas",null,null,null,null,0,0]
["5.3.23","Išlaidų pavadinimas",null,null,null,null,0,0]
["5.3.24","Išlaidų pavadinimas",null,null,null,null,0,0]
["5.3.25","Išlaidų pavadinimas",null,null,null,null,0,0]
["5.3.26","Išlaidų pavadinimas",null,null,null,null,0,0]
["5.3.27","Išlaidų pavadinimas",null,null,null,null,0,0]
["5.4","Projekto MTEP veikloms naudojamo ilgalaikio materialaus turto (įrangos, prietaisų, įrankių, įrenginių, mašinų ir įrengimų, pastatų ir (ar) patalpų), nusidėvėjimo sąnaudos, jeigu šiam turtui įsigyti nebuvo naudojamos viešosios (įskaitant ir kitų valstybių) lėšos",null,null,null,null,{"$f":"SUM(G73:G101)","v":0},{"$f":"SUM(H73:H101)","v":0},null,null,"Turto įvedimo į eksploataciją data","Turto įsigijimo vertė, Eur","Turto nudėvėjimo, amortizacijos laikotarpis, mėn.","Numatoma turto likutinė vertė, Eur","1 mėn. nudėvėjimo, amortizacijos suma, Eur","Turto naudojamo projekto reikmėms laikas, mėn.","Turto panaudojimo projekto reikmėms dalis (proc.)","Projektui priskirta turto nusidėvėjimo, amortizacijos suma per projekto laikotarpį, Eur"]
["5.4.1","Turtas, kurio nusidėvėjimą, amortizaciją prašoma finansuoti",null,null,1,{"$f":"R73","v":0},{"$f":"ROUND(E73*F73,2)","v":0},0,null,null,null,null,null,null,{"$f":"IFERROR(ROUND((L73-N73)/M73,2),\"0\")","v":"0"},null,null,{"$f":"O73*P73*Q73","v":0},{"$f":"IF(K73=0,\" \",IF(K73+(M73*30.5)<TODAY(),\"DĖMESIO! Patikrinkite, ar nurodytas turtas dar nėra nudėvėtas, amortizuotas\",\" \"))","v":" "}]
["5.4.2","Turtas, kurio nusidėvėjimą, amortizaciją prašoma finansuoti",null,null,1,0,0,0,null,null,null,null,null,null,{"$f":"IFERROR(ROUND((L74-N74)/M74,2),\"0\")","v":"0"},null,null,{"$f":"O74*P74*Q74","v":0},{"$f":"IF(K74=0,\" \",IF(K74+(M74*30.5)<TODAY(),\"DĖMESIO! Patikrinkite, ar nurodytas turtas dar nėra nudėvėtas, amortizuotas\",\" \"))","v":" "}]
["5.4.3","Turtas, kurio nusidėvėjimą, amortizaciją prašoma finansuoti",null,null,1,0,0,0,null,null,null,null,null,null,"0",null,null,0," "]
["5.4.4","Turtas, kurio nusidėvėjimą, amortizaciją prašoma finansuoti",null,null,1,0,0,0,null,null,null,null,null,null,"0",null,null,0," "]
["5.4.5","Turtas, kurio nusidėvėjimą, amortizaciją prašoma finansuoti",null,null,1,0,0,0,null,null,null,null,null,null,"0",null,null,0," "]
["5.4.6","Turtas, kurio nusidėvėjimą, amortizaciją prašoma finansuoti",null,null,1,0,0,0,null,null,null,null,null,null,"0",null,null,0," "]
["5.4.7","Turtas, kurio nusidėvėjimą, amortizaciją prašoma finansuoti",null,null,1,0,0,0,null,null,null,null,null,null,"0",null,null,0," "]
["5.4.8","Turtas, kurio nusidėvėjimą, amortizaciją prašoma finansuoti",null,null,1,0,0,0,null,null,null,null,null,null,"0",null,null,0," "]
["5.4.9","Turtas, kurio nusidėvėjimą, amortizaciją prašoma finansuoti",null,null,1,0,0,0,null,null,null,null,null,null,"0",null,null,0," "]
["5.4.10","Turtas, kurio nusidėvėjimą, amortizaciją prašoma finansuoti",null,null,1,0,0,0,null,null,null,null,null,null,"0",null,null,0," "]
["5.4.11","Turtas, kurio nusidėvėjimą, amortizaciją prašoma finansuoti",null,null,1,0,0,0,null,null,null,null,null,null,"0",null,null,0," "]
["5.4.12","Turtas, kurio nusidėvėjimą, amortizaciją prašoma finansuoti",null,null,1,0,0,0,null,null,null,null,null,null,"0",null,null,0," "]
["5.4.13","Turtas, kurio nusidėvėjimą, amortizaciją prašoma finansuoti",null,null,1,0,0,0,null,null,null,null,null,null,"0",null,null,0," "]
["5.4.14","Turtas, kurio nusidėvėjimą, amortizaciją prašoma finansuoti",null,null,1,0,0,0,null,null,null,null,null,null,"0",null,null,0," "]
["5.4.15","Turtas, kurio nusidėvėjimą, amortizaciją prašoma finansuoti",null,null,1,0,0,0,null,null,null,null,null,null,"0",null,null,0," "]
["5.4.16","Turtas, kurio nusidėvėjimą, amortizaciją prašoma finansuoti",null,null,1,0,0,0,null,null,null,null,null,null,"0",null,null,0," "]
["5.4.17","Turtas, kurio nusidėvėjimą, amortizaciją prašoma finansuoti",null,null,1,0,0,0,null,null,null,null,null,null,"0",null,null,0," "]
["5.4.18","Turtas, kurio nusidėvėjimą, amortizaciją prašoma finansuoti",null,null,1,0,0,0,null,null,null,null,null,null,"0",null,null,0," "]
["5.4.19","Turtas, kurio nusidėvėjimą, amortizaciją prašoma finansuoti",null,null,1,0,0,0,null,null,null,null,null,null,"0",null,null,0," "]
["5.4.20","Turtas, kurio nusidėvėjimą, amortizaciją prašoma finansuoti",null,null,1,0,0,0,null,null,null,null,null,null,"0",null,null,0," "]
["5.4.21","Turtas, kurio nusidėvėjimą, amortizaciją prašoma finansuoti",null,null,1,0,0,0,null,null,null,null,null,null,"0",null,null,0," "]
["5.4.22","Turtas, kurio nusidėvėjimą, amortizaciją prašoma finansuoti",null,null,1,0,0,0,null,null,null,null,null,null,"0",null,null,0," "]
["5.4.23","Turtas, kurio nusidėvėjimą, amortizaciją prašoma finansuoti",null,null,1,0,0,0,null,null,null,null,null,null,"0",null,null,0," "]
["5.4.24","Turtas, kurio nusidėvėjimą, amortizaciją prašoma finansuoti",null,null,1,0,0,0,null,null,null,null,null,null,"0",null,null,0," "]
["5.4.25","Turtas, kurio nusidėvėjimą, amortizaciją prašoma finansuoti",null,null,1,0,0,0,null,null,null,null,null,null,"0",null,null,0," "]
["5.4.26","Turtas, kurio nusidėvėjimą, amortizaciją prašoma finansuoti",null,null,1,0,0,0,null,null,null,null,null,null,"0",null,null,0," "]
["5.4.27","Turtas, kurio nusidėvėjimą, amortizaciją prašoma finansuoti",null,null,1,0,0,0,null,null,null,null,null,null,"0",null,null,0," "]
["5.4.28","Turtas, kurio nusidėvėjimą, amortizaciją prašoma finansuoti",null,null,1,0,0,0,null,null,null,null,null,null,"0",null,null,0," "]
["5.4.29","Turtas, kurio nusidėvėjimą, amortizaciją prašoma finansuoti",null,null,1,0,0,0,null,null,null,null,null,null,"0",null,null,0," "]
["5.5","Projektą vykdančio personalo darbo užmokestis ir išlaidos su darbo santykiais susijusiems darbdavio įsipareigojimams",null,null,null,null,{"$f":"SUM(G103:G152)","v":0},{"$f":"SUM(H103:H152)","v":0},null,null,"Faktiškai gaunamas darbo užmokesti už 1 valandą pagal  pastarųjų 6 mėn. vidurkį, Eur"]
["5.5.1","Pareigybės pavadinimas","Darbuotojo vardas pavardė","val.",null,{"$f":"IFERROR(ROUND(AVERAGE(K103:K107),2),\"0\")","v":"0"},{"$f":"ROUND(E103*F103,2)","v":0},{"$f":"ROUND(G103*$D$7,2)","v":0}]
[null,null,"Darbuotojo vardas pavardė"]
[null,null,"Darbuotojo vardas pavardė"]
[null,null,"Darbuotojo vardas pavardė"]
[null,null,"Darbuotojo vardas pavardė"]
["5.5.2","Pareigybės pavadinimas","Darbuotojo vardas pavardė","val.",null,{"$f":"IFERROR(ROUND(AVERAGE(K108:K112),2),\"0\")","v":"0"},{"$f":"ROUND(E108*F108,2)","v":0},{"$f":"ROUND(G108*$D$7,2)","v":0}]
[null,null,"Darbuotojo vardas pavardė"]
[null,null,"Darbuotojo vardas pavardė"]
[null,null,"Darbuotojo vardas pavardė"]
[null,null,"Darbuotojo vardas pavardė"]
["5.5.3","Pareigybės pavadinimas","Darbuotojo vardas pavardė","val.",null,{"$f":"IFERROR(ROUND(AVERAGE(K113:K117),2),\"0\")","v":"0"},{"$f":"ROUND(E113*F113,2)","v":0},{"$f":"ROUND(G113*$D$7,2)","v":0}]
[null,null,"Darbuotojo vardas pavardė"]
[null,null,"Darbuotojo vardas pavardė"]
[null,null,"Darbuotojo vardas pavardė"]
[null,null,"Darbuotojo vardas pavardė"]
["5.5.4","Pareigybės pavadinimas","Darbuotojo vardas pavardė","val.",null,{"$f":"IFERROR(ROUND(AVERAGE(K118:K122),2),\"0\")","v":"0"},{"$f":"ROUND(E118*F118,2)","v":0},{"$f":"ROUND(G118*$D$7,2)","v":0}]
[null,null,"Darbuotojo vardas pavardė"]
[null,null,"Darbuotojo vardas pavardė"]
[null,null,"Darbuotojo vardas pavardė"]
[null,null,"Darbuotojo vardas pavardė"]
["5.5.5","Pareigybės pavadinimas","Darbuotojo vardas pavardė","val.",null,{"$f":"IFERROR(ROUND(AVERAGE(K123:K127),2),\"0\")","v":"0"},{"$f":"ROUND(E123*F123,2)","v":0},{"$f":"ROUND(G123*$D$7,2)","v":0}]
[null,null,"Darbuotojo vardas pavardė"]
[null,null,"Darbuotojo vardas pavardė"]
[null,null,"Darbuotojo vardas pavardė"]
[null,null,"Darbuotojo vardas pavardė"]
["5.5.6","Pareigybės pavadinimas","Darbuotojo vardas pavardė","val.",null,{"$f":"IFERROR(ROUND(AVERAGE(K128:K132),2),\"0\")","v":"0"},{"$f":"ROUND(E128*F128,2)","v":0},{"$f":"ROUND(G128*$D$7,2)","v":0}]
[null,null,"Darbuotojo vardas pavardė"]
[null,null,"Darbuotojo vardas pavardė"]
[null,null,"Darbuotojo vardas pavardė"]
[null,null,"Darbuotojo vardas pavardė"]
["5.5.7","Pareigybės pavadinimas","Darbuotojo vardas pavardė","val.",null,{"$f":"IFERROR(ROUND(AVERAGE(K133:K137),2),\"0\")","v":"0"},{"$f":"ROUND(E133*F133,2)","v":0},{"$f":"ROUND(G133*$D$7,2)","v":0}]
[null,null,"Darbuotojo vardas pavardė"]
[null,null,"Darbuotojo vardas pavardė"]
[null,null,"Darbuotojo vardas pavardė"]
[null,null,"Darbuotojo vardas pavardė"]
["5.5.8","Pareigybės pavadinimas","Darbuotojo vardas pavardė","val.",null,{"$f":"IFERROR(ROUND(AVERAGE(K138:K142),2),\"0\")","v":"0"},{"$f":"ROUND(E138*F138,2)","v":0},{"$f":"ROUND(G138*$D$7,2)","v":0}]
[null,null,"Darbuotojo vardas pavardė"]
[null,null,"Darbuotojo vardas pavardė"]
[null,null,"Darbuotojo vardas pavardė"]
[null,null,"Darbuotojo vardas pavardė"]
["5.5.9","Pareigybės pavadinimas","Darbuotojo vardas pavardė","val.",null,{"$f":"IFERROR(ROUND(AVERAGE(K143:K147),2),\"0\")","v":"0"},{"$f":"ROUND(E143*F143,2)","v":0},{"$f":"ROUND(G143*$D$7,2)","v":0}]
[null,null,"Darbuotojo vardas pavardė"]
[null,null,"Darbuotojo vardas pavardė"]
[null,null,"Darbuotojo vardas pavardė"]
[null,null,"Darbuotojo vardas pavardė"]
["5.5.10","Pareigybės pavadinimas","Darbuotojo vardas pavardė","val.",null,{"$f":"IFERROR(ROUND(AVERAGE(K148:K152),2),\"0\")","v":"0"},{"$f":"ROUND(E148*F148,2)","v":0},{"$f":"ROUND(G148*$D$7,2)","v":0}]
[null,null,"Darbuotojo vardas pavardė"]
[null,null,"Darbuotojo vardas pavardė"]
[null,null,"Darbuotojo vardas pavardė"]
[null,null,"Darbuotojo vardas pavardė"]
["5.6","Projektą vykdančio personalo komandiruočių išlaidos",null,null,null,null,{"$f":"SUM(G154,G161,G168,G175,G182,G189,G196,G203,G210,G217)","v":0},{"$f":"SUM(H154,H161,H168,H175,H182,H189,H196,H203,H210,H217)","v":0}]
["5.6.1","Komandiruotės pavadinimas, vieta, trukmė dienomis, vykstančių asmenų skaičius","Iš viso komandiruotei",null,null,null,{"$f":"SUM(G155:G160)","v":0},{"$f":"ROUND(G154*$D$7,2)","v":0}]
[null,null,"Dienpinigiai",null,null,null,{"$f":"ROUND(E155*F155,2)","v":0}]
[null,null,"Gyvenamojo ploto nuoma",null,null,null,0]
[null,null,"Kelionės išlaidos",null,null,null,0]
[null,null,"Dalyvavimo mokestis",null,null,null,0]
[null,null,"Kitos išlaidų pavadinimas",null,null,null,0]
[null,null,"Kitos išlaidų pavadinimas",null,null,null,0]
["5.6.2","Komandiruotės pavadinimas, vieta, trukmė dienomis, vykstančių asmenų skaičius","Iš viso komandiruotei",null,null,null,{"$f":"SUM(G162:G167)","v":0},{"$f":"ROUND(G161*$D$7,2)","v":0}]
[null,null,"Dienpinigiai",null,null,null,{"$f":"ROUND(E162*F162,2)","v":0}]
[null,null,"Gyvenamojo ploto nuoma",null,null,null,0]
[null,null,"Kelionės išlaidos",null,null,null,0]
[null,null,"Dalyvavimo mokestis",null,null,null,0]
[null,null,"Kitos išlaidų pavadinimas",null,null,null,0]
[null,null,"Kitos išlaidų pavadinimas",null,null,null,0]
["5.6.3","Komandiruotės pavadinimas, vieta, trukmė dienomis, vykstančių asmenų skaičius","Iš viso komandiruotei",null,null,null,{"$f":"SUM(G169:G174)","v":0},{"$f":"ROUND(G168*$D$7,2)","v":0}]
[null,null,"Dienpinigiai",null,null,null,{"$f":"ROUND(E169*F169,2)","v":0}]
[null,null,"Gyvenamojo ploto nuoma",null,null,null,0]
[null,null,"Kelionės išlaidos",null,null,null,0]
[null,null,"Dalyvavimo mokestis",null,null,null,0]
[null,null,"Kitos išlaidų pavadinimas",null,null,null,0]
[null,null,"Kitos išlaidų pavadinimas",null,null,null,0]
["5.6.4","Komandiruotės pavadinimas, vieta, trukmė dienomis, vykstančių asmenų skaičius","Iš viso komandiruotei",null,null,null,{"$f":"SUM(G176:G181)","v":0},{"$f":"ROUND(G175*$D$7,2)","v":0}]
[null,null,"Dienpinigiai",null,null,null,{"$f":"ROUND(E176*F176,2)","v":0}]
[null,null,"Gyvenamojo ploto nuoma",null,null,null,0]
[null,null,"Kelionės išlaidos",null,null,null,0]
[null,null,"Dalyvavimo mokestis",null,null,null,0]
[null,null,"Kitos išlaidų pavadinimas",null,null,null,0]
[null,null,"Kitos išlaidų pavadinimas",null,null,null,0]
["5.6.5","Komandiruotės pavadinimas, vieta, trukmė dienomis, vykstančių asmenų skaičius","Iš viso komandiruotei",null,null,null,{"$f":"SUM(G183:G188)","v":0},{"$f":"ROUND(G182*$D$7,2)","v":0}]
[null,null,"Dienpinigiai",null,null,null,{"$f":"ROUND(E183*F183,2)","v":0}]
[null,null,"Gyvenamojo ploto nuoma",null,null,null,0]
[null,null,"Kelionės išlaidos",null,null,null,0]
[null,null,"Dalyvavimo mokestis",null,null,null,0]
[null,null,"Kitos išlaidų pavadinimas",null,null,null,0]
[null,null,"Kitos išlaidų pavadinimas",null,null,null,0]
["5.6.6","Komandiruotės pavadinimas, vieta, trukmė dienomis, vykstančių asmenų skaičius","Iš viso komandiruotei",null,null,null,{"$f":"SUM(G190:G195)","v":0},{"$f":"ROUND(G189*$D$7,2)","v":0}]
[null,null,"Dienpinigiai",null,null,null,{"$f":"ROUND(E190*F190,2)","v":0}]
[null,null,"Gyvenamojo ploto nuoma",null,null,null,0]
[null,null,"Kelionės išlaidos",null,null,null,0]
[null,null,"Dalyvavimo mokestis",null,null,null,0]
[null,null,"Kitos išlaidų pavadinimas",null,null,null,0]
[null,null,"Kitos išlaidų pavadinimas",null,null,null,0]
["5.6.7","Komandiruotės pavadinimas, vieta, trukmė dienomis, vykstančių asmenų skaičius","Iš viso komandiruotei",null,null,null,{"$f":"SUM(G197:G202)","v":0},{"$f":"ROUND(G196*$D$7,2)","v":0}]
[null,null,"Dienpinigiai",null,null,null,{"$f":"ROUND(E197*F197,2)","v":0}]
[null,null,"Gyvenamojo ploto nuoma",null,null,null,0]
[null,null,"Kelionės išlaidos",null,null,null,0]
[null,null,"Dalyvavimo mokestis",null,null,null,0]
[null,null,"Kitos išlaidų pavadinimas",null,null,null,0]
[null,null,"Kitos išlaidų pavadinimas",null,null,null,0]
["5.6.8","Komandiruotės pavadinimas, vieta, trukmė dienomis, vykstančių asmenų skaičius","Iš viso komandiruotei",null,null,null,{"$f":"SUM(G204:G209)","v":0},{"$f":"ROUND(G203*$D$7,2)","v":0}]
[null,null,"Dienpinigiai",null,null,null,{"$f":"ROUND(E204*F204,2)","v":0}]
[null,null,"Gyvenamojo ploto nuoma",null,null,null,0]
[null,null,"Kelionės išlaidos",null,null,null,0]
[null,null,"Dalyvavimo mokestis",null,null,null,0]
[null,null,"Kitos išlaidų pavadinimas",null,null,null,0]
[null,null,"Kitos išlaidų pavadinimas",null,null,null,0]
["5.6.9","Komandiruotės pavadinimas, vieta, trukmė dienomis, vykstančių asmenų skaičius","Iš viso komandiruotei",null,null,null,{"$f":"SUM(G211:G216)","v":0},{"$f":"ROUND(G210*$D$7,2)","v":0}]
[null,null,"Dienpinigiai",null,null,null,{"$f":"ROUND(E211*F211,2)","v":0}]
[null,null,"Gyvenamojo ploto nuoma",null,null,null,0]
[null,null,"Kelionės išlaidos",null,null,null,0]
[null,null,"Dalyvavimo mokestis",null,null,null,0]
[null,null,"Kitos išlaidų pavadinimas",null,null,null,0]
[null,null,"Kitos išlaidų pavadinimas",null,null,null,0]
["5.6.10","Komandiruotės pavadinimas, vieta, trukmė dienomis, vykstančių asmenų skaičius","Iš viso komandiruotei",null,null,null,{"$f":"SUM(G218:G223)","v":0},{"$f":"ROUND(G217*$D$7,2)","v":0}]
[null,null,"Dienpinigiai",null,null,null,{"$f":"ROUND(E218*F218,2)","v":0}]
[null,null,"Gyvenamojo ploto nuoma",null,null,null,0]
[null,null,"Kelionės išlaidos",null,null,null,0]
[null,null,"Dalyvavimo mokestis",null,null,null,0]
[null,null,"Kitos išlaidų pavadinimas",null,null,null,0]
[null,null,"Kitos išlaidų pavadinimas",null,null,null,0]
["5.7","Įrangos nuomos išlaidos, veiklai priskirtos pro rata principu. Įranga turi būti tiesiogiai susijusi su projekto įgyvendinimu ir negali būti įsigyta iš ES struktūrinių fondų ar kt. ES finansinių priemonių lėšų",null,null,null,null,{"$f":"SUM(G225:G241)","v":0},{"$f":"SUM(H225:H241)","v":0},null,null,"Faktinės 1 mėnesio išlaidos, Eur","Naudojimo projekte trukmė, mėn."]
["5.7.1","Įrangos pavadinimas",null,"pro rata proc.",null,{"$f":"K225*L225","v":0},{"$f":"ROUND(E225*F225,2)","v":0},{"$f":"ROUND(G225*$D$7,2)","v":0}]
["5.7.2","Įrangos pavadinimas",null,"pro rata proc.",null,{"$f":"K226*L226","v":0},0,{"$f":"ROUND(G226*$D$7,2)","v":0}]
["5.7.3","Įrangos pavadinimas",null,"pro rata proc.",null,0,0,0]
["5.7.4","Įrangos pavadinimas",null,"pro rata proc.",null,0,0,0]
["5.7.5","Įrangos pavadinimas",null,"pro rata proc.",null,0,0,0]
["5.7.6","Įrangos pavadinimas",null,"pro rata proc.",null,0,0,0]
["5.7.7","Įrangos pavadinimas",null,"pro rata proc.",null,0,0,0]
["5.7.8","Įrangos pavadinimas",null,"pro rata proc.",null,0,0,0]
["5.7.9","Įrangos pavadinimas",null,"pro rata proc.",null,0,0,0]
["5.7.10","Įrangos pavadinimas",null,"pro rata proc.",null,0,0,0]
["5.7.11","Įrangos pavadinimas",null,"pro rata proc.",null,0,0,0]
["5.7.12","Įrangos pavadinimas",null,"pro rata proc.",null,0,0,0]
["5.7.13","Įrangos pavadinimas",null,"pro rata proc.",null,0,0,0]
["5.7.14","Įrangos pavadinimas",null,"pro rata proc.",null,{"$f":"K238*L238","v":0},0,{"$f":"ROUND(G238*$D$7,2)","v":0}]
["5.7.15","Įrangos pavadinimas",null,"pro rata proc.",null,{"$f":"K239*L239","v":0},0,{"$f":"ROUND(G239*$D$7,2)","v":0}]
["5.7.16","Įrangos pavadinimas",null,"pro rata proc.",null,{"$f":"K240*L240","v":0},0,{"$f":"ROUND(G240*$D$7,2)","v":0}]
["5.7.17","Įrangos pavadinimas",null,"pro rata proc.",null,{"$f":"K241*L241","v":0},0,{"$f":"ROUND(G241*$D$7,2)","v":0}]
["5.8","Pastatų ar patalpų nuomos išlaidos, veiklai priskirtos pro rata principu. Pastatai ar patalpos turi būti tiesiogiai susijusi su projekto įgyvendinimu.",null,null,null,null,{"$f":"SUM(G243:G247)","v":0},{"$f":"SUM(H243:H247)","v":0},null,null,"Faktinės 1 mėnesio išlaidos, Eur","Naudojimo projekte trukmė, mėn."]
["5.8.1","Pastato, patalpų adresas",null,"pro rata proc.",null,{"$f":"K243*L243","v":0},{"$f":"ROUND(E243*F243,2)","v":0},{"$f":"ROUND(G243*$D$7,2)","v":0}]
["5.8.2","Pastato, patalpų adresas",null,"pro rata proc.",null,{"$f":"K244*L244","v":0},{"$f":"ROUND(E244*F244,2)","v":0},{"$f":"ROUND(G244*$D$7,2)","v":0}]
["5.8.3","Pastato, patalpų adresas",null,"pro rata proc.",null,{"$f":"K245*L245","v":0},{"$f":"ROUND(E245*F245,2)","v":0},{"$f":"ROUND(G245*$D$7,2)","v":0}]
["5.8.4","Pastato, patalpų adresas",null,"pro rata proc.",null,{"$f":"K246*L246","v":0},{"$f":"ROUND(E246*F246,2)","v":0},{"$f":"ROUND(G246*$D$7,2)","v":0}]
["5.8.5","Pastato, patalpų adresas",null,"pro rata proc.",null,{"$f":"K247*L247","v":0},{"$f":"ROUND(E247*F247,2)","v":0},{"$f":"ROUND(G247*$D$7,2)","v":0}]
["Iš viso tinkamų finansuoti išlaidų:",null,null,null,null,null,{"$f":"G10+G21","v":0},{"$f":"H10+H21","v":0}]

{"sheet":"8","index":20,"n_rows":254,"n_cols":18,"rows_kept":254,"cut":false,"hidden":false,"merged":[[5,3,5,8],[8,1,8,2],[9,1,9,5],[10,1,10,2],[11,1,11,2],[12,1,12,2],[0,3,0,8],[2,0,2,2],[2,3,2,8],[3,3,3,4],[3,5,3,6],[4,0,4,2],[4,3,4,8],[19,1,19,2],[20,1,20,5],[21,1,21,5],[22,1,22,2],[23,1,23,2],[24,1,24,2],[13,1,13,2],[14,1,14,2],[15,1,15,2],[16,1,16,2],[17,1,17,2],[18,1,18,2],[31,1,31,2],[32,1,32,5],[33,1,33,2],[34,1,34,2],[35,1,35,2],[36,1,36,2],[25,1,25,2],[26,1,26,2],[27,1,27,2],[28,1,28,2],[29,1,29,2],[30,1,30,2],[43,1,43,5],[44,1,44,2],[45,1,45,2],[46,1,46,2],[47,1,47,2],[48,1,48,2],[37,1,37,2],[38,1,38,2],[39,1,39,2],[40,1,40,2],[41,1,41,2],[42,1,42,2],[55,1,55,2],[56,1,56,2],[57,1,57,2],[58,1,58,2],[59,1,59,2],[60,1,60,2],[49,1,49,2],[50,1,50,2],[51,1,51,2],[52,1,52,2],[53,1,53,2],[54,1,54,2],[67,1,67,2],[68,1,68,2],[69,1,69,2],[70,1,70,2],[71,1,71,5],[72,1,72,2],[61,1,61,2],[62,1,62,2],[63,1,63,2],[64,1,64,2],[65,1,65,2],[66,1,66,2],[79,1,79,2],[80,1,80,2],[81,1,81,2],[82,1,82,2],[83,1,83,2],[84,1,84,2],[73,1,73,2],[74,1,74,2],[75,1,75,2],[76,1,76,2],[77,1,77,2],[78,1,78,2],[91,1,91,2],[92,1,92,2],[93,1,93,2],[94,1,94,2],[95,1,95,2],[96,1,96,2],[85,1,85,2],[86,1,86,2],[87,1,87,2],[88,1,88,2],[89,1,89,2],[90,1,90,2],[97,1,97,2],[98,1,98,2],[99,1,99,2],[100,1,100,2],[101,1,101,5],[102,0,106,0],[102,1,106,1],[102,3,106,3],[102,4,106,4],[102,5,106,5],[102,6,106,6],[102,7,106,7],[102,8,106,8],[107,0,111,0],[107,1,111,1],[107,3,111,3],[107,4,111,4],[107,5,111,5],[107,6,111,6],[107,7,111,7],[107,8,111,8],[112,0,116,0],[112,1,116,1],[112,3,116,3],[112,4,116,4],[112,5,116,5],[112,6,116,6],[112,7,116,7],[112,8,116,8],[117,7,121,7],[117,8,121,8],[122,0,126,0],[122,1,126,1],[122,3,126,3],[122,4,126,4],[122,5,126,5],[122,6,126,6],[122,7,126,7],[122,8,126,8],[117,0,121,0],[117,1,121,1],[117,3,121,3],[117,4,121,4],[117,5,121,5],[117,6,121,6],[127,7,131,7],[127,8,131,8],[132,0,136,0],[132,1,136,1],[132,3,136,3],[132,4,136,4],[132,5,136,5],[132,6,136,6],[132,7,136,7],[132,8,136,8],[127,0,131,0],[127,1,131,1],[127,3,131,3],[127,4,131,4],[127,5,131,5],[127,6,131,6],[137,7,141,7],[137,8,141,8],[142,0,146,0],[142,1,146,1],[142,3,146,3],[142,4,146,4],[142,5,146,5],[142,6,146,6],[142,7,146,7],[142,8,146,8],[137,0,141,0],[137,1,141,1],[137,3,141,3],[137,4,141,4],[137,5,141,5],[137,6,141,6],[147,7,151,7],[147,8,151,8],[152,1,152,5],[153,0,159,0],[153,1,159,1],[153,8,159,8],[147,0,151,0],[147,1,151,1],[147,3,151,3],[147,4,151,4],[147,5,151,5],[147,6,151,6],[174,0,180,0],[174,1,180,1],[174,8,180,8],[181,0,187,0],[181,1,187,1],[181,8,187,8],[160,0,166,0],[160,1,166,1],[160,8,166,8],[167,0,173,0],[167,1,173,1],[167,8,173,8],[202,0,208,0],[202,1,208,1],[202,8,208,8],[209,0,215,0],[209,1,215,1],[209,8,215,8],[188,0,194,0],[188,1,194,1],[188,8,194,8],[195,0,201,0],[195,1,201,1],[195,8,201,8],[226,1,226,2],[227,1,227,2],[228,1,228,2],[229,1,229,2],[230,1,230,2],[231,1,231,2],[216,0,222,0],[216,1,222,1],[216,8,222,8],[223,1,223,5],[224,1,224,2],[225,1,225,2],[238,1,238,2],[239,1,239,2],[240,1,240,2],[241,1,241,5],[242,1,242,2],[243,1,243,2],[232,1,232,2],[233,1,233,2],[234,1,234,2],[235,1,235,2],[236,1,236,2],[237,1,237,2],[250,1,250,2],[251,1,251,2],[252,1,252,2],[253,0,253,5],[244,1,244,2],[245,1,245,2],[246,1,246,2],[247,1,247,5],[248,1,248,2],[249,1,249,2]]}
[null,null,"Pasirinkite veiklos tipą:"]
[null,null,"Fizinio rodiklio Nr.:"]
["Fizinio rodiklio pavadinimas:"]
[null,null,"Fizinio rodiklio matavimo vnt.:",null,null,"Fizinio rodiklio vnt. skaičius:"]
["Juridinis asmuo (pareiškėjas, partneris), atsakingas už fizinį rodiklį:"]
[null,null,"Vykdytojo tipas:"]
[null,null,"Finansavimo intensyvumas:",null,null,null,"Pasirinkite biudžeto išlaidų kategoriją:","Visos"]
[]
["Eil. Nr.","Išlaidų kategorijos pavadinimas",null,"Matavimo vnt.","Kiekis","Vieneto kaina be PVM, Eur","Tinkamų finansuoti išlaidų suma be PVM, Eur","Finansavimo suma, Eur","Išlaidų pagrindimo dokumentų pavadinimas, data ir Nr."]
[4,"ĮRANGA, ĮRENGINIAI IR KT. TURTAS (techninių žinių ir išradimų patentų arba teisių pagal licencijų sutartį įsigijimo išlaidos)",null,null,null,null,{"$f":"SUM(G11:G20)","v":0},{"$f":"SUM(H11:H20)","v":0}]
["4.1","Išlaidų pavadinimas",null,null,null,null,{"$f":"ROUND(E11*F11,2)","v":0},{"$f":"ROUND(G11*$D$7,2)","v":0}]
["4.2","Išlaidų pavadinimas",null,null,null,null,0,0]
["4.3","Išlaidų pavadinimas",null,null,null,null,0,0]
["4.4","Išlaidų pavadinimas",null,null,null,null,0,0]
["4.5","Išlaidų pavadinimas",null,null,null,null,0,0]
["4.6","Išlaidų pavadinimas",null,null,null,null,0,0]
["4.7","Išlaidų pavadinimas",null,null,null,null,0,0]
["4.8","Išlaidų pavadinimas",null,null,null,null,0,0]
["4.9","Išlaidų pavadinimas",null,null,null,null,0,0]
["4.10","Išlaidų pavadinimas",null,null,null,null,0,0]
[5,"PROJEKTO VYKDYMAS",null,null,null,null,{"$f":"G22+G33+G44+G72+G102+G153+G224+G242+G248","v":0},{"$f":"H22+H33+H44+H72+H102+H153+H224+H242+H248","v":0}]
["5.1","MTEP paslaugos",null,null,null,null,{"$f":"SUM(G23:G32)","v":0},{"$f":"SUM(H23:H32)","v":0}]
["5.1.1","Paslaugos pavadinimas",null,null,null,null,{"$f":"ROUND(E23*F23,2)","v":0},0]
["5.1.2","Paslaugos pavadinimas",null,null,null,null,0,0]
["5.1.3","Paslaugos pavadinimas",null,null,null,null,0,0]
["5.1.4","Paslaugos pavadinimas",null,null,null,null,0,0]
["5.1.5","Paslaugos pavadinimas",null,null,null,null,0,0]
["5.1.6","Paslaugos pavadinimas",null,null,null,null,0,0]
["5.1.7","Paslaugos pavadinimas",null,null,null,null,0,0]
["5.1.8","Paslaugos pavadinimas",null,null,null,null,0,0]
["5.1.9","Paslaugos pavadinimas",null,null,null,null,0,0]
["5.1.10","Paslaugos pavadinimas",null,null,null,null,0,0]
["5.2","Konsultavimo ir lygiavertės paslaugos, teikiamos vien tik projekto MTEP veiklai.",null,null,null,null,{"$f":"SUM(G34:G43)","v":0},{"$f":"SUM(H34:H43)","v":0}]
["5.2.1","Paslaugos pavadinimas",null,null,null,null,{"$f":"ROUND(E34*F34,2)","v":0},0]
["5.2.2","Paslaugos pavadinimas",null,null,null,null,0,0]
["5.2.3","Paslaugos pavadinimas",null,null,null,null,0,0]
["5.2.4","Paslaugos pavadinimas",null,null,null,null,0,0]
["5.2.5","Paslaugos pavadinimas",null,null,null,null,0,0]
["5.2.6","Paslaugos pavadinimas",null,null,null,null,0,0]
["5.2.7","Paslaugos pavadinimas",null,null,null,null,0,0]
["5.2.8","Paslaugos pavadinimas",null,null,null,null,0,0]
["5.2.9","Paslaugos pavadinimas",null,null,null,null,0,0]
["5.2.10","Paslaugos pavadinimas",null,null,null,null,0,0]
["5.3","Medžiagos, mažavertis inventorius, atsargos ir pan. produktai, priskirtini trumpalaikiam turtui ir tiesiogiai susiję su MTEP veikla",null,null,null,null,{"$f":"SUM(G45:G71)","v":0},{"$f":"SUM(H45:H71)","v":0}]
["5.3.1","Išlaidų pavadinimas",null,null,null,null,{"$f":"ROUND(E45*F45,2)","v":0},{"$f":"ROUND(G45*$D$7,2)","v":0}]
["5.3.2","Išlaidų pavadinimas",null,null,null,null,{"$f":"ROUND(E46*F46,2)","v":0},{"$f":"ROUND(G46*$D$7,2)","v":0}]
["5.3.3","Išlaidų pavadinimas",null,null,null,null,{"$f":"ROUND(E47*F47,2)","v":0},{"$f":"ROUND(G47*$D$7,2)","v":0}]
["5.3.4","Išlaidų pavadinimas",null,null,null,null,{"$f":"ROUND(E48*F48,2)","v":0},{"$f":"ROUND(G48*$D$7,2)","v":0}]
["5.3.5","Išlaidų pavadinimas",null,null,null,null,{"$f":"ROUND(E49*F49,2)","v":0},{"$f":"ROUND(G49*$D$7,2)","v":0}]
["5.3.6","Išlaidų pavadinimas",null,null,null,null,0,0]
["5.3.7","Išlaidų pavadinimas",null,null,null,null,0,0]
["5.3.8","Išlaidų pavadinimas",null,null,null,null,0,0]
["5.3.9","Išlaidų pavadinimas",null,null,null,null,0,0]
["5.3.10","Išlaidų pavadinimas",null,null,null,null,0,0]
["5.3.11","Išlaidų pavadinimas",null,null,null,null,0,0]
["5.3.12","Išlaidų pavadinimas",null,null,null,null,0,0]
["5.3.13","Išlaidų pavadinimas",null,null,null,null,0,0]
["5.3.14","Išlaidų pavadinimas",null,null,null,null,0,0]
["5.3.15","Išlaidų pavadinimas",null,null,null,null,0,0]
["5.3.16","Išlaidų pavadinimas",null,null,null,null,0,0]
["5.3.17","Išlaidų pavadinimas",null,null,null,null,0,0]
["5.3.18","Išlaidų pavadinimas",null,null,null,null,0,0]
["5.3.19","Išlaidų pavadinimas",null,null,null,null,0,0]
["5.3.20","Išlaidų pavadinimas",null,null,null,null,0,0]
["5.3.21","Išlaidų pavadinimas",null,null,null,null,0,0]
["5.3.22","Išlaidų pavadinimas",null,null,null,null,0,0]
["5.3.23","Išlaidų pavadinimas",null,null,null,null,0,0]
["5.3.24","Išlaidų pavadinimas",null,null,null,null,0,0]
["5.3.25","Išlaidų pavadinimas",null,null,null,null,0,0]
["5.3.26","Išlaidų pavadinimas",null,null,null,null,0,0]
["5.3.27","Išlaidų pavadinimas",null,null,null,null,0,0]
["5.4","Projekto MTEP veikloms naudojamo ilgalaikio materialaus turto (įrangos, prietaisų, įrankių, įrenginių, mašinų ir įrengimų, pastatų ir (ar) patalpų), nusidėvėjimo sąnaudos, jeigu šiam turtui įsigyti nebuvo naudojamos viešosios (įskaitant ir kitų valstybių) lėšos",null,null,null,null,{"$f":"SUM(G73:G101)","v":0},{"$f":"SUM(H73:H101)","v":0},null,"Turto įvedimo į eksploataciją data","Turto įsigijimo vertė, Eur","Turto nudėvėjimo, amortizacijos laikotarpis, mėn.","Numatoma turto likutinė vertė, Eur","1 mėn. nudėvėjimo, amortizacijos suma, Eur","Turto naudojamo projekto reikmėms laikas, mėn.","Turto panaudojimo projekto reikmėms dalis (proc.)","Projektui priskirta turto nusidėvėjimo, amortizacijos suma per projekto laikotarpį, Eur"]
["5.4.1","Turtas, kurio nusidėvėjimą, amortizaciją prašoma finansuoti",null,null,1,{"$f":"Q73","v":0},{"$f":"ROUND(E73*F73,2)","v":0},0,null,null,null,null,null,{"$f":"IFERROR(ROUND((K73-M73)/L73,2),\"0\")","v":"0"},null,null,{"$f":"N73*O73*P73","v":0},{"$f":"IF(J73=0,\" \",IF(J73+(L73*30.5)<TODAY(),\"DĖMESIO! Patikrinkite, ar nurodytas turtas dar nėra nudėvėtas, amortizuotas\",\" \"))","v":" "}]
["5.4.2","Turtas, kurio nusidėvėjimą, amortizaciją prašoma finansuoti",null,null,1,0,0,0,null,null,null,null,null,{"$f":"IFERROR(ROUND((K74-M74)/L74,2),\"0\")","v":"0"},null,null,{"$f":"N74*O74*P74","v":0},{"$f":"IF(J74=0,\" \",IF(J74+(L74*30.5)<TODAY(),\"DĖMESIO! Patikrinkite, ar nurodytas turtas dar nėra nudėvėtas, amortizuotas\",\" \"))","v":" "}]
["5.4.3","Turtas, kurio nusidėvėjimą, amortizaciją prašoma finansuoti",null,null,1,0,0,0,null,null,null,null,null,"0",null,null,0," "]
["5.4.4","Turtas, kurio nusidėvėjimą, amortizaciją prašoma finansuoti",null,null,1,0,0,0,null,null,null,null,null,"0",null,null,0," "]
["5.4.5","Turtas, kurio nusidėvėjimą, amortizaciją prašoma finansuoti",null,null,1,0,0,0,null,null,null,null,null,"0",null,null,0," "]
["5.4.6","Turtas, kurio nusidėvėjimą, amortizaciją prašoma finansuoti",null,null,1,0,0,0,null,null,null,null,null,"0",null,null,0," "]
["5.4.7","Turtas, kurio nusidėvėjimą, amortizaciją prašoma finansuoti",null,null,1,0,0,0,null,null,null,null,null,"0",null,null,0," "]
["5.4.8","Turtas, kurio nusidėvėjimą, amortizaciją prašoma finansuoti",null,null,1,0,0,0,null,null,null,null,null,"0",null,null,0," "]
["5.4.9","Turtas, kurio nusidėvėjimą, amortizaciją prašoma finansuoti",null,null,1,0,0,0,null,null,null,null,null,"0",null,null,0," "]
["5.4.10","Turtas, kurio nusidėvėjimą, amortizaciją prašoma finansuoti",null,null,1,0,0,0,null,null,null,null,null,"0",null,null,0," "]
["5.4.11","Turtas, kurio nusidėvėjimą, amortizaciją prašoma finansuoti",null,null,1,0,0,0,null,null,null,null,null,"0",null,null,0," "]
["5.4.12","Turtas, kurio nusidėvėjimą, amortizaciją prašoma finansuoti",null,null,1,0,0,0,null,null,null,null,null,"0",null,null,0," "]
["5.4.13","Turtas, kurio nusidėvėjimą, amortizaciją prašoma finansuoti",null,null,1,0,0,0,null,null,null,null,null,"0",null,null,0," "]
["5.4.14","Turtas, kurio nusidėvėjimą, amortizaciją prašoma finansuoti",null,null,1,0,0,0,null,null,null,null,null,"0",null,null,0," "]
["5.4.15","Turtas, kurio nusidėvėjimą, amortizaciją prašoma finansuoti",null,null,1,0,0,0,null,null,null,null,null,"0",null,null,0," "]
["5.4.16","Turtas, kurio nusidėvėjimą, amortizaciją prašoma finansuoti",null,null,1,0,0,0,null,null,null,null,null,"0",null,null,0," "]
["5.4.17","Turtas, kurio nusidėvėjimą, amortizaciją prašoma finansuoti",null,null,1,0,0,0,null,null,null,null,null,"0",null,null,0," "]
["5.4.18","Turtas, kurio nusidėvėjimą, amortizaciją prašoma finansuoti",null,null,1,0,0,0,null,null,null,null,null,"0",null,null,0," "]
["5.4.19","Turtas, kurio nusidėvėjimą, amortizaciją prašoma finansuoti",null,null,1,0,0,0,null,null,null,null,null,"0",null,null,0," "]
["5.4.20","Turtas, kurio nusidėvėjimą, amortizaciją prašoma finansuoti",null,null,1,0,0,0,null,null,null,null,null,"0",null,null,0," "]
["5.4.21","Turtas, kurio nusidėvėjimą, amortizaciją prašoma finansuoti",null,null,1,0,0,0,null,null,null,null,null,"0",null,null,0," "]
["5.4.22","Turtas, kurio nusidėvėjimą, amortizaciją prašoma finansuoti",null,null,1,0,0,0,null,null,null,null,null,"0",null,null,0," "]
["5.4.23","Turtas, kurio nusidėvėjimą, amortizaciją prašoma finansuoti",null,null,1,0,0,0,null,null,null,null,null,"0",null,null,0," "]
["5.4.24","Turtas, kurio nusidėvėjimą, amortizaciją prašoma finansuoti",null,null,1,0,0,0,null,null,null,null,null,"0",null,null,0," "]
["5.4.25","Turtas, kurio nusidėvėjimą, amortizaciją prašoma finansuoti",null,null,1,0,0,0,null,null,null,null,null,"0",null,null,0," "]
["5.4.26","Turtas, kurio nusidėvėjimą, amortizaciją prašoma finansuoti",null,null,1,0,0,0,null,null,null,null,null,"0",null,null,0," "]
["5.4.27","Turtas, kurio nusidėvėjimą, amortizaciją prašoma finansuoti",null,null,1,0,0,0,null,null,null,null,null,"0",null,null,0," "]
["5.4.28","Turtas, kurio nusidėvėjimą, amortizaciją prašoma finansuoti",null,null,1,0,0,0,null,null,null,null,null,"0",null,null,0," "]
["5.4.29","Turtas, kurio nusidėvėjimą, amortizaciją prašoma finansuoti",null,null,1,0,0,0,null,null,null,null,null,"0",null,null,0," "]
["5.5","Projektą vykdančio personalo darbo užmokestis ir išlaidos su darbo santykiais susijusiems darbdavio įsipareigojimams",null,null,null,null,{"$f":"SUM(G103:G152)","v":0},{"$f":"SUM(H103:H152)","v":0},null,"Faktiškai gaunamas darbo užmokesti už 1 valandą pagal  pastarųjų 6 mėn. vidurkį, Eur"]
["5.5.1","Pareigybės pavadinimas","Darbuotojo vardas pavardė","val.",null,{"$f":"IFERROR(ROUND(AVERAGE(J103:J107),2),\"0\")","v":"0"},{"$f":"ROUND(E103*F103,2)","v":0},{"$f":"ROUND(G103*$D$7,2)","v":0}]
[null,null,"Darbuotojo vardas pavardė"]
[null,null,"Darbuotojo vardas pavardė"]
[null,null,"Darbuotojo vardas pavardė"]
[null,null,"Darbuotojo vardas pavardė"]
["5.5.2","Pareigybės pavadinimas","Darbuotojo vardas pavardė","val.",null,{"$f":"IFERROR(ROUND(AVERAGE(J108:J112),2),\"0\")","v":"0"},{"$f":"ROUND(E108*F108,2)","v":0},{"$f":"ROUND(G108*$D$7,2)","v":0}]
[null,null,"Darbuotojo vardas pavardė"]
[null,null,"Darbuotojo vardas pavardė"]
[null,null,"Darbuotojo vardas pavardė"]
[null,null,"Darbuotojo vardas pavardė"]
["5.5.3","Pareigybės pavadinimas","Darbuotojo vardas pavardė","val.",null,{"$f":"IFERROR(ROUND(AVERAGE(J113:J117),2),\"0\")","v":"0"},{"$f":"ROUND(E113*F113,2)","v":0},{"$f":"ROUND(G113*$D$7,2)","v":0}]
[null,null,"Darbuotojo vardas pavardė"]
[null,null,"Darbuotojo vardas pavardė"]
[null,null,"Darbuotojo vardas pavardė"]
[null,null,"Darbuotojo vardas pavardė"]
["5.5.4","Pareigybės pavadinimas","Darbuotojo vardas pavardė","val.",null,{"$f":"IFERROR(ROUND(AVERAGE(J118:J122),2),\"0\")","v":"0"},{"$f":"ROUND(E118*F118,2)","v":0},{"$f":"ROUND(G118*$D$7,2)","v":0}]
[null,null,"Darbuotojo vardas pavardė"]
[null,null,"Darbuotojo vardas pavardė"]
[null,null,"Darbuotojo vardas pavardė"]
[null,null,"Darbuotojo vardas pavardė"]
["5.5.5","Pareigybės pavadinimas","Darbuotojo vardas pavardė","val.",null,{"$f":"IFERROR(ROUND(AVERAGE(J123:J127),2),\"0\")","v":"0"},{"$f":"ROUND(E123*F123,2)","v":0},{"$f":"ROUND(G123*$D$7,2)","v":0}]
[null,null,"Darbuotojo vardas pavardė"]
[null,null,"Darbuotojo vardas pavardė"]
[null,null,"Darbuotojo vardas pavardė"]
[null,null,"Darbuotojo vardas pavardė"]
["5.5.6","Pareigybės pavadinimas","Darbuotojo vardas pavardė","val.",null,{"$f":"IFERROR(ROUND(AVERAGE(J128:J132),2),\"0\")","v":"0"},{"$f":"ROUND(E128*F128,2)","v":0},{"$f":"ROUND(G128*$D$7,2)","v":0}]
[null,null,"Darbuotojo vardas pavardė"]
[null,null,"Darbuotojo vardas pavardė"]
[null,null,"Darbuotojo vardas pavardė"]
[null,null,"Darbuotojo vardas pavardė"]
["5.5.7","Pareigybės pavadinimas","Darbuotojo vardas pavardė","val.",null,{"$f":"IFERROR(ROUND(AVERAGE(J133:J137),2),\"0\")","v":"0"},{"$f":"ROUND(E133*F133,2)","v":0},{"$f":"ROUND(G133*$D$7,2)","v":0}]
[null,null,"Darbuotojo vardas pavardė"]
[null,null,"Darbuotojo vardas pavardė"]
[null,null,"Darbuotojo vardas pavardė"]
[null,null,"Darbuotojo vardas pavardė"]
["5.5.8","Pareigybės pavadinimas","Darbuotojo vardas pavardė","val.",null,{"$f":"IFERROR(ROUND(AVERAGE(J138:J142),2),\"0\")","v":"0"},{"$f":"ROUND(E138*F138,2)","v":0},{"$f":"ROUND(G138*$D$7,2)","v":0}]
[null,null,"Darbuotojo vardas pavardė"]
[null,null,"Darbuotojo vardas pavardė"]
[null,null,"Darbuotojo vardas pavardė"]
[null,null,"Darbuotojo vardas pavardė"]
["5.5.9","Pareigybės pavadinimas","Darbuotojo vardas pavardė","val.",null,{"$f":"IFERROR(ROUND(AVERAGE(J143:J147),2),\"0\")","v":"0"},{"$f":"ROUND(E143*F143,2)","v":0},{"$f":"ROUND(G143*$D$7,2)","v":0}]
[null,null,"Darbuotojo vardas pavardė"]
[null,null,"Darbuotojo vardas pavardė"]
[null,null,"Darbuotojo vardas pavardė"]
[null,null,"Darbuotojo vardas pavardė"]
["5.5.10","Pareigybės pavadinimas","Darbuotojo vardas pavardė","val.",null,{"$f":"IFERROR(ROUND(AVERAGE(J148:J152),2),\"0\")","v":"0"},{"$f":"ROUND(E148*F148,2)","v":0},{"$f":"ROUND(G148*$D$7,2)","v":0}]
[null,null,"Darbuotojo vardas pavardė"]
[null,null,"Darbuotojo vardas pavardė"]
[null,null,"Darbuotojo vardas pavardė"]
[null,null,"Darbuotojo vardas pavardė"]
["5.6","Projektą vykdančio personalo komandiruočių išlaidos",null,null,null,null,{"$f":"SUM(G154,G161,G168,G175,G182,G189,G196,G203,G210,G217)","v":0},{"$f":"SUM(H154,H161,H168,H175,H182,H189,H196,H203,H210,H217)","v":0}]
["5.6.1","Komandiruotės pavadinimas, vieta, trukmė dienomis, vykstančių asmenų skaičius","Iš viso komandiruotei",null,null,null,{"$f":"SUM(G155:G160)","v":0},{"$f":"ROUND(G154*$D$7,2)","v":0}]
[null,null,"Dienpinigiai",null,null,null,{"$f":"ROUND(E155*F155,2)","v":0}]
[null,null,"Gyvenamojo ploto nuoma",null,null,null,0]
[null,null,"Kelionės išlaidos",null,null,null,0]
[null,null,"Dalyvavimo mokestis",null,null,null,0]
[null,null,"Kitos išlaidų pavadinimas",null,null,null,0]
[null,null,"Kitos išlaidų pavadinimas",null,null,null,0]
["5.6.2","Komandiruotės pavadinimas, vieta, trukmė dienomis, vykstančių asmenų skaičius","Iš viso komandiruotei",null,null,null,{"$f":"SUM(G162:G167)","v":0},{"$f":"ROUND(G161*$D$7,2)","v":0}]
[null,null,"Dienpinigiai",null,null,null,{"$f":"ROUND(E162*F162,2)","v":0}]
[null,null,"Gyvenamojo ploto nuoma",null,null,null,0]
[null,null,"Kelionės išlaidos",null,null,null,0]
[null,null,"Dalyvavimo mokestis",null,null,null,0]
[null,null,"Kitos išlaidų pavadinimas",null,null,null,0]
[null,null,"Kitos išlaidų pavadinimas",null,null,null,0]
["5.6.3","Komandiruotės pavadinimas, vieta, trukmė dienomis, vykstančių asmenų skaičius","Iš viso komandiruotei",null,null,null,{"$f":"SUM(G169:G174)","v":0},{"$f":"ROUND(G168*$D$7,2)","v":0}]
[null,null,"Dienpinigiai",null,null,null,{"$f":"ROUND(E169*F169,2)","v":0}]
[null,null,"Gyvenamojo ploto nuoma",null,null,null,0]
[null,null,"Kelionės išlaidos",null,null,null,0]
[null,null,"Dalyvavimo mokestis",null,null,null,0]
[null,null,"Kitos išlaidų pavadinimas",null,null,null,0]
[null,null,"Kitos išlaidų pavadinimas",null,null,null,0]
["5.6.4","Komandiruotės pavadinimas, vieta, trukmė dienomis, vykstančių asmenų skaičius","Iš viso komandiruotei",null,null,null,{"$f":"SUM(G176:G181)","v":0},{"$f":"ROUND(G175*$D$7,2)","v":0}]
[null,null,"Dienpinigiai",null,null,null,{"$f":"ROUND(E176*F176,2)","v":0}]
[null,null,"Gyvenamojo ploto nuoma",null,null,null,0]
[null,null,"Kelionės išlaidos",null,null,null,0]
[null,null,"Dalyvavimo mokestis",null,null,null,0]
[null,null,"Kitos išlaidų pavadinimas",null,null,null,0]
[null,null,"Kitos išlaidų pavadinimas",null,null,null,0]
["5.6.5","Komandiruotės pavadinimas, vieta, trukmė dienomis, vykstančių asmenų skaičius","Iš viso komandiruotei",null,null,null,{"$f":"SUM(G183:G188)","v":0},{"$f":"ROUND(G182*$D$7,2)","v":0}]
[null,null,"Dienpinigiai",null,null,null,{"$f":"ROUND(E183*F183,2)","v":0}]
[null,null,"Gyvenamojo ploto nuoma",null,null,null,0]
[null,null,"Kelionės išlaidos",null,null,null,0]
[null,null,"Dalyvavimo mokestis",null,null,null,0]
[null,null,"Kitos išlaidų pavadinimas",null,null,null,0]
[null,null,"Kitos išlaidų pavadinimas",null,null,null,0]
["5.6.6","Komandiruotės pavadinimas, vieta, trukmė dienomis, vykstančių asmenų skaičius","Iš viso komandiruotei",null,null,null,{"$f":"SUM(G190:G195)","v":0},{"$f":"ROUND(G189*$D$7,2)","v":0}]
[null,null,"Dienpinigiai",null,null,null,{"$f":"ROUND(E190*F190,2)","v":0}]
[null,null,"Gyvenamojo ploto nuoma",null,null,null,0]
[null,null,"Kelionės išlaidos",null,null,null,0]
[null,null,"Dalyvavimo mokestis",null,null,null,0]
[null,null,"Kitos išlaidų pavadinimas",null,null,null,0]
[null,null,"Kitos išlaidų pavadinimas",null,null,null,0]
["5.6.7","Komandiruotės pavadinimas, vieta, trukmė dienomis, vykstančių asmenų skaičius","Iš viso komandiruotei",null,null,null,{"$f":"SUM(G197:G202)","v":0},{"$f":"ROUND(G196*$D$7,2)","v":0}]
[null,null,"Dienpinigiai",null,null,null,{"$f":"ROUND(E197*F197,2)","v":0}]
[null,null,"Gyvenamojo ploto nuoma",null,null,null,0]
[null,null,"Kelionės išlaidos",null,null,null,0]
[null,null,"Dalyvavimo mokestis",null,null,null,0]
[null,null,"Kitos išlaidų pavadinimas",null,null,null,0]
[null,null,"Kitos išlaidų pavadinimas",null,null,null,0]
["5.6.8","Komandiruotės pavadinimas, vieta, trukmė dienomis, vykstančių asmenų skaičius","Iš viso komandiruotei",null,null,null,{"$f":"SUM(G204:G209)","v":0},{"$f":"ROUND(G203*$D$7,2)","v":0}]
[null,null,"Dienpinigiai",null,null,null,{"$f":"ROUND(E204*F204,2)","v":0}]
[null,null,"Gyvenamojo ploto nuoma",null,null,null,0]
[null,null,"Kelionės išlaidos",null,null,null,0]
[null,null,"Dalyvavimo mokestis",null,null,null,0]
[null,null,"Kitos išlaidų pavadinimas",null,null,null,0]
[null,null,"Kitos išlaidų pavadinimas",null,null,null,0]
["5.6.9","Komandiruotės pavadinimas, vieta, trukmė dienomis, vykstančių asmenų skaičius","Iš viso komandiruotei",null,null,null,{"$f":"SUM(G211:G216)","v":0},{"$f":"ROUND(G210*$D$7,2)","v":0}]
[null,null,"Dienpinigiai",null,null,null,{"$f":"ROUND(E211*F211,2)","v":0}]
[null,null,"Gyvenamojo ploto nuoma",null,null,null,0]
[null,null,"Kelionės išlaidos",null,null,null,0]
[null,null,"Dalyvavimo mokestis",null,null,null,0]
[null,null,"Kitos išlaidų pavadinimas",null,null,null,0]
[null,null,"Kitos išlaidų pavadinimas",null,null,null,0]
["5.6.10","Komandiruotės pavadinimas, vieta, trukmė dienomis, vykstančių asmenų skaičius","Iš viso komandiruotei",null,null,null,{"$f":"SUM(G218:G223)","v":0},{"$f":"ROUND(G217*$D$7,2)","v":0}]
[null,null,"Dienpinigiai",null,null,null,{"$f":"ROUND(E218*F218,2)","v":0}]
[null,null,"Gyvenamojo ploto nuoma",null,null,null,0]
[null,null,"Kelionės išlaidos",null,null,null,0]
[null,null,"Dalyvavimo mokestis",null,null,null,0]
[null,null,"Kitos išlaidų pavadinimas",null,null,null,0]
[null,null,"Kitos išlaidų pavadinimas",null,null,null,0]
["5.7","Įrangos nuomos išlaidos, veiklai priskirtos pro rata principu. Įranga turi būti tiesiogiai susijusi su projekto įgyvendinimu ir negali būti įsigyta iš ES struktūrinių fondų ar kt. ES finansinių priemonių lėšų",null,null,null,null,{"$f":"SUM(G225:G241)","v":0},{"$f":"SUM(H225:H241)","v":0},null,"Faktinės 1 mėnesio išlaidos, Eur","Naudojimo projekte trukmė, mėn."]
["5.7.1","Įrangos pavadinimas",null,"pro rata proc.",null,{"$f":"J225*K225","v":0},{"$f":"ROUND(E225*F225,2)","v":0},{"$f":"ROUND(G225*$D$7,2)","v":0}]
["5.7.2","Įrangos pavadinimas",null,"pro rata proc.",null,0,0,{"$f":"ROUND(G226*$D$7,2)","v":0}]
["5.7.3","Įrangos pavadinimas",null,"pro rata proc.",null,0,0,0]
["5.7.4","Įrangos pavadinimas",null,"pro rata proc.",null,0,0,0]
["5.7.5","Įrangos pavadinimas",null,"pro rata proc.",null,0,0,0]
["5.7.6","Įrangos pavadinimas",null,"pro rata proc.",null,0,0,0]
["5.7.7","Įrangos pavadinimas",null,"pro rata proc.",null,0,0,0]
["5.7.8","Įrangos pavadinimas",null,"pro rata proc.",null,0,0,0]
["5.7.9","Įrangos pavadinimas",null,"pro rata proc.",null,0,0,0]
["5.7.10","Įrangos pavadinimas",null,"pro rata proc.",null,0,0,0]
["5.7.11","Įrangos pavadinimas",null,"pro rata proc.",null,0,0,0]
["5.7.12","Įrangos pavadinimas",null,"pro rata proc.",null,0,0,0]
["5.7.13","Įrangos pavadinimas",null,"pro rata proc.",null,0,0,0]
["5.7.14","Įrangos pavadinimas",null,"pro rata proc.",null,{"$f":"J238*K238","v":0},0,{"$f":"ROUND(G238*$D$7,2)","v":0}]
["5.7.15","Įrangos pavadinimas",null,"pro rata proc.",null,{"$f":"J239*K239","v":0},0,{"$f":"ROUND(G239*$D$7,2)","v":0}]
["5.7.16","Įrangos pavadinimas",null,"pro rata proc.",null,{"$f":"J240*K240","v":0},0,{"$f":"ROUND(G240*$D$7,2)","v":0}]
["5.7.17","Įrangos pavadinimas",null,"pro rata proc.",null,{"$f":"J241*K241","v":0},0,{"$f":"ROUND(G241*$D$7,2)","v":0}]
["5.8","Pastatų ar patalpų nuomos išlaidos, veiklai priskirtos pro rata principu. Pastatai ar patalpos turi būti tiesiogiai susijusi su projekto įgyvendinimu.",null,null,null,null,{"$f":"SUM(G243:G247)","v":0},{"$f":"SUM(H243:H247)","v":0},null,"Faktinės 1 mėnesio išlaidos, Eur","Naudojimo projekte trukmė, mėn."]
["5.8.1","Pastato, patalpų adresas",null,"pro rata proc.",null,{"$f":"J243*K243","v":0},{"$f":"ROUND(E243*F243,2)","v":0},{"$f":"ROUND(G243*$D$7,2)","v":0}]
["5.8.2","Pastato, patalpų adresas",null,"pro rata proc.",null,{"$f":"J244*K244","v":0},{"$f":"ROUND(E244*F244,2)","v":0},{"$f":"ROUND(G244*$D$7,2)","v":0}]
["5.8.3","Pastato, patalpų adresas",null,"pro rata proc.",null,{"$f":"J245*K245","v":0},{"$f":"ROUND(E245*F245,2)","v":0},{"$f":"ROUND(G245*$D$7,2)","v":0}]
["5.8.4","Pastato, patalpų adresas",null,"pro rata proc.",null,{"$f":"J246*K246","v":0},{"$f":"ROUND(E246*F246,2)","v":0},{"$f":"ROUND(G246*$D$7,2)","v":0}]
["5.8.5","Pastato, patalpų adresas",null,"pro rata proc.",null,{"$f":"J247*K247","v":0},{"$f":"ROUND(E247*F247,2)","v":0},{"$f":"ROUND(G247*$D$7,2)","v":0}]
["5.9","Projekto veikloms vykdyti reikalingų transporto priemonių nuomos išlaidos (išlaidos yra tinkamos finansuoti tik pagal Aprašą Nr. 2 vadovaujantis de minimis reglamento nuostatomis)",null,null,null,null,{"$f":"SUM(G249:G253)","v":0},{"$f":"SUM(H249:H253)","v":0}]
["5.9.1","Išlaidų pavadinimas",null,null,null,null,{"$f":"ROUND(E249*F249,2)","v":0},{"$f":"ROUND(G249*$D$7,2)","v":0}]
["5.9.2","Išlaidų pavadinimas",null,null,null,null,{"$f":"ROUND(E250*F250,2)","v":0},{"$f":"ROUND(G250*$D$7,2)","v":0}]
["5.9.3","Išlaidų pavadinimas",null,null,null,null,{"$f":"ROUND(E251*F251,2)","v":0},{"$f":"ROUND(G251*$D$7,2)","v":0}]
["5.9.4","Išlaidų pavadinimas",null,null,null,null,{"$f":"ROUND(E252*F252,2)","v":0},{"$f":"ROUND(G252*$D$7,2)","v":0}]
["5.9.5","Išlaidų pavadinimas",null,null,null,null,{"$f":"ROUND(E253*F253,2)","v":0},{"$f":"ROUND(G253*$D$7,2)","v":0}]
["Iš viso tinkamų finansuoti išlaidų:",null,null,null,null,null,{"$f":"G10+G21","v":0},{"$f":"H10+H21","v":0}]

{"sheet":"9","index":21,"n_rows":254,"n_cols":18,"rows_kept":254,"cut":false,"hidden":false,"merged":[[5,3,5,8],[8,1,8,2],[9,1,9,5],[10,1,10,2],[11,1,11,2],[12,1,12,2],[0,3,0,8],[2,0,2,2],[2,3,2,8],[3,3,3,4],[3,5,3,6],[4,0,4,2],[4,3,4,8],[19,1,19,2],[20,1,20,5],[21,1,21,5],[22,1,22,2],[23,1,23,2],[24,1,24,2],[13,1,13,2],[14,1,14,2],[15,1,15,2],[16,1,16,2],[17,1,17,2],[18,1,18,2],[31,1,31,2],[32,1,32,5],[33,1,33,2],[34,1,34,2],[35,1,35,2],[36,1,36,2],[25,1,25,2],[26,1,26,2],[27,1,27,2],[28,1,28,2],[29,1,29,2],[30,1,30,2],[43,1,43,5],[44,1,44,2],[45,1,45,2],[46,1,46,2],[47,1,47,2],[48,1,48,2],[37,1,37,2],[38,1,38,2],[39,1,39,2],[40,1,40,2],[41,1,41,2],[42,1,42,2],[55,1,55,2],[56,1,56,2],[57,1,57,2],[58,1,58,2],[59,1,59,2],[60,1,60,2],[49,1,49,2],[50,1,50,2],[51,1,51,2],[52,1,52,2],[53,1,53,2],[54,1,54,2],[67,1,67,2],[68,1,68,2],[69,1,69,2],[70,1,70,2],[71,1,71,5],[72,1,72,2],[61,1,61,2],[62,1,62,2],[63,1,63,2],[64,1,64,2],[65,1,65,2],[66,1,66,2],[79,1,79,2],[80,1,80,2],[81,1,81,2],[82,1,82,2],[83,1,83,2],[84,1,84,2],[73,1,73,2],[74,1,74,2],[75,1,75,2],[76,1,76,2],[77,1,77,2],[78,1,78,2],[91,1,91,2],[92,1,92,2],[93,1,93,2],[94,1,94,2],[95,1,95,2],[96,1,96,2],[85,1,85,2],[86,1,86,2],[87,1,87,2],[88,1,88,2],[89,1,89,2],[90,1,90,2],[97,1,97,2],[98,1,98,2],[99,1,99,2],[100,1,100,2],[101,1,101,5],[102,0,106,0],[102,1,106,1],[102,3,106,3],[102,4,106,4],[102,5,106,5],[102,6,106,6],[102,7,106,7],[102,8,106,8],[107,0,111,0],[107,1,111,1],[107,3,111,3],[107,4,111,4],[107,5,111,5],[107,6,111,6],[107,7,111,7],[107,8,111,8],[112,0,116,0],[112,1,116,1],[112,3,116,3],[112,4,116,4],[112,5,116,5],[112,6,116,6],[112,7,116,7],[112,8,116,8],[117,7,121,7],[117,8,121,8],[122,0,126,0],[122,1,126,1],[122,3,126,3],[122,4,126,4],[122,5,126,5],[122,6,126,6],[122,7,126,7],[122,8,126,8],[117,0,121,0],[117,1,121,1],[117,3,121,3],[117,4,121,4],[117,5,121,5],[117,6,121,6],[127,7,131,7],[127,8,131,8],[132,0,136,0],[132,1,136,1],[132,3,136,3],[132,4,136,4],[132,5,136,5],[132,6,136,6],[132,7,136,7],[132,8,136,8],[127,0,131,0],[127,1,131,1],[127,3,131,3],[127,4,131,4],[127,5,131,5],[127,6,131,6],[137,7,141,7],[137,8,141,8],[142,0,146,0],[142,1,146,1],[142,3,146,3],[142,4,146,4],[142,5,146,5],[142,6,146,6],[142,7,146,7],[142,8,146,8],[137,0,141,0],[137,1,141,1],[137,3,141,3],[137,4,141,4],[137,5,141,5],[137,6,141,6],[147,7,151,7],[147,8,151,8],[152,1,152,5],[153,0,159,0],[153,1,159,1],[153,8,159,8],[147,0,151,0],[147,1,151,1],[147,3,151,3],[147,4,151,4],[147,5,151,5],[147,6,151,6],[174,0,180,0],[174,1,180,1],[174,8,180,8],[181,0,187,0],[181,1,187,1],[181,8,187,8],[160,0,166,0],[160,1,166,1],[160,8,166,8],[167,0,173,0],[167,1,173,1],[167,8,173,8],[202,0,208,0],[202,1,208,1],[202,8,208,8],[209,0,215,0],[209,1,215,1],[209,8,215,8],[188,0,194,0],[188,1,194,1],[188,8,194,8],[195,0,201,0],[195,1,201,1],[195,8,201,8],[226,1,226,2],[227,1,227,2],[228,1,228,2],[229,1,229,2],[230,1,230,2],[231,1,231,2],[216,0,222,0],[216,1,222,1],[216,8,222,8],[223,1,223,5],[224,1,224,2],[225,1,225,2],[238,1,238,2],[239,1,239,2],[240,1,240,2],[241,1,241,5],[242,1,242,2],[243,1,243,2],[232,1,232,2],[233,1,233,2],[234,1,234,2],[235,1,235,2],[236,1,236,2],[237,1,237,2],[250,1,250,2],[251,1,251,2],[252,1,252,2],[253,0,253,5],[244,1,244,2],[245,1,245,2],[246,1,246,2],[247,1,247,5],[248,1,248,2],[249,1,249,2]]}
[null,null,"Pasirinkite veiklos tipą:"]
[null,null,"Fizinio rodiklio Nr.:"]
["Fizinio rodiklio pavadinimas:"]
[null,null,"Fizinio rodiklio matavimo vnt.:",null,null,"Fizinio rodiklio vnt. skaičius:"]
["Juridinis asmuo (pareiškėjas, partneris), atsakingas už fizinį rodiklį:"]
[null,null,"Vykdytojo tipas:"]
[null,null,"Finansavimo intensyvumas:",null,null,null,"Pasirinkite biudžeto išlaidų kategoriją:","Visos"]
[]
["Eil. Nr.","Išlaidų kategorijos pavadinimas",null,"Matavimo vnt.","Kiekis","Vieneto kaina be PVM, Eur","Tinkamų finansuoti išlaidų suma be PVM, Eur","Finansavimo suma, Eur","Išlaidų pagrindimo dokumentų pavadinimas, data ir Nr."]
[4,"ĮRANGA, ĮRENGINIAI IR KT. TURTAS (techninių žinių ir išradimų patentų arba teisių pagal licencijų sutartį įsigijimo išlaidos)",null,null,null,null,{"$f":"SUM(G11:G20)","v":0},{"$f":"SUM(H11:H20)","v":0}]
["4.1","Išlaidų pavadinimas",null,null,null,null,{"$f":"ROUND(E11*F11,2)","v":0},{"$f":"ROUND(G11*$D$7,2)","v":0}]
["4.2","Išlaidų pavadinimas",null,null,null,null,0,0]
["4.3","Išlaidų pavadinimas",null,null,null,null,0,0]
["4.4","Išlaidų pavadinimas",null,null,null,null,0,0]
["4.5","Išlaidų pavadinimas",null,null,null,null,0,0]
["4.6","Išlaidų pavadinimas",null,null,null,null,0,0]
["4.7","Išlaidų pavadinimas",null,null,null,null,0,0]
["4.8","Išlaidų pavadinimas",null,null,null,null,0,0]
["4.9","Išlaidų pavadinimas",null,null,null,null,0,0]
["4.10","Išlaidų pavadinimas",null,null,null,null,0,0]
[5,"PROJEKTO VYKDYMAS",null,null,null,null,{"$f":"G22+G33+G44+G72+G102+G153+G224+G242+G248","v":0},{"$f":"H22+H33+H44+H72+H102+H153+H224+H242+H248","v":0}]
["5.1","MTEP paslaugos",null,null,null,null,{"$f":"SUM(G23:G32)","v":0},{"$f":"SUM(H23:H32)","v":0}]
["5.1.1","Paslaugos pavadinimas",null,null,null,null,{"$f":"ROUND(E23*F23,2)","v":0},0]
["5.1.2","Paslaugos pavadinimas",null,null,null,null,0,0]
["5.1.3","Paslaugos pavadinimas",null,null,null,null,0,0]
["5.1.4","Paslaugos pavadinimas",null,null,null,null,0,0]
["5.1.5","Paslaugos pavadinimas",null,null,null,null,0,0]
["5.1.6","Paslaugos pavadinimas",null,null,null,null,0,0]
["5.1.7","Paslaugos pavadinimas",null,null,null,null,0,0]
["5.1.8","Paslaugos pavadinimas",null,null,null,null,0,0]
["5.1.9","Paslaugos pavadinimas",null,null,null,null,0,0]
["5.1.10","Paslaugos pavadinimas",null,null,null,null,0,0]
["5.2","Konsultavimo ir lygiavertės paslaugos, teikiamos vien tik projekto MTEP veiklai.",null,null,null,null,{"$f":"SUM(G34:G43)","v":0},{"$f":"SUM(H34:H43)","v":0}]
["5.2.1","Paslaugos pavadinimas",null,null,null,null,{"$f":"ROUND(E34*F34,2)","v":0},0]
["5.2.2","Paslaugos pavadinimas",null,null,null,null,0,0]
["5.2.3","Paslaugos pavadinimas",null,null,null,null,0,0]
["5.2.4","Paslaugos pavadinimas",null,null,null,null,0,0]
["5.2.5","Paslaugos pavadinimas",null,null,null,null,0,0]
["5.2.6","Paslaugos pavadinimas",null,null,null,null,0,0]
["5.2.7","Paslaugos pavadinimas",null,null,null,null,0,0]
["5.2.8","Paslaugos pavadinimas",null,null,null,null,0,0]
["5.2.9","Paslaugos pavadinimas",null,null,null,null,0,0]
["5.2.10","Paslaugos pavadinimas",null,null,null,null,0,0]
["5.3","Medžiagos, mažavertis inventorius, atsargos ir pan. produktai, priskirtini trumpalaikiam turtui ir tiesiogiai susiję su MTEP veikla",null,null,null,null,{"$f":"SUM(G45:G71)","v":0},{"$f":"SUM(H45:H71)","v":0}]
["5.3.1","Išlaidų pavadinimas",null,null,null,null,{"$f":"ROUND(E45*F45,2)","v":0},{"$f":"ROUND(G45*$D$7,2)","v":0}]
["5.3.2","Išlaidų pavadinimas",null,null,null,null,{"$f":"ROUND(E46*F46,2)","v":0},{"$f":"ROUND(G46*$D$7,2)","v":0}]
["5.3.3","Išlaidų pavadinimas",null,null,null,null,{"$f":"ROUND(E47*F47,2)","v":0},{"$f":"ROUND(G47*$D$7,2)","v":0}]
["5.3.4","Išlaidų pavadinimas",null,null,null,null,{"$f":"ROUND(E48*F48,2)","v":0},{"$f":"ROUND(G48*$D$7,2)","v":0}]
["5.3.5","Išlaidų pavadinimas",null,null,null,null,{"$f":"ROUND(E49*F49,2)","v":0},{"$f":"ROUND(G49*$D$7,2)","v":0}]
["5.3.6","Išlaidų pavadinimas",null,null,null,null,0,0]
["5.3.7","Išlaidų pavadinimas",null,null,null,null,0,0]
["5.3.8","Išlaidų pavadinimas",null,null,null,null,0,0]
["5.3.9","Išlaidų pavadinimas",null,null,null,null,0,0]
["5.3.10","Išlaidų pavadinimas",null,null,null,null,0,0]
["5.3.11","Išlaidų pavadinimas",null,null,null,null,0,0]
["5.3.12","Išlaidų pavadinimas",null,null,null,null,0,0]
["5.3.13","Išlaidų pavadinimas",null,null,null,null,0,0]
["5.3.14","Išlaidų pavadinimas",null,null,null,null,0,0]
["5.3.15","Išlaidų pavadinimas",null,null,null,null,0,0]
["5.3.16","Išlaidų pavadinimas",null,null,null,null,0,0]
["5.3.17","Išlaidų pavadinimas",null,null,null,null,0,0]
["5.3.18","Išlaidų pavadinimas",null,null,null,null,0,0]
["5.3.19","Išlaidų pavadinimas",null,null,null,null,0,0]
["5.3.20","Išlaidų pavadinimas",null,null,null,null,0,0]
["5.3.21","Išlaidų pavadinimas",null,null,null,null,0,0]
["5.3.22","Išlaidų pavadinimas",null,null,null,null,0,0]
["5.3.23","Išlaidų pavadinimas",null,null,null,null,0,0]
["5.3.24","Išlaidų pavadinimas",null,null,null,null,0,0]
["5.3.25","Išlaidų pavadinimas",null,null,null,null,0,0]
["5.3.26","Išlaidų pavadinimas",null,null,null,null,0,0]
["5.3.27","Išlaidų pavadinimas",null,null,null,null,0,0]
["5.4","Projekto MTEP veikloms naudojamo ilgalaikio materialaus turto (įrangos, prietaisų, įrankių, įrenginių, mašinų ir įrengimų, pastatų ir (ar) patalpų), nusidėvėjimo sąnaudos, jeigu šiam turtui įsigyti nebuvo naudojamos viešosios (įskaitant ir kitų valstybių) lėšos",null,null,null,null,{"$f":"SUM(G73:G101)","v":0},{"$f":"SUM(H73:H101)","v":0},null,"Turto įvedimo į eksploataciją data","Turto įsigijimo vertė, Eur","Turto nudėvėjimo, amortizacijos laikotarpis, mėn.","Numatoma turto likutinė vertė, Eur","1 mėn. nudėvėjimo, amortizacijos suma, Eur","Turto naudojamo projekto reikmėms laikas, mėn.","Turto panaudojimo projekto reikmėms dalis (proc.)","Projektui priskirta turto nusidėvėjimo, amortizacijos suma per projekto laikotarpį, Eur"]
["5.4.1","Turtas, kurio nusidėvėjimą, amortizaciją prašoma finansuoti",null,null,1,{"$f":"Q73","v":0},{"$f":"ROUND(E73*F73,2)","v":0},0,null,null,null,null,null,{"$f":"IFERROR(ROUND((K73-M73)/L73,2),\"0\")","v":"0"},null,null,{"$f":"N73*O73*P73","v":0},{"$f":"IF(J73=0,\" \",IF(J73+(L73*30.5)<TODAY(),\"DĖMESIO! Patikrinkite, ar nurodytas turtas dar nėra nudėvėtas, amortizuotas\",\" \"))","v":" "}]
["5.4.2","Turtas, kurio nusidėvėjimą, amortizaciją prašoma finansuoti",null,null,1,0,0,0,null,null,null,null,null,{"$f":"IFERROR(ROUND((K74-M74)/L74,2),\"0\")","v":"0"},null,null,{"$f":"N74*O74*P74","v":0},{"$f":"IF(J74=0,\" \",IF(J74+(L74*30.5)<TODAY(),\"DĖMESIO! Patikrinkite, ar nurodytas turtas dar nėra nudėvėtas, amortizuotas\",\" \"))","v":" "}]
["5.4.3","Turtas, kurio nusidėvėjimą, amortizaciją prašoma finansuoti",null,null,1,0,0,0,null,null,null,null,null,"0",null,null,0," "]
["5.4.4","Turtas, kurio nusidėvėjimą, amortizaciją prašoma finansuoti",null,null,1,0,0,0,null,null,null,null,null,"0",null,null,0," "]
["5.4.5","Turtas, kurio nusidėvėjimą, amortizaciją prašoma finansuoti",null,null,1,0,0,0,null,null,null,null,null,"0",null,null,0," "]
["5.4.6","Turtas, kurio nusidėvėjimą, amortizaciją prašoma finansuoti",null,null,1,0,0,0,null,null,null,null,null,"0",null,null,0," "]
["5.4.7","Turtas, kurio nusidėvėjimą, amortizaciją prašoma finansuoti",null,null,1,0,0,0,null,null,null,null,null,"0",null,null,0," "]
["5.4.8","Turtas, kurio nusidėvėjimą, amortizaciją prašoma finansuoti",null,null,1,0,0,0,null,null,null,null,null,"0",null,null,0," "]
["5.4.9","Turtas, kurio nusidėvėjimą, amortizaciją prašoma finansuoti",null,null,1,0,0,0,null,null,null,null,null,"0",null,null,0," "]
["5.4.10","Turtas, kurio nusidėvėjimą, amortizaciją prašoma finansuoti",null,null,1,0,0,0,null,null,null,null,null,"0",null,null,0," "]
["5.4.11","Turtas, kurio nusidėvėjimą, amortizaciją prašoma finansuoti",null,null,1,0,0,0,null,null,null,null,null,"0",null,null,0," "]
["5.4.12","Turtas, kurio nusidėvėjimą, amortizaciją prašoma finansuoti",null,null,1,0,0,0,null,null,null,null,null,"0",null,null,0," "]
["5.4.13","Turtas, kurio nusidėvėjimą, amortizaciją prašoma finansuoti",null,null,1,0,0,0,null,null,null,null,null,"0",null,null,0," "]
["5.4.14","Turtas, kurio nusidėvėjimą, amortizaciją prašoma finansuoti",null,null,1,0,0,0,null,null,null,null,null,"0",null,null,0," "]
["5.4.15","Turtas, kurio nusidėvėjimą, amortizaciją prašoma finansuoti",null,null,1,0,0,0,null,null,null,null,null,"0",null,null,0," "]
["5.4.16","Turtas, kurio nusidėvėjimą, amortizaciją prašoma finansuoti",null,null,1,0,0,0,null,null,null,null,null,"0",null,null,0," "]
["5.4.17","Turtas, kurio nusidėvėjimą, amortizaciją prašoma finansuoti",null,null,1,0,0,0,null,null,null,null,null,"0",null,null,0," "]
["5.4.18","Turtas, kurio nusidėvėjimą, amortizaciją prašoma finansuoti",null,null,1,0,0,0,null,null,null,null,null,"0",null,null,0," "]
["5.4.19","Turtas, kurio nusidėvėjimą, amortizaciją prašoma finansuoti",null,null,1,0,0,0,null,null,null,null,null,"0",null,null,0," "]
["5.4.20","Turtas, kurio nusidėvėjimą, amortizaciją prašoma finansuoti",null,null,1,0,0,0,null,null,null,null,null,"0",null,null,0," "]
["5.4.21","Turtas, kurio nusidėvėjimą, amortizaciją prašoma finansuoti",null,null,1,0,0,0,null,null,null,null,null,"0",null,null,0," "]
["5.4.22","Turtas, kurio nusidėvėjimą, amortizaciją prašoma finansuoti",null,null,1,0,0,0,null,null,null,null,null,"0",null,null,0," "]
["5.4.23","Turtas, kurio nusidėvėjimą, amortizaciją prašoma finansuoti",null,null,1,0,0,0,null,null,null,null,null,"0",null,null,0," "]
["5.4.24","Turtas, kurio nusidėvėjimą, amortizaciją prašoma finansuoti",null,null,1,0,0,0,null,null,null,null,null,"0",null,null,0," "]
["5.4.25","Turtas, kurio nusidėvėjimą, amortizaciją prašoma finansuoti",null,null,1,0,0,0,null,null,null,null,null,"0",null,null,0," "]
["5.4.26","Turtas, kurio nusidėvėjimą, amortizaciją prašoma finansuoti",null,null,1,0,0,0,null,null,null,null,null,"0",null,null,0," "]
["5.4.27","Turtas, kurio nusidėvėjimą, amortizaciją prašoma finansuoti",null,null,1,0,0,0,null,null,null,null,null,"0",null,null,0," "]
["5.4.28","Turtas, kurio nusidėvėjimą, amortizaciją prašoma finansuoti",null,null,1,0,0,0,null,null,null,null,null,"0",null,null,0," "]
["5.4.29","Turtas, kurio nusidėvėjimą, amortizaciją prašoma finansuoti",null,null,1,0,0,0,null,null,null,null,null,"0",null,null,0," "]
["5.5","Projektą vykdančio personalo darbo užmokestis ir išlaidos su darbo santykiais susijusiems darbdavio įsipareigojimams",null,null,null,null,{"$f":"SUM(G103:G152)","v":0},{"$f":"SUM(H103:H152)","v":0},null,"Faktiškai gaunamas darbo užmokesti už 1 valandą pagal  pastarųjų 6 mėn. vidurkį, Eur"]
["5.5.1","Pareigybės pavadinimas","Darbuotojo vardas pavardė","val.",null,{"$f":"IFERROR(ROUND(AVERAGE(J103:J107),2),\"0\")","v":"0"},{"$f":"ROUND(E103*F103,2)","v":0},{"$f":"ROUND(G103*$D$7,2)","v":0}]
[null,null,"Darbuotojo vardas pavardė"]
[null,null,"Darbuotojo vardas pavardė"]
[null,null,"Darbuotojo vardas pavardė"]
[null,null,"Darbuotojo vardas pavardė"]
["5.5.2","Pareigybės pavadinimas","Darbuotojo vardas pavardė","val.",null,{"$f":"IFERROR(ROUND(AVERAGE(J108:J112),2),\"0\")","v":"0"},{"$f":"ROUND(E108*F108,2)","v":0},{"$f":"ROUND(G108*$D$7,2)","v":0}]
[null,null,"Darbuotojo vardas pavardė"]
[null,null,"Darbuotojo vardas pavardė"]
[null,null,"Darbuotojo vardas pavardė"]
[null,null,"Darbuotojo vardas pavardė"]
["5.5.3","Pareigybės pavadinimas","Darbuotojo vardas pavardė","val.",null,{"$f":"IFERROR(ROUND(AVERAGE(J113:J117),2),\"0\")","v":"0"},{"$f":"ROUND(E113*F113,2)","v":0},{"$f":"ROUND(G113*$D$7,2)","v":0}]
[null,null,"Darbuotojo vardas pavardė"]
[null,null,"Darbuotojo vardas pavardė"]
[null,null,"Darbuotojo vardas pavardė"]
[null,null,"Darbuotojo vardas pavardė"]
["5.5.4","Pareigybės pavadinimas","Darbuotojo vardas pavardė","val.",null,{"$f":"IFERROR(ROUND(AVERAGE(J118:J122),2),\"0\")","v":"0"},{"$f":"ROUND(E118*F118,2)","v":0},{"$f":"ROUND(G118*$D$7,2)","v":0}]
[null,null,"Darbuotojo vardas pavardė"]
[null,null,"Darbuotojo vardas pavardė"]
[null,null,"Darbuotojo vardas pavardė"]
[null,null,"Darbuotojo vardas pavardė"]
["5.5.5","Pareigybės pavadinimas","Darbuotojo vardas pavardė","val.",null,{"$f":"IFERROR(ROUND(AVERAGE(J123:J127),2),\"0\")","v":"0"},{"$f":"ROUND(E123*F123,2)","v":0},{"$f":"ROUND(G123*$D$7,2)","v":0}]
[null,null,"Darbuotojo vardas pavardė"]
[null,null,"Darbuotojo vardas pavardė"]
[null,null,"Darbuotojo vardas pavardė"]
[null,null,"Darbuotojo vardas pavardė"]
["5.5.6","Pareigybės pavadinimas","Darbuotojo vardas pavardė","val.",null,{"$f":"IFERROR(ROUND(AVERAGE(J128:J132),2),\"0\")","v":"0"},{"$f":"ROUND(E128*F128,2)","v":0},{"$f":"ROUND(G128*$D$7,2)","v":0}]
[null,null,"Darbuotojo vardas pavardė"]
[null,null,"Darbuotojo vardas pavardė"]
[null,null,"Darbuotojo vardas pavardė"]
[null,null,"Darbuotojo vardas pavardė"]
["5.5.7","Pareigybės pavadinimas","Darbuotojo vardas pavardė","val.",null,{"$f":"IFERROR(ROUND(AVERAGE(J133:J137),2),\"0\")","v":"0"},{"$f":"ROUND(E133*F133,2)","v":0},{"$f":"ROUND(G133*$D$7,2)","v":0}]
[null,null,"Darbuotojo vardas pavardė"]
[null,null,"Darbuotojo vardas pavardė"]
[null,null,"Darbuotojo vardas pavardė"]
[null,null,"Darbuotojo vardas pavardė"]
["5.5.8","Pareigybės pavadinimas","Darbuotojo vardas pavardė","val.",null,{"$f":"IFERROR(ROUND(AVERAGE(J138:J142),2),\"0\")","v":"0"},{"$f":"ROUND(E138*F138,2)","v":0},{"$f":"ROUND(G138*$D$7,2)","v":0}]
[null,null,"Darbuotojo vardas pavardė"]
[null,null,"Darbuotojo vardas pavardė"]
[null,null,"Darbuotojo vardas pavardė"]
[null,null,"Darbuotojo vardas pavardė"]
["5.5.9","Pareigybės pavadinimas","Darbuotojo vardas pavardė","val.",null,{"$f":"IFERROR(ROUND(AVERAGE(J143:J147),2),\"0\")","v":"0"},{"$f":"ROUND(E143*F143,2)","v":0},{"$f":"ROUND(G143*$D$7,2)","v":0}]
[null,null,"Darbuotojo vardas pavardė"]
[null,null,"Darbuotojo vardas pavardė"]
[null,null,"Darbuotojo vardas pavardė"]
[null,null,"Darbuotojo vardas pavardė"]
["5.5.10","Pareigybės pavadinimas","Darbuotojo vardas pavardė","val.",null,{"$f":"IFERROR(ROUND(AVERAGE(J148:J152),2),\"0\")","v":"0"},{"$f":"ROUND(E148*F148,2)","v":0},{"$f":"ROUND(G148*$D$7,2)","v":0}]
[null,null,"Darbuotojo vardas pavardė"]
[null,null,"Darbuotojo vardas pavardė"]
[null,null,"Darbuotojo vardas pavardė"]
[null,null,"Darbuotojo vardas pavardė"]
["5.6","Projektą vykdančio personalo komandiruočių išlaidos",null,null,null,null,{"$f":"SUM(G154,G161,G168,G175,G182,G189,G196,G203,G210,G217)","v":0},{"$f":"SUM(H154,H161,H168,H175,H182,H189,H196,H203,H210,H217)","v":0}]
["5.6.1","Komandiruotės pavadinimas, vieta, trukmė dienomis, vykstančių asmenų skaičius","Iš viso komandiruotei",null,null,null,{"$f":"SUM(G155:G160)","v":0},{"$f":"ROUND(G154*$D$7,2)","v":0}]
[null,null,"Dienpinigiai",null,null,null,{"$f":"ROUND(E155*F155,2)","v":0}]
[null,null,"Gyvenamojo ploto nuoma",null,null,null,0]
[null,null,"Kelionės išlaidos",null,null,null,0]
[null,null,"Dalyvavimo mokestis",null,null,null,0]
[null,null,"Kitos išlaidų pavadinimas",null,null,null,0]
[null,null,"Kitos išlaidų pavadinimas",null,null,null,0]
["5.6.2","Komandiruotės pavadinimas, vieta, trukmė dienomis, vykstančių asmenų skaičius","Iš viso komandiruotei",null,null,null,{"$f":"SUM(G162:G167)","v":0},{"$f":"ROUND(G161*$D$7,2)","v":0}]
[null,null,"Dienpinigiai",null,null,null,{"$f":"ROUND(E162*F162,2)","v":0}]
[null,null,"Gyvenamojo ploto nuoma",null,null,null,0]
[null,null,"Kelionės išlaidos",null,null,null,0]
[null,null,"Dalyvavimo mokestis",null,null,null,0]
[null,null,"Kitos išlaidų pavadinimas",null,null,null,0]
[null,null,"Kitos išlaidų pavadinimas",null,null,null,0]
["5.6.3","Komandiruotės pavadinimas, vieta, trukmė dienomis, vykstančių asmenų skaičius","Iš viso komandiruotei",null,null,null,{"$f":"SUM(G169:G174)","v":0},{"$f":"ROUND(G168*$D$7,2)","v":0}]
[null,null,"Dienpinigiai",null,null,null,{"$f":"ROUND(E169*F169,2)","v":0}]
[null,null,"Gyvenamojo ploto nuoma",null,null,null,0]
[null,null,"Kelionės išlaidos",null,null,null,0]
[null,null,"Dalyvavimo mokestis",null,null,null,0]
[null,null,"Kitos išlaidų pavadinimas",null,null,null,0]
[null,null,"Kitos išlaidų pavadinimas",null,null,null,0]
["5.6.4","Komandiruotės pavadinimas, vieta, trukmė dienomis, vykstančių asmenų skaičius","Iš viso komandiruotei",null,null,null,{"$f":"SUM(G176:G181)","v":0},{"$f":"ROUND(G175*$D$7,2)","v":0}]
[null,null,"Dienpinigiai",null,null,null,{"$f":"ROUND(E176*F176,2)","v":0}]
[null,null,"Gyvenamojo ploto nuoma",null,null,null,0]
[null,null,"Kelionės išlaidos",null,null,null,0]
[null,null,"Dalyvavimo mokestis",null,null,null,0]
[null,null,"Kitos išlaidų pavadinimas",null,null,null,0]
[null,null,"Kitos išlaidų pavadinimas",null,null,null,0]
["5.6.5","Komandiruotės pavadinimas, vieta, trukmė dienomis, vykstančių asmenų skaičius","Iš viso komandiruotei",null,null,null,{"$f":"SUM(G183:G188)","v":0},{"$f":"ROUND(G182*$D$7,2)","v":0}]
[null,null,"Dienpinigiai",null,null,null,{"$f":"ROUND(E183*F183,2)","v":0}]
[null,null,"Gyvenamojo ploto nuoma",null,null,null,0]
[null,null,"Kelionės išlaidos",null,null,null,0]
[null,null,"Dalyvavimo mokestis",null,null,null,0]
[null,null,"Kitos išlaidų pavadinimas",null,null,null,0]
[null,null,"Kitos išlaidų pavadinimas",null,null,null,0]
["5.6.6","Komandiruotės pavadinimas, vieta, trukmė dienomis, vykstančių asmenų skaičius","Iš viso komandiruotei",null,null,null,{"$f":"SUM(G190:G195)","v":0},{"$f":"ROUND(G189*$D$7,2)","v":0}]
[null,null,"Dienpinigiai",null,null,null,{"$f":"ROUND(E190*F190,2)","v":0}]
[null,null,"Gyvenamojo ploto nuoma",null,null,null,0]
[null,null,"Kelionės išlaidos",null,null,null,0]
[null,null,"Dalyvavimo mokestis",null,null,null,0]
[null,null,"Kitos išlaidų pavadinimas",null,null,null,0]
[null,null,"Kitos išlaidų pavadinimas",null,null,null,0]
["5.6.7","Komandiruotės pavadinimas, vieta, trukmė dienomis, vykstančių asmenų skaičius","Iš viso komandiruotei",null,null,null,{"$f":"SUM(G197:G202)","v":0},{"$f":"ROUND(G196*$D$7,2)","v":0}]
[null,null,"Dienpinigiai",null,null,null,{"$f":"ROUND(E197*F197,2)","v":0}]
[null,null,"Gyvenamojo ploto nuoma",null,null,null,0]
[null,null,"Kelionės išlaidos",null,null,null,0]
[null,null,"Dalyvavimo mokestis",null,null,null,0]
[null,null,"Kitos išlaidų pavadinimas",null,null,null,0]
[null,null,"Kitos išlaidų pavadinimas",null,null,null,0]
["5.6.8","Komandiruotės pavadinimas, vieta, trukmė dienomis, vykstančių asmenų skaičius","Iš viso komandiruotei",null,null,null,{"$f":"SUM(G204:G209)","v":0},{"$f":"ROUND(G203*$D$7,2)","v":0}]
[null,null,"Dienpinigiai",null,null,null,{"$f":"ROUND(E204*F204,2)","v":0}]
[null,null,"Gyvenamojo ploto nuoma",null,null,null,0]
[null,null,"Kelionės išlaidos",null,null,null,0]
[null,null,"Dalyvavimo mokestis",null,null,null,0]
[null,null,"Kitos išlaidų pavadinimas",null,null,null,0]
[null,null,"Kitos išlaidų pavadinimas",null,null,null,0]
["5.6.9","Komandiruotės pavadinimas, vieta, trukmė dienomis, vykstančių asmenų skaičius","Iš viso komandiruotei",null,null,null,{"$f":"SUM(G211:G216)","v":0},{"$f":"ROUND(G210*$D$7,2)","v":0}]
[null,null,"Dienpinigiai",null,null,null,{"$f":"ROUND(E211*F211,2)","v":0}]
[null,null,"Gyvenamojo ploto nuoma",null,null,null,0]
[null,null,"Kelionės išlaidos",null,null,null,0]
[null,null,"Dalyvavimo mokestis",null,null,null,0]
[null,null,"Kitos išlaidų pavadinimas",null,null,null,0]
[null,null,"Kitos išlaidų pavadinimas",null,null,null,0]
["5.6.10","Komandiruotės pavadinimas, vieta, trukmė dienomis, vykstančių asmenų skaičius","Iš viso komandiruotei",null,null,null,{"$f":"SUM(G218:G223)","v":0},{"$f":"ROUND(G217*$D$7,2)","v":0}]
[null,null,"Dienpinigiai",null,null,null,{"$f":"ROUND(E218*F218,2)","v":0}]
[null,null,"Gyvenamojo ploto nuoma",null,null,null,0]
[null,null,"Kelionės išlaidos",null,null,null,0]
[null,null,"Dalyvavimo mokestis",null,null,null,0]
[null,null,"Kitos išlaidų pavadinimas",null,null,null,0]
[null,null,"Kitos išlaidų pavadinimas",null,null,null,0]
["5.7","Įrangos nuomos išlaidos, veiklai priskirtos pro rata principu. Įranga turi būti tiesiogiai susijusi su projekto įgyvendinimu ir negali būti įsigyta iš ES struktūrinių fondų ar kt. ES finansinių priemonių lėšų",null,null,null,null,{"$f":"SUM(G225:G241)","v":0},{"$f":"SUM(H225:H241)","v":0},null,"Faktinės 1 mėnesio išlaidos, Eur","Naudojimo projekte trukmė, mėn."]
["5.7.1","Įrangos pavadinimas",null,"pro rata proc.",null,{"$f":"J225*K225","v":0},{"$f":"ROUND(E225*F225,2)","v":0},{"$f":"ROUND(G225*$D$7,2)","v":0}]
["5.7.2","Įrangos pavadinimas",null,"pro rata proc.",null,0,0,{"$f":"ROUND(G226*$D$7,2)","v":0}]
["5.7.3","Įrangos pavadinimas",null,"pro rata proc.",null,0,0,0]
["5.7.4","Įrangos pavadinimas",null,"pro rata proc.",null,0,0,0]
["5.7.5","Įrangos pavadinimas",null,"pro rata proc.",null,0,0,0]
["5.7.6","Įrangos pavadinimas",null,"pro rata proc.",null,0,0,0]
["5.7.7","Įrangos pavadinimas",null,"pro rata proc.",null,0,0,0]
["5.7.8","Įrangos pavadinimas",null,"pro rata proc.",null,0,0,0]
["5.7.9","Įrangos pavadinimas",null,"pro rata proc.",null,0,0,0]
["5.7.10","Įrangos pavadinimas",null,"pro rata proc.",null,0,0,0]
["5.7.11","Įrangos pavadinimas",null,"pro rata proc.",null,0,0,0]
["5.7.12","Įrangos pavadinimas",null,"pro rata proc.",null,0,0,0]
["5.7.13","Įrangos pavadinimas",null,"pro rata proc.",null,0,0,0]
["5.7.14","Įrangos pavadinimas",null,"pro rata proc.",null,{"$f":"J238*K238","v":0},0,{"$f":"ROUND(G238*$D$7,2)","v":0}]
["5.7.15","Įrangos pavadinimas",null,"pro rata proc.",null,{"$f":"J239*K239","v":0},0,{"$f":"ROUND(G239*$D$7,2)","v":0}]
["5.7.16","Įrangos pavadinimas",null,"pro rata proc.",null,{"$f":"J240*K240","v":0},0,{"$f":"ROUND(G240*$D$7,2)","v":0}]
["5.7.17","Įrangos pavadinimas",null,"pro rata proc.",null,{"$f":"J241*K241","v":0},0,{"$f":"ROUND(G241*$D$7,2)","v":0}]
["5.8","Pastatų ar patalpų nuomos išlaidos, veiklai priskirtos pro rata principu. Pastatai ar patalpos turi būti tiesiogiai susijusi su projekto įgyvendinimu.",null,null,null,null,{"$f":"SUM(G243:G247)","v":0},{"$f":"SUM(H243:H247)","v":0},null,"Faktinės 1 mėnesio išlaidos, Eur","Naudojimo projekte trukmė, mėn."]
["5.8.1","Pastato, patalpų adresas",null,"pro rata proc.",null,{"$f":"J243*K243","v":0},{"$f":"ROUND(E243*F243,2)","v":0},{"$f":"ROUND(G243*$D$7,2)","v":0}]
["5.8.2","Pastato, patalpų adresas",null,"pro rata proc.",null,{"$f":"J244*K244","v":0},{"$f":"ROUND(E244*F244,2)","v":0},{"$f":"ROUND(G244*$D$7,2)","v":0}]
["5.8.3","Pastato, patalpų adresas",null,"pro rata proc.",null,{"$f":"J245*K245","v":0},{"$f":"ROUND(E245*F245,2)","v":0},{"$f":"ROUND(G245*$D$7,2)","v":0}]
["5.8.4","Pastato, patalpų adresas",null,"pro rata proc.",null,{"$f":"J246*K246","v":0},{"$f":"ROUND(E246*F246,2)","v":0},{"$f":"ROUND(G246*$D$7,2)","v":0}]
["5.8.5","Pastato, patalpų adresas",null,"pro rata proc.",null,{"$f":"J247*K247","v":0},{"$f":"ROUND(E247*F247,2)","v":0},{"$f":"ROUND(G247*$D$7,2)","v":0}]
["5.9","Projekto veikloms vykdyti reikalingų transporto priemonių nuomos išlaidos (išlaidos yra tinkamos finansuoti tik pagal Aprašą Nr. 2 vadovaujantis de minimis reglamento nuostatomis)",null,null,null,null,{"$f":"SUM(G249:G253)","v":0},{"$f":"SUM(H249:H253)","v":0}]
["5.9.1","Išlaidų pavadinimas",null,null,null,null,{"$f":"ROUND(E249*F249,2)","v":0},{"$f":"ROUND(G249*$D$7,2)","v":0}]
["5.9.2","Išlaidų pavadinimas",null,null,null,null,{"$f":"ROUND(E250*F250,2)","v":0},{"$f":"ROUND(G250*$D$7,2)","v":0}]
["5.9.3","Išlaidų pavadinimas",null,null,null,null,{"$f":"ROUND(E251*F251,2)","v":0},{"$f":"ROUND(G251*$D$7,2)","v":0}]
["5.9.4","Išlaidų pavadinimas",null,null,null,null,{"$f":"ROUND(E252*F252,2)","v":0},{"$f":"ROUND(G252*$D$7,2)","v":0}]
["5.9.5","Išlaidų pavadinimas",null,null,null,null,{"$f":"ROUND(E253*F253,2)","v":0},{"$f":"ROUND(G253*$D$7,2)","v":0}]
["Iš viso tinkamų finansuoti išlaidų:",null,null,null,null,null,{"$f":"G10+G21","v":0},{"$f":"H10+H21","v":0}]

{"sheet":"10","index":22,"n_rows":254,"n_cols":18,"rows_kept":254,"cut":false,"hidden":false,"merged":[[5,3,5,8],[8,1,8,2],[9,1,9,5],[10,1,10,2],[11,1,11,2],[12,1,12,2],[0,3,0,8],[2,0,2,2],[2,3,2,8],[3,3,3,4],[3,5,3,6],[4,0,4,2],[4,3,4,8],[19,1,19,2],[20,1,20,5],[21,1,21,5],[22,1,22,2],[23,1,23,2],[24,1,24,2],[13,1,13,2],[14,1,14,2],[15,1,15,2],[16,1,16,2],[17,1,17,2],[18,1,18,2],[31,1,31,2],[32,1,32,5],[33,1,33,2],[34,1,34,2],[35,1,35,2],[36,1,36,2],[25,1,25,2],[26,1,26,2],[27,1,27,2],[28,1,28,2],[29,1,29,2],[30,1,30,2],[43,1,43,5],[44,1,44,2],[45,1,45,2],[46,1,46,2],[47,1,47,2],[48,1,48,2],[37,1,37,2],[38,1,38,2],[39,1,39,2],[40,1,40,2],[41,1,41,2],[42,1,42,2],[55,1,55,2],[56,1,56,2],[57,1,57,2],[58,1,58,2],[59,1,59,2],[60,1,60,2],[49,1,49,2],[50,1,50,2],[51,1,51,2],[52,1,52,2],[53,1,53,2],[54,1,54,2],[67,1,67,2],[68,1,68,2],[69,1,69,2],[70,1,70,2],[71,1,71,5],[72,1,72,2],[61,1,61,2],[62,1,62,2],[63,1,63,2],[64,1,64,2],[65,1,65,2],[66,1,66,2],[79,1,79,2],[80,1,80,2],[81,1,81,2],[82,1,82,2],[83,1,83,2],[84,1,84,2],[73,1,73,2],[74,1,74,2],[75,1,75,2],[76,1,76,2],[77,1,77,2],[78,1,78,2],[91,1,91,2],[92,1,92,2],[93,1,93,2],[94,1,94,2],[95,1,95,2],[96,1,96,2],[85,1,85,2],[86,1,86,2],[87,1,87,2],[88,1,88,2],[89,1,89,2],[90,1,90,2],[97,1,97,2],[98,1,98,2],[99,1,99,2],[100,1,100,2],[101,1,101,5],[102,0,106,0],[102,1,106,1],[102,3,106,3],[102,4,106,4],[102,5,106,5],[102,6,106,6],[102,7,106,7],[102,8,106,8],[107,0,111,0],[107,1,111,1],[107,3,111,3],[107,4,111,4],[107,5,111,5],[107,6,111,6],[107,7,111,7],[107,8,111,8],[112,0,116,0],[112,1,116,1],[112,3,116,3],[112,4,116,4],[112,5,116,5],[112,6,116,6],[112,7,116,7],[112,8,116,8],[117,7,121,7],[117,8,121,8],[122,0,126,0],[122,1,126,1],[122,3,126,3],[122,4,126,4],[122,5,126,5],[122,6,126,6],[122,7,126,7],[122,8,126,8],[117,0,121,0],[117,1,121,1],[117,3,121,3],[117,4,121,4],[117,5,121,5],[117,6,121,6],[127,7,131,7],[127,8,131,8],[132,0,136,0],[132,1,136,1],[132,3,136,3],[132,4,136,4],[132,5,136,5],[132,6,136,6],[132,7,136,7],[132,8,136,8],[127,0,131,0],[127,1,131,1],[127,3,131,3],[127,4,131,4],[127,5,131,5],[127,6,131,6],[137,7,141,7],[137,8,141,8],[142,0,146,0],[142,1,146,1],[142,3,146,3],[142,4,146,4],[142,5,146,5],[142,6,146,6],[142,7,146,7],[142,8,146,8],[137,0,141,0],[137,1,141,1],[137,3,141,3],[137,4,141,4],[137,5,141,5],[137,6,141,6],[147,7,151,7],[147,8,151,8],[152,1,152,5],[153,0,159,0],[153,1,159,1],[153,8,159,8],[147,0,151,0],[147,1,151,1],[147,3,151,3],[147,4,151,4],[147,5,151,5],[147,6,151,6],[174,0,180,0],[174,1,180,1],[174,8,180,8],[181,0,187,0],[181,1,187,1],[181,8,187,8],[160,0,166,0],[160,1,166,1],[160,8,166,8],[167,0,173,0],[167,1,173,1],[167,8,173,8],[202,0,208,0],[202,1,208,1],[202,8,208,8],[209,0,215,0],[209,1,215,1],[209,8,215,8],[188,0,194,0],[188,1,194,1],[188,8,194,8],[195,0,201,0],[195,1,201,1],[195,8,201,8],[226,1,226,2],[227,1,227,2],[228,1,228,2],[229,1,229,2],[230,1,230,2],[231,1,231,2],[216,0,222,0],[216,1,222,1],[216,8,222,8],[223,1,223,5],[224,1,224,2],[225,1,225,2],[238,1,238,2],[239,1,239,2],[240,1,240,2],[241,1,241,5],[242,1,242,2],[243,1,243,2],[232,1,232,2],[233,1,233,2],[234,1,234,2],[235,1,235,2],[236,1,236,2],[237,1,237,2],[250,1,250,2],[251,1,251,2],[252,1,252,2],[253,0,253,5],[244,1,244,2],[245,1,245,2],[246,1,246,2],[247,1,247,5],[248,1,248,2],[249,1,249,2]]}
[null,null,"Pasirinkite veiklos tipą:"]
[null,null,"Fizinio rodiklio Nr.:"]
["Fizinio rodiklio pavadinimas:"]
[null,null,"Fizinio rodiklio matavimo vnt.:",null,null,"Fizinio rodiklio vnt. skaičius:"]
["Juridinis asmuo (pareiškėjas, partneris), atsakingas už fizinį rodiklį:"]
[null,null,"Vykdytojo tipas:"]
[null,null,"Finansavimo intensyvumas:",null,null,null,"Pasirinkite biudžeto išlaidų kategoriją:","Visos"]
[]
["Eil. Nr.","Išlaidų kategorijos pavadinimas",null,"Matavimo vnt.","Kiekis","Vieneto kaina be PVM, Eur","Tinkamų finansuoti išlaidų suma be PVM, Eur","Finansavimo suma, Eur","Išlaidų pagrindimo dokumentų pavadinimas, data ir Nr."]
[4,"ĮRANGA, ĮRENGINIAI IR KT. TURTAS (techninių žinių ir išradimų patentų arba teisių pagal licencijų sutartį įsigijimo išlaidos)",null,null,null,null,{"$f":"SUM(G11:G20)","v":0},{"$f":"SUM(H11:H20)","v":0}]
["4.1","Išlaidų pavadinimas",null,null,null,null,{"$f":"ROUND(E11*F11,2)","v":0},{"$f":"ROUND(G11*$D$7,2)","v":0}]
["4.2","Išlaidų pavadinimas",null,null,null,null,0,0]
["4.3","Išlaidų pavadinimas",null,null,null,null,0,0]
["4.4","Išlaidų pavadinimas",null,null,null,null,0,0]
["4.5","Išlaidų pavadinimas",null,null,null,null,0,0]
["4.6","Išlaidų pavadinimas",null,null,null,null,0,0]
["4.7","Išlaidų pavadinimas",null,null,null,null,0,0]
["4.8","Išlaidų pavadinimas",null,null,null,null,0,0]
["4.9","Išlaidų pavadinimas",null,null,null,null,0,0]
["4.10","Išlaidų pavadinimas",null,null,null,null,0,0]
[5,"PROJEKTO VYKDYMAS",null,null,null,null,{"$f":"G22+G33+G44+G72+G102+G153+G224+G242+G248","v":0},{"$f":"H22+H33+H44+H72+H102+H153+H224+H242+H248","v":0}]
["5.1","MTEP paslaugos",null,null,null,null,{"$f":"SUM(G23:G32)","v":0},{"$f":"SUM(H23:H32)","v":0}]
["5.1.1","Paslaugos pavadinimas",null,null,null,null,{"$f":"ROUND(E23*F23,2)","v":0},0]
["5.1.2","Paslaugos pavadinimas",null,null,null,null,0,0]
["5.1.3","Paslaugos pavadinimas",null,null,null,null,0,0]
["5.1.4","Paslaugos pavadinimas",null,null,null,null,0,0]
["5.1.5","Paslaugos pavadinimas",null,null,null,null,0,0]
["5.1.6","Paslaugos pavadinimas",null,null,null,null,0,0]
["5.1.7","Paslaugos pavadinimas",null,null,null,null,0,0]
["5.1.8","Paslaugos pavadinimas",null,null,null,null,0,0]
["5.1.9","Paslaugos pavadinimas",null,null,null,null,0,0]
["5.1.10","Paslaugos pavadinimas",null,null,null,null,0,0]
["5.2","Konsultavimo ir lygiavertės paslaugos, teikiamos vien tik projekto MTEP veiklai.",null,null,null,null,{"$f":"SUM(G34:G43)","v":0},{"$f":"SUM(H34:H43)","v":0}]
["5.2.1","Paslaugos pavadinimas",null,null,null,null,{"$f":"ROUND(E34*F34,2)","v":0},0]
["5.2.2","Paslaugos pavadinimas",null,null,null,null,0,0]
["5.2.3","Paslaugos pavadinimas",null,null,null,null,0,0]
["5.2.4","Paslaugos pavadinimas",null,null,null,null,0,0]
["5.2.5","Paslaugos pavadinimas",null,null,null,null,0,0]
["5.2.6","Paslaugos pavadinimas",null,null,null,null,0,0]
["5.2.7","Paslaugos pavadinimas",null,null,null,null,0,0]
["5.2.8","Paslaugos pavadinimas",null,null,null,null,0,0]
["5.2.9","Paslaugos pavadinimas",null,null,null,null,0,0]
["5.2.10","Paslaugos pavadinimas",null,null,null,null,0,0]
["5.3","Medžiagos, mažavertis inventorius, atsargos ir pan. produktai, priskirtini trumpalaikiam turtui ir tiesiogiai susiję su MTEP veikla",null,null,null,null,{"$f":"SUM(G45:G71)","v":0},{"$f":"SUM(H45:H71)","v":0}]
["5.3.1","Išlaidų pavadinimas",null,null,null,null,{"$f":"ROUND(E45*F45,2)","v":0},{"$f":"ROUND(G45*$D$7,2)","v":0}]
["5.3.2","Išlaidų pavadinimas",null,null,null,null,{"$f":"ROUND(E46*F46,2)","v":0},{"$f":"ROUND(G46*$D$7,2)","v":0}]
["5.3.3","Išlaidų pavadinimas",null,null,null,null,{"$f":"ROUND(E47*F47,2)","v":0},{"$f":"ROUND(G47*$D$7,2)","v":0}]
["5.3.4","Išlaidų pavadinimas",null,null,null,null,{"$f":"ROUND(E48*F48,2)","v":0},{"$f":"ROUND(G48*$D$7,2)","v":0}]
["5.3.5","Išlaidų pavadinimas",null,null,null,null,{"$f":"ROUND(E49*F49,2)","v":0},{"$f":"ROUND(G49*$D$7,2)","v":0}]
["5.3.6","Išlaidų pavadinimas",null,null,null,null,0,0]
["5.3.7","Išlaidų pavadinimas",null,null,null,null,0,0]
["5.3.8","Išlaidų pavadinimas",null,null,null,null,0,0]
["5.3.9","Išlaidų pavadinimas",null,null,null,null,0,0]
["5.3.10","Išlaidų pavadinimas",null,null,null,null,0,0]
["5.3.11","Išlaidų pavadinimas",null,null,null,null,0,0]
["5.3.12","Išlaidų pavadinimas",null,null,null,null,0,0]
["5.3.13","Išlaidų pavadinimas",null,null,null,null,0,0]
["5.3.14","Išlaidų pavadinimas",null,null,null,null,0,0]
["5.3.15","Išlaidų pavadinimas",null,null,null,null,0,0]
["5.3.16","Išlaidų pavadinimas",null,null,null,null,0,0]
["5.3.17","Išlaidų pavadinimas",null,null,null,null,0,0]
["5.3.18","Išlaidų pavadinimas",null,null,null,null,0,0]
["5.3.19","Išlaidų pavadinimas",null,null,null,null,0,0]
["5.3.20","Išlaidų pavadinimas",null,null,null,null,0,0]
["5.3.21","Išlaidų pavadinimas",null,null,null,null,0,0]
["5.3.22","Išlaidų pavadinimas",null,null,null,null,0,0]
["5.3.23","Išlaidų pavadinimas",null,null,null,null,0,0]
["5.3.24","Išlaidų pavadinimas",null,null,null,null,0,0]
["5.3.25","Išlaidų pavadinimas",null,null,null,null,0,0]
["5.3.26","Išlaidų pavadinimas",null,null,null,null,0,0]
["5.3.27","Išlaidų pavadinimas",null,null,null,null,0,0]
["5.4","Projekto MTEP veikloms naudojamo ilgalaikio materialaus turto (įrangos, prietaisų, įrankių, įrenginių, mašinų ir įrengimų, pastatų ir (ar) patalpų), nusidėvėjimo sąnaudos, jeigu šiam turtui įsigyti nebuvo naudojamos viešosios (įskaitant ir kitų valstybių) lėšos",null,null,null,null,{"$f":"SUM(G73:G101)","v":0},{"$f":"SUM(H73:H101)","v":0},null,"Turto įvedimo į eksploataciją data","Turto įsigijimo vertė, Eur","Turto nudėvėjimo, amortizacijos laikotarpis, mėn.","Numatoma turto likutinė vertė, Eur","1 mėn. nudėvėjimo, amortizacijos suma, Eur","Turto naudojamo projekto reikmėms laikas, mėn.","Turto panaudojimo projekto reikmėms dalis (proc.)","Projektui priskirta turto nusidėvėjimo, amortizacijos suma per projekto laikotarpį, Eur"]
["5.4.1","Turtas, kurio nusidėvėjimą, amortizaciją prašoma finansuoti",null,null,1,{"$f":"Q73","v":0},{"$f":"ROUND(E73*F73,2)","v":0},0,null,null,null,null,null,{"$f":"IFERROR(ROUND((K73-M73)/L73,2),\"0\")","v":"0"},null,null,{"$f":"N73*O73*P73","v":0},{"$f":"IF(J73=0,\" \",IF(J73+(L73*30.5)<TODAY(),\"DĖMESIO! Patikrinkite, ar nurodytas turtas dar nėra nudėvėtas, amortizuotas\",\" \"))","v":" "}]
["5.4.2","Turtas, kurio nusidėvėjimą, amortizaciją prašoma finansuoti",null,null,1,0,0,0,null,null,null,null,null,{"$f":"IFERROR(ROUND((K74-M74)/L74,2),\"0\")","v":"0"},null,null,{"$f":"N74*O74*P74","v":0},{"$f":"IF(J74=0,\" \",IF(J74+(L74*30.5)<TODAY(),\"DĖMESIO! Patikrinkite, ar nurodytas turtas dar nėra nudėvėtas, amortizuotas\",\" \"))","v":" "}]
["5.4.3","Turtas, kurio nusidėvėjimą, amortizaciją prašoma finansuoti",null,null,1,0,0,0,null,null,null,null,null,"0",null,null,0," "]
["5.4.4","Turtas, kurio nusidėvėjimą, amortizaciją prašoma finansuoti",null,null,1,0,0,0,null,null,null,null,null,"0",null,null,0," "]
["5.4.5","Turtas, kurio nusidėvėjimą, amortizaciją prašoma finansuoti",null,null,1,0,0,0,null,null,null,null,null,"0",null,null,0," "]
["5.4.6","Turtas, kurio nusidėvėjimą, amortizaciją prašoma finansuoti",null,null,1,0,0,0,null,null,null,null,null,"0",null,null,0," "]
["5.4.7","Turtas, kurio nusidėvėjimą, amortizaciją prašoma finansuoti",null,null,1,0,0,0,null,null,null,null,null,"0",null,null,0," "]
["5.4.8","Turtas, kurio nusidėvėjimą, amortizaciją prašoma finansuoti",null,null,1,0,0,0,null,null,null,null,null,"0",null,null,0," "]
["5.4.9","Turtas, kurio nusidėvėjimą, amortizaciją prašoma finansuoti",null,null,1,0,0,0,null,null,null,null,null,"0",null,null,0," "]
["5.4.10","Turtas, kurio nusidėvėjimą, amortizaciją prašoma finansuoti",null,null,1,0,0,0,null,null,null,null,null,"0",null,null,0," "]
["5.4.11","Turtas, kurio nusidėvėjimą, amortizaciją prašoma finansuoti",null,null,1,0,0,0,null,null,null,null,null,"0",null,null,0," "]
["5.4.12","Turtas, kurio nusidėvėjimą, amortizaciją prašoma finansuoti",null,null,1,0,0,0,null,null,null,null,null,"0",null,null,0," "]
["5.4.13","Turtas, kurio nusidėvėjimą, amortizaciją prašoma finansuoti",null,null,1,0,0,0,null,null,null,null,null,"0",null,null,0," "]
["5.4.14","Turtas, kurio nusidėvėjimą, amortizaciją prašoma finansuoti",null,null,1,0,0,0,null,null,null,null,null,"0",null,null,0," "]
["5.4.15","Turtas, kurio nusidėvėjimą, amortizaciją prašoma finansuoti",null,null,1,0,0,0,null,null,null,null,null,"0",null,null,0," "]
["5.4.16","Turtas, kurio nusidėvėjimą, amortizaciją prašoma finansuoti",null,null,1,0,0,0,null,null,null,null,null,"0",null,null,0," "]
["5.4.17","Turtas, kurio nusidėvėjimą, amortizaciją prašoma finansuoti",null,null,1,0,0,0,null,null,null,null,null,"0",null,null,0," "]
["5.4.18","Turtas, kurio nusidėvėjimą, amortizaciją prašoma finansuoti",null,null,1,0,0,0,null,null,null,null,null,"0",null,null,0," "]
["5.4.19","Turtas, kurio nusidėvėjimą, amortizaciją prašoma finansuoti",null,null,1,0,0,0,null,null,null,null,null,"0",null,null,0," "]
["5.4.20","Turtas, kurio nusidėvėjimą, amortizaciją prašoma finansuoti",null,null,1,0,0,0,null,null,null,null,null,"0",null,null,0," "]
["5.4.21","Turtas, kurio nusidėvėjimą, amortizaciją prašoma finansuoti",null,null,1,0,0,0,null,null,null,null,null,"0",null,null,0," "]
["5.4.22","Turtas, kurio nusidėvėjimą, amortizaciją prašoma finansuoti",null,null,1,0,0,0,null,null,null,null,null,"0",null,null,0," "]
["5.4.23","Turtas, kurio nusidėvėjimą, amortizaciją prašoma finansuoti",null,null,1,0,0,0,null,null,null,null,null,"0",null,null,0," "]
["5.4.24","Turtas, kurio nusidėvėjimą, amortizaciją prašoma finansuoti",null,null,1,0,0,0,null,null,null,null,null,"0",null,null,0," "]
["5.4.25","Turtas, kurio nusidėvėjimą, amortizaciją prašoma finansuoti",null,null,1,0,0,0,null,null,null,null,null,"0",null,null,0," "]
["5.4.26","Turtas, kurio nusidėvėjimą, amortizaciją prašoma finansuoti",null,null,1,0,0,0,null,null,null,null,null,"0",null,null,0," "]
["5.4.27","Turtas, kurio nusidėvėjimą, amortizaciją prašoma finansuoti",null,null,1,0,0,0,null,null,null,null,null,"0",null,null,0," "]
["5.4.28","Turtas, kurio nusidėvėjimą, amortizaciją prašoma finansuoti",null,null,1,0,0,0,null,null,null,null,null,"0",null,null,0," "]
["5.4.29","Turtas, kurio nusidėvėjimą, amortizaciją prašoma finansuoti",null,null,1,0,0,0,null,null,null,null,null,"0",null,null,0," "]
["5.5","Projektą vykdančio personalo darbo užmokestis ir išlaidos su darbo santykiais susijusiems darbdavio įsipareigojimams",null,null,null,null,{"$f":"SUM(G103:G152)","v":0},{"$f":"SUM(H103:H152)","v":0},null,"Faktiškai gaunamas darbo užmokesti už 1 valandą pagal  pastarųjų 6 mėn. vidurkį, Eur"]
["5.5.1","Pareigybės pavadinimas","Darbuotojo vardas pavardė","val.",null,{"$f":"IFERROR(ROUND(AVERAGE(J103:J107),2),\"0\")","v":"0"},{"$f":"ROUND(E103*F103,2)","v":0},{"$f":"ROUND(G103*$D$7,2)","v":0}]
[null,null,"Darbuotojo vardas pavardė"]
[null,null,"Darbuotojo vardas pavardė"]
[null,null,"Darbuotojo vardas pavardė"]
[null,null,"Darbuotojo vardas pavardė"]
["5.5.2","Pareigybės pavadinimas","Darbuotojo vardas pavardė","val.",null,{"$f":"IFERROR(ROUND(AVERAGE(J108:J112),2),\"0\")","v":"0"},{"$f":"ROUND(E108*F108,2)","v":0},{"$f":"ROUND(G108*$D$7,2)","v":0}]
[null,null,"Darbuotojo vardas pavardė"]
[null,null,"Darbuotojo vardas pavardė"]
[null,null,"Darbuotojo vardas pavardė"]
[null,null,"Darbuotojo vardas pavardė"]
["5.5.3","Pareigybės pavadinimas","Darbuotojo vardas pavardė","val.",null,{"$f":"IFERROR(ROUND(AVERAGE(J113:J117),2),\"0\")","v":"0"},{"$f":"ROUND(E113*F113,2)","v":0},{"$f":"ROUND(G113*$D$7,2)","v":0}]
[null,null,"Darbuotojo vardas pavardė"]
[null,null,"Darbuotojo vardas pavardė"]
[null,null,"Darbuotojo vardas pavardė"]
[null,null,"Darbuotojo vardas pavardė"]
["5.5.4","Pareigybės pavadinimas","Darbuotojo vardas pavardė","val.",null,{"$f":"IFERROR(ROUND(AVERAGE(J118:J122),2),\"0\")","v":"0"},{"$f":"ROUND(E118*F118,2)","v":0},{"$f":"ROUND(G118*$D$7,2)","v":0}]
[null,null,"Darbuotojo vardas pavardė"]
[null,null,"Darbuotojo vardas pavardė"]
[null,null,"Darbuotojo vardas pavardė"]
[null,null,"Darbuotojo vardas pavardė"]
["5.5.5","Pareigybės pavadinimas","Darbuotojo vardas pavardė","val.",null,{"$f":"IFERROR(ROUND(AVERAGE(J123:J127),2),\"0\")","v":"0"},{"$f":"ROUND(E123*F123,2)","v":0},{"$f":"ROUND(G123*$D$7,2)","v":0}]
[null,null,"Darbuotojo vardas pavardė"]
[null,null,"Darbuotojo vardas pavardė"]
[null,null,"Darbuotojo vardas pavardė"]
[null,null,"Darbuotojo vardas pavardė"]
["5.5.6","Pareigybės pavadinimas","Darbuotojo vardas pavardė","val.",null,{"$f":"IFERROR(ROUND(AVERAGE(J128:J132),2),\"0\")","v":"0"},{"$f":"ROUND(E128*F128,2)","v":0},{"$f":"ROUND(G128*$D$7,2)","v":0}]
[null,null,"Darbuotojo vardas pavardė"]
[null,null,"Darbuotojo vardas pavardė"]
[null,null,"Darbuotojo vardas pavardė"]
[null,null,"Darbuotojo vardas pavardė"]
["5.5.7","Pareigybės pavadinimas","Darbuotojo vardas pavardė","val.",null,{"$f":"IFERROR(ROUND(AVERAGE(J133:J137),2),\"0\")","v":"0"},{"$f":"ROUND(E133*F133,2)","v":0},{"$f":"ROUND(G133*$D$7,2)","v":0}]
[null,null,"Darbuotojo vardas pavardė"]
[null,null,"Darbuotojo vardas pavardė"]
[null,null,"Darbuotojo vardas pavardė"]
[null,null,"Darbuotojo vardas pavardė"]
["5.5.8","Pareigybės pavadinimas","Darbuotojo vardas pavardė","val.",null,{"$f":"IFERROR(ROUND(AVERAGE(J138:J142),2),\"0\")","v":"0"},{"$f":"ROUND(E138*F138,2)","v":0},{"$f":"ROUND(G138*$D$7,2)","v":0}]
[null,null,"Darbuotojo vardas pavardė"]
[null,null,"Darbuotojo vardas pavardė"]
[null,null,"Darbuotojo vardas pavardė"]
[null,null,"Darbuotojo vardas pavardė"]
["5.5.9","Pareigybės pavadinimas","Darbuotojo vardas pavardė","val.",null,{"$f":"IFERROR(ROUND(AVERAGE(J143:J147),2),\"0\")","v":"0"},{"$f":"ROUND(E143*F143,2)","v":0},{"$f":"ROUND(G143*$D$7,2)","v":0}]
[null,null,"Darbuotojo vardas pavardė"]
[null,null,"Darbuotojo vardas pavardė"]
[null,null,"Darbuotojo vardas pavardė"]
[null,null,"Darbuotojo vardas pavardė"]
["5.5.10","Pareigybės pavadinimas","Darbuotojo vardas pavardė","val.",null,{"$f":"IFERROR(ROUND(AVERAGE(J148:J152),2),\"0\")","v":"0"},{"$f":"ROUND(E148*F148,2)","v":0},{"$f":"ROUND(G148*$D$7,2)","v":0}]
[null,null,"Darbuotojo vardas pavardė"]
[null,null,"Darbuotojo vardas pavardė"]
[null,null,"Darbuotojo vardas pavardė"]
[null,null,"Darbuotojo vardas pavardė"]
["5.6","Projektą vykdančio personalo komandiruočių išlaidos",null,null,null,null,{"$f":"SUM(G154,G161,G168,G175,G182,G189,G196,G203,G210,G217)","v":0},{"$f":"SUM(H154,H161,H168,H175,H182,H189,H196,H203,H210,H217)","v":0}]
["5.6.1","Komandiruotės pavadinimas, vieta, trukmė dienomis, vykstančių asmenų skaičius","Iš viso komandiruotei",null,null,null,{"$f":"SUM(G155:G160)","v":0},{"$f":"ROUND(G154*$D$7,2)","v":0}]
[null,null,"Dienpinigiai",null,null,null,{"$f":"ROUND(E155*F155,2)","v":0}]
[null,null,"Gyvenamojo ploto nuoma",null,null,null,0]
[null,null,"Kelionės išlaidos",null,null,null,0]
[null,null,"Dalyvavimo mokestis",null,null,null,0]
[null,null,"Kitos išlaidų pavadinimas",null,null,null,0]
[null,null,"Kitos išlaidų pavadinimas",null,null,null,0]
["5.6.2","Komandiruotės pavadinimas, vieta, trukmė dienomis, vykstančių asmenų skaičius","Iš viso komandiruotei",null,null,null,{"$f":"SUM(G162:G167)","v":0},{"$f":"ROUND(G161*$D$7,2)","v":0}]
[null,null,"Dienpinigiai",null,null,null,{"$f":"ROUND(E162*F162,2)","v":0}]
[null,null,"Gyvenamojo ploto nuoma",null,null,null,0]
[null,null,"Kelionės išlaidos",null,null,null,0]
[null,null,"Dalyvavimo mokestis",null,null,null,0]
[null,null,"Kitos išlaidų pavadinimas",null,null,null,0]
[null,null,"Kitos išlaidų pavadinimas",null,null,null,0]
["5.6.3","Komandiruotės pavadinimas, vieta, trukmė dienomis, vykstančių asmenų skaičius","Iš viso komandiruotei",null,null,null,{"$f":"SUM(G169:G174)","v":0},{"$f":"ROUND(G168*$D$7,2)","v":0}]
[null,null,"Dienpinigiai",null,null,null,{"$f":"ROUND(E169*F169,2)","v":0}]
[null,null,"Gyvenamojo ploto nuoma",null,null,null,0]
[null,null,"Kelionės išlaidos",null,null,null,0]
[null,null,"Dalyvavimo mokestis",null,null,null,0]
[null,null,"Kitos išlaidų pavadinimas",null,null,null,0]
[null,null,"Kitos išlaidų pavadinimas",null,null,null,0]
["5.6.4","Komandiruotės pavadinimas, vieta, trukmė dienomis, vykstančių asmenų skaičius","Iš viso komandiruotei",null,null,null,{"$f":"SUM(G176:G181)","v":0},{"$f":"ROUND(G175*$D$7,2)","v":0}]
[null,null,"Dienpinigiai",null,null,null,{"$f":"ROUND(E176*F176,2)","v":0}]
[null,null,"Gyvenamojo ploto nuoma",null,null,null,0]
[null,null,"Kelionės išlaidos",null,null,null,0]
[null,null,"Dalyvavimo mokestis",null,null,null,0]
[null,null,"Kitos išlaidų pavadinimas",null,null,null,0]
[null,null,"Kitos išlaidų pavadinimas",null,null,null,0]
["5.6.5","Komandiruotės pavadinimas, vieta, trukmė dienomis, vykstančių asmenų skaičius","Iš viso komandiruotei",null,null,null,{"$f":"SUM(G183:G188)","v":0},{"$f":"ROUND(G182*$D$7,2)","v":0}]
[null,null,"Dienpinigiai",null,null,null,{"$f":"ROUND(E183*F183,2)","v":0}]
[null,null,"Gyvenamojo ploto nuoma",null,null,null,0]
[null,null,"Kelionės išlaidos",null,null,null,0]
[null,null,"Dalyvavimo mokestis",null,null,null,0]
[null,null,"Kitos išlaidų pavadinimas",null,null,null,0]
[null,null,"Kitos išlaidų pavadinimas",null,null,null,0]
["5.6.6","Komandiruotės pavadinimas, vieta, trukmė dienomis, vykstančių asmenų skaičius","Iš viso komandiruotei",null,null,null,{"$f":"SUM(G190:G195)","v":0},{"$f":"ROUND(G189*$D$7,2)","v":0}]
[null,null,"Dienpinigiai",null,null,null,{"$f":"ROUND(E190*F190,2)","v":0}]
[null,null,"Gyvenamojo ploto nuoma",null,null,null,0]
[null,null,"Kelionės išlaidos",null,null,null,0]
[null,null,"Dalyvavimo mokestis",null,null,null,0]
[null,null,"Kitos išlaidų pavadinimas",null,null,null,0]
[null,null,"Kitos išlaidų pavadinimas",null,null,null,0]
["5.6.7","Komandiruotės pavadinimas, vieta, trukmė dienomis, vykstančių asmenų skaičius","Iš viso komandiruotei",null,null,null,{"$f":"SUM(G197:G202)","v":0},{"$f":"ROUND(G196*$D$7,2)","v":0}]
[null,null,"Dienpinigiai",null,null,null,{"$f":"ROUND(E197*F197,2)","v":0}]
[null,null,"Gyvenamojo ploto nuoma",null,null,null,0]
[null,null,"Kelionės išlaidos",null,null,null,0]
[null,null,"Dalyvavimo mokestis",null,null,null,0]
[null,null,"Kitos išlaidų pavadinimas",null,null,null,0]
[null,null,"Kitos išlaidų pavadinimas",null,null,null,0]
["5.6.8","Komandiruotės pavadinimas, vieta, trukmė dienomis, vykstančių asmenų skaičius","Iš viso komandiruotei",null,null,null,{"$f":"SUM(G204:G209)","v":0},{"$f":"ROUND(G203*$D$7,2)","v":0}]
[null,null,"Dienpinigiai",null,null,null,{"$f":"ROUND(E204*F204,2)","v":0}]
[null,null,"Gyvenamojo ploto nuoma",null,null,null,0]
[null,null,"Kelionės išlaidos",null,null,null,0]
[null,null,"Dalyvavimo mokestis",null,null,null,0]
[null,null,"Kitos išlaidų pavadinimas",null,null,null,0]
[null,null,"Kitos išlaidų pavadinimas",null,null,null,0]
["5.6.9","Komandiruotės pavadinimas, vieta, trukmė dienomis, vykstančių asmenų skaičius","Iš viso komandiruotei",null,null,null,{"$f":"SUM(G211:G216)","v":0},{"$f":"ROUND(G210*$D$7,2)","v":0}]
[null,null,"Dienpinigiai",null,null,null,{"$f":"ROUND(E211*F211,2)","v":0}]
[null,null,"Gyvenamojo ploto nuoma",null,null,null,0]
[null,null,"Kelionės išlaidos",null,null,null,0]
[null,null,"Dalyvavimo mokestis",null,null,null,0]
[null,null,"Kitos išlaidų pavadinimas",null,null,null,0]
[null,null,"Kitos išlaidų pavadinimas",null,null,null,0]
["5.6.10","Komandiruotės pavadinimas, vieta, trukmė dienomis, vykstančių asmenų skaičius","Iš viso komandiruotei",null,null,null,{"$f":"SUM(G218:G223)","v":0},{"$f":"ROUND(G217*$D$7,2)","v":0}]
[null,null,"Dienpinigiai",null,null,null,{"$f":"ROUND(E218*F218,2)","v":0}]
[null,null,"Gyvenamojo ploto nuoma",null,null,null,0]
[null,null,"Kelionės išlaidos",null,null,null,0]
[null,null,"Dalyvavimo mokestis",null,null,null,0]
[null,null,"Kitos išlaidų pavadinimas",null,null,null,0]
[null,null,"Kitos išlaidų pavadinimas",null,null,null,0]
["5.7","Įrangos nuomos išlaidos, veiklai priskirtos pro rata principu. Įranga turi būti tiesiogiai susijusi su projekto įgyvendinimu ir negali būti įsigyta iš ES struktūrinių fondų ar kt. ES finansinių priemonių lėšų",null,null,null,null,{"$f":"SUM(G225:G241)","v":0},{"$f":"SUM(H225:H241)","v":0},null,"Faktinės 1 mėnesio išlaidos, Eur","Naudojimo projekte trukmė, mėn."]
["5.7.1","Įrangos pavadinimas",null,"pro rata proc.",null,{"$f":"J225*K225","v":0},{"$f":"ROUND(E225*F225,2)","v":0},{"$f":"ROUND(G225*$D$7,2)","v":0}]
["5.7.2","Įrangos pavadinimas",null,"pro rata proc.",null,0,0,{"$f":"ROUND(G226*$D$7,2)","v":0}]
["5.7.3","Įrangos pavadinimas",null,"pro rata proc.",null,0,0,0]
["5.7.4","Įrangos pavadinimas",null,"pro rata proc.",null,0,0,0]
["5.7.5","Įrangos pavadinimas",null,"pro rata proc.",null,0,0,0]
["5.7.6","Įrangos pavadinimas",null,"pro rata proc.",null,0,0,0]
["5.7.7","Įrangos pavadinimas",null,"pro rata proc.",null,0,0,0]
["5.7.8","Įrangos pavadinimas",null,"pro rata proc.",null,0,0,0]
["5.7.9","Įrangos pavadinimas",null,"pro rata proc.",null,0,0,0]
["5.7.10","Įrangos pavadinimas",null,"pro rata proc.",null,0,0,0]
["5.7.11","Įrangos pavadinimas",null,"pro rata proc.",null,0,0,0]
["5.7.12","Įrangos pavadinimas",null,"pro rata proc.",null,0,0,0]
["5.7.13","Įrangos pavadinimas",null,"pro rata proc.",null,0,0,0]
["5.7.14","Įrangos pavadinimas",null,"pro rata proc.",null,{"$f":"J238*K238","v":0},0,{"$f":"ROUND(G238*$D$7,2)","v":0}]
["5.7.15","Įrangos pavadinimas",null,"pro rata proc.",null,{"$f":"J239*K239","v":0},0,{"$f":"ROUND(G239*$D$7,2)","v":0}]
["5.7.16","Įrangos pavadinimas",null,"pro rata proc.",null,{"$f":"J240*K240","v":0},0,{"$f":"ROUND(G240*$D$7,2)","v":0}]
["5.7.17","Įrangos pavadinimas",null,"pro rata proc.",null,{"$f":"J241*K241","v":0},0,{"$f":"ROUND(G241*$D$7,2)","v":0}]
["5.8","Pastatų ar patalpų nuomos išlaidos, veiklai priskirtos pro rata principu. Pastatai ar patalpos turi būti tiesiogiai susijusi su projekto įgyvendinimu.",null,null,null,null,{"$f":"SUM(G243:G247)","v":0},{"$f":"SUM(H243:H247)","v":0},null,"Faktinės 1 mėnesio išlaidos, Eur","Naudojimo projekte trukmė, mėn."]
["5.8.1","Pastato, patalpų adresas",null,"pro rata proc.",null,{"$f":"J243*K243","v":0},{"$f":"ROUND(E243*F243,2)","v":0},{"$f":"ROUND(G243*$D$7,2)","v":0}]
["5.8.2","Pastato, patalpų adresas",null,"pro rata proc.",null,{"$f":"J244*K244","v":0},{"$f":"ROUND(E244*F244,2)","v":0},{"$f":"ROUND(G244*$D$7,2)","v":0}]
["5.8.3","Pastato, patalpų adresas",null,"pro rata proc.",null,{"$f":"J245*K245","v":0},{"$f":"ROUND(E245*F245,2)","v":0},{"$f":"ROUND(G245*$D$7,2)","v":0}]
["5.8.4","Pastato, patalpų adresas",null,"pro rata proc.",null,{"$f":"J246*K246","v":0},{"$f":"ROUND(E246*F246,2)","v":0},{"$f":"ROUND(G246*$D$7,2)","v":0}]
["5.8.5","Pastato, patalpų adresas",null,"pro rata proc.",null,{"$f":"J247*K247","v":0},{"$f":"ROUND(E247*F247,2)","v":0},{"$f":"ROUND(G247*$D$7,2)","v":0}]
["5.9","Projekto veikloms vykdyti reikalingų transporto priemonių nuomos išlaidos (išlaidos yra tinkamos finansuoti tik pagal Aprašą Nr. 2 vadovaujantis de minimis reglamento nuostatomis)",null,null,null,null,{"$f":"SUM(G249:G253)","v":0},{"$f":"SUM(H249:H253)","v":0}]
["5.9.1","Išlaidų pavadinimas",null,null,null,null,{"$f":"ROUND(E249*F249,2)","v":0},{"$f":"ROUND(G249*$D$7,2)","v":0}]
["5.9.2","Išlaidų pavadinimas",null,null,null,null,{"$f":"ROUND(E250*F250,2)","v":0},{"$f":"ROUND(G250*$D$7,2)","v":0}]
["5.9.3","Išlaidų pavadinimas",null,null,null,null,{"$f":"ROUND(E251*F251,2)","v":0},{"$f":"ROUND(G251*$D$7,2)","v":0}]
["5.9.4","Išlaidų pavadinimas",null,null,null,null,{"$f":"ROUND(E252*F252,2)","v":0},{"$f":"ROUND(G252*$D$7,2)","v":0}]
["5.9.5","Išlaidų pavadinimas",null,null,null,null,{"$f":"ROUND(E253*F253,2)","v":0},{"$f":"ROUND(G253*$D$7,2)","v":0}]
["Iš viso tinkamų finansuoti išlaidų:",null,null,null,null,null,{"$f":"G10+G21","v":0},{"$f":"H10+H21","v":0}]

{"sheet":"11","index":23,"n_rows":254,"n_cols":18,"rows_kept":254,"cut":false,"hidden":false,"merged":[[5,3,5,8],[8,1,8,2],[9,1,9,5],[10,1,10,2],[11,1,11,2],[12,1,12,2],[0,3,0,8],[2,0,2,2],[2,3,2,8],[3,3,3,4],[3,5,3,6],[4,0,4,2],[4,3,4,8],[19,1,19,2],[20,1,20,5],[21,1,21,5],[22,1,22,2],[23,1,23,2],[24,1,24,2],[13,1,13,2],[14,1,14,2],[15,1,15,2],[16,1,16,2],[17,1,17,2],[18,1,18,2],[31,1,31,2],[32,1,32,5],[33,1,33,2],[34,1,34,2],[35,1,35,2],[36,1,36,2],[25,1,25,2],[26,1,26,2],[27,1,27,2],[28,1,28,2],[29,1,29,2],[30,1,30,2],[43,1,43,5],[44,1,44,2],[45,1,45,2],[46,1,46,2],[47,1,47,2],[48,1,48,2],[37,1,37,2],[38,1,38,2],[39,1,39,2],[40,1,40,2],[41,1,41,2],[42,1,42,2],[55,1,55,2],[56,1,56,2],[57,1,57,2],[58,1,58,2],[59,1,59,2],[60,1,60,2],[49,1,49,2],[50,1,50,2],[51,1,51,2],[52,1,52,2],[53,1,53,2],[54,1,54,2],[67,1,67,2],[68,1,68,2],[69,1,69,2],[70,1,70,2],[71,1,71,5],[72,1,72,2],[61,1,61,2],[62,1,62,2],[63,1,63,2],[64,1,64,2],[65,1,65,2],[66,1,66,2],[79,1,79,2],[80,1,80,2],[81,1,81,2],[82,1,82,2],[83,1,83,2],[84,1,84,2],[73,1,73,2],[74,1,74,2],[75,1,75,2],[76,1,76,2],[77,1,77,2],[78,1,78,2],[91,1,91,2],[92,1,92,2],[93,1,93,2],[94,1,94,2],[95,1,95,2],[96,1,96,2],[85,1,85,2],[86,1,86,2],[87,1,87,2],[88,1,88,2],[89,1,89,2],[90,1,90,2],[97,1,97,2],[98,1,98,2],[99,1,99,2],[100,1,100,2],[101,1,101,5],[102,0,106,0],[102,1,106,1],[102,3,106,3],[102,4,106,4],[102,5,106,5],[102,6,106,6],[102,7,106,7],[102,8,106,8],[107,0,111,0],[107,1,111,1],[107,3,111,3],[107,4,111,4],[107,5,111,5],[107,6,111,6],[107,7,111,7],[107,8,111,8],[112,0,116,0],[112,1,116,1],[112,3,116,3],[112,4,116,4],[112,5,116,5],[112,6,116,6],[112,7,116,7],[112,8,116,8],[117,7,121,7],[117,8,121,8],[122,0,126,0],[122,1,126,1],[122,3,126,3],[122,4,126,4],[122,5,126,5],[122,6,126,6],[122,7,126,7],[122,8,126,8],[117,0,121,0],[117,1,121,1],[117,3,121,3],[117,4,121,4],[117,5,121,5],[117,6,121,6],[127,7,131,7],[127,8,131,8],[132,0,136,0],[132,1,136,1],[132,3,136,3],[132,4,136,4],[132,5,136,5],[132,6,136,6],[132,7,136,7],[132,8,136,8],[127,0,131,0],[127,1,131,1],[127,3,131,3],[127,4,131,4],[127,5,131,5],[127,6,131,6],[137,7,141,7],[137,8,141,8],[142,0,146,0],[142,1,146,1],[142,3,146,3],[142,4,146,4],[142,5,146,5],[142,6,146,6],[142,7,146,7],[142,8,146,8],[137,0,141,0],[137,1,141,1],[137,3,141,3],[137,4,141,4],[137,5,141,5],[137,6,141,6],[147,7,151,7],[147,8,151,8],[152,1,152,5],[153,0,159,0],[153,1,159,1],[153,8,159,8],[147,0,151,0],[147,1,151,1],[147,3,151,3],[147,4,151,4],[147,5,151,5],[147,6,151,6],[174,0,180,0],[174,1,180,1],[174,8,180,8],[181,0,187,0],[181,1,187,1],[181,8,187,8],[160,0,166,0],[160,1,166,1],[160,8,166,8],[167,0,173,0],[167,1,173,1],[167,8,173,8],[202,0,208,0],[202,1,208,1],[202,8,208,8],[209,0,215,0],[209,1,215,1],[209,8,215,8],[188,0,194,0],[188,1,194,1],[188,8,194,8],[195,0,201,0],[195,1,201,1],[195,8,201,8],[226,1,226,2],[227,1,227,2],[228,1,228,2],[229,1,229,2],[230,1,230,2],[231,1,231,2],[216,0,222,0],[216,1,222,1],[216,8,222,8],[223,1,223,5],[224,1,224,2],[225,1,225,2],[238,1,238,2],[239,1,239,2],[240,1,240,2],[241,1,241,5],[242,1,242,2],[243,1,243,2],[232,1,232,2],[233,1,233,2],[234,1,234,2],[235,1,235,2],[236,1,236,2],[237,1,237,2],[250,1,250,2],[251,1,251,2],[252,1,252,2],[253,0,253,5],[244,1,244,2],[245,1,245,2],[246,1,246,2],[247,1,247,5],[248,1,248,2],[249,1,249,2]]}
[null,null,"Pasirinkite veiklos tipą:"]
[null,null,"Fizinio rodiklio Nr.:"]
["Fizinio rodiklio pavadinimas:"]
[null,null,"Fizinio rodiklio matavimo vnt.:",null,null,"Fizinio rodiklio vnt. skaičius:"]
["Juridinis asmuo (pareiškėjas, partneris), atsakingas už fizinį rodiklį:"]
[null,null,"Vykdytojo tipas:"]
[null,null,"Finansavimo intensyvumas:",null,null,null,"Pasirinkite biudžeto išlaidų kategoriją:","Visos"]
[]
["Eil. Nr.","Išlaidų kategorijos pavadinimas",null,"Matavimo vnt.","Kiekis","Vieneto kaina be PVM, Eur","Tinkamų finansuoti išlaidų suma be PVM, Eur","Finansavimo suma, Eur","Išlaidų pagrindimo dokumentų pavadinimas, data ir Nr."]
[4,"ĮRANGA, ĮRENGINIAI IR KT. TURTAS (techninių žinių ir išradimų patentų arba teisių pagal licencijų sutartį įsigijimo išlaidos)",null,null,null,null,{"$f":"SUM(G11:G20)","v":0},{"$f":"SUM(H11:H20)","v":0}]
["4.1","Išlaidų pavadinimas",null,null,null,null,{"$f":"ROUND(E11*F11,2)","v":0},{"$f":"ROUND(G11*$D$7,2)","v":0}]
["4.2","Išlaidų pavadinimas",null,null,null,null,0,0]
["4.3","Išlaidų pavadinimas",null,null,null,null,0,0]
["4.4","Išlaidų pavadinimas",null,null,null,null,0,0]
["4.5","Išlaidų pavadinimas",null,null,null,null,0,0]
["4.6","Išlaidų pavadinimas",null,null,null,null,0,0]
["4.7","Išlaidų pavadinimas",null,null,null,null,0,0]
["4.8","Išlaidų pavadinimas",null,null,null,null,0,0]
["4.9","Išlaidų pavadinimas",null,null,null,null,0,0]
["4.10","Išlaidų pavadinimas",null,null,null,null,0,0]
[5,"PROJEKTO VYKDYMAS",null,null,null,null,{"$f":"G22+G33+G44+G72+G102+G153+G224+G242+G248","v":0},{"$f":"H22+H33+H44+H72+H102+H153+H224+H242+H248","v":0}]
["5.1","MTEP paslaugos",null,null,null,null,{"$f":"SUM(G23:G32)","v":0},{"$f":"SUM(H23:H32)","v":0}]
["5.1.1","Paslaugos pavadinimas",null,null,null,null,{"$f":"ROUND(E23*F23,2)","v":0},0]
["5.1.2","Paslaugos pavadinimas",null,null,null,null,0,0]
["5.1.3","Paslaugos pavadinimas",null,null,null,null,0,0]
["5.1.4","Paslaugos pavadinimas",null,null,null,null,0,0]
["5.1.5","Paslaugos pavadinimas",null,null,null,null,0,0]
["5.1.6","Paslaugos pavadinimas",null,null,null,null,0,0]
["5.1.7","Paslaugos pavadinimas",null,null,null,null,0,0]
["5.1.8","Paslaugos pavadinimas",null,null,null,null,0,0]
["5.1.9","Paslaugos pavadinimas",null,null,null,null,0,0]
["5.1.10","Paslaugos pavadinimas",null,null,null,null,0,0]
["5.2","Konsultavimo ir lygiavertės paslaugos, teikiamos vien tik projekto MTEP veiklai.",null,null,null,null,{"$f":"SUM(G34:G43)","v":0},{"$f":"SUM(H34:H43)","v":0}]
["5.2.1","Paslaugos pavadinimas",null,null,null,null,{"$f":"ROUND(E34*F34,2)","v":0},0]
["5.2.2","Paslaugos pavadinimas",null,null,null,null,0,0]
["5.2.3","Paslaugos pavadinimas",null,null,null,null,0,0]
["5.2.4","Paslaugos pavadinimas",null,null,null,null,0,0]
["5.2.5","Paslaugos pavadinimas",null,null,null,null,0,0]
["5.2.6","Paslaugos pavadinimas",null,null,null,null,0,0]
["5.2.7","Paslaugos pavadinimas",null,null,null,null,0,0]
["5.2.8","Paslaugos pavadinimas",null,null,null,null,0,0]
["5.2.9","Paslaugos pavadinimas",null,null,null,null,0,0]
["5.2.10","Paslaugos pavadinimas",null,null,null,null,0,0]
["5.3","Medžiagos, mažavertis inventorius, atsargos ir pan. produktai, priskirtini trumpalaikiam turtui ir tiesiogiai susiję su MTEP veikla",null,null,null,null,{"$f":"SUM(G45:G71)","v":0},{"$f":"SUM(H45:H71)","v":0}]
["5.3.1","Išlaidų pavadinimas",null,null,null,null,{"$f":"ROUND(E45*F45,2)","v":0},{"$f":"ROUND(G45*$D$7,2)","v":0}]
["5.3.2","Išlaidų pavadinimas",null,null,null,null,{"$f":"ROUND(E46*F46,2)","v":0},{"$f":"ROUND(G46*$D$7,2)","v":0}]
["5.3.3","Išlaidų pavadinimas",null,null,null,null,{"$f":"ROUND(E47*F47,2)","v":0},{"$f":"ROUND(G47*$D$7,2)","v":0}]
["5.3.4","Išlaidų pavadinimas",null,null,null,null,{"$f":"ROUND(E48*F48,2)","v":0},{"$f":"ROUND(G48*$D$7,2)","v":0}]
["5.3.5","Išlaidų pavadinimas",null,null,null,null,{"$f":"ROUND(E49*F49,2)","v":0},{"$f":"ROUND(G49*$D$7,2)","v":0}]
["5.3.6","Išlaidų pavadinimas",null,null,null,null,0,0]
["5.3.7","Išlaidų pavadinimas",null,null,null,null,0,0]
["5.3.8","Išlaidų pavadinimas",null,null,null,null,0,0]
["5.3.9","Išlaidų pavadinimas",null,null,null,null,0,0]
["5.3.10","Išlaidų pavadinimas",null,null,null,null,0,0]
["5.3.11","Išlaidų pavadinimas",null,null,null,null,0,0]
["5.3.12","Išlaidų pavadinimas",null,null,null,null,0,0]
["5.3.13","Išlaidų pavadinimas",null,null,null,null,0,0]
["5.3.14","Išlaidų pavadinimas",null,null,null,null,0,0]
["5.3.15","Išlaidų pavadinimas",null,null,null,null,0,0]
["5.3.16","Išlaidų pavadinimas",null,null,null,null,0,0]
["5.3.17","Išlaidų pavadinimas",null,null,null,null,0,0]
["5.3.18","Išlaidų pavadinimas",null,null,null,null,0,0]
["5.3.19","Išlaidų pavadinimas",null,null,null,null,0,0]
["5.3.20","Išlaidų pavadinimas",null,null,null,null,0,0]
["5.3.21","Išlaidų pavadinimas",null,null,null,null,0,0]
["5.3.22","Išlaidų pavadinimas",null,null,null,null,0,0]
["5.3.23","Išlaidų pavadinimas",null,null,null,null,0,0]
["5.3.24","Išlaidų pavadinimas",null,null,null,null,0,0]
["5.3.25","Išlaidų pavadinimas",null,null,null,null,0,0]
["5.3.26","Išlaidų pavadinimas",null,null,null,null,0,0]
["5.3.27","Išlaidų pavadinimas",null,null,null,null,0,0]
["5.4","Projekto MTEP veikloms naudojamo ilgalaikio materialaus turto (įrangos, prietaisų, įrankių, įrenginių, mašinų ir įrengimų, pastatų ir (ar) patalpų), nusidėvėjimo sąnaudos, jeigu šiam turtui įsigyti nebuvo naudojamos viešosios (įskaitant ir kitų valstybių) lėšos",null,null,null,null,{"$f":"SUM(G73:G101)","v":0},{"$f":"SUM(H73:H101)","v":0},null,"Turto įvedimo į eksploataciją data","Turto įsigijimo vertė, Eur","Turto nudėvėjimo, amortizacijos laikotarpis, mėn.","Numatoma turto likutinė vertė, Eur","1 mėn. nudėvėjimo, amortizacijos suma, Eur","Turto naudojamo projekto reikmėms laikas, mėn.","Turto panaudojimo projekto reikmėms dalis (proc.)","Projektui priskirta turto nusidėvėjimo, amortizacijos suma per projekto laikotarpį, Eur"]
["5.4.1","Turtas, kurio nusidėvėjimą, amortizaciją prašoma finansuoti",null,null,1,{"$f":"Q73","v":0},{"$f":"ROUND(E73*F73,2)","v":0},0,null,null,null,null,null,{"$f":"IFERROR(ROUND((K73-M73)/L73,2),\"0\")","v":"0"},null,null,{"$f":"N73*O73*P73","v":0},{"$f":"IF(J73=0,\" \",IF(J73+(L73*30.5)<TODAY(),\"DĖMESIO! Patikrinkite, ar nurodytas turtas dar nėra nudėvėtas, amortizuotas\",\" \"))","v":" "}]
["5.4.2","Turtas, kurio nusidėvėjimą, amortizaciją prašoma finansuoti",null,null,1,0,0,0,null,null,null,null,null,{"$f":"IFERROR(ROUND((K74-M74)/L74,2),\"0\")","v":"0"},null,null,{"$f":"N74*O74*P74","v":0},{"$f":"IF(J74=0,\" \",IF(J74+(L74*30.5)<TODAY(),\"DĖMESIO! Patikrinkite, ar nurodytas turtas dar nėra nudėvėtas, amortizuotas\",\" \"))","v":" "}]
["5.4.3","Turtas, kurio nusidėvėjimą, amortizaciją prašoma finansuoti",null,null,1,0,0,0,null,null,null,null,null,"0",null,null,0," "]
["5.4.4","Turtas, kurio nusidėvėjimą, amortizaciją prašoma finansuoti",null,null,1,0,0,0,null,null,null,null,null,"0",null,null,0," "]
["5.4.5","Turtas, kurio nusidėvėjimą, amortizaciją prašoma finansuoti",null,null,1,0,0,0,null,null,null,null,null,"0",null,null,0," "]
["5.4.6","Turtas, kurio nusidėvėjimą, amortizaciją prašoma finansuoti",null,null,1,0,0,0,null,null,null,null,null,"0",null,null,0," "]
["5.4.7","Turtas, kurio nusidėvėjimą, amortizaciją prašoma finansuoti",null,null,1,0,0,0,null,null,null,null,null,"0",null,null,0," "]
["5.4.8","Turtas, kurio nusidėvėjimą, amortizaciją prašoma finansuoti",null,null,1,0,0,0,null,null,null,null,null,"0",null,null,0," "]
["5.4.9","Turtas, kurio nusidėvėjimą, amortizaciją prašoma finansuoti",null,null,1,0,0,0,null,null,null,null,null,"0",null,null,0," "]
["5.4.10","Turtas, kurio nusidėvėjimą, amortizaciją prašoma finansuoti",null,null,1,0,0,0,null,null,null,null,null,"0",null,null,0," "]
["5.4.11","Turtas, kurio nusidėvėjimą, amortizaciją prašoma finansuoti",null,null,1,0,0,0,null,null,null,null,null,"0",null,null,0," "]
["5.4.12","Turtas, kurio nusidėvėjimą, amortizaciją prašoma finansuoti",null,null,1,0,0,0,null,null,null,null,null,"0",null,null,0," "]
["5.4.13","Turtas, kurio nusidėvėjimą, amortizaciją prašoma finansuoti",null,null,1,0,0,0,null,null,null,null,null,"0",null,null,0," "]
["5.4.14","Turtas, kurio nusidėvėjimą, amortizaciją prašoma finansuoti",null,null,1,0,0,0,null,null,null,null,null,"0",null,null,0," "]
["5.4.15","Turtas, kurio nusidėvėjimą, amortizaciją prašoma finansuoti",null,null,1,0,0,0,null,null,null,null,null,"0",null,null,0," "]
["5.4.16","Turtas, kurio nusidėvėjimą, amortizaciją prašoma finansuoti",null,null,1,0,0,0,null,null,null,null,null,"0",null,null,0," "]
["5.4.17","Turtas, kurio nusidėvėjimą, amortizaciją prašoma finansuoti",null,null,1,0,0,0,null,null,null,null,null,"0",null,null,0," "]
["5.4.18","Turtas, kurio nusidėvėjimą, amortizaciją prašoma finansuoti",null,null,1,0,0,0,null,null,null,null,null,"0",null,null,0," "]
["5.4.19","Turtas, kurio nusidėvėjimą, amortizaciją prašoma finansuoti",null,null,1,0,0,0,null,null,null,null,null,"0",null,null,0," "]
["5.4.20","Turtas, kurio nusidėvėjimą, amortizaciją prašoma finansuoti",null,null,1,0,0,0,null,null,null,null,null,"0",null,null,0," "]
["5.4.21","Turtas, kurio nusidėvėjimą, amortizaciją prašoma finansuoti",null,null,1,0,0,0,null,null,null,null,null,"0",null,null,0," "]
["5.4.22","Turtas, kurio nusidėvėjimą, amortizaciją prašoma finansuoti",null,null,1,0,0,0,null,null,null,null,null,"0",null,null,0," "]
["5.4.23","Turtas, kurio nusidėvėjimą, amortizaciją prašoma finansuoti",null,null,1,0,0,0,null,null,null,null,null,"0",null,null,0," "]
["5.4.24","Turtas, kurio nusidėvėjimą, amortizaciją prašoma finansuoti",null,null,1,0,0,0,null,null,null,null,null,"0",null,null,0," "]
["5.4.25","Turtas, kurio nusidėvėjimą, amortizaciją prašoma finansuoti",null,null,1,0,0,0,null,null,null,null,null,"0",null,null,0," "]
["5.4.26","Turtas, kurio nusidėvėjimą, amortizaciją prašoma finansuoti",null,null,1,0,0,0,null,null,null,null,null,"0",null,null,0," "]
["5.4.27","Turtas, kurio nusidėvėjimą, amortizaciją prašoma finansuoti",null,null,1,0,0,0,null,null,null,null,null,"0",null,null,0," "]
["5.4.28","Turtas, kurio nusidėvėjimą, amortizaciją prašoma finansuoti",null,null,1,0,0,0,null,null,null,null,null,"0",null,null,0," "]
["5.4.29","Turtas, kurio nusidėvėjimą, amortizaciją prašoma finansuoti",null,null,1,0,0,0,null,null,null,null,null,"0",null,null,0," "]
["5.5","Projektą vykdančio personalo darbo užmokestis ir išlaidos su darbo santykiais susijusiems darbdavio įsipareigojimams",null,null,null,null,{"$f":"SUM(G103:G152)","v":0},{"$f":"SUM(H103:H152)","v":0},null,"Faktiškai gaunamas darbo užmokesti už 1 valandą pagal  pastarųjų 6 mėn. vidurkį, Eur"]
["5.5.1","Pareigybės pavadinimas","Darbuotojo vardas pavardė","val.",null,{"$f":"IFERROR(ROUND(AVERAGE(J103:J107),2),\"0\")","v":"0"},{"$f":"ROUND(E103*F103,2)","v":0},{"$f":"ROUND(G103*$D$7,2)","v":0}]
[null,null,"Darbuotojo vardas pavardė"]
[null,null,"Darbuotojo vardas pavardė"]
[null,null,"Darbuotojo vardas pavardė"]
[null,null,"Darbuotojo vardas pavardė"]
["5.5.2","Pareigybės pavadinimas","Darbuotojo vardas pavardė","val.",null,{"$f":"IFERROR(ROUND(AVERAGE(J108:J112),2),\"0\")","v":"0"},{"$f":"ROUND(E108*F108,2)","v":0},{"$f":"ROUND(G108*$D$7,2)","v":0}]
[null,null,"Darbuotojo vardas pavardė"]
[null,null,"Darbuotojo vardas pavardė"]
[null,null,"Darbuotojo vardas pavardė"]
[null,null,"Darbuotojo vardas pavardė"]
["5.5.3","Pareigybės pavadinimas","Darbuotojo vardas pavardė","val.",null,{"$f":"IFERROR(ROUND(AVERAGE(J113:J117),2),\"0\")","v":"0"},{"$f":"ROUND(E113*F113,2)","v":0},{"$f":"ROUND(G113*$D$7,2)","v":0}]
[null,null,"Darbuotojo vardas pavardė"]
[null,null,"Darbuotojo vardas pavardė"]
[null,null,"Darbuotojo vardas pavardė"]
[null,null,"Darbuotojo vardas pavardė"]
["5.5.4","Pareigybės pavadinimas","Darbuotojo vardas pavardė","val.",null,{"$f":"IFERROR(ROUND(AVERAGE(J118:J122),2),\"0\")","v":"0"},{"$f":"ROUND(E118*F118,2)","v":0},{"$f":"ROUND(G118*$D$7,2)","v":0}]
[null,null,"Darbuotojo vardas pavardė"]
[null,null,"Darbuotojo vardas pavardė"]
[null,null,"Darbuotojo vardas pavardė"]
[null,null,"Darbuotojo vardas pavardė"]
["5.5.5","Pareigybės pavadinimas","Darbuotojo vardas pavardė","val.",null,{"$f":"IFERROR(ROUND(AVERAGE(J123:J127),2),\"0\")","v":"0"},{"$f":"ROUND(E123*F123,2)","v":0},{"$f":"ROUND(G123*$D$7,2)","v":0}]
[null,null,"Darbuotojo vardas pavardė"]
[null,null,"Darbuotojo vardas pavardė"]
[null,null,"Darbuotojo vardas pavardė"]
[null,null,"Darbuotojo vardas pavardė"]
["5.5.6","Pareigybės pavadinimas","Darbuotojo vardas pavardė","val.",null,{"$f":"IFERROR(ROUND(AVERAGE(J128:J132),2),\"0\")","v":"0"},{"$f":"ROUND(E128*F128,2)","v":0},{"$f":"ROUND(G128*$D$7,2)","v":0}]
[null,null,"Darbuotojo vardas pavardė"]
[null,null,"Darbuotojo vardas pavardė"]
[null,null,"Darbuotojo vardas pavardė"]
[null,null,"Darbuotojo vardas pavardė"]
["5.5.7","Pareigybės pavadinimas","Darbuotojo vardas pavardė","val.",null,{"$f":"IFERROR(ROUND(AVERAGE(J133:J137),2),\"0\")","v":"0"},{"$f":"ROUND(E133*F133,2)","v":0},{"$f":"ROUND(G133*$D$7,2)","v":0}]
[null,null,"Darbuotojo vardas pavardė"]
[null,null,"Darbuotojo vardas pavardė"]
[null,null,"Darbuotojo vardas pavardė"]
[null,null,"Darbuotojo vardas pavardė"]
["5.5.8","Pareigybės pavadinimas","Darbuotojo vardas pavardė","val.",null,{"$f":"IFERROR(ROUND(AVERAGE(J138:J142),2),\"0\")","v":"0"},{"$f":"ROUND(E138*F138,2)","v":0},{"$f":"ROUND(G138*$D$7,2)","v":0}]
[null,null,"Darbuotojo vardas pavardė"]
[null,null,"Darbuotojo vardas pavardė"]
[null,null,"Darbuotojo vardas pavardė"]
[null,null,"Darbuotojo vardas pavardė"]
["5.5.9","Pareigybės pavadinimas","Darbuotojo vardas pavardė","val.",null,{"$f":"IFERROR(ROUND(AVERAGE(J143:J147),2),\"0\")","v":"0"},{"$f":"ROUND(E143*F143,2)","v":0},{"$f":"ROUND(G143*$D$7,2)","v":0}]
[null,null,"Darbuotojo vardas pavardė"]
[null,null,"Darbuotojo vardas pavardė"]
[null,null,"Darbuotojo vardas pavardė"]
[null,null,"Darbuotojo vardas pavardė"]
["5.5.10","Pareigybės pavadinimas","Darbuotojo vardas pavardė","val.",null,{"$f":"IFERROR(ROUND(AVERAGE(J148:J152),2),\"0\")","v":"0"},{"$f":"ROUND(E148*F148,2)","v":0},{"$f":"ROUND(G148*$D$7,2)","v":0}]
[null,null,"Darbuotojo vardas pavardė"]
[null,null,"Darbuotojo vardas pavardė"]
[null,null,"Darbuotojo vardas pavardė"]
[null,null,"Darbuotojo vardas pavardė"]
["5.6","Projektą vykdančio personalo komandiruočių išlaidos",null,null,null,null,{"$f":"SUM(G154,G161,G168,G175,G182,G189,G196,G203,G210,G217)","v":0},{"$f":"SUM(H154,H161,H168,H175,H182,H189,H196,H203,H210,H217)","v":0}]
["5.6.1","Komandiruotės pavadinimas, vieta, trukmė dienomis, vykstančių asmenų skaičius","Iš viso komandiruotei",null,null,null,{"$f":"SUM(G155:G160)","v":0},{"$f":"ROUND(G154*$D$7,2)","v":0}]
[null,null,"Dienpinigiai",null,null,null,{"$f":"ROUND(E155*F155,2)","v":0}]
[null,null,"Gyvenamojo ploto nuoma",null,null,null,0]
[null,null,"Kelionės išlaidos",null,null,null,0]
[null,null,"Dalyvavimo mokestis",null,null,null,0]
[null,null,"Kitos išlaidų pavadinimas",null,null,null,0]
[null,null,"Kitos išlaidų pavadinimas",null,null,null,0]
["5.6.2","Komandiruotės pavadinimas, vieta, trukmė dienomis, vykstančių asmenų skaičius","Iš viso komandiruotei",null,null,null,{"$f":"SUM(G162:G167)","v":0},{"$f":"ROUND(G161*$D$7,2)","v":0}]
[null,null,"Dienpinigiai",null,null,null,{"$f":"ROUND(E162*F162,2)","v":0}]
[null,null,"Gyvenamojo ploto nuoma",null,null,null,0]
[null,null,"Kelionės išlaidos",null,null,null,0]
[null,null,"Dalyvavimo mokestis",null,null,null,0]
[null,null,"Kitos išlaidų pavadinimas",null,null,null,0]
[null,null,"Kitos išlaidų pavadinimas",null,null,null,0]
["5.6.3","Komandiruotės pavadinimas, vieta, trukmė dienomis, vykstančių asmenų skaičius","Iš viso komandiruotei",null,null,null,{"$f":"SUM(G169:G174)","v":0},{"$f":"ROUND(G168*$D$7,2)","v":0}]
[null,null,"Dienpinigiai",null,null,null,{"$f":"ROUND(E169*F169,2)","v":0}]
[null,null,"Gyvenamojo ploto nuoma",null,null,null,0]
[null,null,"Kelionės išlaidos",null,null,null,0]
[null,null,"Dalyvavimo mokestis",null,null,null,0]
[null,null,"Kitos išlaidų pavadinimas",null,null,null,0]
[null,null,"Kitos išlaidų pavadinimas",null,null,null,0]
["5.6.4","Komandiruotės pavadinimas, vieta, trukmė dienomis, vykstančių asmenų skaičius","Iš viso komandiruotei",null,null,null,{"$f":"SUM(G176:G181)","v":0},{"$f":"ROUND(G175*$D$7,2)","v":0}]
[null,null,"Dienpinigiai",null,null,null,{"$f":"ROUND(E176*F176,2)","v":0}]
[null,null,"Gyvenamojo ploto nuoma",null,null,null,0]
[null,null,"Kelionės išlaidos",null,null,null,0]
[null,null,"Dalyvavimo mokestis",null,null,null,0]
[null,null,"Kitos išlaidų pavadinimas",null,null,null,0]
[null,null,"Kitos išlaidų pavadinimas",null,null,null,0]
["5.6.5","Komandiruotės pavadinimas, vieta, trukmė dienomis, vykstančių asmenų skaičius","Iš viso komandiruotei",null,null,null,{"$f":"SUM(G183:G188)","v":0},{"$f":"ROUND(G182*$D$7,2)","v":0}]
[null,null,"Dienpinigiai",null,null,null,{"$f":"ROUND(E183*F183,2)","v":0}]
[null,null,"Gyvenamojo ploto nuoma",null,null,null,0]
[null,null,"Kelionės išlaidos",null,null,null,0]
[null,null,"Dalyvavimo mokestis",null,null,null,0]
[null,null,"Kitos išlaidų pavadinimas",null,null,null,0]
[null,null,"Kitos išlaidų pavadinimas",null,null,null,0]
["5.6.6","Komandiruotės pavadinimas, vieta, trukmė dienomis, vykstančių asmenų skaičius","Iš viso komandiruotei",null,null,null,{"$f":"SUM(G190:G195)","v":0},{"$f":"ROUND(G189*$D$7,2)","v":0}]
[null,null,"Dienpinigiai",null,null,null,{"$f":"ROUND(E190*F190,2)","v":0}]
[null,null,"Gyvenamojo ploto nuoma",null,null,null,0]
[null,null,"Kelionės išlaidos",null,null,null,0]
[null,null,"Dalyvavimo mokestis",null,null,null,0]
[null,null,"Kitos išlaidų pavadinimas",null,null,null,0]
[null,null,"Kitos išlaidų pavadinimas",null,null,null,0]
["5.6.7","Komandiruotės pavadinimas, vieta, trukmė dienomis, vykstančių asmenų skaičius","Iš viso komandiruotei",null,null,null,{"$f":"SUM(G197:G202)","v":0},{"$f":"ROUND(G196*$D$7,2)","v":0}]
[null,null,"Dienpinigiai",null,null,null,{"$f":"ROUND(E197*F197,2)","v":0}]
[null,null,"Gyvenamojo ploto nuoma",null,null,null,0]
[null,null,"Kelionės išlaidos",null,null,null,0]
[null,null,"Dalyvavimo mokestis",null,null,null,0]
[null,null,"Kitos išlaidų pavadinimas",null,null,null,0]
[null,null,"Kitos išlaidų pavadinimas",null,null,null,0]
["5.6.8","Komandiruotės pavadinimas, vieta, trukmė dienomis, vykstančių asmenų skaičius","Iš viso komandiruotei",null,null,null,{"$f":"SUM(G204:G209)","v":0},{"$f":"ROUND(G203*$D$7,2)","v":0}]
[null,null,"Dienpinigiai",null,null,null,{"$f":"ROUND(E204*F204,2)","v":0}]
[null,null,"Gyvenamojo ploto nuoma",null,null,null,0]
[null,null,"Kelionės išlaidos",null,null,null,0]
[null,null,"Dalyvavimo mokestis",null,null,null,0]
[null,null,"Kitos išlaidų pavadinimas",null,null,null,0]
[null,null,"Kitos išlaidų pavadinimas",null,null,null,0]
["5.6.9","Komandiruotės pavadinimas, vieta, trukmė dienomis, vykstančių asmenų skaičius","Iš viso komandiruotei",null,null,null,{"$f":"SUM(G211:G216)","v":0},{"$f":"ROUND(G210*$D$7,2)","v":0}]
[null,null,"Dienpinigiai",null,null,null,{"$f":"ROUND(E211*F211,2)","v":0}]
[null,null,"Gyvenamojo ploto nuoma",null,null,null,0]
[null,null,"Kelionės išlaidos",null,null,null,0]
[null,null,"Dalyvavimo mokestis",null,null,null,0]
[null,null,"Kitos išlaidų pavadinimas",null,null,null,0]
[null,null,"Kitos išlaidų pavadinimas",null,null,null,0]
["5.6.10","Komandiruotės pavadinimas, vieta, trukmė dienomis, vykstančių asmenų skaičius","Iš viso komandiruotei",null,null,null,{"$f":"SUM(G218:G223)","v":0},{"$f":"ROUND(G217*$D$7,2)","v":0}]
[null,null,"Dienpinigiai",null,null,null,{"$f":"ROUND(E218*F218,2)","v":0}]
[null,null,"Gyvenamojo ploto nuoma",null,null,null,0]
[null,null,"Kelionės išlaidos",null,null,null,0]
[null,null,"Dalyvavimo mokestis",null,null,null,0]
[null,null,"Kitos išlaidų pavadinimas",null,null,null,0]
[null,null,"Kitos išlaidų pavadinimas",null,null,null,0]
["5.7","Įrangos nuomos išlaidos, veiklai priskirtos pro rata principu. Įranga turi būti tiesiogiai susijusi su projekto įgyvendinimu ir negali būti įsigyta iš ES struktūrinių fondų ar kt. ES finansinių priemonių lėšų",null,null,null,null,{"$f":"SUM(G225:G241)","v":0},{"$f":"SUM(H225:H241)","v":0},null,"Faktinės 1 mėnesio išlaidos, Eur","Naudojimo projekte trukmė, mėn."]
["5.7.1","Įrangos pavadinimas",null,"pro rata proc.",null,{"$f":"J225*K225","v":0},{"$f":"ROUND(E225*F225,2)","v":0},{"$f":"ROUND(G225*$D$7,2)","v":0}]
["5.7.2","Įrangos pavadinimas",null,"pro rata proc.",null,0,0,{"$f":"ROUND(G226*$D$7,2)","v":0}]
["5.7.3","Įrangos pavadinimas",null,"pro rata proc.",null,0,0,0]
["5.7.4","Įrangos pavadinimas",null,"pro rata proc.",null,0,0,0]
["5.7.5","Įrangos pavadinimas",null,"pro rata proc.",null,0,0,0]
["5.7.6","Įrangos pavadinimas",null,"pro rata proc.",null,0,0,0]
["5.7.7","Įrangos pavadinimas",null,"pro rata proc.",null,0,0,0]
["5.7.8","Įrangos pavadinimas",null,"pro rata proc.",null,0,0,0]
["5.7.9","Įrangos pavadinimas",null,"pro rata proc.",null,0,0,0]
["5.7.10","Įrangos pavadinimas",null,"pro rata proc.",null,0,0,0]
["5.7.11","Įrangos pavadinimas",null,"pro rata proc.",null,0,0,0]
["5.7.12","Įrangos pavadinimas",null,"pro rata proc.",null,0,0,0]
["5.7.13","Įrangos pavadinimas",null,"pro rata proc.",null,0,0,0]
["5.7.14","Įrangos pavadinimas",null,"pro rata proc.",null,{"$f":"J238*K238","v":0},0,{"$f":"ROUND(G238*$D$7,2)","v":0}]
["5.7.15","Įrangos pavadinimas",null,"pro rata proc.",null,{"$f":"J239*K239","v":0},0,{"$f":"ROUND(G239*$D$7,2)","v":0}]
["5.7.16","Įrangos pavadinimas",null,"pro rata proc.",null,{"$f":"J240*K240","v":0},0,{"$f":"ROUND(G240*$D$7,2)","v":0}]
["5.7.17","Įrangos pavadinimas",null,"pro rata proc.",null,{"$f":"J241*K241","v":0},0,{"$f":"ROUND(G241*$D$7,2)","v":0}]
["5.8","Pastatų ar patalpų nuomos išlaidos, veiklai priskirtos pro rata principu. Pastatai ar patalpos turi būti tiesiogiai susijusi su projekto įgyvendinimu.",null,null,null,null,{"$f":"SUM(G243:G247)","v":0},{"$f":"SUM(H243:H247)","v":0},null,"Faktinės 1 mėnesio išlaidos, Eur","Naudojimo projekte trukmė, mėn."]
["5.8.1","Pastato, patalpų adresas",null,"pro rata proc.",null,{"$f":"J243*K243","v":0},{"$f":"ROUND(E243*F243,2)","v":0},{"$f":"ROUND(G243*$D$7,2)","v":0}]
["5.8.2","Pastato, patalpų adresas",null,"pro rata proc.",null,{"$f":"J244*K244","v":0},{"$f":"ROUND(E244*F244,2)","v":0},{"$f":"ROUND(G244*$D$7,2)","v":0}]
["5.8.3","Pastato, patalpų adresas",null,"pro rata proc.",null,{"$f":"J245*K245","v":0},{"$f":"ROUND(E245*F245,2)","v":0},{"$f":"ROUND(G245*$D$7,2)","v":0}]
["5.8.4","Pastato, patalpų adresas",null,"pro rata proc.",null,{"$f":"J246*K246","v":0},{"$f":"ROUND(E246*F246,2)","v":0},{"$f":"ROUND(G246*$D$7,2)","v":0}]
["5.8.5","Pastato, patalpų adresas",null,"pro rata proc.",null,{"$f":"J247*K247","v":0},{"$f":"ROUND(E247*F247,2)","v":0},{"$f":"ROUND(G247*$D$7,2)","v":0}]
["5.9","Projekto veikloms vykdyti reikalingų transporto priemonių nuomos išlaidos (išlaidos yra tinkamos finansuoti tik pagal Aprašą Nr. 2 vadovaujantis de minimis reglamento nuostatomis)",null,null,null,null,{"$f":"SUM(G249:G253)","v":0},{"$f":"SUM(H249:H253)","v":0}]
["5.9.1","Išlaidų pavadinimas",null,null,null,null,{"$f":"ROUND(E249*F249,2)","v":0},{"$f":"ROUND(G249*$D$7,2)","v":0}]
["5.9.2","Išlaidų pavadinimas",null,null,null,null,{"$f":"ROUND(E250*F250,2)","v":0},{"$f":"ROUND(G250*$D$7,2)","v":0}]
["5.9.3","Išlaidų pavadinimas",null,null,null,null,{"$f":"ROUND(E251*F251,2)","v":0},{"$f":"ROUND(G251*$D$7,2)","v":0}]
["5.9.4","Išlaidų pavadinimas",null,null,null,null,{"$f":"ROUND(E252*F252,2)","v":0},{"$f":"ROUND(G252*$D$7,2)","v":0}]
["5.9.5","Išlaidų pavadinimas",null,null,null,null,{"$f":"ROUND(E253*F253,2)","v":0},{"$f":"ROUND(G253*$D$7,2)","v":0}]
["Iš viso tinkamų finansuoti išlaidų:",null,null,null,null,null,{"$f":"G10+G21","v":0},{"$f":"H10+H21","v":0}]

{"sheet":"12","index":24,"n_rows":254,"n_cols":18,"rows_kept":254,"cut":false,"hidden":false,"merged":[[5,3,5,8],[8,1,8,2],[9,1,9,5],[10,1,10,2],[11,1,11,2],[12,1,12,2],[0,3,0,8],[2,0,2,2],[2,3,2,8],[3,3,3,4],[3,5,3,6],[4,0,4,2],[4,3,4,8],[19,1,19,2],[20,1,20,5],[21,1,21,5],[22,1,22,2],[23,1,23,2],[24,1,24,2],[13,1,13,2],[14,1,14,2],[15,1,15,2],[16,1,16,2],[17,1,17,2],[18,1,18,2],[31,1,31,2],[32,1,32,5],[33,1,33,2],[34,1,34,2],[35,1,35,2],[36,1,36,2],[25,1,25,2],[26,1,26,2],[27,1,27,2],[28,1,28,2],[29,1,29,2],[30,1,30,2],[43,1,43,5],[44,1,44,2],[45,1,45,2],[46,1,46,2],[47,1,47,2],[48,1,48,2],[37,1,37,2],[38,1,38,2],[39,1,39,2],[40,1,40,2],[41,1,41,2],[42,1,42,2],[55,1,55,2],[56,1,56,2],[57,1,57,2],[58,1,58,2],[59,1,59,2],[60,1,60,2],[49,1,49,2],[50,1,50,2],[51,1,51,2],[52,1,52,2],[53,1,53,2],[54,1,54,2],[67,1,67,2],[68,1,68,2],[69,1,69,2],[70,1,70,2],[71,1,71,5],[72,1,72,2],[61,1,61,2],[62,1,62,2],[63,1,63,2],[64,1,64,2],[65,1,65,2],[66,1,66,2],[79,1,79,2],[80,1,80,2],[81,1,81,2],[82,1,82,2],[83,1,83,2],[84,1,84,2],[73,1,73,2],[74,1,74,2],[75,1,75,2],[76,1,76,2],[77,1,77,2],[78,1,78,2],[91,1,91,2],[92,1,92,2],[93,1,93,2],[94,1,94,2],[95,1,95,2],[96,1,96,2],[85,1,85,2],[86,1,86,2],[87,1,87,2],[88,1,88,2],[89,1,89,2],[90,1,90,2],[97,1,97,2],[98,1,98,2],[99,1,99,2],[100,1,100,2],[101,1,101,5],[102,0,106,0],[102,1,106,1],[102,3,106,3],[102,4,106,4],[102,5,106,5],[102,6,106,6],[102,7,106,7],[102,8,106,8],[107,0,111,0],[107,1,111,1],[107,3,111,3],[107,4,111,4],[107,5,111,5],[107,6,111,6],[107,7,111,7],[107,8,111,8],[112,0,116,0],[112,1,116,1],[112,3,116,3],[112,4,116,4],[112,5,116,5],[112,6,116,6],[112,7,116,7],[112,8,116,8],[117,7,121,7],[117,8,121,8],[122,0,126,0],[122,1,126,1],[122,3,126,3],[122,4,126,4],[122,5,126,5],[122,6,126,6],[122,7,126,7],[122,8,126,8],[117,0,121,0],[117,1,121,1],[117,3,121,3],[117,4,121,4],[117,5,121,5],[117,6,121,6],[127,7,131,7],[127,8,131,8],[132,0,136,0],[132,1,136,1],[132,3,136,3],[132,4,136,4],[132,5,136,5],[132,6,136,6],[132,7,136,7],[132,8,136,8],[127,0,131,0],[127,1,131,1],[127,3,131,3],[127,4,131,4],[127,5,131,5],[127,6,131,6],[137,7,141,7],[137,8,141,8],[142,0,146,0],[142,1,146,1],[142,3,146,3],[142,4,146,4],[142,5,146,5],[142,6,146,6],[142,7,146,7],[142,8,146,8],[137,0,141,0],[137,1,141,1],[137,3,141,3],[137,4,141,4],[137,5,141,5],[137,6,141,6],[147,7,151,7],[147,8,151,8],[152,1,152,5],[153,0,159,0],[153,1,159,1],[153,8,159,8],[147,0,151,0],[147,1,151,1],[147,3,151,3],[147,4,151,4],[147,5,151,5],[147,6,151,6],[174,0,180,0],[174,1,180,1],[174,8,180,8],[181,0,187,0],[181,1,187,1],[181,8,187,8],[160,0,166,0],[160,1,166,1],[160,8,166,8],[167,0,173,0],[167,1,173,1],[167,8,173,8],[202,0,208,0],[202,1,208,1],[202,8,208,8],[209,0,215,0],[209,1,215,1],[209,8,215,8],[188,0,194,0],[188,1,194,1],[188,8,194,8],[195,0,201,0],[195,1,201,1],[195,8,201,8],[226,1,226,2],[227,1,227,2],[228,1,228,2],[229,1,229,2],[230,1,230,2],[231,1,231,2],[216,0,222,0],[216,1,222,1],[216,8,222,8],[223,1,223,5],[224,1,224,2],[225,1,225,2],[238,1,238,2],[239,1,239,2],[240,1,240,2],[241,1,241,5],[242,1,242,2],[243,1,243,2],[232,1,232,2],[233,1,233,2],[234,1,234,2],[235,1,235,2],[236,1,236,2],[237,1,237,2],[250,1,250,2],[251,1,251,2],[252,1,252,2],[253,0,253,5],[244,1,244,2],[245,1,245,2],[246,1,246,2],[247,1,247,5],[248,1,248,2],[249,1,249,2]]}
[null,null,"Pasirinkite veiklos tipą:"]
[null,null,"Fizinio rodiklio Nr.:"]
["Fizinio rodiklio pavadinimas:"]
[null,null,"Fizinio rodiklio matavimo vnt.:",null,null,"Fizinio rodiklio vnt. skaičius:"]
["Juridinis asmuo (pareiškėjas, partneris), atsakingas už fizinį rodiklį:"]
[null,null,"Vykdytojo tipas:"]
[null,null,"Finansavimo intensyvumas:",null,null,null,"Pasirinkite biudžeto išlaidų kategoriją:","Visos"]
[]
["Eil. Nr.","Išlaidų kategorijos pavadinimas",null,"Matavimo vnt.","Kiekis","Vieneto kaina be PVM, Eur","Tinkamų finansuoti išlaidų suma be PVM, Eur","Finansavimo suma, Eur","Išlaidų pagrindimo dokumentų pavadinimas, data ir Nr."]
[4,"ĮRANGA, ĮRENGINIAI IR KT. TURTAS (techninių žinių ir išradimų patentų arba teisių pagal licencijų sutartį įsigijimo išlaidos)",null,null,null,null,{"$f":"SUM(G11:G20)","v":0},{"$f":"SUM(H11:H20)","v":0}]
["4.1","Išlaidų pavadinimas",null,null,null,null,{"$f":"ROUND(E11*F11,2)","v":0},{"$f":"ROUND(G11*$D$7,2)","v":0}]
["4.2","Išlaidų pavadinimas",null,null,null,null,0,0]
["4.3","Išlaidų pavadinimas",null,null,null,null,0,0]
["4.4","Išlaidų pavadinimas",null,null,null,null,0,0]
["4.5","Išlaidų pavadinimas",null,null,null,null,0,0]
["4.6","Išlaidų pavadinimas",null,null,null,null,0,0]
["4.7","Išlaidų pavadinimas",null,null,null,null,0,0]
["4.8","Išlaidų pavadinimas",null,null,null,null,0,0]
["4.9","Išlaidų pavadinimas",null,null,null,null,0,0]
["4.10","Išlaidų pavadinimas",null,null,null,null,0,0]
[5,"PROJEKTO VYKDYMAS",null,null,null,null,{"$f":"G22+G33+G44+G72+G102+G153+G224+G242+G248","v":0},{"$f":"H22+H33+H44+H72+H102+H153+H224+H242+H248","v":0}]
["5.1","MTEP paslaugos",null,null,null,null,{"$f":"SUM(G23:G32)","v":0},{"$f":"SUM(H23:H32)","v":0}]
["5.1.1","Paslaugos pavadinimas",null,null,null,null,{"$f":"ROUND(E23*F23,2)","v":0},0]
["5.1.2","Paslaugos pavadinimas",null,null,null,null,0,0]
["5.1.3","Paslaugos pavadinimas",null,null,null,null,0,0]
["5.1.4","Paslaugos pavadinimas",null,null,null,null,0,0]
["5.1.5","Paslaugos pavadinimas",null,null,null,null,0,0]
["5.1.6","Paslaugos pavadinimas",null,null,null,null,0,0]
["5.1.7","Paslaugos pavadinimas",null,null,null,null,0,0]
["5.1.8","Paslaugos pavadinimas",null,null,null,null,0,0]
["5.1.9","Paslaugos pavadinimas",null,null,null,null,0,0]
["5.1.10","Paslaugos pavadinimas",null,null,null,null,0,0]
["5.2","Konsultavimo ir lygiavertės paslaugos, teikiamos vien tik projekto MTEP veiklai.",null,null,null,null,{"$f":"SUM(G34:G43)","v":0},{"$f":"SUM(H34:H43)","v":0}]
["5.2.1","Paslaugos pavadinimas",null,null,null,null,{"$f":"ROUND(E34*F34,2)","v":0},0]
["5.2.2","Paslaugos pavadinimas",null,null,null,null,0,0]
["5.2.3","Paslaugos pavadinimas",null,null,null,null,0,0]
["5.2.4","Paslaugos pavadinimas",null,null,null,null,0,0]
["5.2.5","Paslaugos pavadinimas",null,null,null,null,0,0]
["5.2.6","Paslaugos pavadinimas",null,null,null,null,0,0]
["5.2.7","Paslaugos pavadinimas",null,null,null,null,0,0]
["5.2.8","Paslaugos pavadinimas",null,null,null,null,0,0]
["5.2.9","Paslaugos pavadinimas",null,null,null,null,0,0]
["5.2.10","Paslaugos pavadinimas",null,null,null,null,0,0]
["5.3","Medžiagos, mažavertis inventorius, atsargos ir pan. produktai, priskirtini trumpalaikiam turtui ir tiesiogiai susiję su MTEP veikla",null,null,null,null,{"$f":"SUM(G45:G71)","v":0},{"$f":"SUM(H45:H71)","v":0}]
["5.3.1","Išlaidų pavadinimas",null,null,null,null,{"$f":"ROUND(E45*F45,2)","v":0},{"$f":"ROUND(G45*$D$7,2)","v":0}]
["5.3.2","Išlaidų pavadinimas",null,null,null,null,{"$f":"ROUND(E46*F46,2)","v":0},{"$f":"ROUND(G46*$D$7,2)","v":0}]
["5.3.3","Išlaidų pavadinimas",null,null,null,null,{"$f":"ROUND(E47*F47,2)","v":0},{"$f":"ROUND(G47*$D$7,2)","v":0}]
["5.3.4","Išlaidų pavadinimas",null,null,null,null,{"$f":"ROUND(E48*F48,2)","v":0},{"$f":"ROUND(G48*$D$7,2)","v":0}]
["5.3.5","Išlaidų pavadinimas",null,null,null,null,{"$f":"ROUND(E49*F49,2)","v":0},{"$f":"ROUND(G49*$D$7,2)","v":0}]
["5.3.6","Išlaidų pavadinimas",null,null,null,null,0,0]
["5.3.7","Išlaidų pavadinimas",null,null,null,null,0,0]
["5.3.8","Išlaidų pavadinimas",null,null,null,null,0,0]
["5.3.9","Išlaidų pavadinimas",null,null,null,null,0,0]
["5.3.10","Išlaidų pavadinimas",null,null,null,null,0,0]
["5.3.11","Išlaidų pavadinimas",null,null,null,null,0,0]
["5.3.12","Išlaidų pavadinimas",null,null,null,null,0,0]
["5.3.13","Išlaidų pavadinimas",null,null,null,null,0,0]
["5.3.14","Išlaidų pavadinimas",null,null,null,null,0,0]
["5.3.15","Išlaidų pavadinimas",null,null,null,null,0,0]
["5.3.16","Išlaidų pavadinimas",null,null,null,null,0,0]
["5.3.17","Išlaidų pavadinimas",null,null,null,null,0,0]
["5.3.18","Išlaidų pavadinimas",null,null,null,null,0,0]
["5.3.19","Išlaidų pavadinimas",null,null,null,null,0,0]
["5.3.20","Išlaidų pavadinimas",null,null,null,null,0,0]
["5.3.21","Išlaidų pavadinimas",null,null,null,null,0,0]
["5.3.22","Išlaidų pavadinimas",null,null,null,null,0,0]
["5.3.23","Išlaidų pavadinimas",null,null,null,null,0,0]
["5.3.24","Išlaidų pavadinimas",null,null,null,null,0,0]
["5.3.25","Išlaidų pavadinimas",null,null,null,null,0,0]
["5.3.26","Išlaidų pavadinimas",null,null,null,null,0,0]
["5.3.27","Išlaidų pavadinimas",null,null,null,null,0,0]
["5.4","Projekto MTEP veikloms naudojamo ilgalaikio materialaus turto (įrangos, prietaisų, įrankių, įrenginių, mašinų ir įrengimų, pastatų ir (ar) patalpų), nusidėvėjimo sąnaudos, jeigu šiam turtui įsigyti nebuvo naudojamos viešosios (įskaitant ir kitų valstybių) lėšos",null,null,null,null,{"$f":"SUM(G73:G101)","v":0},{"$f":"SUM(H73:H101)","v":0},null,"Turto įvedimo į eksploataciją data","Turto įsigijimo vertė, Eur","Turto nudėvėjimo, amortizacijos laikotarpis, mėn.","Numatoma turto likutinė vertė, Eur","1 mėn. nudėvėjimo, amortizacijos suma, Eur","Turto naudojamo projekto reikmėms laikas, mėn.","Turto panaudojimo projekto reikmėms dalis (proc.)","Projektui priskirta turto nusidėvėjimo, amortizacijos suma per projekto laikotarpį, Eur"]
["5.4.1","Turtas, kurio nusidėvėjimą, amortizaciją prašoma finansuoti",null,null,1,{"$f":"Q73","v":0},{"$f":"ROUND(E73*F73,2)","v":0},0,null,null,null,null,null,{"$f":"IFERROR(ROUND((K73-M73)/L73,2),\"0\")","v":"0"},null,null,{"$f":"N73*O73*P73","v":0},{"$f":"IF(J73=0,\" \",IF(J73+(L73*30.5)<TODAY(),\"DĖMESIO! Patikrinkite, ar nurodytas turtas dar nėra nudėvėtas, amortizuotas\",\" \"))","v":" "}]
["5.4.2","Turtas, kurio nusidėvėjimą, amortizaciją prašoma finansuoti",null,null,1,0,0,0,null,null,null,null,null,{"$f":"IFERROR(ROUND((K74-M74)/L74,2),\"0\")","v":"0"},null,null,{"$f":"N74*O74*P74","v":0},{"$f":"IF(J74=0,\" \",IF(J74+(L74*30.5)<TODAY(),\"DĖMESIO! Patikrinkite, ar nurodytas turtas dar nėra nudėvėtas, amortizuotas\",\" \"))","v":" "}]
["5.4.3","Turtas, kurio nusidėvėjimą, amortizaciją prašoma finansuoti",null,null,1,0,0,0,null,null,null,null,null,"0",null,null,0," "]
["5.4.4","Turtas, kurio nusidėvėjimą, amortizaciją prašoma finansuoti",null,null,1,0,0,0,null,null,null,null,null,"0",null,null,0," "]
["5.4.5","Turtas, kurio nusidėvėjimą, amortizaciją prašoma finansuoti",null,null,1,0,0,0,null,null,null,null,null,"0",null,null,0," "]
["5.4.6","Turtas, kurio nusidėvėjimą, amortizaciją prašoma finansuoti",null,null,1,0,0,0,null,null,null,null,null,"0",null,null,0," "]
["5.4.7","Turtas, kurio nusidėvėjimą, amortizaciją prašoma finansuoti",null,null,1,0,0,0,null,null,null,null,null,"0",null,null,0," "]
["5.4.8","Turtas, kurio nusidėvėjimą, amortizaciją prašoma finansuoti",null,null,1,0,0,0,null,null,null,null,null,"0",null,null,0," "]
["5.4.9","Turtas, kurio nusidėvėjimą, amortizaciją prašoma finansuoti",null,null,1,0,0,0,null,null,null,null,null,"0",null,null,0," "]
["5.4.10","Turtas, kurio nusidėvėjimą, amortizaciją prašoma finansuoti",null,null,1,0,0,0,null,null,null,null,null,"0",null,null,0," "]
["5.4.11","Turtas, kurio nusidėvėjimą, amortizaciją prašoma finansuoti",null,null,1,0,0,0,null,null,null,null,null,"0",null,null,0," "]
["5.4.12","Turtas, kurio nusidėvėjimą, amortizaciją prašoma finansuoti",null,null,1,0,0,0,null,null,null,null,null,"0",null,null,0," "]
["5.4.13","Turtas, kurio nusidėvėjimą, amortizaciją prašoma finansuoti",null,null,1,0,0,0,null,null,null,null,null,"0",null,null,0," "]
["5.4.14","Turtas, kurio nusidėvėjimą, amortizaciją prašoma finansuoti",null,null,1,0,0,0,null,null,null,null,null,"0",null,null,0," "]
["5.4.15","Turtas, kurio nusidėvėjimą, amortizaciją prašoma finansuoti",null,null,1,0,0,0,null,null,null,null,null,"0",null,null,0," "]
["5.4.16","Turtas, kurio nusidėvėjimą, amortizaciją prašoma finansuoti",null,null,1,0,0,0,null,null,null,null,null,"0",null,null,0," "]
["5.4.17","Turtas, kurio nusidėvėjimą, amortizaciją prašoma finansuoti",null,null,1,0,0,0,null,null,null,null,null,"0",null,null,0," "]
["5.4.18","Turtas, kurio nusidėvėjimą, amortizaciją prašoma finansuoti",null,null,1,0,0,0,null,null,null,null,null,"0",null,null,0," "]
["5.4.19","Turtas, kurio nusidėvėjimą, amortizaciją prašoma finansuoti",null,null,1,0,0,0,null,null,null,null,null,"0",null,null,0," "]
["5.4.20","Turtas, kurio nusidėvėjimą, amortizaciją prašoma finansuoti",null,null,1,0,0,0,null,null,null,null,null,"0",null,null,0," "]
["5.4.21","Turtas, kurio nusidėvėjimą, amortizaciją prašoma finansuoti",null,null,1,0,0,0,null,null,null,null,null,"0",null,null,0," "]
["5.4.22","Turtas, kurio nusidėvėjimą, amortizaciją prašoma finansuoti",null,null,1,0,0,0,null,null,null,null,null,"0",null,null,0," "]
["5.4.23","Turtas, kurio nusidėvėjimą, amortizaciją prašoma finansuoti",null,null,1,0,0,0,null,null,null,null,null,"0",null,null,0," "]
["5.4.24","Turtas, kurio nusidėvėjimą, amortizaciją prašoma finansuoti",null,null,1,0,0,0,null,null,null,null,null,"0",null,null,0," "]
["5.4.25","Turtas, kurio nusidėvėjimą, amortizaciją prašoma finansuoti",null,null,1,0,0,0,null,null,null,null,null,"0",null,null,0," "]
["5.4.26","Turtas, kurio nusidėvėjimą, amortizaciją prašoma finansuoti",null,null,1,0,0,0,null,null,null,null,null,"0",null,null,0," "]
["5.4.27","Turtas, kurio nusidėvėjimą, amortizaciją prašoma finansuoti",null,null,1,0,0,0,null,null,null,null,null,"0",null,null,0," "]
["5.4.28","Turtas, kurio nusidėvėjimą, amortizaciją prašoma finansuoti",null,null,1,0,0,0,null,null,null,null,null,"0",null,null,0," "]
["5.4.29","Turtas, kurio nusidėvėjimą, amortizaciją prašoma finansuoti",null,null,1,0,0,0,null,null,null,null,null,"0",null,null,0," "]
["5.5","Projektą vykdančio personalo darbo užmokestis ir išlaidos su darbo santykiais susijusiems darbdavio įsipareigojimams",null,null,null,null,{"$f":"SUM(G103:G152)","v":0},{"$f":"SUM(H103:H152)","v":0},null,"Faktiškai gaunamas darbo užmokesti už 1 valandą pagal  pastarųjų 6 mėn. vidurkį, Eur"]
["5.5.1","Pareigybės pavadinimas","Darbuotojo vardas pavardė","val.",null,{"$f":"IFERROR(ROUND(AVERAGE(J103:J107),2),\"0\")","v":"0"},{"$f":"ROUND(E103*F103,2)","v":0},{"$f":"ROUND(G103*$D$7,2)","v":0}]
[null,null,"Darbuotojo vardas pavardė"]
[null,null,"Darbuotojo vardas pavardė"]
[null,null,"Darbuotojo vardas pavardė"]
[null,null,"Darbuotojo vardas pavardė"]
["5.5.2","Pareigybės pavadinimas","Darbuotojo vardas pavardė","val.",null,{"$f":"IFERROR(ROUND(AVERAGE(J108:J112),2),\"0\")","v":"0"},{"$f":"ROUND(E108*F108,2)","v":0},{"$f":"ROUND(G108*$D$7,2)","v":0}]
[null,null,"Darbuotojo vardas pavardė"]
[null,null,"Darbuotojo vardas pavardė"]
[null,null,"Darbuotojo vardas pavardė"]
[null,null,"Darbuotojo vardas pavardė"]
["5.5.3","Pareigybės pavadinimas","Darbuotojo vardas pavardė","val.",null,{"$f":"IFERROR(ROUND(AVERAGE(J113:J117),2),\"0\")","v":"0"},{"$f":"ROUND(E113*F113,2)","v":0},{"$f":"ROUND(G113*$D$7,2)","v":0}]
[null,null,"Darbuotojo vardas pavardė"]
[null,null,"Darbuotojo vardas pavardė"]
[null,null,"Darbuotojo vardas pavardė"]
[null,null,"Darbuotojo vardas pavardė"]
["5.5.4","Pareigybės pavadinimas","Darbuotojo vardas pavardė","val.",null,{"$f":"IFERROR(ROUND(AVERAGE(J118:J122),2),\"0\")","v":"0"},{"$f":"ROUND(E118*F118,2)","v":0},{"$f":"ROUND(G118*$D$7,2)","v":0}]
[null,null,"Darbuotojo vardas pavardė"]
[null,null,"Darbuotojo vardas pavardė"]
[null,null,"Darbuotojo vardas pavardė"]
[null,null,"Darbuotojo vardas pavardė"]
["5.5.5","Pareigybės pavadinimas","Darbuotojo vardas pavardė","val.",null,{"$f":"IFERROR(ROUND(AVERAGE(J123:J127),2),\"0\")","v":"0"},{"$f":"ROUND(E123*F123,2)","v":0},{"$f":"ROUND(G123*$D$7,2)","v":0}]
[null,null,"Darbuotojo vardas pavardė"]
[null,null,"Darbuotojo vardas pavardė"]
[null,null,"Darbuotojo vardas pavardė"]
[null,null,"Darbuotojo vardas pavardė"]
["5.5.6","Pareigybės pavadinimas","Darbuotojo vardas pavardė","val.",null,{"$f":"IFERROR(ROUND(AVERAGE(J128:J132),2),\"0\")","v":"0"},{"$f":"ROUND(E128*F128,2)","v":0},{"$f":"ROUND(G128*$D$7,2)","v":0}]
[null,null,"Darbuotojo vardas pavardė"]
[null,null,"Darbuotojo vardas pavardė"]
[null,null,"Darbuotojo vardas pavardė"]
[null,null,"Darbuotojo vardas pavardė"]
["5.5.7","Pareigybės pavadinimas","Darbuotojo vardas pavardė","val.",null,{"$f":"IFERROR(ROUND(AVERAGE(J133:J137),2),\"0\")","v":"0"},{"$f":"ROUND(E133*F133,2)","v":0},{"$f":"ROUND(G133*$D$7,2)","v":0}]
[null,null,"Darbuotojo vardas pavardė"]
[null,null,"Darbuotojo vardas pavardė"]
[null,null,"Darbuotojo vardas pavardė"]
[null,null,"Darbuotojo vardas pavardė"]
["5.5.8","Pareigybės pavadinimas","Darbuotojo vardas pavardė","val.",null,{"$f":"IFERROR(ROUND(AVERAGE(J138:J142),2),\"0\")","v":"0"},{"$f":"ROUND(E138*F138,2)","v":0},{"$f":"ROUND(G138*$D$7,2)","v":0}]
[null,null,"Darbuotojo vardas pavardė"]
[null,null,"Darbuotojo vardas pavardė"]
[null,null,"Darbuotojo vardas pavardė"]
[null,null,"Darbuotojo vardas pavardė"]
["5.5.9","Pareigybės pavadinimas","Darbuotojo vardas pavardė","val.",null,{"$f":"IFERROR(ROUND(AVERAGE(J143:J147),2),\"0\")","v":"0"},{"$f":"ROUND(E143*F143,2)","v":0},{"$f":"ROUND(G143*$D$7,2)","v":0}]
[null,null,"Darbuotojo vardas pavardė"]
[null,null,"Darbuotojo vardas pavardė"]
[null,null,"Darbuotojo vardas pavardė"]
[null,null,"Darbuotojo vardas pavardė"]
["5.5.10","Pareigybės pavadinimas","Darbuotojo vardas pavardė","val.",null,{"$f":"IFERROR(ROUND(AVERAGE(J148:J152),2),\"0\")","v":"0"},{"$f":"ROUND(E148*F148,2)","v":0},{"$f":"ROUND(G148*$D$7,2)","v":0}]
[null,null,"Darbuotojo vardas pavardė"]
[null,null,"Darbuotojo vardas pavardė"]
[null,null,"Darbuotojo vardas pavardė"]
[null,null,"Darbuotojo vardas pavardė"]
["5.6","Projektą vykdančio personalo komandiruočių išlaidos",null,null,null,null,{"$f":"SUM(G154,G161,G168,G175,G182,G189,G196,G203,G210,G217)","v":0},{"$f":"SUM(H154,H161,H168,H175,H182,H189,H196,H203,H210,H217)","v":0}]
["5.6.1","Komandiruotės pavadinimas, vieta, trukmė dienomis, vykstančių asmenų skaičius","Iš viso komandiruotei",null,null,null,{"$f":"SUM(G155:G160)","v":0},{"$f":"ROUND(G154*$D$7,2)","v":0}]
[null,null,"Dienpinigiai",null,null,null,{"$f":"ROUND(E155*F155,2)","v":0}]
[null,null,"Gyvenamojo ploto nuoma",null,null,null,0]
[null,null,"Kelionės išlaidos",null,null,null,0]
[null,null,"Dalyvavimo mokestis",null,null,null,0]
[null,null,"Kitos išlaidų pavadinimas",null,null,null,0]
[null,null,"Kitos išlaidų pavadinimas",null,null,null,0]
["5.6.2","Komandiruotės pavadinimas, vieta, trukmė dienomis, vykstančių asmenų skaičius","Iš viso komandiruotei",null,null,null,{"$f":"SUM(G162:G167)","v":0},{"$f":"ROUND(G161*$D$7,2)","v":0}]
[null,null,"Dienpinigiai",null,null,null,{"$f":"ROUND(E162*F162,2)","v":0}]
[null,null,"Gyvenamojo ploto nuoma",null,null,null,0]
[null,null,"Kelionės išlaidos",null,null,null,0]
[null,null,"Dalyvavimo mokestis",null,null,null,0]
[null,null,"Kitos išlaidų pavadinimas",null,null,null,0]
[null,null,"Kitos išlaidų pavadinimas",null,null,null,0]
["5.6.3","Komandiruotės pavadinimas, vieta, trukmė dienomis, vykstančių asmenų skaičius","Iš viso komandiruotei",null,null,null,{"$f":"SUM(G169:G174)","v":0},{"$f":"ROUND(G168*$D$7,2)","v":0}]
[null,null,"Dienpinigiai",null,null,null,{"$f":"ROUND(E169*F169,2)","v":0}]
[null,null,"Gyvenamojo ploto nuoma",null,null,null,0]
[null,null,"Kelionės išlaidos",null,null,null,0]
[null,null,"Dalyvavimo mokestis",null,null,null,0]
[null,null,"Kitos išlaidų pavadinimas",null,null,null,0]
[null,null,"Kitos išlaidų pavadinimas",null,null,null,0]
["5.6.4","Komandiruotės pavadinimas, vieta, trukmė dienomis, vykstančių asmenų skaičius","Iš viso komandiruotei",null,null,null,{"$f":"SUM(G176:G181)","v":0},{"$f":"ROUND(G175*$D$7,2)","v":0}]
[null,null,"Dienpinigiai",null,null,null,{"$f":"ROUND(E176*F176,2)","v":0}]
[null,null,"Gyvenamojo ploto nuoma",null,null,null,0]
[null,null,"Kelionės išlaidos",null,null,null,0]
[null,null,"Dalyvavimo mokestis",null,null,null,0]
[null,null,"Kitos išlaidų pavadinimas",null,null,null,0]
[null,null,"Kitos išlaidų pavadinimas",null,null,null,0]
["5.6.5","Komandiruotės pavadinimas, vieta, trukmė dienomis, vykstančių asmenų skaičius","Iš viso komandiruotei",null,null,null,{"$f":"SUM(G183:G188)","v":0},{"$f":"ROUND(G182*$D$7,2)","v":0}]
[null,null,"Dienpinigiai",null,null,null,{"$f":"ROUND(E183*F183,2)","v":0}]
[null,null,"Gyvenamojo ploto nuoma",null,null,null,0]
[null,null,"Kelionės išlaidos",null,null,null,0]
[null,null,"Dalyvavimo mokestis",null,null,null,0]
[null,null,"Kitos išlaidų pavadinimas",null,null,null,0]
[null,null,"Kitos išlaidų pavadinimas",null,null,null,0]
["5.6.6","Komandiruotės pavadinimas, vieta, trukmė dienomis, vykstančių asmenų skaičius","Iš viso komandiruotei",null,null,null,{"$f":"SUM(G190:G195)","v":0},{"$f":"ROUND(G189*$D$7,2)","v":0}]
[null,null,"Dienpinigiai",null,null,null,{"$f":"ROUND(E190*F190,2)","v":0}]
[null,null,"Gyvenamojo ploto nuoma",null,null,null,0]
[null,null,"Kelionės išlaidos",null,null,null,0]
[null,null,"Dalyvavimo mokestis",null,null,null,0]
[null,null,"Kitos išlaidų pavadinimas",null,null,null,0]
[null,null,"Kitos išlaidų pavadinimas",null,null,null,0]
["5.6.7","Komandiruotės pavadinimas, vieta, trukmė dienomis, vykstančių asmenų skaičius","Iš viso komandiruotei",null,null,null,{"$f":"SUM(G197:G202)","v":0},{"$f":"ROUND(G196*$D$7,2)","v":0}]
[null,null,"Dienpinigiai",null,null,null,{"$f":"ROUND(E197*F197,2)","v":0}]
[null,null,"Gyvenamojo ploto nuoma",null,null,null,0]
[null,null,"Kelionės išlaidos",null,null,null,0]
[null,null,"Dalyvavimo mokestis",null,null,null,0]
[null,null,"Kitos išlaidų pavadinimas",null,null,null,0]
[null,null,"Kitos išlaidų pavadinimas",null,null,null,0]
["5.6.8","Komandiruotės pavadinimas, vieta, trukmė dienomis, vykstančių asmenų skaičius","Iš viso komandiruotei",null,null,null,{"$f":"SUM(G204:G209)","v":0},{"$f":"ROUND(G203*$D$7,2)","v":0}]
[null,null,"Dienpinigiai",null,null,null,{"$f":"ROUND(E204*F204,2)","v":0}]
[null,null,"Gyvenamojo ploto nuoma",null,null,null,0]
[null,null,"Kelionės išlaidos",null,null,null,0]
[null,null,"Dalyvavimo mokestis",null,null,null,0]
[null,null,"Kitos išlaidų pavadinimas",null,null,null,0]
[null,null,"Kitos išlaidų pavadinimas",null,null,null,0]
["5.6.9","Komandiruotės pavadinimas, vieta, trukmė dienomis, vykstančių asmenų skaičius","Iš viso komandiruotei",null,null,null,{"$f":"SUM(G211:G216)","v":0},{"$f":"ROUND(G210*$D$7,2)","v":0}]
[null,null,"Dienpinigiai",null,null,null,{"$f":"ROUND(E211*F211,2)","v":0}]
[null,null,"Gyvenamojo ploto nuoma",null,null,null,0]
[null,null,"Kelionės išlaidos",null,null,null,0]
[null,null,"Dalyvavimo mokestis",null,null,null,0]
[null,null,"Kitos išlaidų pavadinimas",null,null,null,0]
[null,null,"Kitos išlaidų pavadinimas",null,null,null,0]
["5.6.10","Komandiruotės pavadinimas, vieta, trukmė dienomis, vykstančių asmenų skaičius","Iš viso komandiruotei",null,null,null,{"$f":"SUM(G218:G223)","v":0},{"$f":"ROUND(G217*$D$7,2)","v":0}]
[null,null,"Dienpinigiai",null,null,null,{"$f":"ROUND(E218*F218,2)","v":0}]
[null,null,"Gyvenamojo ploto nuoma",null,null,null,0]
[null,null,"Kelionės išlaidos",null,null,null,0]
[null,null,"Dalyvavimo mokestis",null,null,null,0]
[null,null,"Kitos išlaidų pavadinimas",null,null,null,0]
[null,null,"Kitos išlaidų pavadinimas",null,null,null,0]
["5.7","Įrangos nuomos išlaidos, veiklai priskirtos pro rata principu. Įranga turi būti tiesiogiai susijusi su projekto įgyvendinimu ir negali būti įsigyta iš ES struktūrinių fondų ar kt. ES finansinių priemonių lėšų",null,null,null,null,{"$f":"SUM(G225:G241)","v":0},{"$f":"SUM(H225:H241)","v":0},null,"Faktinės 1 mėnesio išlaidos, Eur","Naudojimo projekte trukmė, mėn."]
["5.7.1","Įrangos pavadinimas",null,"pro rata proc.",null,{"$f":"J225*K225","v":0},{"$f":"ROUND(E225*F225,2)","v":0},{"$f":"ROUND(G225*$D$7,2)","v":0}]
["5.7.2","Įrangos pavadinimas",null,"pro rata proc.",null,0,0,{"$f":"ROUND(G226*$D$7,2)","v":0}]
["5.7.3","Įrangos pavadinimas",null,"pro rata proc.",null,0,0,0]
["5.7.4","Įrangos pavadinimas",null,"pro rata proc.",null,0,0,0]
["5.7.5","Įrangos pavadinimas",null,"pro rata proc.",null,0,0,0]
["5.7.6","Įrangos pavadinimas",null,"pro rata proc.",null,0,0,0]
["5.7.7","Įrangos pavadinimas",null,"pro rata proc.",null,0,0,0]
["5.7.8","Įrangos pavadinimas",null,"pro rata proc.",null,0,0,0]
["5.7.9","Įrangos pavadinimas",null,"pro rata proc.",null,0,0,0]
["5.7.10","Įrangos pavadinimas",null,"pro rata proc.",null,0,0,0]
["5.7.11","Įrangos pavadinimas",null,"pro rata proc.",null,0,0,0]
["5.7.12","Įrangos pavadinimas",null,"pro rata proc.",null,0,0,0]
["5.7.13","Įrangos pavadinimas",null,"pro rata proc.",null,0,0,0]
["5.7.14","Įrangos pavadinimas",null,"pro rata proc.",null,{"$f":"J238*K238","v":0},0,{"$f":"ROUND(G238*$D$7,2)","v":0}]
["5.7.15","Įrangos pavadinimas",null,"pro rata proc.",null,{"$f":"J239*K239","v":0},0,{"$f":"ROUND(G239*$D$7,2)","v":0}]
["5.7.16","Įrangos pavadinimas",null,"pro rata proc.",null,{"$f":"J240*K240","v":0},0,{"$f":"ROUND(G240*$D$7,2)","v":0}]
["5.7.17","Įrangos pavadinimas",null,"pro rata proc.",null,{"$f":"J241*K241","v":0},0,{"$f":"ROUND(G241*$D$7,2)","v":0}]
["5.8","Pastatų ar patalpų nuomos išlaidos, veiklai priskirtos pro rata principu. Pastatai ar patalpos turi būti tiesiogiai susijusi su projekto įgyvendinimu.",null,null,null,null,{"$f":"SUM(G243:G247)","v":0},{"$f":"SUM(H243:H247)","v":0},null,"Faktinės 1 mėnesio išlaidos, Eur","Naudojimo projekte trukmė, mėn."]
["5.8.1","Pastato, patalpų adresas",null,"pro rata proc.",null,{"$f":"J243*K243","v":0},{"$f":"ROUND(E243*F243,2)","v":0},{"$f":"ROUND(G243*$D$7,2)","v":0}]
["5.8.2","Pastato, patalpų adresas",null,"pro rata proc.",null,{"$f":"J244*K244","v":0},{"$f":"ROUND(E244*F244,2)","v":0},{"$f":"ROUND(G244*$D$7,2)","v":0}]
["5.8.3","Pastato, patalpų adresas",null,"pro rata proc.",null,{"$f":"J245*K245","v":0},{"$f":"ROUND(E245*F245,2)","v":0},{"$f":"ROUND(G245*$D$7,2)","v":0}]
["5.8.4","Pastato, patalpų adresas",null,"pro rata proc.",null,{"$f":"J246*K246","v":0},{"$f":"ROUND(E246*F246,2)","v":0},{"$f":"ROUND(G246*$D$7,2)","v":0}]
["5.8.5","Pastato, patalpų adresas",null,"pro rata proc.",null,{"$f":"J247*K247","v":0},{"$f":"ROUND(E247*F247,2)","v":0},{"$f":"ROUND(G247*$D$7,2)","v":0}]
["5.9","Projekto veikloms vykdyti reikalingų transporto priemonių nuomos išlaidos (išlaidos yra tinkamos finansuoti tik pagal Aprašą Nr. 2 vadovaujantis de minimis reglamento nuostatomis)",null,null,null,null,{"$f":"SUM(G249:G253)","v":0},{"$f":"SUM(H249:H253)","v":0}]
["5.9.1","Išlaidų pavadinimas",null,null,null,null,{"$f":"ROUND(E249*F249,2)","v":0},{"$f":"ROUND(G249*$D$7,2)","v":0}]
["5.9.2","Išlaidų pavadinimas",null,null,null,null,{"$f":"ROUND(E250*F250,2)","v":0},{"$f":"ROUND(G250*$D$7,2)","v":0}]
["5.9.3","Išlaidų pavadinimas",null,null,null,null,{"$f":"ROUND(E251*F251,2)","v":0},{"$f":"ROUND(G251*$D$7,2)","v":0}]
["5.9.4","Išlaidų pavadinimas",null,null,null,null,{"$f":"ROUND(E252*F252,2)","v":0},{"$f":"ROUND(G252*$D$7,2)","v":0}]
["5.9.5","Išlaidų pavadinimas",null,null,null,null,{"$f":"ROUND(E253*F253,2)","v":0},{"$f":"ROUND(G253*$D$7,2)","v":0}]
["Iš viso tinkamų finansuoti išlaidų:",null,null,null,null,null,{"$f":"G10+G21","v":0},{"$f":"H10+H21","v":0}]

{"sheet":"13","index":25,"n_rows":254,"n_cols":18,"rows_kept":254,"cut":false,"hidden":false,"merged":[[5,3,5,8],[8,1,8,2],[9,1,9,5],[10,1,10,2],[11,1,11,2],[12,1,12,2],[0,3,0,8],[2,0,2,2],[2,3,2,8],[3,3,3,4],[3,5,3,6],[4,0,4,2],[4,3,4,8],[19,1,19,2],[20,1,20,5],[21,1,21,5],[22,1,22,2],[23,1,23,2],[24,1,24,2],[13,1,13,2],[14,1,14,2],[15,1,15,2],[16,1,16,2],[17,1,17,2],[18,1,18,2],[31,1,31,2],[32,1,32,5],[33,1,33,2],[34,1,34,2],[35,1,35,2],[36,1,36,2],[25,1,25,2],[26,1,26,2],[27,1,27,2],[28,1,28,2],[29,1,29,2],[30,1,30,2],[43,1,43,5],[44,1,44,2],[45,1,45,2],[46,1,46,2],[47,1,47,2],[48,1,48,2],[37,1,37,2],[38,1,38,2],[39,1,39,2],[40,1,40,2],[41,1,41,2],[42,1,42,2],[55,1,55,2],[56,1,56,2],[57,1,57,2],[58,1,58,2],[59,1,59,2],[60,1,60,2],[49,1,49,2],[50,1,50,2],[51,1,51,2],[52,1,52,2],[53,1,53,2],[54,1,54,2],[67,1,67,2],[68,1,68,2],[69,1,69,2],[70,1,70,2],[71,1,71,5],[72,1,72,2],[61,1,61,2],[62,1,62,2],[63,1,63,2],[64,1,64,2],[65,1,65,2],[66,1,66,2],[79,1,79,2],[80,1,80,2],[81,1,81,2],[82,1,82,2],[83,1,83,2],[84,1,84,2],[73,1,73,2],[74,1,74,2],[75,1,75,2],[76,1,76,2],[77,1,77,2],[78,1,78,2],[91,1,91,2],[92,1,92,2],[93,1,93,2],[94,1,94,2],[95,1,95,2],[96,1,96,2],[85,1,85,2],[86,1,86,2],[87,1,87,2],[88,1,88,2],[89,1,89,2],[90,1,90,2],[97,1,97,2],[98,1,98,2],[99,1,99,2],[100,1,100,2],[101,1,101,5],[102,0,106,0],[102,1,106,1],[102,3,106,3],[102,4,106,4],[102,5,106,5],[102,6,106,6],[102,7,106,7],[102,8,106,8],[107,0,111,0],[107,1,111,1],[107,3,111,3],[107,4,111,4],[107,5,111,5],[107,6,111,6],[107,7,111,7],[107,8,111,8],[112,0,116,0],[112,1,116,1],[112,3,116,3],[112,4,116,4],[112,5,116,5],[112,6,116,6],[112,7,116,7],[112,8,116,8],[117,7,121,7],[117,8,121,8],[122,0,126,0],[122,1,126,1],[122,3,126,3],[122,4,126,4],[122,5,126,5],[122,6,126,6],[122,7,126,7],[122,8,126,8],[117,0,121,0],[117,1,121,1],[117,3,121,3],[117,4,121,4],[117,5,121,5],[117,6,121,6],[127,7,131,7],[127,8,131,8],[132,0,136,0],[132,1,136,1],[132,3,136,3],[132,4,136,4],[132,5,136,5],[132,6,136,6],[132,7,136,7],[132,8,136,8],[127,0,131,0],[127,1,131,1],[127,3,131,3],[127,4,131,4],[127,5,131,5],[127,6,131,6],[137,7,141,7],[137,8,141,8],[142,0,146,0],[142,1,146,1],[142,3,146,3],[142,4,146,4],[142,5,146,5],[142,6,146,6],[142,7,146,7],[142,8,146,8],[137,0,141,0],[137,1,141,1],[137,3,141,3],[137,4,141,4],[137,5,141,5],[137,6,141,6],[147,7,151,7],[147,8,151,8],[152,1,152,5],[153,0,159,0],[153,1,159,1],[153,8,159,8],[147,0,151,0],[147,1,151,1],[147,3,151,3],[147,4,151,4],[147,5,151,5],[147,6,151,6],[174,0,180,0],[174,1,180,1],[174,8,180,8],[181,0,187,0],[181,1,187,1],[181,8,187,8],[160,0,166,0],[160,1,166,1],[160,8,166,8],[167,0,173,0],[167,1,173,1],[167,8,173,8],[202,0,208,0],[202,1,208,1],[202,8,208,8],[209,0,215,0],[209,1,215,1],[209,8,215,8],[188,0,194,0],[188,1,194,1],[188,8,194,8],[195,0,201,0],[195,1,201,1],[195,8,201,8],[226,1,226,2],[227,1,227,2],[228,1,228,2],[229,1,229,2],[230,1,230,2],[231,1,231,2],[216,0,222,0],[216,1,222,1],[216,8,222,8],[223,1,223,5],[224,1,224,2],[225,1,225,2],[238,1,238,2],[239,1,239,2],[240,1,240,2],[241,1,241,5],[242,1,242,2],[243,1,243,2],[232,1,232,2],[233,1,233,2],[234,1,234,2],[235,1,235,2],[236,1,236,2],[237,1,237,2],[250,1,250,2],[251,1,251,2],[252,1,252,2],[253,0,253,5],[244,1,244,2],[245,1,245,2],[246,1,246,2],[247,1,247,5],[248,1,248,2],[249,1,249,2]]}
[null,null,"Pasirinkite veiklos tipą:"]
[null,null,"Fizinio rodiklio Nr.:"]
["Fizinio rodiklio pavadinimas:"]
[null,null,"Fizinio rodiklio matavimo vnt.:",null,null,"Fizinio rodiklio vnt. skaičius:"]
["Juridinis asmuo (pareiškėjas, partneris), atsakingas už fizinį rodiklį:"]
[null,null,"Vykdytojo tipas:"]
[null,null,"Finansavimo intensyvumas:",null,null,null,"Pasirinkite biudžeto išlaidų kategoriją:","Visos"]
[]
["Eil. Nr.","Išlaidų kategorijos pavadinimas",null,"Matavimo vnt.","Kiekis","Vieneto kaina be PVM, Eur","Tinkamų finansuoti išlaidų suma be PVM, Eur","Finansavimo suma, Eur","Išlaidų pagrindimo dokumentų pavadinimas, data ir Nr."]
[4,"ĮRANGA, ĮRENGINIAI IR KT. TURTAS (techninių žinių ir išradimų patentų arba teisių pagal licencijų sutartį įsigijimo išlaidos)",null,null,null,null,{"$f":"SUM(G11:G20)","v":0},{"$f":"SUM(H11:H20)","v":0}]
["4.1","Išlaidų pavadinimas",null,null,null,null,{"$f":"ROUND(E11*F11,2)","v":0},{"$f":"ROUND(G11*$D$7,2)","v":0}]
["4.2","Išlaidų pavadinimas",null,null,null,null,0,0]
["4.3","Išlaidų pavadinimas",null,null,null,null,0,0]
["4.4","Išlaidų pavadinimas",null,null,null,null,0,0]
["4.5","Išlaidų pavadinimas",null,null,null,null,0,0]
["4.6","Išlaidų pavadinimas",null,null,null,null,0,0]
["4.7","Išlaidų pavadinimas",null,null,null,null,0,0]
["4.8","Išlaidų pavadinimas",null,null,null,null,0,0]
["4.9","Išlaidų pavadinimas",null,null,null,null,0,0]
["4.10","Išlaidų pavadinimas",null,null,null,null,0,0]
[5,"PROJEKTO VYKDYMAS",null,null,null,null,{"$f":"G22+G33+G44+G72+G102+G153+G224+G242+G248","v":0},{"$f":"H22+H33+H44+H72+H102+H153+H224+H242+H248","v":0}]
["5.1","MTEP paslaugos",null,null,null,null,{"$f":"SUM(G23:G32)","v":0},{"$f":"SUM(H23:H32)","v":0}]
["5.1.1","Paslaugos pavadinimas",null,null,null,null,{"$f":"ROUND(E23*F23,2)","v":0},0]
["5.1.2","Paslaugos pavadinimas",null,null,null,null,0,0]
["5.1.3","Paslaugos pavadinimas",null,null,null,null,0,0]
["5.1.4","Paslaugos pavadinimas",null,null,null,null,0,0]
["5.1.5","Paslaugos pavadinimas",null,null,null,null,0,0]
["5.1.6","Paslaugos pavadinimas",null,null,null,null,0,0]
["5.1.7","Paslaugos pavadinimas",null,null,null,null,0,0]
["5.1.8","Paslaugos pavadinimas",null,null,null,null,0,0]
["5.1.9","Paslaugos pavadinimas",null,null,null,null,0,0]
["5.1.10","Paslaugos pavadinimas",null,null,null,null,0,0]
["5.2","Konsultavimo ir lygiavertės paslaugos, teikiamos vien tik projekto MTEP veiklai.",null,null,null,null,{"$f":"SUM(G34:G43)","v":0},{"$f":"SUM(H34:H43)","v":0}]
["5.2.1","Paslaugos pavadinimas",null,null,null,null,{"$f":"ROUND(E34*F34,2)","v":0},0]
["5.2.2","Paslaugos pavadinimas",null,null,null,null,0,0]
["5.2.3","Paslaugos pavadinimas",null,null,null,null,0,0]
["5.2.4","Paslaugos pavadinimas",null,null,null,null,0,0]
["5.2.5","Paslaugos pavadinimas",null,null,null,null,0,0]
["5.2.6","Paslaugos pavadinimas",null,null,null,null,0,0]
["5.2.7","Paslaugos pavadinimas",null,null,null,null,0,0]
["5.2.8","Paslaugos pavadinimas",null,null,null,null,0,0]
["5.2.9","Paslaugos pavadinimas",null,null,null,null,0,0]
["5.2.10","Paslaugos pavadinimas",null,null,null,null,0,0]
["5.3","Medžiagos, mažavertis inventorius, atsargos ir pan. produktai, priskirtini trumpalaikiam turtui ir tiesiogiai susiję su MTEP veikla",null,null,null,null,{"$f":"SUM(G45:G71)","v":0},{"$f":"SUM(H45:H71)","v":0}]
["5.3.1","Išlaidų pavadinimas",null,null,null,null,{"$f":"ROUND(E45*F45,2)","v":0},{"$f":"ROUND(G45*$D$7,2)","v":0}]
["5.3.2","Išlaidų pavadinimas",null,null,null,null,{"$f":"ROUND(E46*F46,2)","v":0},{"$f":"ROUND(G46*$D$7,2)","v":0}]
["5.3.3","Išlaidų pavadinimas",null,null,null,null,{"$f":"ROUND(E47*F47,2)","v":0},{"$f":"ROUND(G47*$D$7,2)","v":0}]
["5.3.4","Išlaidų pavadinimas",null,null,null,null,{"$f":"ROUND(E48*F48,2)","v":0},{"$f":"ROUND(G48*$D$7,2)","v":0}]
["5.3.5","Išlaidų pavadinimas",null,null,null,null,{"$f":"ROUND(E49*F49,2)","v":0},{"$f":"ROUND(G49*$D$7,2)","v":0}]
["5.3.6","Išlaidų pavadinimas",null,null,null,null,0,0]
["5.3.7","Išlaidų pavadinimas",null,null,null,null,0,0]
["5.3.8","Išlaidų pavadinimas",null,null,null,null,0,0]
["5.3.9","Išlaidų pavadinimas",null,null,null,null,0,0]
["5.3.10","Išlaidų pavadinimas",null,null,null,null,0,0]
["5.3.11","Išlaidų pavadinimas",null,null,null,null,0,0]
["5.3.12","Išlaidų pavadinimas",null,null,null,null,0,0]
["5.3.13","Išlaidų pavadinimas",null,null,null,null,0,0]
["5.3.14","Išlaidų pavadinimas",null,null,null,null,0,0]
["5.3.15","Išlaidų pavadinimas",null,null,null,null,0,0]
["5.3.16","Išlaidų pavadinimas",null,null,null,null,0,0]
["5.3.17","Išlaidų pavadinimas",null,null,null,null,0,0]
["5.3.18","Išlaidų pavadinimas",null,null,null,null,0,0]
["5.3.19","Išlaidų pavadinimas",null,null,null,null,0,0]
["5.3.20","Išlaidų pavadinimas",null,null,null,null,0,0]
["5.3.21","Išlaidų pavadinimas",null,null,null,null,0,0]
["5.3.22","Išlaidų pavadinimas",null,null,null,null,0,0]
["5.3.23","Išlaidų pavadinimas",null,null,null,null,0,0]
["5.3.24","Išlaidų pavadinimas",null,null,null,null,0,0]
["5.3.25","Išlaidų pavadinimas",null,null,null,null,0,0]
["5.3.26","Išlaidų pavadinimas",null,null,null,null,0,0]
["5.3.27","Išlaidų pavadinimas",null,null,null,null,0,0]
["5.4","Projekto MTEP veikloms naudojamo ilgalaikio materialaus turto (įrangos, prietaisų, įrankių, įrenginių, mašinų ir įrengimų, pastatų ir (ar) patalpų), nusidėvėjimo sąnaudos, jeigu šiam turtui įsigyti nebuvo naudojamos viešosios (įskaitant ir kitų valstybių) lėšos",null,null,null,null,{"$f":"SUM(G73:G101)","v":0},{"$f":"SUM(H73:H101)","v":0},null,"Turto įvedimo į eksploataciją data","Turto įsigijimo vertė, Eur","Turto nudėvėjimo, amortizacijos laikotarpis, mėn.","Numatoma turto likutinė vertė, Eur","1 mėn. nudėvėjimo, amortizacijos suma, Eur","Turto naudojamo projekto reikmėms laikas, mėn.","Turto panaudojimo projekto reikmėms dalis (proc.)","Projektui priskirta turto nusidėvėjimo, amortizacijos suma per projekto laikotarpį, Eur"]
["5.4.1","Turtas, kurio nusidėvėjimą, amortizaciją prašoma finansuoti",null,null,1,{"$f":"Q73","v":0},{"$f":"ROUND(E73*F73,2)","v":0},0,null,null,null,null,null,{"$f":"IFERROR(ROUND((K73-M73)/L73,2),\"0\")","v":"0"},null,null,{"$f":"N73*O73*P73","v":0},{"$f":"IF(J73=0,\" \",IF(J73+(L73*30.5)<TODAY(),\"DĖMESIO! Patikrinkite, ar nurodytas turtas dar nėra nudėvėtas, amortizuotas\",\" \"))","v":" "}]
["5.4.2","Turtas, kurio nusidėvėjimą, amortizaciją prašoma finansuoti",null,null,1,0,0,0,null,null,null,null,null,{"$f":"IFERROR(ROUND((K74-M74)/L74,2),\"0\")","v":"0"},null,null,{"$f":"N74*O74*P74","v":0},{"$f":"IF(J74=0,\" \",IF(J74+(L74*30.5)<TODAY(),\"DĖMESIO! Patikrinkite, ar nurodytas turtas dar nėra nudėvėtas, amortizuotas\",\" \"))","v":" "}]
["5.4.3","Turtas, kurio nusidėvėjimą, amortizaciją prašoma finansuoti",null,null,1,0,0,0,null,null,null,null,null,"0",null,null,0," "]
["5.4.4","Turtas, kurio nusidėvėjimą, amortizaciją prašoma finansuoti",null,null,1,0,0,0,null,null,null,null,null,"0",null,null,0," "]
["5.4.5","Turtas, kurio nusidėvėjimą, amortizaciją prašoma finansuoti",null,null,1,0,0,0,null,null,null,null,null,"0",null,null,0," "]
["5.4.6","Turtas, kurio nusidėvėjimą, amortizaciją prašoma finansuoti",null,null,1,0,0,0,null,null,null,null,null,"0",null,null,0," "]
["5.4.7","Turtas, kurio nusidėvėjimą, amortizaciją prašoma finansuoti",null,null,1,0,0,0,null,null,null,null,null,"0",null,null,0," "]
["5.4.8","Turtas, kurio nusidėvėjimą, amortizaciją prašoma finansuoti",null,null,1,0,0,0,null,null,null,null,null,"0",null,null,0," "]
["5.4.9","Turtas, kurio nusidėvėjimą, amortizaciją prašoma finansuoti",null,null,1,0,0,0,null,null,null,null,null,"0",null,null,0," "]
["5.4.10","Turtas, kurio nusidėvėjimą, amortizaciją prašoma finansuoti",null,null,1,0,0,0,null,null,null,null,null,"0",null,null,0," "]
["5.4.11","Turtas, kurio nusidėvėjimą, amortizaciją prašoma finansuoti",null,null,1,0,0,0,null,null,null,null,null,"0",null,null,0," "]
["5.4.12","Turtas, kurio nusidėvėjimą, amortizaciją prašoma finansuoti",null,null,1,0,0,0,null,null,null,null,null,"0",null,null,0," "]
["5.4.13","Turtas, kurio nusidėvėjimą, amortizaciją prašoma finansuoti",null,null,1,0,0,0,null,null,null,null,null,"0",null,null,0," "]
["5.4.14","Turtas, kurio nusidėvėjimą, amortizaciją prašoma finansuoti",null,null,1,0,0,0,null,null,null,null,null,"0",null,null,0," "]
["5.4.15","Turtas, kurio nusidėvėjimą, amortizaciją prašoma finansuoti",null,null,1,0,0,0,null,null,null,null,null,"0",null,null,0," "]
["5.4.16","Turtas, kurio nusidėvėjimą, amortizaciją prašoma finansuoti",null,null,1,0,0,0,null,null,null,null,null,"0",null,null,0," "]
["5.4.17","Turtas, kurio nusidėvėjimą, amortizaciją prašoma finansuoti",null,null,1,0,0,0,null,null,null,null,null,"0",null,null,0," "]
["5.4.18","Turtas, kurio nusidėvėjimą, amortizaciją prašoma finansuoti",null,null,1,0,0,0,null,null,null,null,null,"0",null,null,0," "]
["5.4.19","Turtas, kurio nusidėvėjimą, amortizaciją prašoma finansuoti",null,null,1,0,0,0,null,null,null,null,null,"0",null,null,0," "]
["5.4.20","Turtas, kurio nusidėvėjimą, amortizaciją prašoma finansuoti",null,null,1,0,0,0,null,null,null,null,null,"0",null,null,0," "]
["5.4.21","Turtas, kurio nusidėvėjimą, amortizaciją prašoma finansuoti",null,null,1,0,0,0,null,null,null,null,null,"0",null,null,0," "]
["5.4.22","Turtas, kurio nusidėvėjimą, amortizaciją prašoma finansuoti",null,null,1,0,0,0,null,null,null,null,null,"0",null,null,0," "]
["5.4.23","Turtas, kurio nusidėvėjimą, amortizaciją prašoma finansuoti",null,null,1,0,0,0,null,null,null,null,null,"0",null,null,0," "]
["5.4.24","Turtas, kurio nusidėvėjimą, amortizaciją prašoma finansuoti",null,null,1,0,0,0,null,null,null,null,null,"0",null,null,0," "]
["5.4.25","Turtas, kurio nusidėvėjimą, amortizaciją prašoma finansuoti",null,null,1,0,0,0,null,null,null,null,null,"0",null,null,0," "]
["5.4.26","Turtas, kurio nusidėvėjimą, amortizaciją prašoma finansuoti",null,null,1,0,0,0,null,null,null,null,null,"0",null,null,0," "]
["5.4.27","Turtas, kurio nusidėvėjimą, amortizaciją prašoma finansuoti",null,null,1,0,0,0,null,null,null,null,null,"0",null,null,0," "]
["5.4.28","Turtas, kurio nusidėvėjimą, amortizaciją prašoma finansuoti",null,null,1,0,0,0,null,null,null,null,null,"0",null,null,0," "]
["5.4.29","Turtas, kurio nusidėvėjimą, amortizaciją prašoma finansuoti",null,null,1,0,0,0,null,null,null,null,null,"0",null,null,0," "]
["5.5","Projektą vykdančio personalo darbo užmokestis ir išlaidos su darbo santykiais susijusiems darbdavio įsipareigojimams",null,null,null,null,{"$f":"SUM(G103:G152)","v":0},{"$f":"SUM(H103:H152)","v":0},null,"Faktiškai gaunamas darbo užmokesti už 1 valandą pagal  pastarųjų 6 mėn. vidurkį, Eur"]
["5.5.1","Pareigybės pavadinimas","Darbuotojo vardas pavardė","val.",null,{"$f":"IFERROR(ROUND(AVERAGE(J103:J107),2),\"0\")","v":"0"},{"$f":"ROUND(E103*F103,2)","v":0},{"$f":"ROUND(G103*$D$7,2)","v":0}]
[null,null,"Darbuotojo vardas pavardė"]
[null,null,"Darbuotojo vardas pavardė"]
[null,null,"Darbuotojo vardas pavardė"]
[null,null,"Darbuotojo vardas pavardė"]
["5.5.2","Pareigybės pavadinimas","Darbuotojo vardas pavardė","val.",null,{"$f":"IFERROR(ROUND(AVERAGE(J108:J112),2),\"0\")","v":"0"},{"$f":"ROUND(E108*F108,2)","v":0},{"$f":"ROUND(G108*$D$7,2)","v":0}]
[null,null,"Darbuotojo vardas pavardė"]
[null,null,"Darbuotojo vardas pavardė"]
[null,null,"Darbuotojo vardas pavardė"]
[null,null,"Darbuotojo vardas pavardė"]
["5.5.3","Pareigybės pavadinimas","Darbuotojo vardas pavardė","val.",null,{"$f":"IFERROR(ROUND(AVERAGE(J113:J117),2),\"0\")","v":"0"},{"$f":"ROUND(E113*F113,2)","v":0},{"$f":"ROUND(G113*$D$7,2)","v":0}]
[null,null,"Darbuotojo vardas pavardė"]
[null,null,"Darbuotojo vardas pavardė"]
[null,null,"Darbuotojo vardas pavardė"]
[null,null,"Darbuotojo vardas pavardė"]
["5.5.4","Pareigybės pavadinimas","Darbuotojo vardas pavardė","val.",null,{"$f":"IFERROR(ROUND(AVERAGE(J118:J122),2),\"0\")","v":"0"},{"$f":"ROUND(E118*F118,2)","v":0},{"$f":"ROUND(G118*$D$7,2)","v":0}]
[null,null,"Darbuotojo vardas pavardė"]
[null,null,"Darbuotojo vardas pavardė"]
[null,null,"Darbuotojo vardas pavardė"]
[null,null,"Darbuotojo vardas pavardė"]
["5.5.5","Pareigybės pavadinimas","Darbuotojo vardas pavardė","val.",null,{"$f":"IFERROR(ROUND(AVERAGE(J123:J127),2),\"0\")","v":"0"},{"$f":"ROUND(E123*F123,2)","v":0},{"$f":"ROUND(G123*$D$7,2)","v":0}]
[null,null,"Darbuotojo vardas pavardė"]
[null,null,"Darbuotojo vardas pavardė"]
[null,null,"Darbuotojo vardas pavardė"]
[null,null,"Darbuotojo vardas pavardė"]
["5.5.6","Pareigybės pavadinimas","Darbuotojo vardas pavardė","val.",null,{"$f":"IFERROR(ROUND(AVERAGE(J128:J132),2),\"0\")","v":"0"},{"$f":"ROUND(E128*F128,2)","v":0},{"$f":"ROUND(G128*$D$7,2)","v":0}]
[null,null,"Darbuotojo vardas pavardė"]
[null,null,"Darbuotojo vardas pavardė"]
[null,null,"Darbuotojo vardas pavardė"]
[null,null,"Darbuotojo vardas pavardė"]
["5.5.7","Pareigybės pavadinimas","Darbuotojo vardas pavardė","val.",null,{"$f":"IFERROR(ROUND(AVERAGE(J133:J137),2),\"0\")","v":"0"},{"$f":"ROUND(E133*F133,2)","v":0},{"$f":"ROUND(G133*$D$7,2)","v":0}]
[null,null,"Darbuotojo vardas pavardė"]
[null,null,"Darbuotojo vardas pavardė"]
[null,null,"Darbuotojo vardas pavardė"]
[null,null,"Darbuotojo vardas pavardė"]
["5.5.8","Pareigybės pavadinimas","Darbuotojo vardas pavardė","val.",null,{"$f":"IFERROR(ROUND(AVERAGE(J138:J142),2),\"0\")","v":"0"},{"$f":"ROUND(E138*F138,2)","v":0},{"$f":"ROUND(G138*$D$7,2)","v":0}]
[null,null,"Darbuotojo vardas pavardė"]
[null,null,"Darbuotojo vardas pavardė"]
[null,null,"Darbuotojo vardas pavardė"]
[null,null,"Darbuotojo vardas pavardė"]
["5.5.9","Pareigybės pavadinimas","Darbuotojo vardas pavardė","val.",null,{"$f":"IFERROR(ROUND(AVERAGE(J143:J147),2),\"0\")","v":"0"},{"$f":"ROUND(E143*F143,2)","v":0},{"$f":"ROUND(G143*$D$7,2)","v":0}]
[null,null,"Darbuotojo vardas pavardė"]
[null,null,"Darbuotojo vardas pavardė"]
[null,null,"Darbuotojo vardas pavardė"]
[null,null,"Darbuotojo vardas pavardė"]
["5.5.10","Pareigybės pavadinimas","Darbuotojo vardas pavardė","val.",null,{"$f":"IFERROR(ROUND(AVERAGE(J148:J152),2),\"0\")","v":"0"},{"$f":"ROUND(E148*F148,2)","v":0},{"$f":"ROUND(G148*$D$7,2)","v":0}]
[null,null,"Darbuotojo vardas pavardė"]
[null,null,"Darbuotojo vardas pavardė"]
[null,null,"Darbuotojo vardas pavardė"]
[null,null,"Darbuotojo vardas pavardė"]
["5.6","Projektą vykdančio personalo komandiruočių išlaidos",null,null,null,null,{"$f":"SUM(G154,G161,G168,G175,G182,G189,G196,G203,G210,G217)","v":0},{"$f":"SUM(H154,H161,H168,H175,H182,H189,H196,H203,H210,H217)","v":0}]
["5.6.1","Komandiruotės pavadinimas, vieta, trukmė dienomis, vykstančių asmenų skaičius","Iš viso komandiruotei",null,null,null,{"$f":"SUM(G155:G160)","v":0},{"$f":"ROUND(G154*$D$7,2)","v":0}]
[null,null,"Dienpinigiai",null,null,null,{"$f":"ROUND(E155*F155,2)","v":0}]
[null,null,"Gyvenamojo ploto nuoma",null,null,null,0]
[null,null,"Kelionės išlaidos",null,null,null,0]
[null,null,"Dalyvavimo mokestis",null,null,null,0]
[null,null,"Kitos išlaidų pavadinimas",null,null,null,0]
[null,null,"Kitos išlaidų pavadinimas",null,null,null,0]
["5.6.2","Komandiruotės pavadinimas, vieta, trukmė dienomis, vykstančių asmenų skaičius","Iš viso komandiruotei",null,null,null,{"$f":"SUM(G162:G167)","v":0},{"$f":"ROUND(G161*$D$7,2)","v":0}]
[null,null,"Dienpinigiai",null,null,null,{"$f":"ROUND(E162*F162,2)","v":0}]
[null,null,"Gyvenamojo ploto nuoma",null,null,null,0]
[null,null,"Kelionės išlaidos",null,null,null,0]
[null,null,"Dalyvavimo mokestis",null,null,null,0]
[null,null,"Kitos išlaidų pavadinimas",null,null,null,0]
[null,null,"Kitos išlaidų pavadinimas",null,null,null,0]
["5.6.3","Komandiruotės pavadinimas, vieta, trukmė dienomis, vykstančių asmenų skaičius","Iš viso komandiruotei",null,null,null,{"$f":"SUM(G169:G174)","v":0},{"$f":"ROUND(G168*$D$7,2)","v":0}]
[null,null,"Dienpinigiai",null,null,null,{"$f":"ROUND(E169*F169,2)","v":0}]
[null,null,"Gyvenamojo ploto nuoma",null,null,null,0]
[null,null,"Kelionės išlaidos",null,null,null,0]
[null,null,"Dalyvavimo mokestis",null,null,null,0]
[null,null,"Kitos išlaidų pavadinimas",null,null,null,0]
[null,null,"Kitos išlaidų pavadinimas",null,null,null,0]
["5.6.4","Komandiruotės pavadinimas, vieta, trukmė dienomis, vykstančių asmenų skaičius","Iš viso komandiruotei",null,null,null,{"$f":"SUM(G176:G181)","v":0},{"$f":"ROUND(G175*$D$7,2)","v":0}]
[null,null,"Dienpinigiai",null,null,null,{"$f":"ROUND(E176*F176,2)","v":0}]
[null,null,"Gyvenamojo ploto nuoma",null,null,null,0]
[null,null,"Kelionės išlaidos",null,null,null,0]
[null,null,"Dalyvavimo mokestis",null,null,null,0]
[null,null,"Kitos išlaidų pavadinimas",null,null,null,0]
[null,null,"Kitos išlaidų pavadinimas",null,null,null,0]
["5.6.5","Komandiruotės pavadinimas, vieta, trukmė dienomis, vykstančių asmenų skaičius","Iš viso komandiruotei",null,null,null,{"$f":"SUM(G183:G188)","v":0},{"$f":"ROUND(G182*$D$7,2)","v":0}]
[null,null,"Dienpinigiai",null,null,null,{"$f":"ROUND(E183*F183,2)","v":0}]
[null,null,"Gyvenamojo ploto nuoma",null,null,null,0]
[null,null,"Kelionės išlaidos",null,null,null,0]
[null,null,"Dalyvavimo mokestis",null,null,null,0]
[null,null,"Kitos išlaidų pavadinimas",null,null,null,0]
[null,null,"Kitos išlaidų pavadinimas",null,null,null,0]
["5.6.6","Komandiruotės pavadinimas, vieta, trukmė dienomis, vykstančių asmenų skaičius","Iš viso komandiruotei",null,null,null,{"$f":"SUM(G190:G195)","v":0},{"$f":"ROUND(G189*$D$7,2)","v":0}]
[null,null,"Dienpinigiai",null,null,null,{"$f":"ROUND(E190*F190,2)","v":0}]
[null,null,"Gyvenamojo ploto nuoma",null,null,null,0]
[null,null,"Kelionės išlaidos",null,null,null,0]
[null,null,"Dalyvavimo mokestis",null,null,null,0]
[null,null,"Kitos išlaidų pavadinimas",null,null,null,0]
[null,null,"Kitos išlaidų pavadinimas",null,null,null,0]
["5.6.7","Komandiruotės pavadinimas, vieta, trukmė dienomis, vykstančių asmenų skaičius","Iš viso komandiruotei",null,null,null,{"$f":"SUM(G197:G202)","v":0},{"$f":"ROUND(G196*$D$7,2)","v":0}]
[null,null,"Dienpinigiai",null,null,null,{"$f":"ROUND(E197*F197,2)","v":0}]
[null,null,"Gyvenamojo ploto nuoma",null,null,null,0]
[null,null,"Kelionės išlaidos",null,null,null,0]
[null,null,"Dalyvavimo mokestis",null,null,null,0]
[null,null,"Kitos išlaidų pavadinimas",null,null,null,0]
[null,null,"Kitos išlaidų pavadinimas",null,null,null,0]
["5.6.8","Komandiruotės pavadinimas, vieta, trukmė dienomis, vykstančių asmenų skaičius","Iš viso komandiruotei",null,null,null,{"$f":"SUM(G204:G209)","v":0},{"$f":"ROUND(G203*$D$7,2)","v":0}]
[null,null,"Dienpinigiai",null,null,null,{"$f":"ROUND(E204*F204,2)","v":0}]
[null,null,"Gyvenamojo ploto nuoma",null,null,null,0]
[null,null,"Kelionės išlaidos",null,null,null,0]
[null,null,"Dalyvavimo mokestis",null,null,null,0]
[null,null,"Kitos išlaidų pavadinimas",null,null,null,0]
[null,null,"Kitos išlaidų pavadinimas",null,null,null,0]
["5.6.9","Komandiruotės pavadinimas, vieta, trukmė dienomis, vykstančių asmenų skaičius","Iš viso komandiruotei",null,null,null,{"$f":"SUM(G211:G216)","v":0},{"$f":"ROUND(G210*$D$7,2)","v":0}]
[null,null,"Dienpinigiai",null,null,null,{"$f":"ROUND(E211*F211,2)","v":0}]
[null,null,"Gyvenamojo ploto nuoma",null,null,null,0]
[null,null,"Kelionės išlaidos",null,null,null,0]
[null,null,"Dalyvavimo mokestis",null,null,null,0]
[null,null,"Kitos išlaidų pavadinimas",null,null,null,0]
[null,null,"Kitos išlaidų pavadinimas",null,null,null,0]
["5.6.10","Komandiruotės pavadinimas, vieta, trukmė dienomis, vykstančių asmenų skaičius","Iš viso komandiruotei",null,null,null,{"$f":"SUM(G218:G223)","v":0},{"$f":"ROUND(G217*$D$7,2)","v":0}]
[null,null,"Dienpinigiai",null,null,null,{"$f":"ROUND(E218*F218,2)","v":0}]
[null,null,"Gyvenamojo ploto nuoma",null,null,null,0]
[null,null,"Kelionės išlaidos",null,null,null,0]
[null,null,"Dalyvavimo mokestis",null,null,null,0]
[null,null,"Kitos išlaidų pavadinimas",null,null,null,0]
[null,null,"Kitos išlaidų pavadinimas",null,null,null,0]
["5.7","Įrangos nuomos išlaidos, veiklai priskirtos pro rata principu. Įranga turi būti tiesiogiai susijusi su projekto įgyvendinimu ir negali būti įsigyta iš ES struktūrinių fondų ar kt. ES finansinių priemonių lėšų",null,null,null,null,{"$f":"SUM(G225:G241)","v":0},{"$f":"SUM(H225:H241)","v":0},null,"Faktinės 1 mėnesio išlaidos, Eur","Naudojimo projekte trukmė, mėn."]
["5.7.1","Įrangos pavadinimas",null,"pro rata proc.",null,{"$f":"J225*K225","v":0},{"$f":"ROUND(E225*F225,2)","v":0},{"$f":"ROUND(G225*$D$7,2)","v":0}]
["5.7.2","Įrangos pavadinimas",null,"pro rata proc.",null,0,0,{"$f":"ROUND(G226*$D$7,2)","v":0}]
["5.7.3","Įrangos pavadinimas",null,"pro rata proc.",null,0,0,0]
["5.7.4","Įrangos pavadinimas",null,"pro rata proc.",null,0,0,0]
["5.7.5","Įrangos pavadinimas",null,"pro rata proc.",null,0,0,0]
["5.7.6","Įrangos pavadinimas",null,"pro rata proc.",null,0,0,0]
["5.7.7","Įrangos pavadinimas",null,"pro rata proc.",null,0,0,0]
["5.7.8","Įrangos pavadinimas",null,"pro rata proc.",null,0,0,0]
["5.7.9","Įrangos pavadinimas",null,"pro rata proc.",null,0,0,0]
["5.7.10","Įrangos pavadinimas",null,"pro rata proc.",null,0,0,0]
["5.7.11","Įrangos pavadinimas",null,"pro rata proc.",null,0,0,0]
["5.7.12","Įrangos pavadinimas",null,"pro rata proc.",null,0,0,0]
["5.7.13","Įrangos pavadinimas",null,"pro rata proc.",null,0,0,0]
["5.7.14","Įrangos pavadinimas",null,"pro rata proc.",null,{"$f":"J238*K238","v":0},0,{"$f":"ROUND(G238*$D$7,2)","v":0}]
["5.7.15","Įrangos pavadinimas",null,"pro rata proc.",null,{"$f":"J239*K239","v":0},0,{"$f":"ROUND(G239*$D$7,2)","v":0}]
["5.7.16","Įrangos pavadinimas",null,"pro rata proc.",null,{"$f":"J240*K240","v":0},0,{"$f":"ROUND(G240*$D$7,2)","v":0}]
["5.7.17","Įrangos pavadinimas",null,"pro rata proc.",null,{"$f":"J241*K241","v":0},0,{"$f":"ROUND(G241*$D$7,2)","v":0}]
["5.8","Pastatų ar patalpų nuomos išlaidos, veiklai priskirtos pro rata principu. Pastatai ar patalpos turi būti tiesiogiai susijusi su projekto įgyvendinimu.",null,null,null,null,{"$f":"SUM(G243:G247)","v":0},{"$f":"SUM(H243:H247)","v":0},null,"Faktinės 1 mėnesio išlaidos, Eur","Naudojimo projekte trukmė, mėn."]
["5.8.1","Pastato, patalpų adresas",null,"pro rata proc.",null,{"$f":"J243*K243","v":0},{"$f":"ROUND(E243*F243,2)","v":0},{"$f":"ROUND(G243*$D$7,2)","v":0}]
["5.8.2","Pastato, patalpų adresas",null,"pro rata proc.",null,{"$f":"J244*K244","v":0},{"$f":"ROUND(E244*F244,2)","v":0},{"$f":"ROUND(G244*$D$7,2)","v":0}]
["5.8.3","Pastato, patalpų adresas",null,"pro rata proc.",null,{"$f":"J245*K245","v":0},{"$f":"ROUND(E245*F245,2)","v":0},{"$f":"ROUND(G245*$D$7,2)","v":0}]
["5.8.4","Pastato, patalpų adresas",null,"pro rata proc.",null,{"$f":"J246*K246","v":0},{"$f":"ROUND(E246*F246,2)","v":0},{"$f":"ROUND(G246*$D$7,2)","v":0}]
["5.8.5","Pastato, patalpų adresas",null,"pro rata proc.",null,{"$f":"J247*K247","v":0},{"$f":"ROUND(E247*F247,2)","v":0},{"$f":"ROUND(G247*$D$7,2)","v":0}]
["5.9","Projekto veikloms vykdyti reikalingų transporto priemonių nuomos išlaidos (išlaidos yra tinkamos finansuoti tik pagal Aprašą Nr. 2 vadovaujantis de minimis reglamento nuostatomis)",null,null,null,null,{"$f":"SUM(G249:G253)","v":0},{"$f":"SUM(H249:H253)","v":0}]
["5.9.1","Išlaidų pavadinimas",null,null,null,null,{"$f":"ROUND(E249*F249,2)","v":0},{"$f":"ROUND(G249*$D$7,2)","v":0}]
["5.9.2","Išlaidų pavadinimas",null,null,null,null,{"$f":"ROUND(E250*F250,2)","v":0},{"$f":"ROUND(G250*$D$7,2)","v":0}]
["5.9.3","Išlaidų pavadinimas",null,null,null,null,{"$f":"ROUND(E251*F251,2)","v":0},{"$f":"ROUND(G251*$D$7,2)","v":0}]
["5.9.4","Išlaidų pavadinimas",null,null,null,null,{"$f":"ROUND(E252*F252,2)","v":0},{"$f":"ROUND(G252*$D$7,2)","v":0}]
["5.9.5","Išlaidų pavadinimas",null,null,null,null,{"$f":"ROUND(E253*F253,2)","v":0},{"$f":"ROUND(G253*$D$7,2)","v":0}]
["Iš viso tinkamų finansuoti išlaidų:",null,null,null,null,null,{"$f":"G10+G21","v":0},{"$f":"H10+H21","v":0}]

{"sheet":"14","index":26,"n_rows":254,"n_cols":18,"rows_kept":254,"cut":false,"hidden":false,"merged":[[5,3,5,8],[8,1,8,2],[9,1,9,5],[10,1,10,2],[11,1,11,2],[12,1,12,2],[0,3,0,8],[2,0,2,2],[2,3,2,8],[3,3,3,4],[3,5,3,6],[4,0,4,2],[4,3,4,8],[19,1,19,2],[20,1,20,5],[21,1,21,5],[22,1,22,2],[23,1,23,2],[24,1,24,2],[13,1,13,2],[14,1,14,2],[15,1,15,2],[16,1,16,2],[17,1,17,2],[18,1,18,2],[31,1,31,2],[32,1,32,5],[33,1,33,2],[34,1,34,2],[35,1,35,2],[36,1,36,2],[25,1,25,2],[26,1,26,2],[27,1,27,2],[28,1,28,2],[29,1,29,2],[30,1,30,2],[43,1,43,5],[44,1,44,2],[45,1,45,2],[46,1,46,2],[47,1,47,2],[48,1,48,2],[37,1,37,2],[38,1,38,2],[39,1,39,2],[40,1,40,2],[41,1,41,2],[42,1,42,2],[55,1,55,2],[56,1,56,2],[57,1,57,2],[58,1,58,2],[59,1,59,2],[60,1,60,2],[49,1,49,2],[50,1,50,2],[51,1,51,2],[52,1,52,2],[53,1,53,2],[54,1,54,2],[67,1,67,2],[68,1,68,2],[69,1,69,2],[70,1,70,2],[71,1,71,5],[72,1,72,2],[61,1,61,2],[62,1,62,2],[63,1,63,2],[64,1,64,2],[65,1,65,2],[66,1,66,2],[79,1,79,2],[80,1,80,2],[81,1,81,2],[82,1,82,2],[83,1,83,2],[84,1,84,2],[73,1,73,2],[74,1,74,2],[75,1,75,2],[76,1,76,2],[77,1,77,2],[78,1,78,2],[91,1,91,2],[92,1,92,2],[93,1,93,2],[94,1,94,2],[95,1,95,2],[96,1,96,2],[85,1,85,2],[86,1,86,2],[87,1,87,2],[88,1,88,2],[89,1,89,2],[90,1,90,2],[97,1,97,2],[98,1,98,2],[99,1,99,2],[100,1,100,2],[101,1,101,5],[102,0,106,0],[102,1,106,1],[102,3,106,3],[102,4,106,4],[102,5,106,5],[102,6,106,6],[102,7,106,7],[102,8,106,8],[107,0,111,0],[107,1,111,1],[107,3,111,3],[107,4,111,4],[107,5,111,5],[107,6,111,6],[107,7,111,7],[107,8,111,8],[112,0,116,0],[112,1,116,1],[112,3,116,3],[112,4,116,4],[112,5,116,5],[112,6,116,6],[112,7,116,7],[112,8,116,8],[117,7,121,7],[117,8,121,8],[122,0,126,0],[122,1,126,1],[122,3,126,3],[122,4,126,4],[122,5,126,5],[122,6,126,6],[122,7,126,7],[122,8,126,8],[117,0,121,0],[117,1,121,1],[117,3,121,3],[117,4,121,4],[117,5,121,5],[117,6,121,6],[127,7,131,7],[127,8,131,8],[132,0,136,0],[132,1,136,1],[132,3,136,3],[132,4,136,4],[132,5,136,5],[132,6,136,6],[132,7,136,7],[132,8,136,8],[127,0,131,0],[127,1,131,1],[127,3,131,3],[127,4,131,4],[127,5,131,5],[127,6,131,6],[137,7,141,7],[137,8,141,8],[142,0,146,0],[142,1,146,1],[142,3,146,3],[142,4,146,4],[142,5,146,5],[142,6,146,6],[142,7,146,7],[142,8,146,8],[137,0,141,0],[137,1,141,1],[137,3,141,3],[137,4,141,4],[137,5,141,5],[137,6,141,6],[147,7,151,7],[147,8,151,8],[152,1,152,5],[153,0,159,0],[153,1,159,1],[153,8,159,8],[147,0,151,0],[147,1,151,1],[147,3,151,3],[147,4,151,4],[147,5,151,5],[147,6,151,6],[174,0,180,0],[174,1,180,1],[174,8,180,8],[181,0,187,0],[181,1,187,1],[181,8,187,8],[160,0,166,0],[160,1,166,1],[160,8,166,8],[167,0,173,0],[167,1,173,1],[167,8,173,8],[202,0,208,0],[202,1,208,1],[202,8,208,8],[209,0,215,0],[209,1,215,1],[209,8,215,8],[188,0,194,0],[188,1,194,1],[188,8,194,8],[195,0,201,0],[195,1,201,1],[195,8,201,8],[226,1,226,2],[227,1,227,2],[228,1,228,2],[229,1,229,2],[230,1,230,2],[231,1,231,2],[216,0,222,0],[216,1,222,1],[216,8,222,8],[223,1,223,5],[224,1,224,2],[225,1,225,2],[238,1,238,2],[239,1,239,2],[240,1,240,2],[241,1,241,5],[242,1,242,2],[243,1,243,2],[232,1,232,2],[233,1,233,2],[234,1,234,2],[235,1,235,2],[236,1,236,2],[237,1,237,2],[250,1,250,2],[251,1,251,2],[252,1,252,2],[253,0,253,5],[244,1,244,2],[245,1,245,2],[246,1,246,2],[247,1,247,5],[248,1,248,2],[249,1,249,2]]}
[null,null,"Pasirinkite veiklos tipą:"]
[null,null,"Fizinio rodiklio Nr.:"]
["Fizinio rodiklio pavadinimas:"]
[null,null,"Fizinio rodiklio matavimo vnt.:",null,null,"Fizinio rodiklio vnt. skaičius:"]
["Juridinis asmuo (pareiškėjas, partneris), atsakingas už fizinį rodiklį:"]
[null,null,"Vykdytojo tipas:"]
[null,null,"Finansavimo intensyvumas:",null,null,null,"Pasirinkite biudžeto išlaidų kategoriją:","Visos"]
[]
["Eil. Nr.","Išlaidų kategorijos pavadinimas",null,"Matavimo vnt.","Kiekis","Vieneto kaina be PVM, Eur","Tinkamų finansuoti išlaidų suma be PVM, Eur","Finansavimo suma, Eur","Išlaidų pagrindimo dokumentų pavadinimas, data ir Nr."]
[4,"ĮRANGA, ĮRENGINIAI IR KT. TURTAS (techninių žinių ir išradimų patentų arba teisių pagal licencijų sutartį įsigijimo išlaidos)",null,null,null,null,{"$f":"SUM(G11:G20)","v":0},{"$f":"SUM(H11:H20)","v":0}]
["4.1","Išlaidų pavadinimas",null,null,null,null,{"$f":"ROUND(E11*F11,2)","v":0},{"$f":"ROUND(G11*$D$7,2)","v":0}]
["4.2","Išlaidų pavadinimas",null,null,null,null,0,0]
["4.3","Išlaidų pavadinimas",null,null,null,null,0,0]
["4.4","Išlaidų pavadinimas",null,null,null,null,0,0]
["4.5","Išlaidų pavadinimas",null,null,null,null,0,0]
["4.6","Išlaidų pavadinimas",null,null,null,null,0,0]
["4.7","Išlaidų pavadinimas",null,null,null,null,0,0]
["4.8","Išlaidų pavadinimas",null,null,null,null,0,0]
["4.9","Išlaidų pavadinimas",null,null,null,null,0,0]
["4.10","Išlaidų pavadinimas",null,null,null,null,0,0]
[5,"PROJEKTO VYKDYMAS",null,null,null,null,{"$f":"G22+G33+G44+G72+G102+G153+G224+G242+G248","v":0},{"$f":"H22+H33+H44+H72+H102+H153+H224+H242+H248","v":0}]
["5.1","MTEP paslaugos",null,null,null,null,{"$f":"SUM(G23:G32)","v":0},{"$f":"SUM(H23:H32)","v":0}]
["5.1.1","Paslaugos pavadinimas",null,null,null,null,{"$f":"ROUND(E23*F23,2)","v":0},0]
["5.1.2","Paslaugos pavadinimas",null,null,null,null,0,0]
["5.1.3","Paslaugos pavadinimas",null,null,null,null,0,0]
["5.1.4","Paslaugos pavadinimas",null,null,null,null,0,0]
["5.1.5","Paslaugos pavadinimas",null,null,null,null,0,0]
["5.1.6","Paslaugos pavadinimas",null,null,null,null,0,0]
["5.1.7","Paslaugos pavadinimas",null,null,null,null,0,0]
["5.1.8","Paslaugos pavadinimas",null,null,null,null,0,0]
["5.1.9","Paslaugos pavadinimas",null,null,null,null,0,0]
["5.1.10","Paslaugos pavadinimas",null,null,null,null,0,0]
["5.2","Konsultavimo ir lygiavertės paslaugos, teikiamos vien tik projekto MTEP veiklai.",null,null,null,null,{"$f":"SUM(G34:G43)","v":0},{"$f":"SUM(H34:H43)","v":0}]
["5.2.1","Paslaugos pavadinimas",null,null,null,null,{"$f":"ROUND(E34*F34,2)","v":0},0]
["5.2.2","Paslaugos pavadinimas",null,null,null,null,0,0]
["5.2.3","Paslaugos pavadinimas",null,null,null,null,0,0]
["5.2.4","Paslaugos pavadinimas",null,null,null,null,0,0]
["5.2.5","Paslaugos pavadinimas",null,null,null,null,0,0]
["5.2.6","Paslaugos pavadinimas",null,null,null,null,0,0]
["5.2.7","Paslaugos pavadinimas",null,null,null,null,0,0]
["5.2.8","Paslaugos pavadinimas",null,null,null,null,0,0]
["5.2.9","Paslaugos pavadinimas",null,null,null,null,0,0]
["5.2.10","Paslaugos pavadinimas",null,null,null,null,0,0]
["5.3","Medžiagos, mažavertis inventorius, atsargos ir pan. produktai, priskirtini trumpalaikiam turtui ir tiesiogiai susiję su MTEP veikla",null,null,null,null,{"$f":"SUM(G45:G71)","v":0},{"$f":"SUM(H45:H71)","v":0}]
["5.3.1","Išlaidų pavadinimas",null,null,null,null,{"$f":"ROUND(E45*F45,2)","v":0},{"$f":"ROUND(G45*$D$7,2)","v":0}]
["5.3.2","Išlaidų pavadinimas",null,null,null,null,{"$f":"ROUND(E46*F46,2)","v":0},{"$f":"ROUND(G46*$D$7,2)","v":0}]
["5.3.3","Išlaidų pavadinimas",null,null,null,null,{"$f":"ROUND(E47*F47,2)","v":0},{"$f":"ROUND(G47*$D$7,2)","v":0}]
["5.3.4","Išlaidų pavadinimas",null,null,null,null,{"$f":"ROUND(E48*F48,2)","v":0},{"$f":"ROUND(G48*$D$7,2)","v":0}]
["5.3.5","Išlaidų pavadinimas",null,null,null,null,{"$f":"ROUND(E49*F49,2)","v":0},{"$f":"ROUND(G49*$D$7,2)","v":0}]
["5.3.6","Išlaidų pavadinimas",null,null,null,null,0,0]
["5.3.7","Išlaidų pavadinimas",null,null,null,null,0,0]
["5.3.8","Išlaidų pavadinimas",null,null,null,null,0,0]
["5.3.9","Išlaidų pavadinimas",null,null,null,null,0,0]
["5.3.10","Išlaidų pavadinimas",null,null,null,null,0,0]
["5.3.11","Išlaidų pavadinimas",null,null,null,null,0,0]
["5.3.12","Išlaidų pavadinimas",null,null,null,null,0,0]
["5.3.13","Išlaidų pavadinimas",null,null,null,null,0,0]
["5.3.14","Išlaidų pavadinimas",null,null,null,null,0,0]
["5.3.15","Išlaidų pavadinimas",null,null,null,null,0,0]
["5.3.16","Išlaidų pavadinimas",null,null,null,null,0,0]
["5.3.17","Išlaidų pavadinimas",null,null,null,null,0,0]
["5.3.18","Išlaidų pavadinimas",null,null,null,null,0,0]
["5.3.19","Išlaidų pavadinimas",null,null,null,null,0,0]
["5.3.20","Išlaidų pavadinimas",null,null,null,null,0,0]
["5.3.21","Išlaidų pavadinimas",null,null,null,null,0,0]
["5.3.22","Išlaidų pavadinimas",null,null,null,null,0,0]
["5.3.23","Išlaidų pavadinimas",null,null,null,null,0,0]
["5.3.24","Išlaidų pavadinimas",null,null,null,null,0,0]
["5.3.25","Išlaidų pavadinimas",null,null,null,null,0,0]
["5.3.26","Išlaidų pavadinimas",null,null,null,null,0,0]
["5.3.27","Išlaidų pavadinimas",null,null,null,null,0,0]
["5.4","Projekto MTEP veikloms naudojamo ilgalaikio materialaus turto (įrangos, prietaisų, įrankių, įrenginių, mašinų ir įrengimų, pastatų ir (ar) patalpų), nusidėvėjimo sąnaudos, jeigu šiam turtui įsigyti nebuvo naudojamos viešosios (įskaitant ir kitų valstybių) lėšos",null,null,null,null,{"$f":"SUM(G73:G101)","v":0},{"$f":"SUM(H73:H101)","v":0},null,"Turto įvedimo į eksploataciją data","Turto įsigijimo vertė, Eur","Turto nudėvėjimo, amortizacijos laikotarpis, mėn.","Numatoma turto likutinė vertė, Eur","1 mėn. nudėvėjimo, amortizacijos suma, Eur","Turto naudojamo projekto reikmėms laikas, mėn.","Turto panaudojimo projekto reikmėms dalis (proc.)","Projektui priskirta turto nusidėvėjimo, amortizacijos suma per projekto laikotarpį, Eur"]
["5.4.1","Turtas, kurio nusidėvėjimą, amortizaciją prašoma finansuoti",null,null,1,{"$f":"Q73","v":0},{"$f":"ROUND(E73*F73,2)","v":0},0,null,null,null,null,null,{"$f":"IFERROR(ROUND((K73-M73)/L73,2),\"0\")","v":"0"},null,null,{"$f":"N73*O73*P73","v":0},{"$f":"IF(J73=0,\" \",IF(J73+(L73*30.5)<TODAY(),\"DĖMESIO! Patikrinkite, ar nurodytas turtas dar nėra nudėvėtas, amortizuotas\",\" \"))","v":" "}]
["5.4.2","Turtas, kurio nusidėvėjimą, amortizaciją prašoma finansuoti",null,null,1,0,0,0,null,null,null,null,null,{"$f":"IFERROR(ROUND((K74-M74)/L74,2),\"0\")","v":"0"},null,null,{"$f":"N74*O74*P74","v":0},{"$f":"IF(J74=0,\" \",IF(J74+(L74*30.5)<TODAY(),\"DĖMESIO! Patikrinkite, ar nurodytas turtas dar nėra nudėvėtas, amortizuotas\",\" \"))","v":" "}]
["5.4.3","Turtas, kurio nusidėvėjimą, amortizaciją prašoma finansuoti",null,null,1,0,0,0,null,null,null,null,null,"0",null,null,0," "]
["5.4.4","Turtas, kurio nusidėvėjimą, amortizaciją prašoma finansuoti",null,null,1,0,0,0,null,null,null,null,null,"0",null,null,0," "]
["5.4.5","Turtas, kurio nusidėvėjimą, amortizaciją prašoma finansuoti",null,null,1,0,0,0,null,null,null,null,null,"0",null,null,0," "]
["5.4.6","Turtas, kurio nusidėvėjimą, amortizaciją prašoma finansuoti",null,null,1,0,0,0,null,null,null,null,null,"0",null,null,0," "]
["5.4.7","Turtas, kurio nusidėvėjimą, amortizaciją prašoma finansuoti",null,null,1,0,0,0,null,null,null,null,null,"0",null,null,0," "]
["5.4.8","Turtas, kurio nusidėvėjimą, amortizaciją prašoma finansuoti",null,null,1,0,0,0,null,null,null,null,null,"0",null,null,0," "]
["5.4.9","Turtas, kurio nusidėvėjimą, amortizaciją prašoma finansuoti",null,null,1,0,0,0,null,null,null,null,null,"0",null,null,0," "]
["5.4.10","Turtas, kurio nusidėvėjimą, amortizaciją prašoma finansuoti",null,null,1,0,0,0,null,null,null,null,null,"0",null,null,0," "]
["5.4.11","Turtas, kurio nusidėvėjimą, amortizaciją prašoma finansuoti",null,null,1,0,0,0,null,null,null,null,null,"0",null,null,0," "]
["5.4.12","Turtas, kurio nusidėvėjimą, amortizaciją prašoma finansuoti",null,null,1,0,0,0,null,null,null,null,null,"0",null,null,0," "]
["5.4.13","Turtas, kurio nusidėvėjimą, amortizaciją prašoma finansuoti",null,null,1,0,0,0,null,null,null,null,null,"0",null,null,0," "]
["5.4.14","Turtas, kurio nusidėvėjimą, amortizaciją prašoma finansuoti",null,null,1,0,0,0,null,null,null,null,null,"0",null,null,0," "]
["5.4.15","Turtas, kurio nusidėvėjimą, amortizaciją prašoma finansuoti",null,null,1,0,0,0,null,null,null,null,null,"0",null,null,0," "]
["5.4.16","Turtas, kurio nusidėvėjimą, amortizaciją prašoma finansuoti",null,null,1,0,0,0,null,null,null,null,null,"0",null,null,0," "]
["5.4.17","Turtas, kurio nusidėvėjimą, amortizaciją prašoma finansuoti",null,null,1,0,0,0,null,null,null,null,null,"0",null,null,0," "]
["5.4.18","Turtas, kurio nusidėvėjimą, amortizaciją prašoma finansuoti",null,null,1,0,0,0,null,null,null,null,null,"0",null,null,0," "]
["5.4.19","Turtas, kurio nusidėvėjimą, amortizaciją prašoma finansuoti",null,null,1,0,0,0,null,null,null,null,null,"0",null,null,0," "]
["5.4.20","Turtas, kurio nusidėvėjimą, amortizaciją prašoma finansuoti",null,null,1,0,0,0,null,null,null,null,null,"0",null,null,0," "]
["5.4.21","Turtas, kurio nusidėvėjimą, amortizaciją prašoma finansuoti",null,null,1,0,0,0,null,null,null,null,null,"0",null,null,0," "]
["5.4.22","Turtas, kurio nusidėvėjimą, amortizaciją prašoma finansuoti",null,null,1,0,0,0,null,null,null,null,null,"0",null,null,0," "]
["5.4.23","Turtas, kurio nusidėvėjimą, amortizaciją prašoma finansuoti",null,null,1,0,0,0,null,null,null,null,null,"0",null,null,0," "]
["5.4.24","Turtas, kurio nusidėvėjimą, amortizaciją prašoma finansuoti",null,null,1,0,0,0,null,null,null,null,null,"0",null,null,0," "]
["5.4.25","Turtas, kurio nusidėvėjimą, amortizaciją prašoma finansuoti",null,null,1,0,0,0,null,null,null,null,null,"0",null,null,0," "]
["5.4.26","Turtas, kurio nusidėvėjimą, amortizaciją prašoma finansuoti",null,null,1,0,0,0,null,null,null,null,null,"0",null,null,0," "]
["5.4.27","Turtas, kurio nusidėvėjimą, amortizaciją prašoma finansuoti",null,null,1,0,0,0,null,null,null,null,null,"0",null,null,0," "]
["5.4.28","Turtas, kurio nusidėvėjimą, amortizaciją prašoma finansuoti",null,null,1,0,0,0,null,null,null,null,null,"0",null,null,0," "]
["5.4.29","Turtas, kurio nusidėvėjimą, amortizaciją prašoma finansuoti",null,null,1,0,0,0,null,null,null,null,null,"0",null,null,0," "]
["5.5","Projektą vykdančio personalo darbo užmokestis ir išlaidos su darbo santykiais susijusiems darbdavio įsipareigojimams",null,null,null,null,{"$f":"SUM(G103:G152)","v":0},{"$f":"SUM(H103:H152)","v":0},null,"Faktiškai gaunamas darbo užmokesti už 1 valandą pagal  pastarųjų 6 mėn. vidurkį, Eur"]
["5.5.1","Pareigybės pavadinimas","Darbuotojo vardas pavardė","val.",null,{"$f":"IFERROR(ROUND(AVERAGE(J103:J107),2),\"0\")","v":"0"},{"$f":"ROUND(E103*F103,2)","v":0},{"$f":"ROUND(G103*$D$7,2)","v":0}]
[null,null,"Darbuotojo vardas pavardė"]
[null,null,"Darbuotojo vardas pavardė"]
[null,null,"Darbuotojo vardas pavardė"]
[null,null,"Darbuotojo vardas pavardė"]
["5.5.2","Pareigybės pavadinimas","Darbuotojo vardas pavardė","val.",null,{"$f":"IFERROR(ROUND(AVERAGE(J108:J112),2),\"0\")","v":"0"},{"$f":"ROUND(E108*F108,2)","v":0},{"$f":"ROUND(G108*$D$7,2)","v":0}]
[null,null,"Darbuotojo vardas pavardė"]
[null,null,"Darbuotojo vardas pavardė"]
[null,null,"Darbuotojo vardas pavardė"]
[null,null,"Darbuotojo vardas pavardė"]
["5.5.3","Pareigybės pavadinimas","Darbuotojo vardas pavardė","val.",null,{"$f":"IFERROR(ROUND(AVERAGE(J113:J117),2),\"0\")","v":"0"},{"$f":"ROUND(E113*F113,2)","v":0},{"$f":"ROUND(G113*$D$7,2)","v":0}]
[null,null,"Darbuotojo vardas pavardė"]
[null,null,"Darbuotojo vardas pavardė"]
[null,null,"Darbuotojo vardas pavardė"]
[null,null,"Darbuotojo vardas pavardė"]
["5.5.4","Pareigybės pavadinimas","Darbuotojo vardas pavardė","val.",null,{"$f":"IFERROR(ROUND(AVERAGE(J118:J122),2),\"0\")","v":"0"},{"$f":"ROUND(E118*F118,2)","v":0},{"$f":"ROUND(G118*$D$7,2)","v":0}]
[null,null,"Darbuotojo vardas pavardė"]
[null,null,"Darbuotojo vardas pavardė"]
[null,null,"Darbuotojo vardas pavardė"]
[null,null,"Darbuotojo vardas pavardė"]
["5.5.5","Pareigybės pavadinimas","Darbuotojo vardas pavardė","val.",null,{"$f":"IFERROR(ROUND(AVERAGE(J123:J127),2),\"0\")","v":"0"},{"$f":"ROUND(E123*F123,2)","v":0},{"$f":"ROUND(G123*$D$7,2)","v":0}]
[null,null,"Darbuotojo vardas pavardė"]
[null,null,"Darbuotojo vardas pavardė"]
[null,null,"Darbuotojo vardas pavardė"]
[null,null,"Darbuotojo vardas pavardė"]
["5.5.6","Pareigybės pavadinimas","Darbuotojo vardas pavardė","val.",null,{"$f":"IFERROR(ROUND(AVERAGE(J128:J132),2),\"0\")","v":"0"},{"$f":"ROUND(E128*F128,2)","v":0},{"$f":"ROUND(G128*$D$7,2)","v":0}]
[null,null,"Darbuotojo vardas pavardė"]
[null,null,"Darbuotojo vardas pavardė"]
[null,null,"Darbuotojo vardas pavardė"]
[null,null,"Darbuotojo vardas pavardė"]
["5.5.7","Pareigybės pavadinimas","Darbuotojo vardas pavardė","val.",null,{"$f":"IFERROR(ROUND(AVERAGE(J133:J137),2),\"0\")","v":"0"},{"$f":"ROUND(E133*F133,2)","v":0},{"$f":"ROUND(G133*$D$7,2)","v":0}]
[null,null,"Darbuotojo vardas pavardė"]
[null,null,"Darbuotojo vardas pavardė"]
[null,null,"Darbuotojo vardas pavardė"]
[null,null,"Darbuotojo vardas pavardė"]
["5.5.8","Pareigybės pavadinimas","Darbuotojo vardas pavardė","val.",null,{"$f":"IFERROR(ROUND(AVERAGE(J138:J142),2),\"0\")","v":"0"},{"$f":"ROUND(E138*F138,2)","v":0},{"$f":"ROUND(G138*$D$7,2)","v":0}]
[null,null,"Darbuotojo vardas pavardė"]
[null,null,"Darbuotojo vardas pavardė"]
[null,null,"Darbuotojo vardas pavardė"]
[null,null,"Darbuotojo vardas pavardė"]
["5.5.9","Pareigybės pavadinimas","Darbuotojo vardas pavardė","val.",null,{"$f":"IFERROR(ROUND(AVERAGE(J143:J147),2),\"0\")","v":"0"},{"$f":"ROUND(E143*F143,2)","v":0},{"$f":"ROUND(G143*$D$7,2)","v":0}]
[null,null,"Darbuotojo vardas pavardė"]
[null,null,"Darbuotojo vardas pavardė"]
[null,null,"Darbuotojo vardas pavardė"]
[null,null,"Darbuotojo vardas pavardė"]
["5.5.10","Pareigybės pavadinimas","Darbuotojo vardas pavardė","val.",null,{"$f":"IFERROR(ROUND(AVERAGE(J148:J152),2),\"0\")","v":"0"},{"$f":"ROUND(E148*F148,2)","v":0},{"$f":"ROUND(G148*$D$7,2)","v":0}]
[null,null,"Darbuotojo vardas pavardė"]
[null,null,"Darbuotojo vardas pavardė"]
[null,null,"Darbuotojo vardas pavardė"]
[null,null,"Darbuotojo vardas pavardė"]
["5.6","Projektą vykdančio personalo komandiruočių išlaidos",null,null,null,null,{"$f":"SUM(G154,G161,G168,G175,G182,G189,G196,G203,G210,G217)","v":0},{"$f":"SUM(H154,H161,H168,H175,H182,H189,H196,H203,H210,H217)","v":0}]
["5.6.1","Komandiruotės pavadinimas, vieta, trukmė dienomis, vykstančių asmenų skaičius","Iš viso komandiruotei",null,null,null,{"$f":"SUM(G155:G160)","v":0},{"$f":"ROUND(G154*$D$7,2)","v":0}]
[null,null,"Dienpinigiai",null,null,null,{"$f":"ROUND(E155*F155,2)","v":0}]
[null,null,"Gyvenamojo ploto nuoma",null,null,null,0]
[null,null,"Kelionės išlaidos",null,null,null,0]
[null,null,"Dalyvavimo mokestis",null,null,null,0]
[null,null,"Kitos išlaidų pavadinimas",null,null,null,0]
[null,null,"Kitos išlaidų pavadinimas",null,null,null,0]
["5.6.2","Komandiruotės pavadinimas, vieta, trukmė dienomis, vykstančių asmenų skaičius","Iš viso komandiruotei",null,null,null,{"$f":"SUM(G162:G167)","v":0},{"$f":"ROUND(G161*$D$7,2)","v":0}]
[null,null,"Dienpinigiai",null,null,null,{"$f":"ROUND(E162*F162,2)","v":0}]
[null,null,"Gyvenamojo ploto nuoma",null,null,null,0]
[null,null,"Kelionės išlaidos",null,null,null,0]
[null,null,"Dalyvavimo mokestis",null,null,null,0]
[null,null,"Kitos išlaidų pavadinimas",null,null,null,0]
[null,null,"Kitos išlaidų pavadinimas",null,null,null,0]
["5.6.3","Komandiruotės pavadinimas, vieta, trukmė dienomis, vykstančių asmenų skaičius","Iš viso komandiruotei",null,null,null,{"$f":"SUM(G169:G174)","v":0},{"$f":"ROUND(G168*$D$7,2)","v":0}]
[null,null,"Dienpinigiai",null,null,null,{"$f":"ROUND(E169*F169,2)","v":0}]
[null,null,"Gyvenamojo ploto nuoma",null,null,null,0]
[null,null,"Kelionės išlaidos",null,null,null,0]
[null,null,"Dalyvavimo mokestis",null,null,null,0]
[null,null,"Kitos išlaidų pavadinimas",null,null,null,0]
[null,null,"Kitos išlaidų pavadinimas",null,null,null,0]
["5.6.4","Komandiruotės pavadinimas, vieta, trukmė dienomis, vykstančių asmenų skaičius","Iš viso komandiruotei",null,null,null,{"$f":"SUM(G176:G181)","v":0},{"$f":"ROUND(G175*$D$7,2)","v":0}]
[null,null,"Dienpinigiai",null,null,null,{"$f":"ROUND(E176*F176,2)","v":0}]
[null,null,"Gyvenamojo ploto nuoma",null,null,null,0]
[null,null,"Kelionės išlaidos",null,null,null,0]
[null,null,"Dalyvavimo mokestis",null,null,null,0]
[null,null,"Kitos išlaidų pavadinimas",null,null,null,0]
[null,null,"Kitos išlaidų pavadinimas",null,null,null,0]
["5.6.5","Komandiruotės pavadinimas, vieta, trukmė dienomis, vykstančių asmenų skaičius","Iš viso komandiruotei",null,null,null,{"$f":"SUM(G183:G188)","v":0},{"$f":"ROUND(G182*$D$7,2)","v":0}]
[null,null,"Dienpinigiai",null,null,null,{"$f":"ROUND(E183*F183,2)","v":0}]
[null,null,"Gyvenamojo ploto nuoma",null,null,null,0]
[null,null,"Kelionės išlaidos",null,null,null,0]
[null,null,"Dalyvavimo mokestis",null,null,null,0]
[null,null,"Kitos išlaidų pavadinimas",null,null,null,0]
[null,null,"Kitos išlaidų pavadinimas",null,null,null,0]
["5.6.6","Komandiruotės pavadinimas, vieta, trukmė dienomis, vykstančių asmenų skaičius","Iš viso komandiruotei",null,null,null,{"$f":"SUM(G190:G195)","v":0},{"$f":"ROUND(G189*$D$7,2)","v":0}]
[null,null,"Dienpinigiai",null,null,null,{"$f":"ROUND(E190*F190,2)","v":0}]
[null,null,"Gyvenamojo ploto nuoma",null,null,null,0]
[null,null,"Kelionės išlaidos",null,null,null,0]
[null,null,"Dalyvavimo mokestis",null,null,null,0]
[null,null,"Kitos išlaidų pavadinimas",null,null,null,0]
[null,null,"Kitos išlaidų pavadinimas",null,null,null,0]
["5.6.7","Komandiruotės pavadinimas, vieta, trukmė dienomis, vykstančių asmenų skaičius","Iš viso komandiruotei",null,null,null,{"$f":"SUM(G197:G202)","v":0},{"$f":"ROUND(G196*$D$7,2)","v":0}]
[null,null,"Dienpinigiai",null,null,null,{"$f":"ROUND(E197*F197,2)","v":0}]
[null,null,"Gyvenamojo ploto nuoma",null,null,null,0]
[null,null,"Kelionės išlaidos",null,null,null,0]
[null,null,"Dalyvavimo mokestis",null,null,null,0]
[null,null,"Kitos išlaidų pavadinimas",null,null,null,0]
[null,null,"Kitos išlaidų pavadinimas",null,null,null,0]
["5.6.8","Komandiruotės pavadinimas, vieta, trukmė dienomis, vykstančių asmenų skaičius","Iš viso komandiruotei",null,null,null,{"$f":"SUM(G204:G209)","v":0},{"$f":"ROUND(G203*$D$7,2)","v":0}]
[null,null,"Dienpinigiai",null,null,null,{"$f":"ROUND(E204*F204,2)","v":0}]
[null,null,"Gyvenamojo ploto nuoma",null,null,null,0]
[null,null,"Kelionės išlaidos",null,null,null,0]
[null,null,"Dalyvavimo mokestis",null,null,null,0]
[null,null,"Kitos išlaidų pavadinimas",null,null,null,0]
[null,null,"Kitos išlaidų pavadinimas",null,null,null,0]
["5.6.9","Komandiruotės pavadinimas, vieta, trukmė dienomis, vykstančių asmenų skaičius","Iš viso komandiruotei",null,null,null,{"$f":"SUM(G211:G216)","v":0},{"$f":"ROUND(G210*$D$7,2)","v":0}]
[null,null,"Dienpinigiai",null,null,null,{"$f":"ROUND(E211*F211,2)","v":0}]
[null,null,"Gyvenamojo ploto nuoma",null,null,null,0]
[null,null,"Kelionės išlaidos",null,null,null,0]
[null,null,"Dalyvavimo mokestis",null,null,null,0]
[null,null,"Kitos išlaidų pavadinimas",null,null,null,0]
[null,null,"Kitos išlaidų pavadinimas",null,null,null,0]
["5.6.10","Komandiruotės pavadinimas, vieta, trukmė dienomis, vykstančių asmenų skaičius","Iš viso komandiruotei",null,null,null,{"$f":"SUM(G218:G223)","v":0},{"$f":"ROUND(G217*$D$7,2)","v":0}]
[null,null,"Dienpinigiai",null,null,null,{"$f":"ROUND(E218*F218,2)","v":0}]
[null,null,"Gyvenamojo ploto nuoma",null,null,null,0]
[null,null,"Kelionės išlaidos",null,null,null,0]
[null,null,"Dalyvavimo mokestis",null,null,null,0]
[null,null,"Kitos išlaidų pavadinimas",null,null,null,0]
[null,null,"Kitos išlaidų pavadinimas",null,null,null,0]
["5.7","Įrangos nuomos išlaidos, veiklai priskirtos pro rata principu. Įranga turi būti tiesiogiai susijusi su projekto įgyvendinimu ir negali būti įsigyta iš ES struktūrinių fondų ar kt. ES finansinių priemonių lėšų",null,null,null,null,{"$f":"SUM(G225:G241)","v":0},{"$f":"SUM(H225:H241)","v":0},null,"Faktinės 1 mėnesio išlaidos, Eur","Naudojimo projekte trukmė, mėn."]
["5.7.1","Įrangos pavadinimas",null,"pro rata proc.",null,{"$f":"J225*K225","v":0},{"$f":"ROUND(E225*F225,2)","v":0},{"$f":"ROUND(G225*$D$7,2)","v":0}]
["5.7.2","Įrangos pavadinimas",null,"pro rata proc.",null,0,0,{"$f":"ROUND(G226*$D$7,2)","v":0}]
["5.7.3","Įrangos pavadinimas",null,"pro rata proc.",null,0,0,0]
["5.7.4","Įrangos pavadinimas",null,"pro rata proc.",null,0,0,0]
["5.7.5","Įrangos pavadinimas",null,"pro rata proc.",null,0,0,0]
["5.7.6","Įrangos pavadinimas",null,"pro rata proc.",null,0,0,0]
["5.7.7","Įrangos pavadinimas",null,"pro rata proc.",null,0,0,0]
["5.7.8","Įrangos pavadinimas",null,"pro rata proc.",null,0,0,0]
["5.7.9","Įrangos pavadinimas",null,"pro rata proc.",null,0,0,0]
["5.7.10","Įrangos pavadinimas",null,"pro rata proc.",null,0,0,0]
["5.7.11","Įrangos pavadinimas",null,"pro rata proc.",null,0,0,0]
["5.7.12","Įrangos pavadinimas",null,"pro rata proc.",null,0,0,0]
["5.7.13","Įrangos pavadinimas",null,"pro rata proc.",null,0,0,0]
["5.7.14","Įrangos pavadinimas",null,"pro rata proc.",null,{"$f":"J238*K238","v":0},0,{"$f":"ROUND(G238*$D$7,2)","v":0}]
["5.7.15","Įrangos pavadinimas",null,"pro rata proc.",null,{"$f":"J239*K239","v":0},0,{"$f":"ROUND(G239*$D$7,2)","v":0}]
["5.7.16","Įrangos pavadinimas",null,"pro rata proc.",null,{"$f":"J240*K240","v":0},0,{"$f":"ROUND(G240*$D$7,2)","v":0}]
["5.7.17","Įrangos pavadinimas",null,"pro rata proc.",null,{"$f":"J241*K241","v":0},0,{"$f":"ROUND(G241*$D$7,2)","v":0}]
["5.8","Pastatų ar patalpų nuomos išlaidos, veiklai priskirtos pro rata principu. Pastatai ar patalpos turi būti tiesiogiai susijusi su projekto įgyvendinimu.",null,null,null,null,{"$f":"SUM(G243:G247)","v":0},{"$f":"SUM(H243:H247)","v":0},null,"Faktinės 1 mėnesio išlaidos, Eur","Naudojimo projekte trukmė, mėn."]
["5.8.1","Pastato, patalpų adresas",null,"pro rata proc.",null,{"$f":"J243*K243","v":0},{"$f":"ROUND(E243*F243,2)","v":0},{"$f":"ROUND(G243*$D$7,2)","v":0}]
["5.8.2","Pastato, patalpų adresas",null,"pro rata proc.",null,{"$f":"J244*K244","v":0},{"$f":"ROUND(E244*F244,2)","v":0},{"$f":"ROUND(G244*$D$7,2)","v":0}]
["5.8.3","Pastato, patalpų adresas",null,"pro rata proc.",null,{"$f":"J245*K245","v":0},{"$f":"ROUND(E245*F245,2)","v":0},{"$f":"ROUND(G245*$D$7,2)","v":0}]
["5.8.4","Pastato, patalpų adresas",null,"pro rata proc.",null,{"$f":"J246*K246","v":0},{"$f":"ROUND(E246*F246,2)","v":0},{"$f":"ROUND(G246*$D$7,2)","v":0}]
["5.8.5","Pastato, patalpų adresas",null,"pro rata proc.",null,{"$f":"J247*K247","v":0},{"$f":"ROUND(E247*F247,2)","v":0},{"$f":"ROUND(G247*$D$7,2)","v":0}]
["5.9","Projekto veikloms vykdyti reikalingų transporto priemonių nuomos išlaidos (išlaidos yra tinkamos finansuoti tik pagal Aprašą Nr. 2 vadovaujantis de minimis reglamento nuostatomis)",null,null,null,null,{"$f":"SUM(G249:G253)","v":0},{"$f":"SUM(H249:H253)","v":0}]
["5.9.1","Išlaidų pavadinimas",null,null,null,null,{"$f":"ROUND(E249*F249,2)","v":0},{"$f":"ROUND(G249*$D$7,2)","v":0}]
["5.9.2","Išlaidų pavadinimas",null,null,null,null,{"$f":"ROUND(E250*F250,2)","v":0},{"$f":"ROUND(G250*$D$7,2)","v":0}]
["5.9.3","Išlaidų pavadinimas",null,null,null,null,{"$f":"ROUND(E251*F251,2)","v":0},{"$f":"ROUND(G251*$D$7,2)","v":0}]
["5.9.4","Išlaidų pavadinimas",null,null,null,null,{"$f":"ROUND(E252*F252,2)","v":0},{"$f":"ROUND(G252*$D$7,2)","v":0}]
["5.9.5","Išlaidų pavadinimas",null,null,null,null,{"$f":"ROUND(E253*F253,2)","v":0},{"$f":"ROUND(G253*$D$7,2)","v":0}]
["Iš viso tinkamų finansuoti išlaidų:",null,null,null,null,null,{"$f":"G10+G21","v":0},{"$f":"H10+H21","v":0}]

{"sheet":"15","index":27,"n_rows":254,"n_cols":18,"rows_kept":254,"cut":false,"hidden":true,"merged":[[5,3,5,8],[8,1,8,2],[9,1,9,5],[10,1,10,2],[11,1,11,2],[12,1,12,2],[0,3,0,8],[2,0,2,2],[2,3,2,8],[3,3,3,4],[3,5,3,6],[4,0,4,2],[4,3,4,8],[19,1,19,2],[20,1,20,5],[21,1,21,5],[22,1,22,2],[23,1,23,2],[24,1,24,2],[13,1,13,2],[14,1,14,2],[15,1,15,2],[16,1,16,2],[17,1,17,2],[18,1,18,2],[31,1,31,2],[32,1,32,5],[33,1,33,2],[34,1,34,2],[35,1,35,2],[36,1,36,2],[25,1,25,2],[26,1,26,2],[27,1,27,2],[28,1,28,2],[29,1,29,2],[30,1,30,2],[43,1,43,5],[44,1,44,2],[45,1,45,2],[46,1,46,2],[47,1,47,2],[48,1,48,2],[37,1,37,2],[38,1,38,2],[39,1,39,2],[40,1,40,2],[41,1,41,2],[42,1,42,2],[55,1,55,2],[56,1,56,2],[57,1,57,2],[58,1,58,2],[59,1,59,2],[60,1,60,2],[49,1,49,2],[50,1,50,2],[51,1,51,2],[52,1,52,2],[53,1,53,2],[54,1,54,2],[67,1,67,2],[68,1,68,2],[69,1,69,2],[70,1,70,2],[71,1,71,5],[72,1,72,2],[61,1,61,2],[62,1,62,2],[63,1,63,2],[64,1,64,2],[65,1,65,2],[66,1,66,2],[79,1,79,2],[80,1,80,2],[81,1,81,2],[82,1,82,2],[83,1,83,2],[84,1,84,2],[73,1,73,2],[74,1,74,2],[75,1,75,2],[76,1,76,2],[77,1,77,2],[78,1,78,2],[91,1,91,2],[92,1,92,2],[93,1,93,2],[94,1,94,2],[95,1,95,2],[96,1,96,2],[85,1,85,2],[86,1,86,2],[87,1,87,2],[88,1,88,2],[89,1,89,2],[90,1,90,2],[97,1,97,2],[98,1,98,2],[99,1,99,2],[100,1,100,2],[101,1,101,5],[102,0,106,0],[102,1,106,1],[102,3,106,3],[102,4,106,4],[102,5,106,5],[102,6,106,6],[102,7,106,7],[102,8,106,8],[107,0,111,0],[107,1,111,1],[107,3,111,3],[107,4,111,4],[107,5,111,5],[107,6,111,6],[107,7,111,7],[107,8,111,8],[112,0,116,0],[112,1,116,1],[112,3,116,3],[112,4,116,4],[112,5,116,5],[112,6,116,6],[112,7,116,7],[112,8,116,8],[117,7,121,7],[117,8,121,8],[122,0,126,0],[122,1,126,1],[122,3,126,3],[122,4,126,4],[122,5,126,5],[122,6,126,6],[122,7,126,7],[122,8,126,8],[117,0,121,0],[117,1,121,1],[117,3,121,3],[117,4,121,4],[117,5,121,5],[117,6,121,6],[127,7,131,7],[127,8,131,8],[132,0,136,0],[132,1,136,1],[132,3,136,3],[132,4,136,4],[132,5,136,5],[132,6,136,6],[132,7,136,7],[132,8,136,8],[127,0,131,0],[127,1,131,1],[127,3,131,3],[127,4,131,4],[127,5,131,5],[127,6,131,6],[137,7,141,7],[137,8,141,8],[142,0,146,0],[142,1,146,1],[142,3,146,3],[142,4,146,4],[142,5,146,5],[142,6,146,6],[142,7,146,7],[142,8,146,8],[137,0,141,0],[137,1,141,1],[137,3,141,3],[137,4,141,4],[137,5,141,5],[137,6,141,6],[147,7,151,7],[147,8,151,8],[152,1,152,5],[153,0,159,0],[153,1,159,1],[153,8,159,8],[147,0,151,0],[147,1,151,1],[147,3,151,3],[147,4,151,4],[147,5,151,5],[147,6,151,6],[174,0,180,0],[174,1,180,1],[174,8,180,8],[181,0,187,0],[181,1,187,1],[181,8,187,8],[160,0,166,0],[160,1,166,1],[160,8,166,8],[167,0,173,0],[167,1,173,1],[167,8,173,8],[202,0,208,0],[202,1,208,1],[202,8,208,8],[209,0,215,0],[209,1,215,1],[209,8,215,8],[188,0,194,0],[188,1,194,1],[188,8,194,8],[195,0,201,0],[195,1,201,1],[195,8,201,8],[226,1,226,2],[227,1,227,2],[228,1,228,2],[229,1,229,2],[230,1,230,2],[231,1,231,2],[216,0,222,0],[216,1,222,1],[216,8,222,8],[223,1,223,5],[224,1,224,2],[225,1,225,2],[238,1,238,2],[239,1,239,2],[240,1,240,2],[241,1,241,5],[242,1,242,2],[243,1,243,2],[232,1,232,2],[233,1,233,2],[234,1,234,2],[235,1,235,2],[236,1,236,2],[237,1,237,2],[250,1,250,2],[251,1,251,2],[252,1,252,2],[253,0,253,5],[244,1,244,2],[245,1,245,2],[246,1,246,2],[247,1,247,5],[248,1,248,2],[249,1,249,2]]}
[null,null,"Pasirinkite veiklos tipą:"]
[null,null,"Fizinio rodiklio Nr.:"]
["Fizinio rodiklio pavadinimas:"]
[null,null,"Fizinio rodiklio matavimo vnt.:",null,null,"Fizinio rodiklio vnt. skaičius:"]
["Juridinis asmuo (pareiškėjas, partneris), atsakingas už fizinį rodiklį:"]
[null,null,"Vykdytojo tipas:"]
[null,null,"Finansavimo intensyvumas:",null,null,null,"Pasirinkite biudžeto išlaidų kategoriją:","Visos"]
[]
["Eil. Nr.","Išlaidų kategorijos pavadinimas",null,"Matavimo vnt.","Kiekis","Vieneto kaina be PVM, Eur","Tinkamų finansuoti išlaidų suma be PVM, Eur","Finansavimo suma, Eur","Išlaidų pagrindimo dokumentų pavadinimas, data ir Nr."]
[4,"ĮRANGA, ĮRENGINIAI IR KT. TURTAS (techninių žinių ir išradimų patentų arba teisių pagal licencijų sutartį įsigijimo išlaidos)",null,null,null,null,{"$f":"SUM(G11:G20)","v":0},{"$f":"SUM(H11:H20)","v":0}]
["4.1","Išlaidų pavadinimas",null,null,null,null,{"$f":"ROUND(E11*F11,2)","v":0},{"$f":"ROUND(G11*$D$7,2)","v":0}]
["4.2","Išlaidų pavadinimas",null,null,null,null,0,0]
["4.3","Išlaidų pavadinimas",null,null,null,null,0,0]
["4.4","Išlaidų pavadinimas",null,null,null,null,0,0]
["4.5","Išlaidų pavadinimas",null,null,null,null,0,0]
["4.6","Išlaidų pavadinimas",null,null,null,null,0,0]
["4.7","Išlaidų pavadinimas",null,null,null,null,0,0]
["4.8","Išlaidų pavadinimas",null,null,null,null,0,0]
["4.9","Išlaidų pavadinimas",null,null,null,null,0,0]
["4.10","Išlaidų pavadinimas",null,null,null,null,0,0]
[5,"PROJEKTO VYKDYMAS",null,null,null,null,{"$f":"G22+G33+G44+G72+G102+G153+G224+G242+G248","v":0},{"$f":"H22+H33+H44+H72+H102+H153+H224+H242+H248","v":0}]
["5.1","MTEP paslaugos",null,null,null,null,{"$f":"SUM(G23:G32)","v":0},{"$f":"SUM(H23:H32)","v":0}]
["5.1.1","Paslaugos pavadinimas",null,null,null,null,{"$f":"ROUND(E23*F23,2)","v":0},0]
["5.1.2","Paslaugos pavadinimas",null,null,null,null,0,0]
["5.1.3","Paslaugos pavadinimas",null,null,null,null,0,0]
["5.1.4","Paslaugos pavadinimas",null,null,null,null,0,0]
["5.1.5","Paslaugos pavadinimas",null,null,null,null,0,0]
["5.1.6","Paslaugos pavadinimas",null,null,null,null,0,0]
["5.1.7","Paslaugos pavadinimas",null,null,null,null,0,0]
["5.1.8","Paslaugos pavadinimas",null,null,null,null,0,0]
["5.1.9","Paslaugos pavadinimas",null,null,null,null,0,0]
["5.1.10","Paslaugos pavadinimas",null,null,null,null,0,0]
["5.2","Konsultavimo ir lygiavertės paslaugos, teikiamos vien tik projekto MTEP veiklai.",null,null,null,null,{"$f":"SUM(G34:G43)","v":0},{"$f":"SUM(H34:H43)","v":0}]
["5.2.1","Paslaugos pavadinimas",null,null,null,null,{"$f":"ROUND(E34*F34,2)","v":0},0]
["5.2.2","Paslaugos pavadinimas",null,null,null,null,0,0]
["5.2.3","Paslaugos pavadinimas",null,null,null,null,0,0]
["5.2.4","Paslaugos pavadinimas",null,null,null,null,0,0]
["5.2.5","Paslaugos pavadinimas",null,null,null,null,0,0]
["5.2.6","Paslaugos pavadinimas",null,null,null,null,0,0]
["5.2.7","Paslaugos pavadinimas",null,null,null,null,0,0]
["5.2.8","Paslaugos pavadinimas",null,null,null,null,0,0]
["5.2.9","Paslaugos pavadinimas",null,null,null,null,0,0]
["5.2.10","Paslaugos pavadinimas",null,null,null,null,0,0]
["5.3","Medžiagos, mažavertis inventorius, atsargos ir pan. produktai, priskirtini trumpalaikiam turtui ir tiesiogiai susiję su MTEP veikla",null,null,null,null,{"$f":"SUM(G45:G71)","v":0},{"$f":"SUM(H45:H71)","v":0}]
["5.3.1","Išlaidų pavadinimas",null,null,null,null,{"$f":"ROUND(E45*F45,2)","v":0},{"$f":"ROUND(G45*$D$7,2)","v":0}]
["5.3.2","Išlaidų pavadinimas",null,null,null,null,{"$f":"ROUND(E46*F46,2)","v":0},{"$f":"ROUND(G46*$D$7,2)","v":0}]
["5.3.3","Išlaidų pavadinimas",null,null,null,null,{"$f":"ROUND(E47*F47,2)","v":0},{"$f":"ROUND(G47*$D$7,2)","v":0}]
["5.3.4","Išlaidų pavadinimas",null,null,null,null,{"$f":"ROUND(E48*F48,2)","v":0},{"$f":"ROUND(G48*$D$7,2)","v":0}]
["5.3.5","Išlaidų pavadinimas",null,null,null,null,{"$f":"ROUND(E49*F49,2)","v":0},{"$f":"ROUND(G49*$D$7,2)","v":0}]
["5.3.6","Išlaidų pavadinimas",null,null,null,null,0,0]
["5.3.7","Išlaidų pavadinimas",null,null,null,null,0,0]
["5.3.8","Išlaidų pavadinimas",null,null,null,null,0,0]
["5.3.9","Išlaidų pavadinimas",null,null,null,null,0,0]
["5.3.10","Išlaidų pavadinimas",null,null,null,null,0,0]
["5.3.11","Išlaidų pavadinimas",null,null,null,null,0,0]
["5.3.12","Išlaidų pavadinimas",null,null,null,null,0,0]
["5.3.13","Išlaidų pavadinimas",null,null,null,null,0,0]
["5.3.14","Išlaidų pavadinimas",null,null,null,null,0,0]
["5.3.15","Išlaidų pavadinimas",null,null,null,null,0,0]
["5.3.16","Išlaidų pavadinimas",null,null,null,null,0,0]
["5.3.17","Išlaidų pavadinimas",null,null,null,null,0,0]
["5.3.18","Išlaidų pavadinimas",null,null,null,null,0,0]
["5.3.19","Išlaidų pavadinimas",null,null,null,null,0,0]
["5.3.20","Išlaidų pavadinimas",null,null,null,null,0,0]
["5.3.21","Išlaidų pavadinimas",null,null,null,null,0,0]
["5.3.22","Išlaidų pavadinimas",null,null,null,null,0,0]
["5.3.23","Išlaidų pavadinimas",null,null,null,null,0,0]
["5.3.24","Išlaidų pavadinimas",null,null,null,null,0,0]
["5.3.25","Išlaidų pavadinimas",null,null,null,null,0,0]
["5.3.26","Išlaidų pavadinimas",null,null,null,null,0,0]
["5.3.27","Išlaidų pavadinimas",null,null,null,null,0,0]
["5.4","Projekto MTEP veikloms naudojamo ilgalaikio materialaus turto (įrangos, prietaisų, įrankių, įrenginių, mašinų ir įrengimų, pastatų ir (ar) patalpų), nusidėvėjimo sąnaudos, jeigu šiam turtui įsigyti nebuvo naudojamos viešosios (įskaitant ir kitų valstybių) lėšos",null,null,null,null,{"$f":"SUM(G73:G101)","v":0},{"$f":"SUM(H73:H101)","v":0},null,"Turto įvedimo į eksploataciją data","Turto įsigijimo vertė, Eur","Turto nudėvėjimo, amortizacijos laikotarpis, mėn.","Numatoma turto likutinė vertė, Eur","1 mėn. nudėvėjimo, amortizacijos suma, Eur","Turto naudojamo projekto reikmėms laikas, mėn.","Turto panaudojimo projekto reikmėms dalis (proc.)","Projektui priskirta turto nusidėvėjimo, amortizacijos suma per projekto laikotarpį, Eur"]
["5.4.1","Turtas, kurio nusidėvėjimą, amortizaciją prašoma finansuoti",null,null,1,{"$f":"Q73","v":0},{"$f":"ROUND(E73*F73,2)","v":0},0,null,null,null,null,null,{"$f":"IFERROR(ROUND((K73-M73)/L73,2),\"0\")","v":"0"},null,null,{"$f":"N73*O73*P73","v":0},{"$f":"IF(J73=0,\" \",IF(J73+(L73*30.5)<TODAY(),\"DĖMESIO! Patikrinkite, ar nurodytas turtas dar nėra nudėvėtas, amortizuotas\",\" \"))","v":" "}]
["5.4.2","Turtas, kurio nusidėvėjimą, amortizaciją prašoma finansuoti",null,null,1,0,0,0,null,null,null,null,null,{"$f":"IFERROR(ROUND((K74-M74)/L74,2),\"0\")","v":"0"},null,null,{"$f":"N74*O74*P74","v":0},{"$f":"IF(J74=0,\" \",IF(J74+(L74*30.5)<TODAY(),\"DĖMESIO! Patikrinkite, ar nurodytas turtas dar nėra nudėvėtas, amortizuotas\",\" \"))","v":" "}]
["5.4.3","Turtas, kurio nusidėvėjimą, amortizaciją prašoma finansuoti",null,null,1,0,0,0,null,null,null,null,null,"0",null,null,0," "]
["5.4.4","Turtas, kurio nusidėvėjimą, amortizaciją prašoma finansuoti",null,null,1,0,0,0,null,null,null,null,null,"0",null,null,0," "]
["5.4.5","Turtas, kurio nusidėvėjimą, amortizaciją prašoma finansuoti",null,null,1,0,0,0,null,null,null,null,null,"0",null,null,0," "]
["5.4.6","Turtas, kurio nusidėvėjimą, amortizaciją prašoma finansuoti",null,null,1,0,0,0,null,null,null,null,null,"0",null,null,0," "]
["5.4.7","Turtas, kurio nusidėvėjimą, amortizaciją prašoma finansuoti",null,null,1,0,0,0,null,null,null,null,null,"0",null,null,0," "]
["5.4.8","Turtas, kurio nusidėvėjimą, amortizaciją prašoma finansuoti",null,null,1,0,0,0,null,null,null,null,null,"0",null,null,0," "]
["5.4.9","Turtas, kurio nusidėvėjimą, amortizaciją prašoma finansuoti",null,null,1,0,0,0,null,null,null,null,null,"0",null,null,0," "]
["5.4.10","Turtas, kurio nusidėvėjimą, amortizaciją prašoma finansuoti",null,null,1,0,0,0,null,null,null,null,null,"0",null,null,0," "]
["5.4.11","Turtas, kurio nusidėvėjimą, amortizaciją prašoma finansuoti",null,null,1,0,0,0,null,null,null,null,null,"0",null,null,0," "]
["5.4.12","Turtas, kurio nusidėvėjimą, amortizaciją prašoma finansuoti",null,null,1,0,0,0,null,null,null,null,null,"0",null,null,0," "]
["5.4.13","Turtas, kurio nusidėvėjimą, amortizaciją prašoma finansuoti",null,null,1,0,0,0,null,null,null,null,null,"0",null,null,0," "]
["5.4.14","Turtas, kurio nusidėvėjimą, amortizaciją prašoma finansuoti",null,null,1,0,0,0,null,null,null,null,null,"0",null,null,0," "]
["5.4.15","Turtas, kurio nusidėvėjimą, amortizaciją prašoma finansuoti",null,null,1,0,0,0,null,null,null,null,null,"0",null,null,0," "]
["5.4.16","Turtas, kurio nusidėvėjimą, amortizaciją prašoma finansuoti",null,null,1,0,0,0,null,null,null,null,null,"0",null,null,0," "]
["5.4.17","Turtas, kurio nusidėvėjimą, amortizaciją prašoma finansuoti",null,null,1,0,0,0,null,null,null,null,null,"0",null,null,0," "]
["5.4.18","Turtas, kurio nusidėvėjimą, amortizaciją prašoma finansuoti",null,null,1,0,0,0,null,null,null,null,null,"0",null,null,0," "]
["5.4.19","Turtas, kurio nusidėvėjimą, amortizaciją prašoma finansuoti",null,null,1,0,0,0,null,null,null,null,null,"0",null,null,0," "]
["5.4.20","Turtas, kurio nusidėvėjimą, amortizaciją prašoma finansuoti",null,null,1,0,0,0,null,null,null,null,null,"0",null,null,0," "]
["5.4.21","Turtas, kurio nusidėvėjimą, amortizaciją prašoma finansuoti",null,null,1,0,0,0,null,null,null,null,null,"0",null,null,0," "]
["5.4.22","Turtas, kurio nusidėvėjimą, amortizaciją prašoma finansuoti",null,null,1,0,0,0,null,null,null,null,null,"0",null,null,0," "]
["5.4.23","Turtas, kurio nusidėvėjimą, amortizaciją prašoma finansuoti",null,null,1,0,0,0,null,null,null,null,null,"0",null,null,0," "]
["5.4.24","Turtas, kurio nusidėvėjimą, amortizaciją prašoma finansuoti",null,null,1,0,0,0,null,null,null,null,null,"0",null,null,0," "]
["5.4.25","Turtas, kurio nusidėvėjimą, amortizaciją prašoma finansuoti",null,null,1,0,0,0,null,null,null,null,null,"0",null,null,0," "]
["5.4.26","Turtas, kurio nusidėvėjimą, amortizaciją prašoma finansuoti",null,null,1,0,0,0,null,null,null,null,null,"0",null,null,0," "]
["5.4.27","Turtas, kurio nusidėvėjimą, amortizaciją prašoma finansuoti",null,null,1,0,0,0,null,null,null,null,null,"0",null,null,0," "]
["5.4.28","Turtas, kurio nusidėvėjimą, amortizaciją prašoma finansuoti",null,null,1,0,0,0,null,null,null,null,null,"0",null,null,0," "]
["5.4.29","Turtas, kurio nusidėvėjimą, amortizaciją prašoma finansuoti",null,null,1,0,0,0,null,null,null,null,null,"0",null,null,0," "]
["5.5","Projektą vykdančio personalo darbo užmokestis ir išlaidos su darbo santykiais susijusiems darbdavio įsipareigojimams",null,null,null,null,{"$f":"SUM(G103:G152)","v":0},{"$f":"SUM(H103:H152)","v":0},null,"Faktiškai gaunamas darbo užmokesti už 1 valandą pagal  pastarųjų 6 mėn. vidurkį, Eur"]
["5.5.1","Pareigybės pavadinimas","Darbuotojo vardas pavardė","val.",null,{"$f":"IFERROR(ROUND(AVERAGE(J103:J107),2),\"0\")","v":"0"},{"$f":"ROUND(E103*F103,2)","v":0},{"$f":"ROUND(G103*$D$7,2)","v":0}]
[null,null,"Darbuotojo vardas pavardė"]
[null,null,"Darbuotojo vardas pavardė"]
[null,null,"Darbuotojo vardas pavardė"]
[null,null,"Darbuotojo vardas pavardė"]
["5.5.2","Pareigybės pavadinimas","Darbuotojo vardas pavardė","val.",null,{"$f":"IFERROR(ROUND(AVERAGE(J108:J112),2),\"0\")","v":"0"},{"$f":"ROUND(E108*F108,2)","v":0},{"$f":"ROUND(G108*$D$7,2)","v":0}]
[null,null,"Darbuotojo vardas pavardė"]
[null,null,"Darbuotojo vardas pavardė"]
[null,null,"Darbuotojo vardas pavardė"]
[null,null,"Darbuotojo vardas pavardė"]
["5.5.3","Pareigybės pavadinimas","Darbuotojo vardas pavardė","val.",null,{"$f":"IFERROR(ROUND(AVERAGE(J113:J117),2),\"0\")","v":"0"},{"$f":"ROUND(E113*F113,2)","v":0},{"$f":"ROUND(G113*$D$7,2)","v":0}]
[null,null,"Darbuotojo vardas pavardė"]
[null,null,"Darbuotojo vardas pavardė"]
[null,null,"Darbuotojo vardas pavardė"]
[null,null,"Darbuotojo vardas pavardė"]
["5.5.4","Pareigybės pavadinimas","Darbuotojo vardas pavardė","val.",null,{"$f":"IFERROR(ROUND(AVERAGE(J118:J122),2),\"0\")","v":"0"},{"$f":"ROUND(E118*F118,2)","v":0},{"$f":"ROUND(G118*$D$7,2)","v":0}]
[null,null,"Darbuotojo vardas pavardė"]
[null,null,"Darbuotojo vardas pavardė"]
[null,null,"Darbuotojo vardas pavardė"]
[null,null,"Darbuotojo vardas pavardė"]
["5.5.5","Pareigybės pavadinimas","Darbuotojo vardas pavardė","val.",null,{"$f":"IFERROR(ROUND(AVERAGE(J123:J127),2),\"0\")","v":"0"},{"$f":"ROUND(E123*F123,2)","v":0},{"$f":"ROUND(G123*$D$7,2)","v":0}]
[null,null,"Darbuotojo vardas pavardė"]
[null,null,"Darbuotojo vardas pavardė"]
[null,null,"Darbuotojo vardas pavardė"]
[null,null,"Darbuotojo vardas pavardė"]
["5.5.6","Pareigybės pavadinimas","Darbuotojo vardas pavardė","val.",null,{"$f":"IFERROR(ROUND(AVERAGE(J128:J132),2),\"0\")","v":"0"},{"$f":"ROUND(E128*F128,2)","v":0},{"$f":"ROUND(G128*$D$7,2)","v":0}]
[null,null,"Darbuotojo vardas pavardė"]
[null,null,"Darbuotojo vardas pavardė"]
[null,null,"Darbuotojo vardas pavardė"]
[null,null,"Darbuotojo vardas pavardė"]
["5.5.7","Pareigybės pavadinimas","Darbuotojo vardas pavardė","val.",null,{"$f":"IFERROR(ROUND(AVERAGE(J133:J137),2),\"0\")","v":"0"},{"$f":"ROUND(E133*F133,2)","v":0},{"$f":"ROUND(G133*$D$7,2)","v":0}]
[null,null,"Darbuotojo vardas pavardė"]
[null,null,"Darbuotojo vardas pavardė"]
[null,null,"Darbuotojo vardas pavardė"]
[null,null,"Darbuotojo vardas pavardė"]
["5.5.8","Pareigybės pavadinimas","Darbuotojo vardas pavardė","val.",null,{"$f":"IFERROR(ROUND(AVERAGE(J138:J142),2),\"0\")","v":"0"},{"$f":"ROUND(E138*F138,2)","v":0},{"$f":"ROUND(G138*$D$7,2)","v":0}]
[null,null,"Darbuotojo vardas pavardė"]
[null,null,"Darbuotojo vardas pavardė"]
[null,null,"Darbuotojo vardas pavardė"]
[null,null,"Darbuotojo vardas pavardė"]
["5.5.9","Pareigybės pavadinimas","Darbuotojo vardas pavardė","val.",null,{"$f":"IFERROR(ROUND(AVERAGE(J143:J147),2),\"0\")","v":"0"},{"$f":"ROUND(E143*F143,2)","v":0},{"$f":"ROUND(G143*$D$7,2)","v":0}]
[null,null,"Darbuotojo vardas pavardė"]
[null,null,"Darbuotojo vardas pavardė"]
[null,null,"Darbuotojo vardas pavardė"]
[null,null,"Darbuotojo vardas pavardė"]
["5.5.10","Pareigybės pavadinimas","Darbuotojo vardas pavardė","val.",null,{"$f":"IFERROR(ROUND(AVERAGE(J148:J152),2),\"0\")","v":"0"},{"$f":"ROUND(E148*F148,2)","v":0},{"$f":"ROUND(G148*$D$7,2)","v":0}]
[null,null,"Darbuotojo vardas pavardė"]
[null,null,"Darbuotojo vardas pavardė"]
[null,null,"Darbuotojo vardas pavardė"]
[null,null,"Darbuotojo vardas pavardė"]
["5.6","Projektą vykdančio personalo komandiruočių išlaidos",null,null,null,null,{"$f":"SUM(G154,G161,G168,G175,G182,G189,G196,G203,G210,G217)","v":0},{"$f":"SUM(H154,H161,H168,H175,H182,H189,H196,H203,H210,H217)","v":0}]
["5.6.1","Komandiruotės pavadinimas, vieta, trukmė dienomis, vykstančių asmenų skaičius","Iš viso komandiruotei",null,null,null,{"$f":"SUM(G155:G160)","v":0},{"$f":"ROUND(G154*$D$7,2)","v":0}]
[null,null,"Dienpinigiai",null,null,null,{"$f":"ROUND(E155*F155,2)","v":0}]
[null,null,"Gyvenamojo ploto nuoma",null,null,null,0]
[null,null,"Kelionės išlaidos",null,null,null,0]
[null,null,"Dalyvavimo mokestis",null,null,null,0]
[null,null,"Kitos išlaidų pavadinimas",null,null,null,0]
[null,null,"Kitos išlaidų pavadinimas",null,null,null,0]
["5.6.2","Komandiruotės pavadinimas, vieta, trukmė dienomis, vykstančių asmenų skaičius","Iš viso komandiruotei",null,null,null,{"$f":"SUM(G162:G167)","v":0},{"$f":"ROUND(G161*$D$7,2)","v":0}]
[null,null,"Dienpinigiai",null,null,null,{"$f":"ROUND(E162*F162,2)","v":0}]
[null,null,"Gyvenamojo ploto nuoma",null,null,null,0]
[null,null,"Kelionės išlaidos",null,null,null,0]
[null,null,"Dalyvavimo mokestis",null,null,null,0]
[null,null,"Kitos išlaidų pavadinimas",null,null,null,0]
[null,null,"Kitos išlaidų pavadinimas",null,null,null,0]
["5.6.3","Komandiruotės pavadinimas, vieta, trukmė dienomis, vykstančių asmenų skaičius","Iš viso komandiruotei",null,null,null,{"$f":"SUM(G169:G174)","v":0},{"$f":"ROUND(G168*$D$7,2)","v":0}]
[null,null,"Dienpinigiai",null,null,null,{"$f":"ROUND(E169*F169,2)","v":0}]
[null,null,"Gyvenamojo ploto nuoma",null,null,null,0]
[null,null,"Kelionės išlaidos",null,null,null,0]
[null,null,"Dalyvavimo mokestis",null,null,null,0]
[null,null,"Kitos išlaidų pavadinimas",null,null,null,0]
[null,null,"Kitos išlaidų pavadinimas",null,null,null,0]
["5.6.4","Komandiruotės pavadinimas, vieta, trukmė dienomis, vykstančių asmenų skaičius","Iš viso komandiruotei",null,null,null,{"$f":"SUM(G176:G181)","v":0},{"$f":"ROUND(G175*$D$7,2)","v":0}]
[null,null,"Dienpinigiai",null,null,null,{"$f":"ROUND(E176*F176,2)","v":0}]
[null,null,"Gyvenamojo ploto nuoma",null,null,null,0]
[null,null,"Kelionės išlaidos",null,null,null,0]
[null,null,"Dalyvavimo mokestis",null,null,null,0]
[null,null,"Kitos išlaidų pavadinimas",null,null,null,0]
[null,null,"Kitos išlaidų pavadinimas",null,null,null,0]
["5.6.5","Komandiruotės pavadinimas, vieta, trukmė dienomis, vykstančių asmenų skaičius","Iš viso komandiruotei",null,null,null,{"$f":"SUM(G183:G188)","v":0},{"$f":"ROUND(G182*$D$7,2)","v":0}]
[null,null,"Dienpinigiai",null,null,null,{"$f":"ROUND(E183*F183,2)","v":0}]
[null,null,"Gyvenamojo ploto nuoma",null,null,null,0]
[null,null,"Kelionės išlaidos",null,null,null,0]
[null,null,"Dalyvavimo mokestis",null,null,null,0]
[null,null,"Kitos išlaidų pavadinimas",null,null,null,0]
[null,null,"Kitos išlaidų pavadinimas",null,null,null,0]
["5.6.6","Komandiruotės pavadinimas, vieta, trukmė dienomis, vykstančių asmenų skaičius","Iš viso komandiruotei",null,null,null,{"$f":"SUM(G190:G195)","v":0},{"$f":"ROUND(G189*$D$7,2)","v":0}]
[null,null,"Dienpinigiai",null,null,null,{"$f":"ROUND(E190*F190,2)","v":0}]
[null,null,"Gyvenamojo ploto nuoma",null,null,null,0]
[null,null,"Kelionės išlaidos",null,null,null,0]
[null,null,"Dalyvavimo mokestis",null,null,null,0]
[null,null,"Kitos išlaidų pavadinimas",null,null,null,0]
[null,null,"Kitos išlaidų pavadinimas",null,null,null,0]
["5.6.7","Komandiruotės pavadinimas, vieta, trukmė dienomis, vykstančių asmenų skaičius","Iš viso komandiruotei",null,null,null,{"$f":"SUM(G197:G202)","v":0},{"$f":"ROUND(G196*$D$7,2)","v":0}]
[null,null,"Dienpinigiai",null,null,null,{"$f":"ROUND(E197*F197,2)","v":0}]
[null,null,"Gyvenamojo ploto nuoma",null,null,null,0]
[null,null,"Kelionės išlaidos",null,null,null,0]
[null,null,"Dalyvavimo mokestis",null,null,null,0]
[null,null,"Kitos išlaidų pavadinimas",null,null,null,0]
[null,null,"Kitos išlaidų pavadinimas",null,null,null,0]
["5.6.8","Komandiruotės pavadinimas, vieta, trukmė dienomis, vykstančių asmenų skaičius","Iš viso komandiruotei",null,null,null,{"$f":"SUM(G204:G209)","v":0},{"$f":"ROUND(G203*$D$7,2)","v":0}]
[null,null,"Dienpinigiai",null,null,null,{"$f":"ROUND(E204*F204,2)","v":0}]
[null,null,"Gyvenamojo ploto nuoma",null,null,null,0]
[null,null,"Kelionės išlaidos",null,null,null,0]
[null,null,"Dalyvavimo mokestis",null,null,null,0]
[null,null,"Kitos išlaidų pavadinimas",null,null,null,0]
[null,null,"Kitos išlaidų pavadinimas",null,null,null,0]
["5.6.9","Komandiruotės pavadinimas, vieta, trukmė dienomis, vykstančių asmenų skaičius","Iš viso komandiruotei",null,null,null,{"$f":"SUM(G211:G216)","v":0},{"$f":"ROUND(G210*$D$7,2)","v":0}]
[null,null,"Dienpinigiai",null,null,null,{"$f":"ROUND(E211*F211,2)","v":0}]
[null,null,"Gyvenamojo ploto nuoma",null,null,null,0]
[null,null,"Kelionės išlaidos",null,null,null,0]
[null,null,"Dalyvavimo mokestis",null,null,null,0]
[null,null,"Kitos išlaidų pavadinimas",null,null,null,0]
[null,null,"Kitos išlaidų pavadinimas",null,null,null,0]
["5.6.10","Komandiruotės pavadinimas, vieta, trukmė dienomis, vykstančių asmenų skaičius","Iš viso komandiruotei",null,null,null,{"$f":"SUM(G218:G223)","v":0},{"$f":"ROUND(G217*$D$7,2)","v":0}]
[null,null,"Dienpinigiai",null,null,null,{"$f":"ROUND(E218*F218,2)","v":0}]
[null,null,"Gyvenamojo ploto nuoma",null,null,null,0]
[null,null,"Kelionės išlaidos",null,null,null,0]
[null,null,"Dalyvavimo mokestis",null,null,null,0]
[null,null,"Kitos išlaidų pavadinimas",null,null,null,0]
[null,null,"Kitos išlaidų pavadinimas",null,null,null,0]
["5.7","Įrangos nuomos išlaidos, veiklai priskirtos pro rata principu. Įranga turi būti tiesiogiai susijusi su projekto įgyvendinimu ir negali būti įsigyta iš ES struktūrinių fondų ar kt. ES finansinių priemonių lėšų",null,null,null,null,{"$f":"SUM(G225:G241)","v":0},{"$f":"SUM(H225:H241)","v":0},null,"Faktinės 1 mėnesio išlaidos, Eur","Naudojimo projekte trukmė, mėn."]
["5.7.1","Įrangos pavadinimas",null,"pro rata proc.",null,{"$f":"J225*K225","v":0},{"$f":"ROUND(E225*F225,2)","v":0},{"$f":"ROUND(G225*$D$7,2)","v":0}]
["5.7.2","Įrangos pavadinimas",null,"pro rata proc.",null,0,0,{"$f":"ROUND(G226*$D$7,2)","v":0}]
["5.7.3","Įrangos pavadinimas",null,"pro rata proc.",null,0,0,0]
["5.7.4","Įrangos pavadinimas",null,"pro rata proc.",null,0,0,0]
["5.7.5","Įrangos pavadinimas",null,"pro rata proc.",null,0,0,0]
["5.7.6","Įrangos pavadinimas",null,"pro rata proc.",null,0,0,0]
["5.7.7","Įrangos pavadinimas",null,"pro rata proc.",null,0,0,0]
["5.7.8","Įrangos pavadinimas",null,"pro rata proc.",null,0,0,0]
["5.7.9","Įrangos pavadinimas",null,"pro rata proc.",null,0,0,0]
["5.7.10","Įrangos pavadinimas",null,"pro rata proc.",null,0,0,0]
["5.7.11","Įrangos pavadinimas",null,"pro rata proc.",null,0,0,0]
["5.7.12","Įrangos pavadinimas",null,"pro rata proc.",null,0,0,0]
["5.7.13","Įrangos pavadinimas",null,"pro rata proc.",null,0,0,0]
["5.7.14","Įrangos pavadinimas",null,"pro rata proc.",null,{"$f":"J238*K238","v":0},0,{"$f":"ROUND(G238*$D$7,2)","v":0}]
["5.7.15","Įrangos pavadinimas",null,"pro rata proc.",null,{"$f":"J239*K239","v":0},0,{"$f":"ROUND(G239*$D$7,2)","v":0}]
["5.7.16","Įrangos pavadinimas",null,"pro rata proc.",null,{"$f":"J240*K240","v":0},0,{"$f":"ROUND(G240*$D$7,2)","v":0}]
["5.7.17","Įrangos pavadinimas",null,"pro rata proc.",null,{"$f":"J241*K241","v":0},0,{"$f":"ROUND(G241*$D$7,2)","v":0}]
["5.8","Pastatų ar patalpų nuomos išlaidos, veiklai priskirtos pro rata principu. Pastatai ar patalpos turi būti tiesiogiai susijusi su projekto įgyvendinimu.",null,null,null,null,{"$f":"SUM(G243:G247)","v":0},{"$f":"SUM(H243:H247)","v":0},null,"Faktinės 1 mėnesio išlaidos, Eur","Naudojimo projekte trukmė, mėn."]
["5.8.1","Pastato, patalpų adresas",null,"pro rata proc.",null,{"$f":"J243*K243","v":0},{"$f":"ROUND(E243*F243,2)","v":0},{"$f":"ROUND(G243*$D$7,2)","v":0}]
["5.8.2","Pastato, patalpų adresas",null,"pro rata proc.",null,{"$f":"J244*K244","v":0},{"$f":"ROUND(E244*F244,2)","v":0},{"$f":"ROUND(G244*$D$7,2)","v":0}]
["5.8.3","Pastato, patalpų adresas",null,"pro rata proc.",null,{"$f":"J245*K245","v":0},{"$f":"ROUND(E245*F245,2)","v":0},{"$f":"ROUND(G245*$D$7,2)","v":0}]
["5.8.4","Pastato, patalpų adresas",null,"pro rata proc.",null,{"$f":"J246*K246","v":0},{"$f":"ROUND(E246*F246,2)","v":0},{"$f":"ROUND(G246*$D$7,2)","v":0}]
["5.8.5","Pastato, patalpų adresas",null,"pro rata proc.",null,{"$f":"J247*K247","v":0},{"$f":"ROUND(E247*F247,2)","v":0},{"$f":"ROUND(G247*$D$7,2)","v":0}]
["5.9","Projekto veikloms vykdyti reikalingų transporto priemonių nuomos išlaidos (išlaidos yra tinkamos finansuoti tik pagal Aprašą Nr. 2 vadovaujantis de minimis reglamento nuostatomis)",null,null,null,null,{"$f":"SUM(G249:G253)","v":0},{"$f":"SUM(H249:H253)","v":0}]
["5.9.1","Išlaidų pavadinimas",null,null,null,null,{"$f":"ROUND(E249*F249,2)","v":0},{"$f":"ROUND(G249*$D$7,2)","v":0}]
["5.9.2","Išlaidų pavadinimas",null,null,null,null,{"$f":"ROUND(E250*F250,2)","v":0},{"$f":"ROUND(G250*$D$7,2)","v":0}]
["5.9.3","Išlaidų pavadinimas",null,null,null,null,{"$f":"ROUND(E251*F251,2)","v":0},{"$f":"ROUND(G251*$D$7,2)","v":0}]
["5.9.4","Išlaidų pavadinimas",null,null,null,null,{"$f":"ROUND(E252*F252,2)","v":0},{"$f":"ROUND(G252*$D$7,2)","v":0}]
["5.9.5","Išlaidų pavadinimas",null,null,null,null,{"$f":"ROUND(E253*F253,2)","v":0},{"$f":"ROUND(G253*$D$7,2)","v":0}]
["Iš viso tinkamų finansuoti išlaidų:",null,null,null,null,null,{"$f":"G10+G21","v":0},{"$f":"H10+H21","v":0}]

{"sheet":"Netiesioginės išlaidos","index":28,"n_rows":35,"n_cols":8,"rows_kept":35,"cut":false,"hidden":false,"merged":[[32,0,32,1],[5,0,5,2],[7,0,7,2],[4,0,4,5],[2,0,2,7],[6,0,6,7],[14,0,14,2],[8,0,8,2],[9,0,9,7],[10,0,10,2],[11,0,11,2],[13,0,13,2]]}
["7. Netiesioginių išlaidų ir kt. išlaidų pagal fiksuotąją projekto išlaidų normą apskaičiavimas"]
[]
["Žemiau esančios lentelės žaliuose laukuose įrašykite planuojamas patirti su projekto administravimu susijusias išlaidas mokslinių tyrimų ir eksperimentinės plėtros veikloms atskirai. Pareiškėjui ir kiekvienam projekto partneriui pildykite atskirą lentelės stulpelį. \n"]
[]
["1 lentelė: Netiesioginių išlaidų pasiskirstymas pagal projekto vykdytojus"]
["Netiesioginės išlaidos",null,null,"Pareiškėjo","Partnerio Nr. 1","Partnerio Nr. 2","Partnerio Nr. 3","Iš viso, Eur"]
["Mokslinių tyrimų (MT) veiklos"]
["Iš viso MT netiesioginės išlaidos:",null,null,null,null,null,null,{"$f":"SUM(D8:G8)","v":0}]
["MT finansavimo suma, Eur",null,null,{"$f":"D8*DATA!C2","v":0},{"$f":"E8*DATA!C3","v":0},{"$f":"F8*DATA!C4","v":0},{"$f":"G8*DATA!C5","v":0},{"$f":"SUM(D9:G9)","v":0}]
["Eksperimentinės plėtros (EP) veiklos"]
["Iš viso EP netiesioginės išlaidos:",null,null,null,null,null,null,{"$f":"SUM(D11:G11)","v":0}]
["EP finansavimo suma, Eur",null,null,{"$f":"D11*DATA!D2","v":0},{"$f":"E11*DATA!D3","v":0},{"$f":"F11*DATA!D4","v":0},{"$f":"G11*DATA!D5","v":0},{"$f":"SUM(D12:G12)","v":0}]
[]
["Iš viso netiesioginių išlaidų:",null,null,{"$f":"D8+D11","v":0},{"$f":"E8+E11","v":0},0,0,0]
["Bendra finansavimo suma, Eur",null,null,{"$f":"D9+D12","v":0},0,0,0,0]
[]
[]
[]
["2 lentelė: Projekto biudžeto paskirstymas pagal pareiškėją ir partnerį (-ius)"]
[" =IF(B25+B28+B31=0;\"\";IF(OR(B22/B34*100>70;B25/B34*100>70;B28/B34*100;B31/B34*100);\"Klaida: Nei vienas juridinis asmuo negali patirti daugiau negu 70% išlaidų!\";\"\"))"]
["Pareiškėjas:",{"$f":"_xlfn.IFNA(VLOOKUP(\"Pareiškėjas\",DATA!N2:O5,2,FALSE),\"\")","v":""}]
["Išlaidų suma, Eur",{"$f":"+DATA!$I$2+D14","v":0}]
["Finansavimo suma, Eur",{"$f":"DATA!$J$2+D15","v":0}]
["Partneris Nr. 1:",{"$f":"_xlfn.IFNA(VLOOKUP(\"Partneris Nr. 1\",DATA!N2:O5,2,FALSE),\"\")","v":""}]
["Išlaidų suma, Eur",{"$f":"DATA!$I$3+E14","v":0}]
["Finansavimo suma, Eur",{"$f":"DATA!$J$3+E15","v":0}]
["Partneris Nr. 2:",{"$f":"_xlfn.IFNA(VLOOKUP(\"Partneris Nr. 2\",DATA!N2:O5,2,FALSE),\"\")","v":""}]
["Išlaidų suma, Eur",{"$f":"DATA!$I$4+F14","v":0}]
["Finansavimo suma, Eur",{"$f":"DATA!$J$4+F15","v":0}]
["Partneris Nr. 3:",{"$f":"_xlfn.IFNA(VLOOKUP(\"Partneris Nr. 3\",DATA!N2:O5,2,FALSE),\"\")","v":""}]
["Išlaidų suma, Eur",{"$f":"DATA!$I$5+G14","v":0}]
["Finansavimo suma, Eur",{"$f":"DATA!$J$5+G15","v":0}]
["Iš viso:"]
["Išlaidų suma, Eur",{"$f":"B22+B25+B28+B31","v":0}]
["Finansavimo suma, Eur",{"$f":"+B23+B26+B29+B32","v":0}]