{"text_format":"1","workbook":"xlsx","n_sheets":28,"sheets":["Instrukcija","Suvestine","1","2","3","4","5","6","7","8","9","10","11","12","13","14","15","16","17","18","19","20","21","22","23","24","25","Netiesioginės išlaidos"],"not_rendered":{"charts":0,"images":1,"macros":1,"external_links":0,"defined_names":26,"comments":1,"pivot_tables":0},"unopened":[],"bounds":{"document_bytes":16777216,"sheet_cells":100000,"rows_first":2000,"rows_last":500,"rows_between":2000,"halvings":0,"cell_chars":16384,"cell_head_chars":4096},"cells_cut":0,"cells_raw":0,"read":"whole","date_system":"1900"}

{"sheet":"Instrukcija","index":0,"n_rows":11,"n_cols":4,"rows_kept":11,"cut":false,"hidden":false,"merged":[[0,3,0,5],[5,1,5,5],[8,1,8,5],[10,1,10,5],[2,0,2,5],[4,1,4,5],[6,1,6,5],[7,1,7,5],[9,1,9,5]]}
[null,null,null,"Verslo plano priedas „Reikalingi ištekliai“\nNr. 1A"]
[]
["Pildymo instrukcija"]
[]
[1,"Šis verslo plano priedas Nr. 1A pildomas tik projekto veikloms, nurodytoms 2014–2020 metų Europos Sąjungos fondų investicijų veiksmų programos 1 prioriteto „Mokslinių tyrimų, eksperimentinės plėtros ir inovacijų skatinimas“ priemonės \nNr. 01.2.1-LVPA-K-855 „Intelektas LT-2“ projektų finansavimo sąlygų aprašo Nr. 1 (toliau – Aprašas) 10.1 ir 10.2 punktuose."]
[2,"Pildykite tik žalia spalva pažymėtus laukus."]
[3,"Nereikalingų eilučių, stulpelių netrinkite, esant poreikiui eilutes, stulpelius galite tik paslėpti (hide)."]
[4,"Kiekvienam pirmo lygio (kurio paraiškoje nurodytas numeris susideda iš trijų skaitmenų) fiziniam rodikliui, nurodytam paraiškos 6 dalyje „Projekto loginis pagrindimas“, pildykite atskirą lapą. Fizinio rodiklio pavadinimas ir numeris turi sutapti su paraiškoje nurodytais fizinių rodiklių pavadinimais ir numeriais. Jei projektas vykdomas kartu su partneriu(-iais), veikloms, kurios vykdomos kartu su partneriu(-iais) rekomenduojama atskirai numatyti pareiškėjui ir partneriui(-iams) tenkančius fizinius rodiklius.\nAtkreipiame dėmesį, kad vienam fiziniam rodikliui gali būti priskirta tik viena biudžeto išlaidų kategorija."]
[5,"Rekomenduojama pareiškėjui ir partneriui(-iams) numatyti atskirus  pirmo lygio fizinius rodiklius."]
[6,"Kai užpildysite visas fizinių rodiklių išlaidas, kortelėje „Suvestinė“ paspauskite viršuje kairėje pusėje esantį mygtuką „Tvarkyti lentelę“, kad užsipildytų suminė informacija šioje kortelėje."]
[7,"Su verslo planu turi būti pateiktas ir šis verslo plano priedas (popierinė ir elektroninė versijos). LVPA teikiamoje elektroninėje versijoje turi likti visos skaičiavimams naudotos formulės."]

{"sheet":"Suvestine","index":1,"n_rows":76,"n_cols":6,"rows_kept":76,"cut":false,"hidden":false,"merged":[[75,0,75,1],[0,0,0,5],[55,0,55,1],[57,0,57,5],[71,0,71,1],[74,0,74,1]]}
["Veiklų, vykdomų pagal Aprašo 10.1 ir 10.2 punktus, išlaidų suvestinė lentelė pagal fizinius rodiklius (lentelė užsipildo automatiškai)"]
[]
["Fizinio rodiklio Nr.","Fizinio rodiklio pavadinimas","Fizinio rodiklio matavimo vnt.","Fizinio rodiklio vnt. skaičius","Tinkamų finansuoti išlaidų suma, Eur","Finansavimo suma, Eur"]
["4","Įranga, įrenginiai ir kt. turtas",null,null,{"$f":"SUM(E5:E29)","v":0},{"$f":"SUM(F5:F29)","v":0}]
[{"$f":"'1'!$D$2","v":0},{"$f":"'1'!$D$3","v":0},{"$f":"'1'!$D$4","v":0},{"$f":"'1'!$H$4","v":0},{"$f":"'1'!$G$10","v":0},{"$f":"'1'!$H$10","v":0}]
[{"$f":"'2'!$D$2","v":0},{"$f":"'2'!$D$3","v":0},{"$f":"'2'!$D$4","v":0},{"$f":"'2'!$H$4","v":0},{"$f":"'2'!$G$10","v":0},{"$f":"'2'!$H$10","v":0}]
[{"$f":"'3'!$D$2","v":0},{"$f":"'3'!$D$3","v":0},{"$f":"'3'!$D$4","v":0},{"$f":"'3'!$H$4","v":0},{"$f":"'3'!$G$10","v":0},{"$f":"'3'!$H$10","v":0}]
[{"$f":"'4'!$D$2","v":0},{"$f":"'4'!$D$3","v":0},{"$f":"'4'!$D$4","v":0},{"$f":"'4'!$H$4","v":0},{"$f":"'4'!$G$10","v":0},{"$f":"'4'!$H$10","v":0}]
[{"$f":"'5'!$D$2","v":0},{"$f":"'5'!$D$3","v":0},{"$f":"'5'!$D$4","v":0},{"$f":"'5'!$H$4","v":0},{"$f":"'5'!$G$10","v":0},{"$f":"'5'!$H$10","v":0}]
[{"$f":"'6'!$D$2","v":0},{"$f":"'6'!$D$3","v":0},{"$f":"'6'!$D$4","v":0},{"$f":"'6'!$H$4","v":0},{"$f":"'6'!$G$10","v":0},{"$f":"'6'!$H$10","v":0}]
[{"$f":"'7'!$D$2","v":0},{"$f":"'7'!$D$3","v":0},{"$f":"'7'!$D$4","v":0},{"$f":"'7'!$H$4","v":0},{"$f":"'7'!$G$10","v":0},{"$f":"'7'!$H$10","v":0}]
[{"$f":"'8'!$D$2","v":0},{"$f":"'8'!$D$3","v":0},{"$f":"'8'!$D$4","v":0},{"$f":"'8'!$H$4","v":0},{"$f":"'8'!$G$10","v":0},{"$f":"'8'!$H$10","v":0}]
[{"$f":"'9'!$D$2","v":0},{"$f":"'9'!$D$3","v":0},{"$f":"'9'!$D$4","v":0},{"$f":"'9'!$H$4","v":0},{"$f":"'9'!$G$10","v":0},{"$f":"'9'!$H$10","v":0}]
[{"$f":"'10'!$D$2","v":0},{"$f":"'10'!$D$3","v":0},{"$f":"'10'!$D$4","v":0},{"$f":"'10'!$H$4","v":0},{"$f":"'10'!$G$10","v":0},{"$f":"'10'!$H$10","v":0}]
[{"$f":"'11'!$D$2","v":0},{"$f":"'11'!$D$3","v":0},{"$f":"'11'!$D$4","v":0},{"$f":"'11'!$H$4","v":0},{"$f":"'11'!$G$10","v":0},{"$f":"'11'!$H$10","v":0}]
[{"$f":"'12'!$D$2","v":0},{"$f":"'12'!$D$3","v":0},{"$f":"'12'!$D$4","v":0},{"$f":"'12'!$H$4","v":0},{"$f":"'12'!$G$10","v":0},{"$f":"'12'!$H$10","v":0}]
[{"$f":"'13'!$D$2","v":0},{"$f":"'13'!$D$3","v":0},{"$f":"'13'!$D$4","v":0},{"$f":"'13'!$H$4","v":0},{"$f":"'13'!$G$10","v":0},{"$f":"'13'!$H$10","v":0}]
[{"$f":"'14'!$D$2","v":0},{"$f":"'14'!$D$3","v":0},{"$f":"'14'!$D$4","v":0},{"$f":"'14'!$H$4","v":0},{"$f":"'14'!$G$10","v":0},{"$f":"'14'!$H$10","v":0}]
[{"$f":"'15'!$D$2","v":0},{"$f":"'15'!$D$3","v":0},{"$f":"'15'!$D$4","v":0},{"$f":"'15'!$H$4","v":0},{"$f":"'15'!$G$10","v":0},{"$f":"'15'!$H$10","v":0}]
[{"$f":"'16'!$D$2","v":0},{"$f":"'16'!$D$3","v":0},{"$f":"'16'!$D$4","v":0},{"$f":"'16'!$H$4","v":0},{"$f":"'16'!$G$10","v":0},{"$f":"'16'!$H$10","v":0}]
[{"$f":"'17'!$D$2","v":0},{"$f":"'17'!$D$3","v":0},{"$f":"'17'!$D$4","v":0},{"$f":"'17'!$H$4","v":0},{"$f":"'17'!$G$10","v":0},{"$f":"'17'!$H$10","v":0}]
[{"$f":"'18'!$D$2","v":0},{"$f":"'18'!$D$3","v":0},{"$f":"'18'!$D$4","v":0},{"$f":"'18'!$H$4","v":0},{"$f":"'18'!$G$10","v":0},{"$f":"'18'!$H$10","v":0}]
[{"$f":"'19'!$D$2","v":0},{"$f":"'19'!$D$3","v":0},{"$f":"'19'!$D$4","v":0},{"$f":"'19'!$H$4","v":0},{"$f":"'19'!$G$10","v":0},{"$f":"'19'!$H$10","v":0}]
[{"$f":"'20'!$D$2","v":0},{"$f":"'20'!$D$3","v":0},{"$f":"'20'!$D$4","v":0},{"$f":"'20'!$H$4","v":0},{"$f":"'20'!$G$10","v":0},{"$f":"'20'!$H$10","v":0}]
[{"$f":"'21'!$D$2","v":0},{"$f":"'21'!$D$3","v":0},{"$f":"'21'!$D$4","v":0},{"$f":"'21'!$H$4","v":0},{"$f":"'21'!$G$10","v":0},{"$f":"'21'!$H$10","v":0}]
[{"$f":"'22'!$D$2","v":0},{"$f":"'22'!$D$3","v":0},{"$f":"'22'!$D$4","v":0},{"$f":"'22'!$H$4","v":0},{"$f":"'22'!$G$10","v":0},{"$f":"'22'!$H$10","v":0}]
[{"$f":"'23'!$D$2","v":0},{"$f":"'23'!$D$3","v":0},{"$f":"'23'!$D$4","v":0},{"$f":"'23'!$H$4","v":0},{"$f":"'23'!$G$10","v":0},{"$f":"'23'!$H$10","v":0}]
[{"$f":"'24'!$D$2","v":0},{"$f":"'24'!$D$3","v":0},{"$f":"'24'!$D$4","v":0},{"$f":"'24'!$H$4","v":0},{"$f":"'24'!$G$10","v":0},{"$f":"'24'!$H$10","v":0}]
[{"$f":"'25'!$D$2","v":0},{"$f":"'25'!$D$3","v":0},{"$f":"'25'!$D$4","v":0},{"$f":"'25'!$H$4","v":0},{"$f":"'25'!$G$10","v":0},{"$f":"'25'!$H$10","v":0}]
["5","Projekto vykdymas",null,null,{"$f":"SUM(E31:E55)","v":0},{"$f":"SUM(F31:F55)","v":0}]
[{"$f":"'1'!$D$2","v":0},{"$f":"'1'!$D$3","v":0},{"$f":"'1'!$D$4","v":0},{"$f":"'1'!$H$4","v":0},{"$f":"'1'!$G$21","v":0},{"$f":"'1'!$H$21","v":0}]
[{"$f":"'2'!$D$2","v":0},{"$f":"'2'!$D$3","v":0},{"$f":"'2'!$D$4","v":0},{"$f":"'2'!$H$4","v":0},{"$f":"'2'!$G$21","v":0},{"$f":"'2'!$H$21","v":0}]
[{"$f":"'3'!$D$2","v":0},{"$f":"'3'!$D$3","v":0},{"$f":"'3'!$D$4","v":0},{"$f":"'3'!$H$4","v":0},{"$f":"'3'!$G$21","v":0},{"$f":"'3'!$H$21","v":0}]
[{"$f":"'4'!$D$2","v":0},{"$f":"'4'!$D$3","v":0},{"$f":"'4'!$D$4","v":0},{"$f":"'4'!$H$4","v":0},{"$f":"'4'!$G$21","v":0},{"$f":"'4'!$H$21","v":0}]
[{"$f":"'5'!$D$2","v":0},{"$f":"'5'!$D$3","v":0},{"$f":"'5'!$D$4","v":0},{"$f":"'5'!$H$4","v":0},{"$f":"'5'!$G$21","v":0},{"$f":"'5'!$H$21","v":0}]
[{"$f":"'6'!$D$2","v":0},{"$f":"'6'!$D$3","v":0},{"$f":"'6'!$D$4","v":0},{"$f":"'6'!$H$4","v":0},{"$f":"'6'!$G$21","v":0},{"$f":"'6'!$H$21","v":0}]
[{"$f":"'7'!$D$2","v":0},{"$f":"'7'!$D$3","v":0},{"$f":"'7'!$D$4","v":0},{"$f":"'7'!$H$4","v":0},{"$f":"'7'!$G$21","v":0},{"$f":"'7'!$H$21","v":0}]
[{"$f":"'8'!$D$2","v":0},{"$f":"'8'!$D$3","v":0},{"$f":"'8'!$D$4","v":0},{"$f":"'8'!$H$4","v":0},{"$f":"'8'!$G$21","v":0},{"$f":"'8'!$H$21","v":0}]
[{"$f":"'9'!$D$2","v":0},{"$f":"'9'!$D$3","v":0},{"$f":"'9'!$D$4","v":0},{"$f":"'9'!$H$4","v":0},{"$f":"'9'!$G$21","v":0},{"$f":"'9'!$H$21","v":0}]
[{"$f":"'10'!$D$2","v":0},{"$f":"'10'!$D$3","v":0},{"$f":"'10'!$D$4","v":0},{"$f":"'10'!$H$4","v":0},{"$f":"'10'!$G$21","v":0},{"$f":"'10'!$H$21","v":0}]
[{"$f":"'11'!$D$2","v":0},{"$f":"'11'!$D$3","v":0},{"$f":"'11'!$D$4","v":0},{"$f":"'11'!$H$4","v":0},{"$f":"'11'!$G$21","v":0},{"$f":"'11'!$H$21","v":0}]
[{"$f":"'12'!$D$2","v":0},{"$f":"'12'!$D$3","v":0},{"$f":"'12'!$D$4","v":0},{"$f":"'12'!$H$4","v":0},{"$f":"'12'!$G$21","v":0},{"$f":"'12'!$H$21","v":0}]
[{"$f":"'13'!$D$2","v":0},{"$f":"'13'!$D$3","v":0},{"$f":"'13'!$D$4","v":0},{"$f":"'13'!$H$4","v":0},{"$f":"'13'!$G$21","v":0},{"$f":"'13'!$H$21","v":0}]
[{"$f":"'14'!$D$2","v":0},{"$f":"'14'!$D$3","v":0},{"$f":"'14'!$D$4","v":0},{"$f":"'14'!$H$4","v":0},{"$f":"'14'!$G$21","v":0},{"$f":"'14'!$H$21","v":0}]
[{"$f":"'15'!$D$2","v":0},{"$f":"'15'!$D$3","v":0},{"$f":"'15'!$D$4","v":0},{"$f":"'15'!$H$4","v":0},{"$f":"'15'!$G$21","v":0},{"$f":"'15'!$H$21","v":0}]
[{"$f":"'16'!$D$2","v":0},{"$f":"'16'!$D$3","v":0},{"$f":"'16'!$D$4","v":0},{"$f":"'16'!$H$4","v":0},{"$f":"'16'!$G$21","v":0},{"$f":"'16'!$H$21","v":0}]
[{"$f":"'17'!$D$2","v":0},{"$f":"'17'!$D$3","v":0},{"$f":"'17'!$D$4","v":0},{"$f":"'17'!$H$4","v":0},{"$f":"'17'!$G$21","v":0},{"$f":"'17'!$H$21","v":0}]
[{"$f":"'18'!$D$2","v":0},{"$f":"'18'!$D$3","v":0},{"$f":"'18'!$D$4","v":0},{"$f":"'18'!$H$4","v":0},{"$f":"'18'!$G$21","v":0},{"$f":"'18'!$H$21","v":0}]
[{"$f":"'19'!$D$2","v":0},{"$f":"'19'!$D$3","v":0},{"$f":"'19'!$D$4","v":0},{"$f":"'19'!$H$4","v":0},{"$f":"'19'!$G$21","v":0},{"$f":"'19'!$H$21","v":0}]
[{"$f":"'20'!$D$2","v":0},{"$f":"'20'!$D$3","v":0},{"$f":"'20'!$D$4","v":0},{"$f":"'20'!$H$4","v":0},{"$f":"'20'!$G$21","v":0},{"$f":"'20'!$H$21","v":0}]
[{"$f":"'21'!$D$2","v":0},{"$f":"'21'!$D$3","v":0},{"$f":"'21'!$D$4","v":0},{"$f":"'21'!$H$4","v":0},{"$f":"'21'!$G$21","v":0},{"$f":"'21'!$H$21","v":0}]
[{"$f":"'22'!$D$2","v":0},{"$f":"'22'!$D$3","v":0},{"$f":"'22'!$D$4","v":0},{"$f":"'22'!$H$4","v":0},{"$f":"'22'!$G$21","v":0},{"$f":"'22'!$H$21","v":0}]
[{"$f":"'23'!$D$2","v":0},{"$f":"'23'!$D$3","v":0},{"$f":"'23'!$D$4","v":0},{"$f":"'23'!$H$4","v":0},{"$f":"'23'!$G$21","v":0},{"$f":"'23'!$H$21","v":0}]
[{"$f":"'24'!$D$2","v":0},{"$f":"'24'!$D$3","v":0},{"$f":"'24'!$D$4","v":0},{"$f":"'24'!$H$4","v":0},{"$f":"'24'!$G$21","v":0},{"$f":"'24'!$H$21","v":0}]
[{"$f":"'25'!$D$2","v":0},{"$f":"'25'!$D$3","v":0},{"$f":"'25'!$D$4","v":0},{"$f":"'25'!$H$4","v":0},{"$f":"'25'!$G$21","v":0},{"$f":"'25'!$H$21","v":0}]
["Iš viso:",null,null,null,{"$f":"E4+E30","v":0},{"$f":"F4+F30","v":0}]
[]
["Veiklų, vykdomų pagal Aprašo 10.1 ir 10.2 punktus, išlaidų suvestinė lentelė pagal išlaidų kategorijas (lentelė užsipildo automatiškai)"]
[]
["Fizinio rodiklio Nr.","Fizinio rodiklio pavadinimas","Tinkamų finansuoti išlaidų suma, Eur","Finansavimo suma, Eur"]
[4,"Įranga, įrenginiai ir kt. turtas",{"$f":"'1'!G10+'2'!G10+'3'!G10+'4'!G10+'5'!G10+'6'!G10+'7'!G10+'8'!G10+'9'!G10+'10'!G10+'11'!G10+'12'!G10+'13'!G10+'14'!G10+'15'!G10+'16'!G10+'17'!G10+'18'!G10+'19'!G10+'20'!G10+'21'!G10+'22'!G10+'23'!G10+'24'!G10+'25'!G10","v":0},{"$f":"'1'!H10+'2'!H10+'3'!H10+'4'!H10+'5'!H10+'6'!H10+'7'!H10+'8'!H10+'9'!H10+'10'!H10+'11'!H10+'12'!H10+'13'!H10+'14'!H10+'15'!H10+'16'!H10+'17'!H10+'18'!H10+'19'!H10+'20'!H10+'21'!H10+'22'!H10+'23'!H10+'24'!H10+'25'!H10","v":0}]
["5","Projekto vykdymas",{"$f":"'1'!G21+'2'!G21+'3'!G21+'4'!G21+'5'!G21+'6'!G21+'7'!G21+'8'!G21+'9'!G21+'10'!G21+'11'!G21+'12'!G21+'13'!G21+'14'!G21+'15'!G21+'16'!G21+'17'!G21+'18'!G21+'19'!G21+'20'!G21+'21'!G21+'22'!G21+'23'!G21+'24'!G21+'25'!G21","v":0},{"$f":"'1'!H21+'2'!H21+'3'!H21+'4'!H21+'5'!H21+'6'!H21+'7'!H21+'8'!H21+'9'!H21+'10'!H21+'11'!H21+'12'!H21+'13'!H21+'14'!H21+'15'!H21+'16'!H21+'17'!H21+'18'!H21+'19'!H21+'20'!H21+'21'!H21+'22'!H21+'23'!H21+'24'!H21+'25'!H21","v":0}]
["5.1","MTEP paslaugos",{"$f":"'1'!G22+'2'!G22+'3'!G22+'4'!G22+'5'!G22+'6'!G22+'7'!G22+'8'!G22+'9'!G22+'10'!G22+'11'!G22+'12'!G22+'13'!G22+'14'!G22+'15'!G22+'16'!G22+'17'!G22+'18'!G22+'19'!G22+'20'!G22+'21'!G22+'22'!G22+'23'!G22+'24'!G22+'25'!G22","v":0},{"$f":"'1'!H22+'2'!H22+'3'!H22+'4'!H22+'5'!H22+'6'!H22+'7'!H22+'8'!H22+'9'!H22+'10'!H22+'11'!H22+'12'!H22+'13'!H22+'14'!H22+'15'!H22+'16'!H22+'17'!H22+'18'!H22+'19'!H22+'20'!H22+'21'!H22+'22'!H22+'23'!H22+'24'!H22+'25'!H22","v":0}]
["5.2","Konsultavimo ir lygiavertės paslaugos, naudojamos vien tik projekto MTEP veiklai",{"$f":"'1'!G33+'2'!G33+'3'!G33+'4'!G33+'5'!G33+'6'!G33+'7'!G33+'8'!G33+'9'!G33+'10'!G33+'11'!G33+'12'!G33+'13'!G33+'14'!G33+'15'!G33+'16'!G33+'17'!G33+'18'!G33+'19'!G33+'20'!G33+'21'!G33+'22'!G33+'23'!G33+'24'!G33+'25'!G33","v":0},{"$f":"'1'!H33+'2'!H33+'3'!H33+'4'!H33+'5'!H33+'6'!H33+'7'!H33+'8'!H33+'9'!H33+'10'!H33+'11'!H33+'12'!H33+'13'!H33+'14'!H33+'15'!H33+'16'!H33+'17'!H33+'18'!H33+'19'!H33+'20'!H33+'21'!H33+'22'!H33+'23'!H33+'24'!H33+'25'!H33","v":0}]
["5.3","Medžiagos, mažavertis inventorius, atsargos ir pan. produktai, priskirtini trumpalaikiam turtui ir tiesiogiai susiję su MTEP veikla",{"$f":"'1'!G44+'2'!G44+'3'!G44+'4'!G44+'5'!G44+'6'!G44+'7'!G44+'8'!G44+'9'!G44+'10'!G44+'11'!G44+'12'!G44+'13'!G44+'14'!G44+'15'!G44+'16'!G44+'17'!G44+'18'!G44+'19'!G44+'20'!G44+'21'!G44+'22'!G44+'23'!G44+'24'!G44+'25'!G44","v":0},{"$f":"'1'!H44+'2'!H44+'3'!H44+'4'!H44+'5'!H44+'6'!H44+'7'!H44+'8'!H44+'9'!H44+'10'!H44+'11'!H44+'12'!H44+'13'!H44+'14'!H44+'15'!H44+'16'!H44+'17'!H44+'18'!H44+'19'!H44+'20'!H44+'21'!H44+'22'!H44+'23'!H44+'24'!H44+'25'!H44","v":0}]
["5.4","Projekto MTEP veikloms naudojamo ilgalaikio materialaus turto (įrangos, prietaisų, įrankių, įrenginių, mašinų ir įrengimų, pastatų ir (ar) patalpų), nusidėvėjimo sąnaudos",{"$f":"'1'!G72+'2'!G71+'3'!G71+'4'!G71+'5'!G70+'6'!G71+'7'!G71+'8'!G72+'9'!G72+'10'!G71+'11'!G60+'12'!G60+'13'!G60+'14'!G60+'15'!G60+'16'!G60+'17'!G60+'18'!G60+'19'!G60+'20'!G60+'21'!G60+'22'!G60+'23'!G60+'24'!G60+'25'!G60","v":0},{"$f":"'1'!H72+'2'!H71+'3'!H71+'4'!H71+'5'!H70+'6'!H71+'7'!H71+'8'!H72+'9'!H72+'10'!H71+'11'!H60+'12'!H60+'13'!H60+'14'!H60+'15'!H60+'16'!H60+'17'!H60+'18'!H60+'19'!H60+'20'!H60+'21'!H60+'22'!H60+'23'!H60+'24'!H60+'25'!H60","v":0}]
["5.5","Projektą vykdančio personalo darbo užmokestis ir išlaidos su darbo santykiais susijusiems darbdavio įsipareigojimams",{"$f":"'1'!G102+'2'!G101+'3'!G100+'4'!G98+'5'!G99+'6'!G98+'7'!G98+'8'!G99+'9'!G99+'10'!G99+'11'!G76+'12'!G76+'13'!G76+'14'!G76+'15'!G76+'16'!G76+'17'!G76+'18'!G76+'19'!G76+'20'!G76+'21'!G76+'22'!G76+'23'!G76+'24'!G76+'25'!G76","v":0},{"$f":"'1'!H102+'2'!H101+'3'!H100+'4'!H98+'5'!H99+'6'!H98+'7'!H98+'8'!H99+'9'!H99+'10'!H99+'11'!H76+'12'!H76+'13'!H76+'14'!H76+'15'!H76+'16'!H76+'17'!H76+'18'!H76+'19'!H76+'20'!H76+'21'!H76+'22'!H76+'23'!H76+'24'!H76+'25'!H76","v":0}]
["5.6","Projektą vykdančio personalo komandiruočių išlaidos",{"$f":"'1'!G153+'2'!G152+'3'!G151+'4'!G149+'5'!G150+'6'!G149+'7'!G149+'8'!G150+'9'!G150+'10'!G150+'11'!G127+'12'!G127+'13'!G127+'14'!G127+'15'!G127+'16'!G127+'17'!G127+'18'!G127+'19'!G127+'20'!G127+'21'!G127+'22'!G127+'23'!G127+'24'!G127+'25'!G127","v":0},{"$f":"'1'!H153+'2'!H152+'3'!H151+'4'!H149+'5'!H150+'6'!H149+'7'!H149+'8'!H150+'9'!H150+'10'!H150+'11'!H127+'12'!H127+'13'!H127+'14'!H127+'15'!H127+'16'!H127+'17'!H127+'18'!H127+'19'!H127+'20'!H127+'21'!H127+'22'!H127+'23'!H127+'24'!H127+'25'!H127","v":0}]
["5.7","Įrangos nuomos išlaidos, veiklai priskirtos pro rata principu",{"$f":"'1'!G224+'2'!G223+'3'!G222+'4'!G220+'5'!G221+'6'!G220+'7'!G220+'8'!G221+'9'!G221+'10'!G221+'11'!G198+'12'!G198+'13'!G198+'14'!G198+'15'!G198+'16'!G198+'17'!G198+'18'!G198+'19'!G198+'20'!G198+'21'!G198+'22'!G198+'23'!G198+'24'!G198+'25'!G198","v":0},{"$f":"'1'!H224+'2'!H223+'3'!H222+'4'!H220+'5'!H221+'6'!H220+'7'!H220+'8'!H221+'9'!H221+'10'!H221+'11'!H198+'12'!H198+'13'!H198+'14'!H198+'15'!H198+'16'!H198+'17'!H198+'18'!H198+'19'!H198+'20'!H198+'21'!H198+'22'!H198+'23'!H198+'24'!H198+'25'!H198","v":0}]
["5.8","Pastatų ar patalpų nuomos išlaidos, veiklai priskirtos pro rata principu",{"$f":"'1'!G242+'2'!G242+'3'!G240+'4'!G238+'5'!G239+'6'!G241+'7'!G238+'8'!G239+'9'!G239+'10'!G239+'11'!G204+'12'!G204+'13'!G204+'14'!G204+'15'!G204+'16'!G204+'17'!G204+'18'!G204+'19'!G204+'20'!G204+'21'!G204+'22'!G204+'23'!G204+'24'!G204+'25'!G204","v":0},{"$f":"'1'!H242+'2'!H242+'3'!H240+'4'!H238+'5'!H239+'6'!H241+'7'!H238+'8'!H239+'9'!H239+'10'!H239+'11'!H204+'12'!H204+'13'!H204+'14'!H204+'15'!H204+'16'!H204+'17'!H204+'18'!H204+'19'!H204+'20'!H204+'21'!H204+'22'!H204+'23'!H204+'24'!H204+'25'!H204","v":0}]
["7","Netiesioginės išlaidos ir kt. išlaidos pagal fiksuotąją projekto išlaidų normą",{"$f":"'Netiesioginės išlaidos'!H18","v":0},{"$f":"'Netiesioginės išlaidos'!H19","v":0}]
["Iš viso:",null,{"$f":"C61+C62+C71","v":0},{"$f":"D61+D62+D71","v":0}]
[]
[]
["4, 5.1 ir 5.2 biudžeto eilučių suma ir procentinė dalis",null,{"$f":"C61+C63+C64","v":0},{"$f":"IFERROR(C75/C72, \"0%\")","v":"0%"},{"$f":"IF(C75>(C72*0.5),\"DĖMESIO! Patikrinkite, ar biudžeto eilučių Nr. 4, 5.1 ir 5.2 suma neviršija 50 proc. Aprašo 10.1 veiklai skirtų tinkamų finansuoti išlaidų\",\" \")","v":" "}]
["5.8 ir 7 biudžeto eilučių suma",null,{"$f":"C70+C71","v":0},{"$f":"IFERROR(C76/C72, \"0%\")","v":"0%"},{"$f":"IF(C76>(E72*0.1),\"DĖMESIO! Patikrinkite, ar biudžeto eilučių Nr. 5.8 ir 7 suma neviršija 10 proc. Aprašo 10.1 veiklai skirtų tinkamų finansuoti išlaidų\",\" \")","v":" "}]

{"sheet":"1","index":2,"n_rows":248,"n_cols":19,"rows_kept":248,"cut":false,"hidden":false,"merged":[[39,1,39,2],[69,1,69,2],[90,1,90,2],[91,1,91,2],[92,1,92,2],[93,1,93,2],[51,1,51,2],[52,1,52,2],[99,1,99,2],[88,1,88,2],[94,1,94,2],[95,1,95,2],[96,1,96,2],[97,1,97,2],[98,1,98,2],[65,1,65,2],[66,1,66,2],[67,1,67,2],[53,1,53,2],[54,1,54,2],[55,1,55,2],[56,1,56,2],[57,1,57,2],[58,1,58,2],[247,0,247,5],[223,1,223,5],[224,1,224,2],[237,1,237,2],[238,1,238,2],[239,1,239,2],[240,1,240,2],[245,1,245,2],[246,1,246,2],[241,1,241,5],[242,1,242,2],[243,1,243,2],[244,1,244,2],[226,1,226,2],[227,1,227,2],[228,1,228,2],[229,1,229,2],[230,1,230,2],[231,1,231,2],[232,1,232,2],[233,1,233,2],[234,1,234,2],[235,1,235,2],[236,1,236,2],[33,1,33,2],[34,1,34,2],[35,1,35,2],[36,1,36,2],[37,1,37,2],[31,1,31,2],[87,1,87,2],[40,1,40,2],[41,1,41,2],[42,1,42,2],[44,1,44,2],[45,1,45,2],[46,1,46,2],[47,1,47,2],[48,1,48,2],[70,1,70,2],[72,1,72,2],[38,1,38,2],[68,1,68,2],[32,1,32,5],[43,1,43,5],[71,1,71,5],[49,1,49,2],[50,1,50,2],[2,0,2,2],[2,3,2,8],[8,1,8,2],[0,3,0,8],[9,1,9,5],[10,1,10,2],[11,1,11,2],[12,1,12,2],[4,0,4,2],[4,3,4,8],[3,3,3,4],[3,5,3,6],[13,1,13,2],[14,1,14,2],[15,1,15,2],[16,1,16,2],[17,1,17,2],[18,1,18,2],[19,1,19,2],[30,1,30,2],[22,1,22,2],[23,1,23,2],[24,1,24,2],[25,1,25,2],[26,1,26,2],[20,1,20,5],[27,1,27,2],[28,1,28,2],[29,1,29,2],[21,1,21,5],[102,0,106,0],[102,6,106,6],[102,7,106,7],[102,8,106,8],[107,0,111,0],[107,1,111,1],[107,3,111,3],[107,4,111,4],[107,5,111,5],[107,6,111,6],[107,7,111,7],[107,8,111,8],[102,1,106,1],[102,3,106,3],[102,4,106,4],[102,5,106,5],[112,6,116,6],[112,7,116,7],[112,8,116,8],[117,0,121,0],[117,1,121,1],[117,3,121,3],[117,4,121,4],[117,5,121,5],[117,6,121,6],[117,7,121,7],[117,8,121,8],[112,0,116,0],[112,1,116,1],[112,3,116,3],[112,4,116,4],[112,5,116,5],[122,6,126,6],[122,7,126,7],[122,8,126,8],[127,0,131,0],[127,1,131,1],[127,3,131,3],[127,4,131,4],[127,5,131,5],[127,6,131,6],[127,7,131,7],[127,8,131,8],[122,0,126,0],[122,1,126,1],[122,3,126,3],[122,4,126,4],[122,5,126,5],[132,6,136,6],[132,7,136,7],[132,8,136,8],[137,0,141,0],[137,1,141,1],[137,3,141,3],[137,4,141,4],[137,5,141,5],[137,6,141,6],[137,7,141,7],[137,8,141,8],[132,0,136,0],[132,1,136,1],[132,3,136,3],[132,4,136,4],[132,5,136,5],[147,6,151,6],[147,7,151,7],[147,8,151,8],[142,0,146,0],[142,1,146,1],[142,3,146,3],[142,4,146,4],[142,5,146,5],[142,6,146,6],[142,7,146,7],[142,8,146,8],[147,0,151,0],[147,1,151,1],[147,3,151,3],[147,4,151,4],[147,5,151,5],[153,0,159,0],[153,1,159,1],[160,0,166,0],[160,1,166,1],[167,0,173,0],[167,1,173,1],[174,0,180,0],[174,1,180,1],[181,0,187,0],[181,1,187,1],[216,8,222,8],[188,0,194,0],[188,1,194,1],[195,0,201,0],[195,1,201,1],[202,0,208,0],[202,1,208,1],[209,0,215,0],[209,1,215,1],[216,0,222,0],[216,1,222,1],[153,8,159,8],[160,8,166,8],[167,8,173,8],[174,8,180,8],[181,8,187,8],[188,8,194,8],[195,8,201,8],[202,8,208,8],[209,8,215,8],[59,1,59,2],[60,1,60,2],[61,1,61,2],[62,1,62,2],[63,1,63,2],[64,1,64,2],[73,1,73,2],[74,1,74,2],[75,1,75,2],[85,1,85,2],[86,1,86,2],[225,1,225,2],[89,1,89,2],[100,1,100,2],[101,1,101,5],[152,1,152,5],[76,1,76,2],[77,1,77,2],[78,1,78,2],[79,1,79,2],[80,1,80,2],[81,1,81,2],[82,1,82,2],[83,1,83,2],[84,1,84,2]]}
[null,null,"Pasirinkite veiklos tipą:"]
[null,null,"Fizinio rodiklio Nr.:"]
["Fizinio rodiklio pavadinimas:"]
[null,null,"Fizinio rodiklio matavimo vnt.:",null,null,"Fizinio rodiklio vnt. skaičius:"]
["Juridinis asmuo (pareiškėjas, partneris), atsakingas už fizinį rodiklį:"]
[]
[null,null,"Finansavimo intensyvumas:","80%",null,null,"Pasirinkite biudžeto išlaidų kategoriją:"]
[]
["Eil. Nr.","Išlaidų kategorijos pavadinimas",null,"Matavimo vnt.","Kiekis","Vieneto kaina be PVM, Eur","Tinkamų finansuoti išlaidų suma be PVM, Eur","Finansavimo suma, Eur","Išlaidų pagrindimo dokumentų pavadinimas, data ir Nr."]
[4,"ĮRANGA, ĮRENGINIAI IR KT. TURTAS (techninių žinių ir išradimų patentų arba teisių pagal licencijų sutartį įsigijimo išlaidos)",null,null,null,null,{"$f":"SUM(G11:G20)","v":0},{"$f":"SUM(H11:H20)","v":0}]
["4.1","Išlaidų pavadinimas",null,null,null,null,{"$f":"ROUND(E11*F11,2)","v":0},{"$f":"ROUND(G11*$D$7,2)","v":0}]
["4.2","Išlaidų pavadinimas",null,null,null,null,0,0]
["4.3","Išlaidų pavadinimas",null,null,null,null,0,0]
["4.4","Išlaidų pavadinimas",null,null,null,null,0,0]
["4.5","Išlaidų pavadinimas",null,null,null,null,0,0]
["4.6","Išlaidų pavadinimas",null,null,null,null,0,0]
["4.7","Išlaidų pavadinimas",null,null,null,null,0,0]
["4.8","Išlaidų pavadinimas",null,null,null,null,0,0]
["4.9","Išlaidų pavadinimas",null,null,null,null,0,0]
["4.10","Išlaidų pavadinimas",null,null,null,null,0,0]
[5,"PROJEKTO VYKDYMAS",null,null,null,null,{"$f":"G22+G33+G44+G72+G102+G153+G224+G242","v":0},{"$f":"H22+H33+H44+H72+H102+H153+H224+H242","v":0}]
["5.1","MTEP paslaugos",null,null,null,null,{"$f":"SUM(G23:G32)","v":0},{"$f":"SUM(H23:H32)","v":0}]
["5.1.1","Paslaugos pavadinimas",null,null,null,null,{"$f":"ROUND(E23*F23,2)","v":0},0]
["5.1.2","Paslaugos pavadinimas",null,null,null,null,0,0]
["5.1.3","Paslaugos pavadinimas",null,null,null,null,0,0]
["5.1.4","Paslaugos pavadinimas",null,null,null,null,0,0]
["5.1.5","Paslaugos pavadinimas",null,null,null,null,0,0]
["5.1.6","Paslaugos pavadinimas",null,null,null,null,0,0]
["5.1.7","Paslaugos pavadinimas",null,null,null,null,0,0]
["5.1.8","Paslaugos pavadinimas",null,null,null,null,0,0]
["5.1.9","Paslaugos pavadinimas",null,null,null,null,0,0]
["5.1.10","Paslaugos pavadinimas",null,null,null,null,0,0]
["5.2","Konsultavimo ir lygiavertės paslaugos, naudojamos vien tik projekto MTEP veiklai",null,null,null,null,{"$f":"SUM(G34:G43)","v":0},{"$f":"SUM(H34:H43)","v":0}]
["5.2.1","Paslaugos pavadinimas",null,null,null,null,{"$f":"ROUND(E34*F34,2)","v":0},0]
["5.2.2","Paslaugos pavadinimas",null,null,null,null,0,0]
["5.2.3","Paslaugos pavadinimas",null,null,null,null,0,0]
["5.2.4","Paslaugos pavadinimas",null,null,null,null,0,0]
["5.2.5","Paslaugos pavadinimas",null,null,null,null,0,0]
["5.2.6","Paslaugos pavadinimas",null,null,null,null,0,0]
["5.2.7","Paslaugos pavadinimas",null,null,null,null,0,0]
["5.2.8","Paslaugos pavadinimas",null,null,null,null,0,0]
["5.2.9","Paslaugos pavadinimas",null,null,null,null,0,0]
["5.2.10","Paslaugos pavadinimas",null,null,null,null,0,0]
["5.3","Medžiagos, mažavertis inventorius, atsargos ir pan. produktai, priskirtini trumpalaikiam turtui ir tiesiogiai susiję su MTEP veikla",null,null,null,null,{"$f":"SUM(G45:G71)","v":0},{"$f":"SUM(H45:H71)","v":0}]
["5.3.1","Išlaidų pavadinimas",null,null,null,null,{"$f":"ROUND(E45*F45,2)","v":0},{"$f":"ROUND(G45*$D$7,2)","v":0}]
["5.3.2","Išlaidų pavadinimas",null,null,null,null,0,0]
["5.3.3","Išlaidų pavadinimas",null,null,null,null,0,0]
["5.3.4","Išlaidų pavadinimas",null,null,null,null,0,0]
["5.3.5","Išlaidų pavadinimas",null,null,null,null,{"$f":"ROUND(E49*F49,2)","v":0},{"$f":"ROUND(G49*$D$7,2)","v":0}]
["5.3.6","Išlaidų pavadinimas",null,null,null,null,0,0]
["5.3.7","Išlaidų pavadinimas",null,null,null,null,0,0]
["5.3.8","Išlaidų pavadinimas",null,null,null,null,0,0]
["5.3.9","Išlaidų pavadinimas",null,null,null,null,0,0]
["5.3.10","Išlaidų pavadinimas",null,null,null,null,0,0]
["5.3.11","Išlaidų pavadinimas",null,null,null,null,0,0]
["5.3.12","Išlaidų pavadinimas",null,null,null,null,0,0]
["5.3.13","Išlaidų pavadinimas",null,null,null,null,0,0]
["5.3.14","Išlaidų pavadinimas",null,null,null,null,0,0]
["5.3.15","Išlaidų pavadinimas",null,null,null,null,0,0]
["5.3.16","Išlaidų pavadinimas",null,null,null,null,0,0]
["5.3.17","Išlaidų pavadinimas",null,null,null,null,0,0]
["5.3.18","Išlaidų pavadinimas",null,null,null,null,0,0]
["5.3.19","Išlaidų pavadinimas",null,null,null,null,0,0]
["5.3.20","Išlaidų pavadinimas",null,null,null,null,0,0]
["5.3.21","Išlaidų pavadinimas",null,null,null,null,0,0]
["5.3.22","Išlaidų pavadinimas",null,null,null,null,0,0]
["5.3.23","Išlaidų pavadinimas",null,null,null,null,0,0]
["5.3.24","Išlaidų pavadinimas",null,null,null,null,0,0]
["5.3.25","Išlaidų pavadinimas",null,null,null,null,0,0]
["5.3.26","Išlaidų pavadinimas",null,null,null,null,0,0]
["5.3.27","Išlaidų pavadinimas",null,null,null,null,0,0]
["5.4","Projekto MTEP veikloms naudojamo ilgalaikio materialaus turto (įrangos, prietaisų, įrankių, įrenginių, mašinų ir įrengimų, pastatų ir (ar) patalpų), nusidėvėjimo sąnaudos, jeigu šiam turtui įsigyti nebuvo naudojamos viešosios (įskaitant ir kitų valstybių) lėšos",null,null,null,null,{"$f":"SUM(G73:G101)","v":0},{"$f":"SUM(H73:H101)","v":0},null,null,"Turto įvedimo į eksploataciją data","Turto įsigijimo vertė, Eur","Turto nudėvėjimo, amortizacijos laikotarpis, mėn.","Numatoma turto likutinė vertė, Eur","1 mėn. nudėvėjimo, amortizacijos suma, Eur","Turto naudojamo projekto reikmėms laikas, mėn.","Turto panaudojimo projekto reikmėms dalis (proc.)","Projektui priskirta turto nusidėvėjimo, amortizacijos suma per projekto laikotarpį, Eur"]
["5.4.1","Turtas, kurio nusidėvėjimą, amortizaciją prašoma finansuoti",null,null,1,{"$f":"R73","v":0},{"$f":"ROUND(E73*F73,2)","v":0},0,null,null,null,null,null,null,{"$f":"IFERROR(ROUND((L73-N73)/M73,2),\"0\")","v":"0"},null,null,{"$f":"O73*P73*Q73","v":0},{"$f":"IF(K73=0,\" \",IF(K73+(M73*30.5)<TODAY(),\"DĖMESIO! Patikrinkite, ar nurodytas turtas dar nėra nudėvėtas, amortizuotas\",\" \"))","v":" "}]
["5.4.2","Turtas, kurio nusidėvėjimą, amortizaciją prašoma finansuoti",null,null,1,{"$f":"R74","v":0},0,0,null,null,null,null,null,null,{"$f":"IFERROR(ROUND((L74-N74)/M74,2),\"0\")","v":"0"},null,null,{"$f":"O74*P74*Q74","v":0}]
["5.4.3","Turtas, kurio nusidėvėjimą, amortizaciją prašoma finansuoti",null,null,1,0,0,0,null,null,null,null,null,null,"0",null,null,0]
["5.4.4","Turtas, kurio nusidėvėjimą, amortizaciją prašoma finansuoti",null,null,1,0,0,0,null,null,null,null,null,null,"0",null,null,0]
["5.4.5","Turtas, kurio nusidėvėjimą, amortizaciją prašoma finansuoti",null,null,1,0,0,0,null,null,null,null,null,null,"0",null,null,0]
["5.4.6","Turtas, kurio nusidėvėjimą, amortizaciją prašoma finansuoti",null,null,1,0,0,0,null,null,null,null,null,null,"0",null,null,0]
["5.4.7","Turtas, kurio nusidėvėjimą, amortizaciją prašoma finansuoti",null,null,1,0,0,0,null,null,null,null,null,null,"0",null,null,0]
["5.4.8","Turtas, kurio nusidėvėjimą, amortizaciją prašoma finansuoti",null,null,1,0,0,0,null,null,null,null,null,null,"0",null,null,0]
["5.4.9","Turtas, kurio nusidėvėjimą, amortizaciją prašoma finansuoti",null,null,1,0,0,0,null,null,null,null,null,null,"0",null,null,0]
["5.4.10","Turtas, kurio nusidėvėjimą, amortizaciją prašoma finansuoti",null,null,1,0,0,0,null,null,null,null,null,null,"0",null,null,0]
["5.4.11","Turtas, kurio nusidėvėjimą, amortizaciją prašoma finansuoti",null,null,1,0,0,0,null,null,null,null,null,null,"0",null,null,0]
["5.4.12","Turtas, kurio nusidėvėjimą, amortizaciją prašoma finansuoti",null,null,1,0,0,0,null,null,null,null,null,null,"0",null,null,0]
["5.4.13","Turtas, kurio nusidėvėjimą, amortizaciją prašoma finansuoti",null,null,1,0,0,0,null,null,null,null,null,null,"0",null,null,0]
["5.4.14","Turtas, kurio nusidėvėjimą, amortizaciją prašoma finansuoti",null,null,1,0,0,0,null,null,null,null,null,null,"0",null,null,0]
["5.4.15","Turtas, kurio nusidėvėjimą, amortizaciją prašoma finansuoti",null,null,1,0,0,0,null,null,null,null,null,null,"0",null,null,0]
["5.4.16","Turtas, kurio nusidėvėjimą, amortizaciją prašoma finansuoti",null,null,1,{"$f":"R88","v":0},0,0,null,null,null,null,null,null,{"$f":"IFERROR(ROUND((L88-N88)/M88,2),\"0\")","v":"0"},null,null,{"$f":"O88*P88*Q88","v":0},{"$f":"IF(K88=0,\" \",IF(K88+(M88*30.5)<TODAY(),\"DĖMESIO! Patikrinkite, ar nurodytas turtas dar nėra nudėvėtas, amortizuotas\",\" \"))","v":" "}]
["5.4.17","Turtas, kurio nusidėvėjimą, amortizaciją prašoma finansuoti",null,null,1,0,0,0,null,null,null,null,null,null,"0",null,null,0," "]
["5.4.18","Turtas, kurio nusidėvėjimą, amortizaciją prašoma finansuoti",null,null,1,{"$f":"R90","v":0},{"$f":"ROUND(E90*F90,2)","v":0},{"$f":"ROUND(G90*$D$7,2)","v":0},null,null,null,null,null,null,"0",null,null,0," "]
["5.4.19","Turtas, kurio nusidėvėjimą, amortizaciją prašoma finansuoti",null,null,1,0,0,0,null,null,null,null,null,null,"0",null,null,0," "]
["5.4.20","Turtas, kurio nusidėvėjimą, amortizaciją prašoma finansuoti",null,null,1,0,0,0,null,null,null,null,null,null,"0",null,null,0," "]
["5.4.21","Turtas, kurio nusidėvėjimą, amortizaciją prašoma finansuoti",null,null,1,0,0,0,null,null,null,null,null,null,"0",null,null,0," "]
["5.4.22","Turtas, kurio nusidėvėjimą, amortizaciją prašoma finansuoti",null,null,1,0,0,0,null,null,null,null,null,null,"0",null,null,0," "]
["5.4.23","Turtas, kurio nusidėvėjimą, amortizaciją prašoma finansuoti",null,null,1,0,0,0,null,null,null,null,null,null,"0",null,null,0," "]
["5.4.24","Turtas, kurio nusidėvėjimą, amortizaciją prašoma finansuoti",null,null,1,0,0,0,null,null,null,null,null,null,"0",null,null,0," "]
["5.4.25","Turtas, kurio nusidėvėjimą, amortizaciją prašoma finansuoti",null,null,1,0,0,0,null,null,null,null,null,null,"0",null,null,0," "]
["5.4.26","Turtas, kurio nusidėvėjimą, amortizaciją prašoma finansuoti",null,null,1,0,0,0,null,null,null,null,null,null,"0",null,null,0," "]
["5.4.27","Turtas, kurio nusidėvėjimą, amortizaciją prašoma finansuoti",null,null,1,0,0,0,null,null,null,null,null,null,"0",null,null,0," "]
["5.4.28","Turtas, kurio nusidėvėjimą, amortizaciją prašoma finansuoti",null,null,1,0,0,0,null,null,null,null,null,null,"0",null,null,0," "]
["5.4.29","Turtas, kurio nusidėvėjimą, amortizaciją prašoma finansuoti",null,null,1,0,0,0,null,null,null,null,null,null,"0",null,null,0," "]
["5.5","Projektą vykdančio personalo darbo užmokestis ir išlaidos su darbo santykiais susijusiems darbdavio įsipareigojimams",null,null,null,null,{"$f":"SUM(G103:G152)","v":0},{"$f":"SUM(H103:H152)","v":0},null,null,"Faktiškai gaunamas darbo užmokesti už 1 valandą pagal  pastarųjų 6 mėn. vidurkį, Eur"]
["5.5.1","Pareigybės pavadinimas","Darbuotojo vardas pavardė","val.",null,{"$f":"IFERROR(ROUND(AVERAGE(K103:K107),2),\"0\")","v":"0"},{"$f":"ROUND(E103*F103,2)","v":0},{"$f":"ROUND(G103*$D$7,2)","v":0}]
[null,null,"Darbuotojo vardas pavardė"]
[null,null,"Darbuotojo vardas pavardė"]
[null,null,"Darbuotojo vardas pavardė"]
[null,null,"Darbuotojo vardas pavardė"]
["5.5.2","Pareigybės pavadinimas","Darbuotojo vardas pavardė","val.",null,{"$f":"IFERROR(ROUND(AVERAGE(K108:K112),2),\"0\")","v":"0"},{"$f":"ROUND(E108*F108,2)","v":0},{"$f":"ROUND(G108*$D$7,2)","v":0}]
[null,null,"Darbuotojo vardas pavardė"]
[null,null,"Darbuotojo vardas pavardė"]
[null,null,"Darbuotojo vardas pavardė"]
[null,null,"Darbuotojo vardas pavardė"]
["5.5.3","Pareigybės pavadinimas","Darbuotojo vardas pavardė","val.",null,{"$f":"IFERROR(ROUND(AVERAGE(K113:K117),2),\"0\")","v":"0"},{"$f":"ROUND(E113*F113,2)","v":0},{"$f":"ROUND(G113*$D$7,2)","v":0}]
[null,null,"Darbuotojo vardas pavardė"]
[null,null,"Darbuotojo vardas pavardė"]
[null,null,"Darbuotojo vardas pavardė"]
[null,null,"Darbuotojo vardas pavardė"]
["5.5.4","Pareigybės pavadinimas","Darbuotojo vardas pavardė","val.",null,{"$f":"IFERROR(ROUND(AVERAGE(K118:K122),2),\"0\")","v":"0"},{"$f":"ROUND(E118*F118,2)","v":0},{"$f":"ROUND(G118*$D$7,2)","v":0}]
[null,null,"Darbuotojo vardas pavardė"]
[null,null,"Darbuotojo vardas pavardė"]
[null,null,"Darbuotojo vardas pavardė"]
[null,null,"Darbuotojo vardas pavardė"]
["5.5.5","Pareigybės pavadinimas","Darbuotojo vardas pavardė","val.",null,{"$f":"IFERROR(ROUND(AVERAGE(K123:K127),2),\"0\")","v":"0"},{"$f":"ROUND(E123*F123,2)","v":0},{"$f":"ROUND(G123*$D$7,2)","v":0}]
[null,null,"Darbuotojo vardas pavardė"]
[null,null,"Darbuotojo vardas pavardė"]
[null,null,"Darbuotojo vardas pavardė"]
[null,null,"Darbuotojo vardas pavardė"]
["5.5.6","Pareigybės pavadinimas","Darbuotojo vardas pavardė","val.",null,{"$f":"IFERROR(ROUND(AVERAGE(K128:K132),2),\"0\")","v":"0"},{"$f":"ROUND(E128*F128,2)","v":0},{"$f":"ROUND(G128*$D$7,2)","v":0}]
[null,null,"Darbuotojo vardas pavardė"]
[null,null,"Darbuotojo vardas pavardė"]
[null,null,"Darbuotojo vardas pavardė"]
[null,null,"Darbuotojo vardas pavardė"]
["5.5.7","Pareigybės pavadinimas","Darbuotojo vardas pavardė","val.",null,{"$f":"IFERROR(ROUND(AVERAGE(K133:K137),2),\"0\")","v":"0"},{"$f":"ROUND(E133*F133,2)","v":0},{"$f":"ROUND(G133*$D$7,2)","v":0}]
[null,null,"Darbuotojo vardas pavardė"]
[null,null,"Darbuotojo vardas pavardė"]
[null,null,"Darbuotojo vardas pavardė"]
[null,null,"Darbuotojo vardas pavardė"]
["5.5.8","Pareigybės pavadinimas","Darbuotojo vardas pavardė","val.",null,{"$f":"IFERROR(ROUND(AVERAGE(K138:K142),2),\"0\")","v":"0"},{"$f":"ROUND(E138*F138,2)","v":0},{"$f":"ROUND(G138*$D$7,2)","v":0}]
[null,null,"Darbuotojo vardas pavardė"]
[null,null,"Darbuotojo vardas pavardė"]
[null,null,"Darbuotojo vardas pavardė"]
[null,null,"Darbuotojo vardas pavardė"]
["5.5.9","Pareigybės pavadinimas","Darbuotojo vardas pavardė","val.",null,{"$f":"IFERROR(ROUND(AVERAGE(K143:K147),2),\"0\")","v":"0"},{"$f":"ROUND(E143*F143,2)","v":0},{"$f":"ROUND(G143*$D$7,2)","v":0}]
[null,null,"Darbuotojo vardas pavardė"]
[null,null,"Darbuotojo vardas pavardė"]
[null,null,"Darbuotojo vardas pavardė"]
[null,null,"Darbuotojo vardas pavardė"]
["5.5.10","Pareigybės pavadinimas","Darbuotojo vardas pavardė","val.",null,{"$f":"IFERROR(ROUND(AVERAGE(K148:K152),2),\"0\")","v":"0"},{"$f":"ROUND(E148*F148,2)","v":0},{"$f":"ROUND(G148*$D$7,2)","v":0}]
[null,null,"Darbuotojo vardas pavardė"]
[null,null,"Darbuotojo vardas pavardė"]
[null,null,"Darbuotojo vardas pavardė"]
[null,null,"Darbuotojo vardas pavardė"]
["5.6","Projektą vykdančio personalo komandiruočių išlaidos",null,null,null,null,{"$f":"SUM(G154,G161,G168,G175,G182,G189,G196,G203,G210,G217)","v":0},{"$f":"SUM(H154,H161,H168,H175,H182,H189,H196,H203,H210,H217)","v":0}]
["5.6.1","Komandiruotės pavadinimas, vieta, trukmė dienomis, vykstančių asmenų skaičius","Iš viso komandiruotei",null,null,null,{"$f":"SUM(G155:G160)","v":0},{"$f":"ROUND(G154*$D$7,2)","v":0}]
[null,null,"Dienpinigiai",null,null,null,{"$f":"ROUND(E155*F155,2)","v":0}]
[null,null,"Gyvenamojo ploto nuoma",null,null,null,0]
[null,null,"Kelionės išlaidos",null,null,null,0]
[null,null,"Dalyvavimo mokestis",null,null,null,0]
[null,null,"Kitos išlaidų pavadinimas",null,null,null,0]
[null,null,"Kitos išlaidų pavadinimas",null,null,null,0]
["5.6.2","Komandiruotės pavadinimas, vieta, trukmė dienomis, vykstančių asmenų skaičius","Iš viso komandiruotei",null,null,null,{"$f":"SUM(G162:G167)","v":0},{"$f":"ROUND(G161*$D$7,2)","v":0}]
[null,null,"Dienpinigiai",null,null,null,{"$f":"ROUND(E162*F162,2)","v":0}]
[null,null,"Gyvenamojo ploto nuoma",null,null,null,0]
[null,null,"Kelionės išlaidos",null,null,null,0]
[null,null,"Dalyvavimo mokestis",null,null,null,0]
[null,null,"Kitos išlaidų pavadinimas",null,null,null,0]
[null,null,"Kitos išlaidų pavadinimas",null,null,null,0]
["5.6.3","Komandiruotės pavadinimas, vieta, trukmė dienomis, vykstančių asmenų skaičius","Iš viso komandiruotei",null,null,null,{"$f":"SUM(G169:G174)","v":0},{"$f":"ROUND(G168*$D$7,2)","v":0}]
[null,null,"Dienpinigiai",null,null,null,{"$f":"ROUND(E169*F169,2)","v":0}]
[null,null,"Gyvenamojo ploto nuoma",null,null,null,0]
[null,null,"Kelionės išlaidos",null,null,null,0]
[null,null,"Dalyvavimo mokestis",null,null,null,0]
[null,null,"Kitos išlaidų pavadinimas",null,null,null,0]
[null,null,"Kitos išlaidų pavadinimas",null,null,null,0]
["5.6.4","Komandiruotės pavadinimas, vieta, trukmė dienomis, vykstančių asmenų skaičius","Iš viso komandiruotei",null,null,null,{"$f":"SUM(G176:G181)","v":0},{"$f":"ROUND(G175*$D$7,2)","v":0}]
[null,null,"Dienpinigiai",null,null,null,{"$f":"ROUND(E176*F176,2)","v":0}]
[null,null,"Gyvenamojo ploto nuoma",null,null,null,0]
[null,null,"Kelionės išlaidos",null,null,null,0]
[null,null,"Dalyvavimo mokestis",null,null,null,0]
[null,null,"Kitos išlaidų pavadinimas",null,null,null,0]
[null,null,"Kitos išlaidų pavadinimas",null,null,null,0]
["5.6.5","Komandiruotės pavadinimas, vieta, trukmė dienomis, vykstančių asmenų skaičius","Iš viso komandiruotei",null,null,null,{"$f":"SUM(G183:G188)","v":0},{"$f":"ROUND(G182*$D$7,2)","v":0}]
[null,null,"Dienpinigiai",null,null,null,{"$f":"ROUND(E183*F183,2)","v":0}]
[null,null,"Gyvenamojo ploto nuoma",null,null,null,0]
[null,null,"Kelionės išlaidos",null,null,null,0]
[null,null,"Dalyvavimo mokestis",null,null,null,0]
[null,null,"Kitos išlaidų pavadinimas",null,null,null,0]
[null,null,"Kitos išlaidų pavadinimas",null,null,null,0]
["5.6.6","Komandiruotės pavadinimas, vieta, trukmė dienomis, vykstančių asmenų skaičius","Iš viso komandiruotei",null,null,null,{"$f":"SUM(G190:G195)","v":0},{"$f":"ROUND(G189*$D$7,2)","v":0}]
[null,null,"Dienpinigiai",null,null,null,{"$f":"ROUND(E190*F190,2)","v":0}]
[null,null,"Gyvenamojo ploto nuoma",null,null,null,0]
[null,null,"Kelionės išlaidos",null,null,null,0]
[null,null,"Dalyvavimo mokestis",null,null,null,0]
[null,null,"Kitos išlaidų pavadinimas",null,null,null,0]
[null,null,"Kitos išlaidų pavadinimas",null,null,null,0]
["5.6.7","Komandiruotės pavadinimas, vieta, trukmė dienomis, vykstančių asmenų skaičius","Iš viso komandiruotei",null,null,null,{"$f":"SUM(G197:G202)","v":0},{"$f":"ROUND(G196*$D$7,2)","v":0}]
[null,null,"Dienpinigiai",null,null,null,{"$f":"ROUND(E197*F197,2)","v":0}]
[null,null,"Gyvenamojo ploto nuoma",null,null,null,0]
[null,null,"Kelionės išlaidos",null,null,null,0]
[null,null,"Dalyvavimo mokestis",null,null,null,0]
[null,null,"Kitos išlaidų pavadinimas",null,null,null,0]
[null,null,"Kitos išlaidų pavadinimas",null,null,null,0]
["5.6.8","Komandiruotės pavadinimas, vieta, trukmė dienomis, vykstančių asmenų skaičius","Iš viso komandiruotei",null,null,null,{"$f":"SUM(G204:G209)","v":0},{"$f":"ROUND(G203*$D$7,2)","v":0}]
[null,null,"Dienpinigiai",null,null,null,{"$f":"ROUND(E204*F204,2)","v":0}]
[null,null,"Gyvenamojo ploto nuoma",null,null,null,0]
[null,null,"Kelionės išlaidos",null,null,null,0]
[null,null,"Dalyvavimo mokestis",null,null,null,0]
[null,null,"Kitos išlaidų pavadinimas",null,null,null,0]
[null,null,"Kitos išlaidų pavadinimas",null,null,null,0]
["5.6.9","Komandiruotės pavadinimas, vieta, trukmė dienomis, vykstančių asmenų skaičius","Iš viso komandiruotei",null,null,null,{"$f":"SUM(G211:G216)","v":0},{"$f":"ROUND(G210*$D$7,2)","v":0}]
[null,null,"Dienpinigiai",null,null,null,{"$f":"ROUND(E211*F211,2)","v":0}]
[null,null,"Gyvenamojo ploto nuoma",null,null,null,0]
[null,null,"Kelionės išlaidos",null,null,null,0]
[null,null,"Dalyvavimo mokestis",null,null,null,0]
[null,null,"Kitos išlaidų pavadinimas",null,null,null,0]
[null,null,"Kitos išlaidų pavadinimas",null,null,null,0]
["5.6.10","Komandiruotės pavadinimas, vieta, trukmė dienomis, vykstančių asmenų skaičius","Iš viso komandiruotei",null,null,null,{"$f":"SUM(G218:G223)","v":0},{"$f":"ROUND(G217*$D$7,2)","v":0}]
[null,null,"Dienpinigiai",null,null,null,{"$f":"ROUND(E218*F218,2)","v":0}]
[null,null,"Gyvenamojo ploto nuoma",null,null,null,0]
[null,null,"Kelionės išlaidos",null,null,null,0]
[null,null,"Dalyvavimo mokestis",null,null,null,0]
[null,null,"Kitos išlaidų pavadinimas",null,null,null,0]
[null,null,"Kitos išlaidų pavadinimas",null,null,null,0]
["5.7","Įrangos nuomos išlaidos, veiklai priskirtos pro rata principu. Įranga turi būti tiesiogiai susijusi su projekto įgyvendinimu ir negali būti įsigyta iš ES struktūrinių fondų ar kt. ES finansinių priemonių lėšų",null,null,null,null,{"$f":"SUM(G225:G241)","v":0},{"$f":"SUM(H225:H241)","v":0},null,null,"Faktinės 1 mėnesio išlaidos, Eur","Naudojimo projekte trukmė, mėn."]
["5.7.1","Įrangos pavadinimas",null,"pro rata proc.",null,{"$f":"K225*L225","v":0},0,{"$f":"ROUND(G225*$D$7,2)","v":0}]
["5.7.2","Įrangos pavadinimas",null,"pro rata proc.",null,{"$f":"K226*L226","v":0},0,{"$f":"ROUND(G226*$D$7,2)","v":0}]
["5.7.3","Įrangos pavadinimas",null,"pro rata proc.",null,0,0,0]
["5.7.4","Įrangos pavadinimas",null,"pro rata proc.",null,0,0,0]
["5.7.5","Įrangos pavadinimas",null,"pro rata proc.",null,0,0,0]
["5.7.6","Įrangos pavadinimas",null,"pro rata proc.",null,0,0,0]
["5.7.7","Įrangos pavadinimas",null,"pro rata proc.",null,0,0,0]
["5.7.8","Įrangos pavadinimas",null,"pro rata proc.",null,0,0,0]
["5.7.9","Įrangos pavadinimas",null,"pro rata proc.",null,0,0,0]
["5.7.10","Įrangos pavadinimas",null,"pro rata proc.",null,0,0,0]
["5.7.11","Įrangos pavadinimas",null,"pro rata proc.",null,0,0,0]
["5.7.12","Įrangos pavadinimas",null,"pro rata proc.",null,0,0,0]
["5.7.13","Įrangos pavadinimas",null,"pro rata proc.",null,0,0,0]
["5.7.14","Įrangos pavadinimas",null,"pro rata proc.",null,{"$f":"K238*L238","v":0},0,{"$f":"ROUND(G238*$D$7,2)","v":0}]
["5.7.15","Įrangos pavadinimas",null,"pro rata proc.",null,0,0,0]
["5.7.16","Įrangos pavadinimas",null,"pro rata proc.",null,0,0,0]
["5.7.17","Įrangos pavadinimas",null,"pro rata proc.",null,0,0,0]
["5.8","Pastatų ar patalpų nuomos išlaidos, veiklai priskirtos pro rata principu. Pastatai ar patalpos turi būti tiesiogiai susijusi su projekto įgyvendinimu.",null,null,null,null,{"$f":"SUM(G243:G247)","v":0},{"$f":"SUM(H243:H247)","v":0},null,null,"Faktinės 1 mėnesio išlaidos, Eur","Naudojimo projekte trukmė, mėn."]
["5.8.1","Pastato, patalpų adresas",null,"pro rata proc.",null,{"$f":"K243*L243","v":0},{"$f":"ROUND(E243*F243,2)","v":0},{"$f":"ROUND(G243*$D$7,2)","v":0}]
["5.8.2","Pastato, patalpų adresas",null,"pro rata proc.",null,{"$f":"K244*L244","v":0},0,0]
["5.8.3","Pastato, patalpų adresas",null,"pro rata proc.",null,0,0,0]
["5.8.4","Pastato, patalpų adresas",null,"pro rata proc.",null,0,0,0]
["5.8.5","Pastato, patalpų adresas",null,"pro rata proc.",null,0,0,0]
["Iš viso tinkamų finansuoti išlaidų:",null,null,null,null,null,{"$f":"G10+G21","v":0},{"$f":"H10+H21","v":0}]

{"sheet":"2","index":3,"n_rows":248,"n_cols":19,"rows_kept":248,"cut":false,"hidden":false,"merged":[[111,0,115,0],[111,1,115,1],[111,3,115,3],[111,4,115,4],[111,5,115,5],[111,6,115,6],[111,7,115,7],[111,8,115,8],[131,0,135,0],[131,1,135,1],[131,3,135,3],[131,4,135,4],[131,5,135,5],[131,6,135,6],[131,7,135,7],[131,8,135,8],[116,0,120,0],[116,1,120,1],[116,3,120,3],[116,4,120,4],[116,5,120,5],[116,6,120,6],[116,7,120,7],[116,8,120,8],[101,0,105,0],[101,1,105,1],[101,3,105,3],[101,4,105,4],[101,5,105,5],[101,6,105,6],[101,7,105,7],[101,8,105,8],[106,0,110,0],[106,1,110,1],[106,3,110,3],[106,4,110,4],[106,5,110,5],[106,6,110,6],[106,7,110,7],[106,8,110,8],[59,1,59,2],[60,1,60,2],[38,1,38,2],[39,1,39,2],[40,1,40,2],[41,1,41,2],[67,1,67,2],[71,1,71,2],[86,1,86,2],[61,1,61,2],[62,1,62,2],[63,1,63,2],[64,1,64,2],[65,1,65,2],[66,1,66,2],[68,1,68,2],[69,1,69,2],[70,1,70,5],[44,1,44,2],[45,1,45,2],[46,1,46,2],[47,1,47,2],[48,1,48,2],[49,1,49,2],[0,3,0,8],[2,0,2,2],[2,3,2,8],[22,1,22,2],[14,1,14,2],[15,1,15,2],[16,1,16,2],[17,1,17,2],[18,1,18,2],[20,1,20,5],[10,1,10,2],[11,1,11,2],[12,1,12,2],[13,1,13,2],[3,3,3,4],[3,5,3,6],[4,0,4,2],[4,3,4,8],[8,1,8,2],[9,1,9,5],[19,1,19,2],[21,1,21,5],[136,8,140,8],[141,0,145,0],[141,1,145,1],[141,3,145,3],[141,4,145,4],[141,5,145,5],[136,0,140,0],[136,1,140,1],[136,3,140,3],[136,4,140,4],[136,5,140,5],[136,6,140,6],[136,7,140,7],[141,6,145,6],[141,7,145,7],[141,8,145,8],[31,1,31,2],[32,1,32,5],[42,1,42,2],[43,1,43,5],[23,1,23,2],[24,1,24,2],[25,1,25,2],[33,1,33,2],[34,1,34,2],[35,1,35,2],[36,1,36,2],[37,1,37,2],[26,1,26,2],[27,1,27,2],[28,1,28,2],[29,1,29,2],[30,1,30,2],[121,8,125,8],[126,0,130,0],[126,1,130,1],[126,3,130,3],[126,4,130,4],[126,5,130,5],[126,6,130,6],[126,7,130,7],[126,8,130,8],[121,0,125,0],[121,1,125,1],[121,3,125,3],[121,4,125,4],[121,5,125,5],[121,7,125,7],[121,6,125,6],[146,0,150,0],[146,1,150,1],[146,3,150,3],[146,4,150,4],[146,5,150,5],[146,6,150,6],[146,7,150,7],[146,8,150,8],[152,0,158,0],[152,1,158,1],[152,8,158,8],[151,1,151,5],[159,0,165,0],[159,1,165,1],[159,8,165,8],[166,0,172,0],[166,1,172,1],[166,8,172,8],[173,0,179,0],[173,1,179,1],[173,8,179,8],[180,0,186,0],[180,1,186,1],[180,8,186,8],[187,0,193,0],[187,1,193,1],[187,8,193,8],[215,8,221,8],[222,1,222,5],[223,1,223,2],[194,0,200,0],[194,1,200,1],[194,8,200,8],[201,0,207,0],[201,1,207,1],[201,8,207,8],[208,0,214,0],[208,1,214,1],[208,8,214,8],[241,1,241,5],[242,1,242,2],[243,1,243,2],[244,1,244,2],[245,1,245,2],[246,1,246,2],[247,0,247,5],[215,0,221,0],[215,1,221,1],[237,1,237,2],[238,1,238,2],[239,1,239,2],[240,1,240,2],[228,1,228,2],[229,1,229,2],[230,1,230,2],[231,1,231,2],[232,1,232,2],[233,1,233,2],[234,1,234,2],[235,1,235,2],[236,1,236,2],[50,1,50,2],[51,1,51,2],[52,1,52,2],[53,1,53,2],[54,1,54,2],[55,1,55,2],[56,1,56,2],[57,1,57,2],[58,1,58,2],[72,1,72,2],[73,1,73,2],[74,1,74,2],[75,1,75,2],[76,1,76,2],[77,1,77,2],[78,1,78,2],[79,1,79,2],[80,1,80,2],[81,1,81,2],[82,1,82,2],[83,1,83,2],[84,1,84,2],[85,1,85,2],[224,1,224,2],[225,1,225,2],[226,1,226,2],[227,1,227,2],[87,1,87,2],[88,1,88,2],[89,1,89,2],[90,1,90,2],[91,1,91,2],[92,1,92,2],[93,1,93,2],[94,1,94,2],[95,1,95,2],[96,1,96,2],[97,1,97,2],[98,1,98,2],[99,1,99,2],[100,1,100,5]]}
[null,null,"Pasirinkite veiklos tipą:"]
[null,null,"Fizinio rodiklio Nr.:"]
["Fizinio rodiklio pavadinimas:"]
[null,null,"Fizinio rodiklio matavimo vnt.:",null,null,"Fizinio rodiklio vnt. skaičius:"]
["Juridinis asmuo (pareiškėjas, partneris), atsakingas už fizinį rodiklį:"]
[]
[null,null,"Finansavimo intensyvumas:",null,null,null,"Pasirinkite biudžeto išlaidų kategoriją:"]
[]
["Eil. Nr.","Išlaidų kategorijos pavadinimas",null,"Matavimo vnt.","Kiekis","Vieneto kaina be PVM, Eur","Tinkamų finansuoti išlaidų suma be PVM, Eur","Finansavimo suma, Eur","Išlaidų pagrindimo dokumentų pavadinimas, data ir Nr."]
[4,"ĮRANGA, ĮRENGINIAI IR KT. TURTAS (techninių žinių ir išradimų patentų arba teisių pagal licencijų sutartį įsigijimo išlaidos)",null,null,null,null,{"$f":"SUM(G11:G20)","v":0},{"$f":"SUM(H11:H20)","v":0}]
["4.1","Išlaidų pavadinimas",null,null,null,null,{"$f":"ROUND(E11*F11,2)","v":0},{"$f":"ROUND(G11*$D$7,2)","v":0}]
["4.2","Išlaidų pavadinimas",null,null,null,null,0,0]
["4.3","Išlaidų pavadinimas",null,null,null,null,0,0]
["4.4","Išlaidų pavadinimas",null,null,null,null,0,0]
["4.5","Išlaidų pavadinimas",null,null,null,null,0,0]
["4.6","Išlaidų pavadinimas",null,null,null,null,0,0]
["4.7","Išlaidų pavadinimas",null,null,null,null,0,0]
["4.8","Išlaidų pavadinimas",null,null,null,null,0,0]
["4.9","Išlaidų pavadinimas",null,null,null,null,0,0]
["4.10","Išlaidų pavadinimas",null,null,null,null,0,0]
[5,"PROJEKTO VYKDYMAS",null,null,null,null,{"$f":"G22+G33+G44+G71+G101+G152+G223+G242","v":0},{"$f":"H22+H33+H44+H71+H101+H152+H223+H242","v":0}]
["5.1","MTEP paslaugos",null,null,null,null,{"$f":"SUM(G23:G32)","v":0},{"$f":"SUM(H23:H32)","v":0}]
["5.1.1","Paslaugos pavadinimas",null,null,null,null,{"$f":"ROUND(E23*F23,2)","v":0},0]
["5.1.2","Paslaugos pavadinimas",null,null,null,null,0,0]
["5.1.3","Paslaugos pavadinimas",null,null,null,null,0,0]
["5.1.4","Paslaugos pavadinimas",null,null,null,null,0,0]
["5.1.5","Paslaugos pavadinimas",null,null,null,null,0,0]
["5.1.6","Paslaugos pavadinimas",null,null,null,null,0,0]
["5.1.7","Paslaugos pavadinimas",null,null,null,null,0,0]
["5.1.8","Paslaugos pavadinimas",null,null,null,null,0,0]
["5.1.9","Paslaugos pavadinimas",null,null,null,null,0,0]
["5.1.10","Paslaugos pavadinimas",null,null,null,null,0,0]
["5.2","Konsultavimo ir lygiavertės paslaugos, naudojamos vien tik projekto MTEP veiklai",null,null,null,null,{"$f":"SUM(G34:G43)","v":0},{"$f":"SUM(H34:H43)","v":0}]
["5.2.1","Paslaugos pavadinimas",null,null,null,null,{"$f":"ROUND(E34*F34,2)","v":0},0]
["5.2.2","Paslaugos pavadinimas",null,null,null,null,0,0]
["5.2.3","Paslaugos pavadinimas",null,null,null,null,0,0]
["5.2.4","Paslaugos pavadinimas",null,null,null,null,0,0]
["5.2.5","Paslaugos pavadinimas",null,null,null,null,0,0]
["5.2.6","Paslaugos pavadinimas",null,null,null,null,0,0]
["5.2.7","Paslaugos pavadinimas",null,null,null,null,0,0]
["5.2.8","Paslaugos pavadinimas",null,null,null,null,0,0]
["5.2.9","Paslaugos pavadinimas",null,null,null,null,0,0]
["5.2.10","Paslaugos pavadinimas",null,null,null,null,0,0]
["5.3","Medžiagos, mažavertis inventorius, atsargos ir pan. produktai, priskirtini trumpalaikiam turtui ir tiesiogiai susiję su MTEP veikla",null,null,null,null,{"$f":"SUM(G45:G70)","v":0},{"$f":"SUM(H45:H70)","v":0}]
["5.3.1","Išlaidų pavadinimas",null,null,null,null,{"$f":"ROUND(E45*F45,2)","v":0},{"$f":"ROUND(G45*$D$7,2)","v":0}]
["5.3.2","Išlaidų pavadinimas",null,null,null,null,0,0]
["5.3.3","Išlaidų pavadinimas",null,null,null,null,0,0]
["5.3.4","Išlaidų pavadinimas",null,null,null,null,0,0]
["5.3.5","Išlaidų pavadinimas",null,null,null,null,0,0]
["5.3.6","Išlaidų pavadinimas",null,null,null,null,0,0]
["5.3.7","Išlaidų pavadinimas",null,null,null,null,0,0]
["5.3.8","Išlaidų pavadinimas",null,null,null,null,0,0]
["5.3.9","Išlaidų pavadinimas",null,null,null,null,0,0]
["5.3.10","Išlaidų pavadinimas",null,null,null,null,0,0]
["5.3.11","Išlaidų pavadinimas",null,null,null,null,0,0]
["5.3.12","Išlaidų pavadinimas",null,null,null,null,0,0]
["5.3.13","Išlaidų pavadinimas",null,null,null,null,0,0]
["5.3.14","Išlaidų pavadinimas",null,null,null,null,0,0]
["5.3.15","Išlaidų pavadinimas",null,null,null,null,0,0]
["5.3.16","Išlaidų pavadinimas",null,null,null,null,0,0]
["5.3.17","Išlaidų pavadinimas",null,null,null,null,0,0]
["5.3.18","Išlaidų pavadinimas",null,null,null,null,0,0]
["5.3.19","Išlaidų pavadinimas",null,null,null,null,0,0]
["5.3.20","Išlaidų pavadinimas",null,null,null,null,0,0]
["5.3.21","Išlaidų pavadinimas",null,null,null,null,0,0]
["5.3.22","Išlaidų pavadinimas",null,null,null,null,0,0]
["5.3.23","Išlaidų pavadinimas",null,null,null,null,0,0]
["5.3.24","Išlaidų pavadinimas",null,null,null,null,0,0]
["5.3.25","Išlaidų pavadinimas",null,null,null,null,0,0]
["5.3.26","Išlaidų pavadinimas",null,null,null,null,0,0]
["5.4","Projekto MTEP veikloms naudojamo ilgalaikio materialaus turto (įrangos, prietaisų, įrankių, įrenginių, mašinų ir įrengimų, pastatų ir (ar) patalpų), nusidėvėjimo sąnaudos, jeigu šiam turtui įsigyti nebuvo naudojamos viešosios (įskaitant ir kitų valstybių) lėšos",null,null,null,null,{"$f":"SUM(G72:G100)","v":0},{"$f":"SUM(H72:H100)","v":0},null,null,"Turto įvedimo į eksploataciją data","Turto įsigijimo vertė, Eur","Turto nudėvėjimo, amortizacijos laikotarpis, mėn.","Numatoma turto likutinė vertė, Eur","1 mėn. nudėvėjimo, amortizacijos suma, Eur","Turto naudojamo projekto reikmėms laikas, mėn.","Turto panaudojimo projekto reikmėms dalis (proc.)","Projektui priskirta turto nusidėvėjimo, amortizacijos suma per projekto laikotarpį, Eur"]
["5.4.1","Turtas, kurio nusidėvėjimą, amortizaciją prašoma finansuoti",null,null,1,{"$f":"R72","v":0},{"$f":"ROUND(E72*F72,2)","v":0},0,null,null,null,null,null,null,{"$f":"IFERROR(ROUND((L72-N72)/M72,2),\"0\")","v":"0"},null,null,{"$f":"O72*P72*Q72","v":0},{"$f":"IF(K72=0,\" \",IF(K72+(M72*30.5)<TODAY(),\"DĖMESIO! Patikrinkite, ar nurodytas turtas dar nėra nudėvėtas, amortizuotas\",\" \"))","v":" "}]
["5.4.2","Turtas, kurio nusidėvėjimą, amortizaciją prašoma finansuoti",null,null,1,{"$f":"R73","v":0},0,0,null,null,null,null,null,null,{"$f":"IFERROR(ROUND((L73-N73)/M73,2),\"0\")","v":"0"},null,null,{"$f":"O73*P73*Q73","v":0}]
["5.4.3","Turtas, kurio nusidėvėjimą, amortizaciją prašoma finansuoti",null,null,1,0,0,0,null,null,null,null,null,null,"0",null,null,0]
["5.4.4","Turtas, kurio nusidėvėjimą, amortizaciją prašoma finansuoti",null,null,1,0,0,0,null,null,null,null,null,null,"0",null,null,0]
["5.4.5","Turtas, kurio nusidėvėjimą, amortizaciją prašoma finansuoti",null,null,1,0,0,0,null,null,null,null,null,null,"0",null,null,0]
["5.4.6","Turtas, kurio nusidėvėjimą, amortizaciją prašoma finansuoti",null,null,1,0,0,0,null,null,null,null,null,null,"0",null,null,0]
["5.4.7","Turtas, kurio nusidėvėjimą, amortizaciją prašoma finansuoti",null,null,1,0,0,0,null,null,null,null,null,null,"0",null,null,0]
["5.4.8","Turtas, kurio nusidėvėjimą, amortizaciją prašoma finansuoti",null,null,1,0,0,0,null,null,null,null,null,null,"0",null,null,0]
["5.4.9","Turtas, kurio nusidėvėjimą, amortizaciją prašoma finansuoti",null,null,1,0,0,0,null,null,null,null,null,null,"0",null,null,0]
["5.4.10","Turtas, kurio nusidėvėjimą, amortizaciją prašoma finansuoti",null,null,1,0,0,0,null,null,null,null,null,null,"0",null,null,0]
["5.4.11","Turtas, kurio nusidėvėjimą, amortizaciją prašoma finansuoti",null,null,1,0,0,0,null,null,null,null,null,null,"0",null,null,0]
["5.4.12","Turtas, kurio nusidėvėjimą, amortizaciją prašoma finansuoti",null,null,1,0,0,0,null,null,null,null,null,null,"0",null,null,0]
["5.4.13","Turtas, kurio nusidėvėjimą, amortizaciją prašoma finansuoti",null,null,1,0,0,0,null,null,null,null,null,null,"0",null,null,0]
["5.4.14","Turtas, kurio nusidėvėjimą, amortizaciją prašoma finansuoti",null,null,1,0,0,0,null,null,null,null,null,null,"0",null,null,0]
["5.4.15","Turtas, kurio nusidėvėjimą, amortizaciją prašoma finansuoti",null,null,1,0,0,0,null,null,null,null,null,null,"0",null,null,0]
["5.4.16","Turtas, kurio nusidėvėjimą, amortizaciją prašoma finansuoti",null,null,1,{"$f":"R87","v":0},0,0,null,null,null,null,null,null,{"$f":"IFERROR(ROUND((L87-N87)/M87,2),\"0\")","v":"0"},null,null,{"$f":"O87*P87*Q87","v":0},{"$f":"IF(K87=0,\" \",IF(K87+(M87*30.5)<TODAY(),\"DĖMESIO! Patikrinkite, ar nurodytas turtas dar nėra nudėvėtas, amortizuotas\",\" \"))","v":" "}]
["5.4.17","Turtas, kurio nusidėvėjimą, amortizaciją prašoma finansuoti",null,null,1,0,0,0,null,null,null,null,null,null,"0",null,null,0," "]
["5.4.18","Turtas, kurio nusidėvėjimą, amortizaciją prašoma finansuoti",null,null,1,0,0,0,null,null,null,null,null,null,"0",null,null,0," "]
["5.4.19","Turtas, kurio nusidėvėjimą, amortizaciją prašoma finansuoti",null,null,1,0,0,0,null,null,null,null,null,null,"0",null,null,0," "]
["5.4.20","Turtas, kurio nusidėvėjimą, amortizaciją prašoma finansuoti",null,null,1,0,0,0,null,null,null,null,null,null,"0",null,null,0," "]
["5.4.21","Turtas, kurio nusidėvėjimą, amortizaciją prašoma finansuoti",null,null,1,0,0,0,null,null,null,null,null,null,"0",null,null,0," "]
["5.4.22","Turtas, kurio nusidėvėjimą, amortizaciją prašoma finansuoti",null,null,1,0,0,0,null,null,null,null,null,null,"0",null,null,0," "]
["5.4.23","Turtas, kurio nusidėvėjimą, amortizaciją prašoma finansuoti",null,null,1,0,0,0,null,null,null,null,null,null,"0",null,null,0," "]
["5.4.24","Turtas, kurio nusidėvėjimą, amortizaciją prašoma finansuoti",null,null,1,0,0,0,null,null,null,null,null,null,"0",null,null,0," "]
["5.4.25","Turtas, kurio nusidėvėjimą, amortizaciją prašoma finansuoti",null,null,1,0,0,0,null,null,null,null,null,null,"0",null,null,0," "]
["5.4.26","Turtas, kurio nusidėvėjimą, amortizaciją prašoma finansuoti",null,null,1,0,0,0,null,null,null,null,null,null,"0",null,null,0," "]
["5.4.27","Turtas, kurio nusidėvėjimą, amortizaciją prašoma finansuoti",null,null,1,0,0,0,null,null,null,null,null,null,"0",null,null,0," "]
["5.4.28","Turtas, kurio nusidėvėjimą, amortizaciją prašoma finansuoti",null,null,1,0,0,0,null,null,null,null,null,null,"0",null,null,0," "]
["5.4.29","Turtas, kurio nusidėvėjimą, amortizaciją prašoma finansuoti",null,null,1,0,0,0,null,null,null,null,null,null,"0",null,null,0," "]
["5.5","Projektą vykdančio personalo darbo užmokestis ir išlaidos su darbo santykiais susijusiems darbdavio įsipareigojimams",null,null,null,null,{"$f":"SUM(G102:G151)","v":0},{"$f":"SUM(H102:H151)","v":0},null,null,"Faktiškai gaunamas darbo užmokesti už 1 valandą pagal  pastarųjų 6 mėn. vidurkį, Eur"]
["5.5.1","Pareigybės pavadinimas","Darbuotojo vardas pavardė","val.",null,{"$f":"IFERROR(ROUND(AVERAGE(K102:K106),2),\"0\")","v":"0"},{"$f":"ROUND(E102*F102,2)","v":0},{"$f":"ROUND(G102*$D$7,2)","v":0}]
[null,null,"Darbuotojo vardas pavardė"]
[null,null,"Darbuotojo vardas pavardė"]
[null,null,"Darbuotojo vardas pavardė"]
[null,null,"Darbuotojo vardas pavardė"]
["5.5.2","Pareigybės pavadinimas","Darbuotojo vardas pavardė","val.",null,{"$f":"IFERROR(ROUND(AVERAGE(K107:K111),2),\"0\")","v":"0"},{"$f":"ROUND(E107*F107,2)","v":0},{"$f":"ROUND(G107*$D$7,2)","v":0}]
[null,null,"Darbuotojo vardas pavardė"]
[null,null,"Darbuotojo vardas pavardė"]
[null,null,"Darbuotojo vardas pavardė"]
[null,null,"Darbuotojo vardas pavardė"]
["5.5.3","Pareigybės pavadinimas","Darbuotojo vardas pavardė","val.",null,{"$f":"IFERROR(ROUND(AVERAGE(K112:K116),2),\"0\")","v":"0"},{"$f":"ROUND(E112*F112,2)","v":0},{"$f":"ROUND(G112*$D$7,2)","v":0}]
[null,null,"Darbuotojo vardas pavardė"]
[null,null,"Darbuotojo vardas pavardė"]
[null,null,"Darbuotojo vardas pavardė"]
[null,null,"Darbuotojo vardas pavardė"]
["5.5.4","Pareigybės pavadinimas","Darbuotojo vardas pavardė","val.",null,{"$f":"IFERROR(ROUND(AVERAGE(K117:K121),2),\"0\")","v":"0"},{"$f":"ROUND(E117*F117,2)","v":0},{"$f":"ROUND(G117*$D$7,2)","v":0}]
[null,null,"Darbuotojo vardas pavardė"]
[null,null,"Darbuotojo vardas pavardė"]
[null,null,"Darbuotojo vardas pavardė"]
[null,null,"Darbuotojo vardas pavardė"]
["5.5.5","Pareigybės pavadinimas","Darbuotojo vardas pavardė","val.",null,{"$f":"IFERROR(ROUND(AVERAGE(K122:K126),2),\"0\")","v":"0"},{"$f":"ROUND(E122*F122,2)","v":0},{"$f":"ROUND(G122*$D$7,2)","v":0}]
[null,null,"Darbuotojo vardas pavardė"]
[null,null,"Darbuotojo vardas pavardė"]
[null,null,"Darbuotojo vardas pavardė"]
[null,null,"Darbuotojo vardas pavardė"]
["5.5.6","Pareigybės pavadinimas","Darbuotojo vardas pavardė","val.",null,{"$f":"IFERROR(ROUND(AVERAGE(K127:K131),2),\"0\")","v":"0"},{"$f":"ROUND(E127*F127,2)","v":0},{"$f":"ROUND(G127*$D$7,2)","v":0}]
[null,null,"Darbuotojo vardas pavardė"]
[null,null,"Darbuotojo vardas pavardė"]
[null,null,"Darbuotojo vardas pavardė"]
[null,null,"Darbuotojo vardas pavardė"]
["5.5.7","Pareigybės pavadinimas","Darbuotojo vardas pavardė","val.",null,{"$f":"IFERROR(ROUND(AVERAGE(K132:K136),2),\"0\")","v":"0"},{"$f":"ROUND(E132*F132,2)","v":0},{"$f":"ROUND(G132*$D$7,2)","v":0}]
[null,null,"Darbuotojo vardas pavardė"]
[null,null,"Darbuotojo vardas pavardė"]
[null,null,"Darbuotojo vardas pavardė"]
[null,null,"Darbuotojo vardas pavardė"]
["5.5.8","Pareigybės pavadinimas","Darbuotojo vardas pavardė","val.",null,{"$f":"IFERROR(ROUND(AVERAGE(K137:K141),2),\"0\")","v":"0"},{"$f":"ROUND(E137*F137,2)","v":0},{"$f":"ROUND(G137*$D$7,2)","v":0}]
[null,null,"Darbuotojo vardas pavardė"]
[null,null,"Darbuotojo vardas pavardė"]
[null,null,"Darbuotojo vardas pavardė"]
[null,null,"Darbuotojo vardas pavardė"]
["5.5.9","Pareigybės pavadinimas","Darbuotojo vardas pavardė","val.",null,{"$f":"IFERROR(ROUND(AVERAGE(K142:K146),2),\"0\")","v":"0"},{"$f":"ROUND(E142*F142,2)","v":0},{"$f":"ROUND(G142*$D$7,2)","v":0}]
[null,null,"Darbuotojo vardas pavardė"]
[null,null,"Darbuotojo vardas pavardė"]
[null,null,"Darbuotojo vardas pavardė"]
[null,null,"Darbuotojo vardas pavardė"]
["5.5.10","Pareigybės pavadinimas","Darbuotojo vardas pavardė","val.",null,{"$f":"IFERROR(ROUND(AVERAGE(K147:K151),2),\"0\")","v":"0"},{"$f":"ROUND(E147*F147,2)","v":0},{"$f":"ROUND(G147*$D$7,2)","v":0}]
[null,null,"Darbuotojo vardas pavardė"]
[null,null,"Darbuotojo vardas pavardė"]
[null,null,"Darbuotojo vardas pavardė"]
[null,null,"Darbuotojo vardas pavardė"]
["5.6","Projektą vykdančio personalo komandiruočių išlaidos",null,null,null,null,{"$f":"SUM(G153,G160,G167,G174,G181,G188,G195,G202,G209,G216)","v":0},{"$f":"SUM(H153,H160,H167,H174,H181,H188,H195,H202,H209,H216)","v":0}]
["5.6.1","Komandiruotės pavadinimas, vieta, trukmė dienomis, vykstančių asmenų skaičius","Iš viso komandiruotei",null,null,null,{"$f":"SUM(G154:G159)","v":0},{"$f":"ROUND(G153*$D$7,2)","v":0}]
[null,null,"Dienpinigiai",null,null,null,{"$f":"ROUND(E154*F154,2)","v":0}]
[null,null,"Gyvenamojo ploto nuoma",null,null,null,0]
[null,null,"Kelionės išlaidos",null,null,null,0]
[null,null,"Dalyvavimo mokestis",null,null,null,0]
[null,null,"Kitos išlaidų pavadinimas",null,null,null,0]
[null,null,"Kitos išlaidų pavadinimas",null,null,null,0]
["5.6.2","Komandiruotės pavadinimas, vieta, trukmė dienomis, vykstančių asmenų skaičius","Iš viso komandiruotei",null,null,null,{"$f":"SUM(G161:G166)","v":0},{"$f":"ROUND(G160*$D$7,2)","v":0}]
[null,null,"Dienpinigiai",null,null,null,{"$f":"ROUND(E161*F161,2)","v":0}]
[null,null,"Gyvenamojo ploto nuoma",null,null,null,0]
[null,null,"Kelionės išlaidos",null,null,null,0]
[null,null,"Dalyvavimo mokestis",null,null,null,0]
[null,null,"Kitos išlaidų pavadinimas",null,null,null,0]
[null,null,"Kitos išlaidų pavadinimas",null,null,null,0]
["5.6.3","Komandiruotės pavadinimas, vieta, trukmė dienomis, vykstančių asmenų skaičius","Iš viso komandiruotei",null,null,null,{"$f":"SUM(G168:G173)","v":0},{"$f":"ROUND(G167*$D$7,2)","v":0}]
[null,null,"Dienpinigiai",null,null,null,{"$f":"ROUND(E168*F168,2)","v":0}]
[null,null,"Gyvenamojo ploto nuoma",null,null,null,0]
[null,null,"Kelionės išlaidos",null,null,null,0]
[null,null,"Dalyvavimo mokestis",null,null,null,0]
[null,null,"Kitos išlaidų pavadinimas",null,null,null,0]
[null,null,"Kitos išlaidų pavadinimas",null,null,null,0]
["5.6.4","Komandiruotės pavadinimas, vieta, trukmė dienomis, vykstančių asmenų skaičius","Iš viso komandiruotei",null,null,null,{"$f":"SUM(G175:G180)","v":0},{"$f":"ROUND(G174*$D$7,2)","v":0}]
[null,null,"Dienpinigiai",null,null,null,{"$f":"ROUND(E175*F175,2)","v":0}]
[null,null,"Gyvenamojo ploto nuoma",null,null,null,0]
[null,null,"Kelionės išlaidos",null,null,null,0]
[null,null,"Dalyvavimo mokestis",null,null,null,0]
[null,null,"Kitos išlaidų pavadinimas",null,null,null,0]
[null,null,"Kitos išlaidų pavadinimas",null,null,null,0]
["5.6.5","Komandiruotės pavadinimas, vieta, trukmė dienomis, vykstančių asmenų skaičius","Iš viso komandiruotei",null,null,null,{"$f":"SUM(G182:G187)","v":0},{"$f":"ROUND(G181*$D$7,2)","v":0}]
[null,null,"Dienpinigiai",null,null,null,{"$f":"ROUND(E182*F182,2)","v":0}]
[null,null,"Gyvenamojo ploto nuoma",null,null,null,0]
[null,null,"Kelionės išlaidos",null,null,null,0]
[null,null,"Dalyvavimo mokestis",null,null,null,0]
[null,null,"Kitos išlaidų pavadinimas",null,null,null,0]
[null,null,"Kitos išlaidų pavadinimas",null,null,null,0]
["5.6.6","Komandiruotės pavadinimas, vieta, trukmė dienomis, vykstančių asmenų skaičius","Iš viso komandiruotei",null,null,null,{"$f":"SUM(G189:G194)","v":0},{"$f":"ROUND(G188*$D$7,2)","v":0}]
[null,null,"Dienpinigiai",null,null,null,{"$f":"ROUND(E189*F189,2)","v":0}]
[null,null,"Gyvenamojo ploto nuoma",null,null,null,0]
[null,null,"Kelionės išlaidos",null,null,null,0]
[null,null,"Dalyvavimo mokestis",null,null,null,0]
[null,null,"Kitos išlaidų pavadinimas",null,null,null,0]
[null,null,"Kitos išlaidų pavadinimas",null,null,null,0]
["5.6.7","Komandiruotės pavadinimas, vieta, trukmė dienomis, vykstančių asmenų skaičius","Iš viso komandiruotei",null,null,null,{"$f":"SUM(G196:G201)","v":0},{"$f":"ROUND(G195*$D$7,2)","v":0}]
[null,null,"Dienpinigiai",null,null,null,{"$f":"ROUND(E196*F196,2)","v":0}]
[null,null,"Gyvenamojo ploto nuoma",null,null,null,0]
[null,null,"Kelionės išlaidos",null,null,null,0]
[null,null,"Dalyvavimo mokestis",null,null,null,0]
[null,null,"Kitos išlaidų pavadinimas",null,null,null,0]
[null,null,"Kitos išlaidų pavadinimas",null,null,null,0]
["5.6.8","Komandiruotės pavadinimas, vieta, trukmė dienomis, vykstančių asmenų skaičius","Iš viso komandiruotei",null,null,null,{"$f":"SUM(G203:G208)","v":0},{"$f":"ROUND(G202*$D$7,2)","v":0}]
[null,null,"Dienpinigiai",null,null,null,{"$f":"ROUND(E203*F203,2)","v":0}]
[null,null,"Gyvenamojo ploto nuoma",null,null,null,0]
[null,null,"Kelionės išlaidos",null,null,null,0]
[null,null,"Dalyvavimo mokestis",null,null,null,0]
[null,null,"Kitos išlaidų pavadinimas",null,null,null,0]
[null,null,"Kitos išlaidų pavadinimas",null,null,null,0]
["5.6.9","Komandiruotės pavadinimas, vieta, trukmė dienomis, vykstančių asmenų skaičius","Iš viso komandiruotei",null,null,null,{"$f":"SUM(G210:G215)","v":0},{"$f":"ROUND(G209*$D$7,2)","v":0}]
[null,null,"Dienpinigiai",null,null,null,{"$f":"ROUND(E210*F210,2)","v":0}]
[null,null,"Gyvenamojo ploto nuoma",null,null,null,0]
[null,null,"Kelionės išlaidos",null,null,null,0]
[null,null,"Dalyvavimo mokestis",null,null,null,0]
[null,null,"Kitos išlaidų pavadinimas",null,null,null,0]
[null,null,"Kitos išlaidų pavadinimas",null,null,null,0]
["5.6.10","Komandiruotės pavadinimas, vieta, trukmė dienomis, vykstančių asmenų skaičius","Iš viso komandiruotei",null,null,null,{"$f":"SUM(G217:G222)","v":0},{"$f":"ROUND(G216*$D$7,2)","v":0}]
[null,null,"Dienpinigiai",null,null,null,{"$f":"ROUND(E217*F217,2)","v":0}]
[null,null,"Gyvenamojo ploto nuoma",null,null,null,0]
[null,null,"Kelionės išlaidos",null,null,null,0]
[null,null,"Dalyvavimo mokestis",null,null,null,0]
[null,null,"Kitos išlaidų pavadinimas",null,null,null,0]
[null,null,"Kitos išlaidų pavadinimas",null,null,null,0]
["5.7","Įrangos nuomos išlaidos, veiklai priskirtos pro rata principu. Įranga turi būti tiesiogiai susijusi su projekto įgyvendinimu ir negali būti įsigyta iš ES struktūrinių fondų ar kt. ES finansinių priemonių lėšų",null,null,null,null,{"$f":"SUM(G224:G241)","v":0},{"$f":"SUM(H224:H241)","v":0},null,null,"Faktinės 1 mėnesio išlaidos, Eur","Naudojimo projekte trukmė, mėn."]
["5.7.1","Įrangos pavadinimas",null,"pro rata proc.",null,{"$f":"K224*L224","v":0},0,{"$f":"ROUND(G224*$D$7,2)","v":0}]
["5.7.2","Įrangos pavadinimas",null,"pro rata proc.",null,{"$f":"K225*L225","v":0},0,{"$f":"ROUND(G225*$D$7,2)","v":0}]
["5.7.3","Įrangos pavadinimas",null,"pro rata proc.",null,0,0,0]
["5.7.4","Įrangos pavadinimas",null,"pro rata proc.",null,0,0,0]
["5.7.5","Įrangos pavadinimas",null,"pro rata proc.",null,0,0,0]
["5.7.6","Įrangos pavadinimas",null,"pro rata proc.",null,0,0,0]
["5.7.7","Įrangos pavadinimas",null,"pro rata proc.",null,0,0,0]
["5.7.8","Įrangos pavadinimas",null,"pro rata proc.",null,0,0,0]
["5.7.9","Įrangos pavadinimas",null,"pro rata proc.",null,0,0,0]
["5.7.10","Įrangos pavadinimas",null,"pro rata proc.",null,0,0,0]
["5.7.11","Įrangos pavadinimas",null,"pro rata proc.",null,0,0,0]
["5.7.12","Įrangos pavadinimas",null,"pro rata proc.",null,0,0,0]
["5.7.13","Įrangos pavadinimas",null,"pro rata proc.",null,0,0,0]
["5.7.14","Įrangos pavadinimas",null,"pro rata proc.",null,0,0,0]
["5.7.15","Įrangos pavadinimas",null,"pro rata proc.",null,{"$f":"K238*L238","v":0},0,{"$f":"ROUND(G238*$D$7,2)","v":0}]
["5.7.16","Įrangos pavadinimas",null,"pro rata proc.",null,0,0,0]
["5.7.17","Įrangos pavadinimas",null,"pro rata proc.",null,0,0,0]
["5.7.18","Įrangos pavadinimas",null,"pro rata proc.",null,0,0,0]
["5.8","Pastatų ar patalpų nuomos išlaidos, veiklai priskirtos pro rata principu. Pastatai ar patalpos turi būti tiesiogiai susijusi su projekto įgyvendinimu.",null,null,null,null,{"$f":"SUM(G243:G247)","v":0},{"$f":"SUM(H243:H247)","v":0},null,null,"Faktinės 1 mėnesio išlaidos, Eur","Naudojimo projekte trukmė, mėn."]
["5.8.1","Pastato, patalpų adresas",null,"pro rata proc.",null,{"$f":"K243*L243","v":0},{"$f":"ROUND(E243*F243,2)","v":0},{"$f":"ROUND(G243*$D$7,2)","v":0}]
["5.8.2","Pastato, patalpų adresas",null,"pro rata proc.",null,{"$f":"K244*L244","v":0},0,0]
["5.8.3","Pastato, patalpų adresas",null,"pro rata proc.",null,0,0,0]
["5.8.4","Pastato, patalpų adresas",null,"pro rata proc.",null,0,0,0]
["5.8.5","Pastato, patalpų adresas",null,"pro rata proc.",null,0,0,0]
["Iš viso tinkamų finansuoti išlaidų:",null,null,null,null,null,{"$f":"G10+G21","v":0},{"$f":"H10+H21","v":0}]

{"sheet":"3","index":4,"n_rows":246,"n_cols":19,"rows_kept":246,"cut":false,"hidden":false,"merged":[[110,0,114,0],[110,1,114,1],[110,3,114,3],[110,4,114,4],[110,5,114,5],[110,6,114,6],[110,7,114,7],[110,8,114,8],[130,0,134,0],[130,1,134,1],[130,3,134,3],[130,4,134,4],[130,5,134,5],[130,6,134,6],[130,7,134,7],[130,8,134,8],[115,0,119,0],[115,1,119,1],[115,3,119,3],[115,4,119,4],[115,5,119,5],[115,6,119,6],[115,7,119,7],[115,8,119,8],[100,0,104,0],[100,1,104,1],[100,3,104,3],[100,4,104,4],[100,5,104,5],[100,6,104,6],[100,7,104,7],[100,8,104,8],[105,0,109,0],[105,1,109,1],[105,3,109,3],[105,4,109,4],[105,5,109,5],[105,6,109,6],[105,7,109,7],[105,8,109,8],[59,1,59,2],[60,1,60,2],[38,1,38,2],[39,1,39,2],[40,1,40,2],[41,1,41,2],[67,1,67,2],[71,1,71,2],[85,1,85,2],[61,1,61,2],[62,1,62,2],[63,1,63,2],[64,1,64,2],[65,1,65,2],[66,1,66,2],[68,1,68,2],[69,1,69,2],[70,1,70,5],[44,1,44,2],[56,1,56,2],[57,1,57,2],[58,1,58,2],[45,1,45,2],[46,1,46,2],[0,3,0,8],[2,0,2,2],[2,3,2,8],[22,1,22,2],[14,1,14,2],[15,1,15,2],[16,1,16,2],[17,1,17,2],[18,1,18,2],[20,1,20,5],[10,1,10,2],[11,1,11,2],[12,1,12,2],[13,1,13,2],[3,3,3,4],[3,5,3,6],[4,0,4,2],[4,3,4,8],[8,1,8,2],[9,1,9,5],[19,1,19,2],[21,1,21,5],[135,8,139,8],[140,0,144,0],[140,1,144,1],[140,3,144,3],[140,4,144,4],[140,5,144,5],[135,0,139,0],[135,1,139,1],[135,3,139,3],[135,4,139,4],[135,5,139,5],[135,6,139,6],[135,7,139,7],[140,6,144,6],[140,7,144,7],[140,8,144,8],[31,1,31,2],[32,1,32,5],[42,1,42,2],[43,1,43,5],[23,1,23,2],[24,1,24,2],[25,1,25,2],[33,1,33,2],[34,1,34,2],[35,1,35,2],[36,1,36,2],[37,1,37,2],[26,1,26,2],[27,1,27,2],[28,1,28,2],[29,1,29,2],[30,1,30,2],[120,8,124,8],[125,0,129,0],[125,1,129,1],[125,3,129,3],[125,4,129,4],[125,5,129,5],[125,6,129,6],[125,7,129,7],[125,8,129,8],[120,0,124,0],[120,1,124,1],[120,3,124,3],[120,4,124,4],[120,5,124,5],[120,7,124,7],[120,6,124,6],[145,0,149,0],[145,1,149,1],[145,3,149,3],[145,4,149,4],[145,5,149,5],[145,6,149,6],[145,7,149,7],[145,8,149,8],[151,0,157,0],[151,1,157,1],[151,8,157,8],[150,1,150,5],[158,0,164,0],[158,1,164,1],[158,8,164,8],[165,0,171,0],[165,1,171,1],[165,8,171,8],[172,0,178,0],[172,1,178,1],[172,8,178,8],[179,0,185,0],[179,1,185,1],[179,8,185,8],[186,0,192,0],[186,1,192,1],[186,8,192,8],[214,8,220,8],[221,1,221,5],[222,1,222,2],[193,0,199,0],[193,1,199,1],[193,8,199,8],[200,0,206,0],[200,1,206,1],[200,8,206,8],[207,0,213,0],[207,1,213,1],[207,8,213,8],[239,1,239,5],[240,1,240,2],[241,1,241,2],[242,1,242,2],[243,1,243,2],[244,1,244,2],[245,0,245,5],[214,0,220,0],[214,1,220,1],[235,1,235,2],[236,1,236,2],[237,1,237,2],[238,1,238,2],[228,1,228,2],[229,1,229,2],[230,1,230,2],[231,1,231,2],[232,1,232,2],[233,1,233,2],[234,1,234,2],[47,1,47,2],[48,1,48,2],[49,1,49,2],[50,1,50,2],[51,1,51,2],[52,1,52,2],[53,1,53,2],[54,1,54,2],[55,1,55,2],[72,1,72,2],[73,1,73,2],[74,1,74,2],[75,1,75,2],[76,1,76,2],[77,1,77,2],[78,1,78,2],[79,1,79,2],[80,1,80,2],[81,1,81,2],[82,1,82,2],[83,1,83,2],[84,1,84,2],[223,1,223,2],[224,1,224,2],[225,1,225,2],[226,1,226,2],[227,1,227,2],[86,1,86,2],[87,1,87,2],[88,1,88,2],[89,1,89,2],[90,1,90,2],[91,1,91,2],[92,1,92,2],[93,1,93,2],[94,1,94,2],[95,1,95,2],[96,1,96,2],[97,1,97,2],[98,1,98,2],[99,1,99,5]]}
[null,null,"Pasirinkite veiklos tipą:"]
[null,null,"Fizinio rodiklio Nr.:"]
["Fizinio rodiklio pavadinimas:"]
[null,null,"Fizinio rodiklio matavimo vnt.:",null,null,"Fizinio rodiklio vnt. skaičius:"]
["Juridinis asmuo (pareiškėjas, partneris), atsakingas už fizinį rodiklį:"]
[]
[null,null,"Finansavimo intensyvumas:",null,null,null,"Pasirinkite biudžeto išlaidų kategoriją:"]
[]
["Eil. Nr.","Išlaidų kategorijos pavadinimas",null,"Matavimo vnt.","Kiekis","Vieneto kaina be PVM, Eur","Tinkamų finansuoti išlaidų suma be PVM, Eur","Finansavimo suma, Eur","Išlaidų pagrindimo dokumentų pavadinimas, data ir Nr."]
[4,"ĮRANGA, ĮRENGINIAI IR KT. TURTAS (techninių žinių ir išradimų patentų arba teisių pagal licencijų sutartį įsigijimo išlaidos)",null,null,null,null,{"$f":"SUM(G11:G20)","v":0},{"$f":"SUM(H11:H20)","v":0}]
["4.1","Išlaidų pavadinimas",null,null,null,null,{"$f":"ROUND(E11*F11,2)","v":0},{"$f":"ROUND(G11*$D$7,2)","v":0}]
["4.2","Išlaidų pavadinimas",null,null,null,null,0,0]
["4.3","Išlaidų pavadinimas",null,null,null,null,0,0]
["4.4","Išlaidų pavadinimas",null,null,null,null,0,0]
["4.5","Išlaidų pavadinimas",null,null,null,null,0,0]
["4.6","Išlaidų pavadinimas",null,null,null,null,0,0]
["4.7","Išlaidų pavadinimas",null,null,null,null,0,0]
["4.8","Išlaidų pavadinimas",null,null,null,null,0,0]
["4.9","Išlaidų pavadinimas",null,null,null,null,0,0]
["4.10","Išlaidų pavadinimas",null,null,null,null,0,0]
[5,"PROJEKTO VYKDYMAS",null,null,null,null,{"$f":"G22+G33+G44+G71+G100+G151+G222+G240","v":0},{"$f":"H22+H33+H44+H71+H100+H151+H222+H240","v":0}]
["5.1","MTEP paslaugos",null,null,null,null,{"$f":"SUM(G23:G32)","v":0},{"$f":"SUM(H23:H32)","v":0}]
["5.1.1","Paslaugos pavadinimas",null,null,null,null,{"$f":"ROUND(E23*F23,2)","v":0},0]
["5.1.2","Paslaugos pavadinimas",null,null,null,null,0,0]
["5.1.3","Paslaugos pavadinimas",null,null,null,null,0,0]
["5.1.4","Paslaugos pavadinimas",null,null,null,null,0,0]
["5.1.5","Paslaugos pavadinimas",null,null,null,null,0,0]
["5.1.6","Paslaugos pavadinimas",null,null,null,null,0,0]
["5.1.7","Paslaugos pavadinimas",null,null,null,null,0,0]
["5.1.8","Paslaugos pavadinimas",null,null,null,null,0,0]
["5.1.9","Paslaugos pavadinimas",null,null,null,null,0,0]
["5.1.10","Paslaugos pavadinimas",null,null,null,null,0,0]
["5.2","Konsultavimo ir lygiavertės paslaugos, naudojamos vien tik projekto MTEP veiklai",null,null,null,null,{"$f":"SUM(G34:G43)","v":0},{"$f":"SUM(H34:H43)","v":0}]
["5.2.1","Paslaugos pavadinimas",null,null,null,null,{"$f":"ROUND(E34*F34,2)","v":0},0]
["5.2.2","Paslaugos pavadinimas",null,null,null,null,0,0]
["5.2.3","Paslaugos pavadinimas",null,null,null,null,0,0]
["5.2.4","Paslaugos pavadinimas",null,null,null,null,0,0]
["5.2.5","Paslaugos pavadinimas",null,null,null,null,0,0]
["5.2.6","Paslaugos pavadinimas",null,null,null,null,0,0]
["5.2.7","Paslaugos pavadinimas",null,null,null,null,0,0]
["5.2.8","Paslaugos pavadinimas",null,null,null,null,0,0]
["5.2.9","Paslaugos pavadinimas",null,null,null,null,0,0]
["5.2.10","Paslaugos pavadinimas",null,null,null,null,0,0]
["5.3","Medžiagos, mažavertis inventorius, atsargos ir pan. produktai, priskirtini trumpalaikiam turtui ir tiesiogiai susiję su MTEP veikla",null,null,null,null,{"$f":"SUM(G45:G70)","v":0},{"$f":"SUM(H45:H70)","v":0}]
["5.3.1","Išlaidų pavadinimas",null,null,null,null,{"$f":"ROUND(E45*F45,2)","v":0},{"$f":"ROUND(G45*$D$7,2)","v":0}]
["5.3.2","Išlaidų pavadinimas",null,null,null,null,0,0]
["5.3.3","Išlaidų pavadinimas",null,null,null,null,0,0]
["5.3.4","Išlaidų pavadinimas",null,null,null,null,0,0]
["5.3.5","Išlaidų pavadinimas",null,null,null,null,0,0]
["5.3.6","Išlaidų pavadinimas",null,null,null,null,0,0]
["5.3.7","Išlaidų pavadinimas",null,null,null,null,0,0]
["5.3.8","Išlaidų pavadinimas",null,null,null,null,0,0]
["5.3.9","Išlaidų pavadinimas",null,null,null,null,0,0]
["5.3.10","Išlaidų pavadinimas",null,null,null,null,0,0]
["5.3.11","Išlaidų pavadinimas",null,null,null,null,0,0]
["5.3.12","Išlaidų pavadinimas",null,null,null,null,0,0]
["5.3.13","Išlaidų pavadinimas",null,null,null,null,0,0]
["5.3.14","Išlaidų pavadinimas",null,null,null,null,0,0]
["5.3.15","Išlaidų pavadinimas",null,null,null,null,0,0]
["5.3.16","Išlaidų pavadinimas",null,null,null,null,0,0]
["5.3.17","Išlaidų pavadinimas",null,null,null,null,0,0]
["5.3.18","Išlaidų pavadinimas",null,null,null,null,0,0]
["5.3.19","Išlaidų pavadinimas",null,null,null,null,0,0]
["5.3.20","Išlaidų pavadinimas",null,null,null,null,0,0]
["5.3.21","Išlaidų pavadinimas",null,null,null,null,0,0]
["5.3.22","Išlaidų pavadinimas",null,null,null,null,0,0]
["5.3.23","Išlaidų pavadinimas",null,null,null,null,0,0]
["5.3.24","Išlaidų pavadinimas",null,null,null,null,0,0]
["5.3.25","Išlaidų pavadinimas",null,null,null,null,0,0]
["5.3.26","Išlaidų pavadinimas",null,null,null,null,0,0]
["5.4","Projekto MTEP veikloms naudojamo ilgalaikio materialaus turto (įrangos, prietaisų, įrankių, įrenginių, mašinų ir įrengimų, pastatų ir (ar) patalpų), nusidėvėjimo sąnaudos, jeigu šiam turtui įsigyti nebuvo naudojamos viešosios (įskaitant ir kitų valstybių) lėšos",null,null,null,null,{"$f":"SUM(G72:G99)","v":0},{"$f":"SUM(H72:H99)","v":0},null,null,"Turto įvedimo į eksploataciją data","Turto įsigijimo vertė, Eur","Turto nudėvėjimo, amortizacijos laikotarpis, mėn.","Numatoma turto likutinė vertė, Eur","1 mėn. nudėvėjimo, amortizacijos suma, Eur","Turto naudojamo projekto reikmėms laikas, mėn.","Turto panaudojimo projekto reikmėms dalis (proc.)","Projektui priskirta turto nusidėvėjimo, amortizacijos suma per projekto laikotarpį, Eur"]
["5.4.1","Turtas, kurio nusidėvėjimą, amortizaciją prašoma finansuoti",null,null,1,{"$f":"R72","v":0},{"$f":"ROUND(E72*F72,2)","v":0},0,null,null,null,null,null,null,{"$f":"IFERROR(ROUND((L72-N72)/M72,2),\"0\")","v":"0"},null,null,{"$f":"O72*P72*Q72","v":0},{"$f":"IF(K72=0,\" \",IF(K72+(M72*30.5)<TODAY(),\"DĖMESIO! Patikrinkite, ar nurodytas turtas dar nėra nudėvėtas, amortizuotas\",\" \"))","v":" "}]
["5.4.2","Turtas, kurio nusidėvėjimą, amortizaciją prašoma finansuoti",null,null,1,{"$f":"R73","v":0},0,0,null,null,null,null,null,null,{"$f":"IFERROR(ROUND((L73-N73)/M73,2),\"0\")","v":"0"},null,null,{"$f":"O73*P73*Q73","v":0}]
["5.4.3","Turtas, kurio nusidėvėjimą, amortizaciją prašoma finansuoti",null,null,1,0,0,0,null,null,null,null,null,null,"0",null,null,0]
["5.4.4","Turtas, kurio nusidėvėjimą, amortizaciją prašoma finansuoti",null,null,1,0,0,0,null,null,null,null,null,null,"0",null,null,0]
["5.4.5","Turtas, kurio nusidėvėjimą, amortizaciją prašoma finansuoti",null,null,1,0,0,0,null,null,null,null,null,null,"0",null,null,0]
["5.4.6","Turtas, kurio nusidėvėjimą, amortizaciją prašoma finansuoti",null,null,1,0,0,0,null,null,null,null,null,null,"0",null,null,0]
["5.4.7","Turtas, kurio nusidėvėjimą, amortizaciją prašoma finansuoti",null,null,1,0,0,0,null,null,null,null,null,null,"0",null,null,0]
["5.4.8","Turtas, kurio nusidėvėjimą, amortizaciją prašoma finansuoti",null,null,1,0,0,0,null,null,null,null,null,null,"0",null,null,0]
["5.4.9","Turtas, kurio nusidėvėjimą, amortizaciją prašoma finansuoti",null,null,1,0,0,0,null,null,null,null,null,null,"0",null,null,0]
["5.4.10","Turtas, kurio nusidėvėjimą, amortizaciją prašoma finansuoti",null,null,1,0,0,0,null,null,null,null,null,null,"0",null,null,0]
["5.4.11","Turtas, kurio nusidėvėjimą, amortizaciją prašoma finansuoti",null,null,1,0,0,0,null,null,null,null,null,null,"0",null,null,0]
["5.4.12","Turtas, kurio nusidėvėjimą, amortizaciją prašoma finansuoti",null,null,1,0,0,0,null,null,null,null,null,null,"0",null,null,0]
["5.4.13","Turtas, kurio nusidėvėjimą, amortizaciją prašoma finansuoti",null,null,1,0,0,0,null,null,null,null,null,null,"0",null,null,0]
["5.4.14","Turtas, kurio nusidėvėjimą, amortizaciją prašoma finansuoti",null,null,1,0,0,0,null,null,null,null,null,null,"0",null,null,0]
["5.4.15","Turtas, kurio nusidėvėjimą, amortizaciją prašoma finansuoti",null,null,1,{"$f":"R86","v":0},0,0,null,null,null,null,null,null,{"$f":"IFERROR(ROUND((L86-N86)/M86,2),\"0\")","v":"0"},null,null,{"$f":"O86*P86*Q86","v":0},{"$f":"IF(K86=0,\" \",IF(K86+(M86*30.5)<TODAY(),\"DĖMESIO! Patikrinkite, ar nurodytas turtas dar nėra nudėvėtas, amortizuotas\",\" \"))","v":" "}]
["5.4.16","Turtas, kurio nusidėvėjimą, amortizaciją prašoma finansuoti",null,null,1,0,0,0,null,null,null,null,null,null,"0",null,null,0," "]
["5.4.17","Turtas, kurio nusidėvėjimą, amortizaciją prašoma finansuoti",null,null,1,0,0,0,null,null,null,null,null,null,"0",null,null,0," "]
["5.4.18","Turtas, kurio nusidėvėjimą, amortizaciją prašoma finansuoti",null,null,1,0,0,0,null,null,null,null,null,null,"0",null,null,0," "]
["5.4.19","Turtas, kurio nusidėvėjimą, amortizaciją prašoma finansuoti",null,null,1,0,0,0,null,null,null,null,null,null,"0",null,null,0," "]
["5.4.20","Turtas, kurio nusidėvėjimą, amortizaciją prašoma finansuoti",null,null,1,0,0,0,null,null,null,null,null,null,"0",null,null,0," "]
["5.4.21","Turtas, kurio nusidėvėjimą, amortizaciją prašoma finansuoti",null,null,1,0,0,0,null,null,null,null,null,null,"0",null,null,0," "]
["5.4.22","Turtas, kurio nusidėvėjimą, amortizaciją prašoma finansuoti",null,null,1,0,0,0,null,null,null,null,null,null,"0",null,null,0," "]
["5.4.23","Turtas, kurio nusidėvėjimą, amortizaciją prašoma finansuoti",null,null,1,0,0,0,null,null,null,null,null,null,"0",null,null,0," "]
["5.4.24","Turtas, kurio nusidėvėjimą, amortizaciją prašoma finansuoti",null,null,1,0,0,0,null,null,null,null,null,null,"0",null,null,0," "]
["5.4.25","Turtas, kurio nusidėvėjimą, amortizaciją prašoma finansuoti",null,null,1,0,0,0,null,null,null,null,null,null,"0",null,null,0," "]
["5.4.26","Turtas, kurio nusidėvėjimą, amortizaciją prašoma finansuoti",null,null,1,0,0,0,null,null,null,null,null,null,"0",null,null,0," "]
["5.4.27","Turtas, kurio nusidėvėjimą, amortizaciją prašoma finansuoti",null,null,1,0,0,0,null,null,null,null,null,null,"0",null,null,0," "]
["5.4.28","Turtas, kurio nusidėvėjimą, amortizaciją prašoma finansuoti",null,null,1,0,0,0,null,null,null,null,null,null,"0",null,null,0," "]
["5.5","Projektą vykdančio personalo darbo užmokestis ir išlaidos su darbo santykiais susijusiems darbdavio įsipareigojimams",null,null,null,null,{"$f":"SUM(G101:G150)","v":0},{"$f":"SUM(H101:H150)","v":0},null,null,"Faktiškai gaunamas darbo užmokesti už 1 valandą pagal  pastarųjų 6 mėn. vidurkį, Eur"]
["5.5.1","Pareigybės pavadinimas","Darbuotojo vardas pavardė","val.",null,{"$f":"IFERROR(ROUND(AVERAGE(K101:K105),2),\"0\")","v":"0"},{"$f":"ROUND(E101*F101,2)","v":0},{"$f":"ROUND(G101*$D$7,2)","v":0}]
[null,null,"Darbuotojo vardas pavardė"]
[null,null,"Darbuotojo vardas pavardė"]
[null,null,"Darbuotojo vardas pavardė"]
[null,null,"Darbuotojo vardas pavardė"]
["5.5.2","Pareigybės pavadinimas","Darbuotojo vardas pavardė","val.",null,{"$f":"IFERROR(ROUND(AVERAGE(K106:K110),2),\"0\")","v":"0"},{"$f":"ROUND(E106*F106,2)","v":0},{"$f":"ROUND(G106*$D$7,2)","v":0}]
[null,null,"Darbuotojo vardas pavardė"]
[null,null,"Darbuotojo vardas pavardė"]
[null,null,"Darbuotojo vardas pavardė"]
[null,null,"Darbuotojo vardas pavardė"]
["5.5.3","Pareigybės pavadinimas","Darbuotojo vardas pavardė","val.",null,{"$f":"IFERROR(ROUND(AVERAGE(K111:K115),2),\"0\")","v":"0"},{"$f":"ROUND(E111*F111,2)","v":0},{"$f":"ROUND(G111*$D$7,2)","v":0}]
[null,null,"Darbuotojo vardas pavardė"]
[null,null,"Darbuotojo vardas pavardė"]
[null,null,"Darbuotojo vardas pavardė"]
[null,null,"Darbuotojo vardas pavardė"]
["5.5.4","Pareigybės pavadinimas","Darbuotojo vardas pavardė","val.",null,{"$f":"IFERROR(ROUND(AVERAGE(K116:K120),2),\"0\")","v":"0"},{"$f":"ROUND(E116*F116,2)","v":0},{"$f":"ROUND(G116*$D$7,2)","v":0}]
[null,null,"Darbuotojo vardas pavardė"]
[null,null,"Darbuotojo vardas pavardė"]
[null,null,"Darbuotojo vardas pavardė"]
[null,null,"Darbuotojo vardas pavardė"]
["5.5.5","Pareigybės pavadinimas","Darbuotojo vardas pavardė","val.",null,{"$f":"IFERROR(ROUND(AVERAGE(K121:K125),2),\"0\")","v":"0"},{"$f":"ROUND(E121*F121,2)","v":0},{"$f":"ROUND(G121*$D$7,2)","v":0}]
[null,null,"Darbuotojo vardas pavardė"]
[null,null,"Darbuotojo vardas pavardė"]
[null,null,"Darbuotojo vardas pavardė"]
[null,null,"Darbuotojo vardas pavardė"]
["5.5.6","Pareigybės pavadinimas","Darbuotojo vardas pavardė","val.",null,{"$f":"IFERROR(ROUND(AVERAGE(K126:K130),2),\"0\")","v":"0"},{"$f":"ROUND(E126*F126,2)","v":0},{"$f":"ROUND(G126*$D$7,2)","v":0}]
[null,null,"Darbuotojo vardas pavardė"]
[null,null,"Darbuotojo vardas pavardė"]
[null,null,"Darbuotojo vardas pavardė"]
[null,null,"Darbuotojo vardas pavardė"]
["5.5.7","Pareigybės pavadinimas","Darbuotojo vardas pavardė","val.",null,{"$f":"IFERROR(ROUND(AVERAGE(K131:K135),2),\"0\")","v":"0"},{"$f":"ROUND(E131*F131,2)","v":0},{"$f":"ROUND(G131*$D$7,2)","v":0}]
[null,null,"Darbuotojo vardas pavardė"]
[null,null,"Darbuotojo vardas pavardė"]
[null,null,"Darbuotojo vardas pavardė"]
[null,null,"Darbuotojo vardas pavardė"]
["5.5.8","Pareigybės pavadinimas","Darbuotojo vardas pavardė","val.",null,{"$f":"IFERROR(ROUND(AVERAGE(K136:K140),2),\"0\")","v":"0"},{"$f":"ROUND(E136*F136,2)","v":0},{"$f":"ROUND(G136*$D$7,2)","v":0}]
[null,null,"Darbuotojo vardas pavardė"]
[null,null,"Darbuotojo vardas pavardė"]
[null,null,"Darbuotojo vardas pavardė"]
[null,null,"Darbuotojo vardas pavardė"]
["5.5.9","Pareigybės pavadinimas","Darbuotojo vardas pavardė","val.",null,{"$f":"IFERROR(ROUND(AVERAGE(K141:K145),2),\"0\")","v":"0"},{"$f":"ROUND(E141*F141,2)","v":0},{"$f":"ROUND(G141*$D$7,2)","v":0}]
[null,null,"Darbuotojo vardas pavardė"]
[null,null,"Darbuotojo vardas pavardė"]
[null,null,"Darbuotojo vardas pavardė"]
[null,null,"Darbuotojo vardas pavardė"]
["5.5.10","Pareigybės pavadinimas","Darbuotojo vardas pavardė","val.",null,{"$f":"IFERROR(ROUND(AVERAGE(K146:K150),2),\"0\")","v":"0"},{"$f":"ROUND(E146*F146,2)","v":0},{"$f":"ROUND(G146*$D$7,2)","v":0}]
[null,null,"Darbuotojo vardas pavardė"]
[null,null,"Darbuotojo vardas pavardė"]
[null,null,"Darbuotojo vardas pavardė"]
[null,null,"Darbuotojo vardas pavardė"]
["5.6","Projektą vykdančio personalo komandiruočių išlaidos",null,null,null,null,{"$f":"SUM(G152,G159,G166,G173,G180,G187,G194,G201,G208,G215)","v":0},{"$f":"SUM(H152,H159,H166,H173,H180,H187,H194,H201,H208,H215)","v":0}]
["5.6.1","Komandiruotės pavadinimas, vieta, trukmė dienomis, vykstančių asmenų skaičius","Iš viso komandiruotei",null,null,null,{"$f":"SUM(G153:G158)","v":0},{"$f":"ROUND(G152*$D$7,2)","v":0}]
[null,null,"Dienpinigiai",null,null,null,{"$f":"ROUND(E153*F153,2)","v":0}]
[null,null,"Gyvenamojo ploto nuoma",null,null,null,0]
[null,null,"Kelionės išlaidos",null,null,null,0]
[null,null,"Dalyvavimo mokestis",null,null,null,0]
[null,null,"Kitos išlaidų pavadinimas",null,null,null,0]
[null,null,"Kitos išlaidų pavadinimas",null,null,null,0]
["5.6.2","Komandiruotės pavadinimas, vieta, trukmė dienomis, vykstančių asmenų skaičius","Iš viso komandiruotei",null,null,null,{"$f":"SUM(G160:G165)","v":0},{"$f":"ROUND(G159*$D$7,2)","v":0}]
[null,null,"Dienpinigiai",null,null,null,{"$f":"ROUND(E160*F160,2)","v":0}]
[null,null,"Gyvenamojo ploto nuoma",null,null,null,0]
[null,null,"Kelionės išlaidos",null,null,null,0]
[null,null,"Dalyvavimo mokestis",null,null,null,0]
[null,null,"Kitos išlaidų pavadinimas",null,null,null,0]
[null,null,"Kitos išlaidų pavadinimas",null,null,null,0]
["5.6.3","Komandiruotės pavadinimas, vieta, trukmė dienomis, vykstančių asmenų skaičius","Iš viso komandiruotei",null,null,null,{"$f":"SUM(G167:G172)","v":0},{"$f":"ROUND(G166*$D$7,2)","v":0}]
[null,null,"Dienpinigiai",null,null,null,{"$f":"ROUND(E167*F167,2)","v":0}]
[null,null,"Gyvenamojo ploto nuoma",null,null,null,0]
[null,null,"Kelionės išlaidos",null,null,null,0]
[null,null,"Dalyvavimo mokestis",null,null,null,0]
[null,null,"Kitos išlaidų pavadinimas",null,null,null,0]
[null,null,"Kitos išlaidų pavadinimas",null,null,null,0]
["5.6.4","Komandiruotės pavadinimas, vieta, trukmė dienomis, vykstančių asmenų skaičius","Iš viso komandiruotei",null,null,null,{"$f":"SUM(G174:G179)","v":0},{"$f":"ROUND(G173*$D$7,2)","v":0}]
[null,null,"Dienpinigiai",null,null,null,{"$f":"ROUND(E174*F174,2)","v":0}]
[null,null,"Gyvenamojo ploto nuoma",null,null,null,0]
[null,null,"Kelionės išlaidos",null,null,null,0]
[null,null,"Dalyvavimo mokestis",null,null,null,0]
[null,null,"Kitos išlaidų pavadinimas",null,null,null,0]
[null,null,"Kitos išlaidų pavadinimas",null,null,null,0]
["5.6.5","Komandiruotės pavadinimas, vieta, trukmė dienomis, vykstančių asmenų skaičius","Iš viso komandiruotei",null,null,null,{"$f":"SUM(G181:G186)","v":0},{"$f":"ROUND(G180*$D$7,2)","v":0}]
[null,null,"Dienpinigiai",null,null,null,{"$f":"ROUND(E181*F181,2)","v":0}]
[null,null,"Gyvenamojo ploto nuoma",null,null,null,0]
[null,null,"Kelionės išlaidos",null,null,null,0]
[null,null,"Dalyvavimo mokestis",null,null,null,0]
[null,null,"Kitos išlaidų pavadinimas",null,null,null,0]
[null,null,"Kitos išlaidų pavadinimas",null,null,null,0]
["5.6.6","Komandiruotės pavadinimas, vieta, trukmė dienomis, vykstančių asmenų skaičius","Iš viso komandiruotei",null,null,null,{"$f":"SUM(G188:G193)","v":0},{"$f":"ROUND(G187*$D$7,2)","v":0}]
[null,null,"Dienpinigiai",null,null,null,{"$f":"ROUND(E188*F188,2)","v":0}]
[null,null,"Gyvenamojo ploto nuoma",null,null,null,0]
[null,null,"Kelionės išlaidos",null,null,null,0]
[null,null,"Dalyvavimo mokestis",null,null,null,0]
[null,null,"Kitos išlaidų pavadinimas",null,null,null,0]
[null,null,"Kitos išlaidų pavadinimas",null,null,null,0]
["5.6.7","Komandiruotės pavadinimas, vieta, trukmė dienomis, vykstančių asmenų skaičius","Iš viso komandiruotei",null,null,null,{"$f":"SUM(G195:G200)","v":0},{"$f":"ROUND(G194*$D$7,2)","v":0}]
[null,null,"Dienpinigiai",null,null,null,{"$f":"ROUND(E195*F195,2)","v":0}]
[null,null,"Gyvenamojo ploto nuoma",null,null,null,0]
[null,null,"Kelionės išlaidos",null,null,null,0]
[null,null,"Dalyvavimo mokestis",null,null,null,0]
[null,null,"Kitos išlaidų pavadinimas",null,null,null,0]
[null,null,"Kitos išlaidų pavadinimas",null,null,null,0]
["5.6.8","Komandiruotės pavadinimas, vieta, trukmė dienomis, vykstančių asmenų skaičius","Iš viso komandiruotei",null,null,null,{"$f":"SUM(G202:G207)","v":0},{"$f":"ROUND(G201*$D$7,2)","v":0}]
[null,null,"Dienpinigiai",null,null,null,{"$f":"ROUND(E202*F202,2)","v":0}]
[null,null,"Gyvenamojo ploto nuoma",null,null,null,0]
[null,null,"Kelionės išlaidos",null,null,null,0]
[null,null,"Dalyvavimo mokestis",null,null,null,0]
[null,null,"Kitos išlaidų pavadinimas",null,null,null,0]
[null,null,"Kitos išlaidų pavadinimas",null,null,null,0]
["5.6.9","Komandiruotės pavadinimas, vieta, trukmė dienomis, vykstančių asmenų skaičius","Iš viso komandiruotei",null,null,null,{"$f":"SUM(G209:G214)","v":0},{"$f":"ROUND(G208*$D$7,2)","v":0}]
[null,null,"Dienpinigiai",null,null,null,{"$f":"ROUND(E209*F209,2)","v":0}]
[null,null,"Gyvenamojo ploto nuoma",null,null,null,0]
[null,null,"Kelionės išlaidos",null,null,null,0]
[null,null,"Dalyvavimo mokestis",null,null,null,0]
[null,null,"Kitos išlaidų pavadinimas",null,null,null,0]
[null,null,"Kitos išlaidų pavadinimas",null,null,null,0]
["5.6.10","Komandiruotės pavadinimas, vieta, trukmė dienomis, vykstančių asmenų skaičius","Iš viso komandiruotei",null,null,null,{"$f":"SUM(G216:G221)","v":0},{"$f":"ROUND(G215*$D$7,2)","v":0}]
[null,null,"Dienpinigiai",null,null,null,{"$f":"ROUND(E216*F216,2)","v":0}]
[null,null,"Gyvenamojo ploto nuoma",null,null,null,0]
[null,null,"Kelionės išlaidos",null,null,null,0]
[null,null,"Dalyvavimo mokestis",null,null,null,0]
[null,null,"Kitos išlaidų pavadinimas",null,null,null,0]
[null,null,"Kitos išlaidų pavadinimas",null,null,null,0]
["5.7","Įrangos nuomos išlaidos, veiklai priskirtos pro rata principu. Įranga turi būti tiesiogiai susijusi su projekto įgyvendinimu ir negali būti įsigyta iš ES struktūrinių fondų ar kt. ES finansinių priemonių lėšų",null,null,null,null,{"$f":"SUM(G223:G239)","v":0},{"$f":"SUM(H223:H239)","v":0},null,null,"Faktinės 1 mėnesio išlaidos, Eur","Naudojimo projekte trukmė, mėn."]
["5.7.1","Įrangos pavadinimas",null,"pro rata proc.",null,{"$f":"K223*L223","v":0},0,{"$f":"ROUND(G223*$D$7,2)","v":0}]
["5.7.2","Įrangos pavadinimas",null,"pro rata proc.",null,{"$f":"K224*L224","v":0},0,{"$f":"ROUND(G224*$D$7,2)","v":0}]
["5.7.3","Įrangos pavadinimas",null,"pro rata proc.",null,0,0,0]
["5.7.4","Įrangos pavadinimas",null,"pro rata proc.",null,0,0,0]
["5.7.5","Įrangos pavadinimas",null,"pro rata proc.",null,0,0,0]
["5.7.6","Įrangos pavadinimas",null,"pro rata proc.",null,0,0,0]
["5.7.7","Įrangos pavadinimas",null,"pro rata proc.",null,0,0,0]
["5.7.8","Įrangos pavadinimas",null,"pro rata proc.",null,0,0,0]
["5.7.9","Įrangos pavadinimas",null,"pro rata proc.",null,0,0,0]
["5.7.10","Įrangos pavadinimas",null,"pro rata proc.",null,0,0,0]
["5.7.11","Įrangos pavadinimas",null,"pro rata proc.",null,0,0,0]
["5.7.12","Įrangos pavadinimas",null,"pro rata proc.",null,0,0,0]
["5.7.13","Įrangos pavadinimas",null,"pro rata proc.",null,0,0,0]
["5.7.14","Įrangos pavadinimas",null,"pro rata proc.",null,{"$f":"K236*L236","v":0},0,{"$f":"ROUND(G236*$D$7,2)","v":0}]
["5.7.15","Įrangos pavadinimas",null,"pro rata proc.",null,0,0,0]
["5.7.16","Įrangos pavadinimas",null,"pro rata proc.",null,0,0,0]
["5.7.17","Įrangos pavadinimas",null,"pro rata proc.",null,0,0,0]
["5.8","Pastatų ar patalpų nuomos išlaidos, veiklai priskirtos pro rata principu. Pastatai ar patalpos turi būti tiesiogiai susijusi su projekto įgyvendinimu.",null,null,null,null,{"$f":"SUM(G241:G245)","v":0},{"$f":"SUM(H241:H245)","v":0},null,null,"Faktinės 1 mėnesio išlaidos, Eur","Naudojimo projekte trukmė, mėn."]
["5.8.1","Pastato, patalpų adresas",null,"pro rata proc.",null,{"$f":"K241*L241","v":0},{"$f":"ROUND(E241*F241,2)","v":0},{"$f":"ROUND(G241*$D$7,2)","v":0}]
["5.8.2","Pastato, patalpų adresas",null,"pro rata proc.",null,{"$f":"K242*L242","v":0},0,0]
["5.8.3","Pastato, patalpų adresas",null,"pro rata proc.",null,0,0,0]
["5.8.4","Pastato, patalpų adresas",null,"pro rata proc.",null,0,0,0]
["5.8.5","Pastato, patalpų adresas",null,"pro rata proc.",null,0,0,0]
["Iš viso tinkamų finansuoti išlaidų:",null,null,null,null,null,{"$f":"G10+G21","v":0},{"$f":"H10+H21","v":0}]

{"sheet":"4","index":5,"n_rows":244,"n_cols":19,"rows_kept":244,"cut":false,"hidden":false,"merged":[[108,0,112,0],[108,1,112,1],[108,3,112,3],[108,4,112,4],[108,5,112,5],[108,6,112,6],[108,7,112,7],[108,8,112,8],[128,0,132,0],[128,1,132,1],[128,3,132,3],[128,4,132,4],[128,5,132,5],[128,6,132,6],[128,7,132,7],[128,8,132,8],[113,0,117,0],[113,1,117,1],[113,3,117,3],[113,4,117,4],[113,5,117,5],[113,6,117,6],[113,7,117,7],[113,8,117,8],[98,0,102,0],[98,1,102,1],[98,3,102,3],[98,4,102,4],[98,5,102,5],[98,6,102,6],[98,7,102,7],[98,8,102,8],[103,0,107,0],[103,1,107,1],[103,3,107,3],[103,4,107,4],[103,5,107,5],[103,6,107,6],[103,7,107,7],[103,8,107,8],[59,1,59,2],[60,1,60,2],[38,1,38,2],[39,1,39,2],[40,1,40,2],[41,1,41,2],[67,1,67,2],[71,1,71,2],[72,1,72,2],[61,1,61,2],[62,1,62,2],[63,1,63,2],[64,1,64,2],[65,1,65,2],[66,1,66,2],[68,1,68,2],[69,1,69,2],[70,1,70,5],[44,1,44,2],[56,1,56,2],[57,1,57,2],[58,1,58,2],[45,1,45,2],[46,1,46,2],[0,3,0,8],[2,0,2,2],[2,3,2,8],[22,1,22,2],[14,1,14,2],[15,1,15,2],[16,1,16,2],[17,1,17,2],[18,1,18,2],[20,1,20,5],[10,1,10,2],[11,1,11,2],[12,1,12,2],[13,1,13,2],[3,3,3,4],[3,5,3,6],[4,0,4,2],[4,3,4,8],[8,1,8,2],[9,1,9,5],[19,1,19,2],[21,1,21,5],[133,8,137,8],[138,0,142,0],[138,1,142,1],[138,3,142,3],[138,4,142,4],[138,5,142,5],[133,0,137,0],[133,1,137,1],[133,3,137,3],[133,4,137,4],[133,5,137,5],[133,6,137,6],[133,7,137,7],[138,6,142,6],[138,7,142,7],[138,8,142,8],[31,1,31,2],[32,1,32,5],[42,1,42,2],[43,1,43,5],[23,1,23,2],[24,1,24,2],[25,1,25,2],[33,1,33,2],[34,1,34,2],[35,1,35,2],[36,1,36,2],[37,1,37,2],[26,1,26,2],[27,1,27,2],[28,1,28,2],[29,1,29,2],[30,1,30,2],[118,8,122,8],[123,0,127,0],[123,1,127,1],[123,3,127,3],[123,4,127,4],[123,5,127,5],[123,6,127,6],[123,7,127,7],[123,8,127,8],[118,0,122,0],[118,1,122,1],[118,3,122,3],[118,4,122,4],[118,5,122,5],[118,7,122,7],[118,6,122,6],[143,0,147,0],[143,1,147,1],[143,3,147,3],[143,4,147,4],[143,5,147,5],[143,6,147,6],[143,7,147,7],[143,8,147,8],[149,0,155,0],[149,1,155,1],[149,8,155,8],[148,1,148,5],[156,0,162,0],[156,1,162,1],[156,8,162,8],[163,0,169,0],[163,1,169,1],[163,8,169,8],[170,0,176,0],[170,1,176,1],[170,8,176,8],[177,0,183,0],[177,1,183,1],[177,8,183,8],[184,0,190,0],[184,1,190,1],[184,8,190,8],[212,8,218,8],[219,1,219,5],[220,1,220,2],[191,0,197,0],[191,1,197,1],[191,8,197,8],[198,0,204,0],[198,1,204,1],[198,8,204,8],[205,0,211,0],[205,1,211,1],[205,8,211,8],[237,1,237,5],[238,1,238,2],[239,1,239,2],[240,1,240,2],[241,1,241,2],[242,1,242,2],[243,0,243,5],[212,0,218,0],[212,1,218,1],[233,1,233,2],[234,1,234,2],[235,1,235,2],[236,1,236,2],[228,1,228,2],[229,1,229,2],[230,1,230,2],[231,1,231,2],[232,1,232,2],[47,1,47,2],[48,1,48,2],[49,1,49,2],[50,1,50,2],[51,1,51,2],[52,1,52,2],[53,1,53,2],[54,1,54,2],[55,1,55,2],[73,1,73,2],[74,1,74,2],[75,1,75,2],[76,1,76,2],[77,1,77,2],[78,1,78,2],[79,1,79,2],[80,1,80,2],[81,1,81,2],[82,1,82,2],[83,1,83,2],[221,1,221,2],[222,1,222,2],[223,1,223,2],[224,1,224,2],[225,1,225,2],[226,1,226,2],[227,1,227,2],[84,1,84,2],[85,1,85,2],[86,1,86,2],[87,1,87,2],[88,1,88,2],[89,1,89,2],[90,1,90,2],[91,1,91,2],[92,1,92,2],[93,1,93,2],[94,1,94,2],[95,1,95,2],[96,1,96,2],[97,1,97,5]]}
[null,null,"Pasirinkite veiklos tipą:"]
[null,null,"Fizinio rodiklio Nr.:"]
["Fizinio rodiklio pavadinimas:"]
[null,null,"Fizinio rodiklio matavimo vnt.:",null,null,"Fizinio rodiklio vnt. skaičius:"]
["Juridinis asmuo (pareiškėjas, partneris), atsakingas už fizinį rodiklį:"]
[]
[null,null,"Finansavimo intensyvumas:",null,null,null,"Pasirinkite biudžeto išlaidų kategoriją:"]
[]
["Eil. Nr.","Išlaidų kategorijos pavadinimas",null,"Matavimo vnt.","Kiekis","Vieneto kaina be PVM, Eur","Tinkamų finansuoti išlaidų suma be PVM, Eur","Finansavimo suma, Eur","Išlaidų pagrindimo dokumentų pavadinimas, data ir Nr."]
[4,"ĮRANGA, ĮRENGINIAI IR KT. TURTAS (techninių žinių ir išradimų patentų arba teisių pagal licencijų sutartį įsigijimo išlaidos)",null,null,null,null,{"$f":"SUM(G11:G20)","v":0},{"$f":"SUM(H11:H20)","v":0}]
["4.1","Išlaidų pavadinimas",null,null,null,null,{"$f":"ROUND(E11*F11,2)","v":0},{"$f":"ROUND(G11*$D$7,2)","v":0}]
["4.2","Išlaidų pavadinimas",null,null,null,null,0,0]
["4.3","Išlaidų pavadinimas",null,null,null,null,0,0]
["4.4","Išlaidų pavadinimas",null,null,null,null,0,0]
["4.5","Išlaidų pavadinimas",null,null,null,null,0,0]
["4.6","Išlaidų pavadinimas",null,null,null,null,0,0]
["4.7","Išlaidų pavadinimas",null,null,null,null,0,0]
["4.8","Išlaidų pavadinimas",null,null,null,null,0,0]
["4.9","Išlaidų pavadinimas",null,null,null,null,0,0]
["4.10","Išlaidų pavadinimas",null,null,null,null,0,0]
[5,"PROJEKTO VYKDYMAS",null,null,null,null,{"$f":"G22+G33+G44+G71+G98+G149+G220+G238","v":0},{"$f":"H22+H33+H44+H71+H98+H149+H220+H238","v":0}]
["5.1","MTEP paslaugos",null,null,null,null,{"$f":"SUM(G23:G32)","v":0},{"$f":"SUM(H23:H32)","v":0}]
["5.1.1","Paslaugos pavadinimas",null,null,null,null,{"$f":"ROUND(E23*F23,2)","v":0},0]
["5.1.2","Paslaugos pavadinimas",null,null,null,null,0,0]
["5.1.3","Paslaugos pavadinimas",null,null,null,null,0,0]
["5.1.4","Paslaugos pavadinimas",null,null,null,null,0,0]
["5.1.5","Paslaugos pavadinimas",null,null,null,null,0,0]
["5.1.6","Paslaugos pavadinimas",null,null,null,null,0,0]
["5.1.7","Paslaugos pavadinimas",null,null,null,null,0,0]
["5.1.8","Paslaugos pavadinimas",null,null,null,null,0,0]
["5.1.9","Paslaugos pavadinimas",null,null,null,null,0,0]
["5.1.10","Paslaugos pavadinimas",null,null,null,null,0,0]
["5.2","Konsultavimo ir lygiavertės paslaugos, naudojamos vien tik projekto MTEP veiklai",null,null,null,null,{"$f":"SUM(G34:G43)","v":0},{"$f":"SUM(H34:H43)","v":0}]
["5.2.1","Paslaugos pavadinimas",null,null,null,null,{"$f":"ROUND(E34*F34,2)","v":0},0]
["5.2.2","Paslaugos pavadinimas",null,null,null,null,0,0]
["5.2.3","Paslaugos pavadinimas",null,null,null,null,0,0]
["5.2.4","Paslaugos pavadinimas",null,null,null,null,0,0]
["5.2.5","Paslaugos pavadinimas",null,null,null,null,0,0]
["5.2.6","Paslaugos pavadinimas",null,null,null,null,0,0]
["5.2.7","Paslaugos pavadinimas",null,null,null,null,0,0]
["5.2.8","Paslaugos pavadinimas",null,null,null,null,0,0]
["5.2.9","Paslaugos pavadinimas",null,null,null,null,0,0]
["5.2.10","Paslaugos pavadinimas",null,null,null,null,0,0]
["5.3","Medžiagos, mažavertis inventorius, atsargos ir pan. produktai, priskirtini trumpalaikiam turtui ir tiesiogiai susiję su MTEP veikla",null,null,null,null,{"$f":"SUM(G45:G70)","v":0},{"$f":"SUM(H45:H70)","v":0}]
["5.3.1","Išlaidų pavadinimas",null,null,null,null,{"$f":"ROUND(E45*F45,2)","v":0},{"$f":"ROUND(G45*$D$7,2)","v":0}]
["5.3.2","Išlaidų pavadinimas",null,null,null,null,0,0]
["5.3.3","Išlaidų pavadinimas",null,null,null,null,0,0]
["5.3.4","Išlaidų pavadinimas",null,null,null,null,0,0]
["5.3.5","Išlaidų pavadinimas",null,null,null,null,0,0]
["5.3.6","Išlaidų pavadinimas",null,null,null,null,0,0]
["5.3.7","Išlaidų pavadinimas",null,null,null,null,0,0]
["5.3.8","Išlaidų pavadinimas",null,null,null,null,0,0]
["5.3.9","Išlaidų pavadinimas",null,null,null,null,0,0]
["5.3.10","Išlaidų pavadinimas",null,null,null,null,0,0]
["5.3.11","Išlaidų pavadinimas",null,null,null,null,0,0]
["5.3.12","Išlaidų pavadinimas",null,null,null,null,0,0]
["5.3.13","Išlaidų pavadinimas",null,null,null,null,0,0]
["5.3.14","Išlaidų pavadinimas",null,null,null,null,0,0]
["5.3.15","Išlaidų pavadinimas",null,null,null,null,0,0]
["5.3.16","Išlaidų pavadinimas",null,null,null,null,0,0]
["5.3.17","Išlaidų pavadinimas",null,null,null,null,0,0]
["5.3.18","Išlaidų pavadinimas",null,null,null,null,0,0]
["5.3.19","Išlaidų pavadinimas",null,null,null,null,0,0]
["5.3.20","Išlaidų pavadinimas",null,null,null,null,0,0]
["5.3.21","Išlaidų pavadinimas",null,null,null,null,0,0]
["5.3.22","Išlaidų pavadinimas",null,null,null,null,0,0]
["5.3.23","Išlaidų pavadinimas",null,null,null,null,0,0]
["5.3.24","Išlaidų pavadinimas",null,null,null,null,0,0]
["5.3.25","Išlaidų pavadinimas",null,null,null,null,0,0]
["5.3.26","Išlaidų pavadinimas",null,null,null,null,0,0]
["5.4","Projekto MTEP veikloms naudojamo ilgalaikio materialaus turto (įrangos, prietaisų, įrankių, įrenginių, mašinų ir įrengimų, pastatų ir (ar) patalpų), nusidėvėjimo sąnaudos, jeigu šiam turtui įsigyti nebuvo naudojamos viešosios (įskaitant ir kitų valstybių) lėšos",null,null,null,null,{"$f":"SUM(G72:G97)","v":0},{"$f":"SUM(H72:H97)","v":0},null,null,"Turto įvedimo į eksploataciją data","Turto įsigijimo vertė, Eur","Turto nudėvėjimo, amortizacijos laikotarpis, mėn.","Numatoma turto likutinė vertė, Eur","1 mėn. nudėvėjimo, amortizacijos suma, Eur","Turto naudojamo projekto reikmėms laikas, mėn.","Turto panaudojimo projekto reikmėms dalis (proc.)","Projektui priskirta turto nusidėvėjimo, amortizacijos suma per projekto laikotarpį, Eur"]
["5.4.1","Turtas, kurio nusidėvėjimą, amortizaciją prašoma finansuoti",null,null,1,{"$f":"R72","v":0},{"$f":"ROUND(E72*F72,2)","v":0},0,null,null,null,null,null,null,{"$f":"IFERROR(ROUND((L72-N72)/M72,2),\"0\")","v":"0"},null,null,{"$f":"O72*P72*Q72","v":0},{"$f":"IF(K72=0,\" \",IF(K72+(M72*30.5)<TODAY(),\"DĖMESIO! Patikrinkite, ar nurodytas turtas dar nėra nudėvėtas, amortizuotas\",\" \"))","v":" "}]
["5.4.2","Turtas, kurio nusidėvėjimą, amortizaciją prašoma finansuoti",null,null,1,{"$f":"R73","v":0},0,0,null,null,null,null,null,null,{"$f":"IFERROR(ROUND((L73-N73)/M73,2),\"0\")","v":"0"},null,null,{"$f":"O73*P73*Q73","v":0},{"$f":"IF(K73=0,\" \",IF(K73+(M73*30.5)<TODAY(),\"DĖMESIO! Patikrinkite, ar nurodytas turtas dar nėra nudėvėtas, amortizuotas\",\" \"))","v":" "}]
["5.4.3","Turtas, kurio nusidėvėjimą, amortizaciją prašoma finansuoti",null,null,1,0,{"$f":"ROUND(E74*F74,2)","v":0},{"$f":"ROUND(G74*$D$7,2)","v":0},null,null,null,null,null,null,"0",null,null,0]
["5.4.4","Turtas, kurio nusidėvėjimą, amortizaciją prašoma finansuoti",null,null,1,0,0,0,null,null,null,null,null,null,"0",null,null,0]
["5.4.5","Turtas, kurio nusidėvėjimą, amortizaciją prašoma finansuoti",null,null,1,0,0,0,null,null,null,null,null,null,"0",null,null,0]
["5.4.6","Turtas, kurio nusidėvėjimą, amortizaciją prašoma finansuoti",null,null,1,0,0,0,null,null,null,null,null,null,"0",null,null,0]
["5.4.7","Turtas, kurio nusidėvėjimą, amortizaciją prašoma finansuoti",null,null,1,0,0,0,null,null,null,null,null,null,"0",null,null,0]
["5.4.8","Turtas, kurio nusidėvėjimą, amortizaciją prašoma finansuoti",null,null,1,0,0,0,null,null,null,null,null,null,"0",null,null,0]
["5.4.9","Turtas, kurio nusidėvėjimą, amortizaciją prašoma finansuoti",null,null,1,0,0,0,null,null,null,null,null,null,"0",null,null,0]
["5.4.10","Turtas, kurio nusidėvėjimą, amortizaciją prašoma finansuoti",null,null,1,0,0,0,null,null,null,null,null,null,"0",null,null,0]
["5.4.11","Turtas, kurio nusidėvėjimą, amortizaciją prašoma finansuoti",null,null,1,0,0,0,null,null,null,null,null,null,"0",null,null,0]
["5.4.12","Turtas, kurio nusidėvėjimą, amortizaciją prašoma finansuoti",null,null,1,0,0,0,null,null,null,null,null,null,"0",null,null,0]
["5.4.13","Turtas, kurio nusidėvėjimą, amortizaciją prašoma finansuoti",null,null,1,0,0,0,null,null,null,null,null,null,"0",null,null,0]
["5.4.14","Turtas, kurio nusidėvėjimą, amortizaciją prašoma finansuoti",null,null,1,0,0,0,null,null,null,null,null,null,"0",null,null,0," "]
["5.4.15","Turtas, kurio nusidėvėjimą, amortizaciją prašoma finansuoti",null,null,1,0,0,0,null,null,null,null,null,null,"0",null,null,0," "]
["5.4.16","Turtas, kurio nusidėvėjimą, amortizaciją prašoma finansuoti",null,null,1,0,0,0,null,null,null,null,null,null,"0",null,null,0," "]
["5.4.17","Turtas, kurio nusidėvėjimą, amortizaciją prašoma finansuoti",null,null,1,0,0,0,null,null,null,null,null,null,"0",null,null,0," "]
["5.4.18","Turtas, kurio nusidėvėjimą, amortizaciją prašoma finansuoti",null,null,1,0,0,0,null,null,null,null,null,null,"0",null,null,0," "]
["5.4.19","Turtas, kurio nusidėvėjimą, amortizaciją prašoma finansuoti",null,null,1,0,0,0,null,null,null,null,null,null,"0",null,null,0," "]
["5.4.20","Turtas, kurio nusidėvėjimą, amortizaciją prašoma finansuoti",null,null,1,0,0,0,null,null,null,null,null,null,"0",null,null,0," "]
["5.4.21","Turtas, kurio nusidėvėjimą, amortizaciją prašoma finansuoti",null,null,1,0,0,0,null,null,null,null,null,null,"0",null,null,0," "]
["5.4.22","Turtas, kurio nusidėvėjimą, amortizaciją prašoma finansuoti",null,null,1,0,0,0,null,null,null,null,null,null,"0",null,null,0," "]
["5.4.23","Turtas, kurio nusidėvėjimą, amortizaciją prašoma finansuoti",null,null,1,0,0,0,null,null,null,null,null,null,"0",null,null,0," "]
["5.4.24","Turtas, kurio nusidėvėjimą, amortizaciją prašoma finansuoti",null,null,1,0,0,0,null,null,null,null,null,null,"0",null,null,0," "]
["5.4.25","Turtas, kurio nusidėvėjimą, amortizaciją prašoma finansuoti",null,null,1,0,0,0,null,null,null,null,null,null,"0",null,null,0," "]
["5.4.26","Turtas, kurio nusidėvėjimą, amortizaciją prašoma finansuoti",null,null,1,0,0,0,null,null,null,null,null,null,"0",null,null,0," "]
["5.5","Projektą vykdančio personalo darbo užmokestis ir išlaidos su darbo santykiais susijusiems darbdavio įsipareigojimams",null,null,null,null,{"$f":"SUM(G99:G148)","v":0},{"$f":"SUM(H99:H148)","v":0},null,null,"Faktiškai gaunamas darbo užmokesti už 1 valandą pagal  pastarųjų 6 mėn. vidurkį, Eur"]
["5.5.1","Pareigybės pavadinimas","Darbuotojo vardas pavardė","val.",null,{"$f":"IFERROR(ROUND(AVERAGE(K99:K103),2),\"0\")","v":"0"},{"$f":"ROUND(E99*F99,2)","v":0},{"$f":"ROUND(G99*$D$7,2)","v":0}]
[null,null,"Darbuotojo vardas pavardė"]
[null,null,"Darbuotojo vardas pavardė"]
[null,null,"Darbuotojo vardas pavardė"]
[null,null,"Darbuotojo vardas pavardė"]
["5.5.2","Pareigybės pavadinimas","Darbuotojo vardas pavardė","val.",null,{"$f":"IFERROR(ROUND(AVERAGE(K104:K108),2),\"0\")","v":"0"},{"$f":"ROUND(E104*F104,2)","v":0},{"$f":"ROUND(G104*$D$7,2)","v":0}]
[null,null,"Darbuotojo vardas pavardė"]
[null,null,"Darbuotojo vardas pavardė"]
[null,null,"Darbuotojo vardas pavardė"]
[null,null,"Darbuotojo vardas pavardė"]
["5.5.3","Pareigybės pavadinimas","Darbuotojo vardas pavardė","val.",null,{"$f":"IFERROR(ROUND(AVERAGE(K109:K113),2),\"0\")","v":"0"},{"$f":"ROUND(E109*F109,2)","v":0},{"$f":"ROUND(G109*$D$7,2)","v":0}]
[null,null,"Darbuotojo vardas pavardė"]
[null,null,"Darbuotojo vardas pavardė"]
[null,null,"Darbuotojo vardas pavardė"]
[null,null,"Darbuotojo vardas pavardė"]
["5.5.4","Pareigybės pavadinimas","Darbuotojo vardas pavardė","val.",null,{"$f":"IFERROR(ROUND(AVERAGE(K114:K118),2),\"0\")","v":"0"},{"$f":"ROUND(E114*F114,2)","v":0},{"$f":"ROUND(G114*$D$7,2)","v":0}]
[null,null,"Darbuotojo vardas pavardė"]
[null,null,"Darbuotojo vardas pavardė"]
[null,null,"Darbuotojo vardas pavardė"]
[null,null,"Darbuotojo vardas pavardė"]
["5.5.5","Pareigybės pavadinimas","Darbuotojo vardas pavardė","val.",null,{"$f":"IFERROR(ROUND(AVERAGE(K119:K123),2),\"0\")","v":"0"},{"$f":"ROUND(E119*F119,2)","v":0},{"$f":"ROUND(G119*$D$7,2)","v":0}]
[null,null,"Darbuotojo vardas pavardė"]
[null,null,"Darbuotojo vardas pavardė"]
[null,null,"Darbuotojo vardas pavardė"]
[null,null,"Darbuotojo vardas pavardė"]
["5.5.6","Pareigybės pavadinimas","Darbuotojo vardas pavardė","val.",null,{"$f":"IFERROR(ROUND(AVERAGE(K124:K128),2),\"0\")","v":"0"},{"$f":"ROUND(E124*F124,2)","v":0},{"$f":"ROUND(G124*$D$7,2)","v":0}]
[null,null,"Darbuotojo vardas pavardė"]
[null,null,"Darbuotojo vardas pavardė"]
[null,null,"Darbuotojo vardas pavardė"]
[null,null,"Darbuotojo vardas pavardė"]
["5.5.7","Pareigybės pavadinimas","Darbuotojo vardas pavardė","val.",null,{"$f":"IFERROR(ROUND(AVERAGE(K129:K133),2),\"0\")","v":"0"},{"$f":"ROUND(E129*F129,2)","v":0},{"$f":"ROUND(G129*$D$7,2)","v":0}]
[null,null,"Darbuotojo vardas pavardė"]
[null,null,"Darbuotojo vardas pavardė"]
[null,null,"Darbuotojo vardas pavardė"]
[null,null,"Darbuotojo vardas pavardė"]
["5.5.8","Pareigybės pavadinimas","Darbuotojo vardas pavardė","val.",null,{"$f":"IFERROR(ROUND(AVERAGE(K134:K138),2),\"0\")","v":"0"},{"$f":"ROUND(E134*F134,2)","v":0},{"$f":"ROUND(G134*$D$7,2)","v":0}]
[null,null,"Darbuotojo vardas pavardė"]
[null,null,"Darbuotojo vardas pavardė"]
[null,null,"Darbuotojo vardas pavardė"]
[null,null,"Darbuotojo vardas pavardė"]
["5.5.9","Pareigybės pavadinimas","Darbuotojo vardas pavardė","val.",null,{"$f":"IFERROR(ROUND(AVERAGE(K139:K143),2),\"0\")","v":"0"},{"$f":"ROUND(E139*F139,2)","v":0},{"$f":"ROUND(G139*$D$7,2)","v":0}]
[null,null,"Darbuotojo vardas pavardė"]
[null,null,"Darbuotojo vardas pavardė"]
[null,null,"Darbuotojo vardas pavardė"]
[null,null,"Darbuotojo vardas pavardė"]
["5.5.10","Pareigybės pavadinimas","Darbuotojo vardas pavardė","val.",null,{"$f":"IFERROR(ROUND(AVERAGE(K144:K148),2),\"0\")","v":"0"},{"$f":"ROUND(E144*F144,2)","v":0},{"$f":"ROUND(G144*$D$7,2)","v":0}]
[null,null,"Darbuotojo vardas pavardė"]
[null,null,"Darbuotojo vardas pavardė"]
[null,null,"Darbuotojo vardas pavardė"]
[null,null,"Darbuotojo vardas pavardė"]
["5.6","Projektą vykdančio personalo komandiruočių išlaidos",null,null,null,null,{"$f":"SUM(G150,G157,G164,G171,G178,G185,G192,G199,G206,G213)","v":0},{"$f":"SUM(H150,H157,H164,H171,H178,H185,H192,H199,H206,H213)","v":0}]
["5.6.1","Komandiruotės pavadinimas, vieta, trukmė dienomis, vykstančių asmenų skaičius","Iš viso komandiruotei",null,null,null,{"$f":"SUM(G151:G156)","v":0},{"$f":"ROUND(G150*$D$7,2)","v":0}]
[null,null,"Dienpinigiai",null,null,null,{"$f":"ROUND(E151*F151,2)","v":0}]
[null,null,"Gyvenamojo ploto nuoma",null,null,null,0]
[null,null,"Kelionės išlaidos",null,null,null,0]
[null,null,"Dalyvavimo mokestis",null,null,null,0]
[null,null,"Kitos išlaidų pavadinimas",null,null,null,0]
[null,null,"Kitos išlaidų pavadinimas",null,null,null,0]
["5.6.2","Komandiruotės pavadinimas, vieta, trukmė dienomis, vykstančių asmenų skaičius","Iš viso komandiruotei",null,null,null,{"$f":"SUM(G158:G163)","v":0},{"$f":"ROUND(G157*$D$7,2)","v":0}]
[null,null,"Dienpinigiai",null,null,null,{"$f":"ROUND(E158*F158,2)","v":0}]
[null,null,"Gyvenamojo ploto nuoma",null,null,null,0]
[null,null,"Kelionės išlaidos",null,null,null,0]
[null,null,"Dalyvavimo mokestis",null,null,null,0]
[null,null,"Kitos išlaidų pavadinimas",null,null,null,0]
[null,null,"Kitos išlaidų pavadinimas",null,null,null,0]
["5.6.3","Komandiruotės pavadinimas, vieta, trukmė dienomis, vykstančių asmenų skaičius","Iš viso komandiruotei",null,null,null,{"$f":"SUM(G165:G170)","v":0},{"$f":"ROUND(G164*$D$7,2)","v":0}]
[null,null,"Dienpinigiai",null,null,null,{"$f":"ROUND(E165*F165,2)","v":0}]
[null,null,"Gyvenamojo ploto nuoma",null,null,null,0]
[null,null,"Kelionės išlaidos",null,null,null,0]
[null,null,"Dalyvavimo mokestis",null,null,null,0]
[null,null,"Kitos išlaidų pavadinimas",null,null,null,0]
[null,null,"Kitos išlaidų pavadinimas",null,null,null,0]
["5.6.4","Komandiruotės pavadinimas, vieta, trukmė dienomis, vykstančių asmenų skaičius","Iš viso komandiruotei",null,null,null,{"$f":"SUM(G172:G177)","v":0},{"$f":"ROUND(G171*$D$7,2)","v":0}]
[null,null,"Dienpinigiai",null,null,null,{"$f":"ROUND(E172*F172,2)","v":0}]
[null,null,"Gyvenamojo ploto nuoma",null,null,null,0]
[null,null,"Kelionės išlaidos",null,null,null,0]
[null,null,"Dalyvavimo mokestis",null,null,null,0]
[null,null,"Kitos išlaidų pavadinimas",null,null,null,0]
[null,null,"Kitos išlaidų pavadinimas",null,null,null,0]
["5.6.5","Komandiruotės pavadinimas, vieta, trukmė dienomis, vykstančių asmenų skaičius","Iš viso komandiruotei",null,null,null,{"$f":"SUM(G179:G184)","v":0},{"$f":"ROUND(G178*$D$7,2)","v":0}]
[null,null,"Dienpinigiai",null,null,null,{"$f":"ROUND(E179*F179,2)","v":0}]
[null,null,"Gyvenamojo ploto nuoma",null,null,null,0]
[null,null,"Kelionės išlaidos",null,null,null,0]
[null,null,"Dalyvavimo mokestis",null,null,null,0]
[null,null,"Kitos išlaidų pavadinimas",null,null,null,0]
[null,null,"Kitos išlaidų pavadinimas",null,null,null,0]
["5.6.6","Komandiruotės pavadinimas, vieta, trukmė dienomis, vykstančių asmenų skaičius","Iš viso komandiruotei",null,null,null,{"$f":"SUM(G186:G191)","v":0},{"$f":"ROUND(G185*$D$7,2)","v":0}]
[null,null,"Dienpinigiai",null,null,null,{"$f":"ROUND(E186*F186,2)","v":0}]
[null,null,"Gyvenamojo ploto nuoma",null,null,null,0]
[null,null,"Kelionės išlaidos",null,null,null,0]
[null,null,"Dalyvavimo mokestis",null,null,null,0]
[null,null,"Kitos išlaidų pavadinimas",null,null,null,0]
[null,null,"Kitos išlaidų pavadinimas",null,null,null,0]
["5.6.7","Komandiruotės pavadinimas, vieta, trukmė dienomis, vykstančių asmenų skaičius","Iš viso komandiruotei",null,null,null,{"$f":"SUM(G193:G198)","v":0},{"$f":"ROUND(G192*$D$7,2)","v":0}]
[null,null,"Dienpinigiai",null,null,null,{"$f":"ROUND(E193*F193,2)","v":0}]
[null,null,"Gyvenamojo ploto nuoma",null,null,null,0]
[null,null,"Kelionės išlaidos",null,null,null,0]
[null,null,"Dalyvavimo mokestis",null,null,null,0]
[null,null,"Kitos išlaidų pavadinimas",null,null,null,0]
[null,null,"Kitos išlaidų pavadinimas",null,null,null,0]
["5.6.8","Komandiruotės pavadinimas, vieta, trukmė dienomis, vykstančių asmenų skaičius","Iš viso komandiruotei",null,null,null,{"$f":"SUM(G200:G205)","v":0},{"$f":"ROUND(G199*$D$7,2)","v":0}]
[null,null,"Dienpinigiai",null,null,null,{"$f":"ROUND(E200*F200,2)","v":0}]
[null,null,"Gyvenamojo ploto nuoma",null,null,null,0]
[null,null,"Kelionės išlaidos",null,null,null,0]
[null,null,"Dalyvavimo mokestis",null,null,null,0]
[null,null,"Kitos išlaidų pavadinimas",null,null,null,0]
[null,null,"Kitos išlaidų pavadinimas",null,null,null,0]
["5.6.9","Komandiruotės pavadinimas, vieta, trukmė dienomis, vykstančių asmenų skaičius","Iš viso komandiruotei",null,null,null,{"$f":"SUM(G207:G212)","v":0},{"$f":"ROUND(G206*$D$7,2)","v":0}]
[null,null,"Dienpinigiai",null,null,null,{"$f":"ROUND(E207*F207,2)","v":0}]
[null,null,"Gyvenamojo ploto nuoma",null,null,null,0]
[null,null,"Kelionės išlaidos",null,null,null,0]
[null,null,"Dalyvavimo mokestis",null,null,null,0]
[null,null,"Kitos išlaidų pavadinimas",null,null,null,0]
[null,null,"Kitos išlaidų pavadinimas",null,null,null,0]
["5.6.10","Komandiruotės pavadinimas, vieta, trukmė dienomis, vykstančių asmenų skaičius","Iš viso komandiruotei",null,null,null,{"$f":"SUM(G214:G219)","v":0},{"$f":"ROUND(G213*$D$7,2)","v":0}]
[null,null,"Dienpinigiai",null,null,null,{"$f":"ROUND(E214*F214,2)","v":0}]
[null,null,"Gyvenamojo ploto nuoma",null,null,null,0]
[null,null,"Kelionės išlaidos",null,null,null,0]
[null,null,"Dalyvavimo mokestis",null,null,null,0]
[null,null,"Kitos išlaidų pavadinimas",null,null,null,0]
[null,null,"Kitos išlaidų pavadinimas",null,null,null,0]
["5.7","Įrangos nuomos išlaidos, veiklai priskirtos pro rata principu. Įranga turi būti tiesiogiai susijusi su projekto įgyvendinimu ir negali būti įsigyta iš ES struktūrinių fondų ar kt. ES finansinių priemonių lėšų",null,null,null,null,{"$f":"SUM(G221:G237)","v":0},{"$f":"SUM(H221:H237)","v":0},null,null,"Faktinės 1 mėnesio išlaidos, Eur","Naudojimo projekte trukmė, mėn."]
["5.7.1","Įrangos pavadinimas",null,"pro rata proc.",null,{"$f":"K221*L221","v":0},0,{"$f":"ROUND(G221*$D$7,2)","v":0}]
["5.7.2","Įrangos pavadinimas",null,"pro rata proc.",null,{"$f":"K222*L222","v":0},{"$f":"ROUND(E222*F222,2)","v":0},{"$f":"ROUND(G222*$D$7,2)","v":0}]
["5.7.3","Įrangos pavadinimas",null,"pro rata proc.",null,0,0,0]
["5.7.4","Įrangos pavadinimas",null,"pro rata proc.",null,0,0,0]
["5.7.5","Įrangos pavadinimas",null,"pro rata proc.",null,0,0,0]
["5.7.6","Įrangos pavadinimas",null,"pro rata proc.",null,0,0,0]
["5.7.7","Įrangos pavadinimas",null,"pro rata proc.",null,0,0,0]
["5.7.8","Įrangos pavadinimas",null,"pro rata proc.",null,0,0,0]
["5.7.9","Įrangos pavadinimas",null,"pro rata proc.",null,0,0,0]
["5.7.10","Įrangos pavadinimas",null,"pro rata proc.",null,0,0,0]
["5.7.11","Įrangos pavadinimas",null,"pro rata proc.",null,0,0,0]
["5.7.12","Įrangos pavadinimas",null,"pro rata proc.",null,0,0,0]
["5.7.13","Įrangos pavadinimas",null,"pro rata proc.",null,0,0,0]
["5.7.14","Įrangos pavadinimas",null,"pro rata proc.",null,{"$f":"K234*L234","v":0},0,{"$f":"ROUND(G234*$D$7,2)","v":0}]
["5.7.15","Įrangos pavadinimas",null,"pro rata proc.",null,0,0,0]
["5.7.16","Įrangos pavadinimas",null,"pro rata proc.",null,0,0,0]
["5.7.17","Įrangos pavadinimas",null,"pro rata proc.",null,0,0,0]
["5.8","Pastatų ar patalpų nuomos išlaidos, veiklai priskirtos pro rata principu. Pastatai ar patalpos turi būti tiesiogiai susijusi su projekto įgyvendinimu.",null,null,null,null,{"$f":"SUM(G239:G243)","v":0},{"$f":"SUM(H239:H243)","v":0},null,null,"Faktinės 1 mėnesio išlaidos, Eur","Naudojimo projekte trukmė, mėn."]
["5.8.1","Pastato, patalpų adresas",null,"pro rata proc.",null,{"$f":"K239*L239","v":0},{"$f":"ROUND(E239*F239,2)","v":0},{"$f":"ROUND(G239*$D$7,2)","v":0}]
["5.8.2","Pastato, patalpų adresas",null,"pro rata proc.",null,{"$f":"K240*L240","v":0},0,0]
["5.8.3","Pastato, patalpų adresas",null,"pro rata proc.",null,0,0,0]
["5.8.4","Pastato, patalpų adresas",null,"pro rata proc.",null,0,0,0]
["5.8.5","Pastato, patalpų adresas",null,"pro rata proc.",null,0,0,0]
["Iš viso tinkamų finansuoti išlaidų:",null,null,null,null,null,{"$f":"G10+G21","v":0},{"$f":"H10+H21","v":0}]

{"sheet":"5","index":6,"n_rows":245,"n_cols":19,"rows_kept":245,"cut":false,"hidden":false,"merged":[[109,0,113,0],[109,1,113,1],[109,3,113,3],[109,4,113,4],[109,5,113,5],[109,6,113,6],[109,7,113,7],[109,8,113,8],[129,0,133,0],[129,1,133,1],[129,3,133,3],[129,4,133,4],[129,5,133,5],[129,6,133,6],[129,7,133,7],[129,8,133,8],[114,0,118,0],[114,1,118,1],[114,3,118,3],[114,4,118,4],[114,5,118,5],[114,6,118,6],[114,7,118,7],[114,8,118,8],[99,0,103,0],[99,1,103,1],[99,3,103,3],[99,4,103,4],[99,5,103,5],[99,6,103,6],[99,7,103,7],[99,8,103,8],[104,0,108,0],[104,1,108,1],[104,3,108,3],[104,4,108,4],[104,5,108,5],[104,6,108,6],[104,7,108,7],[104,8,108,8],[44,1,44,2],[45,1,45,2],[56,1,56,2],[57,1,57,2],[46,1,46,2],[47,1,47,2],[85,1,85,2],[86,1,86,2],[87,1,87,2],[48,1,48,2],[49,1,49,2],[50,1,50,2],[51,1,51,2],[52,1,52,2],[53,1,53,2],[54,1,54,2],[55,1,55,2],[72,1,72,2],[58,1,58,2],[59,1,59,2],[66,1,66,2],[70,1,70,2],[71,1,71,2],[60,1,60,2],[0,3,0,8],[2,0,2,2],[2,3,2,8],[22,1,22,2],[14,1,14,2],[15,1,15,2],[16,1,16,2],[17,1,17,2],[18,1,18,2],[20,1,20,5],[10,1,10,2],[11,1,11,2],[12,1,12,2],[13,1,13,2],[3,3,3,4],[3,5,3,6],[4,0,4,2],[4,3,4,8],[8,1,8,2],[9,1,9,5],[19,1,19,2],[21,1,21,5],[134,8,138,8],[139,0,143,0],[139,1,143,1],[139,3,143,3],[139,4,143,4],[139,5,143,5],[134,0,138,0],[134,1,138,1],[134,3,138,3],[134,4,138,4],[134,5,138,5],[134,6,138,6],[134,7,138,7],[139,6,143,6],[139,7,143,7],[139,8,143,8],[31,1,31,2],[32,1,32,5],[42,1,42,2],[43,1,43,5],[23,1,23,2],[24,1,24,2],[25,1,25,2],[33,1,33,2],[34,1,34,2],[35,1,35,2],[36,1,36,2],[37,1,37,2],[26,1,26,2],[27,1,27,2],[28,1,28,2],[29,1,29,2],[30,1,30,2],[38,1,38,2],[39,1,39,2],[40,1,40,2],[41,1,41,2],[119,8,123,8],[124,0,128,0],[124,1,128,1],[124,3,128,3],[124,4,128,4],[124,5,128,5],[124,6,128,6],[124,7,128,7],[124,8,128,8],[119,0,123,0],[119,1,123,1],[119,3,123,3],[119,4,123,4],[119,5,123,5],[119,7,123,7],[119,6,123,6],[144,0,148,0],[144,1,148,1],[144,3,148,3],[144,4,148,4],[144,5,148,5],[144,6,148,6],[144,7,148,7],[144,8,148,8],[150,0,156,0],[150,1,156,1],[150,8,156,8],[149,1,149,5],[157,0,163,0],[157,1,163,1],[157,8,163,8],[164,0,170,0],[164,1,170,1],[164,8,170,8],[171,0,177,0],[171,1,177,1],[171,8,177,8],[178,0,184,0],[178,1,184,1],[178,8,184,8],[185,0,191,0],[185,1,191,1],[185,8,191,8],[213,8,219,8],[220,1,220,5],[221,1,221,2],[192,0,198,0],[192,1,198,1],[192,8,198,8],[199,0,205,0],[199,1,205,1],[199,8,205,8],[206,0,212,0],[206,1,212,1],[206,8,212,8],[238,1,238,5],[239,1,239,2],[240,1,240,2],[241,1,241,2],[242,1,242,2],[243,1,243,2],[244,0,244,5],[213,0,219,0],[213,1,219,1],[234,1,234,2],[235,1,235,2],[236,1,236,2],[237,1,237,2],[228,1,228,2],[229,1,229,2],[230,1,230,2],[231,1,231,2],[232,1,232,2],[233,1,233,2],[61,1,61,2],[62,1,62,2],[63,1,63,2],[64,1,64,2],[65,1,65,2],[67,1,67,2],[68,1,68,2],[69,1,69,5],[73,1,73,2],[74,1,74,2],[75,1,75,2],[76,1,76,2],[77,1,77,2],[78,1,78,2],[79,1,79,2],[80,1,80,2],[81,1,81,2],[82,1,82,2],[83,1,83,2],[84,1,84,2],[222,1,222,2],[223,1,223,2],[224,1,224,2],[225,1,225,2],[226,1,226,2],[227,1,227,2],[88,1,88,2],[89,1,89,2],[90,1,90,2],[91,1,91,2],[92,1,92,2],[93,1,93,2],[94,1,94,2],[95,1,95,2],[96,1,96,2],[97,1,97,2],[98,1,98,5]]}
[null,null,"Pasirinkite veiklos tipą:"]
[null,null,"Fizinio rodiklio Nr.:"]
["Fizinio rodiklio pavadinimas:"]
[null,null,"Fizinio rodiklio matavimo vnt.:",null,null,"Fizinio rodiklio vnt. skaičius:"]
["Juridinis asmuo (pareiškėjas, partneris), atsakingas už fizinį rodiklį:"]
[]
[null,null,"Finansavimo intensyvumas:",null,null,null,"Pasirinkite biudžeto išlaidų kategoriją:"]
[]
["Eil. Nr.","Išlaidų kategorijos pavadinimas",null,"Matavimo vnt.","Kiekis","Vieneto kaina be PVM, Eur","Tinkamų finansuoti išlaidų suma be PVM, Eur","Finansavimo suma, Eur","Išlaidų pagrindimo dokumentų pavadinimas, data ir Nr."]
[4,"ĮRANGA, ĮRENGINIAI IR KT. TURTAS (techninių žinių ir išradimų patentų arba teisių pagal licencijų sutartį įsigijimo išlaidos)",null,null,null,null,{"$f":"SUM(G11:G20)","v":0},{"$f":"SUM(H11:H20)","v":0}]
["4.1","Išlaidų pavadinimas",null,null,null,null,{"$f":"ROUND(E11*F11,2)","v":0},{"$f":"ROUND(G11*$D$7,2)","v":0}]
["4.2","Išlaidų pavadinimas",null,null,null,null,0,0]
["4.3","Išlaidų pavadinimas",null,null,null,null,0,0]
["4.4","Išlaidų pavadinimas",null,null,null,null,0,0]
["4.5","Išlaidų pavadinimas",null,null,null,null,0,0]
["4.6","Išlaidų pavadinimas",null,null,null,null,0,0]
["4.7","Išlaidų pavadinimas",null,null,null,null,0,0]
["4.8","Išlaidų pavadinimas",null,null,null,null,0,0]
["4.9","Išlaidų pavadinimas",null,null,null,null,0,0]
["4.10","Išlaidų pavadinimas",null,null,null,null,0,0]
[5,"PROJEKTO VYKDYMAS",null,null,null,null,{"$f":"G22+G33+G44+G70+G99+G150+G221+G239","v":0},{"$f":"H22+H33+H44+H70+H99+H150+H221+H239","v":0}]
["5.1","MTEP paslaugos",null,null,null,null,{"$f":"SUM(G23:G32)","v":0},{"$f":"SUM(H23:H32)","v":0}]
["5.1.1","Paslaugos pavadinimas",null,null,null,null,{"$f":"ROUND(E23*F23,2)","v":0},0]
["5.1.2","Paslaugos pavadinimas",null,null,null,null,0,0]
["5.1.3","Paslaugos pavadinimas",null,null,null,null,0,0]
["5.1.4","Paslaugos pavadinimas",null,null,null,null,0,0]
["5.1.5","Paslaugos pavadinimas",null,null,null,null,0,0]
["5.1.6","Paslaugos pavadinimas",null,null,null,null,0,0]
["5.1.7","Paslaugos pavadinimas",null,null,null,null,0,0]
["5.1.8","Paslaugos pavadinimas",null,null,null,null,0,0]
["5.1.9","Paslaugos pavadinimas",null,null,null,null,0,0]
["5.1.10","Paslaugos pavadinimas",null,null,null,null,0,0]
["5.2","Konsultavimo ir lygiavertės paslaugos, naudojamos vien tik projekto MTEP veiklai",null,null,null,null,{"$f":"SUM(G34:G43)","v":0},{"$f":"SUM(H34:H43)","v":0}]
["5.2.1","Paslaugos pavadinimas",null,null,null,null,{"$f":"ROUND(E34*F34,2)","v":0},0]
["5.2.2","Paslaugos pavadinimas",null,null,null,null,0,0]
["5.2.3","Paslaugos pavadinimas",null,null,null,null,0,0]
["5.2.4","Paslaugos pavadinimas",null,null,null,null,0,0]
["5.2.5","Paslaugos pavadinimas",null,null,null,null,0,0]
["5.2.6","Paslaugos pavadinimas",null,null,null,null,0,0]
["5.2.7","Paslaugos pavadinimas",null,null,null,null,0,0]
["5.2.8","Paslaugos pavadinimas",null,null,null,null,0,0]
["5.2.9","Paslaugos pavadinimas",null,null,null,null,0,0]
["5.2.10","Paslaugos pavadinimas",null,null,null,null,0,0]
["5.3","Medžiagos, mažavertis inventorius, atsargos ir pan. produktai, priskirtini trumpalaikiam turtui ir tiesiogiai susiję su MTEP veikla",null,null,null,null,{"$f":"SUM(G45:G69)","v":0},{"$f":"SUM(H45:H69)","v":0}]
["5.3.1","Išlaidų pavadinimas",null,null,null,null,{"$f":"ROUND(E45*F45,2)","v":0},{"$f":"ROUND(G45*$D$7,2)","v":0}]
["5.3.2","Išlaidų pavadinimas",null,null,null,null,0,0]
["5.3.3","Išlaidų pavadinimas",null,null,null,null,{"$f":"ROUND(E47*F47,2)","v":0},{"$f":"ROUND(G47*$D$7,2)","v":0}]
["5.3.4","Išlaidų pavadinimas",null,null,null,null,0,0]
["5.3.5","Išlaidų pavadinimas",null,null,null,null,0,0]
["5.3.6","Išlaidų pavadinimas",null,null,null,null,0,0]
["5.3.7","Išlaidų pavadinimas",null,null,null,null,0,0]
["5.3.8","Išlaidų pavadinimas",null,null,null,null,0,0]
["5.3.9","Išlaidų pavadinimas",null,null,null,null,0,0]
["5.3.10","Išlaidų pavadinimas",null,null,null,null,0,0]
["5.3.11","Išlaidų pavadinimas",null,null,null,null,0,0]
["5.3.12","Išlaidų pavadinimas",null,null,null,null,0,0]
["5.3.13","Išlaidų pavadinimas",null,null,null,null,0,0]
["5.3.14","Išlaidų pavadinimas",null,null,null,null,0,0]
["5.3.15","Išlaidų pavadinimas",null,null,null,null,0,0]
["5.3.16","Išlaidų pavadinimas",null,null,null,null,0,0]
["5.3.17","Išlaidų pavadinimas",null,null,null,null,0,0]
["5.3.18","Išlaidų pavadinimas",null,null,null,null,0,0]
["5.3.19","Išlaidų pavadinimas",null,null,null,null,0,0]
["5.3.20","Išlaidų pavadinimas",null,null,null,null,0,0]
["5.3.21","Išlaidų pavadinimas",null,null,null,null,0,0]
["5.3.22","Išlaidų pavadinimas",null,null,null,null,0,0]
["5.3.23","Išlaidų pavadinimas",null,null,null,null,0,0]
["5.3.24","Išlaidų pavadinimas",null,null,null,null,0,0]
["5.3.25","Išlaidų pavadinimas",null,null,null,null,0,0]
["5.4","Projekto MTEP veikloms naudojamo ilgalaikio materialaus turto (įrangos, prietaisų, įrankių, įrenginių, mašinų ir įrengimų, pastatų ir (ar) patalpų), nusidėvėjimo sąnaudos, jeigu šiam turtui įsigyti nebuvo naudojamos viešosios (įskaitant ir kitų valstybių) lėšos",null,null,null,null,{"$f":"SUM(G71:G98)","v":0},{"$f":"SUM(H71:H98)","v":0},null,null,"Turto įvedimo į eksploataciją data","Turto įsigijimo vertė, Eur","Turto nudėvėjimo, amortizacijos laikotarpis, mėn.","Numatoma turto likutinė vertė, Eur","1 mėn. nudėvėjimo, amortizacijos suma, Eur","Turto naudojamo projekto reikmėms laikas, mėn.","Turto panaudojimo projekto reikmėms dalis (proc.)","Projektui priskirta turto nusidėvėjimo, amortizacijos suma per projekto laikotarpį, Eur"]
["5.4.1","Turtas, kurio nusidėvėjimą, amortizaciją prašoma finansuoti",null,null,1,{"$f":"R71","v":0},{"$f":"ROUND(E71*F71,2)","v":0},0,null,null,null,null,null,null,{"$f":"IFERROR(ROUND((L71-N71)/M71,2),\"0\")","v":"0"},null,null,{"$f":"O71*P71*Q71","v":0},{"$f":"IF(K71=0,\" \",IF(K71+(M71*30.5)<TODAY(),\"DĖMESIO! Patikrinkite, ar nurodytas turtas dar nėra nudėvėtas, amortizuotas\",\" \"))","v":" "}]
["5.4.2","Turtas, kurio nusidėvėjimą, amortizaciją prašoma finansuoti",null,null,1,{"$f":"R72","v":0},0,0,null,null,null,null,null,null,{"$f":"IFERROR(ROUND((L72-N72)/M72,2),\"0\")","v":"0"},null,null,{"$f":"O72*P72*Q72","v":0},{"$f":"IF(K72=0,\" \",IF(K72+(M72*30.5)<TODAY(),\"DĖMESIO! Patikrinkite, ar nurodytas turtas dar nėra nudėvėtas, amortizuotas\",\" \"))","v":" "}]
["5.4.3","Turtas, kurio nusidėvėjimą, amortizaciją prašoma finansuoti",null,null,1,0,0,0,null,null,null,null,null,null,"0",null,null,0]
["5.4.4","Turtas, kurio nusidėvėjimą, amortizaciją prašoma finansuoti",null,null,1,0,0,0,null,null,null,null,null,null,"0",null,null,0]
["5.4.5","Turtas, kurio nusidėvėjimą, amortizaciją prašoma finansuoti",null,null,1,0,0,0,null,null,null,null,null,null,"0",null,null,0]
["5.4.6","Turtas, kurio nusidėvėjimą, amortizaciją prašoma finansuoti",null,null,1,0,0,0,null,null,null,null,null,null,"0",null,null,0]
["5.4.7","Turtas, kurio nusidėvėjimą, amortizaciją prašoma finansuoti",null,null,1,0,0,0,null,null,null,null,null,null,"0",null,null,0]
["5.4.8","Turtas, kurio nusidėvėjimą, amortizaciją prašoma finansuoti",null,null,1,0,0,0,null,null,null,null,null,null,"0",null,null,0]
["5.4.9","Turtas, kurio nusidėvėjimą, amortizaciją prašoma finansuoti",null,null,1,0,0,0,null,null,null,null,null,null,"0",null,null,0]
["5.4.10","Turtas, kurio nusidėvėjimą, amortizaciją prašoma finansuoti",null,null,1,0,0,0,null,null,null,null,null,null,"0",null,null,0]
["5.4.11","Turtas, kurio nusidėvėjimą, amortizaciją prašoma finansuoti",null,null,1,0,0,0,null,null,null,null,null,null,"0",null,null,0]
["5.4.12","Turtas, kurio nusidėvėjimą, amortizaciją prašoma finansuoti",null,null,1,0,0,0,null,null,null,null,null,null,"0",null,null,0]
["5.4.13","Turtas, kurio nusidėvėjimą, amortizaciją prašoma finansuoti",null,null,1,0,0,0,null,null,null,null,null,null,"0",null,null,0]
["5.4.14","Turtas, kurio nusidėvėjimą, amortizaciją prašoma finansuoti",null,null,1,0,0,0,null,null,null,null,null,null,"0",null,null,0]
["5.4.15","Turtas, kurio nusidėvėjimą, amortizaciją prašoma finansuoti",null,null,1,0,0,0,null,null,null,null,null,null,"0",null,null,0]
["5.4.3","Turtas, kurio nusidėvėjimą, amortizaciją prašoma finansuoti",null,null,1,0,0,0,null,null,null,null,null,null,"0",null,null,0," "]
["5.4.4","Turtas, kurio nusidėvėjimą, amortizaciją prašoma finansuoti",null,null,1,0,0,0,null,null,null,null,null,null,"0",null,null,0," "]
["5.4.5","Turtas, kurio nusidėvėjimą, amortizaciją prašoma finansuoti",null,null,1,0,0,0,null,null,null,null,null,null,"0",null,null,0," "]
["5.4.6","Turtas, kurio nusidėvėjimą, amortizaciją prašoma finansuoti",null,null,1,0,0,0,null,null,null,null,null,null,"0",null,null,0," "]
["5.4.7","Turtas, kurio nusidėvėjimą, amortizaciją prašoma finansuoti",null,null,1,0,0,0,null,null,null,null,null,null,"0",null,null,0," "]
["5.4.8","Turtas, kurio nusidėvėjimą, amortizaciją prašoma finansuoti",null,null,1,0,0,0,null,null,null,null,null,null,"0",null,null,0," "]
["5.4.9","Turtas, kurio nusidėvėjimą, amortizaciją prašoma finansuoti",null,null,1,0,0,0,null,null,null,null,null,null,"0",null,null,0," "]
["5.4.10","Turtas, kurio nusidėvėjimą, amortizaciją prašoma finansuoti",null,null,1,0,0,0,null,null,null,null,null,null,"0",null,null,0," "]
["5.4.11","Turtas, kurio nusidėvėjimą, amortizaciją prašoma finansuoti",null,null,1,0,0,0,null,null,null,null,null,null,"0",null,null,0," "]
["5.4.12","Turtas, kurio nusidėvėjimą, amortizaciją prašoma finansuoti",null,null,1,0,0,0,null,null,null,null,null,null,"0",null,null,0," "]
["5.4.13","Turtas, kurio nusidėvėjimą, amortizaciją prašoma finansuoti",null,null,1,0,0,0,null,null,null,null,null,null,"0",null,null,0," "]
["5.4.14","Turtas, kurio nusidėvėjimą, amortizaciją prašoma finansuoti",null,null,1,0,0,0,null,null,null,null,null,null,"0",null,null,0," "]
["5.4.15","Turtas, kurio nusidėvėjimą, amortizaciją prašoma finansuoti",null,null,1,0,0,0,null,null,null,null,null,null,"0",null,null,0," "]
["5.5","Projektą vykdančio personalo darbo užmokestis ir išlaidos su darbo santykiais susijusiems darbdavio įsipareigojimams",null,null,null,null,{"$f":"SUM(G100:G149)","v":0},{"$f":"SUM(H100:H149)","v":0},null,null,"Faktiškai gaunamas darbo užmokesti už 1 valandą pagal  pastarųjų 6 mėn. vidurkį, Eur"]
["5.5.1","Pareigybės pavadinimas","Darbuotojo vardas pavardė","val.",null,{"$f":"IFERROR(ROUND(AVERAGE(K100:K104),2),\"0\")","v":"0"},{"$f":"ROUND(E100*F100,2)","v":0},{"$f":"ROUND(G100*$D$7,2)","v":0}]
[null,null,"Darbuotojo vardas pavardė"]
[null,null,"Darbuotojo vardas pavardė"]
[null,null,"Darbuotojo vardas pavardė"]
[null,null,"Darbuotojo vardas pavardė"]
["5.5.2","Pareigybės pavadinimas","Darbuotojo vardas pavardė","val.",null,{"$f":"IFERROR(ROUND(AVERAGE(K105:K109),2),\"0\")","v":"0"},{"$f":"ROUND(E105*F105,2)","v":0},{"$f":"ROUND(G105*$D$7,2)","v":0}]
[null,null,"Darbuotojo vardas pavardė"]
[null,null,"Darbuotojo vardas pavardė"]
[null,null,"Darbuotojo vardas pavardė"]
[null,null,"Darbuotojo vardas pavardė"]
["5.5.3","Pareigybės pavadinimas","Darbuotojo vardas pavardė","val.",null,{"$f":"IFERROR(ROUND(AVERAGE(K110:K114),2),\"0\")","v":"0"},{"$f":"ROUND(E110*F110,2)","v":0},{"$f":"ROUND(G110*$D$7,2)","v":0}]
[null,null,"Darbuotojo vardas pavardė"]
[null,null,"Darbuotojo vardas pavardė"]
[null,null,"Darbuotojo vardas pavardė"]
[null,null,"Darbuotojo vardas pavardė"]
["5.5.4","Pareigybės pavadinimas","Darbuotojo vardas pavardė","val.",null,{"$f":"IFERROR(ROUND(AVERAGE(K115:K119),2),\"0\")","v":"0"},{"$f":"ROUND(E115*F115,2)","v":0},{"$f":"ROUND(G115*$D$7,2)","v":0}]
[null,null,"Darbuotojo vardas pavardė"]
[null,null,"Darbuotojo vardas pavardė"]
[null,null,"Darbuotojo vardas pavardė"]
[null,null,"Darbuotojo vardas pavardė"]
["5.5.5","Pareigybės pavadinimas","Darbuotojo vardas pavardė","val.",null,{"$f":"IFERROR(ROUND(AVERAGE(K120:K124),2),\"0\")","v":"0"},{"$f":"ROUND(E120*F120,2)","v":0},{"$f":"ROUND(G120*$D$7,2)","v":0}]
[null,null,"Darbuotojo vardas pavardė"]
[null,null,"Darbuotojo vardas pavardė"]
[null,null,"Darbuotojo vardas pavardė"]
[null,null,"Darbuotojo vardas pavardė"]
["5.5.6","Pareigybės pavadinimas","Darbuotojo vardas pavardė","val.",null,{"$f":"IFERROR(ROUND(AVERAGE(K125:K129),2),\"0\")","v":"0"},{"$f":"ROUND(E125*F125,2)","v":0},{"$f":"ROUND(G125*$D$7,2)","v":0}]
[null,null,"Darbuotojo vardas pavardė"]
[null,null,"Darbuotojo vardas pavardė"]
[null,null,"Darbuotojo vardas pavardė"]
[null,null,"Darbuotojo vardas pavardė"]
["5.5.7","Pareigybės pavadinimas","Darbuotojo vardas pavardė","val.",null,{"$f":"IFERROR(ROUND(AVERAGE(K130:K134),2),\"0\")","v":"0"},{"$f":"ROUND(E130*F130,2)","v":0},{"$f":"ROUND(G130*$D$7,2)","v":0}]
[null,null,"Darbuotojo vardas pavardė"]
[null,null,"Darbuotojo vardas pavardė"]
[null,null,"Darbuotojo vardas pavardė"]
[null,null,"Darbuotojo vardas pavardė"]
["5.5.8","Pareigybės pavadinimas","Darbuotojo vardas pavardė","val.",null,{"$f":"IFERROR(ROUND(AVERAGE(K135:K139),2),\"0\")","v":"0"},{"$f":"ROUND(E135*F135,2)","v":0},{"$f":"ROUND(G135*$D$7,2)","v":0}]
[null,null,"Darbuotojo vardas pavardė"]
[null,null,"Darbuotojo vardas pavardė"]
[null,null,"Darbuotojo vardas pavardė"]
[null,null,"Darbuotojo vardas pavardė"]
["5.5.9","Pareigybės pavadinimas","Darbuotojo vardas pavardė","val.",null,{"$f":"IFERROR(ROUND(AVERAGE(K140:K144),2),\"0\")","v":"0"},{"$f":"ROUND(E140*F140,2)","v":0},{"$f":"ROUND(G140*$D$7,2)","v":0}]
[null,null,"Darbuotojo vardas pavardė"]
[null,null,"Darbuotojo vardas pavardė"]
[null,null,"Darbuotojo vardas pavardė"]
[null,null,"Darbuotojo vardas pavardė"]
["5.5.10","Pareigybės pavadinimas","Darbuotojo vardas pavardė","val.",null,{"$f":"IFERROR(ROUND(AVERAGE(K145:K149),2),\"0\")","v":"0"},{"$f":"ROUND(E145*F145,2)","v":0},{"$f":"ROUND(G145*$D$7,2)","v":0}]
[null,null,"Darbuotojo vardas pavardė"]
[null,null,"Darbuotojo vardas pavardė"]
[null,null,"Darbuotojo vardas pavardė"]
[null,null,"Darbuotojo vardas pavardė"]
["5.6","Projektą vykdančio personalo komandiruočių išlaidos",null,null,null,null,{"$f":"SUM(G151,G158,G165,G172,G179,G186,G193,G200,G207,G214)","v":0},{"$f":"SUM(H151,H158,H165,H172,H179,H186,H193,H200,H207,H214)","v":0}]
["5.6.1","Komandiruotės pavadinimas, vieta, trukmė dienomis, vykstančių asmenų skaičius","Iš viso komandiruotei",null,null,null,{"$f":"SUM(G152:G157)","v":0},{"$f":"ROUND(G151*$D$7,2)","v":0}]
[null,null,"Dienpinigiai",null,null,null,{"$f":"ROUND(E152*F152,2)","v":0}]
[null,null,"Gyvenamojo ploto nuoma",null,null,null,0]
[null,null,"Kelionės išlaidos",null,null,null,0]
[null,null,"Dalyvavimo mokestis",null,null,null,0]
[null,null,"Kitos išlaidų pavadinimas",null,null,null,0]
[null,null,"Kitos išlaidų pavadinimas",null,null,null,0]
["5.6.2","Komandiruotės pavadinimas, vieta, trukmė dienomis, vykstančių asmenų skaičius","Iš viso komandiruotei",null,null,null,{"$f":"SUM(G159:G164)","v":0},{"$f":"ROUND(G158*$D$7,2)","v":0}]
[null,null,"Dienpinigiai",null,null,null,{"$f":"ROUND(E159*F159,2)","v":0}]
[null,null,"Gyvenamojo ploto nuoma",null,null,null,0]
[null,null,"Kelionės išlaidos",null,null,null,0]
[null,null,"Dalyvavimo mokestis",null,null,null,0]
[null,null,"Kitos išlaidų pavadinimas",null,null,null,0]
[null,null,"Kitos išlaidų pavadinimas",null,null,null,0]
["5.6.3","Komandiruotės pavadinimas, vieta, trukmė dienomis, vykstančių asmenų skaičius","Iš viso komandiruotei",null,null,null,{"$f":"SUM(G166:G171)","v":0},{"$f":"ROUND(G165*$D$7,2)","v":0}]
[null,null,"Dienpinigiai",null,null,null,{"$f":"ROUND(E166*F166,2)","v":0}]
[null,null,"Gyvenamojo ploto nuoma",null,null,null,0]
[null,null,"Kelionės išlaidos",null,null,null,0]
[null,null,"Dalyvavimo mokestis",null,null,null,0]
[null,null,"Kitos išlaidų pavadinimas",null,null,null,0]
[null,null,"Kitos išlaidų pavadinimas",null,null,null,0]
["5.6.4","Komandiruotės pavadinimas, vieta, trukmė dienomis, vykstančių asmenų skaičius","Iš viso komandiruotei",null,null,null,{"$f":"SUM(G173:G178)","v":0},{"$f":"ROUND(G172*$D$7,2)","v":0}]
[null,null,"Dienpinigiai",null,null,null,{"$f":"ROUND(E173*F173,2)","v":0}]
[null,null,"Gyvenamojo ploto nuoma",null,null,null,0]
[null,null,"Kelionės išlaidos",null,null,null,0]
[null,null,"Dalyvavimo mokestis",null,null,null,0]
[null,null,"Kitos išlaidų pavadinimas",null,null,null,0]
[null,null,"Kitos išlaidų pavadinimas",null,null,null,0]
["5.6.5","Komandiruotės pavadinimas, vieta, trukmė dienomis, vykstančių asmenų skaičius","Iš viso komandiruotei",null,null,null,{"$f":"SUM(G180:G185)","v":0},{"$f":"ROUND(G179*$D$7,2)","v":0}]
[null,null,"Dienpinigiai",null,null,null,{"$f":"ROUND(E180*F180,2)","v":0}]
[null,null,"Gyvenamojo ploto nuoma",null,null,null,0]
[null,null,"Kelionės išlaidos",null,null,null,0]
[null,null,"Dalyvavimo mokestis",null,null,null,0]
[null,null,"Kitos išlaidų pavadinimas",null,null,null,0]
[null,null,"Kitos išlaidų pavadinimas",null,null,null,0]
["5.6.6","Komandiruotės pavadinimas, vieta, trukmė dienomis, vykstančių asmenų skaičius","Iš viso komandiruotei",null,null,null,{"$f":"SUM(G187:G192)","v":0},{"$f":"ROUND(G186*$D$7,2)","v":0}]
[null,null,"Dienpinigiai",null,null,null,{"$f":"ROUND(E187*F187,2)","v":0}]
[null,null,"Gyvenamojo ploto nuoma",null,null,null,0]
[null,null,"Kelionės išlaidos",null,null,null,0]
[null,null,"Dalyvavimo mokestis",null,null,null,0]
[null,null,"Kitos išlaidų pavadinimas",null,null,null,0]
[null,null,"Kitos išlaidų pavadinimas",null,null,null,0]
["5.6.7","Komandiruotės pavadinimas, vieta, trukmė dienomis, vykstančių asmenų skaičius","Iš viso komandiruotei",null,null,null,{"$f":"SUM(G194:G199)","v":0},{"$f":"ROUND(G193*$D$7,2)","v":0}]
[null,null,"Dienpinigiai",null,null,null,{"$f":"ROUND(E194*F194,2)","v":0}]
[null,null,"Gyvenamojo ploto nuoma",null,null,null,0]
[null,null,"Kelionės išlaidos",null,null,null,0]
[null,null,"Dalyvavimo mokestis",null,null,null,0]
[null,null,"Kitos išlaidų pavadinimas",null,null,null,0]
[null,null,"Kitos išlaidų pavadinimas",null,null,null,0]
["5.6.8","Komandiruotės pavadinimas, vieta, trukmė dienomis, vykstančių asmenų skaičius","Iš viso komandiruotei",null,null,null,{"$f":"SUM(G201:G206)","v":0},{"$f":"ROUND(G200*$D$7,2)","v":0}]
[null,null,"Dienpinigiai",null,null,null,{"$f":"ROUND(E201*F201,2)","v":0}]
[null,null,"Gyvenamojo ploto nuoma",null,null,null,0]
[null,null,"Kelionės išlaidos",null,null,null,0]
[null,null,"Dalyvavimo mokestis",null,null,null,0]
[null,null,"Kitos išlaidų pavadinimas",null,null,null,0]
[null,null,"Kitos išlaidų pavadinimas",null,null,null,0]
["5.6.9","Komandiruotės pavadinimas, vieta, trukmė dienomis, vykstančių asmenų skaičius","Iš viso komandiruotei",null,null,null,{"$f":"SUM(G208:G213)","v":0},{"$f":"ROUND(G207*$D$7,2)","v":0}]
[null,null,"Dienpinigiai",null,null,null,{"$f":"ROUND(E208*F208,2)","v":0}]
[null,null,"Gyvenamojo ploto nuoma",null,null,null,0]
[null,null,"Kelionės išlaidos",null,null,null,0]
[null,null,"Dalyvavimo mokestis",null,null,null,0]
[null,null,"Kitos išlaidų pavadinimas",null,null,null,0]
[null,null,"Kitos išlaidų pavadinimas",null,null,null,0]
["5.6.10","Komandiruotės pavadinimas, vieta, trukmė dienomis, vykstančių asmenų skaičius","Iš viso komandiruotei",null,null,null,{"$f":"SUM(G215:G220)","v":0},{"$f":"ROUND(G214*$D$7,2)","v":0}]
[null,null,"Dienpinigiai",null,null,null,{"$f":"ROUND(E215*F215,2)","v":0}]
[null,null,"Gyvenamojo ploto nuoma",null,null,null,0]
[null,null,"Kelionės išlaidos",null,null,null,0]
[null,null,"Dalyvavimo mokestis",null,null,null,0]
[null,null,"Kitos išlaidų pavadinimas",null,null,null,0]
[null,null,"Kitos išlaidų pavadinimas",null,null,null,0]
["5.7","Įrangos nuomos išlaidos, veiklai priskirtos pro rata principu. Įranga turi būti tiesiogiai susijusi su projekto įgyvendinimu ir negali būti įsigyta iš ES struktūrinių fondų ar kt. ES finansinių priemonių lėšų",null,null,null,null,{"$f":"SUM(G222:G238)","v":0},{"$f":"SUM(H222:H238)","v":0},null,null,"Faktinės 1 mėnesio išlaidos, Eur","Naudojimo projekte trukmė, mėn."]
["5.7.1","Įrangos pavadinimas",null,"pro rata proc.",null,{"$f":"K222*L222","v":0},0,{"$f":"ROUND(G222*$D$7,2)","v":0}]
["5.7.2","Įrangos pavadinimas",null,"pro rata proc.",null,{"$f":"K223*L223","v":0},{"$f":"ROUND(E223*F223,2)","v":0},{"$f":"ROUND(G223*$D$7,2)","v":0}]
["5.7.3","Įrangos pavadinimas",null,"pro rata proc.",null,0,0,0]
["5.7.4","Įrangos pavadinimas",null,"pro rata proc.",null,0,0,0]
["5.7.5","Įrangos pavadinimas",null,"pro rata proc.",null,0,0,0]
["5.7.6","Įrangos pavadinimas",null,"pro rata proc.",null,0,0,0]
["5.7.7","Įrangos pavadinimas",null,"pro rata proc.",null,0,0,0]
["5.7.8","Įrangos pavadinimas",null,"pro rata proc.",null,0,0,0]
["5.7.9","Įrangos pavadinimas",null,"pro rata proc.",null,0,0,0]
["5.7.10","Įrangos pavadinimas",null,"pro rata proc.",null,0,0,0]
["5.7.11","Įrangos pavadinimas",null,"pro rata proc.",null,0,0,0]
["5.7.12","Įrangos pavadinimas",null,"pro rata proc.",null,0,0,0]
["5.7.13","Įrangos pavadinimas",null,"pro rata proc.",null,0,0,0]
["5.7.14","Įrangos pavadinimas",null,"pro rata proc.",null,{"$f":"K235*L235","v":0},0,{"$f":"ROUND(G235*$D$7,2)","v":0}]
["5.7.15","Įrangos pavadinimas",null,"pro rata proc.",null,0,0,0]
["5.7.16","Įrangos pavadinimas",null,"pro rata proc.",null,0,0,0]
["5.7.17","Įrangos pavadinimas",null,"pro rata proc.",null,0,0,0]
["5.8","Pastatų ar patalpų nuomos išlaidos, veiklai priskirtos pro rata principu. Pastatai ar patalpos turi būti tiesiogiai susijusi su projekto įgyvendinimu.",null,null,null,null,{"$f":"SUM(G240:G244)","v":0},{"$f":"SUM(H240:H244)","v":0},null,null,"Faktinės 1 mėnesio išlaidos, Eur","Naudojimo projekte trukmė, mėn."]
["5.8.1","Pastato, patalpų adresas",null,"pro rata proc.",null,{"$f":"K240*L240","v":0},{"$f":"ROUND(E240*F240,2)","v":0},{"$f":"ROUND(G240*$D$7,2)","v":0}]
["5.8.2","Pastato, patalpų adresas",null,"pro rata proc.",null,{"$f":"K241*L241","v":0},0,0]
["5.8.3","Pastato, patalpų adresas",null,"pro rata proc.",null,0,0,0]
["5.8.4","Pastato, patalpų adresas",null,"pro rata proc.",null,0,0,0]
["5.8.5","Pastato, patalpų adresas",null,"pro rata proc.",null,0,0,0]
["Iš viso tinkamų finansuoti išlaidų:",null,null,null,null,null,{"$f":"G10+G21","v":0},{"$f":"H10+H21","v":0}]

{"sheet":"6","index":7,"n_rows":247,"n_cols":19,"rows_kept":247,"cut":false,"hidden":false,"merged":[[108,0,112,0],[108,1,112,1],[108,3,112,3],[108,4,112,4],[108,5,112,5],[108,6,112,6],[108,7,112,7],[108,8,112,8],[128,0,132,0],[128,1,132,1],[128,3,132,3],[128,4,132,4],[128,5,132,5],[128,6,132,6],[128,7,132,7],[128,8,132,8],[113,0,117,0],[113,1,117,1],[113,3,117,3],[113,4,117,4],[113,5,117,5],[113,6,117,6],[113,7,117,7],[113,8,117,8],[98,6,102,6],[98,7,102,7],[98,8,102,8],[103,0,107,0],[103,1,107,1],[103,3,107,3],[103,4,107,4],[103,5,107,5],[103,6,107,6],[103,7,107,7],[103,8,107,8],[92,1,92,2],[93,1,93,2],[94,1,94,2],[95,1,95,2],[96,1,96,2],[97,1,97,5],[98,0,102,0],[98,1,102,1],[98,3,102,3],[98,4,102,4],[98,5,102,5],[59,1,59,2],[60,1,60,2],[38,1,38,2],[39,1,39,2],[40,1,40,2],[41,1,41,2],[67,1,67,2],[71,1,71,2],[72,1,72,2],[61,1,61,2],[62,1,62,2],[63,1,63,2],[64,1,64,2],[65,1,65,2],[66,1,66,2],[68,1,68,2],[69,1,69,2],[70,1,70,5],[44,1,44,2],[45,1,45,2],[57,1,57,2],[58,1,58,2],[46,1,46,2],[47,1,47,2],[0,3,0,8],[2,0,2,2],[2,3,2,8],[22,1,22,2],[14,1,14,2],[15,1,15,2],[16,1,16,2],[17,1,17,2],[18,1,18,2],[20,1,20,5],[10,1,10,2],[11,1,11,2],[12,1,12,2],[13,1,13,2],[3,3,3,4],[3,5,3,6],[4,0,4,2],[4,3,4,8],[8,1,8,2],[9,1,9,5],[19,1,19,2],[21,1,21,5],[133,8,137,8],[138,0,142,0],[138,1,142,1],[138,3,142,3],[138,4,142,4],[138,5,142,5],[133,0,137,0],[133,1,137,1],[133,3,137,3],[133,4,137,4],[133,5,137,5],[133,6,137,6],[133,7,137,7],[138,6,142,6],[138,7,142,7],[138,8,142,8],[31,1,31,2],[32,1,32,5],[42,1,42,2],[43,1,43,5],[23,1,23,2],[24,1,24,2],[25,1,25,2],[33,1,33,2],[34,1,34,2],[35,1,35,2],[36,1,36,2],[37,1,37,2],[26,1,26,2],[27,1,27,2],[28,1,28,2],[29,1,29,2],[30,1,30,2],[118,8,122,8],[123,0,127,0],[123,1,127,1],[123,3,127,3],[123,4,127,4],[123,5,127,5],[123,6,127,6],[123,7,127,7],[123,8,127,8],[118,0,122,0],[118,1,122,1],[118,3,122,3],[118,4,122,4],[118,5,122,5],[118,7,122,7],[118,6,122,6],[143,0,147,0],[143,1,147,1],[143,3,147,3],[143,4,147,4],[143,5,147,5],[143,6,147,6],[143,7,147,7],[143,8,147,8],[149,0,155,0],[149,1,155,1],[149,8,155,8],[148,1,148,5],[156,0,162,0],[156,1,162,1],[156,8,162,8],[163,0,169,0],[163,1,169,1],[163,8,169,8],[170,0,176,0],[170,1,176,1],[170,8,176,8],[177,0,183,0],[177,1,183,1],[177,8,183,8],[184,0,190,0],[184,1,190,1],[184,8,190,8],[212,8,218,8],[219,1,219,5],[220,1,220,2],[191,0,197,0],[191,1,197,1],[191,8,197,8],[198,0,204,0],[198,1,204,1],[198,8,204,8],[205,0,211,0],[205,1,211,1],[205,8,211,8],[240,1,240,5],[241,1,241,2],[242,1,242,2],[243,1,243,2],[244,1,244,2],[245,1,245,2],[246,0,246,5],[212,0,218,0],[212,1,218,1],[236,1,236,2],[237,1,237,2],[238,1,238,2],[239,1,239,2],[235,1,235,2],[48,1,48,2],[49,1,49,2],[50,1,50,2],[51,1,51,2],[52,1,52,2],[53,1,53,2],[54,1,54,2],[55,1,55,2],[56,1,56,2],[73,1,73,2],[74,1,74,2],[75,1,75,2],[76,1,76,2],[77,1,77,2],[78,1,78,2],[79,1,79,2],[80,1,80,2],[81,1,81,2],[82,1,82,2],[83,1,83,2],[228,1,228,2],[229,1,229,2],[230,1,230,2],[231,1,231,2],[232,1,232,2],[233,1,233,2],[234,1,234,2],[221,1,221,2],[222,1,222,2],[223,1,223,2],[224,1,224,2],[225,1,225,2],[226,1,226,2],[227,1,227,2],[84,1,84,2],[85,1,85,2],[86,1,86,2],[87,1,87,2],[88,1,88,2],[89,1,89,2],[90,1,90,2],[91,1,91,2]]}
[null,null,"Pasirinkite veiklos tipą:"]
[null,null,"Fizinio rodiklio Nr.:"]
["Fizinio rodiklio pavadinimas:"]
[null,null,"Fizinio rodiklio matavimo vnt.:",null,null,"Fizinio rodiklio vnt. skaičius:"]
["Juridinis asmuo (pareiškėjas, partneris), atsakingas už fizinį rodiklį:"]
[]
[null,null,"Finansavimo intensyvumas:",null,null,null,"Pasirinkite biudžeto išlaidų kategoriją:"]
[]
["Eil. Nr.","Išlaidų kategorijos pavadinimas",null,"Matavimo vnt.","Kiekis","Vieneto kaina be PVM, Eur","Tinkamų finansuoti išlaidų suma be PVM, Eur","Finansavimo suma, Eur","Išlaidų pagrindimo dokumentų pavadinimas, data ir Nr."]
[4,"ĮRANGA, ĮRENGINIAI IR KT. TURTAS (techninių žinių ir išradimų patentų arba teisių pagal licencijų sutartį įsigijimo išlaidos)",null,null,null,null,{"$f":"SUM(G11:G20)","v":0},{"$f":"SUM(H11:H20)","v":0}]
["4.1","Išlaidų pavadinimas",null,null,null,null,{"$f":"ROUND(E11*F11,2)","v":0},{"$f":"ROUND(G11*$D$7,2)","v":0}]
["4.2","Išlaidų pavadinimas",null,null,null,null,0,0]
["4.3","Išlaidų pavadinimas",null,null,null,null,0,0]
["4.4","Išlaidų pavadinimas",null,null,null,null,0,0]
["4.5","Išlaidų pavadinimas",null,null,null,null,0,0]
["4.6","Išlaidų pavadinimas",null,null,null,null,0,0]
["4.7","Išlaidų pavadinimas",null,null,null,null,0,0]
["4.8","Išlaidų pavadinimas",null,null,null,null,0,0]
["4.9","Išlaidų pavadinimas",null,null,null,null,0,0]
["4.10","Išlaidų pavadinimas",null,null,null,null,0,0]
[5,"PROJEKTO VYKDYMAS",null,null,null,null,{"$f":"G22+G33+G44+G71+G98+G149+G220+G241","v":0},{"$f":"H22+H33+H44+H71+H98+H149+H220+H241","v":0}]
["5.1","MTEP paslaugos",null,null,null,null,{"$f":"SUM(G23:G32)","v":0},{"$f":"SUM(H23:H32)","v":0}]
["5.1.1","Paslaugos pavadinimas",null,null,null,null,{"$f":"ROUND(E23*F23,2)","v":0},0]
["5.1.2","Paslaugos pavadinimas",null,null,null,null,0,0]
["5.1.3","Paslaugos pavadinimas",null,null,null,null,0,0]
["5.1.4","Paslaugos pavadinimas",null,null,null,null,0,0]
["5.1.5","Paslaugos pavadinimas",null,null,null,null,0,0]
["5.1.6","Paslaugos pavadinimas",null,null,null,null,0,0]
["5.1.7","Paslaugos pavadinimas",null,null,null,null,0,0]
["5.1.8","Paslaugos pavadinimas",null,null,null,null,0,0]
["5.1.9","Paslaugos pavadinimas",null,null,null,null,0,0]
["5.1.10","Paslaugos pavadinimas",null,null,null,null,0,0]
["5.2","Konsultavimo ir lygiavertės paslaugos, naudojamos vien tik projekto MTEP veiklai",null,null,null,null,{"$f":"SUM(G34:G43)","v":0},{"$f":"SUM(H34:H43)","v":0}]
["5.2.1","Paslaugos pavadinimas",null,null,null,null,{"$f":"ROUND(E34*F34,2)","v":0},0]
["5.2.2","Paslaugos pavadinimas",null,null,null,null,0,0]
["5.2.3","Paslaugos pavadinimas",null,null,null,null,0,0]
["5.2.4","Paslaugos pavadinimas",null,null,null,null,0,0]
["5.2.5","Paslaugos pavadinimas",null,null,null,null,0,0]
["5.2.6","Paslaugos pavadinimas",null,null,null,null,0,0]
["5.2.7","Paslaugos pavadinimas",null,null,null,null,0,0]
["5.2.8","Paslaugos pavadinimas",null,null,null,null,0,0]
["5.2.9","Paslaugos pavadinimas",null,null,null,null,0,0]
["5.2.10","Paslaugos pavadinimas",null,null,null,null,0,0]
["5.3","Medžiagos, mažavertis inventorius, atsargos ir pan. produktai, priskirtini trumpalaikiam turtui ir tiesiogiai susiję su MTEP veikla",null,null,null,null,{"$f":"SUM(G45:G70)","v":0},{"$f":"SUM(H45:H70)","v":0}]
["5.3.1","Išlaidų pavadinimas",null,null,null,null,{"$f":"ROUND(E45*F45,2)","v":0},{"$f":"ROUND(G45*$D$7,2)","v":0}]
["5.3.2","Išlaidų pavadinimas",null,null,null,null,0,0]
["5.3.3","Išlaidų pavadinimas",null,null,null,null,0,0]
["5.3.4","Išlaidų pavadinimas",null,null,null,null,0,0]
["5.3.5","Išlaidų pavadinimas",null,null,null,null,0,0]
["5.3.6","Išlaidų pavadinimas",null,null,null,null,0,0]
["5.3.7","Išlaidų pavadinimas",null,null,null,null,0,0]
["5.3.8","Išlaidų pavadinimas",null,null,null,null,0,0]
["5.3.9","Išlaidų pavadinimas",null,null,null,null,0,0]
["5.3.10","Išlaidų pavadinimas",null,null,null,null,0,0]
["5.3.11","Išlaidų pavadinimas",null,null,null,null,0,0]
["5.3.12","Išlaidų pavadinimas",null,null,null,null,0,0]
["5.3.13","Išlaidų pavadinimas",null,null,null,null,0,0]
["5.3.14","Išlaidų pavadinimas",null,null,null,null,0,0]
["5.3.15","Išlaidų pavadinimas",null,null,null,null,0,0]
["5.3.16","Išlaidų pavadinimas",null,null,null,null,0,0]
["5.3.17","Išlaidų pavadinimas",null,null,null,null,0,0]
["5.3.18","Išlaidų pavadinimas",null,null,null,null,0,0]
["5.3.19","Išlaidų pavadinimas",null,null,null,null,0,0]
["5.3.20","Išlaidų pavadinimas",null,null,null,null,0,0]
["5.3.21","Išlaidų pavadinimas",null,null,null,null,0,0]
["5.3.22","Išlaidų pavadinimas",null,null,null,null,0,0]
["5.3.23","Išlaidų pavadinimas",null,null,null,null,0,0]
["5.3.24","Išlaidų pavadinimas",null,null,null,null,0,0]
["5.3.25","Išlaidų pavadinimas",null,null,null,null,0,0]
["5.3.26","Išlaidų pavadinimas",null,null,null,null,0,0]
["5.4","Projekto MTEP veikloms naudojamo ilgalaikio materialaus turto (įrangos, prietaisų, įrankių, įrenginių, mašinų ir įrengimų, pastatų ir (ar) patalpų), nusidėvėjimo sąnaudos, jeigu šiam turtui įsigyti nebuvo naudojamos viešosios (įskaitant ir kitų valstybių) lėšos",null,null,null,null,{"$f":"SUM(G72:G97)","v":0},{"$f":"SUM(H72:H97)","v":0},null,null,"Turto įvedimo į eksploataciją data","Turto įsigijimo vertė, Eur","Turto nudėvėjimo, amortizacijos laikotarpis, mėn.","Numatoma turto likutinė vertė, Eur","1 mėn. nudėvėjimo, amortizacijos suma, Eur","Turto naudojamo projekto reikmėms laikas, mėn.","Turto panaudojimo projekto reikmėms dalis (proc.)","Projektui priskirta turto nusidėvėjimo, amortizacijos suma per projekto laikotarpį, Eur"]
["5.4.1","Turtas, kurio nusidėvėjimą, amortizaciją prašoma finansuoti",null,null,1,{"$f":"R72","v":0},{"$f":"ROUND(E72*F72,2)","v":0},0,null,null,null,null,null,null,{"$f":"IFERROR(ROUND((L72-N72)/M72,2),\"0\")","v":"0"},null,null,{"$f":"O72*P72*Q72","v":0},{"$f":"IF(K72=0,\" \",IF(K72+(M72*30.5)<TODAY(),\"DĖMESIO! Patikrinkite, ar nurodytas turtas dar nėra nudėvėtas, amortizuotas\",\" \"))","v":" "}]
["5.4.2","Turtas, kurio nusidėvėjimą, amortizaciją prašoma finansuoti",null,null,1,{"$f":"R73","v":0},0,0,null,null,null,null,null,null,{"$f":"IFERROR(ROUND((L73-N73)/M73,2),\"0\")","v":"0"},null,null,{"$f":"O73*P73*Q73","v":0},{"$f":"IF(K73=0,\" \",IF(K73+(M73*30.5)<TODAY(),\"DĖMESIO! Patikrinkite, ar nurodytas turtas dar nėra nudėvėtas, amortizuotas\",\" \"))","v":" "}]
["5.4.3","Turtas, kurio nusidėvėjimą, amortizaciją prašoma finansuoti",null,null,1,0,0,0,null,null,null,null,null,null,"0",null,null,0]
["5.4.4","Turtas, kurio nusidėvėjimą, amortizaciją prašoma finansuoti",null,null,1,0,0,0,null,null,null,null,null,null,"0",null,null,0]
["5.4.5","Turtas, kurio nusidėvėjimą, amortizaciją prašoma finansuoti",null,null,1,0,0,0,null,null,null,null,null,null,"0",null,null,0]
["5.4.6","Turtas, kurio nusidėvėjimą, amortizaciją prašoma finansuoti",null,null,1,0,0,0,null,null,null,null,null,null,"0",null,null,0]
["5.4.7","Turtas, kurio nusidėvėjimą, amortizaciją prašoma finansuoti",null,null,1,0,0,0,null,null,null,null,null,null,"0",null,null,0]
["5.4.8","Turtas, kurio nusidėvėjimą, amortizaciją prašoma finansuoti",null,null,1,0,0,0,null,null,null,null,null,null,"0",null,null,0]
["5.4.9","Turtas, kurio nusidėvėjimą, amortizaciją prašoma finansuoti",null,null,1,0,0,0,null,null,null,null,null,null,"0",null,null,0]
["5.4.10","Turtas, kurio nusidėvėjimą, amortizaciją prašoma finansuoti",null,null,1,0,0,0,null,null,null,null,null,null,"0",null,null,0]
["5.4.11","Turtas, kurio nusidėvėjimą, amortizaciją prašoma finansuoti",null,null,1,0,0,0,null,null,null,null,null,null,"0",null,null,0]
["5.4.12","Turtas, kurio nusidėvėjimą, amortizaciją prašoma finansuoti",null,null,1,0,0,0,null,null,null,null,null,null,"0",null,null,0]
["5.4.13","Turtas, kurio nusidėvėjimą, amortizaciją prašoma finansuoti",null,null,1,0,0,0,null,null,null,null,null,null,"0",null,null,0]
["5.4.3","Turtas, kurio nusidėvėjimą, amortizaciją prašoma finansuoti",null,null,1,0,0,0,null,null,null,null,null,null,"0",null,null,0," "]
["5.4.4","Turtas, kurio nusidėvėjimą, amortizaciją prašoma finansuoti",null,null,1,0,0,0,null,null,null,null,null,null,"0",null,null,0," "]
["5.4.5","Turtas, kurio nusidėvėjimą, amortizaciją prašoma finansuoti",null,null,1,0,0,0,null,null,null,null,null,null,"0",null,null,0," "]
["5.4.6","Turtas, kurio nusidėvėjimą, amortizaciją prašoma finansuoti",null,null,1,0,0,0,null,null,null,null,null,null,"0",null,null,0," "]
["5.4.7","Turtas, kurio nusidėvėjimą, amortizaciją prašoma finansuoti",null,null,1,0,0,0,null,null,null,null,null,null,"0",null,null,0," "]
["5.4.8","Turtas, kurio nusidėvėjimą, amortizaciją prašoma finansuoti",null,null,1,0,0,0,null,null,null,null,null,null,"0",null,null,0," "]
["5.4.9","Turtas, kurio nusidėvėjimą, amortizaciją prašoma finansuoti",null,null,1,0,0,0,null,null,null,null,null,null,"0",null,null,0," "]
["5.4.10","Turtas, kurio nusidėvėjimą, amortizaciją prašoma finansuoti",null,null,1,0,0,0,null,null,null,null,null,null,"0",null,null,0," "]
["5.4.11","Turtas, kurio nusidėvėjimą, amortizaciją prašoma finansuoti",null,null,1,0,0,0,null,null,null,null,null,null,"0",null,null,0," "]
["5.4.12","Turtas, kurio nusidėvėjimą, amortizaciją prašoma finansuoti",null,null,1,0,0,0,null,null,null,null,null,null,"0",null,null,0," "]
["5.4.13","Turtas, kurio nusidėvėjimą, amortizaciją prašoma finansuoti",null,null,1,0,0,0,null,null,null,null,null,null,"0",null,null,0," "]
["5.4.14","Turtas, kurio nusidėvėjimą, amortizaciją prašoma finansuoti",null,null,1,0,0,0,null,null,null,null,null,null,"0",null,null,0," "]
["5.4.15","Turtas, kurio nusidėvėjimą, amortizaciją prašoma finansuoti",null,null,1,0,0,0,null,null,null,null,null,null,"0",null,null,0," "]
["5.5","Projektą vykdančio personalo darbo užmokestis ir išlaidos su darbo santykiais susijusiems darbdavio įsipareigojimams",null,null,null,null,{"$f":"SUM(G99:G148)","v":0},{"$f":"SUM(H99:H148)","v":0},null,null,"Faktiškai gaunamas darbo užmokesti už 1 valandą pagal  pastarųjų 6 mėn. vidurkį, Eur"]
["5.5.1","Pareigybės pavadinimas","Darbuotojo vardas pavardė","val.",null,{"$f":"IFERROR(ROUND(AVERAGE(K99:K103),2),\"0\")","v":"0"},{"$f":"ROUND(E99*F99,2)","v":0},{"$f":"ROUND(G99*$D$7,2)","v":0}]
[null,null,"Darbuotojo vardas pavardė"]
[null,null,"Darbuotojo vardas pavardė"]
[null,null,"Darbuotojo vardas pavardė"]
[null,null,"Darbuotojo vardas pavardė"]
["5.5.2","Pareigybės pavadinimas","Darbuotojo vardas pavardė","val.",null,{"$f":"IFERROR(ROUND(AVERAGE(K104:K108),2),\"0\")","v":"0"},{"$f":"ROUND(E104*F104,2)","v":0},{"$f":"ROUND(G104*$D$7,2)","v":0}]
[null,null,"Darbuotojo vardas pavardė"]
[null,null,"Darbuotojo vardas pavardė"]
[null,null,"Darbuotojo vardas pavardė"]
[null,null,"Darbuotojo vardas pavardė"]
["5.5.3","Pareigybės pavadinimas","Darbuotojo vardas pavardė","val.",null,{"$f":"IFERROR(ROUND(AVERAGE(K109:K113),2),\"0\")","v":"0"},{"$f":"ROUND(E109*F109,2)","v":0},{"$f":"ROUND(G109*$D$7,2)","v":0}]
[null,null,"Darbuotojo vardas pavardė"]
[null,null,"Darbuotojo vardas pavardė"]
[null,null,"Darbuotojo vardas pavardė"]
[null,null,"Darbuotojo vardas pavardė"]
["5.5.4","Pareigybės pavadinimas","Darbuotojo vardas pavardė","val.",null,{"$f":"IFERROR(ROUND(AVERAGE(K114:K118),2),\"0\")","v":"0"},{"$f":"ROUND(E114*F114,2)","v":0},{"$f":"ROUND(G114*$D$7,2)","v":0}]
[null,null,"Darbuotojo vardas pavardė"]
[null,null,"Darbuotojo vardas pavardė"]
[null,null,"Darbuotojo vardas pavardė"]
[null,null,"Darbuotojo vardas pavardė"]
["5.5.5","Pareigybės pavadinimas","Darbuotojo vardas pavardė","val.",null,{"$f":"IFERROR(ROUND(AVERAGE(K119:K123),2),\"0\")","v":"0"},{"$f":"ROUND(E119*F119,2)","v":0},{"$f":"ROUND(G119*$D$7,2)","v":0}]
[null,null,"Darbuotojo vardas pavardė"]
[null,null,"Darbuotojo vardas pavardė"]
[null,null,"Darbuotojo vardas pavardė"]
[null,null,"Darbuotojo vardas pavardė"]
["5.5.6","Pareigybės pavadinimas","Darbuotojo vardas pavardė","val.",null,{"$f":"IFERROR(ROUND(AVERAGE(K124:K128),2),\"0\")","v":"0"},{"$f":"ROUND(E124*F124,2)","v":0},{"$f":"ROUND(G124*$D$7,2)","v":0}]
[null,null,"Darbuotojo vardas pavardė"]
[null,null,"Darbuotojo vardas pavardė"]
[null,null,"Darbuotojo vardas pavardė"]
[null,null,"Darbuotojo vardas pavardė"]
["5.5.7","Pareigybės pavadinimas","Darbuotojo vardas pavardė","val.",null,{"$f":"IFERROR(ROUND(AVERAGE(K129:K133),2),\"0\")","v":"0"},{"$f":"ROUND(E129*F129,2)","v":0},{"$f":"ROUND(G129*$D$7,2)","v":0}]
[null,null,"Darbuotojo vardas pavardė"]
[null,null,"Darbuotojo vardas pavardė"]
[null,null,"Darbuotojo vardas pavardė"]
[null,null,"Darbuotojo vardas pavardė"]
["5.5.8","Pareigybės pavadinimas","Darbuotojo vardas pavardė","val.",null,{"$f":"IFERROR(ROUND(AVERAGE(K134:K138),2),\"0\")","v":"0"},{"$f":"ROUND(E134*F134,2)","v":0},{"$f":"ROUND(G134*$D$7,2)","v":0}]
[null,null,"Darbuotojo vardas pavardė"]
[null,null,"Darbuotojo vardas pavardė"]
[null,null,"Darbuotojo vardas pavardė"]
[null,null,"Darbuotojo vardas pavardė"]
["5.5.9","Pareigybės pavadinimas","Darbuotojo vardas pavardė","val.",null,{"$f":"IFERROR(ROUND(AVERAGE(K139:K143),2),\"0\")","v":"0"},{"$f":"ROUND(E139*F139,2)","v":0},{"$f":"ROUND(G139*$D$7,2)","v":0}]
[null,null,"Darbuotojo vardas pavardė"]
[null,null,"Darbuotojo vardas pavardė"]
[null,null,"Darbuotojo vardas pavardė"]
[null,null,"Darbuotojo vardas pavardė"]
["5.5.10","Pareigybės pavadinimas","Darbuotojo vardas pavardė","val.",null,{"$f":"IFERROR(ROUND(AVERAGE(K144:K148),2),\"0\")","v":"0"},{"$f":"ROUND(E144*F144,2)","v":0},{"$f":"ROUND(G144*$D$7,2)","v":0}]
[null,null,"Darbuotojo vardas pavardė"]
[null,null,"Darbuotojo vardas pavardė"]
[null,null,"Darbuotojo vardas pavardė"]
[null,null,"Darbuotojo vardas pavardė"]
["5.6","Projektą vykdančio personalo komandiruočių išlaidos",null,null,null,null,{"$f":"SUM(G150,G157,G164,G171,G178,G185,G192,G199,G206,G213)","v":0},{"$f":"SUM(H150,H157,H164,H171,H178,H185,H192,H199,H206,H213)","v":0}]
["5.6.1","Komandiruotės pavadinimas, vieta, trukmė dienomis, vykstančių asmenų skaičius","Iš viso komandiruotei",null,null,null,{"$f":"SUM(G151:G156)","v":0},{"$f":"ROUND(G150*$D$7,2)","v":0}]
[null,null,"Dienpinigiai",null,null,null,{"$f":"ROUND(E151*F151,2)","v":0}]
[null,null,"Gyvenamojo ploto nuoma",null,null,null,0]
[null,null,"Kelionės išlaidos",null,null,null,0]
[null,null,"Dalyvavimo mokestis",null,null,null,0]
[null,null,"Kitos išlaidų pavadinimas",null,null,null,0]
[null,null,"Kitos išlaidų pavadinimas",null,null,null,0]
["5.6.2","Komandiruotės pavadinimas, vieta, trukmė dienomis, vykstančių asmenų skaičius","Iš viso komandiruotei",null,null,null,{"$f":"SUM(G158:G163)","v":0},{"$f":"ROUND(G157*$D$7,2)","v":0}]
[null,null,"Dienpinigiai",null,null,null,{"$f":"ROUND(E158*F158,2)","v":0}]
[null,null,"Gyvenamojo ploto nuoma",null,null,null,0]
[null,null,"Kelionės išlaidos",null,null,null,0]
[null,null,"Dalyvavimo mokestis",null,null,null,0]
[null,null,"Kitos išlaidų pavadinimas",null,null,null,0]
[null,null,"Kitos išlaidų pavadinimas",null,null,null,0]
["5.6.3","Komandiruotės pavadinimas, vieta, trukmė dienomis, vykstančių asmenų skaičius","Iš viso komandiruotei",null,null,null,{"$f":"SUM(G165:G170)","v":0},{"$f":"ROUND(G164*$D$7,2)","v":0}]
[null,null,"Dienpinigiai",null,null,null,{"$f":"ROUND(E165*F165,2)","v":0}]
[null,null,"Gyvenamojo ploto nuoma",null,null,null,0]
[null,null,"Kelionės išlaidos",null,null,null,0]
[null,null,"Dalyvavimo mokestis",null,null,null,0]
[null,null,"Kitos išlaidų pavadinimas",null,null,null,0]
[null,null,"Kitos išlaidų pavadinimas",null,null,null,0]
["5.6.4","Komandiruotės pavadinimas, vieta, trukmė dienomis, vykstančių asmenų skaičius","Iš viso komandiruotei",null,null,null,{"$f":"SUM(G172:G177)","v":0},{"$f":"ROUND(G171*$D$7,2)","v":0}]
[null,null,"Dienpinigiai",null,null,null,{"$f":"ROUND(E172*F172,2)","v":0}]
[null,null,"Gyvenamojo ploto nuoma",null,null,null,0]
[null,null,"Kelionės išlaidos",null,null,null,0]
[null,null,"Dalyvavimo mokestis",null,null,null,0]
[null,null,"Kitos išlaidų pavadinimas",null,null,null,0]
[null,null,"Kitos išlaidų pavadinimas",null,null,null,0]
["5.6.5","Komandiruotės pavadinimas, vieta, trukmė dienomis, vykstančių asmenų skaičius","Iš viso komandiruotei",null,null,null,{"$f":"SUM(G179:G184)","v":0},{"$f":"ROUND(G178*$D$7,2)","v":0}]
[null,null,"Dienpinigiai",null,null,null,{"$f":"ROUND(E179*F179,2)","v":0}]
[null,null,"Gyvenamojo ploto nuoma",null,null,null,0]
[null,null,"Kelionės išlaidos",null,null,null,0]
[null,null,"Dalyvavimo mokestis",null,null,null,0]
[null,null,"Kitos išlaidų pavadinimas",null,null,null,0]
[null,null,"Kitos išlaidų pavadinimas",null,null,null,0]
["5.6.6","Komandiruotės pavadinimas, vieta, trukmė dienomis, vykstančių asmenų skaičius","Iš viso komandiruotei",null,null,null,{"$f":"SUM(G186:G191)","v":0},{"$f":"ROUND(G185*$D$7,2)","v":0}]
[null,null,"Dienpinigiai",null,null,null,{"$f":"ROUND(E186*F186,2)","v":0}]
[null,null,"Gyvenamojo ploto nuoma",null,null,null,0]
[null,null,"Kelionės išlaidos",null,null,null,0]
[null,null,"Dalyvavimo mokestis",null,null,null,0]
[null,null,"Kitos išlaidų pavadinimas",null,null,null,0]
[null,null,"Kitos išlaidų pavadinimas",null,null,null,0]
["5.6.7","Komandiruotės pavadinimas, vieta, trukmė dienomis, vykstančių asmenų skaičius","Iš viso komandiruotei",null,null,null,{"$f":"SUM(G193:G198)","v":0},{"$f":"ROUND(G192*$D$7,2)","v":0}]
[null,null,"Dienpinigiai",null,null,null,{"$f":"ROUND(E193*F193,2)","v":0}]
[null,null,"Gyvenamojo ploto nuoma",null,null,null,0]
[null,null,"Kelionės išlaidos",null,null,null,0]
[null,null,"Dalyvavimo mokestis",null,null,null,0]
[null,null,"Kitos išlaidų pavadinimas",null,null,null,0]
[null,null,"Kitos išlaidų pavadinimas",null,null,null,0]
["5.6.8","Komandiruotės pavadinimas, vieta, trukmė dienomis, vykstančių asmenų skaičius","Iš viso komandiruotei",null,null,null,{"$f":"SUM(G200:G205)","v":0},{"$f":"ROUND(G199*$D$7,2)","v":0}]
[null,null,"Dienpinigiai",null,null,null,{"$f":"ROUND(E200*F200,2)","v":0}]
[null,null,"Gyvenamojo ploto nuoma",null,null,null,0]
[null,null,"Kelionės išlaidos",null,null,null,0]
[null,null,"Dalyvavimo mokestis",null,null,null,0]
[null,null,"Kitos išlaidų pavadinimas",null,null,null,0]
[null,null,"Kitos išlaidų pavadinimas",null,null,null,0]
["5.6.9","Komandiruotės pavadinimas, vieta, trukmė dienomis, vykstančių asmenų skaičius","Iš viso komandiruotei",null,null,null,{"$f":"SUM(G207:G212)","v":0},{"$f":"ROUND(G206*$D$7,2)","v":0}]
[null,null,"Dienpinigiai",null,null,null,{"$f":"ROUND(E207*F207,2)","v":0}]
[null,null,"Gyvenamojo ploto nuoma",null,null,null,0]
[null,null,"Kelionės išlaidos",null,null,null,0]
[null,null,"Dalyvavimo mokestis",null,null,null,0]
[null,null,"Kitos išlaidų pavadinimas",null,null,null,0]
[null,null,"Kitos išlaidų pavadinimas",null,null,null,0]
["5.6.10","Komandiruotės pavadinimas, vieta, trukmė dienomis, vykstančių asmenų skaičius","Iš viso komandiruotei",null,null,null,{"$f":"SUM(G214:G219)","v":0},{"$f":"ROUND(G213*$D$7,2)","v":0}]
[null,null,"Dienpinigiai",null,null,null,{"$f":"ROUND(E214*F214,2)","v":0}]
[null,null,"Gyvenamojo ploto nuoma",null,null,null,0]
[null,null,"Kelionės išlaidos",null,null,null,0]
[null,null,"Dalyvavimo mokestis",null,null,null,0]
[null,null,"Kitos išlaidų pavadinimas",null,null,null,0]
[null,null,"Kitos išlaidų pavadinimas",null,null,null,0]
["5.7","Įrangos nuomos išlaidos, veiklai priskirtos pro rata principu. Įranga turi būti tiesiogiai susijusi su projekto įgyvendinimu ir negali būti įsigyta iš ES struktūrinių fondų ar kt. ES finansinių priemonių lėšų",null,null,null,null,{"$f":"SUM(G221:G240)","v":0},{"$f":"SUM(H221:H240)","v":0},null,null,"Faktinės 1 mėnesio išlaidos, Eur","Naudojimo projekte trukmė, mėn."]
["5.7.1","Įrangos pavadinimas",null,"pro rata proc.",null,{"$f":"K221*L221","v":0},0,{"$f":"ROUND(G221*$D$7,2)","v":0}]
["5.7.2","Įrangos pavadinimas",null,"pro rata proc.",null,{"$f":"K222*L222","v":0},{"$f":"ROUND(E222*F222,2)","v":0},{"$f":"ROUND(G222*$D$7,2)","v":0}]
["5.7.3","Įrangos pavadinimas",null,"pro rata proc.",null,0,0,0]
["5.7.4","Įrangos pavadinimas",null,"pro rata proc.",null,0,0,0]
["5.7.5","Įrangos pavadinimas",null,"pro rata proc.",null,0,0,0]
["5.7.6","Įrangos pavadinimas",null,"pro rata proc.",null,0,0,0]
["5.7.7","Įrangos pavadinimas",null,"pro rata proc.",null,0,0,0]
["5.7.8","Įrangos pavadinimas",null,"pro rata proc.",null,0,0,0]
["5.7.9","Įrangos pavadinimas",null,"pro rata proc.",null,{"$f":"K229*L229","v":0},{"$f":"ROUND(E229*F229,2)","v":0},{"$f":"ROUND(G229*$D$7,2)","v":0}]
["5.7.10","Įrangos pavadinimas",null,"pro rata proc.",null,0,0,0]
["5.7.11","Įrangos pavadinimas",null,"pro rata proc.",null,0,0,0]
["5.7.12","Įrangos pavadinimas",null,"pro rata proc.",null,0,0,0]
["5.7.13","Įrangos pavadinimas",null,"pro rata proc.",null,0,0,0]
["5.7.14","Įrangos pavadinimas",null,"pro rata proc.",null,0,0,0]
["5.7.15","Įrangos pavadinimas",null,"pro rata proc.",null,0,0,0]
["5.7.16","Įrangos pavadinimas",null,"pro rata proc.",null,0,0,0]
["5.7.17","Įrangos pavadinimas",null,"pro rata proc.",null,{"$f":"K237*L237","v":0},0,{"$f":"ROUND(G237*$D$7,2)","v":0}]
["5.7.18","Įrangos pavadinimas",null,"pro rata proc.",null,0,0,0]
["5.7.19","Įrangos pavadinimas",null,"pro rata proc.",null,0,0,0]
["5.7.20","Įrangos pavadinimas",null,"pro rata proc.",null,0,0,0]
["5.8","Pastatų ar patalpų nuomos išlaidos, veiklai priskirtos pro rata principu. Pastatai ar patalpos turi būti tiesiogiai susijusi su projekto įgyvendinimu.",null,null,null,null,{"$f":"SUM(G242:G246)","v":0},{"$f":"SUM(H242:H246)","v":0},null,null,"Faktinės 1 mėnesio išlaidos, Eur","Naudojimo projekte trukmė, mėn."]
["5.8.1","Pastato, patalpų adresas",null,"pro rata proc.",null,{"$f":"K242*L242","v":0},{"$f":"ROUND(E242*F242,2)","v":0},{"$f":"ROUND(G242*$D$7,2)","v":0}]
["5.8.2","Pastato, patalpų adresas",null,"pro rata proc.",null,{"$f":"K243*L243","v":0},0,0]
["5.8.3","Pastato, patalpų adresas",null,"pro rata proc.",null,0,0,0]
["5.8.4","Pastato, patalpų adresas",null,"pro rata proc.",null,0,0,0]
["5.8.5","Pastato, patalpų adresas",null,"pro rata proc.",null,0,0,0]
["Iš viso tinkamų finansuoti išlaidų:",null,null,null,null,null,{"$f":"G10+G21","v":0},{"$f":"H10+H21","v":0}]

{"sheet":"7","index":8,"n_rows":244,"n_cols":19,"rows_kept":244,"cut":false,"hidden":false,"merged":[[108,0,112,0],[108,1,112,1],[108,3,112,3],[108,4,112,4],[108,5,112,5],[108,6,112,6],[108,7,112,7],[108,8,112,8],[128,0,132,0],[128,1,132,1],[128,3,132,3],[128,4,132,4],[128,5,132,5],[128,6,132,6],[128,7,132,7],[128,8,132,8],[113,0,117,0],[113,1,117,1],[113,3,117,3],[113,4,117,4],[113,5,117,5],[113,6,117,6],[113,7,117,7],[113,8,117,8],[98,0,102,0],[98,1,102,1],[98,3,102,3],[98,4,102,4],[98,5,102,5],[98,6,102,6],[98,7,102,7],[98,8,102,8],[103,0,107,0],[103,1,107,1],[103,3,107,3],[103,4,107,4],[103,5,107,5],[103,6,107,6],[103,7,107,7],[103,8,107,8],[59,1,59,2],[60,1,60,2],[38,1,38,2],[39,1,39,2],[40,1,40,2],[41,1,41,2],[67,1,67,2],[71,1,71,2],[72,1,72,2],[61,1,61,2],[62,1,62,2],[63,1,63,2],[64,1,64,2],[65,1,65,2],[66,1,66,2],[68,1,68,2],[69,1,69,2],[70,1,70,5],[44,1,44,2],[45,1,45,2],[57,1,57,2],[58,1,58,2],[46,1,46,2],[47,1,47,2],[0,3,0,8],[2,0,2,2],[2,3,2,8],[22,1,22,2],[14,1,14,2],[15,1,15,2],[16,1,16,2],[17,1,17,2],[18,1,18,2],[20,1,20,5],[10,1,10,2],[11,1,11,2],[12,1,12,2],[13,1,13,2],[3,3,3,4],[3,5,3,6],[4,0,4,2],[4,3,4,8],[8,1,8,2],[9,1,9,5],[19,1,19,2],[21,1,21,5],[133,8,137,8],[138,0,142,0],[138,1,142,1],[138,3,142,3],[138,4,142,4],[138,5,142,5],[133,0,137,0],[133,1,137,1],[133,3,137,3],[133,4,137,4],[133,5,137,5],[133,6,137,6],[133,7,137,7],[138,6,142,6],[138,7,142,7],[138,8,142,8],[31,1,31,2],[32,1,32,5],[42,1,42,2],[43,1,43,5],[23,1,23,2],[24,1,24,2],[25,1,25,2],[33,1,33,2],[34,1,34,2],[35,1,35,2],[36,1,36,2],[37,1,37,2],[26,1,26,2],[27,1,27,2],[28,1,28,2],[29,1,29,2],[30,1,30,2],[118,8,122,8],[123,0,127,0],[123,1,127,1],[123,3,127,3],[123,4,127,4],[123,5,127,5],[123,6,127,6],[123,7,127,7],[123,8,127,8],[118,0,122,0],[118,1,122,1],[118,3,122,3],[118,4,122,4],[118,5,122,5],[118,7,122,7],[118,6,122,6],[143,0,147,0],[143,1,147,1],[143,3,147,3],[143,4,147,4],[143,5,147,5],[143,6,147,6],[143,7,147,7],[143,8,147,8],[149,0,155,0],[149,1,155,1],[149,8,155,8],[148,1,148,5],[156,0,162,0],[156,1,162,1],[156,8,162,8],[163,0,169,0],[163,1,169,1],[163,8,169,8],[170,0,176,0],[170,1,176,1],[170,8,176,8],[177,0,183,0],[177,1,183,1],[177,8,183,8],[184,0,190,0],[184,1,190,1],[184,8,190,8],[212,8,218,8],[219,1,219,5],[220,1,220,2],[191,0,197,0],[191,1,197,1],[191,8,197,8],[198,0,204,0],[198,1,204,1],[198,8,204,8],[205,0,211,0],[205,1,211,1],[205,8,211,8],[237,1,237,5],[238,1,238,2],[239,1,239,2],[240,1,240,2],[241,1,241,2],[242,1,242,2],[243,0,243,5],[212,0,218,0],[212,1,218,1],[233,1,233,2],[234,1,234,2],[235,1,235,2],[236,1,236,2],[228,1,228,2],[229,1,229,2],[230,1,230,2],[231,1,231,2],[232,1,232,2],[48,1,48,2],[49,1,49,2],[50,1,50,2],[51,1,51,2],[52,1,52,2],[53,1,53,2],[54,1,54,2],[55,1,55,2],[56,1,56,2],[73,1,73,2],[74,1,74,2],[75,1,75,2],[76,1,76,2],[77,1,77,2],[78,1,78,2],[79,1,79,2],[80,1,80,2],[81,1,81,2],[82,1,82,2],[83,1,83,2],[221,1,221,2],[222,1,222,2],[223,1,223,2],[224,1,224,2],[225,1,225,2],[226,1,226,2],[227,1,227,2],[84,1,84,2],[85,1,85,2],[86,1,86,2],[87,1,87,2],[88,1,88,2],[89,1,89,2],[90,1,90,2],[91,1,91,2],[92,1,92,2],[93,1,93,2],[94,1,94,2],[95,1,95,2],[96,1,96,2],[97,1,97,5]]}
[null,null,"Pasirinkite veiklos tipą:"]
[null,null,"Fizinio rodiklio Nr.:"]
["Fizinio rodiklio pavadinimas:"]
[null,null,"Fizinio rodiklio matavimo vnt.:",null,null,"Fizinio rodiklio vnt. skaičius:"]
["Juridinis asmuo (pareiškėjas, partneris), atsakingas už fizinį rodiklį:"]
[]
[null,null,"Finansavimo intensyvumas:",null,null,null,"Pasirinkite biudžeto išlaidų kategoriją:"]
[]
["Eil. Nr.","Išlaidų kategorijos pavadinimas",null,"Matavimo vnt.","Kiekis","Vieneto kaina be PVM, Eur","Tinkamų finansuoti išlaidų suma be PVM, Eur","Finansavimo suma, Eur","Išlaidų pagrindimo dokumentų pavadinimas, data ir Nr."]
[4,"ĮRANGA, ĮRENGINIAI IR KT. TURTAS (techninių žinių ir išradimų patentų arba teisių pagal licencijų sutartį įsigijimo išlaidos)",null,null,null,null,{"$f":"SUM(G11:G20)","v":0},{"$f":"SUM(H11:H20)","v":0}]
["4.1","Išlaidų pavadinimas",null,null,null,null,{"$f":"ROUND(E11*F11,2)","v":0},{"$f":"ROUND(G11*$D$7,2)","v":0}]
["4.2","Išlaidų pavadinimas",null,null,null,null,0,0]
["4.3","Išlaidų pavadinimas",null,null,null,null,0,0]
["4.4","Išlaidų pavadinimas",null,null,null,null,0,0]
["4.5","Išlaidų pavadinimas",null,null,null,null,0,0]
["4.6","Išlaidų pavadinimas",null,null,null,null,0,0]
["4.7","Išlaidų pavadinimas",null,null,null,null,0,0]
["4.8","Išlaidų pavadinimas",null,null,null,null,0,0]
["4.9","Išlaidų pavadinimas",null,null,null,null,0,0]
["4.10","Išlaidų pavadinimas",null,null,null,null,0,0]
[5,"PROJEKTO VYKDYMAS",null,null,null,null,{"$f":"G22+G33+G44+G71+G98+G149+G220+G238","v":0},{"$f":"H22+H33+H44+H71+H98+H149+H220+H238","v":0}]
["5.1","MTEP paslaugos",null,null,null,null,{"$f":"SUM(G23:G32)","v":0},{"$f":"SUM(H23:H32)","v":0}]
["5.1.1","Paslaugos pavadinimas",null,null,null,null,{"$f":"ROUND(E23*F23,2)","v":0},0]
["5.1.2","Paslaugos pavadinimas",null,null,null,null,0,0]
["5.1.3","Paslaugos pavadinimas",null,null,null,null,0,0]
["5.1.4","Paslaugos pavadinimas",null,null,null,null,0,0]
["5.1.5","Paslaugos pavadinimas",null,null,null,null,0,0]
["5.1.6","Paslaugos pavadinimas",null,null,null,null,0,0]
["5.1.7","Paslaugos pavadinimas",null,null,null,null,0,0]
["5.1.8","Paslaugos pavadinimas",null,null,null,null,0,0]
["5.1.9","Paslaugos pavadinimas",null,null,null,null,0,0]
["5.1.10","Paslaugos pavadinimas",null,null,null,null,0,0]
["5.2","Konsultavimo ir lygiavertės paslaugos, naudojamos vien tik projekto MTEP veiklai",null,null,null,null,{"$f":"SUM(G34:G43)","v":0},{"$f":"SUM(H34:H43)","v":0}]
["5.2.1","Paslaugos pavadinimas",null,null,null,null,{"$f":"ROUND(E34*F34,2)","v":0},0]
["5.2.2","Paslaugos pavadinimas",null,null,null,null,0,0]
["5.2.3","Paslaugos pavadinimas",null,null,null,null,0,0]
["5.2.4","Paslaugos pavadinimas",null,null,null,null,0,0]
["5.2.5","Paslaugos pavadinimas",null,null,null,null,0,0]
["5.2.6","Paslaugos pavadinimas",null,null,null,null,0,0]
["5.2.7","Paslaugos pavadinimas",null,null,null,null,0,0]
["5.2.8","Paslaugos pavadinimas",null,null,null,null,0,0]
["5.2.9","Paslaugos pavadinimas",null,null,null,null,0,0]
["5.2.10","Paslaugos pavadinimas",null,null,null,null,0,0]
["5.3","Medžiagos, mažavertis inventorius, atsargos ir pan. produktai, priskirtini trumpalaikiam turtui ir tiesiogiai susiję su MTEP veikla",null,null,null,null,{"$f":"SUM(G45:G70)","v":0},{"$f":"SUM(H45:H70)","v":0}]
["5.3.1","Išlaidų pavadinimas",null,null,null,null,{"$f":"ROUND(E45*F45,2)","v":0},{"$f":"ROUND(G45*$D$7,2)","v":0}]
["5.3.2","Išlaidų pavadinimas",null,null,null,null,0,0]
["5.3.3","Išlaidų pavadinimas",null,null,null,null,{"$f":"ROUND(E47*F47,2)","v":0},{"$f":"ROUND(G47*$D$7,2)","v":0}]
["5.3.4","Išlaidų pavadinimas",null,null,null,null,0,0]
["5.3.5","Išlaidų pavadinimas",null,null,null,null,0,0]
["5.3.6","Išlaidų pavadinimas",null,null,null,null,0,0]
["5.3.7","Išlaidų pavadinimas",null,null,null,null,0,0]
["5.3.8","Išlaidų pavadinimas",null,null,null,null,0,0]
["5.3.9","Išlaidų pavadinimas",null,null,null,null,0,0]
["5.3.10","Išlaidų pavadinimas",null,null,null,null,0,0]
["5.3.11","Išlaidų pavadinimas",null,null,null,null,0,0]
["5.3.12","Išlaidų pavadinimas",null,null,null,null,0,0]
["5.3.13","Išlaidų pavadinimas",null,null,null,null,0,0]
["5.3.14","Išlaidų pavadinimas",null,null,null,null,0,0]
["5.3.15","Išlaidų pavadinimas",null,null,null,null,0,0]
["5.3.16","Išlaidų pavadinimas",null,null,null,null,0,0]
["5.3.17","Išlaidų pavadinimas",null,null,null,null,0,0]
["5.3.18","Išlaidų pavadinimas",null,null,null,null,0,0]
["5.3.19","Išlaidų pavadinimas",null,null,null,null,0,0]
["5.3.20","Išlaidų pavadinimas",null,null,null,null,0,0]
["5.3.21","Išlaidų pavadinimas",null,null,null,null,0,0]
["5.3.22","Išlaidų pavadinimas",null,null,null,null,0,0]
["5.3.23","Išlaidų pavadinimas",null,null,null,null,0,0]
["5.3.24","Išlaidų pavadinimas",null,null,null,null,0,0]
["5.3.25","Išlaidų pavadinimas",null,null,null,null,0,0]
["5.3.26","Išlaidų pavadinimas",null,null,null,null,0,0]
["5.4","Projekto MTEP veikloms naudojamo ilgalaikio materialaus turto (įrangos, prietaisų, įrankių, įrenginių, mašinų ir įrengimų, pastatų ir (ar) patalpų), nusidėvėjimo sąnaudos, jeigu šiam turtui įsigyti nebuvo naudojamos viešosios (įskaitant ir kitų valstybių) lėšos",null,null,null,null,{"$f":"SUM(G72:G97)","v":0},{"$f":"SUM(H72:H97)","v":0},null,null,"Turto įvedimo į eksploataciją data","Turto įsigijimo vertė, Eur","Turto nudėvėjimo, amortizacijos laikotarpis, mėn.","Numatoma turto likutinė vertė, Eur","1 mėn. nudėvėjimo, amortizacijos suma, Eur","Turto naudojamo projekto reikmėms laikas, mėn.","Turto panaudojimo projekto reikmėms dalis (proc.)","Projektui priskirta turto nusidėvėjimo, amortizacijos suma per projekto laikotarpį, Eur"]
["5.4.1","Turtas, kurio nusidėvėjimą, amortizaciją prašoma finansuoti",null,null,1,{"$f":"R72","v":0},{"$f":"ROUND(E72*F72,2)","v":0},0,null,null,null,null,null,null,{"$f":"IFERROR(ROUND((L72-N72)/M72,2),\"0\")","v":"0"},null,null,{"$f":"O72*P72*Q72","v":0},{"$f":"IF(K72=0,\" \",IF(K72+(M72*30.5)<TODAY(),\"DĖMESIO! Patikrinkite, ar nurodytas turtas dar nėra nudėvėtas, amortizuotas\",\" \"))","v":" "}]
["5.4.2","Turtas, kurio nusidėvėjimą, amortizaciją prašoma finansuoti",null,null,1,{"$f":"R73","v":0},0,0,null,null,null,null,null,null,{"$f":"IFERROR(ROUND((L73-N73)/M73,2),\"0\")","v":"0"},null,null,{"$f":"O73*P73*Q73","v":0},{"$f":"IF(K73=0,\" \",IF(K73+(M73*30.5)<TODAY(),\"DĖMESIO! Patikrinkite, ar nurodytas turtas dar nėra nudėvėtas, amortizuotas\",\" \"))","v":" "}]
["5.4.3","Turtas, kurio nusidėvėjimą, amortizaciją prašoma finansuoti",null,null,1,{"$f":"R74","v":0},{"$f":"ROUND(E74*F74,2)","v":0},{"$f":"ROUND(G74*$D$7,2)","v":0},null,null,null,null,null,null,"0",null,null,0]
["5.4.4","Turtas, kurio nusidėvėjimą, amortizaciją prašoma finansuoti",null,null,1,0,0,0,null,null,null,null,null,null,"0",null,null,0]
["5.4.5","Turtas, kurio nusidėvėjimą, amortizaciją prašoma finansuoti",null,null,1,0,0,0,null,null,null,null,null,null,"0",null,null,0]
["5.4.6","Turtas, kurio nusidėvėjimą, amortizaciją prašoma finansuoti",null,null,1,0,0,0,null,null,null,null,null,null,"0",null,null,0]
["5.4.7","Turtas, kurio nusidėvėjimą, amortizaciją prašoma finansuoti",null,null,1,0,0,0,null,null,null,null,null,null,"0",null,null,0]
["5.4.8","Turtas, kurio nusidėvėjimą, amortizaciją prašoma finansuoti",null,null,1,0,0,0,null,null,null,null,null,null,"0",null,null,0]
["5.4.9","Turtas, kurio nusidėvėjimą, amortizaciją prašoma finansuoti",null,null,1,0,0,0,null,null,null,null,null,null,"0",null,null,0]
["5.4.10","Turtas, kurio nusidėvėjimą, amortizaciją prašoma finansuoti",null,null,1,0,0,0,null,null,null,null,null,null,"0",null,null,0]
["5.4.11","Turtas, kurio nusidėvėjimą, amortizaciją prašoma finansuoti",null,null,1,0,0,0,null,null,null,null,null,null,"0",null,null,0]
["5.4.12","Turtas, kurio nusidėvėjimą, amortizaciją prašoma finansuoti",null,null,1,0,0,0,null,null,null,null,null,null,"0",null,null,0]
["5.4.13","Turtas, kurio nusidėvėjimą, amortizaciją prašoma finansuoti",null,null,1,0,0,0,null,null,null,null,null,null,"0",null,null,0]
["5.4.14","Turtas, kurio nusidėvėjimą, amortizaciją prašoma finansuoti",null,null,1,0,0,0,null,null,null,null,null,null,"0",null,null,0," "]
["5.4.15","Turtas, kurio nusidėvėjimą, amortizaciją prašoma finansuoti",null,null,1,0,0,0,null,null,null,null,null,null,"0",null,null,0," "]
["5.4.16","Turtas, kurio nusidėvėjimą, amortizaciją prašoma finansuoti",null,null,1,0,0,0,null,null,null,null,null,null,"0",null,null,0," "]
["5.4.17","Turtas, kurio nusidėvėjimą, amortizaciją prašoma finansuoti",null,null,1,0,0,0,null,null,null,null,null,null,"0",null,null,0," "]
["5.4.18","Turtas, kurio nusidėvėjimą, amortizaciją prašoma finansuoti",null,null,1,0,0,0,null,null,null,null,null,null,"0",null,null,0," "]
["5.4.19","Turtas, kurio nusidėvėjimą, amortizaciją prašoma finansuoti",null,null,1,0,0,0,null,null,null,null,null,null,"0",null,null,0," "]
["5.4.20","Turtas, kurio nusidėvėjimą, amortizaciją prašoma finansuoti",null,null,1,0,0,0,null,null,null,null,null,null,"0",null,null,0," "]
["5.4.21","Turtas, kurio nusidėvėjimą, amortizaciją prašoma finansuoti",null,null,1,0,0,0,null,null,null,null,null,null,"0",null,null,0," "]
["5.4.22","Turtas, kurio nusidėvėjimą, amortizaciją prašoma finansuoti",null,null,1,0,0,0,null,null,null,null,null,null,"0",null,null,0," "]
["5.4.23","Turtas, kurio nusidėvėjimą, amortizaciją prašoma finansuoti",null,null,1,0,0,0,null,null,null,null,null,null,"0",null,null,0," "]
["5.4.24","Turtas, kurio nusidėvėjimą, amortizaciją prašoma finansuoti",null,null,1,0,0,0,null,null,null,null,null,null,"0",null,null,0," "]
["5.4.25","Turtas, kurio nusidėvėjimą, amortizaciją prašoma finansuoti",null,null,1,0,0,0,null,null,null,null,null,null,"0",null,null,0," "]
["5.4.26","Turtas, kurio nusidėvėjimą, amortizaciją prašoma finansuoti",null,null,1,0,0,0,null,null,null,null,null,null,"0",null,null,0," "]
["5.5","Projektą vykdančio personalo darbo užmokestis ir išlaidos su darbo santykiais susijusiems darbdavio įsipareigojimams",null,null,null,null,{"$f":"SUM(G99:G148)","v":0},{"$f":"SUM(H99:H148)","v":0},null,null,"Faktiškai gaunamas darbo užmokesti už 1 valandą pagal  pastarųjų 6 mėn. vidurkį, Eur"]
["5.5.1","Pareigybės pavadinimas","Darbuotojo vardas pavardė","val.",null,{"$f":"IFERROR(ROUND(AVERAGE(K99:K103),2),\"0\")","v":"0"},{"$f":"ROUND(E99*F99,2)","v":0},{"$f":"ROUND(G99*$D$7,2)","v":0}]
[null,null,"Darbuotojo vardas pavardė"]
[null,null,"Darbuotojo vardas pavardė"]
[null,null,"Darbuotojo vardas pavardė"]
[null,null,"Darbuotojo vardas pavardė"]
["5.5.2","Pareigybės pavadinimas","Darbuotojo vardas pavardė","val.",null,{"$f":"IFERROR(ROUND(AVERAGE(K104:K108),2),\"0\")","v":"0"},{"$f":"ROUND(E104*F104,2)","v":0},{"$f":"ROUND(G104*$D$7,2)","v":0}]
[null,null,"Darbuotojo vardas pavardė"]
[null,null,"Darbuotojo vardas pavardė"]
[null,null,"Darbuotojo vardas pavardė"]
[null,null,"Darbuotojo vardas pavardė"]
["5.5.3","Pareigybės pavadinimas","Darbuotojo vardas pavardė","val.",null,{"$f":"IFERROR(ROUND(AVERAGE(K109:K113),2),\"0\")","v":"0"},{"$f":"ROUND(E109*F109,2)","v":0},{"$f":"ROUND(G109*$D$7,2)","v":0}]
[null,null,"Darbuotojo vardas pavardė"]
[null,null,"Darbuotojo vardas pavardė"]
[null,null,"Darbuotojo vardas pavardė"]
[null,null,"Darbuotojo vardas pavardė"]
["5.5.4","Pareigybės pavadinimas","Darbuotojo vardas pavardė","val.",null,{"$f":"IFERROR(ROUND(AVERAGE(K114:K118),2),\"0\")","v":"0"},{"$f":"ROUND(E114*F114,2)","v":0},{"$f":"ROUND(G114*$D$7,2)","v":0}]
[null,null,"Darbuotojo vardas pavardė"]
[null,null,"Darbuotojo vardas pavardė"]
[null,null,"Darbuotojo vardas pavardė"]
[null,null,"Darbuotojo vardas pavardė"]
["5.5.5","Pareigybės pavadinimas","Darbuotojo vardas pavardė","val.",null,{"$f":"IFERROR(ROUND(AVERAGE(K119:K123),2),\"0\")","v":"0"},{"$f":"ROUND(E119*F119,2)","v":0},{"$f":"ROUND(G119*$D$7,2)","v":0}]
[null,null,"Darbuotojo vardas pavardė"]
[null,null,"Darbuotojo vardas pavardė"]
[null,null,"Darbuotojo vardas pavardė"]
[null,null,"Darbuotojo vardas pavardė"]
["5.5.6","Pareigybės pavadinimas","Darbuotojo vardas pavardė","val.",null,{"$f":"IFERROR(ROUND(AVERAGE(K124:K128),2),\"0\")","v":"0"},{"$f":"ROUND(E124*F124,2)","v":0},{"$f":"ROUND(G124*$D$7,2)","v":0}]
[null,null,"Darbuotojo vardas pavardė"]
[null,null,"Darbuotojo vardas pavardė"]
[null,null,"Darbuotojo vardas pavardė"]
[null,null,"Darbuotojo vardas pavardė"]
["5.5.7","Pareigybės pavadinimas","Darbuotojo vardas pavardė","val.",null,{"$f":"IFERROR(ROUND(AVERAGE(K129:K133),2),\"0\")","v":"0"},{"$f":"ROUND(E129*F129,2)","v":0},{"$f":"ROUND(G129*$D$7,2)","v":0}]
[null,null,"Darbuotojo vardas pavardė"]
[null,null,"Darbuotojo vardas pavardė"]
[null,null,"Darbuotojo vardas pavardė"]
[null,null,"Darbuotojo vardas pavardė"]
["5.5.8","Pareigybės pavadinimas","Darbuotojo vardas pavardė","val.",null,{"$f":"IFERROR(ROUND(AVERAGE(K134:K138),2),\"0\")","v":"0"},{"$f":"ROUND(E134*F134,2)","v":0},{"$f":"ROUND(G134*$D$7,2)","v":0}]
[null,null,"Darbuotojo vardas pavardė"]
[null,null,"Darbuotojo vardas pavardė"]
[null,null,"Darbuotojo vardas pavardė"]
[null,null,"Darbuotojo vardas pavardė"]
["5.5.9","Pareigybės pavadinimas","Darbuotojo vardas pavardė","val.",null,{"$f":"IFERROR(ROUND(AVERAGE(K139:K143),2),\"0\")","v":"0"},{"$f":"ROUND(E139*F139,2)","v":0},{"$f":"ROUND(G139*$D$7,2)","v":0}]
[null,null,"Darbuotojo vardas pavardė"]
[null,null,"Darbuotojo vardas pavardė"]
[null,null,"Darbuotojo vardas pavardė"]
[null,null,"Darbuotojo vardas pavardė"]
["5.5.10","Pareigybės pavadinimas","Darbuotojo vardas pavardė","val.",null,{"$f":"IFERROR(ROUND(AVERAGE(K144:K148),2),\"0\")","v":"0"},{"$f":"ROUND(E144*F144,2)","v":0},{"$f":"ROUND(G144*$D$7,2)","v":0}]
[null,null,"Darbuotojo vardas pavardė"]
[null,null,"Darbuotojo vardas pavardė"]
[null,null,"Darbuotojo vardas pavardė"]
[null,null,"Darbuotojo vardas pavardė"]
["5.6","Projektą vykdančio personalo komandiruočių išlaidos",null,null,null,null,{"$f":"SUM(G150,G157,G164,G171,G178,G185,G192,G199,G206,G213)","v":0},{"$f":"SUM(H150,H157,H164,H171,H178,H185,H192,H199,H206,H213)","v":0}]
["5.6.1","Komandiruotės pavadinimas, vieta, trukmė dienomis, vykstančių asmenų skaičius","Iš viso komandiruotei",null,null,null,{"$f":"SUM(G151:G156)","v":0},{"$f":"ROUND(G150*$D$7,2)","v":0}]
[null,null,"Dienpinigiai",null,null,null,{"$f":"ROUND(E151*F151,2)","v":0}]
[null,null,"Gyvenamojo ploto nuoma",null,null,null,0]
[null,null,"Kelionės išlaidos",null,null,null,0]
[null,null,"Dalyvavimo mokestis",null,null,null,0]
[null,null,"Kitos išlaidų pavadinimas",null,null,null,0]
[null,null,"Kitos išlaidų pavadinimas",null,null,null,0]
["5.6.2","Komandiruotės pavadinimas, vieta, trukmė dienomis, vykstančių asmenų skaičius","Iš viso komandiruotei",null,null,null,{"$f":"SUM(G158:G163)","v":0},{"$f":"ROUND(G157*$D$7,2)","v":0}]
[null,null,"Dienpinigiai",null,null,null,{"$f":"ROUND(E158*F158,2)","v":0}]
[null,null,"Gyvenamojo ploto nuoma",null,null,null,0]
[null,null,"Kelionės išlaidos",null,null,null,0]
[null,null,"Dalyvavimo mokestis",null,null,null,0]
[null,null,"Kitos išlaidų pavadinimas",null,null,null,0]
[null,null,"Kitos išlaidų pavadinimas",null,null,null,0]
["5.6.3","Komandiruotės pavadinimas, vieta, trukmė dienomis, vykstančių asmenų skaičius","Iš viso komandiruotei",null,null,null,{"$f":"SUM(G165:G170)","v":0},{"$f":"ROUND(G164*$D$7,2)","v":0}]
[null,null,"Dienpinigiai",null,null,null,{"$f":"ROUND(E165*F165,2)","v":0}]
[null,null,"Gyvenamojo ploto nuoma",null,null,null,0]
[null,null,"Kelionės išlaidos",null,null,null,0]
[null,null,"Dalyvavimo mokestis",null,null,null,0]
[null,null,"Kitos išlaidų pavadinimas",null,null,null,0]
[null,null,"Kitos išlaidų pavadinimas",null,null,null,0]
["5.6.4","Komandiruotės pavadinimas, vieta, trukmė dienomis, vykstančių asmenų skaičius","Iš viso komandiruotei",null,null,null,{"$f":"SUM(G172:G177)","v":0},{"$f":"ROUND(G171*$D$7,2)","v":0}]
[null,null,"Dienpinigiai",null,null,null,{"$f":"ROUND(E172*F172,2)","v":0}]
[null,null,"Gyvenamojo ploto nuoma",null,null,null,0]
[null,null,"Kelionės išlaidos",null,null,null,0]
[null,null,"Dalyvavimo mokestis",null,null,null,0]
[null,null,"Kitos išlaidų pavadinimas",null,null,null,0]
[null,null,"Kitos išlaidų pavadinimas",null,null,null,0]
["5.6.5","Komandiruotės pavadinimas, vieta, trukmė dienomis, vykstančių asmenų skaičius","Iš viso komandiruotei",null,null,null,{"$f":"SUM(G179:G184)","v":0},{"$f":"ROUND(G178*$D$7,2)","v":0}]
[null,null,"Dienpinigiai",null,null,null,{"$f":"ROUND(E179*F179,2)","v":0}]
[null,null,"Gyvenamojo ploto nuoma",null,null,null,0]
[null,null,"Kelionės išlaidos",null,null,null,0]
[null,null,"Dalyvavimo mokestis",null,null,null,0]
[null,null,"Kitos išlaidų pavadinimas",null,null,null,0]
[null,null,"Kitos išlaidų pavadinimas",null,null,null,0]
["5.6.6","Komandiruotės pavadinimas, vieta, trukmė dienomis, vykstančių asmenų skaičius","Iš viso komandiruotei",null,null,null,{"$f":"SUM(G186:G191)","v":0},{"$f":"ROUND(G185*$D$7,2)","v":0}]
[null,null,"Dienpinigiai",null,null,null,{"$f":"ROUND(E186*F186,2)","v":0}]
[null,null,"Gyvenamojo ploto nuoma",null,null,null,0]
[null,null,"Kelionės išlaidos",null,null,null,0]
[null,null,"Dalyvavimo mokestis",null,null,null,0]
[null,null,"Kitos išlaidų pavadinimas",null,null,null,0]
[null,null,"Kitos išlaidų pavadinimas",null,null,null,0]
["5.6.7","Komandiruotės pavadinimas, vieta, trukmė dienomis, vykstančių asmenų skaičius","Iš viso komandiruotei",null,null,null,{"$f":"SUM(G193:G198)","v":0},{"$f":"ROUND(G192*$D$7,2)","v":0}]
[null,null,"Dienpinigiai",null,null,null,{"$f":"ROUND(E193*F193,2)","v":0}]
[null,null,"Gyvenamojo ploto nuoma",null,null,null,0]
[null,null,"Kelionės išlaidos",null,null,null,0]
[null,null,"Dalyvavimo mokestis",null,null,null,0]
[null,null,"Kitos išlaidų pavadinimas",null,null,null,0]
[null,null,"Kitos išlaidų pavadinimas",null,null,null,0]
["5.6.8","Komandiruotės pavadinimas, vieta, trukmė dienomis, vykstančių asmenų skaičius","Iš viso komandiruotei",null,null,null,{"$f":"SUM(G200:G205)","v":0},{"$f":"ROUND(G199*$D$7,2)","v":0}]
[null,null,"Dienpinigiai",null,null,null,{"$f":"ROUND(E200*F200,2)","v":0}]
[null,null,"Gyvenamojo ploto nuoma",null,null,null,0]
[null,null,"Kelionės išlaidos",null,null,null,0]
[null,null,"Dalyvavimo mokestis",null,null,null,0]
[null,null,"Kitos išlaidų pavadinimas",null,null,null,0]
[null,null,"Kitos išlaidų pavadinimas",null,null,null,0]
["5.6.9","Komandiruotės pavadinimas, vieta, trukmė dienomis, vykstančių asmenų skaičius","Iš viso komandiruotei",null,null,null,{"$f":"SUM(G207:G212)","v":0},{"$f":"ROUND(G206*$D$7,2)","v":0}]
[null,null,"Dienpinigiai",null,null,null,{"$f":"ROUND(E207*F207,2)","v":0}]
[null,null,"Gyvenamojo ploto nuoma",null,null,null,0]
[null,null,"Kelionės išlaidos",null,null,null,0]
[null,null,"Dalyvavimo mokestis",null,null,null,0]
[null,null,"Kitos išlaidų pavadinimas",null,null,null,0]
[null,null,"Kitos išlaidų pavadinimas",null,null,null,0]
["5.6.10","Komandiruotės pavadinimas, vieta, trukmė dienomis, vykstančių asmenų skaičius","Iš viso komandiruotei",null,null,null,{"$f":"SUM(G214:G219)","v":0},{"$f":"ROUND(G213*$D$7,2)","v":0}]
[null,null,"Dienpinigiai",null,null,null,{"$f":"ROUND(E214*F214,2)","v":0}]
[null,null,"Gyvenamojo ploto nuoma",null,null,null,0]
[null,null,"Kelionės išlaidos",null,null,null,0]
[null,null,"Dalyvavimo mokestis",null,null,null,0]
[null,null,"Kitos išlaidų pavadinimas",null,null,null,0]
[null,null,"Kitos išlaidų pavadinimas",null,null,null,0]
["5.7","Įrangos nuomos išlaidos, veiklai priskirtos pro rata principu. Įranga turi būti tiesiogiai susijusi su projekto įgyvendinimu ir negali būti įsigyta iš ES struktūrinių fondų ar kt. ES finansinių priemonių lėšų",null,null,null,null,{"$f":"SUM(G221:G237)","v":0},{"$f":"SUM(H221:H237)","v":0},null,null,"Faktinės 1 mėnesio išlaidos, Eur","Naudojimo projekte trukmė, mėn."]
["5.7.1","Įrangos pavadinimas",null,"pro rata proc.",null,{"$f":"K221*L221","v":0},0,{"$f":"ROUND(G221*$D$7,2)","v":0}]
["5.7.2","Įrangos pavadinimas",null,"pro rata proc.",null,{"$f":"K222*L222","v":0},{"$f":"ROUND(E222*F222,2)","v":0},{"$f":"ROUND(G222*$D$7,2)","v":0}]
["5.7.3","Įrangos pavadinimas",null,"pro rata proc.",null,0,0,0]
["5.7.4","Įrangos pavadinimas",null,"pro rata proc.",null,0,0,0]
["5.7.5","Įrangos pavadinimas",null,"pro rata proc.",null,0,0,0]
["5.7.6","Įrangos pavadinimas",null,"pro rata proc.",null,0,0,0]
["5.7.7","Įrangos pavadinimas",null,"pro rata proc.",null,0,0,0]
["5.7.8","Įrangos pavadinimas",null,"pro rata proc.",null,0,0,0]
["5.7.9","Įrangos pavadinimas",null,"pro rata proc.",null,0,0,0]
["5.7.10","Įrangos pavadinimas",null,"pro rata proc.",null,0,0,0]
["5.7.11","Įrangos pavadinimas",null,"pro rata proc.",null,0,0,0]
["5.7.12","Įrangos pavadinimas",null,"pro rata proc.",null,0,0,0]
["5.7.13","Įrangos pavadinimas",null,"pro rata proc.",null,0,0,0]
["5.7.14","Įrangos pavadinimas",null,"pro rata proc.",null,{"$f":"K234*L234","v":0},0,{"$f":"ROUND(G234*$D$7,2)","v":0}]
["5.7.15","Įrangos pavadinimas",null,"pro rata proc.",null,0,0,0]
["5.7.16","Įrangos pavadinimas",null,"pro rata proc.",null,0,0,0]
["5.7.17","Įrangos pavadinimas",null,"pro rata proc.",null,0,0,0]
["5.8","Pastatų ar patalpų nuomos išlaidos, veiklai priskirtos pro rata principu. Pastatai ar patalpos turi būti tiesiogiai susijusi su projekto įgyvendinimu.",null,null,null,null,{"$f":"SUM(G239:G243)","v":0},{"$f":"SUM(H239:H243)","v":0},null,null,"Faktinės 1 mėnesio išlaidos, Eur","Naudojimo projekte trukmė, mėn."]
["5.8.1","Pastato, patalpų adresas",null,"pro rata proc.",null,{"$f":"K239*L239","v":0},{"$f":"ROUND(E239*F239,2)","v":0},{"$f":"ROUND(G239*$D$7,2)","v":0}]
["5.8.2","Pastato, patalpų adresas",null,"pro rata proc.",null,{"$f":"K240*L240","v":0},0,0]
["5.8.3","Pastato, patalpų adresas",null,"pro rata proc.",null,0,0,0]
["5.8.4","Pastato, patalpų adresas",null,"pro rata proc.",null,0,0,0]
["5.8.5","Pastato, patalpų adresas",null,"pro rata proc.",null,0,0,0]
["Iš viso tinkamų finansuoti išlaidų:",null,null,null,null,null,{"$f":"G10+G21","v":0},{"$f":"H10+H21","v":0}]

{"sheet":"8","index":9,"n_rows":245,"n_cols":19,"rows_kept":245,"cut":false,"hidden":false,"merged":[[109,0,113,0],[109,1,113,1],[109,3,113,3],[109,4,113,4],[109,5,113,5],[109,6,113,6],[109,7,113,7],[109,8,113,8],[129,0,133,0],[129,1,133,1],[129,3,133,3],[129,4,133,4],[129,5,133,5],[129,6,133,6],[129,7,133,7],[129,8,133,8],[114,0,118,0],[114,1,118,1],[114,3,118,3],[114,4,118,4],[114,5,118,5],[114,6,118,6],[114,7,118,7],[114,8,118,8],[99,0,103,0],[99,1,103,1],[99,3,103,3],[99,4,103,4],[99,5,103,5],[99,6,103,6],[99,7,103,7],[99,8,103,8],[104,0,108,0],[104,1,108,1],[104,3,108,3],[104,4,108,4],[104,5,108,5],[104,6,108,6],[104,7,108,7],[104,8,108,8],[44,1,44,2],[45,1,45,2],[58,1,58,2],[59,1,59,2],[46,1,46,2],[47,1,47,2],[85,1,85,2],[86,1,86,2],[87,1,87,2],[48,1,48,2],[49,1,49,2],[50,1,50,2],[51,1,51,2],[52,1,52,2],[53,1,53,2],[54,1,54,2],[55,1,55,2],[56,1,56,2],[57,1,57,2],[74,1,74,2],[75,1,75,2],[76,1,76,2],[77,1,77,2],[78,1,78,2],[0,3,0,8],[2,0,2,2],[2,3,2,8],[22,1,22,2],[14,1,14,2],[15,1,15,2],[16,1,16,2],[17,1,17,2],[18,1,18,2],[20,1,20,5],[10,1,10,2],[11,1,11,2],[12,1,12,2],[13,1,13,2],[3,3,3,4],[3,5,3,6],[4,0,4,2],[4,3,4,8],[8,1,8,2],[9,1,9,5],[19,1,19,2],[21,1,21,5],[134,8,138,8],[139,0,143,0],[139,1,143,1],[139,3,143,3],[139,4,143,4],[139,5,143,5],[134,0,138,0],[134,1,138,1],[134,3,138,3],[134,4,138,4],[134,5,138,5],[134,6,138,6],[134,7,138,7],[139,6,143,6],[139,7,143,7],[139,8,143,8],[31,1,31,2],[32,1,32,5],[42,1,42,2],[43,1,43,5],[23,1,23,2],[24,1,24,2],[25,1,25,2],[33,1,33,2],[34,1,34,2],[35,1,35,2],[36,1,36,2],[37,1,37,2],[26,1,26,2],[27,1,27,2],[28,1,28,2],[29,1,29,2],[30,1,30,2],[38,1,38,2],[39,1,39,2],[40,1,40,2],[41,1,41,2],[119,8,123,8],[124,0,128,0],[124,1,128,1],[124,3,128,3],[124,4,128,4],[124,5,128,5],[124,6,128,6],[124,7,128,7],[124,8,128,8],[119,0,123,0],[119,1,123,1],[119,3,123,3],[119,4,123,4],[119,5,123,5],[119,7,123,7],[119,6,123,6],[144,0,148,0],[144,1,148,1],[144,3,148,3],[144,4,148,4],[144,5,148,5],[144,6,148,6],[144,7,148,7],[144,8,148,8],[150,0,156,0],[150,1,156,1],[150,8,156,8],[149,1,149,5],[157,0,163,0],[157,1,163,1],[157,8,163,8],[164,0,170,0],[164,1,170,1],[164,8,170,8],[171,0,177,0],[171,1,177,1],[171,8,177,8],[178,0,184,0],[178,1,184,1],[178,8,184,8],[185,0,191,0],[185,1,191,1],[185,8,191,8],[213,8,219,8],[220,1,220,5],[221,1,221,2],[192,0,198,0],[192,1,198,1],[192,8,198,8],[199,0,205,0],[199,1,205,1],[199,8,205,8],[206,0,212,0],[206,1,212,1],[206,8,212,8],[238,1,238,5],[239,1,239,2],[240,1,240,2],[241,1,241,2],[242,1,242,2],[243,1,243,2],[244,0,244,5],[213,0,219,0],[213,1,219,1],[234,1,234,2],[235,1,235,2],[236,1,236,2],[237,1,237,2],[228,1,228,2],[229,1,229,2],[230,1,230,2],[231,1,231,2],[232,1,232,2],[233,1,233,2],[79,1,79,2],[80,1,80,2],[81,1,81,2],[60,1,60,2],[61,1,61,2],[68,1,68,2],[72,1,72,2],[73,1,73,2],[62,1,62,2],[63,1,63,2],[64,1,64,2],[65,1,65,2],[66,1,66,2],[67,1,67,2],[69,1,69,2],[70,1,70,2],[71,1,71,5],[82,1,82,2],[83,1,83,2],[84,1,84,2],[222,1,222,2],[223,1,223,2],[224,1,224,2],[225,1,225,2],[226,1,226,2],[227,1,227,2],[88,1,88,2],[89,1,89,2],[90,1,90,2],[91,1,91,2],[92,1,92,2],[93,1,93,2],[94,1,94,2],[95,1,95,2],[96,1,96,2],[97,1,97,2],[98,1,98,5]]}
[null,null,"Pasirinkite veiklos tipą:"]
[null,null,"Fizinio rodiklio Nr.:"]
["Fizinio rodiklio pavadinimas:"]
[null,null,"Fizinio rodiklio matavimo vnt.:",null,null,"Fizinio rodiklio vnt. skaičius:"]
["Juridinis asmuo (pareiškėjas, partneris), atsakingas už fizinį rodiklį:"]
[]
[null,null,"Finansavimo intensyvumas:",null,null,null,"Pasirinkite biudžeto išlaidų kategoriją:"]
[]
["Eil. Nr.","Išlaidų kategorijos pavadinimas",null,"Matavimo vnt.","Kiekis","Vieneto kaina be PVM, Eur","Tinkamų finansuoti išlaidų suma be PVM, Eur","Finansavimo suma, Eur","Išlaidų pagrindimo dokumentų pavadinimas, data ir Nr."]
[4,"ĮRANGA, ĮRENGINIAI IR KT. TURTAS (techninių žinių ir išradimų patentų arba teisių pagal licencijų sutartį įsigijimo išlaidos)",null,null,null,null,{"$f":"SUM(G11:G20)","v":0},{"$f":"SUM(H11:H20)","v":0}]
["4.1","Išlaidų pavadinimas",null,null,null,null,{"$f":"ROUND(E11*F11,2)","v":0},{"$f":"ROUND(G11*$D$7,2)","v":0}]
["4.2","Išlaidų pavadinimas",null,null,null,null,0,0]
["4.3","Išlaidų pavadinimas",null,null,null,null,0,0]
["4.4","Išlaidų pavadinimas",null,null,null,null,0,0]
["4.5","Išlaidų pavadinimas",null,null,null,null,0,0]
["4.6","Išlaidų pavadinimas",null,null,null,null,0,0]
["4.7","Išlaidų pavadinimas",null,null,null,null,0,0]
["4.8","Išlaidų pavadinimas",null,null,null,null,0,0]
["4.9","Išlaidų pavadinimas",null,null,null,null,0,0]
["4.10","Išlaidų pavadinimas",null,null,null,null,0,0]
[5,"PROJEKTO VYKDYMAS",null,null,null,null,{"$f":"G22+G33+G44+G72+G99+G150+G221+G239","v":0},{"$f":"H22+H33+H44+H72+H99+H150+H221+H239","v":0}]
["5.1","MTEP paslaugos",null,null,null,null,{"$f":"SUM(G23:G32)","v":0},{"$f":"SUM(H23:H32)","v":0}]
["5.1.1","Paslaugos pavadinimas",null,null,null,null,{"$f":"ROUND(E23*F23,2)","v":0},0]
["5.1.2","Paslaugos pavadinimas",null,null,null,null,0,0]
["5.1.3","Paslaugos pavadinimas",null,null,null,null,0,0]
["5.1.4","Paslaugos pavadinimas",null,null,null,null,0,0]
["5.1.5","Paslaugos pavadinimas",null,null,null,null,0,0]
["5.1.6","Paslaugos pavadinimas",null,null,null,null,0,0]
["5.1.7","Paslaugos pavadinimas",null,null,null,null,0,0]
["5.1.8","Paslaugos pavadinimas",null,null,null,null,0,0]
["5.1.9","Paslaugos pavadinimas",null,null,null,null,0,0]
["5.1.10","Paslaugos pavadinimas",null,null,null,null,0,0]
["5.2","Konsultavimo ir lygiavertės paslaugos, naudojamos vien tik projekto MTEP veiklai",null,null,null,null,{"$f":"SUM(G34:G43)","v":0},{"$f":"SUM(H34:H43)","v":0}]
["5.2.1","Paslaugos pavadinimas",null,null,null,null,{"$f":"ROUND(E34*F34,2)","v":0},0]
["5.2.2","Paslaugos pavadinimas",null,null,null,null,0,0]
["5.2.3","Paslaugos pavadinimas",null,null,null,null,0,0]
["5.2.4","Paslaugos pavadinimas",null,null,null,null,0,0]
["5.2.5","Paslaugos pavadinimas",null,null,null,null,0,0]
["5.2.6","Paslaugos pavadinimas",null,null,null,null,0,0]
["5.2.7","Paslaugos pavadinimas",null,null,null,null,0,0]
["5.2.8","Paslaugos pavadinimas",null,null,null,null,0,0]
["5.2.9","Paslaugos pavadinimas",null,null,null,null,0,0]
["5.2.10","Paslaugos pavadinimas",null,null,null,null,0,0]
["5.3","Medžiagos, mažavertis inventorius, atsargos ir pan. produktai, priskirtini trumpalaikiam turtui ir tiesiogiai susiję su MTEP veikla",null,null,null,null,{"$f":"SUM(G45:G71)","v":0},{"$f":"SUM(H45:H71)","v":0}]
["5.3.1","Išlaidų pavadinimas",null,null,null,null,{"$f":"ROUND(E45*F45,2)","v":0},{"$f":"ROUND(G45*$D$7,2)","v":0}]
["5.3.2","Išlaidų pavadinimas",null,null,null,null,0,0]
["5.3.3","Išlaidų pavadinimas",null,null,null,null,0,0]
["5.3.4","Išlaidų pavadinimas",null,null,null,null,0,0]
["5.3.5","Išlaidų pavadinimas",null,null,null,null,0,0]
["5.3.6","Išlaidų pavadinimas",null,null,null,null,0,0]
["5.3.7","Išlaidų pavadinimas",null,null,null,null,0,0]
["5.3.8","Išlaidų pavadinimas",null,null,null,null,0,0]
["5.3.9","Išlaidų pavadinimas",null,null,null,null,0,0]
["5.3.10","Išlaidų pavadinimas",null,null,null,null,0,0]
["5.3.11","Išlaidų pavadinimas",null,null,null,null,0,0]
["5.3.12","Išlaidų pavadinimas",null,null,null,null,0,0]
["5.3.13","Išlaidų pavadinimas",null,null,null,null,0,0]
["5.3.14","Išlaidų pavadinimas",null,null,null,null,0,0]
["5.3.15","Išlaidų pavadinimas",null,null,null,null,0,0]
["5.3.16","Išlaidų pavadinimas",null,null,null,null,0,0]
["5.3.17","Išlaidų pavadinimas",null,null,null,null,0,0]
["5.3.18","Išlaidų pavadinimas",null,null,null,null,0,0]
["5.3.19","Išlaidų pavadinimas",null,null,null,null,0,0]
["5.3.20","Išlaidų pavadinimas",null,null,null,null,0,0]
["5.3.21","Išlaidų pavadinimas",null,null,null,null,0,0]
["5.3.22","Išlaidų pavadinimas",null,null,null,null,0,0]
["5.3.23","Išlaidų pavadinimas",null,null,null,null,0,0]
["5.3.24","Išlaidų pavadinimas",null,null,null,null,0,0]
["5.3.25","Išlaidų pavadinimas",null,null,null,null,0,0]
["5.3.26","Išlaidų pavadinimas",null,null,null,null,0,0]
["5.3.27","Išlaidų pavadinimas",null,null,null,null,0,0]
["5.4","Projekto MTEP veikloms naudojamo ilgalaikio materialaus turto (įrangos, prietaisų, įrankių, įrenginių, mašinų ir įrengimų, pastatų ir (ar) patalpų), nusidėvėjimo sąnaudos, jeigu šiam turtui įsigyti nebuvo naudojamos viešosios (įskaitant ir kitų valstybių) lėšos",null,null,null,null,{"$f":"SUM(G73:G98)","v":0},{"$f":"SUM(H73:H98)","v":0},null,null,"Turto įvedimo į eksploataciją data","Turto įsigijimo vertė, Eur","Turto nudėvėjimo, amortizacijos laikotarpis, mėn.","Numatoma turto likutinė vertė, Eur","1 mėn. nudėvėjimo, amortizacijos suma, Eur","Turto naudojamo projekto reikmėms laikas, mėn.","Turto panaudojimo projekto reikmėms dalis (proc.)","Projektui priskirta turto nusidėvėjimo, amortizacijos suma per projekto laikotarpį, Eur"]
["5.4.1","Turtas, kurio nusidėvėjimą, amortizaciją prašoma finansuoti",null,null,1,{"$f":"R73","v":0},{"$f":"ROUND(E73*F73,2)","v":0},0,null,null,null,null,null,null,{"$f":"IFERROR(ROUND((L73-N73)/M73,2),\"0\")","v":"0"},null,null,{"$f":"O73*P73*Q73","v":0},{"$f":"IF(K73=0,\" \",IF(K73+(M73*30.5)<TODAY(),\"DĖMESIO! Patikrinkite, ar nurodytas turtas dar nėra nudėvėtas, amortizuotas\",\" \"))","v":" "}]
["5.4.2","Turtas, kurio nusidėvėjimą, amortizaciją prašoma finansuoti",null,null,1,{"$f":"R74","v":0},0,0,null,null,null,null,null,null,{"$f":"IFERROR(ROUND((L74-N74)/M74,2),\"0\")","v":"0"},null,null,{"$f":"O74*P74*Q74","v":0},{"$f":"IF(K74=0,\" \",IF(K74+(M74*30.5)<TODAY(),\"DĖMESIO! Patikrinkite, ar nurodytas turtas dar nėra nudėvėtas, amortizuotas\",\" \"))","v":" "}]
["5.4.3","Turtas, kurio nusidėvėjimą, amortizaciją prašoma finansuoti",null,null,1,0,0,0,null,null,null,null,null,null,"0",null,null,0]
["5.4.4","Turtas, kurio nusidėvėjimą, amortizaciją prašoma finansuoti",null,null,1,0,0,0,null,null,null,null,null,null,"0",null,null,0]
["5.4.5","Turtas, kurio nusidėvėjimą, amortizaciją prašoma finansuoti",null,null,1,0,0,0,null,null,null,null,null,null,"0",null,null,0]
["5.4.6","Turtas, kurio nusidėvėjimą, amortizaciją prašoma finansuoti",null,null,1,0,0,0,null,null,null,null,null,null,"0",null,null,0]
["5.4.7","Turtas, kurio nusidėvėjimą, amortizaciją prašoma finansuoti",null,null,1,0,0,0,null,null,null,null,null,null,"0",null,null,0]
["5.4.8","Turtas, kurio nusidėvėjimą, amortizaciją prašoma finansuoti",null,null,1,0,0,0,null,null,null,null,null,null,"0",null,null,0]
["5.4.9","Turtas, kurio nusidėvėjimą, amortizaciją prašoma finansuoti",null,null,1,0,0,0,null,null,null,null,null,null,"0",null,null,0]
["5.4.10","Turtas, kurio nusidėvėjimą, amortizaciją prašoma finansuoti",null,null,1,0,0,0,null,null,null,null,null,null,"0",null,null,0]
["5.4.11","Turtas, kurio nusidėvėjimą, amortizaciją prašoma finansuoti",null,null,1,0,0,0,null,null,null,null,null,null,"0",null,null,0]
["5.4.12","Turtas, kurio nusidėvėjimą, amortizaciją prašoma finansuoti",null,null,1,0,0,0,null,null,null,null,null,null,"0",null,null,0]
["5.4.13","Turtas, kurio nusidėvėjimą, amortizaciją prašoma finansuoti",null,null,1,0,0,0,null,null,null,null,null,null,"0",null,null,0]
["5.4.14","Turtas, kurio nusidėvėjimą, amortizaciją prašoma finansuoti",null,null,1,0,0,0,null,null,null,null,null,null,"0",null,null,0," "]
["5.4.15","Turtas, kurio nusidėvėjimą, amortizaciją prašoma finansuoti",null,null,1,0,0,0,null,null,null,null,null,null,"0",null,null,0," "]
["5.4.16","Turtas, kurio nusidėvėjimą, amortizaciją prašoma finansuoti",null,null,1,0,0,0,null,null,null,null,null,null,"0",null,null,0," "]
["5.4.17","Turtas, kurio nusidėvėjimą, amortizaciją prašoma finansuoti",null,null,1,0,0,0,null,null,null,null,null,null,"0",null,null,0," "]
["5.4.18","Turtas, kurio nusidėvėjimą, amortizaciją prašoma finansuoti",null,null,1,0,0,0,null,null,null,null,null,null,"0",null,null,0," "]
["5.4.19","Turtas, kurio nusidėvėjimą, amortizaciją prašoma finansuoti",null,null,1,0,0,0,null,null,null,null,null,null,"0",null,null,0," "]
["5.4.20","Turtas, kurio nusidėvėjimą, amortizaciją prašoma finansuoti",null,null,1,0,0,0,null,null,null,null,null,null,"0",null,null,0," "]
["5.4.21","Turtas, kurio nusidėvėjimą, amortizaciją prašoma finansuoti",null,null,1,0,0,0,null,null,null,null,null,null,"0",null,null,0," "]
["5.4.22","Turtas, kurio nusidėvėjimą, amortizaciją prašoma finansuoti",null,null,1,0,0,0,null,null,null,null,null,null,"0",null,null,0," "]
["5.4.23","Turtas, kurio nusidėvėjimą, amortizaciją prašoma finansuoti",null,null,1,0,0,0,null,null,null,null,null,null,"0",null,null,0," "]
["5.4.24","Turtas, kurio nusidėvėjimą, amortizaciją prašoma finansuoti",null,null,1,0,0,0,null,null,null,null,null,null,"0",null,null,0," "]
["5.4.25","Turtas, kurio nusidėvėjimą, amortizaciją prašoma finansuoti",null,null,1,0,0,0,null,null,null,null,null,null,"0",null,null,0," "]
["5.4.26","Turtas, kurio nusidėvėjimą, amortizaciją prašoma finansuoti",null,null,1,0,0,0,null,null,null,null,null,null,"0",null,null,0," "]
["5.5","Projektą vykdančio personalo darbo užmokestis ir išlaidos su darbo santykiais susijusiems darbdavio įsipareigojimams",null,null,null,null,{"$f":"SUM(G100:G149)","v":0},{"$f":"SUM(H100:H149)","v":0},null,null,"Faktiškai gaunamas darbo užmokesti už 1 valandą pagal  pastarųjų 6 mėn. vidurkį, Eur"]
["5.5.1","Pareigybės pavadinimas","Darbuotojo vardas pavardė","val.",null,{"$f":"IFERROR(ROUND(AVERAGE(K100:K104),2),\"0\")","v":"0"},{"$f":"ROUND(E100*F100,2)","v":0},{"$f":"ROUND(G100*$D$7,2)","v":0}]
[null,null,"Darbuotojo vardas pavardė"]
[null,null,"Darbuotojo vardas pavardė"]
[null,null,"Darbuotojo vardas pavardė"]
[null,null,"Darbuotojo vardas pavardė"]
["5.5.2","Pareigybės pavadinimas","Darbuotojo vardas pavardė","val.",null,{"$f":"IFERROR(ROUND(AVERAGE(K105:K109),2),\"0\")","v":"0"},{"$f":"ROUND(E105*F105,2)","v":0},{"$f":"ROUND(G105*$D$7,2)","v":0}]
[null,null,"Darbuotojo vardas pavardė"]
[null,null,"Darbuotojo vardas pavardė"]
[null,null,"Darbuotojo vardas pavardė"]
[null,null,"Darbuotojo vardas pavardė"]
["5.5.3","Pareigybės pavadinimas","Darbuotojo vardas pavardė","val.",null,{"$f":"IFERROR(ROUND(AVERAGE(K110:K114),2),\"0\")","v":"0"},{"$f":"ROUND(E110*F110,2)","v":0},{"$f":"ROUND(G110*$D$7,2)","v":0}]
[null,null,"Darbuotojo vardas pavardė"]
[null,null,"Darbuotojo vardas pavardė"]
[null,null,"Darbuotojo vardas pavardė"]
[null,null,"Darbuotojo vardas pavardė"]
["5.5.4","Pareigybės pavadinimas","Darbuotojo vardas pavardė","val.",null,{"$f":"IFERROR(ROUND(AVERAGE(K115:K119),2),\"0\")","v":"0"},{"$f":"ROUND(E115*F115,2)","v":0},{"$f":"ROUND(G115*$D$7,2)","v":0}]
[null,null,"Darbuotojo vardas pavardė"]
[null,null,"Darbuotojo vardas pavardė"]
[null,null,"Darbuotojo vardas pavardė"]
[null,null,"Darbuotojo vardas pavardė"]
["5.5.5","Pareigybės pavadinimas","Darbuotojo vardas pavardė","val.",null,{"$f":"IFERROR(ROUND(AVERAGE(K120:K124),2),\"0\")","v":"0"},{"$f":"ROUND(E120*F120,2)","v":0},{"$f":"ROUND(G120*$D$7,2)","v":0}]
[null,null,"Darbuotojo vardas pavardė"]
[null,null,"Darbuotojo vardas pavardė"]
[null,null,"Darbuotojo vardas pavardė"]
[null,null,"Darbuotojo vardas pavardė"]
["5.5.6","Pareigybės pavadinimas","Darbuotojo vardas pavardė","val.",null,{"$f":"IFERROR(ROUND(AVERAGE(K125:K129),2),\"0\")","v":"0"},{"$f":"ROUND(E125*F125,2)","v":0},{"$f":"ROUND(G125*$D$7,2)","v":0}]
[null,null,"Darbuotojo vardas pavardė"]
[null,null,"Darbuotojo vardas pavardė"]
[null,null,"Darbuotojo vardas pavardė"]
[null,null,"Darbuotojo vardas pavardė"]
["5.5.7","Pareigybės pavadinimas","Darbuotojo vardas pavardė","val.",null,{"$f":"IFERROR(ROUND(AVERAGE(K130:K134),2),\"0\")","v":"0"},{"$f":"ROUND(E130*F130,2)","v":0},{"$f":"ROUND(G130*$D$7,2)","v":0}]
[null,null,"Darbuotojo vardas pavardė"]
[null,null,"Darbuotojo vardas pavardė"]
[null,null,"Darbuotojo vardas pavardė"]
[null,null,"Darbuotojo vardas pavardė"]
["5.5.8","Pareigybės pavadinimas","Darbuotojo vardas pavardė","val.",null,{"$f":"IFERROR(ROUND(AVERAGE(K135:K139),2),\"0\")","v":"0"},{"$f":"ROUND(E135*F135,2)","v":0},{"$f":"ROUND(G135*$D$7,2)","v":0}]
[null,null,"Darbuotojo vardas pavardė"]
[null,null,"Darbuotojo vardas pavardė"]
[null,null,"Darbuotojo vardas pavardė"]
[null,null,"Darbuotojo vardas pavardė"]
["5.5.9","Pareigybės pavadinimas","Darbuotojo vardas pavardė","val.",null,{"$f":"IFERROR(ROUND(AVERAGE(K140:K144),2),\"0\")","v":"0"},{"$f":"ROUND(E140*F140,2)","v":0},{"$f":"ROUND(G140*$D$7,2)","v":0}]
[null,null,"Darbuotojo vardas pavardė"]
[null,null,"Darbuotojo vardas pavardė"]
[null,null,"Darbuotojo vardas pavardė"]
[null,null,"Darbuotojo vardas pavardė"]
["5.5.10","Pareigybės pavadinimas","Darbuotojo vardas pavardė","val.",null,{"$f":"IFERROR(ROUND(AVERAGE(K145:K149),2),\"0\")","v":"0"},{"$f":"ROUND(E145*F145,2)","v":0},{"$f":"ROUND(G145*$D$7,2)","v":0}]
[null,null,"Darbuotojo vardas pavardė"]
[null,null,"Darbuotojo vardas pavardė"]
[null,null,"Darbuotojo vardas pavardė"]
[null,null,"Darbuotojo vardas pavardė"]
["5.6","Projektą vykdančio personalo komandiruočių išlaidos",null,null,null,null,{"$f":"SUM(G151,G158,G165,G172,G179,G186,G193,G200,G207,G214)","v":0},{"$f":"SUM(H151,H158,H165,H172,H179,H186,H193,H200,H207,H214)","v":0}]
["5.6.1","Komandiruotės pavadinimas, vieta, trukmė dienomis, vykstančių asmenų skaičius","Iš viso komandiruotei",null,null,null,{"$f":"SUM(G152:G157)","v":0},{"$f":"ROUND(G151*$D$7,2)","v":0}]
[null,null,"Dienpinigiai",null,null,null,{"$f":"ROUND(E152*F152,2)","v":0}]
[null,null,"Gyvenamojo ploto nuoma",null,null,null,0]
[null,null,"Kelionės išlaidos",null,null,null,0]
[null,null,"Dalyvavimo mokestis",null,null,null,0]
[null,null,"Kitos išlaidų pavadinimas",null,null,null,0]
[null,null,"Kitos išlaidų pavadinimas",null,null,null,0]
["5.6.2","Komandiruotės pavadinimas, vieta, trukmė dienomis, vykstančių asmenų skaičius","Iš viso komandiruotei",null,null,null,{"$f":"SUM(G159:G164)","v":0},{"$f":"ROUND(G158*$D$7,2)","v":0}]
[null,null,"Dienpinigiai",null,null,null,{"$f":"ROUND(E159*F159,2)","v":0}]
[null,null,"Gyvenamojo ploto nuoma",null,null,null,0]
[null,null,"Kelionės išlaidos",null,null,null,0]
[null,null,"Dalyvavimo mokestis",null,null,null,0]
[null,null,"Kitos išlaidų pavadinimas",null,null,null,0]
[null,null,"Kitos išlaidų pavadinimas",null,null,null,0]
["5.6.3","Komandiruotės pavadinimas, vieta, trukmė dienomis, vykstančių asmenų skaičius","Iš viso komandiruotei",null,null,null,{"$f":"SUM(G166:G171)","v":0},{"$f":"ROUND(G165*$D$7,2)","v":0}]
[null,null,"Dienpinigiai",null,null,null,{"$f":"ROUND(E166*F166,2)","v":0}]
[null,null,"Gyvenamojo ploto nuoma",null,null,null,0]
[null,null,"Kelionės išlaidos",null,null,null,0]
[null,null,"Dalyvavimo mokestis",null,null,null,0]
[null,null,"Kitos išlaidų pavadinimas",null,null,null,0]
[null,null,"Kitos išlaidų pavadinimas",null,null,null,0]
["5.6.4","Komandiruotės pavadinimas, vieta, trukmė dienomis, vykstančių asmenų skaičius","Iš viso komandiruotei",null,null,null,{"$f":"SUM(G173:G178)","v":0},{"$f":"ROUND(G172*$D$7,2)","v":0}]
[null,null,"Dienpinigiai",null,null,null,{"$f":"ROUND(E173*F173,2)","v":0}]
[null,null,"Gyvenamojo ploto nuoma",null,null,null,0]
[null,null,"Kelionės išlaidos",null,null,null,0]
[null,null,"Dalyvavimo mokestis",null,null,null,0]
[null,null,"Kitos išlaidų pavadinimas",null,null,null,0]
[null,null,"Kitos išlaidų pavadinimas",null,null,null,0]
["5.6.5","Komandiruotės pavadinimas, vieta, trukmė dienomis, vykstančių asmenų skaičius","Iš viso komandiruotei",null,null,null,{"$f":"SUM(G180:G185)","v":0},{"$f":"ROUND(G179*$D$7,2)","v":0}]
[null,null,"Dienpinigiai",null,null,null,{"$f":"ROUND(E180*F180,2)","v":0}]
[null,null,"Gyvenamojo ploto nuoma",null,null,null,0]
[null,null,"Kelionės išlaidos",null,null,null,0]
[null,null,"Dalyvavimo mokestis",null,null,null,0]
[null,null,"Kitos išlaidų pavadinimas",null,null,null,0]
[null,null,"Kitos išlaidų pavadinimas",null,null,null,0]
["5.6.6","Komandiruotės pavadinimas, vieta, trukmė dienomis, vykstančių asmenų skaičius","Iš viso komandiruotei",null,null,null,{"$f":"SUM(G187:G192)","v":0},{"$f":"ROUND(G186*$D$7,2)","v":0}]
[null,null,"Dienpinigiai",null,null,null,{"$f":"ROUND(E187*F187,2)","v":0}]
[null,null,"Gyvenamojo ploto nuoma",null,null,null,0]
[null,null,"Kelionės išlaidos",null,null,null,0]
[null,null,"Dalyvavimo mokestis",null,null,null,0]
[null,null,"Kitos išlaidų pavadinimas",null,null,null,0]
[null,null,"Kitos išlaidų pavadinimas",null,null,null,0]
["5.6.7","Komandiruotės pavadinimas, vieta, trukmė dienomis, vykstančių asmenų skaičius","Iš viso komandiruotei",null,null,null,{"$f":"SUM(G194:G199)","v":0},{"$f":"ROUND(G193*$D$7,2)","v":0}]
[null,null,"Dienpinigiai",null,null,null,{"$f":"ROUND(E194*F194,2)","v":0}]
[null,null,"Gyvenamojo ploto nuoma",null,null,null,0]
[null,null,"Kelionės išlaidos",null,null,null,0]
[null,null,"Dalyvavimo mokestis",null,null,null,0]
[null,null,"Kitos išlaidų pavadinimas",null,null,null,0]
[null,null,"Kitos išlaidų pavadinimas",null,null,null,0]
["5.6.8","Komandiruotės pavadinimas, vieta, trukmė dienomis, vykstančių asmenų skaičius","Iš viso komandiruotei",null,null,null,{"$f":"SUM(G201:G206)","v":0},{"$f":"ROUND(G200*$D$7,2)","v":0}]
[null,null,"Dienpinigiai",null,null,null,{"$f":"ROUND(E201*F201,2)","v":0}]
[null,null,"Gyvenamojo ploto nuoma",null,null,null,0]
[null,null,"Kelionės išlaidos",null,null,null,0]
[null,null,"Dalyvavimo mokestis",null,null,null,0]
[null,null,"Kitos išlaidų pavadinimas",null,null,null,0]
[null,null,"Kitos išlaidų pavadinimas",null,null,null,0]
["5.6.9","Komandiruotės pavadinimas, vieta, trukmė dienomis, vykstančių asmenų skaičius","Iš viso komandiruotei",null,null,null,{"$f":"SUM(G208:G213)","v":0},{"$f":"ROUND(G207*$D$7,2)","v":0}]
[null,null,"Dienpinigiai",null,null,null,{"$f":"ROUND(E208*F208,2)","v":0}]
[null,null,"Gyvenamojo ploto nuoma",null,null,null,0]
[null,null,"Kelionės išlaidos",null,null,null,0]
[null,null,"Dalyvavimo mokestis",null,null,null,0]
[null,null,"Kitos išlaidų pavadinimas",null,null,null,0]
[null,null,"Kitos išlaidų pavadinimas",null,null,null,0]
["5.6.10","Komandiruotės pavadinimas, vieta, trukmė dienomis, vykstančių asmenų skaičius","Iš viso komandiruotei",null,null,null,{"$f":"SUM(G215:G220)","v":0},{"$f":"ROUND(G214*$D$7,2)","v":0}]
[null,null,"Dienpinigiai",null,null,null,{"$f":"ROUND(E215*F215,2)","v":0}]
[null,null,"Gyvenamojo ploto nuoma",null,null,null,0]
[null,null,"Kelionės išlaidos",null,null,null,0]
[null,null,"Dalyvavimo mokestis",null,null,null,0]
[null,null,"Kitos išlaidų pavadinimas",null,null,null,0]
[null,null,"Kitos išlaidų pavadinimas",null,null,null,0]
["5.7","Įrangos nuomos išlaidos, veiklai priskirtos pro rata principu. Įranga turi būti tiesiogiai susijusi su projekto įgyvendinimu ir negali būti įsigyta iš ES struktūrinių fondų ar kt. ES finansinių priemonių lėšų",null,null,null,null,{"$f":"SUM(G222:G238)","v":0},{"$f":"SUM(H222:H238)","v":0},null,null,"Faktinės 1 mėnesio išlaidos, Eur","Naudojimo projekte trukmė, mėn."]
["5.7.1","Įrangos pavadinimas",null,"pro rata proc.",null,{"$f":"K222*L222","v":0},0,{"$f":"ROUND(G222*$D$7,2)","v":0}]
["5.7.2","Įrangos pavadinimas",null,"pro rata proc.",null,{"$f":"K223*L223","v":0},{"$f":"ROUND(E223*F223,2)","v":0},{"$f":"ROUND(G223*$D$7,2)","v":0}]
["5.7.3","Įrangos pavadinimas",null,"pro rata proc.",null,0,0,0]
["5.7.4","Įrangos pavadinimas",null,"pro rata proc.",null,0,0,0]
["5.7.5","Įrangos pavadinimas",null,"pro rata proc.",null,0,0,0]
["5.7.6","Įrangos pavadinimas",null,"pro rata proc.",null,0,0,0]
["5.7.7","Įrangos pavadinimas",null,"pro rata proc.",null,0,0,0]
["5.7.8","Įrangos pavadinimas",null,"pro rata proc.",null,0,0,0]
["5.7.9","Įrangos pavadinimas",null,"pro rata proc.",null,0,0,0]
["5.7.10","Įrangos pavadinimas",null,"pro rata proc.",null,0,0,0]
["5.7.11","Įrangos pavadinimas",null,"pro rata proc.",null,0,0,0]
["5.7.12","Įrangos pavadinimas",null,"pro rata proc.",null,0,0,0]
["5.7.13","Įrangos pavadinimas",null,"pro rata proc.",null,0,0,0]
["5.7.14","Įrangos pavadinimas",null,"pro rata proc.",null,{"$f":"K235*L235","v":0},0,{"$f":"ROUND(G235*$D$7,2)","v":0}]
["5.7.15","Įrangos pavadinimas",null,"pro rata proc.",null,0,0,0]
["5.7.16","Įrangos pavadinimas",null,"pro rata proc.",null,0,0,0]
["5.7.17","Įrangos pavadinimas",null,"pro rata proc.",null,0,0,0]
["5.8","Pastatų ar patalpų nuomos išlaidos, veiklai priskirtos pro rata principu. Pastatai ar patalpos turi būti tiesiogiai susijusi su projekto įgyvendinimu.",null,null,null,null,{"$f":"SUM(G240:G244)","v":0},{"$f":"SUM(H240:H244)","v":0},null,null,"Faktinės 1 mėnesio išlaidos, Eur","Naudojimo projekte trukmė, mėn."]
["5.8.1","Pastato, patalpų adresas",null,"pro rata proc.",null,{"$f":"K240*L240","v":0},{"$f":"ROUND(E240*F240,2)","v":0},{"$f":"ROUND(G240*$D$7,2)","v":0}]
["5.8.2","Pastato, patalpų adresas",null,"pro rata proc.",null,{"$f":"K241*L241","v":0},0,0]
["5.8.3","Pastato, patalpų adresas",null,"pro rata proc.",null,0,0,0]
["5.8.4","Pastato, patalpų adresas",null,"pro rata proc.",null,0,0,0]
["5.8.5","Pastato, patalpų adresas",null,"pro rata proc.",null,0,0,0]
["Iš viso tinkamų finansuoti išlaidų:",null,null,null,null,null,{"$f":"G10+G21","v":0},{"$f":"H10+H21","v":0}]

{"sheet":"9","index":10,"n_rows":245,"n_cols":19,"rows_kept":245,"cut":false,"hidden":false,"merged":[[109,0,113,0],[109,1,113,1],[109,3,113,3],[109,4,113,4],[109,5,113,5],[109,6,113,6],[109,7,113,7],[109,8,113,8],[129,0,133,0],[129,1,133,1],[129,3,133,3],[129,4,133,4],[129,5,133,5],[129,6,133,6],[129,7,133,7],[129,8,133,8],[114,0,118,0],[114,1,118,1],[114,3,118,3],[114,4,118,4],[114,5,118,5],[114,6,118,6],[114,7,118,7],[114,8,118,8],[99,0,103,0],[99,1,103,1],[99,3,103,3],[99,4,103,4],[99,5,103,5],[99,6,103,6],[99,7,103,7],[99,8,103,8],[104,0,108,0],[104,1,108,1],[104,3,108,3],[104,4,108,4],[104,5,108,5],[104,6,108,6],[104,7,108,7],[104,8,108,8],[44,1,44,2],[45,1,45,2],[58,1,58,2],[59,1,59,2],[46,1,46,2],[47,1,47,2],[85,1,85,2],[86,1,86,2],[87,1,87,2],[48,1,48,2],[49,1,49,2],[50,1,50,2],[51,1,51,2],[52,1,52,2],[53,1,53,2],[54,1,54,2],[55,1,55,2],[56,1,56,2],[57,1,57,2],[74,1,74,2],[75,1,75,2],[76,1,76,2],[77,1,77,2],[78,1,78,2],[0,3,0,8],[2,0,2,2],[2,3,2,8],[22,1,22,2],[14,1,14,2],[15,1,15,2],[16,1,16,2],[17,1,17,2],[18,1,18,2],[20,1,20,5],[10,1,10,2],[11,1,11,2],[12,1,12,2],[13,1,13,2],[3,3,3,4],[3,5,3,6],[4,0,4,2],[4,3,4,8],[8,1,8,2],[9,1,9,5],[19,1,19,2],[21,1,21,5],[134,8,138,8],[139,0,143,0],[139,1,143,1],[139,3,143,3],[139,4,143,4],[139,5,143,5],[134,0,138,0],[134,1,138,1],[134,3,138,3],[134,4,138,4],[134,5,138,5],[134,6,138,6],[134,7,138,7],[139,6,143,6],[139,7,143,7],[139,8,143,8],[31,1,31,2],[32,1,32,5],[42,1,42,2],[43,1,43,5],[23,1,23,2],[24,1,24,2],[25,1,25,2],[33,1,33,2],[34,1,34,2],[35,1,35,2],[36,1,36,2],[37,1,37,2],[26,1,26,2],[27,1,27,2],[28,1,28,2],[29,1,29,2],[30,1,30,2],[38,1,38,2],[39,1,39,2],[40,1,40,2],[41,1,41,2],[119,8,123,8],[124,0,128,0],[124,1,128,1],[124,3,128,3],[124,4,128,4],[124,5,128,5],[124,6,128,6],[124,7,128,7],[124,8,128,8],[119,0,123,0],[119,1,123,1],[119,3,123,3],[119,4,123,4],[119,5,123,5],[119,7,123,7],[119,6,123,6],[144,0,148,0],[144,1,148,1],[144,3,148,3],[144,4,148,4],[144,5,148,5],[144,6,148,6],[144,7,148,7],[144,8,148,8],[150,0,156,0],[150,1,156,1],[150,8,156,8],[149,1,149,5],[157,0,163,0],[157,1,163,1],[157,8,163,8],[164,0,170,0],[164,1,170,1],[164,8,170,8],[171,0,177,0],[171,1,177,1],[171,8,177,8],[178,0,184,0],[178,1,184,1],[178,8,184,8],[185,0,191,0],[185,1,191,1],[185,8,191,8],[213,8,219,8],[220,1,220,5],[221,1,221,2],[192,0,198,0],[192,1,198,1],[192,8,198,8],[199,0,205,0],[199,1,205,1],[199,8,205,8],[206,0,212,0],[206,1,212,1],[206,8,212,8],[238,1,238,5],[239,1,239,2],[240,1,240,2],[241,1,241,2],[242,1,242,2],[243,1,243,2],[244,0,244,5],[213,0,219,0],[213,1,219,1],[234,1,234,2],[235,1,235,2],[236,1,236,2],[237,1,237,2],[228,1,228,2],[229,1,229,2],[230,1,230,2],[231,1,231,2],[232,1,232,2],[233,1,233,2],[79,1,79,2],[80,1,80,2],[81,1,81,2],[60,1,60,2],[61,1,61,2],[68,1,68,2],[72,1,72,2],[73,1,73,2],[62,1,62,2],[63,1,63,2],[64,1,64,2],[65,1,65,2],[66,1,66,2],[67,1,67,2],[69,1,69,2],[70,1,70,2],[71,1,71,5],[82,1,82,2],[83,1,83,2],[84,1,84,2],[222,1,222,2],[223,1,223,2],[224,1,224,2],[225,1,225,2],[226,1,226,2],[227,1,227,2],[88,1,88,2],[89,1,89,2],[90,1,90,2],[91,1,91,2],[92,1,92,2],[93,1,93,2],[94,1,94,2],[95,1,95,2],[96,1,96,2],[97,1,97,2],[98,1,98,5]]}
[null,null,"Pasirinkite veiklos tipą:"]
[null,null,"Fizinio rodiklio Nr.:"]
["Fizinio rodiklio pavadinimas:"]
[null,null,"Fizinio rodiklio matavimo vnt.:",null,null,"Fizinio rodiklio vnt. skaičius:"]
["Juridinis asmuo (pareiškėjas, partneris), atsakingas už fizinį rodiklį:"]
[]
[null,null,"Finansavimo intensyvumas:",null,null,null,"Pasirinkite biudžeto išlaidų kategoriją:"]
[]
["Eil. Nr.","Išlaidų kategorijos pavadinimas",null,"Matavimo vnt.","Kiekis","Vieneto kaina be PVM, Eur","Tinkamų finansuoti išlaidų suma be PVM, Eur","Finansavimo suma, Eur","Išlaidų pagrindimo dokumentų pavadinimas, data ir Nr."]
[4,"ĮRANGA, ĮRENGINIAI IR KT. TURTAS (techninių žinių ir išradimų patentų arba teisių pagal licencijų sutartį įsigijimo išlaidos)",null,null,null,null,{"$f":"SUM(G11:G20)","v":0},{"$f":"SUM(H11:H20)","v":0}]
["4.1","Išlaidų pavadinimas",null,null,null,null,{"$f":"ROUND(E11*F11,2)","v":0},{"$f":"ROUND(G11*$D$7,2)","v":0}]
["4.2","Išlaidų pavadinimas",null,null,null,null,0,0]
["4.3","Išlaidų pavadinimas",null,null,null,null,0,0]
["4.4","Išlaidų pavadinimas",null,null,null,null,0,0]
["4.5","Išlaidų pavadinimas",null,null,null,null,0,0]
["4.6","Išlaidų pavadinimas",null,null,null,null,0,0]
["4.7","Išlaidų pavadinimas",null,null,null,null,0,0]
["4.8","Išlaidų pavadinimas",null,null,null,null,0,0]
["4.9","Išlaidų pavadinimas",null,null,null,null,0,0]
["4.10","Išlaidų pavadinimas",null,null,null,null,0,0]
[5,"PROJEKTO VYKDYMAS",null,null,null,null,{"$f":"G22+G33+G44+G72+G99+G150+G221+G239","v":0},{"$f":"H22+H33+H44+H72+H99+H150+H221+H239","v":0}]
["5.1","MTEP paslaugos",null,null,null,null,{"$f":"SUM(G23:G32)","v":0},{"$f":"SUM(H23:H32)","v":0}]
["5.1.1","Paslaugos pavadinimas",null,null,null,null,{"$f":"ROUND(E23*F23,2)","v":0},0]
["5.1.2","Paslaugos pavadinimas",null,null,null,null,0,0]
["5.1.3","Paslaugos pavadinimas",null,null,null,null,0,0]
["5.1.4","Paslaugos pavadinimas",null,null,null,null,0,0]
["5.1.5","Paslaugos pavadinimas",null,null,null,null,0,0]
["5.1.6","Paslaugos pavadinimas",null,null,null,null,0,0]
["5.1.7","Paslaugos pavadinimas",null,null,null,null,0,0]
["5.1.8","Paslaugos pavadinimas",null,null,null,null,0,0]
["5.1.9","Paslaugos pavadinimas",null,null,null,null,0,0]
["5.1.10","Paslaugos pavadinimas",null,null,null,null,0,0]
["5.2","Konsultavimo ir lygiavertės paslaugos, naudojamos vien tik projekto MTEP veiklai",null,null,null,null,{"$f":"SUM(G34:G43)","v":0},{"$f":"SUM(H34:H43)","v":0}]
["5.2.1","Paslaugos pavadinimas",null,null,null,null,{"$f":"ROUND(E34*F34,2)","v":0},0]
["5.2.2","Paslaugos pavadinimas",null,null,null,null,0,0]
["5.2.3","Paslaugos pavadinimas",null,null,null,null,0,0]
["5.2.4","Paslaugos pavadinimas",null,null,null,null,0,0]
["5.2.5","Paslaugos pavadinimas",null,null,null,null,0,0]
["5.2.6","Paslaugos pavadinimas",null,null,null,null,0,0]
["5.2.7","Paslaugos pavadinimas",null,null,null,null,0,0]
["5.2.8","Paslaugos pavadinimas",null,null,null,null,0,0]
["5.2.9","Paslaugos pavadinimas",null,null,null,null,0,0]
["5.2.10","Paslaugos pavadinimas",null,null,null,null,0,0]
["5.3","Medžiagos, mažavertis inventorius, atsargos ir pan. produktai, priskirtini trumpalaikiam turtui ir tiesiogiai susiję su MTEP veikla",null,null,null,null,{"$f":"SUM(G45:G71)","v":0},{"$f":"SUM(H45:H71)","v":0}]
["5.3.1","Išlaidų pavadinimas",null,null,null,null,{"$f":"ROUND(E45*F45,2)","v":0},{"$f":"ROUND(G45*$D$7,2)","v":0}]
["5.3.2","Išlaidų pavadinimas",null,null,null,null,0,0]
["5.3.3","Išlaidų pavadinimas",null,null,null,null,0,0]
["5.3.4","Išlaidų pavadinimas",null,null,null,null,0,0]
["5.3.5","Išlaidų pavadinimas",null,null,null,null,0,0]
["5.3.6","Išlaidų pavadinimas",null,null,null,null,0,0]
["5.3.7","Išlaidų pavadinimas",null,null,null,null,0,0]
["5.3.8","Išlaidų pavadinimas",null,null,null,null,0,0]
["5.3.9","Išlaidų pavadinimas",null,null,null,null,0,0]
["5.3.10","Išlaidų pavadinimas",null,null,null,null,0,0]
["5.3.11","Išlaidų pavadinimas",null,null,null,null,0,0]
["5.3.12","Išlaidų pavadinimas",null,null,null,null,0,0]
["5.3.13","Išlaidų pavadinimas",null,null,null,null,0,0]
["5.3.14","Išlaidų pavadinimas",null,null,null,null,0,0]
["5.3.15","Išlaidų pavadinimas",null,null,null,null,0,0]
["5.3.16","Išlaidų pavadinimas",null,null,null,null,0,0]
["5.3.17","Išlaidų pavadinimas",null,null,null,null,0,0]
["5.3.18","Išlaidų pavadinimas",null,null,null,null,0,0]
["5.3.19","Išlaidų pavadinimas",null,null,null,null,0,0]
["5.3.20","Išlaidų pavadinimas",null,null,null,null,0,0]
["5.3.21","Išlaidų pavadinimas",null,null,null,null,0,0]
["5.3.22","Išlaidų pavadinimas",null,null,null,null,0,0]
["5.3.23","Išlaidų pavadinimas",null,null,null,null,0,0]
["5.3.24","Išlaidų pavadinimas",null,null,null,null,0,0]
["5.3.25","Išlaidų pavadinimas",null,null,null,null,0,0]
["5.3.26","Išlaidų pavadinimas",null,null,null,null,0,0]
["5.3.27","Išlaidų pavadinimas",null,null,null,null,0,0]
["5.4","Projekto MTEP veikloms naudojamo ilgalaikio materialaus turto (įrangos, prietaisų, įrankių, įrenginių, mašinų ir įrengimų, pastatų ir (ar) patalpų), nusidėvėjimo sąnaudos, jeigu šiam turtui įsigyti nebuvo naudojamos viešosios (įskaitant ir kitų valstybių) lėšos",null,null,null,null,{"$f":"SUM(G73:G98)","v":0},{"$f":"SUM(H73:H98)","v":0},null,null,"Turto įvedimo į eksploataciją data","Turto įsigijimo vertė, Eur","Turto nudėvėjimo, amortizacijos laikotarpis, mėn.","Numatoma turto likutinė vertė, Eur","1 mėn. nudėvėjimo, amortizacijos suma, Eur","Turto naudojamo projekto reikmėms laikas, mėn.","Turto panaudojimo projekto reikmėms dalis (proc.)","Projektui priskirta turto nusidėvėjimo, amortizacijos suma per projekto laikotarpį, Eur"]
["5.4.1","Turtas, kurio nusidėvėjimą, amortizaciją prašoma finansuoti",null,null,1,{"$f":"R73","v":0},{"$f":"ROUND(E73*F73,2)","v":0},0,null,null,null,null,null,null,{"$f":"IFERROR(ROUND((L73-N73)/M73,2),\"0\")","v":"0"},null,null,{"$f":"O73*P73*Q73","v":0},{"$f":"IF(K73=0,\" \",IF(K73+(M73*30.5)<TODAY(),\"DĖMESIO! Patikrinkite, ar nurodytas turtas dar nėra nudėvėtas, amortizuotas\",\" \"))","v":" "}]
["5.4.2","Turtas, kurio nusidėvėjimą, amortizaciją prašoma finansuoti",null,null,1,{"$f":"R74","v":0},0,0,null,null,null,null,null,null,{"$f":"IFERROR(ROUND((L74-N74)/M74,2),\"0\")","v":"0"},null,null,{"$f":"O74*P74*Q74","v":0},{"$f":"IF(K74=0,\" \",IF(K74+(M74*30.5)<TODAY(),\"DĖMESIO! Patikrinkite, ar nurodytas turtas dar nėra nudėvėtas, amortizuotas\",\" \"))","v":" "}]
["5.4.3","Turtas, kurio nusidėvėjimą, amortizaciją prašoma finansuoti",null,null,1,{"$f":"R75","v":0},{"$f":"ROUND(E75*F75,2)","v":0},{"$f":"ROUND(G75*$D$7,2)","v":0},null,null,null,null,null,null,"0",null,null,0]
["5.4.4","Turtas, kurio nusidėvėjimą, amortizaciją prašoma finansuoti",null,null,1,0,0,0,null,null,null,null,null,null,"0",null,null,0]
["5.4.5","Turtas, kurio nusidėvėjimą, amortizaciją prašoma finansuoti",null,null,1,0,0,0,null,null,null,null,null,null,"0",null,null,0]
["5.4.6","Turtas, kurio nusidėvėjimą, amortizaciją prašoma finansuoti",null,null,1,0,0,0,null,null,null,null,null,null,"0",null,null,0]
["5.4.7","Turtas, kurio nusidėvėjimą, amortizaciją prašoma finansuoti",null,null,1,0,0,0,null,null,null,null,null,null,"0",null,null,0]
["5.4.8","Turtas, kurio nusidėvėjimą, amortizaciją prašoma finansuoti",null,null,1,0,0,0,null,null,null,null,null,null,"0",null,null,0]
["5.4.9","Turtas, kurio nusidėvėjimą, amortizaciją prašoma finansuoti",null,null,1,0,0,0,null,null,null,null,null,null,"0",null,null,0]
["5.4.10","Turtas, kurio nusidėvėjimą, amortizaciją prašoma finansuoti",null,null,1,0,0,0,null,null,null,null,null,null,"0",null,null,0]
["5.4.11","Turtas, kurio nusidėvėjimą, amortizaciją prašoma finansuoti",null,null,1,0,0,0,null,null,null,null,null,null,"0",null,null,0]
["5.4.12","Turtas, kurio nusidėvėjimą, amortizaciją prašoma finansuoti",null,null,1,0,0,0,null,null,null,null,null,null,"0",null,null,0]
["5.4.13","Turtas, kurio nusidėvėjimą, amortizaciją prašoma finansuoti",null,null,1,0,0,0,null,null,null,null,null,null,"0",null,null,0]
["5.4.14","Turtas, kurio nusidėvėjimą, amortizaciją prašoma finansuoti",null,null,1,0,0,0,null,null,null,null,null,null,"0",null,null,0," "]
["5.4.15","Turtas, kurio nusidėvėjimą, amortizaciją prašoma finansuoti",null,null,1,0,0,0,null,null,null,null,null,null,"0",null,null,0," "]
["5.4.16","Turtas, kurio nusidėvėjimą, amortizaciją prašoma finansuoti",null,null,1,0,0,0,null,null,null,null,null,null,"0",null,null,0," "]
["5.4.17","Turtas, kurio nusidėvėjimą, amortizaciją prašoma finansuoti",null,null,1,0,0,0,null,null,null,null,null,null,"0",null,null,0," "]
["5.4.18","Turtas, kurio nusidėvėjimą, amortizaciją prašoma finansuoti",null,null,1,0,0,0,null,null,null,null,null,null,"0",null,null,0," "]
["5.4.19","Turtas, kurio nusidėvėjimą, amortizaciją prašoma finansuoti",null,null,1,0,0,0,null,null,null,null,null,null,"0",null,null,0," "]
["5.4.20","Turtas, kurio nusidėvėjimą, amortizaciją prašoma finansuoti",null,null,1,0,0,0,null,null,null,null,null,null,"0",null,null,0," "]
["5.4.21","Turtas, kurio nusidėvėjimą, amortizaciją prašoma finansuoti",null,null,1,0,0,0,null,null,null,null,null,null,"0",null,null,0," "]
["5.4.22","Turtas, kurio nusidėvėjimą, amortizaciją prašoma finansuoti",null,null,1,0,0,0,null,null,null,null,null,null,"0",null,null,0," "]
["5.4.23","Turtas, kurio nusidėvėjimą, amortizaciją prašoma finansuoti",null,null,1,0,0,0,null,null,null,null,null,null,"0",null,null,0," "]
["5.4.24","Turtas, kurio nusidėvėjimą, amortizaciją prašoma finansuoti",null,null,1,0,0,0,null,null,null,null,null,null,"0",null,null,0," "]
["5.4.25","Turtas, kurio nusidėvėjimą, amortizaciją prašoma finansuoti",null,null,1,0,0,0,null,null,null,null,null,null,"0",null,null,0," "]
["5.4.26","Turtas, kurio nusidėvėjimą, amortizaciją prašoma finansuoti",null,null,1,0,0,0,null,null,null,null,null,null,"0",null,null,0," "]
["5.5","Projektą vykdančio personalo darbo užmokestis ir išlaidos su darbo santykiais susijusiems darbdavio įsipareigojimams",null,null,null,null,{"$f":"SUM(G100:G149)","v":0},{"$f":"SUM(H100:H149)","v":0},null,null,"Faktiškai gaunamas darbo užmokesti už 1 valandą pagal  pastarųjų 6 mėn. vidurkį, Eur"]
["5.5.1","Pareigybės pavadinimas","Darbuotojo vardas pavardė","val.",null,{"$f":"IFERROR(ROUND(AVERAGE(K100:K104),2),\"0\")","v":"0"},{"$f":"ROUND(E100*F100,2)","v":0},{"$f":"ROUND(G100*$D$7,2)","v":0}]
[null,null,"Darbuotojo vardas pavardė"]
[null,null,"Darbuotojo vardas pavardė"]
[null,null,"Darbuotojo vardas pavardė"]
[null,null,"Darbuotojo vardas pavardė"]
["5.5.2","Pareigybės pavadinimas","Darbuotojo vardas pavardė","val.",null,{"$f":"IFERROR(ROUND(AVERAGE(K105:K109),2),\"0\")","v":"0"},{"$f":"ROUND(E105*F105,2)","v":0},{"$f":"ROUND(G105*$D$7,2)","v":0}]
[null,null,"Darbuotojo vardas pavardė"]
[null,null,"Darbuotojo vardas pavardė"]
[null,null,"Darbuotojo vardas pavardė"]
[null,null,"Darbuotojo vardas pavardė"]
["5.5.3","Pareigybės pavadinimas","Darbuotojo vardas pavardė","val.",null,{"$f":"IFERROR(ROUND(AVERAGE(K110:K114),2),\"0\")","v":"0"},{"$f":"ROUND(E110*F110,2)","v":0},{"$f":"ROUND(G110*$D$7,2)","v":0}]
[null,null,"Darbuotojo vardas pavardė"]
[null,null,"Darbuotojo vardas pavardė"]
[null,null,"Darbuotojo vardas pavardė"]
[null,null,"Darbuotojo vardas pavardė"]
["5.5.4","Pareigybės pavadinimas","Darbuotojo vardas pavardė","val.",null,{"$f":"IFERROR(ROUND(AVERAGE(K115:K119),2),\"0\")","v":"0"},{"$f":"ROUND(E115*F115,2)","v":0},{"$f":"ROUND(G115*$D$7,2)","v":0}]
[null,null,"Darbuotojo vardas pavardė"]
[null,null,"Darbuotojo vardas pavardė"]
[null,null,"Darbuotojo vardas pavardė"]
[null,null,"Darbuotojo vardas pavardė"]
["5.5.5","Pareigybės pavadinimas","Darbuotojo vardas pavardė","val.",null,{"$f":"IFERROR(ROUND(AVERAGE(K120:K124),2),\"0\")","v":"0"},{"$f":"ROUND(E120*F120,2)","v":0},{"$f":"ROUND(G120*$D$7,2)","v":0}]
[null,null,"Darbuotojo vardas pavardė"]
[null,null,"Darbuotojo vardas pavardė"]
[null,null,"Darbuotojo vardas pavardė"]
[null,null,"Darbuotojo vardas pavardė"]
["5.5.6","Pareigybės pavadinimas","Darbuotojo vardas pavardė","val.",null,{"$f":"IFERROR(ROUND(AVERAGE(K125:K129),2),\"0\")","v":"0"},{"$f":"ROUND(E125*F125,2)","v":0},{"$f":"ROUND(G125*$D$7,2)","v":0}]
[null,null,"Darbuotojo vardas pavardė"]
[null,null,"Darbuotojo vardas pavardė"]
[null,null,"Darbuotojo vardas pavardė"]
[null,null,"Darbuotojo vardas pavardė"]
["5.5.7","Pareigybės pavadinimas","Darbuotojo vardas pavardė","val.",null,{"$f":"IFERROR(ROUND(AVERAGE(K130:K134),2),\"0\")","v":"0"},{"$f":"ROUND(E130*F130,2)","v":0},{"$f":"ROUND(G130*$D$7,2)","v":0}]
[null,null,"Darbuotojo vardas pavardė"]
[null,null,"Darbuotojo vardas pavardė"]
[null,null,"Darbuotojo vardas pavardė"]
[null,null,"Darbuotojo vardas pavardė"]
["5.5.8","Pareigybės pavadinimas","Darbuotojo vardas pavardė","val.",null,{"$f":"IFERROR(ROUND(AVERAGE(K135:K139),2),\"0\")","v":"0"},{"$f":"ROUND(E135*F135,2)","v":0},{"$f":"ROUND(G135*$D$7,2)","v":0}]
[null,null,"Darbuotojo vardas pavardė"]
[null,null,"Darbuotojo vardas pavardė"]
[null,null,"Darbuotojo vardas pavardė"]
[null,null,"Darbuotojo vardas pavardė"]
["5.5.9","Pareigybės pavadinimas","Darbuotojo vardas pavardė","val.",null,{"$f":"IFERROR(ROUND(AVERAGE(K140:K144),2),\"0\")","v":"0"},{"$f":"ROUND(E140*F140,2)","v":0},{"$f":"ROUND(G140*$D$7,2)","v":0}]
[null,null,"Darbuotojo vardas pavardė"]
[null,null,"Darbuotojo vardas pavardė"]
[null,null,"Darbuotojo vardas pavardė"]
[null,null,"Darbuotojo vardas pavardė"]
["5.5.10","Pareigybės pavadinimas","Darbuotojo vardas pavardė","val.",null,{"$f":"IFERROR(ROUND(AVERAGE(K145:K149),2),\"0\")","v":"0"},{"$f":"ROUND(E145*F145,2)","v":0},{"$f":"ROUND(G145*$D$7,2)","v":0}]
[null,null,"Darbuotojo vardas pavardė"]
[null,null,"Darbuotojo vardas pavardė"]
[null,null,"Darbuotojo vardas pavardė"]
[null,null,"Darbuotojo vardas pavardė"]
["5.6","Projektą vykdančio personalo komandiruočių išlaidos",null,null,null,null,{"$f":"SUM(G151,G158,G165,G172,G179,G186,G193,G200,G207,G214)","v":0},{"$f":"SUM(H151,H158,H165,H172,H179,H186,H193,H200,H207,H214)","v":0}]
["5.6.1","Komandiruotės pavadinimas, vieta, trukmė dienomis, vykstančių asmenų skaičius","Iš viso komandiruotei",null,null,null,{"$f":"SUM(G152:G157)","v":0},{"$f":"ROUND(G151*$D$7,2)","v":0}]
[null,null,"Dienpinigiai",null,null,null,{"$f":"ROUND(E152*F152,2)","v":0}]
[null,null,"Gyvenamojo ploto nuoma",null,null,null,0]
[null,null,"Kelionės išlaidos",null,null,null,0]
[null,null,"Dalyvavimo mokestis",null,null,null,0]
[null,null,"Kitos išlaidų pavadinimas",null,null,null,0]
[null,null,"Kitos išlaidų pavadinimas",null,null,null,0]
["5.6.2","Komandiruotės pavadinimas, vieta, trukmė dienomis, vykstančių asmenų skaičius","Iš viso komandiruotei",null,null,null,{"$f":"SUM(G159:G164)","v":0},{"$f":"ROUND(G158*$D$7,2)","v":0}]
[null,null,"Dienpinigiai",null,null,null,{"$f":"ROUND(E159*F159,2)","v":0}]
[null,null,"Gyvenamojo ploto nuoma",null,null,null,0]
[null,null,"Kelionės išlaidos",null,null,null,0]
[null,null,"Dalyvavimo mokestis",null,null,null,0]
[null,null,"Kitos išlaidų pavadinimas",null,null,null,0]
[null,null,"Kitos išlaidų pavadinimas",null,null,null,0]
["5.6.3","Komandiruotės pavadinimas, vieta, trukmė dienomis, vykstančių asmenų skaičius","Iš viso komandiruotei",null,null,null,{"$f":"SUM(G166:G171)","v":0},{"$f":"ROUND(G165*$D$7,2)","v":0}]
[null,null,"Dienpinigiai",null,null,null,{"$f":"ROUND(E166*F166,2)","v":0}]
[null,null,"Gyvenamojo ploto nuoma",null,null,null,0]
[null,null,"Kelionės išlaidos",null,null,null,0]
[null,null,"Dalyvavimo mokestis",null,null,null,0]
[null,null,"Kitos išlaidų pavadinimas",null,null,null,0]
[null,null,"Kitos išlaidų pavadinimas",null,null,null,0]
["5.6.4","Komandiruotės pavadinimas, vieta, trukmė dienomis, vykstančių asmenų skaičius","Iš viso komandiruotei",null,null,null,{"$f":"SUM(G173:G178)","v":0},{"$f":"ROUND(G172*$D$7,2)","v":0}]
[null,null,"Dienpinigiai",null,null,null,{"$f":"ROUND(E173*F173,2)","v":0}]
[null,null,"Gyvenamojo ploto nuoma",null,null,null,0]
[null,null,"Kelionės išlaidos",null,null,null,0]
[null,null,"Dalyvavimo mokestis",null,null,null,0]
[null,null,"Kitos išlaidų pavadinimas",null,null,null,0]
[null,null,"Kitos išlaidų pavadinimas",null,null,null,0]
["5.6.5","Komandiruotės pavadinimas, vieta, trukmė dienomis, vykstančių asmenų skaičius","Iš viso komandiruotei",null,null,null,{"$f":"SUM(G180:G185)","v":0},{"$f":"ROUND(G179*$D$7,2)","v":0}]
[null,null,"Dienpinigiai",null,null,null,{"$f":"ROUND(E180*F180,2)","v":0}]
[null,null,"Gyvenamojo ploto nuoma",null,null,null,0]
[null,null,"Kelionės išlaidos",null,null,null,0]
[null,null,"Dalyvavimo mokestis",null,null,null,0]
[null,null,"Kitos išlaidų pavadinimas",null,null,null,0]
[null,null,"Kitos išlaidų pavadinimas",null,null,null,0]
["5.6.6","Komandiruotės pavadinimas, vieta, trukmė dienomis, vykstančių asmenų skaičius","Iš viso komandiruotei",null,null,null,{"$f":"SUM(G187:G192)","v":0},{"$f":"ROUND(G186*$D$7,2)","v":0}]
[null,null,"Dienpinigiai",null,null,null,{"$f":"ROUND(E187*F187,2)","v":0}]
[null,null,"Gyvenamojo ploto nuoma",null,null,null,0]
[null,null,"Kelionės išlaidos",null,null,null,0]
[null,null,"Dalyvavimo mokestis",null,null,null,0]
[null,null,"Kitos išlaidų pavadinimas",null,null,null,0]
[null,null,"Kitos išlaidų pavadinimas",null,null,null,0]
["5.6.7","Komandiruotės pavadinimas, vieta, trukmė dienomis, vykstančių asmenų skaičius","Iš viso komandiruotei",null,null,null,{"$f":"SUM(G194:G199)","v":0},{"$f":"ROUND(G193*$D$7,2)","v":0}]
[null,null,"Dienpinigiai",null,null,null,{"$f":"ROUND(E194*F194,2)","v":0}]
[null,null,"Gyvenamojo ploto nuoma",null,null,null,0]
[null,null,"Kelionės išlaidos",null,null,null,0]
[null,null,"Dalyvavimo mokestis",null,null,null,0]
[null,null,"Kitos išlaidų pavadinimas",null,null,null,0]
[null,null,"Kitos išlaidų pavadinimas",null,null,null,0]
["5.6.8","Komandiruotės pavadinimas, vieta, trukmė dienomis, vykstančių asmenų skaičius","Iš viso komandiruotei",null,null,null,{"$f":"SUM(G201:G206)","v":0},{"$f":"ROUND(G200*$D$7,2)","v":0}]
[null,null,"Dienpinigiai",null,null,null,{"$f":"ROUND(E201*F201,2)","v":0}]
[null,null,"Gyvenamojo ploto nuoma",null,null,null,0]
[null,null,"Kelionės išlaidos",null,null,null,0]
[null,null,"Dalyvavimo mokestis",null,null,null,0]
[null,null,"Kitos išlaidų pavadinimas",null,null,null,0]
[null,null,"Kitos išlaidų pavadinimas",null,null,null,0]
["5.6.9","Komandiruotės pavadinimas, vieta, trukmė dienomis, vykstančių asmenų skaičius","Iš viso komandiruotei",null,null,null,{"$f":"SUM(G208:G213)","v":0},{"$f":"ROUND(G207*$D$7,2)","v":0}]
[null,null,"Dienpinigiai",null,null,null,{"$f":"ROUND(E208*F208,2)","v":0}]
[null,null,"Gyvenamojo ploto nuoma",null,null,null,0]
[null,null,"Kelionės išlaidos",null,null,null,0]
[null,null,"Dalyvavimo mokestis",null,null,null,0]
[null,null,"Kitos išlaidų pavadinimas",null,null,null,0]
[null,null,"Kitos išlaidų pavadinimas",null,null,null,0]
["5.6.10","Komandiruotės pavadinimas, vieta, trukmė dienomis, vykstančių asmenų skaičius","Iš viso komandiruotei",null,null,null,{"$f":"SUM(G215:G220)","v":0},{"$f":"ROUND(G214*$D$7,2)","v":0}]
[null,null,"Dienpinigiai",null,null,null,{"$f":"ROUND(E215*F215,2)","v":0}]
[null,null,"Gyvenamojo ploto nuoma",null,null,null,0]
[null,null,"Kelionės išlaidos",null,null,null,0]
[null,null,"Dalyvavimo mokestis",null,null,null,0]
[null,null,"Kitos išlaidų pavadinimas",null,null,null,0]
[null,null,"Kitos išlaidų pavadinimas",null,null,null,0]
["5.7","Įrangos nuomos išlaidos, veiklai priskirtos pro rata principu. Įranga turi būti tiesiogiai susijusi su projekto įgyvendinimu ir negali būti įsigyta iš ES struktūrinių fondų ar kt. ES finansinių priemonių lėšų",null,null,null,null,{"$f":"SUM(G222:G238)","v":0},{"$f":"SUM(H222:H238)","v":0},null,null,"Faktinės 1 mėnesio išlaidos, Eur","Naudojimo projekte trukmė, mėn."]
["5.7.1","Įrangos pavadinimas",null,"pro rata proc.",null,{"$f":"K222*L222","v":0},0,{"$f":"ROUND(G222*$D$7,2)","v":0}]
["5.7.2","Įrangos pavadinimas",null,"pro rata proc.",null,{"$f":"K223*L223","v":0},{"$f":"ROUND(E223*F223,2)","v":0},{"$f":"ROUND(G223*$D$7,2)","v":0}]
["5.7.3","Įrangos pavadinimas",null,"pro rata proc.",null,0,0,0]
["5.7.4","Įrangos pavadinimas",null,"pro rata proc.",null,0,0,0]
["5.7.5","Įrangos pavadinimas",null,"pro rata proc.",null,0,0,0]
["5.7.6","Įrangos pavadinimas",null,"pro rata proc.",null,0,0,0]
["5.7.7","Įrangos pavadinimas",null,"pro rata proc.",null,0,0,0]
["5.7.8","Įrangos pavadinimas",null,"pro rata proc.",null,0,0,0]
["5.7.9","Įrangos pavadinimas",null,"pro rata proc.",null,0,0,0]
["5.7.10","Įrangos pavadinimas",null,"pro rata proc.",null,0,0,0]
["5.7.11","Įrangos pavadinimas",null,"pro rata proc.",null,0,0,0]
["5.7.12","Įrangos pavadinimas",null,"pro rata proc.",null,0,0,0]
["5.7.13","Įrangos pavadinimas",null,"pro rata proc.",null,0,0,0]
["5.7.14","Įrangos pavadinimas",null,"pro rata proc.",null,{"$f":"K235*L235","v":0},0,{"$f":"ROUND(G235*$D$7,2)","v":0}]
["5.7.15","Įrangos pavadinimas",null,"pro rata proc.",null,0,0,0]
["5.7.16","Įrangos pavadinimas",null,"pro rata proc.",null,0,0,0]
["5.7.17","Įrangos pavadinimas",null,"pro rata proc.",null,0,0,0]
["5.8","Pastatų ar patalpų nuomos išlaidos, veiklai priskirtos pro rata principu. Pastatai ar patalpos turi būti tiesiogiai susijusi su projekto įgyvendinimu.",null,null,null,null,{"$f":"SUM(G240:G244)","v":0},{"$f":"SUM(H240:H244)","v":0},null,null,"Faktinės 1 mėnesio išlaidos, Eur","Naudojimo projekte trukmė, mėn."]
["5.8.1","Pastato, patalpų adresas",null,"pro rata proc.",null,{"$f":"K240*L240","v":0},{"$f":"ROUND(E240*F240,2)","v":0},{"$f":"ROUND(G240*$D$7,2)","v":0}]
["5.8.2","Pastato, patalpų adresas",null,"pro rata proc.",null,{"$f":"K241*L241","v":0},0,0]
["5.8.3","Pastato, patalpų adresas",null,"pro rata proc.",null,0,0,0]
["5.8.4","Pastato, patalpų adresas",null,"pro rata proc.",null,0,0,0]
["5.8.5","Pastato, patalpų adresas",null,"pro rata proc.",null,0,0,0]
["Iš viso tinkamų finansuoti išlaidų:",null,null,null,null,null,{"$f":"G10+G21","v":0},{"$f":"H10+H21","v":0}]

{"sheet":"10","index":11,"n_rows":245,"n_cols":19,"rows_kept":245,"cut":false,"hidden":false,"merged":[[109,0,113,0],[109,1,113,1],[109,3,113,3],[109,4,113,4],[109,5,113,5],[109,6,113,6],[109,7,113,7],[109,8,113,8],[129,0,133,0],[129,1,133,1],[129,3,133,3],[129,4,133,4],[129,5,133,5],[129,6,133,6],[129,7,133,7],[129,8,133,8],[114,0,118,0],[114,1,118,1],[114,3,118,3],[114,4,118,4],[114,5,118,5],[114,6,118,6],[114,7,118,7],[114,8,118,8],[99,0,103,0],[99,1,103,1],[99,3,103,3],[99,4,103,4],[99,5,103,5],[99,6,103,6],[99,7,103,7],[99,8,103,8],[104,0,108,0],[104,1,108,1],[104,3,108,3],[104,4,108,4],[104,5,108,5],[104,6,108,6],[104,7,108,7],[104,8,108,8],[59,1,59,2],[60,1,60,2],[38,1,38,2],[39,1,39,2],[40,1,40,2],[41,1,41,2],[67,1,67,2],[71,1,71,2],[72,1,72,2],[61,1,61,2],[62,1,62,2],[63,1,63,2],[64,1,64,2],[65,1,65,2],[66,1,66,2],[68,1,68,2],[69,1,69,2],[70,1,70,5],[44,1,44,2],[45,1,45,2],[57,1,57,2],[58,1,58,2],[46,1,46,2],[47,1,47,2],[0,3,0,8],[2,0,2,2],[2,3,2,8],[22,1,22,2],[14,1,14,2],[15,1,15,2],[16,1,16,2],[17,1,17,2],[18,1,18,2],[20,1,20,5],[10,1,10,2],[11,1,11,2],[12,1,12,2],[13,1,13,2],[3,3,3,4],[3,5,3,6],[4,0,4,2],[4,3,4,8],[8,1,8,2],[9,1,9,5],[19,1,19,2],[21,1,21,5],[134,8,138,8],[139,0,143,0],[139,1,143,1],[139,3,143,3],[139,4,143,4],[139,5,143,5],[134,0,138,0],[134,1,138,1],[134,3,138,3],[134,4,138,4],[134,5,138,5],[134,6,138,6],[134,7,138,7],[139,6,143,6],[139,7,143,7],[139,8,143,8],[31,1,31,2],[32,1,32,5],[42,1,42,2],[43,1,43,5],[23,1,23,2],[24,1,24,2],[25,1,25,2],[33,1,33,2],[34,1,34,2],[35,1,35,2],[36,1,36,2],[37,1,37,2],[26,1,26,2],[27,1,27,2],[28,1,28,2],[29,1,29,2],[30,1,30,2],[119,8,123,8],[124,0,128,0],[124,1,128,1],[124,3,128,3],[124,4,128,4],[124,5,128,5],[124,6,128,6],[124,7,128,7],[124,8,128,8],[119,0,123,0],[119,1,123,1],[119,3,123,3],[119,4,123,4],[119,5,123,5],[119,7,123,7],[119,6,123,6],[144,0,148,0],[144,1,148,1],[144,3,148,3],[144,4,148,4],[144,5,148,5],[144,6,148,6],[144,7,148,7],[144,8,148,8],[150,0,156,0],[150,1,156,1],[150,8,156,8],[149,1,149,5],[157,0,163,0],[157,1,163,1],[157,8,163,8],[164,0,170,0],[164,1,170,1],[164,8,170,8],[171,0,177,0],[171,1,177,1],[171,8,177,8],[178,0,184,0],[178,1,184,1],[178,8,184,8],[185,0,191,0],[185,1,191,1],[185,8,191,8],[213,8,219,8],[220,1,220,5],[221,1,221,2],[192,0,198,0],[192,1,198,1],[192,8,198,8],[199,0,205,0],[199,1,205,1],[199,8,205,8],[206,0,212,0],[206,1,212,1],[206,8,212,8],[238,1,238,5],[239,1,239,2],[240,1,240,2],[241,1,241,2],[242,1,242,2],[243,1,243,2],[244,0,244,5],[213,0,219,0],[213,1,219,1],[234,1,234,2],[235,1,235,2],[236,1,236,2],[237,1,237,2],[228,1,228,2],[229,1,229,2],[230,1,230,2],[231,1,231,2],[232,1,232,2],[233,1,233,2],[48,1,48,2],[49,1,49,2],[50,1,50,2],[51,1,51,2],[52,1,52,2],[53,1,53,2],[54,1,54,2],[55,1,55,2],[56,1,56,2],[73,1,73,2],[74,1,74,2],[75,1,75,2],[76,1,76,2],[77,1,77,2],[78,1,78,2],[79,1,79,2],[80,1,80,2],[81,1,81,2],[82,1,82,2],[83,1,83,2],[84,1,84,2],[222,1,222,2],[223,1,223,2],[224,1,224,2],[225,1,225,2],[226,1,226,2],[227,1,227,2],[85,1,85,2],[86,1,86,2],[87,1,87,2],[88,1,88,2],[89,1,89,2],[90,1,90,2],[91,1,91,2],[92,1,92,2],[93,1,93,2],[94,1,94,2],[95,1,95,2],[96,1,96,2],[97,1,97,2],[98,1,98,5]]}
[null,null,"Pasirinkite veiklos tipą:"]
[null,null,"Fizinio rodiklio Nr.:"]
["Fizinio rodiklio pavadinimas:"]
[null,null,"Fizinio rodiklio matavimo vnt.:",null,null,"Fizinio rodiklio vnt. skaičius:"]
["Juridinis asmuo (pareiškėjas, partneris), atsakingas už fizinį rodiklį:"]
[]
[null,null,"Finansavimo intensyvumas:",null,null,null,"Pasirinkite biudžeto išlaidų kategoriją:"]
[]
["Eil. Nr.","Išlaidų kategorijos pavadinimas",null,"Matavimo vnt.","Kiekis","Vieneto kaina be PVM, Eur","Tinkamų finansuoti išlaidų suma be PVM, Eur","Finansavimo suma, Eur","Išlaidų pagrindimo dokumentų pavadinimas, data ir Nr."]
[4,"ĮRANGA, ĮRENGINIAI IR KT. TURTAS (techninių žinių ir išradimų patentų arba teisių pagal licencijų sutartį įsigijimo išlaidos)",null,null,null,null,{"$f":"SUM(G11:G20)","v":0},{"$f":"SUM(H11:H20)","v":0}]
["4.1","Išlaidų pavadinimas",null,null,null,null,{"$f":"ROUND(E11*F11,2)","v":0},{"$f":"ROUND(G11*$D$7,2)","v":0}]
["4.2","Išlaidų pavadinimas",null,null,null,null,0,0]
["4.3","Išlaidų pavadinimas",null,null,null,null,0,0]
["4.4","Išlaidų pavadinimas",null,null,null,null,0,0]
["4.5","Išlaidų pavadinimas",null,null,null,null,0,0]
["4.6","Išlaidų pavadinimas",null,null,null,null,0,0]
["4.7","Išlaidų pavadinimas",null,null,null,null,0,0]
["4.8","Išlaidų pavadinimas",null,null,null,null,0,0]
["4.9","Išlaidų pavadinimas",null,null,null,null,0,0]
["4.10","Išlaidų pavadinimas",null,null,null,null,0,0]
[5,"PROJEKTO VYKDYMAS",null,null,null,null,{"$f":"G22+G33+G44+G71+G99+G150+G221+G239","v":0},{"$f":"H22+H33+H44+H71+H99+H150+H221+H239","v":0}]
["5.1","MTEP paslaugos",null,null,null,null,{"$f":"SUM(G23:G32)","v":0},{"$f":"SUM(H23:H32)","v":0}]
["5.1.1","Paslaugos pavadinimas",null,null,null,null,{"$f":"ROUND(E23*F23,2)","v":0},0]
["5.1.2","Paslaugos pavadinimas",null,null,null,null,0,0]
["5.1.3","Paslaugos pavadinimas",null,null,null,null,0,0]
["5.1.4","Paslaugos pavadinimas",null,null,null,null,0,0]
["5.1.5","Paslaugos pavadinimas",null,null,null,null,0,0]
["5.1.6","Paslaugos pavadinimas",null,null,null,null,0,0]
["5.1.7","Paslaugos pavadinimas",null,null,null,null,0,0]
["5.1.8","Paslaugos pavadinimas",null,null,null,null,0,0]
["5.1.9","Paslaugos pavadinimas",null,null,null,null,0,0]
["5.1.10","Paslaugos pavadinimas",null,null,null,null,0,0]
["5.2","Konsultavimo ir lygiavertės paslaugos, naudojamos vien tik projekto MTEP veiklai",null,null,null,null,{"$f":"SUM(G34:G43)","v":0},{"$f":"SUM(H34:H43)","v":0}]
["5.2.1","Paslaugos pavadinimas",null,null,null,null,{"$f":"ROUND(E34*F34,2)","v":0},0]
["5.2.2","Paslaugos pavadinimas",null,null,null,null,0,0]
["5.2.3","Paslaugos pavadinimas",null,null,null,null,0,0]
["5.2.4","Paslaugos pavadinimas",null,null,null,null,0,0]
["5.2.5","Paslaugos pavadinimas",null,null,null,null,0,0]
["5.2.6","Paslaugos pavadinimas",null,null,null,null,0,0]
["5.2.7","Paslaugos pavadinimas",null,null,null,null,0,0]
["5.2.8","Paslaugos pavadinimas",null,null,null,null,0,0]
["5.2.9","Paslaugos pavadinimas",null,null,null,null,0,0]
["5.2.10","Paslaugos pavadinimas",null,null,null,null,0,0]
["5.3","Medžiagos, mažavertis inventorius, atsargos ir pan. produktai, priskirtini trumpalaikiam turtui ir tiesiogiai susiję su MTEP veikla",null,null,null,null,{"$f":"SUM(G45:G70)","v":0},{"$f":"SUM(H45:H70)","v":0}]
["5.3.1","Išlaidų pavadinimas",null,null,null,null,{"$f":"ROUND(E45*F45,2)","v":0},{"$f":"ROUND(G45*$D$7,2)","v":0}]
["5.3.2","Išlaidų pavadinimas",null,null,null,null,0,0]
["5.3.3","Išlaidų pavadinimas",null,null,null,null,{"$f":"ROUND(E47*F47,2)","v":0},{"$f":"ROUND(G47*$D$7,2)","v":0}]
["5.3.4","Išlaidų pavadinimas",null,null,null,null,0,0]
["5.3.5","Išlaidų pavadinimas",null,null,null,null,0,0]
["5.3.6","Išlaidų pavadinimas",null,null,null,null,0,0]
["5.3.7","Išlaidų pavadinimas",null,null,null,null,0,0]
["5.3.8","Išlaidų pavadinimas",null,null,null,null,0,0]
["5.3.9","Išlaidų pavadinimas",null,null,null,null,0,0]
["5.3.10","Išlaidų pavadinimas",null,null,null,null,0,0]
["5.3.11","Išlaidų pavadinimas",null,null,null,null,0,0]
["5.3.12","Išlaidų pavadinimas",null,null,null,null,0,0]
["5.3.13","Išlaidų pavadinimas",null,null,null,null,0,0]
["5.3.14","Išlaidų pavadinimas",null,null,null,null,0,0]
["5.3.15","Išlaidų pavadinimas",null,null,null,null,0,0]
["5.3.16","Išlaidų pavadinimas",null,null,null,null,0,0]
["5.3.17","Išlaidų pavadinimas",null,null,null,null,0,0]
["5.3.18","Išlaidų pavadinimas",null,null,null,null,0,0]
["5.3.19","Išlaidų pavadinimas",null,null,null,null,0,0]
["5.3.20","Išlaidų pavadinimas",null,null,null,null,0,0]
["5.3.21","Išlaidų pavadinimas",null,null,null,null,0,0]
["5.3.22","Išlaidų pavadinimas",null,null,null,null,0,0]
["5.3.23","Išlaidų pavadinimas",null,null,null,null,0,0]
["5.3.24","Išlaidų pavadinimas",null,null,null,null,0,0]
["5.3.25","Išlaidų pavadinimas",null,null,null,null,0,0]
["5.3.26","Išlaidų pavadinimas",null,null,null,null,0,0]
["5.4","Projekto MTEP veikloms naudojamo ilgalaikio materialaus turto (įrangos, prietaisų, įrankių, įrenginių, mašinų ir įrengimų, pastatų ir (ar) patalpų), nusidėvėjimo sąnaudos, jeigu šiam turtui įsigyti nebuvo naudojamos viešosios (įskaitant ir kitų valstybių) lėšos",null,null,null,null,{"$f":"SUM(G72:G98)","v":0},{"$f":"SUM(H72:H98)","v":0},null,null,"Turto įvedimo į eksploataciją data","Turto įsigijimo vertė, Eur","Turto nudėvėjimo, amortizacijos laikotarpis, mėn.","Numatoma turto likutinė vertė, Eur","1 mėn. nudėvėjimo, amortizacijos suma, Eur","Turto naudojamo projekto reikmėms laikas, mėn.","Turto panaudojimo projekto reikmėms dalis (proc.)","Projektui priskirta turto nusidėvėjimo, amortizacijos suma per projekto laikotarpį, Eur"]
["5.4.1","Turtas, kurio nusidėvėjimą, amortizaciją prašoma finansuoti",null,null,1,{"$f":"R72","v":0},{"$f":"ROUND(E72*F72,2)","v":0},0,null,null,null,null,null,null,{"$f":"IFERROR(ROUND((L72-N72)/M72,2),\"0\")","v":"0"},null,null,{"$f":"O72*P72*Q72","v":0},{"$f":"IF(K72=0,\" \",IF(K72+(M72*30.5)<TODAY(),\"DĖMESIO! Patikrinkite, ar nurodytas turtas dar nėra nudėvėtas, amortizuotas\",\" \"))","v":" "}]
["5.4.2","Turtas, kurio nusidėvėjimą, amortizaciją prašoma finansuoti",null,null,1,{"$f":"R73","v":0},0,0,null,null,null,null,null,null,{"$f":"IFERROR(ROUND((L73-N73)/M73,2),\"0\")","v":"0"},null,null,{"$f":"O73*P73*Q73","v":0},{"$f":"IF(K73=0,\" \",IF(K73+(M73*30.5)<TODAY(),\"DĖMESIO! Patikrinkite, ar nurodytas turtas dar nėra nudėvėtas, amortizuotas\",\" \"))","v":" "}]
["5.4.3","Turtas, kurio nusidėvėjimą, amortizaciją prašoma finansuoti",null,null,1,{"$f":"R74","v":0},{"$f":"ROUND(E74*F74,2)","v":0},{"$f":"ROUND(G74*$D$7,2)","v":0},null,null,null,null,null,null,"0",null,null,0]
["5.4.4","Turtas, kurio nusidėvėjimą, amortizaciją prašoma finansuoti",null,null,1,0,0,0,null,null,null,null,null,null,"0",null,null,0]
["5.4.5","Turtas, kurio nusidėvėjimą, amortizaciją prašoma finansuoti",null,null,1,0,0,0,null,null,null,null,null,null,"0",null,null,0]
["5.4.6","Turtas, kurio nusidėvėjimą, amortizaciją prašoma finansuoti",null,null,1,0,0,0,null,null,null,null,null,null,"0",null,null,0]
["5.4.7","Turtas, kurio nusidėvėjimą, amortizaciją prašoma finansuoti",null,null,1,0,0,0,null,null,null,null,null,null,"0",null,null,0]
["5.4.8","Turtas, kurio nusidėvėjimą, amortizaciją prašoma finansuoti",null,null,1,0,0,0,null,null,null,null,null,null,"0",null,null,0]
["5.4.9","Turtas, kurio nusidėvėjimą, amortizaciją prašoma finansuoti",null,null,1,0,0,0,null,null,null,null,null,null,"0",null,null,0]
["5.4.10","Turtas, kurio nusidėvėjimą, amortizaciją prašoma finansuoti",null,null,1,0,0,0,null,null,null,null,null,null,"0",null,null,0]
["5.4.11","Turtas, kurio nusidėvėjimą, amortizaciją prašoma finansuoti",null,null,1,0,0,0,null,null,null,null,null,null,"0",null,null,0]
["5.4.12","Turtas, kurio nusidėvėjimą, amortizaciją prašoma finansuoti",null,null,1,0,0,0,null,null,null,null,null,null,"0",null,null,0]
["5.4.13","Turtas, kurio nusidėvėjimą, amortizaciją prašoma finansuoti",null,null,1,0,0,0,null,null,null,null,null,null,"0",null,null,0]
["5.4.14","Turtas, kurio nusidėvėjimą, amortizaciją prašoma finansuoti",null,null,1,0,0,0,null,null,null,null,null,null,"0",null,null,0]
["5.4.15","Turtas, kurio nusidėvėjimą, amortizaciją prašoma finansuoti",null,null,1,0,0,0,null,null,null,null,null,null,"0",null,null,0," "]
["5.4.16","Turtas, kurio nusidėvėjimą, amortizaciją prašoma finansuoti",null,null,1,0,0,0,null,null,null,null,null,null,"0",null,null,0," "]
["5.4.17","Turtas, kurio nusidėvėjimą, amortizaciją prašoma finansuoti",null,null,1,0,0,0,null,null,null,null,null,null,"0",null,null,0," "]
["5.4.18","Turtas, kurio nusidėvėjimą, amortizaciją prašoma finansuoti",null,null,1,0,0,0,null,null,null,null,null,null,"0",null,null,0," "]
["5.4.19","Turtas, kurio nusidėvėjimą, amortizaciją prašoma finansuoti",null,null,1,0,0,0,null,null,null,null,null,null,"0",null,null,0," "]
["5.4.20","Turtas, kurio nusidėvėjimą, amortizaciją prašoma finansuoti",null,null,1,0,0,0,null,null,null,null,null,null,"0",null,null,0," "]
["5.4.21","Turtas, kurio nusidėvėjimą, amortizaciją prašoma finansuoti",null,null,1,0,0,0,null,null,null,null,null,null,"0",null,null,0," "]
["5.4.22","Turtas, kurio nusidėvėjimą, amortizaciją prašoma finansuoti",null,null,1,0,0,0,null,null,null,null,null,null,"0",null,null,0," "]
["5.4.23","Turtas, kurio nusidėvėjimą, amortizaciją prašoma finansuoti",null,null,1,0,0,0,null,null,null,null,null,null,"0",null,null,0," "]
["5.4.24","Turtas, kurio nusidėvėjimą, amortizaciją prašoma finansuoti",null,null,1,0,0,0,null,null,null,null,null,null,"0",null,null,0," "]
["5.4.25","Turtas, kurio nusidėvėjimą, amortizaciją prašoma finansuoti",null,null,1,0,0,0,null,null,null,null,null,null,"0",null,null,0," "]
["5.4.26","Turtas, kurio nusidėvėjimą, amortizaciją prašoma finansuoti",null,null,1,0,0,0,null,null,null,null,null,null,"0",null,null,0," "]
["5.4.27","Turtas, kurio nusidėvėjimą, amortizaciją prašoma finansuoti",null,null,1,0,0,0,null,null,null,null,null,null,"0",null,null,0," "]
["5.5","Projektą vykdančio personalo darbo užmokestis ir išlaidos su darbo santykiais susijusiems darbdavio įsipareigojimams",null,null,null,null,{"$f":"SUM(G100:G149)","v":0},{"$f":"SUM(H100:H149)","v":0},null,null,"Faktiškai gaunamas darbo užmokesti už 1 valandą pagal  pastarųjų 6 mėn. vidurkį, Eur"]
["5.5.1","Pareigybės pavadinimas","Darbuotojo vardas pavardė","val.",null,{"$f":"IFERROR(ROUND(AVERAGE(K100:K104),2),\"0\")","v":"0"},{"$f":"ROUND(E100*F100,2)","v":0},{"$f":"ROUND(G100*$D$7,2)","v":0}]
[null,null,"Darbuotojo vardas pavardė"]
[null,null,"Darbuotojo vardas pavardė"]
[null,null,"Darbuotojo vardas pavardė"]
[null,null,"Darbuotojo vardas pavardė"]
["5.5.2","Pareigybės pavadinimas","Darbuotojo vardas pavardė","val.",null,{"$f":"IFERROR(ROUND(AVERAGE(K105:K109),2),\"0\")","v":"0"},{"$f":"ROUND(E105*F105,2)","v":0},{"$f":"ROUND(G105*$D$7,2)","v":0}]
[null,null,"Darbuotojo vardas pavardė"]
[null,null,"Darbuotojo vardas pavardė"]
[null,null,"Darbuotojo vardas pavardė"]
[null,null,"Darbuotojo vardas pavardė"]
["5.5.3","Pareigybės pavadinimas","Darbuotojo vardas pavardė","val.",null,{"$f":"IFERROR(ROUND(AVERAGE(K110:K114),2),\"0\")","v":"0"},{"$f":"ROUND(E110*F110,2)","v":0},{"$f":"ROUND(G110*$D$7,2)","v":0}]
[null,null,"Darbuotojo vardas pavardė"]
[null,null,"Darbuotojo vardas pavardė"]
[null,null,"Darbuotojo vardas pavardė"]
[null,null,"Darbuotojo vardas pavardė"]
["5.5.4","Pareigybės pavadinimas","Darbuotojo vardas pavardė","val.",null,{"$f":"IFERROR(ROUND(AVERAGE(K115:K119),2),\"0\")","v":"0"},{"$f":"ROUND(E115*F115,2)","v":0},{"$f":"ROUND(G115*$D$7,2)","v":0}]
[null,null,"Darbuotojo vardas pavardė"]
[null,null,"Darbuotojo vardas pavardė"]
[null,null,"Darbuotojo vardas pavardė"]
[null,null,"Darbuotojo vardas pavardė"]
["5.5.5","Pareigybės pavadinimas","Darbuotojo vardas pavardė","val.",null,{"$f":"IFERROR(ROUND(AVERAGE(K120:K124),2),\"0\")","v":"0"},{"$f":"ROUND(E120*F120,2)","v":0},{"$f":"ROUND(G120*$D$7,2)","v":0}]
[null,null,"Darbuotojo vardas pavardė"]
[null,null,"Darbuotojo vardas pavardė"]
[null,null,"Darbuotojo vardas pavardė"]
[null,null,"Darbuotojo vardas pavardė"]
["5.5.6","Pareigybės pavadinimas","Darbuotojo vardas pavardė","val.",null,{"$f":"IFERROR(ROUND(AVERAGE(K125:K129),2),\"0\")","v":"0"},{"$f":"ROUND(E125*F125,2)","v":0},{"$f":"ROUND(G125*$D$7,2)","v":0}]
[null,null,"Darbuotojo vardas pavardė"]
[null,null,"Darbuotojo vardas pavardė"]
[null,null,"Darbuotojo vardas pavardė"]
[null,null,"Darbuotojo vardas pavardė"]
["5.5.7","Pareigybės pavadinimas","Darbuotojo vardas pavardė","val.",null,{"$f":"IFERROR(ROUND(AVERAGE(K130:K134),2),\"0\")","v":"0"},{"$f":"ROUND(E130*F130,2)","v":0},{"$f":"ROUND(G130*$D$7,2)","v":0}]
[null,null,"Darbuotojo vardas pavardė"]
[null,null,"Darbuotojo vardas pavardė"]
[null,null,"Darbuotojo vardas pavardė"]
[null,null,"Darbuotojo vardas pavardė"]
["5.5.8","Pareigybės pavadinimas","Darbuotojo vardas pavardė","val.",null,{"$f":"IFERROR(ROUND(AVERAGE(K135:K139),2),\"0\")","v":"0"},{"$f":"ROUND(E135*F135,2)","v":0},{"$f":"ROUND(G135*$D$7,2)","v":0}]
[null,null,"Darbuotojo vardas pavardė"]
[null,null,"Darbuotojo vardas pavardė"]
[null,null,"Darbuotojo vardas pavardė"]
[null,null,"Darbuotojo vardas pavardė"]
["5.5.9","Pareigybės pavadinimas","Darbuotojo vardas pavardė","val.",null,{"$f":"IFERROR(ROUND(AVERAGE(K140:K144),2),\"0\")","v":"0"},{"$f":"ROUND(E140*F140,2)","v":0},{"$f":"ROUND(G140*$D$7,2)","v":0}]
[null,null,"Darbuotojo vardas pavardė"]
[null,null,"Darbuotojo vardas pavardė"]
[null,null,"Darbuotojo vardas pavardė"]
[null,null,"Darbuotojo vardas pavardė"]
["5.5.10","Pareigybės pavadinimas","Darbuotojo vardas pavardė","val.",null,{"$f":"IFERROR(ROUND(AVERAGE(K145:K149),2),\"0\")","v":"0"},{"$f":"ROUND(E145*F145,2)","v":0},{"$f":"ROUND(G145*$D$7,2)","v":0}]
[null,null,"Darbuotojo vardas pavardė"]
[null,null,"Darbuotojo vardas pavardė"]
[null,null,"Darbuotojo vardas pavardė"]
[null,null,"Darbuotojo vardas pavardė"]
["5.6","Projektą vykdančio personalo komandiruočių išlaidos",null,null,null,null,{"$f":"SUM(G151,G158,G165,G172,G179,G186,G193,G200,G207,G214)","v":0},{"$f":"SUM(H151,H158,H165,H172,H179,H186,H193,H200,H207,H214)","v":0}]
["5.6.1","Komandiruotės pavadinimas, vieta, trukmė dienomis, vykstančių asmenų skaičius","Iš viso komandiruotei",null,null,null,{"$f":"SUM(G152:G157)","v":0},{"$f":"ROUND(G151*$D$7,2)","v":0}]
[null,null,"Dienpinigiai",null,null,null,{"$f":"ROUND(E152*F152,2)","v":0}]
[null,null,"Gyvenamojo ploto nuoma",null,null,null,0]
[null,null,"Kelionės išlaidos",null,null,null,0]
[null,null,"Dalyvavimo mokestis",null,null,null,0]
[null,null,"Kitos išlaidų pavadinimas",null,null,null,0]
[null,null,"Kitos išlaidų pavadinimas",null,null,null,0]
["5.6.2","Komandiruotės pavadinimas, vieta, trukmė dienomis, vykstančių asmenų skaičius","Iš viso komandiruotei",null,null,null,{"$f":"SUM(G159:G164)","v":0},{"$f":"ROUND(G158*$D$7,2)","v":0}]
[null,null,"Dienpinigiai",null,null,null,{"$f":"ROUND(E159*F159,2)","v":0}]
[null,null,"Gyvenamojo ploto nuoma",null,null,null,0]
[null,null,"Kelionės išlaidos",null,null,null,0]
[null,null,"Dalyvavimo mokestis",null,null,null,0]
[null,null,"Kitos išlaidų pavadinimas",null,null,null,0]
[null,null,"Kitos išlaidų pavadinimas",null,null,null,0]
["5.6.3","Komandiruotės pavadinimas, vieta, trukmė dienomis, vykstančių asmenų skaičius","Iš viso komandiruotei",null,null,null,{"$f":"SUM(G166:G171)","v":0},{"$f":"ROUND(G165*$D$7,2)","v":0}]
[null,null,"Dienpinigiai",null,null,null,{"$f":"ROUND(E166*F166,2)","v":0}]
[null,null,"Gyvenamojo ploto nuoma",null,null,null,0]
[null,null,"Kelionės išlaidos",null,null,null,0]
[null,null,"Dalyvavimo mokestis",null,null,null,0]
[null,null,"Kitos išlaidų pavadinimas",null,null,null,0]
[null,null,"Kitos išlaidų pavadinimas",null,null,null,0]
["5.6.4","Komandiruotės pavadinimas, vieta, trukmė dienomis, vykstančių asmenų skaičius","Iš viso komandiruotei",null,null,null,{"$f":"SUM(G173:G178)","v":0},{"$f":"ROUND(G172*$D$7,2)","v":0}]
[null,null,"Dienpinigiai",null,null,null,{"$f":"ROUND(E173*F173,2)","v":0}]
[null,null,"Gyvenamojo ploto nuoma",null,null,null,0]
[null,null,"Kelionės išlaidos",null,null,null,0]
[null,null,"Dalyvavimo mokestis",null,null,null,0]
[null,null,"Kitos išlaidų pavadinimas",null,null,null,0]
[null,null,"Kitos išlaidų pavadinimas",null,null,null,0]
["5.6.5","Komandiruotės pavadinimas, vieta, trukmė dienomis, vykstančių asmenų skaičius","Iš viso komandiruotei",null,null,null,{"$f":"SUM(G180:G185)","v":0},{"$f":"ROUND(G179*$D$7,2)","v":0}]
[null,null,"Dienpinigiai",null,null,null,{"$f":"ROUND(E180*F180,2)","v":0}]
[null,null,"Gyvenamojo ploto nuoma",null,null,null,0]
[null,null,"Kelionės išlaidos",null,null,null,0]
[null,null,"Dalyvavimo mokestis",null,null,null,0]
[null,null,"Kitos išlaidų pavadinimas",null,null,null,0]
[null,null,"Kitos išlaidų pavadinimas",null,null,null,0]
["5.6.6","Komandiruotės pavadinimas, vieta, trukmė dienomis, vykstančių asmenų skaičius","Iš viso komandiruotei",null,null,null,{"$f":"SUM(G187:G192)","v":0},{"$f":"ROUND(G186*$D$7,2)","v":0}]
[null,null,"Dienpinigiai",null,null,null,{"$f":"ROUND(E187*F187,2)","v":0}]
[null,null,"Gyvenamojo ploto nuoma",null,null,null,0]
[null,null,"Kelionės išlaidos",null,null,null,0]
[null,null,"Dalyvavimo mokestis",null,null,null,0]
[null,null,"Kitos išlaidų pavadinimas",null,null,null,0]
[null,null,"Kitos išlaidų pavadinimas",null,null,null,0]
["5.6.7","Komandiruotės pavadinimas, vieta, trukmė dienomis, vykstančių asmenų skaičius","Iš viso komandiruotei",null,null,null,{"$f":"SUM(G194:G199)","v":0},{"$f":"ROUND(G193*$D$7,2)","v":0}]
[null,null,"Dienpinigiai",null,null,null,{"$f":"ROUND(E194*F194,2)","v":0}]
[null,null,"Gyvenamojo ploto nuoma",null,null,null,0]
[null,null,"Kelionės išlaidos",null,null,null,0]
[null,null,"Dalyvavimo mokestis",null,null,null,0]
[null,null,"Kitos išlaidų pavadinimas",null,null,null,0]
[null,null,"Kitos išlaidų pavadinimas",null,null,null,0]
["5.6.8","Komandiruotės pavadinimas, vieta, trukmė dienomis, vykstančių asmenų skaičius","Iš viso komandiruotei",null,null,null,{"$f":"SUM(G201:G206)","v":0},{"$f":"ROUND(G200*$D$7,2)","v":0}]
[null,null,"Dienpinigiai",null,null,null,{"$f":"ROUND(E201*F201,2)","v":0}]
[null,null,"Gyvenamojo ploto nuoma",null,null,null,0]
[null,null,"Kelionės išlaidos",null,null,null,0]
[null,null,"Dalyvavimo mokestis",null,null,null,0]
[null,null,"Kitos išlaidų pavadinimas",null,null,null,0]
[null,null,"Kitos išlaidų pavadinimas",null,null,null,0]
["5.6.9","Komandiruotės pavadinimas, vieta, trukmė dienomis, vykstančių asmenų skaičius","Iš viso komandiruotei",null,null,null,{"$f":"SUM(G208:G213)","v":0},{"$f":"ROUND(G207*$D$7,2)","v":0}]
[null,null,"Dienpinigiai",null,null,null,{"$f":"ROUND(E208*F208,2)","v":0}]
[null,null,"Gyvenamojo ploto nuoma",null,null,null,0]
[null,null,"Kelionės išlaidos",null,null,null,0]
[null,null,"Dalyvavimo mokestis",null,null,null,0]
[null,null,"Kitos išlaidų pavadinimas",null,null,null,0]
[null,null,"Kitos išlaidų pavadinimas",null,null,null,0]
["5.6.10","Komandiruotės pavadinimas, vieta, trukmė dienomis, vykstančių asmenų skaičius","Iš viso komandiruotei",null,null,null,{"$f":"SUM(G215:G220)","v":0},{"$f":"ROUND(G214*$D$7,2)","v":0}]
[null,null,"Dienpinigiai",null,null,null,{"$f":"ROUND(E215*F215,2)","v":0}]
[null,null,"Gyvenamojo ploto nuoma",null,null,null,0]
[null,null,"Kelionės išlaidos",null,null,null,0]
[null,null,"Dalyvavimo mokestis",null,null,null,0]
[null,null,"Kitos išlaidų pavadinimas",null,null,null,0]
[null,null,"Kitos išlaidų pavadinimas",null,null,null,0]
["5.7","Įrangos nuomos išlaidos, veiklai priskirtos pro rata principu. Įranga turi būti tiesiogiai susijusi su projekto įgyvendinimu ir negali būti įsigyta iš ES struktūrinių fondų ar kt. ES finansinių priemonių lėšų",null,null,null,null,{"$f":"SUM(G222:G238)","v":0},{"$f":"SUM(H222:H238)","v":0},null,null,"Faktinės 1 mėnesio išlaidos, Eur","Naudojimo projekte trukmė, mėn."]
["5.7.1","Įrangos pavadinimas",null,"pro rata proc.",null,{"$f":"K222*L222","v":0},0,{"$f":"ROUND(G222*$D$7,2)","v":0}]
["5.7.2","Įrangos pavadinimas",null,"pro rata proc.",null,{"$f":"K223*L223","v":0},{"$f":"ROUND(E223*F223,2)","v":0},{"$f":"ROUND(G223*$D$7,2)","v":0}]
["5.7.3","Įrangos pavadinimas",null,"pro rata proc.",null,0,0,0]
["5.7.4","Įrangos pavadinimas",null,"pro rata proc.",null,0,0,0]
["5.7.5","Įrangos pavadinimas",null,"pro rata proc.",null,0,0,0]
["5.7.6","Įrangos pavadinimas",null,"pro rata proc.",null,0,0,0]
["5.7.7","Įrangos pavadinimas",null,"pro rata proc.",null,0,0,0]
["5.7.8","Įrangos pavadinimas",null,"pro rata proc.",null,0,0,0]
["5.7.9","Įrangos pavadinimas",null,"pro rata proc.",null,0,0,0]
["5.7.10","Įrangos pavadinimas",null,"pro rata proc.",null,0,0,0]
["5.7.11","Įrangos pavadinimas",null,"pro rata proc.",null,0,0,0]
["5.7.12","Įrangos pavadinimas",null,"pro rata proc.",null,0,0,0]
["5.7.13","Įrangos pavadinimas",null,"pro rata proc.",null,0,0,0]
["5.7.14","Įrangos pavadinimas",null,"pro rata proc.",null,{"$f":"K235*L235","v":0},0,{"$f":"ROUND(G235*$D$7,2)","v":0}]
["5.7.15","Įrangos pavadinimas",null,"pro rata proc.",null,0,0,0]
["5.7.16","Įrangos pavadinimas",null,"pro rata proc.",null,0,0,0]
["5.7.17","Įrangos pavadinimas",null,"pro rata proc.",null,0,0,0]
["5.8","Pastatų ar patalpų nuomos išlaidos, veiklai priskirtos pro rata principu. Pastatai ar patalpos turi būti tiesiogiai susijusi su projekto įgyvendinimu.",null,null,null,null,{"$f":"SUM(G240:G244)","v":0},{"$f":"SUM(H240:H244)","v":0},null,null,"Faktinės 1 mėnesio išlaidos, Eur","Naudojimo projekte trukmė, mėn."]
["5.8.1","Pastato, patalpų adresas",null,"pro rata proc.",null,{"$f":"K240*L240","v":0},{"$f":"ROUND(E240*F240,2)","v":0},{"$f":"ROUND(G240*$D$7,2)","v":0}]
["5.8.2","Pastato, patalpų adresas",null,"pro rata proc.",null,{"$f":"K241*L241","v":0},0,0]
["5.8.3","Pastato, patalpų adresas",null,"pro rata proc.",null,0,0,0]
["5.8.4","Pastato, patalpų adresas",null,"pro rata proc.",null,0,0,0]
["5.8.5","Pastato, patalpų adresas",null,"pro rata proc.",null,0,0,0]
["Iš viso tinkamų finansuoti išlaidų:",null,null,null,null,null,{"$f":"G10+G21","v":0},{"$f":"H10+H21","v":0}]

{"sheet":"11","index":12,"n_rows":210,"n_cols":19,"rows_kept":210,"cut":false,"hidden":false,"merged":[[0,3,0,8],[2,0,2,2],[2,3,2,8],[3,3,3,4],[3,5,3,6],[4,0,4,2],[4,3,4,8],[14,1,14,2],[15,1,15,2],[16,1,16,2],[17,1,17,2],[18,1,18,2],[19,1,19,2],[8,1,8,2],[9,1,9,5],[10,1,10,2],[11,1,11,2],[12,1,12,2],[13,1,13,2],[26,1,26,2],[27,1,27,2],[28,1,28,2],[29,1,29,2],[30,1,30,2],[31,1,31,2],[20,1,20,5],[21,1,21,5],[22,1,22,2],[23,1,23,2],[24,1,24,2],[25,1,25,2],[38,1,38,2],[39,1,39,2],[40,1,40,2],[41,1,41,2],[42,1,42,2],[43,1,43,5],[32,1,32,5],[33,1,33,2],[34,1,34,2],[35,1,35,2],[36,1,36,2],[37,1,37,2],[50,1,50,2],[51,1,51,2],[52,1,52,2],[53,1,53,2],[54,1,54,2],[55,1,55,2],[44,1,44,2],[45,1,45,2],[46,1,46,2],[47,1,47,2],[48,1,48,2],[49,1,49,2],[62,1,62,2],[63,1,63,2],[64,1,64,2],[65,1,65,2],[66,1,66,2],[67,1,67,2],[56,1,56,2],[57,1,57,2],[58,1,58,2],[59,1,59,5],[60,1,60,2],[61,1,61,2],[74,1,74,2],[75,1,75,5],[76,0,80,0],[76,1,80,1],[76,3,80,3],[76,4,80,4],[76,5,80,5],[68,1,68,2],[69,1,69,2],[70,1,70,2],[71,1,71,2],[72,1,72,2],[73,1,73,2],[76,6,80,6],[76,7,80,7],[76,8,80,8],[81,0,85,0],[81,1,85,1],[81,3,85,3],[81,4,85,4],[81,5,85,5],[81,6,85,6],[81,7,85,7],[81,8,85,8],[86,0,90,0],[86,1,90,1],[86,3,90,3],[86,4,90,4],[86,5,90,5],[86,6,90,6],[86,7,90,7],[86,8,90,8],[91,7,95,7],[91,8,95,8],[96,0,100,0],[96,1,100,1],[96,3,100,3],[96,4,100,4],[96,5,100,5],[96,6,100,6],[96,7,100,7],[96,8,100,8],[91,0,95,0],[91,1,95,1],[91,3,95,3],[91,4,95,4],[91,5,95,5],[91,6,95,6],[101,7,105,7],[101,8,105,8],[106,0,110,0],[106,1,110,1],[106,3,110,3],[106,4,110,4],[106,5,110,5],[106,6,110,6],[106,7,110,7],[106,8,110,8],[101,0,105,0],[101,1,105,1],[101,3,105,3],[101,4,105,4],[101,5,105,5],[101,6,105,6],[111,7,115,7],[111,8,115,8],[116,0,120,0],[116,1,120,1],[116,3,120,3],[116,4,120,4],[116,5,120,5],[116,6,120,6],[116,7,120,7],[116,8,120,8],[111,0,115,0],[111,1,115,1],[111,3,115,3],[111,4,115,4],[111,5,115,5],[111,6,115,6],[127,1,133,1],[121,7,125,7],[121,8,125,8],[126,1,126,5],[121,0,125,0],[121,1,125,1],[121,3,125,3],[121,4,125,4],[121,5,125,5],[121,6,125,6],[127,0,133,0],[127,8,133,8],[134,0,140,0],[134,1,140,1],[134,8,140,8],[141,0,147,0],[141,1,147,1],[141,8,147,8],[148,0,154,0],[148,1,154,1],[148,8,154,8],[155,0,161,0],[155,1,161,1],[155,8,161,8],[162,0,168,0],[162,1,168,1],[162,8,168,8],[169,0,175,0],[169,1,175,1],[169,8,175,8],[176,0,182,0],[176,1,182,1],[176,8,182,8],[183,0,189,0],[183,1,189,1],[183,8,189,8],[190,0,196,0],[190,1,196,1],[190,8,196,8],[206,1,206,2],[207,1,207,2],[208,1,208,2],[209,0,209,5],[197,1,197,5],[198,1,198,2],[199,1,199,2],[200,1,200,2],[201,1,201,2],[202,1,202,2],[203,1,203,5],[204,1,204,2],[205,1,205,2]]}
[null,null,"Pasirinkite veiklos tipą:"]
[null,null,"Fizinio rodiklio Nr.:"]
["Fizinio rodiklio pavadinimas:"]
[null,null,"Fizinio rodiklio matavimo vnt.:",null,null,"Fizinio rodiklio vnt. skaičius:"]
["Juridinis asmuo (pareiškėjas, partneris), atsakingas už fizinį rodiklį:"]
[]
[null,null,"Finansavimo intensyvumas:",null,null,null,"Pasirinkite biudžeto išlaidų kategoriją:"]
[]
["Eil. Nr.","Išlaidų kategorijos pavadinimas",null,"Matavimo vnt.","Kiekis","Vieneto kaina be PVM, Eur","Tinkamų finansuoti išlaidų suma be PVM, Eur","Finansavimo suma, Eur","Išlaidų pagrindimo dokumentų pavadinimas, data ir Nr."]
[4,"ĮRANGA, ĮRENGINIAI IR KT. TURTAS (techninių žinių ir išradimų patentų arba teisių pagal licencijų sutartį įsigijimo išlaidos)",null,null,null,null,{"$f":"SUM(G11:G20)","v":0},{"$f":"SUM(H11:H20)","v":0}]
["4.1","Išlaidų pavadinimas",null,null,null,null,{"$f":"ROUND(E11*F11,2)","v":0},{"$f":"ROUND(G11*$D$7,2)","v":0}]
["4.2","Išlaidų pavadinimas",null,null,null,null,0,0]
["4.3","Išlaidų pavadinimas",null,null,null,null,0,0]
["4.4","Išlaidų pavadinimas",null,null,null,null,0,0]
["4.5","Išlaidų pavadinimas",null,null,null,null,0,0]
["4.6","Išlaidų pavadinimas",null,null,null,null,0,0]
["4.7","Išlaidų pavadinimas",null,null,null,null,0,0]
["4.8","Išlaidų pavadinimas",null,null,null,null,0,0]
["4.9","Išlaidų pavadinimas",null,null,null,null,0,0]
["4.10","Išlaidų pavadinimas",null,null,null,null,0,0]
[5,"PROJEKTO VYKDYMAS",null,null,null,null,{"$f":"G22+G33+G44+G60+G76+G127+G198+G204","v":0},{"$f":"H22+H33+H44+H60+H76+H127+H198+H204","v":0}]
["5.1","MTEP paslaugos",null,null,null,null,{"$f":"SUM(G23:G32)","v":0},{"$f":"SUM(H23:H32)","v":0}]
["5.1.1","Paslaugos pavadinimas",null,null,null,null,{"$f":"ROUND(E23*F23,2)","v":0},0]
["5.1.2","Paslaugos pavadinimas",null,null,null,null,0,0]
["5.1.3","Paslaugos pavadinimas",null,null,null,null,0,0]
["5.1.4","Paslaugos pavadinimas",null,null,null,null,0,0]
["5.1.5","Paslaugos pavadinimas",null,null,null,null,0,0]
["5.1.6","Paslaugos pavadinimas",null,null,null,null,0,0]
["5.1.7","Paslaugos pavadinimas",null,null,null,null,0,0]
["5.1.8","Paslaugos pavadinimas",null,null,null,null,0,0]
["5.1.9","Paslaugos pavadinimas",null,null,null,null,0,0]
["5.1.10","Paslaugos pavadinimas",null,null,null,null,0,0]
["5.2","Konsultavimo ir lygiavertės paslaugos, naudojamos vien tik projekto MTEP veiklai",null,null,null,null,{"$f":"SUM(G34:G43)","v":0},{"$f":"SUM(H34:H43)","v":0}]
["5.2.1","Paslaugos pavadinimas",null,null,null,null,{"$f":"ROUND(E34*F34,2)","v":0},0]
["5.2.2","Paslaugos pavadinimas",null,null,null,null,0,0]
["5.2.3","Paslaugos pavadinimas",null,null,null,null,0,0]
["5.2.4","Paslaugos pavadinimas",null,null,null,null,0,0]
["5.2.5","Paslaugos pavadinimas",null,null,null,null,0,0]
["5.2.6","Paslaugos pavadinimas",null,null,null,null,0,0]
["5.2.7","Paslaugos pavadinimas",null,null,null,null,0,0]
["5.2.8","Paslaugos pavadinimas",null,null,null,null,0,0]
["5.2.9","Paslaugos pavadinimas",null,null,null,null,0,0]
["5.2.10","Paslaugos pavadinimas",null,null,null,null,0,0]
["5.3","Medžiagos, mažavertis inventorius, atsargos ir pan. produktai, priskirtini trumpalaikiam turtui ir tiesiogiai susiję su MTEP veikla",null,null,null,null,{"$f":"SUM(G45:G59)","v":0},{"$f":"SUM(H45:H59)","v":0}]
["5.3.1","Išlaidų pavadinimas",null,null,null,null,{"$f":"ROUND(E45*F45,2)","v":0},{"$f":"ROUND(G45*$D$7,2)","v":0}]
["5.3.2","Išlaidų pavadinimas",null,null,null,null,0,0]
["5.3.3","Išlaidų pavadinimas",null,null,null,null,0,0]
["5.3.4","Išlaidų pavadinimas",null,null,null,null,0,0]
["5.3.5","Išlaidų pavadinimas",null,null,null,null,0,0]
["5.3.6","Išlaidų pavadinimas",null,null,null,null,0,0]
["5.3.7","Išlaidų pavadinimas",null,null,null,null,0,0]
["5.3.8","Išlaidų pavadinimas",null,null,null,null,0,0]
["5.3.9","Išlaidų pavadinimas",null,null,null,null,0,0]
["5.3.10","Išlaidų pavadinimas",null,null,null,null,0,0]
["5.3.11","Išlaidų pavadinimas",null,null,null,null,0,0]
["5.3.12","Išlaidų pavadinimas",null,null,null,null,0,0]
["5.3.13","Išlaidų pavadinimas",null,null,null,null,0,0]
["5.3.14","Išlaidų pavadinimas",null,null,null,null,0,0]
["5.3.15","Išlaidų pavadinimas",null,null,null,null,0,0]
["5.4","Projekto MTEP veikloms naudojamo ilgalaikio materialaus turto (įrangos, prietaisų, įrankių, įrenginių, mašinų ir įrengimų, pastatų ir (ar) patalpų), nusidėvėjimo sąnaudos, jeigu šiam turtui įsigyti nebuvo naudojamos viešosios (įskaitant ir kitų valstybių) lėšos",null,null,null,null,{"$f":"SUM(G61:G75)","v":0},{"$f":"SUM(H61:H75)","v":0},null,null,"Turto įvedimo į eksploataciją data","Turto įsigijimo vertė, Eur","Turto nudėvėjimo, amortizacijos laikotarpis, mėn.","Numatoma turto likutinė vertė, Eur","1 mėn. nudėvėjimo, amortizacijos suma, Eur","Turto naudojamo projekto reikmėms laikas, mėn.","Turto panaudojimo projekto reikmėms dalis (proc.)","Projektui priskirta turto nusidėvėjimo, amortizacijos suma per projekto laikotarpį, Eur"]
["5.4.1","Turtas, kurio nusidėvėjimą, amortizaciją prašoma finansuoti",null,null,1,{"$f":"R61","v":0},{"$f":"ROUND(E61*F61,2)","v":0},0,null,null,null,null,null,null,{"$f":"IFERROR(ROUND((L61-N61)/M61,2),\"0\")","v":"0"},null,null,{"$f":"O61*P61*Q61","v":0},{"$f":"IF(K61=0,\" \",IF(K61+(M61*30.5)<TODAY(),\"DĖMESIO! Patikrinkite, ar nurodytas turtas dar nėra nudėvėtas, amortizuotas\",\" \"))","v":" "}]
["5.4.2","Turtas, kurio nusidėvėjimą, amortizaciją prašoma finansuoti",null,null,1,{"$f":"R62","v":0},0,0,null,null,null,null,null,null,{"$f":"IFERROR(ROUND((L62-N62)/M62,2),\"0\")","v":"0"},null,null,{"$f":"O62*P62*Q62","v":0},{"$f":"IF(K62=0,\" \",IF(K62+(M62*30.5)<TODAY(),\"DĖMESIO! Patikrinkite, ar nurodytas turtas dar nėra nudėvėtas, amortizuotas\",\" \"))","v":" "}]
["5.4.3","Turtas, kurio nusidėvėjimą, amortizaciją prašoma finansuoti",null,null,1,0,0,0,null,null,null,null,null,null,"0",null,null,0," "]
["5.4.4","Turtas, kurio nusidėvėjimą, amortizaciją prašoma finansuoti",null,null,1,0,0,0,null,null,null,null,null,null,"0",null,null,0," "]
["5.4.5","Turtas, kurio nusidėvėjimą, amortizaciją prašoma finansuoti",null,null,1,0,0,0,null,null,null,null,null,null,"0",null,null,0," "]
["5.4.6","Turtas, kurio nusidėvėjimą, amortizaciją prašoma finansuoti",null,null,1,0,0,0,null,null,null,null,null,null,"0",null,null,0," "]
["5.4.7","Turtas, kurio nusidėvėjimą, amortizaciją prašoma finansuoti",null,null,1,0,0,0,null,null,null,null,null,null,"0",null,null,0," "]
["5.4.8","Turtas, kurio nusidėvėjimą, amortizaciją prašoma finansuoti",null,null,1,0,0,0,null,null,null,null,null,null,"0",null,null,0," "]
["5.4.9","Turtas, kurio nusidėvėjimą, amortizaciją prašoma finansuoti",null,null,1,0,0,0,null,null,null,null,null,null,"0",null,null,0," "]
["5.4.10","Turtas, kurio nusidėvėjimą, amortizaciją prašoma finansuoti",null,null,1,0,0,0,null,null,null,null,null,null,"0",null,null,0," "]
["5.4.11","Turtas, kurio nusidėvėjimą, amortizaciją prašoma finansuoti",null,null,1,0,0,0,null,null,null,null,null,null,"0",null,null,0," "]
["5.4.12","Turtas, kurio nusidėvėjimą, amortizaciją prašoma finansuoti",null,null,1,0,0,0,null,null,null,null,null,null,"0",null,null,0," "]
["5.4.13","Turtas, kurio nusidėvėjimą, amortizaciją prašoma finansuoti",null,null,1,0,0,0,null,null,null,null,null,null,"0",null,null,0," "]
["5.4.14","Turtas, kurio nusidėvėjimą, amortizaciją prašoma finansuoti",null,null,1,0,0,0,null,null,null,null,null,null,"0",null,null,0," "]
["5.4.15","Turtas, kurio nusidėvėjimą, amortizaciją prašoma finansuoti",null,null,1,0,0,0,null,null,null,null,null,null,"0",null,null,0," "]
["5.5","Projektą vykdančio personalo darbo užmokestis ir išlaidos su darbo santykiais susijusiems darbdavio įsipareigojimams",null,null,null,null,{"$f":"SUM(G77:G126)","v":0},{"$f":"SUM(H77:H126)","v":0},null,null,"Faktiškai gaunamas darbo užmokesti už 1 valandą pagal  pastarųjų 6 mėn. vidurkį, Eur"]
["5.5.1","Pareigybės pavadinimas","Darbuotojo vardas pavardė","val.",null,{"$f":"IFERROR(ROUND(AVERAGE(K77:K81),2),\"0\")","v":"0"},{"$f":"ROUND(E77*F77,2)","v":0},{"$f":"ROUND(G77*$D$7,2)","v":0}]
[null,null,"Darbuotojo vardas pavardė"]
[null,null,"Darbuotojo vardas pavardė"]
[null,null,"Darbuotojo vardas pavardė"]
[null,null,"Darbuotojo vardas pavardė"]
["5.5.2","Pareigybės pavadinimas","Darbuotojo vardas pavardė","val.",null,{"$f":"IFERROR(ROUND(AVERAGE(K82:K86),2),\"0\")","v":"0"},{"$f":"ROUND(E82*F82,2)","v":0},{"$f":"ROUND(G82*$D$7,2)","v":0}]
[null,null,"Darbuotojo vardas pavardė"]
[null,null,"Darbuotojo vardas pavardė"]
[null,null,"Darbuotojo vardas pavardė"]
[null,null,"Darbuotojo vardas pavardė"]
["5.5.3","Pareigybės pavadinimas","Darbuotojo vardas pavardė","val.",null,{"$f":"IFERROR(ROUND(AVERAGE(K87:K91),2),\"0\")","v":"0"},{"$f":"ROUND(E87*F87,2)","v":0},{"$f":"ROUND(G87*$D$7,2)","v":0}]
[null,null,"Darbuotojo vardas pavardė"]
[null,null,"Darbuotojo vardas pavardė"]
[null,null,"Darbuotojo vardas pavardė"]
[null,null,"Darbuotojo vardas pavardė"]
["5.5.4","Pareigybės pavadinimas","Darbuotojo vardas pavardė","val.",null,{"$f":"IFERROR(ROUND(AVERAGE(K92:K96),2),\"0\")","v":"0"},{"$f":"ROUND(E92*F92,2)","v":0},{"$f":"ROUND(G92*$D$7,2)","v":0}]
[null,null,"Darbuotojo vardas pavardė"]
[null,null,"Darbuotojo vardas pavardė"]
[null,null,"Darbuotojo vardas pavardė"]
[null,null,"Darbuotojo vardas pavardė"]
["5.5.5","Pareigybės pavadinimas","Darbuotojo vardas pavardė","val.",null,{"$f":"IFERROR(ROUND(AVERAGE(K97:K101),2),\"0\")","v":"0"},{"$f":"ROUND(E97*F97,2)","v":0},{"$f":"ROUND(G97*$D$7,2)","v":0}]
[null,null,"Darbuotojo vardas pavardė"]
[null,null,"Darbuotojo vardas pavardė"]
[null,null,"Darbuotojo vardas pavardė"]
[null,null,"Darbuotojo vardas pavardė"]
["5.5.6","Pareigybės pavadinimas","Darbuotojo vardas pavardė","val.",null,{"$f":"IFERROR(ROUND(AVERAGE(K102:K106),2),\"0\")","v":"0"},{"$f":"ROUND(E102*F102,2)","v":0},{"$f":"ROUND(G102*$D$7,2)","v":0}]
[null,null,"Darbuotojo vardas pavardė"]
[null,null,"Darbuotojo vardas pavardė"]
[null,null,"Darbuotojo vardas pavardė"]
[null,null,"Darbuotojo vardas pavardė"]
["5.5.7","Pareigybės pavadinimas","Darbuotojo vardas pavardė","val.",null,{"$f":"IFERROR(ROUND(AVERAGE(K107:K111),2),\"0\")","v":"0"},{"$f":"ROUND(E107*F107,2)","v":0},{"$f":"ROUND(G107*$D$7,2)","v":0}]
[null,null,"Darbuotojo vardas pavardė"]
[null,null,"Darbuotojo vardas pavardė"]
[null,null,"Darbuotojo vardas pavardė"]
[null,null,"Darbuotojo vardas pavardė"]
["5.5.8","Pareigybės pavadinimas","Darbuotojo vardas pavardė","val.",null,{"$f":"IFERROR(ROUND(AVERAGE(K112:K116),2),\"0\")","v":"0"},{"$f":"ROUND(E112*F112,2)","v":0},{"$f":"ROUND(G112*$D$7,2)","v":0}]
[null,null,"Darbuotojo vardas pavardė"]
[null,null,"Darbuotojo vardas pavardė"]
[null,null,"Darbuotojo vardas pavardė"]
[null,null,"Darbuotojo vardas pavardė"]
["5.5.9","Pareigybės pavadinimas","Darbuotojo vardas pavardė","val.",null,{"$f":"IFERROR(ROUND(AVERAGE(K117:K121),2),\"0\")","v":"0"},{"$f":"ROUND(E117*F117,2)","v":0},{"$f":"ROUND(G117*$D$7,2)","v":0}]
[null,null,"Darbuotojo vardas pavardė"]
[null,null,"Darbuotojo vardas pavardė"]
[null,null,"Darbuotojo vardas pavardė"]
[null,null,"Darbuotojo vardas pavardė"]
["5.5.10","Pareigybės pavadinimas","Darbuotojo vardas pavardė","val.",null,{"$f":"IFERROR(ROUND(AVERAGE(K122:K126),2),\"0\")","v":"0"},{"$f":"ROUND(E122*F122,2)","v":0},{"$f":"ROUND(G122*$D$7,2)","v":0}]
[null,null,"Darbuotojo vardas pavardė"]
[null,null,"Darbuotojo vardas pavardė"]
[null,null,"Darbuotojo vardas pavardė"]
[null,null,"Darbuotojo vardas pavardė"]
["5.6","Projektą vykdančio personalo komandiruočių išlaidos",null,null,null,null,{"$f":"SUM(G128,G135,G142,G149,G156,G163,G170,G177,G184,G191)","v":0},{"$f":"SUM(H128,H135,H142,H149,H156,H163,H170,H177,H184,H191)","v":0}]
["5.6.1","Komandiruotės pavadinimas, vieta, trukmė dienomis, vykstančių asmenų skaičius","Iš viso komandiruotei",null,null,null,{"$f":"SUM(G129:G134)","v":0},{"$f":"ROUND(G128*$D$7,2)","v":0}]
[null,null,"Dienpinigiai",null,null,null,{"$f":"ROUND(E129*F129,2)","v":0}]
[null,null,"Gyvenamojo ploto nuoma",null,null,null,0]
[null,null,"Kelionės išlaidos",null,null,null,0]
[null,null,"Dalyvavimo mokestis",null,null,null,0]
[null,null,"Kitos išlaidų pavadinimas",null,null,null,0]
[null,null,"Kitos išlaidų pavadinimas",null,null,null,0]
["5.6.2","Komandiruotės pavadinimas, vieta, trukmė dienomis, vykstančių asmenų skaičius","Iš viso komandiruotei",null,null,null,{"$f":"SUM(G136:G141)","v":0},{"$f":"ROUND(G135*$D$7,2)","v":0}]
[null,null,"Dienpinigiai",null,null,null,{"$f":"ROUND(E136*F136,2)","v":0}]
[null,null,"Gyvenamojo ploto nuoma",null,null,null,0]
[null,null,"Kelionės išlaidos",null,null,null,0]
[null,null,"Dalyvavimo mokestis",null,null,null,0]
[null,null,"Kitos išlaidų pavadinimas",null,null,null,0]
[null,null,"Kitos išlaidų pavadinimas",null,null,null,0]
["5.6.3","Komandiruotės pavadinimas, vieta, trukmė dienomis, vykstančių asmenų skaičius","Iš viso komandiruotei",null,null,null,{"$f":"SUM(G143:G148)","v":0},{"$f":"ROUND(G142*$D$7,2)","v":0}]
[null,null,"Dienpinigiai",null,null,null,{"$f":"ROUND(E143*F143,2)","v":0}]
[null,null,"Gyvenamojo ploto nuoma",null,null,null,0]
[null,null,"Kelionės išlaidos",null,null,null,0]
[null,null,"Dalyvavimo mokestis",null,null,null,0]
[null,null,"Kitos išlaidų pavadinimas",null,null,null,0]
[null,null,"Kitos išlaidų pavadinimas",null,null,null,0]
["5.6.4","Komandiruotės pavadinimas, vieta, trukmė dienomis, vykstančių asmenų skaičius","Iš viso komandiruotei",null,null,null,{"$f":"SUM(G150:G155)","v":0},{"$f":"ROUND(G149*$D$7,2)","v":0}]
[null,null,"Dienpinigiai",null,null,null,{"$f":"ROUND(E150*F150,2)","v":0}]
[null,null,"Gyvenamojo ploto nuoma",null,null,null,0]
[null,null,"Kelionės išlaidos",null,null,null,0]
[null,null,"Dalyvavimo mokestis",null,null,null,0]
[null,null,"Kitos išlaidų pavadinimas",null,null,null,0]
[null,null,"Kitos išlaidų pavadinimas",null,null,null,0]
["5.6.5","Komandiruotės pavadinimas, vieta, trukmė dienomis, vykstančių asmenų skaičius","Iš viso komandiruotei",null,null,null,{"$f":"SUM(G157:G162)","v":0},{"$f":"ROUND(G156*$D$7,2)","v":0}]
[null,null,"Dienpinigiai",null,null,null,{"$f":"ROUND(E157*F157,2)","v":0}]
[null,null,"Gyvenamojo ploto nuoma",null,null,null,0]
[null,null,"Kelionės išlaidos",null,null,null,0]
[null,null,"Dalyvavimo mokestis",null,null,null,0]
[null,null,"Kitos išlaidų pavadinimas",null,null,null,0]
[null,null,"Kitos išlaidų pavadinimas",null,null,null,0]
["5.6.6","Komandiruotės pavadinimas, vieta, trukmė dienomis, vykstančių asmenų skaičius","Iš viso komandiruotei",null,null,null,{"$f":"SUM(G164:G169)","v":0},{"$f":"ROUND(G163*$D$7,2)","v":0}]
[null,null,"Dienpinigiai",null,null,null,{"$f":"ROUND(E164*F164,2)","v":0}]
[null,null,"Gyvenamojo ploto nuoma",null,null,null,0]
[null,null,"Kelionės išlaidos",null,null,null,0]
[null,null,"Dalyvavimo mokestis",null,null,null,0]
[null,null,"Kitos išlaidų pavadinimas",null,null,null,0]
[null,null,"Kitos išlaidų pavadinimas",null,null,null,0]
["5.6.7","Komandiruotės pavadinimas, vieta, trukmė dienomis, vykstančių asmenų skaičius","Iš viso komandiruotei",null,null,null,{"$f":"SUM(G171:G176)","v":0},{"$f":"ROUND(G170*$D$7,2)","v":0}]
[null,null,"Dienpinigiai",null,null,null,{"$f":"ROUND(E171*F171,2)","v":0}]
[null,null,"Gyvenamojo ploto nuoma",null,null,null,0]
[null,null,"Kelionės išlaidos",null,null,null,0]
[null,null,"Dalyvavimo mokestis",null,null,null,0]
[null,null,"Kitos išlaidų pavadinimas",null,null,null,0]
[null,null,"Kitos išlaidų pavadinimas",null,null,null,0]
["5.6.8","Komandiruotės pavadinimas, vieta, trukmė dienomis, vykstančių asmenų skaičius","Iš viso komandiruotei",null,null,null,{"$f":"SUM(G178:G183)","v":0},{"$f":"ROUND(G177*$D$7,2)","v":0}]
[null,null,"Dienpinigiai",null,null,null,{"$f":"ROUND(E178*F178,2)","v":0}]
[null,null,"Gyvenamojo ploto nuoma",null,null,null,0]
[null,null,"Kelionės išlaidos",null,null,null,0]
[null,null,"Dalyvavimo mokestis",null,null,null,0]
[null,null,"Kitos išlaidų pavadinimas",null,null,null,0]
[null,null,"Kitos išlaidų pavadinimas",null,null,null,0]
["5.6.9","Komandiruotės pavadinimas, vieta, trukmė dienomis, vykstančių asmenų skaičius","Iš viso komandiruotei",null,null,null,{"$f":"SUM(G185:G190)","v":0},{"$f":"ROUND(G184*$D$7,2)","v":0}]
[null,null,"Dienpinigiai",null,null,null,{"$f":"ROUND(E185*F185,2)","v":0}]
[null,null,"Gyvenamojo ploto nuoma",null,null,null,0]
[null,null,"Kelionės išlaidos",null,null,null,0]
[null,null,"Dalyvavimo mokestis",null,null,null,0]
[null,null,"Kitos išlaidų pavadinimas",null,null,null,0]
[null,null,"Kitos išlaidų pavadinimas",null,null,null,0]
["5.6.10","Komandiruotės pavadinimas, vieta, trukmė dienomis, vykstančių asmenų skaičius","Iš viso komandiruotei",null,null,null,{"$f":"SUM(G192:G197)","v":0},{"$f":"ROUND(G191*$D$7,2)","v":0}]
[null,null,"Dienpinigiai",null,null,null,{"$f":"ROUND(E192*F192,2)","v":0}]
[null,null,"Gyvenamojo ploto nuoma",null,null,null,0]
[null,null,"Kelionės išlaidos",null,null,null,0]
[null,null,"Dalyvavimo mokestis",null,null,null,0]
[null,null,"Kitos išlaidų pavadinimas",null,null,null,0]
[null,null,"Kitos išlaidų pavadinimas",null,null,null,0]
["5.7","Įrangos nuomos išlaidos, veiklai priskirtos pro rata principu. Įranga turi būti tiesiogiai susijusi su projekto įgyvendinimu ir negali būti įsigyta iš ES struktūrinių fondų ar kt. ES finansinių priemonių lėšų",null,null,null,null,{"$f":"SUM(G199:G203)","v":0},{"$f":"SUM(H199:H203)","v":0},null,null,"Faktinės 1 mėnesio išlaidos, Eur","Naudojimo projekte trukmė, mėn."]
["5.7.1","Įrangos pavadinimas",null,"pro rata proc.",null,{"$f":"K199*L199","v":0},0,{"$f":"ROUND(G199*$D$7,2)","v":0}]
["5.7.2","Įrangos pavadinimas",null,"pro rata proc.",null,{"$f":"K200*L200","v":0},0,{"$f":"ROUND(G200*$D$7,2)","v":0}]
["5.7.3","Įrangos pavadinimas",null,"pro rata proc.",null,0,0,0]
["5.7.4","Įrangos pavadinimas",null,"pro rata proc.",null,0,0,0]
["5.7.5","Įrangos pavadinimas",null,"pro rata proc.",null,0,0,0]
["5.8","Pastatų ar patalpų nuomos išlaidos, veiklai priskirtos pro rata principu. Pastatai ar patalpos turi būti tiesiogiai susijusi su projekto įgyvendinimu.",null,null,null,null,{"$f":"SUM(G205:G209)","v":0},{"$f":"SUM(H205:H209)","v":0},null,null,"Faktinės 1 mėnesio išlaidos, Eur","Naudojimo projekte trukmė, mėn."]
["5.8.1","Pastato, patalpų adresas",null,"pro rata proc.",null,{"$f":"K205*L205","v":0},{"$f":"ROUND(E205*F205,2)","v":0},{"$f":"ROUND(G205*$D$7,2)","v":0}]
["5.8.2","Pastato, patalpų adresas",null,"pro rata proc.",null,{"$f":"K206*L206","v":0},0,0]
["5.8.3","Pastato, patalpų adresas",null,"pro rata proc.",null,0,0,0]
["5.8.4","Pastato, patalpų adresas",null,"pro rata proc.",null,0,0,0]
["5.8.5","Pastato, patalpų adresas",null,"pro rata proc.",null,0,0,0]
["Iš viso tinkamų finansuoti išlaidų:",null,null,null,null,null,{"$f":"G10+G21","v":0},{"$f":"H10+H21","v":0}]

{"sheet":"12","index":13,"n_rows":210,"n_cols":19,"rows_kept":210,"cut":false,"hidden":false,"merged":[[0,3,0,8],[2,0,2,2],[2,3,2,8],[3,3,3,4],[3,5,3,6],[4,0,4,2],[4,3,4,8],[14,1,14,2],[15,1,15,2],[16,1,16,2],[17,1,17,2],[18,1,18,2],[19,1,19,2],[8,1,8,2],[9,1,9,5],[10,1,10,2],[11,1,11,2],[12,1,12,2],[13,1,13,2],[26,1,26,2],[27,1,27,2],[28,1,28,2],[29,1,29,2],[30,1,30,2],[31,1,31,2],[20,1,20,5],[21,1,21,5],[22,1,22,2],[23,1,23,2],[24,1,24,2],[25,1,25,2],[38,1,38,2],[39,1,39,2],[40,1,40,2],[41,1,41,2],[42,1,42,2],[43,1,43,5],[32,1,32,5],[33,1,33,2],[34,1,34,2],[35,1,35,2],[36,1,36,2],[37,1,37,2],[50,1,50,2],[51,1,51,2],[52,1,52,2],[53,1,53,2],[54,1,54,2],[55,1,55,2],[44,1,44,2],[45,1,45,2],[46,1,46,2],[47,1,47,2],[48,1,48,2],[49,1,49,2],[62,1,62,2],[63,1,63,2],[64,1,64,2],[65,1,65,2],[66,1,66,2],[67,1,67,2],[56,1,56,2],[57,1,57,2],[58,1,58,2],[59,1,59,5],[60,1,60,2],[61,1,61,2],[74,1,74,2],[75,1,75,5],[76,0,80,0],[76,1,80,1],[76,3,80,3],[76,4,80,4],[76,5,80,5],[68,1,68,2],[69,1,69,2],[70,1,70,2],[71,1,71,2],[72,1,72,2],[73,1,73,2],[76,6,80,6],[76,7,80,7],[76,8,80,8],[81,0,85,0],[81,1,85,1],[81,3,85,3],[81,4,85,4],[81,5,85,5],[81,6,85,6],[81,7,85,7],[81,8,85,8],[86,0,90,0],[86,1,90,1],[86,3,90,3],[86,4,90,4],[86,5,90,5],[86,6,90,6],[86,7,90,7],[86,8,90,8],[91,7,95,7],[91,8,95,8],[96,0,100,0],[96,1,100,1],[96,3,100,3],[96,4,100,4],[96,5,100,5],[96,6,100,6],[96,7,100,7],[96,8,100,8],[91,0,95,0],[91,1,95,1],[91,3,95,3],[91,4,95,4],[91,5,95,5],[91,6,95,6],[101,7,105,7],[101,8,105,8],[106,0,110,0],[106,1,110,1],[106,3,110,3],[106,4,110,4],[106,5,110,5],[106,6,110,6],[106,7,110,7],[106,8,110,8],[101,0,105,0],[101,1,105,1],[101,3,105,3],[101,4,105,4],[101,5,105,5],[101,6,105,6],[111,7,115,7],[111,8,115,8],[116,0,120,0],[116,1,120,1],[116,3,120,3],[116,4,120,4],[116,5,120,5],[116,6,120,6],[116,7,120,7],[116,8,120,8],[111,0,115,0],[111,1,115,1],[111,3,115,3],[111,4,115,4],[111,5,115,5],[111,6,115,6],[127,1,133,1],[121,7,125,7],[121,8,125,8],[126,1,126,5],[121,0,125,0],[121,1,125,1],[121,3,125,3],[121,4,125,4],[121,5,125,5],[121,6,125,6],[127,0,133,0],[127,8,133,8],[134,0,140,0],[134,1,140,1],[134,8,140,8],[141,0,147,0],[141,1,147,1],[141,8,147,8],[148,0,154,0],[148,1,154,1],[148,8,154,8],[155,0,161,0],[155,1,161,1],[155,8,161,8],[162,0,168,0],[162,1,168,1],[162,8,168,8],[169,0,175,0],[169,1,175,1],[169,8,175,8],[176,0,182,0],[176,1,182,1],[176,8,182,8],[183,0,189,0],[183,1,189,1],[183,8,189,8],[190,0,196,0],[190,1,196,1],[190,8,196,8],[206,1,206,2],[207,1,207,2],[208,1,208,2],[209,0,209,5],[197,1,197,5],[198,1,198,2],[199,1,199,2],[200,1,200,2],[201,1,201,2],[202,1,202,2],[203,1,203,5],[204,1,204,2],[205,1,205,2]]}
[null,null,"Pasirinkite veiklos tipą:"]
[null,null,"Fizinio rodiklio Nr.:"]
["Fizinio rodiklio pavadinimas:"]
[null,null,"Fizinio rodiklio matavimo vnt.:",null,null,"Fizinio rodiklio vnt. skaičius:"]
["Juridinis asmuo (pareiškėjas, partneris), atsakingas už fizinį rodiklį:"]
[]
[null,null,"Finansavimo intensyvumas:",null,null,null,"Pasirinkite biudžeto išlaidų kategoriją:"]
[]
["Eil. Nr.","Išlaidų kategorijos pavadinimas",null,"Matavimo vnt.","Kiekis","Vieneto kaina be PVM, Eur","Tinkamų finansuoti išlaidų suma be PVM, Eur","Finansavimo suma, Eur","Išlaidų pagrindimo dokumentų pavadinimas, data ir Nr."]
[4,"ĮRANGA, ĮRENGINIAI IR KT. TURTAS (techninių žinių ir išradimų patentų arba teisių pagal licencijų sutartį įsigijimo išlaidos)",null,null,null,null,{"$f":"SUM(G11:G20)","v":0},{"$f":"SUM(H11:H20)","v":0}]
["4.1","Išlaidų pavadinimas",null,null,null,null,{"$f":"ROUND(E11*F11,2)","v":0},{"$f":"ROUND(G11*$D$7,2)","v":0}]
["4.2","Išlaidų pavadinimas",null,null,null,null,0,0]
["4.3","Išlaidų pavadinimas",null,null,null,null,0,0]
["4.4","Išlaidų pavadinimas",null,null,null,null,0,0]
["4.5","Išlaidų pavadinimas",null,null,null,null,0,0]
["4.6","Išlaidų pavadinimas",null,null,null,null,0,0]
["4.7","Išlaidų pavadinimas",null,null,null,null,0,0]
["4.8","Išlaidų pavadinimas",null,null,null,null,0,0]
["4.9","Išlaidų pavadinimas",null,null,null,null,0,0]
["4.10","Išlaidų pavadinimas",null,null,null,null,0,0]
[5,"PROJEKTO VYKDYMAS",null,null,null,null,{"$f":"G22+G33+G44+G60+G76+G127+G198+G204","v":0},{"$f":"H22+H33+H44+H60+H76+H127+H198+H204","v":0}]
["5.1","MTEP paslaugos",null,null,null,null,{"$f":"SUM(G23:G32)","v":0},{"$f":"SUM(H23:H32)","v":0}]
["5.1.1","Paslaugos pavadinimas",null,null,null,null,{"$f":"ROUND(E23*F23,2)","v":0},0]
["5.1.2","Paslaugos pavadinimas",null,null,null,null,0,0]
["5.1.3","Paslaugos pavadinimas",null,null,null,null,0,0]
["5.1.4","Paslaugos pavadinimas",null,null,null,null,0,0]
["5.1.5","Paslaugos pavadinimas",null,null,null,null,0,0]
["5.1.6","Paslaugos pavadinimas",null,null,null,null,0,0]
["5.1.7","Paslaugos pavadinimas",null,null,null,null,0,0]
["5.1.8","Paslaugos pavadinimas",null,null,null,null,0,0]
["5.1.9","Paslaugos pavadinimas",null,null,null,null,0,0]
["5.1.10","Paslaugos pavadinimas",null,null,null,null,0,0]
["5.2","Konsultavimo ir lygiavertės paslaugos, naudojamos vien tik projekto MTEP veiklai",null,null,null,null,{"$f":"SUM(G34:G43)","v":0},{"$f":"SUM(H34:H43)","v":0}]
["5.2.1","Paslaugos pavadinimas",null,null,null,null,{"$f":"ROUND(E34*F34,2)","v":0},0]
["5.2.2","Paslaugos pavadinimas",null,null,null,null,0,0]
["5.2.3","Paslaugos pavadinimas",null,null,null,null,0,0]
["5.2.4","Paslaugos pavadinimas",null,null,null,null,0,0]
["5.2.5","Paslaugos pavadinimas",null,null,null,null,0,0]
["5.2.6","Paslaugos pavadinimas",null,null,null,null,0,0]
["5.2.7","Paslaugos pavadinimas",null,null,null,null,0,0]
["5.2.8","Paslaugos pavadinimas",null,null,null,null,0,0]
["5.2.9","Paslaugos pavadinimas",null,null,null,null,0,0]
["5.2.10","Paslaugos pavadinimas",null,null,null,null,0,0]
["5.3","Medžiagos, mažavertis inventorius, atsargos ir pan. produktai, priskirtini trumpalaikiam turtui ir tiesiogiai susiję su MTEP veikla",null,null,null,null,{"$f":"SUM(G45:G59)","v":0},{"$f":"SUM(H45:H59)","v":0}]
["5.3.1","Išlaidų pavadinimas",null,null,null,null,{"$f":"ROUND(E45*F45,2)","v":0},{"$f":"ROUND(G45*$D$7,2)","v":0}]
["5.3.2","Išlaidų pavadinimas",null,null,null,null,0,0]
["5.3.3","Išlaidų pavadinimas",null,null,null,null,0,0]
["5.3.4","Išlaidų pavadinimas",null,null,null,null,0,0]
["5.3.5","Išlaidų pavadinimas",null,null,null,null,0,0]
["5.3.6","Išlaidų pavadinimas",null,null,null,null,0,0]
["5.3.7","Išlaidų pavadinimas",null,null,null,null,0,0]
["5.3.8","Išlaidų pavadinimas",null,null,null,null,0,0]
["5.3.9","Išlaidų pavadinimas",null,null,null,null,0,0]
["5.3.10","Išlaidų pavadinimas",null,null,null,null,0,0]
["5.3.11","Išlaidų pavadinimas",null,null,null,null,0,0]
["5.3.12","Išlaidų pavadinimas",null,null,null,null,0,0]
["5.3.13","Išlaidų pavadinimas",null,null,null,null,0,0]
["5.3.14","Išlaidų pavadinimas",null,null,null,null,0,0]
["5.3.15","Išlaidų pavadinimas",null,null,null,null,0,0]
["5.4","Projekto MTEP veikloms naudojamo ilgalaikio materialaus turto (įrangos, prietaisų, įrankių, įrenginių, mašinų ir įrengimų, pastatų ir (ar) patalpų), nusidėvėjimo sąnaudos, jeigu šiam turtui įsigyti nebuvo naudojamos viešosios (įskaitant ir kitų valstybių) lėšos",null,null,null,null,{"$f":"SUM(G61:G75)","v":0},{"$f":"SUM(H61:H75)","v":0},null,null,"Turto įvedimo į eksploataciją data","Turto įsigijimo vertė, Eur","Turto nudėvėjimo, amortizacijos laikotarpis, mėn.","Numatoma turto likutinė vertė, Eur","1 mėn. nudėvėjimo, amortizacijos suma, Eur","Turto naudojamo projekto reikmėms laikas, mėn.","Turto panaudojimo projekto reikmėms dalis (proc.)","Projektui priskirta turto nusidėvėjimo, amortizacijos suma per projekto laikotarpį, Eur"]
["5.4.1","Turtas, kurio nusidėvėjimą, amortizaciją prašoma finansuoti",null,null,1,{"$f":"R61","v":0},{"$f":"ROUND(E61*F61,2)","v":0},0,null,null,null,null,null,null,{"$f":"IFERROR(ROUND((L61-N61)/M61,2),\"0\")","v":"0"},null,null,{"$f":"O61*P61*Q61","v":0},{"$f":"IF(K61=0,\" \",IF(K61+(M61*30.5)<TODAY(),\"DĖMESIO! Patikrinkite, ar nurodytas turtas dar nėra nudėvėtas, amortizuotas\",\" \"))","v":" "}]
["5.4.2","Turtas, kurio nusidėvėjimą, amortizaciją prašoma finansuoti",null,null,1,{"$f":"R62","v":0},0,0,null,null,null,null,null,null,{"$f":"IFERROR(ROUND((L62-N62)/M62,2),\"0\")","v":"0"},null,null,{"$f":"O62*P62*Q62","v":0},{"$f":"IF(K62=0,\" \",IF(K62+(M62*30.5)<TODAY(),\"DĖMESIO! Patikrinkite, ar nurodytas turtas dar nėra nudėvėtas, amortizuotas\",\" \"))","v":" "}]
["5.4.3","Turtas, kurio nusidėvėjimą, amortizaciją prašoma finansuoti",null,null,1,0,0,0,null,null,null,null,null,null,"0",null,null,0," "]
["5.4.4","Turtas, kurio nusidėvėjimą, amortizaciją prašoma finansuoti",null,null,1,0,0,0,null,null,null,null,null,null,"0",null,null,0," "]
["5.4.5","Turtas, kurio nusidėvėjimą, amortizaciją prašoma finansuoti",null,null,1,0,0,0,null,null,null,null,null,null,"0",null,null,0," "]
["5.4.6","Turtas, kurio nusidėvėjimą, amortizaciją prašoma finansuoti",null,null,1,0,0,0,null,null,null,null,null,null,"0",null,null,0," "]
["5.4.7","Turtas, kurio nusidėvėjimą, amortizaciją prašoma finansuoti",null,null,1,0,0,0,null,null,null,null,null,null,"0",null,null,0," "]
["5.4.8","Turtas, kurio nusidėvėjimą, amortizaciją prašoma finansuoti",null,null,1,0,0,0,null,null,null,null,null,null,"0",null,null,0," "]
["5.4.9","Turtas, kurio nusidėvėjimą, amortizaciją prašoma finansuoti",null,null,1,0,0,0,null,null,null,null,null,null,"0",null,null,0," "]
["5.4.10","Turtas, kurio nusidėvėjimą, amortizaciją prašoma finansuoti",null,null,1,0,0,0,null,null,null,null,null,null,"0",null,null,0," "]
["5.4.11","Turtas, kurio nusidėvėjimą, amortizaciją prašoma finansuoti",null,null,1,0,0,0,null,null,null,null,null,null,"0",null,null,0," "]
["5.4.12","Turtas, kurio nusidėvėjimą, amortizaciją prašoma finansuoti",null,null,1,0,0,0,null,null,null,null,null,null,"0",null,null,0," "]
["5.4.13","Turtas, kurio nusidėvėjimą, amortizaciją prašoma finansuoti",null,null,1,0,0,0,null,null,null,null,null,null,"0",null,null,0," "]
["5.4.14","Turtas, kurio nusidėvėjimą, amortizaciją prašoma finansuoti",null,null,1,0,0,0,null,null,null,null,null,null,"0",null,null,0," "]
["5.4.15","Turtas, kurio nusidėvėjimą, amortizaciją prašoma finansuoti",null,null,1,0,0,0,null,null,null,null,null,null,"0",null,null,0," "]
["5.5","Projektą vykdančio personalo darbo užmokestis ir išlaidos su darbo santykiais susijusiems darbdavio įsipareigojimams",null,null,null,null,{"$f":"SUM(G77:G126)","v":0},{"$f":"SUM(H77:H126)","v":0},null,null,"Faktiškai gaunamas darbo užmokesti už 1 valandą pagal  pastarųjų 6 mėn. vidurkį, Eur"]
["5.5.1","Pareigybės pavadinimas","Darbuotojo vardas pavardė","val.",null,{"$f":"IFERROR(ROUND(AVERAGE(K77:K81),2),\"0\")","v":"0"},{"$f":"ROUND(E77*F77,2)","v":0},{"$f":"ROUND(G77*$D$7,2)","v":0}]
[null,null,"Darbuotojo vardas pavardė"]
[null,null,"Darbuotojo vardas pavardė"]
[null,null,"Darbuotojo vardas pavardė"]
[null,null,"Darbuotojo vardas pavardė"]
["5.5.2","Pareigybės pavadinimas","Darbuotojo vardas pavardė","val.",null,{"$f":"IFERROR(ROUND(AVERAGE(K82:K86),2),\"0\")","v":"0"},{"$f":"ROUND(E82*F82,2)","v":0},{"$f":"ROUND(G82*$D$7,2)","v":0}]
[null,null,"Darbuotojo vardas pavardė"]
[null,null,"Darbuotojo vardas pavardė"]
[null,null,"Darbuotojo vardas pavardė"]
[null,null,"Darbuotojo vardas pavardė"]
["5.5.3","Pareigybės pavadinimas","Darbuotojo vardas pavardė","val.",null,{"$f":"IFERROR(ROUND(AVERAGE(K87:K91),2),\"0\")","v":"0"},{"$f":"ROUND(E87*F87,2)","v":0},{"$f":"ROUND(G87*$D$7,2)","v":0}]
[null,null,"Darbuotojo vardas pavardė"]
[null,null,"Darbuotojo vardas pavardė"]
[null,null,"Darbuotojo vardas pavardė"]
[null,null,"Darbuotojo vardas pavardė"]
["5.5.4","Pareigybės pavadinimas","Darbuotojo vardas pavardė","val.",null,{"$f":"IFERROR(ROUND(AVERAGE(K92:K96),2),\"0\")","v":"0"},{"$f":"ROUND(E92*F92,2)","v":0},{"$f":"ROUND(G92*$D$7,2)","v":0}]
[null,null,"Darbuotojo vardas pavardė"]
[null,null,"Darbuotojo vardas pavardė"]
[null,null,"Darbuotojo vardas pavardė"]
[null,null,"Darbuotojo vardas pavardė"]
["5.5.5","Pareigybės pavadinimas","Darbuotojo vardas pavardė","val.",null,{"$f":"IFERROR(ROUND(AVERAGE(K97:K101),2),\"0\")","v":"0"},{"$f":"ROUND(E97*F97,2)","v":0},{"$f":"ROUND(G97*$D$7,2)","v":0}]
[null,null,"Darbuotojo vardas pavardė"]
[null,null,"Darbuotojo vardas pavardė"]
[null,null,"Darbuotojo vardas pavardė"]
[null,null,"Darbuotojo vardas pavardė"]
["5.5.6","Pareigybės pavadinimas","Darbuotojo vardas pavardė","val.",null,{"$f":"IFERROR(ROUND(AVERAGE(K102:K106),2),\"0\")","v":"0"},{"$f":"ROUND(E102*F102,2)","v":0},{"$f":"ROUND(G102*$D$7,2)","v":0}]
[null,null,"Darbuotojo vardas pavardė"]
[null,null,"Darbuotojo vardas pavardė"]
[null,null,"Darbuotojo vardas pavardė"]
[null,null,"Darbuotojo vardas pavardė"]
["5.5.7","Pareigybės pavadinimas","Darbuotojo vardas pavardė","val.",null,{"$f":"IFERROR(ROUND(AVERAGE(K107:K111),2),\"0\")","v":"0"},{"$f":"ROUND(E107*F107,2)","v":0},{"$f":"ROUND(G107*$D$7,2)","v":0}]
[null,null,"Darbuotojo vardas pavardė"]
[null,null,"Darbuotojo vardas pavardė"]
[null,null,"Darbuotojo vardas pavardė"]
[null,null,"Darbuotojo vardas pavardė"]
["5.5.8","Pareigybės pavadinimas","Darbuotojo vardas pavardė","val.",null,{"$f":"IFERROR(ROUND(AVERAGE(K112:K116),2),\"0\")","v":"0"},{"$f":"ROUND(E112*F112,2)","v":0},{"$f":"ROUND(G112*$D$7,2)","v":0}]
[null,null,"Darbuotojo vardas pavardė"]
[null,null,"Darbuotojo vardas pavardė"]
[null,null,"Darbuotojo vardas pavardė"]
[null,null,"Darbuotojo vardas pavardė"]
["5.5.9","Pareigybės pavadinimas","Darbuotojo vardas pavardė","val.",null,{"$f":"IFERROR(ROUND(AVERAGE(K117:K121),2),\"0\")","v":"0"},{"$f":"ROUND(E117*F117,2)","v":0},{"$f":"ROUND(G117*$D$7,2)","v":0}]
[null,null,"Darbuotojo vardas pavardė"]
[null,null,"Darbuotojo vardas pavardė"]
[null,null,"Darbuotojo vardas pavardė"]
[null,null,"Darbuotojo vardas pavardė"]
["5.5.10","Pareigybės pavadinimas","Darbuotojo vardas pavardė","val.",null,{"$f":"IFERROR(ROUND(AVERAGE(K122:K126),2),\"0\")","v":"0"},{"$f":"ROUND(E122*F122,2)","v":0},{"$f":"ROUND(G122*$D$7,2)","v":0}]
[null,null,"Darbuotojo vardas pavardė"]
[null,null,"Darbuotojo vardas pavardė"]
[null,null,"Darbuotojo vardas pavardė"]
[null,null,"Darbuotojo vardas pavardė"]
["5.6","Projektą vykdančio personalo komandiruočių išlaidos",null,null,null,null,{"$f":"SUM(G128,G135,G142,G149,G156,G163,G170,G177,G184,G191)","v":0},{"$f":"SUM(H128,H135,H142,H149,H156,H163,H170,H177,H184,H191)","v":0}]
["5.6.1","Komandiruotės pavadinimas, vieta, trukmė dienomis, vykstančių asmenų skaičius","Iš viso komandiruotei",null,null,null,{"$f":"SUM(G129:G134)","v":0},{"$f":"ROUND(G128*$D$7,2)","v":0}]
[null,null,"Dienpinigiai",null,null,null,{"$f":"ROUND(E129*F129,2)","v":0}]
[null,null,"Gyvenamojo ploto nuoma",null,null,null,0]
[null,null,"Kelionės išlaidos",null,null,null,0]
[null,null,"Dalyvavimo mokestis",null,null,null,0]
[null,null,"Kitos išlaidų pavadinimas",null,null,null,0]
[null,null,"Kitos išlaidų pavadinimas",null,null,null,0]
["5.6.2","Komandiruotės pavadinimas, vieta, trukmė dienomis, vykstančių asmenų skaičius","Iš viso komandiruotei",null,null,null,{"$f":"SUM(G136:G141)","v":0},{"$f":"ROUND(G135*$D$7,2)","v":0}]
[null,null,"Dienpinigiai",null,null,null,{"$f":"ROUND(E136*F136,2)","v":0}]
[null,null,"Gyvenamojo ploto nuoma",null,null,null,0]
[null,null,"Kelionės išlaidos",null,null,null,0]
[null,null,"Dalyvavimo mokestis",null,null,null,0]
[null,null,"Kitos išlaidų pavadinimas",null,null,null,0]
[null,null,"Kitos išlaidų pavadinimas",null,null,null,0]
["5.6.3","Komandiruotės pavadinimas, vieta, trukmė dienomis, vykstančių asmenų skaičius","Iš viso komandiruotei",null,null,null,{"$f":"SUM(G143:G148)","v":0},{"$f":"ROUND(G142*$D$7,2)","v":0}]
[null,null,"Dienpinigiai",null,null,null,{"$f":"ROUND(E143*F143,2)","v":0}]
[null,null,"Gyvenamojo ploto nuoma",null,null,null,0]
[null,null,"Kelionės išlaidos",null,null,null,0]
[null,null,"Dalyvavimo mokestis",null,null,null,0]
[null,null,"Kitos išlaidų pavadinimas",null,null,null,0]
[null,null,"Kitos išlaidų pavadinimas",null,null,null,0]
["5.6.4","Komandiruotės pavadinimas, vieta, trukmė dienomis, vykstančių asmenų skaičius","Iš viso komandiruotei",null,null,null,{"$f":"SUM(G150:G155)","v":0},{"$f":"ROUND(G149*$D$7,2)","v":0}]
[null,null,"Dienpinigiai",null,null,null,{"$f":"ROUND(E150*F150,2)","v":0}]
[null,null,"Gyvenamojo ploto nuoma",null,null,null,0]
[null,null,"Kelionės išlaidos",null,null,null,0]
[null,null,"Dalyvavimo mokestis",null,null,null,0]
[null,null,"Kitos išlaidų pavadinimas",null,null,null,0]
[null,null,"Kitos išlaidų pavadinimas",null,null,null,0]
["5.6.5","Komandiruotės pavadinimas, vieta, trukmė dienomis, vykstančių asmenų skaičius","Iš viso komandiruotei",null,null,null,{"$f":"SUM(G157:G162)","v":0},{"$f":"ROUND(G156*$D$7,2)","v":0}]
[null,null,"Dienpinigiai",null,null,null,{"$f":"ROUND(E157*F157,2)","v":0}]
[null,null,"Gyvenamojo ploto nuoma",null,null,null,0]
[null,null,"Kelionės išlaidos",null,null,null,0]
[null,null,"Dalyvavimo mokestis",null,null,null,0]
[null,null,"Kitos išlaidų pavadinimas",null,null,null,0]
[null,null,"Kitos išlaidų pavadinimas",null,null,null,0]
["5.6.6","Komandiruotės pavadinimas, vieta, trukmė dienomis, vykstančių asmenų skaičius","Iš viso komandiruotei",null,null,null,{"$f":"SUM(G164:G169)","v":0},{"$f":"ROUND(G163*$D$7,2)","v":0}]
[null,null,"Dienpinigiai",null,null,null,{"$f":"ROUND(E164*F164,2)","v":0}]
[null,null,"Gyvenamojo ploto nuoma",null,null,null,0]
[null,null,"Kelionės išlaidos",null,null,null,0]
[null,null,"Dalyvavimo mokestis",null,null,null,0]
[null,null,"Kitos išlaidų pavadinimas",null,null,null,0]
[null,null,"Kitos išlaidų pavadinimas",null,null,null,0]
["5.6.7","Komandiruotės pavadinimas, vieta, trukmė dienomis, vykstančių asmenų skaičius","Iš viso komandiruotei",null,null,null,{"$f":"SUM(G171:G176)","v":0},{"$f":"ROUND(G170*$D$7,2)","v":0}]
[null,null,"Dienpinigiai",null,null,null,{"$f":"ROUND(E171*F171,2)","v":0}]
[null,null,"Gyvenamojo ploto nuoma",null,null,null,0]
[null,null,"Kelionės išlaidos",null,null,null,0]
[null,null,"Dalyvavimo mokestis",null,null,null,0]
[null,null,"Kitos išlaidų pavadinimas",null,null,null,0]
[null,null,"Kitos išlaidų pavadinimas",null,null,null,0]
["5.6.8","Komandiruotės pavadinimas, vieta, trukmė dienomis, vykstančių asmenų skaičius","Iš viso komandiruotei",null,null,null,{"$f":"SUM(G178:G183)","v":0},{"$f":"ROUND(G177*$D$7,2)","v":0}]
[null,null,"Dienpinigiai",null,null,null,{"$f":"ROUND(E178*F178,2)","v":0}]
[null,null,"Gyvenamojo ploto nuoma",null,null,null,0]
[null,null,"Kelionės išlaidos",null,null,null,0]
[null,null,"Dalyvavimo mokestis",null,null,null,0]
[null,null,"Kitos išlaidų pavadinimas",null,null,null,0]
[null,null,"Kitos išlaidų pavadinimas",null,null,null,0]
["5.6.9","Komandiruotės pavadinimas, vieta, trukmė dienomis, vykstančių asmenų skaičius","Iš viso komandiruotei",null,null,null,{"$f":"SUM(G185:G190)","v":0},{"$f":"ROUND(G184*$D$7,2)","v":0}]
[null,null,"Dienpinigiai",null,null,null,{"$f":"ROUND(E185*F185,2)","v":0}]
[null,null,"Gyvenamojo ploto nuoma",null,null,null,0]
[null,null,"Kelionės išlaidos",null,null,null,0]
[null,null,"Dalyvavimo mokestis",null,null,null,0]
[null,null,"Kitos išlaidų pavadinimas",null,null,null,0]
[null,null,"Kitos išlaidų pavadinimas",null,null,null,0]
["5.6.10","Komandiruotės pavadinimas, vieta, trukmė dienomis, vykstančių asmenų skaičius","Iš viso komandiruotei",null,null,null,{"$f":"SUM(G192:G197)","v":0},{"$f":"ROUND(G191*$D$7,2)","v":0}]
[null,null,"Dienpinigiai",null,null,null,{"$f":"ROUND(E192*F192,2)","v":0}]
[null,null,"Gyvenamojo ploto nuoma",null,null,null,0]
[null,null,"Kelionės išlaidos",null,null,null,0]
[null,null,"Dalyvavimo mokestis",null,null,null,0]
[null,null,"Kitos išlaidų pavadinimas",null,null,null,0]
[null,null,"Kitos išlaidų pavadinimas",null,null,null,0]
["5.7","Įrangos nuomos išlaidos, veiklai priskirtos pro rata principu. Įranga turi būti tiesiogiai susijusi su projekto įgyvendinimu ir negali būti įsigyta iš ES struktūrinių fondų ar kt. ES finansinių priemonių lėšų",null,null,null,null,{"$f":"SUM(G199:G203)","v":0},{"$f":"SUM(H199:H203)","v":0},null,null,"Faktinės 1 mėnesio išlaidos, Eur","Naudojimo projekte trukmė, mėn."]
["5.7.1","Įrangos pavadinimas",null,"pro rata proc.",null,{"$f":"K199*L199","v":0},0,{"$f":"ROUND(G199*$D$7,2)","v":0}]
["5.7.2","Įrangos pavadinimas",null,"pro rata proc.",null,{"$f":"K200*L200","v":0},0,{"$f":"ROUND(G200*$D$7,2)","v":0}]
["5.7.3","Įrangos pavadinimas",null,"pro rata proc.",null,0,0,0]
["5.7.4","Įrangos pavadinimas",null,"pro rata proc.",null,0,0,0]
["5.7.5","Įrangos pavadinimas",null,"pro rata proc.",null,0,0,0]
["5.8","Pastatų ar patalpų nuomos išlaidos, veiklai priskirtos pro rata principu. Pastatai ar patalpos turi būti tiesiogiai susijusi su projekto įgyvendinimu.",null,null,null,null,{"$f":"SUM(G205:G209)","v":0},{"$f":"SUM(H205:H209)","v":0},null,null,"Faktinės 1 mėnesio išlaidos, Eur","Naudojimo projekte trukmė, mėn."]
["5.8.1","Pastato, patalpų adresas",null,"pro rata proc.",null,{"$f":"K205*L205","v":0},{"$f":"ROUND(E205*F205,2)","v":0},{"$f":"ROUND(G205*$D$7,2)","v":0}]
["5.8.2","Pastato, patalpų adresas",null,"pro rata proc.",null,{"$f":"K206*L206","v":0},0,0]
["5.8.3","Pastato, patalpų adresas",null,"pro rata proc.",null,0,0,0]
["5.8.4","Pastato, patalpų adresas",null,"pro rata proc.",null,0,0,0]
["5.8.5","Pastato, patalpų adresas",null,"pro rata proc.",null,0,0,0]
["Iš viso tinkamų finansuoti išlaidų:",null,null,null,null,null,{"$f":"G10+G21","v":0},{"$f":"H10+H21","v":0}]

{"sheet":"13","index":14,"n_rows":210,"n_cols":19,"rows_kept":210,"cut":false,"hidden":false,"merged":[[0,3,0,8],[2,0,2,2],[2,3,2,8],[3,3,3,4],[3,5,3,6],[4,0,4,2],[4,3,4,8],[14,1,14,2],[15,1,15,2],[16,1,16,2],[17,1,17,2],[18,1,18,2],[19,1,19,2],[8,1,8,2],[9,1,9,5],[10,1,10,2],[11,1,11,2],[12,1,12,2],[13,1,13,2],[26,1,26,2],[27,1,27,2],[28,1,28,2],[29,1,29,2],[30,1,30,2],[31,1,31,2],[20,1,20,5],[21,1,21,5],[22,1,22,2],[23,1,23,2],[24,1,24,2],[25,1,25,2],[38,1,38,2],[39,1,39,2],[40,1,40,2],[41,1,41,2],[42,1,42,2],[43,1,43,5],[32,1,32,5],[33,1,33,2],[34,1,34,2],[35,1,35,2],[36,1,36,2],[37,1,37,2],[50,1,50,2],[51,1,51,2],[52,1,52,2],[53,1,53,2],[54,1,54,2],[55,1,55,2],[44,1,44,2],[45,1,45,2],[46,1,46,2],[47,1,47,2],[48,1,48,2],[49,1,49,2],[62,1,62,2],[63,1,63,2],[64,1,64,2],[65,1,65,2],[66,1,66,2],[67,1,67,2],[56,1,56,2],[57,1,57,2],[58,1,58,2],[59,1,59,5],[60,1,60,2],[61,1,61,2],[74,1,74,2],[75,1,75,5],[76,0,80,0],[76,1,80,1],[76,3,80,3],[76,4,80,4],[76,5,80,5],[68,1,68,2],[69,1,69,2],[70,1,70,2],[71,1,71,2],[72,1,72,2],[73,1,73,2],[76,6,80,6],[76,7,80,7],[76,8,80,8],[81,0,85,0],[81,1,85,1],[81,3,85,3],[81,4,85,4],[81,5,85,5],[81,6,85,6],[81,7,85,7],[81,8,85,8],[86,0,90,0],[86,1,90,1],[86,3,90,3],[86,4,90,4],[86,5,90,5],[86,6,90,6],[86,7,90,7],[86,8,90,8],[91,7,95,7],[91,8,95,8],[96,0,100,0],[96,1,100,1],[96,3,100,3],[96,4,100,4],[96,5,100,5],[96,6,100,6],[96,7,100,7],[96,8,100,8],[91,0,95,0],[91,1,95,1],[91,3,95,3],[91,4,95,4],[91,5,95,5],[91,6,95,6],[101,7,105,7],[101,8,105,8],[106,0,110,0],[106,1,110,1],[106,3,110,3],[106,4,110,4],[106,5,110,5],[106,6,110,6],[106,7,110,7],[106,8,110,8],[101,0,105,0],[101,1,105,1],[101,3,105,3],[101,4,105,4],[101,5,105,5],[101,6,105,6],[111,7,115,7],[111,8,115,8],[116,0,120,0],[116,1,120,1],[116,3,120,3],[116,4,120,4],[116,5,120,5],[116,6,120,6],[116,7,120,7],[116,8,120,8],[111,0,115,0],[111,1,115,1],[111,3,115,3],[111,4,115,4],[111,5,115,5],[111,6,115,6],[127,1,133,1],[121,7,125,7],[121,8,125,8],[126,1,126,5],[121,0,125,0],[121,1,125,1],[121,3,125,3],[121,4,125,4],[121,5,125,5],[121,6,125,6],[127,0,133,0],[127,8,133,8],[134,0,140,0],[134,1,140,1],[134,8,140,8],[141,0,147,0],[141,1,147,1],[141,8,147,8],[148,0,154,0],[148,1,154,1],[148,8,154,8],[155,0,161,0],[155,1,161,1],[155,8,161,8],[162,0,168,0],[162,1,168,1],[162,8,168,8],[169,0,175,0],[169,1,175,1],[169,8,175,8],[176,0,182,0],[176,1,182,1],[176,8,182,8],[183,0,189,0],[183,1,189,1],[183,8,189,8],[190,0,196,0],[190,1,196,1],[190,8,196,8],[206,1,206,2],[207,1,207,2],[208,1,208,2],[209,0,209,5],[197,1,197,5],[198,1,198,2],[199,1,199,2],[200,1,200,2],[201,1,201,2],[202,1,202,2],[203,1,203,5],[204,1,204,2],[205,1,205,2]]}
[null,null,"Pasirinkite veiklos tipą:"]
[null,null,"Fizinio rodiklio Nr.:"]
["Fizinio rodiklio pavadinimas:"]
[null,null,"Fizinio rodiklio matavimo vnt.:",null,null,"Fizinio rodiklio vnt. skaičius:"]
["Juridinis asmuo (pareiškėjas, partneris), atsakingas už fizinį rodiklį:"]
[]
[null,null,"Finansavimo intensyvumas:",null,null,null,"Pasirinkite biudžeto išlaidų kategoriją:"]
[]
["Eil. Nr.","Išlaidų kategorijos pavadinimas",null,"Matavimo vnt.","Kiekis","Vieneto kaina be PVM, Eur","Tinkamų finansuoti išlaidų suma be PVM, Eur","Finansavimo suma, Eur","Išlaidų pagrindimo dokumentų pavadinimas, data ir Nr."]
[4,"ĮRANGA, ĮRENGINIAI IR KT. TURTAS (techninių žinių ir išradimų patentų arba teisių pagal licencijų sutartį įsigijimo išlaidos)",null,null,null,null,{"$f":"SUM(G11:G20)","v":0},{"$f":"SUM(H11:H20)","v":0}]
["4.1","Išlaidų pavadinimas",null,null,null,null,{"$f":"ROUND(E11*F11,2)","v":0},{"$f":"ROUND(G11*$D$7,2)","v":0}]
["4.2","Išlaidų pavadinimas",null,null,null,null,0,0]
["4.3","Išlaidų pavadinimas",null,null,null,null,0,0]
["4.4","Išlaidų pavadinimas",null,null,null,null,0,0]
["4.5","Išlaidų pavadinimas",null,null,null,null,0,0]
["4.6","Išlaidų pavadinimas",null,null,null,null,0,0]
["4.7","Išlaidų pavadinimas",null,null,null,null,0,0]
["4.8","Išlaidų pavadinimas",null,null,null,null,0,0]
["4.9","Išlaidų pavadinimas",null,null,null,null,0,0]
["4.10","Išlaidų pavadinimas",null,null,null,null,0,0]
[5,"PROJEKTO VYKDYMAS",null,null,null,null,{"$f":"G22+G33+G44+G60+G76+G127+G198+G204","v":0},{"$f":"H22+H33+H44+H60+H76+H127+H198+H204","v":0}]
["5.1","MTEP paslaugos",null,null,null,null,{"$f":"SUM(G23:G32)","v":0},{"$f":"SUM(H23:H32)","v":0}]
["5.1.1","Paslaugos pavadinimas",null,null,null,null,{"$f":"ROUND(E23*F23,2)","v":0},0]
["5.1.2","Paslaugos pavadinimas",null,null,null,null,0,0]
["5.1.3","Paslaugos pavadinimas",null,null,null,null,0,0]
["5.1.4","Paslaugos pavadinimas",null,null,null,null,0,0]
["5.1.5","Paslaugos pavadinimas",null,null,null,null,0,0]
["5.1.6","Paslaugos pavadinimas",null,null,null,null,0,0]
["5.1.7","Paslaugos pavadinimas",null,null,null,null,0,0]
["5.1.8","Paslaugos pavadinimas",null,null,null,null,0,0]
["5.1.9","Paslaugos pavadinimas",null,null,null,null,0,0]
["5.1.10","Paslaugos pavadinimas",null,null,null,null,0,0]
["5.2","Konsultavimo ir lygiavertės paslaugos, naudojamos vien tik projekto MTEP veiklai",null,null,null,null,{"$f":"SUM(G34:G43)","v":0},{"$f":"SUM(H34:H43)","v":0}]
["5.2.1","Paslaugos pavadinimas",null,null,null,null,{"$f":"ROUND(E34*F34,2)","v":0},0]
["5.2.2","Paslaugos pavadinimas",null,null,null,null,0,0]
["5.2.3","Paslaugos pavadinimas",null,null,null,null,0,0]
["5.2.4","Paslaugos pavadinimas",null,null,null,null,0,0]
["5.2.5","Paslaugos pavadinimas",null,null,null,null,0,0]
["5.2.6","Paslaugos pavadinimas",null,null,null,null,0,0]
["5.2.7","Paslaugos pavadinimas",null,null,null,null,0,0]
["5.2.8","Paslaugos pavadinimas",null,null,null,null,0,0]
["5.2.9","Paslaugos pavadinimas",null,null,null,null,0,0]
["5.2.10","Paslaugos pavadinimas",null,null,null,null,0,0]
["5.3","Medžiagos, mažavertis inventorius, atsargos ir pan. produktai, priskirtini trumpalaikiam turtui ir tiesiogiai susiję su MTEP veikla",null,null,null,null,{"$f":"SUM(G45:G59)","v":0},{"$f":"SUM(H45:H59)","v":0}]
["5.3.1","Išlaidų pavadinimas",null,null,null,null,{"$f":"ROUND(E45*F45,2)","v":0},{"$f":"ROUND(G45*$D$7,2)","v":0}]
["5.3.2","Išlaidų pavadinimas",null,null,null,null,0,0]
["5.3.3","Išlaidų pavadinimas",null,null,null,null,0,0]
["5.3.4","Išlaidų pavadinimas",null,null,null,null,0,0]
["5.3.5","Išlaidų pavadinimas",null,null,null,null,0,0]
["5.3.6","Išlaidų pavadinimas",null,null,null,null,0,0]
["5.3.7","Išlaidų pavadinimas",null,null,null,null,0,0]
["5.3.8","Išlaidų pavadinimas",null,null,null,null,0,0]
["5.3.9","Išlaidų pavadinimas",null,null,null,null,0,0]
["5.3.10","Išlaidų pavadinimas",null,null,null,null,0,0]
["5.3.11","Išlaidų pavadinimas",null,null,null,null,0,0]
["5.3.12","Išlaidų pavadinimas",null,null,null,null,0,0]
["5.3.13","Išlaidų pavadinimas",null,null,null,null,0,0]
["5.3.14","Išlaidų pavadinimas",null,null,null,null,0,0]
["5.3.15","Išlaidų pavadinimas",null,null,null,null,0,0]
["5.4","Projekto MTEP veikloms naudojamo ilgalaikio materialaus turto (įrangos, prietaisų, įrankių, įrenginių, mašinų ir įrengimų, pastatų ir (ar) patalpų), nusidėvėjimo sąnaudos, jeigu šiam turtui įsigyti nebuvo naudojamos viešosios (įskaitant ir kitų valstybių) lėšos",null,null,null,null,{"$f":"SUM(G61:G75)","v":0},{"$f":"SUM(H61:H75)","v":0},null,null,"Turto įvedimo į eksploataciją data","Turto įsigijimo vertė, Eur","Turto nudėvėjimo, amortizacijos laikotarpis, mėn.","Numatoma turto likutinė vertė, Eur","1 mėn. nudėvėjimo, amortizacijos suma, Eur","Turto naudojamo projekto reikmėms laikas, mėn.","Turto panaudojimo projekto reikmėms dalis (proc.)","Projektui priskirta turto nusidėvėjimo, amortizacijos suma per projekto laikotarpį, Eur"]
["5.4.1","Turtas, kurio nusidėvėjimą, amortizaciją prašoma finansuoti",null,null,1,{"$f":"R61","v":0},{"$f":"ROUND(E61*F61,2)","v":0},0,null,null,null,null,null,null,{"$f":"IFERROR(ROUND((L61-N61)/M61,2),\"0\")","v":"0"},null,null,{"$f":"O61*P61*Q61","v":0},{"$f":"IF(K61=0,\" \",IF(K61+(M61*30.5)<TODAY(),\"DĖMESIO! Patikrinkite, ar nurodytas turtas dar nėra nudėvėtas, amortizuotas\",\" \"))","v":" "}]
["5.4.2","Turtas, kurio nusidėvėjimą, amortizaciją prašoma finansuoti",null,null,1,{"$f":"R62","v":0},0,0,null,null,null,null,null,null,{"$f":"IFERROR(ROUND((L62-N62)/M62,2),\"0\")","v":"0"},null,null,{"$f":"O62*P62*Q62","v":0},{"$f":"IF(K62=0,\" \",IF(K62+(M62*30.5)<TODAY(),\"DĖMESIO! Patikrinkite, ar nurodytas turtas dar nėra nudėvėtas, amortizuotas\",\" \"))","v":" "}]
["5.4.3","Turtas, kurio nusidėvėjimą, amortizaciją prašoma finansuoti",null,null,1,0,0,0,null,null,null,null,null,null,"0",null,null,0," "]
["5.4.4","Turtas, kurio nusidėvėjimą, amortizaciją prašoma finansuoti",null,null,1,0,0,0,null,null,null,null,null,null,"0",null,null,0," "]
["5.4.5","Turtas, kurio nusidėvėjimą, amortizaciją prašoma finansuoti",null,null,1,0,0,0,null,null,null,null,null,null,"0",null,null,0," "]
["5.4.6","Turtas, kurio nusidėvėjimą, amortizaciją prašoma finansuoti",null,null,1,0,0,0,null,null,null,null,null,null,"0",null,null,0," "]
["5.4.7","Turtas, kurio nusidėvėjimą, amortizaciją prašoma finansuoti",null,null,1,0,0,0,null,null,null,null,null,null,"0",null,null,0," "]
["5.4.8","Turtas, kurio nusidėvėjimą, amortizaciją prašoma finansuoti",null,null,1,0,0,0,null,null,null,null,null,null,"0",null,null,0," "]
["5.4.9","Turtas, kurio nusidėvėjimą, amortizaciją prašoma finansuoti",null,null,1,0,0,0,null,null,null,null,null,null,"0",null,null,0," "]
["5.4.10","Turtas, kurio nusidėvėjimą, amortizaciją prašoma finansuoti",null,null,1,0,0,0,null,null,null,null,null,null,"0",null,null,0," "]
["5.4.11","Turtas, kurio nusidėvėjimą, amortizaciją prašoma finansuoti",null,null,1,0,0,0,null,null,null,null,null,null,"0",null,null,0," "]
["5.4.12","Turtas, kurio nusidėvėjimą, amortizaciją prašoma finansuoti",null,null,1,0,0,0,null,null,null,null,null,null,"0",null,null,0," "]
["5.4.13","Turtas, kurio nusidėvėjimą, amortizaciją prašoma finansuoti",null,null,1,0,0,0,null,null,null,null,null,null,"0",null,null,0," "]
["5.4.14","Turtas, kurio nusidėvėjimą, amortizaciją prašoma finansuoti",null,null,1,0,0,0,null,null,null,null,null,null,"0",null,null,0," "]
["5.4.15","Turtas, kurio nusidėvėjimą, amortizaciją prašoma finansuoti",null,null,1,0,0,0,null,null,null,null,null,null,"0",null,null,0," "]
["5.5","Projektą vykdančio personalo darbo užmokestis ir išlaidos su darbo santykiais susijusiems darbdavio įsipareigojimams",null,null,null,null,{"$f":"SUM(G77:G126)","v":0},{"$f":"SUM(H77:H126)","v":0},null,null,"Faktiškai gaunamas darbo užmokesti už 1 valandą pagal  pastarųjų 6 mėn. vidurkį, Eur"]
["5.5.1","Pareigybės pavadinimas","Darbuotojo vardas pavardė","val.",null,{"$f":"IFERROR(ROUND(AVERAGE(K77:K81),2),\"0\")","v":"0"},{"$f":"ROUND(E77*F77,2)","v":0},{"$f":"ROUND(G77*$D$7,2)","v":0}]
[null,null,"Darbuotojo vardas pavardė"]
[null,null,"Darbuotojo vardas pavardė"]
[null,null,"Darbuotojo vardas pavardė"]
[null,null,"Darbuotojo vardas pavardė"]
["5.5.2","Pareigybės pavadinimas","Darbuotojo vardas pavardė","val.",null,{"$f":"IFERROR(ROUND(AVERAGE(K82:K86),2),\"0\")","v":"0"},{"$f":"ROUND(E82*F82,2)","v":0},{"$f":"ROUND(G82*$D$7,2)","v":0}]
[null,null,"Darbuotojo vardas pavardė"]
[null,null,"Darbuotojo vardas pavardė"]
[null,null,"Darbuotojo vardas pavardė"]
[null,null,"Darbuotojo vardas pavardė"]
["5.5.3","Pareigybės pavadinimas","Darbuotojo vardas pavardė","val.",null,{"$f":"IFERROR(ROUND(AVERAGE(K87:K91),2),\"0\")","v":"0"},{"$f":"ROUND(E87*F87,2)","v":0},{"$f":"ROUND(G87*$D$7,2)","v":0}]
[null,null,"Darbuotojo vardas pavardė"]
[null,null,"Darbuotojo vardas pavardė"]
[null,null,"Darbuotojo vardas pavardė"]
[null,null,"Darbuotojo vardas pavardė"]
["5.5.4","Pareigybės pavadinimas","Darbuotojo vardas pavardė","val.",null,{"$f":"IFERROR(ROUND(AVERAGE(K92:K96),2),\"0\")","v":"0"},{"$f":"ROUND(E92*F92,2)","v":0},{"$f":"ROUND(G92*$D$7,2)","v":0}]
[null,null,"Darbuotojo vardas pavardė"]
[null,null,"Darbuotojo vardas pavardė"]
[null,null,"Darbuotojo vardas pavardė"]
[null,null,"Darbuotojo vardas pavardė"]
["5.5.5","Pareigybės pavadinimas","Darbuotojo vardas pavardė","val.",null,{"$f":"IFERROR(ROUND(AVERAGE(K97:K101),2),\"0\")","v":"0"},{"$f":"ROUND(E97*F97,2)","v":0},{"$f":"ROUND(G97*$D$7,2)","v":0}]
[null,null,"Darbuotojo vardas pavardė"]
[null,null,"Darbuotojo vardas pavardė"]
[null,null,"Darbuotojo vardas pavardė"]
[null,null,"Darbuotojo vardas pavardė"]
["5.5.6","Pareigybės pavadinimas","Darbuotojo vardas pavardė","val.",null,{"$f":"IFERROR(ROUND(AVERAGE(K102:K106),2),\"0\")","v":"0"},{"$f":"ROUND(E102*F102,2)","v":0},{"$f":"ROUND(G102*$D$7,2)","v":0}]
[null,null,"Darbuotojo vardas pavardė"]
[null,null,"Darbuotojo vardas pavardė"]
[null,null,"Darbuotojo vardas pavardė"]
[null,null,"Darbuotojo vardas pavardė"]
["5.5.7","Pareigybės pavadinimas","Darbuotojo vardas pavardė","val.",null,{"$f":"IFERROR(ROUND(AVERAGE(K107:K111),2),\"0\")","v":"0"},{"$f":"ROUND(E107*F107,2)","v":0},{"$f":"ROUND(G107*$D$7,2)","v":0}]
[null,null,"Darbuotojo vardas pavardė"]
[null,null,"Darbuotojo vardas pavardė"]
[null,null,"Darbuotojo vardas pavardė"]
[null,null,"Darbuotojo vardas pavardė"]
["5.5.8","Pareigybės pavadinimas","Darbuotojo vardas pavardė","val.",null,{"$f":"IFERROR(ROUND(AVERAGE(K112:K116),2),\"0\")","v":"0"},{"$f":"ROUND(E112*F112,2)","v":0},{"$f":"ROUND(G112*$D$7,2)","v":0}]
[null,null,"Darbuotojo vardas pavardė"]
[null,null,"Darbuotojo vardas pavardė"]
[null,null,"Darbuotojo vardas pavardė"]
[null,null,"Darbuotojo vardas pavardė"]
["5.5.9","Pareigybės pavadinimas","Darbuotojo vardas pavardė","val.",null,{"$f":"IFERROR(ROUND(AVERAGE(K117:K121),2),\"0\")","v":"0"},{"$f":"ROUND(E117*F117,2)","v":0},{"$f":"ROUND(G117*$D$7,2)","v":0}]
[null,null,"Darbuotojo vardas pavardė"]
[null,null,"Darbuotojo vardas pavardė"]
[null,null,"Darbuotojo vardas pavardė"]
[null,null,"Darbuotojo vardas pavardė"]
["5.5.10","Pareigybės pavadinimas","Darbuotojo vardas pavardė","val.",null,{"$f":"IFERROR(ROUND(AVERAGE(K122:K126),2),\"0\")","v":"0"},{"$f":"ROUND(E122*F122,2)","v":0},{"$f":"ROUND(G122*$D$7,2)","v":0}]
[null,null,"Darbuotojo vardas pavardė"]
[null,null,"Darbuotojo vardas pavardė"]
[null,null,"Darbuotojo vardas pavardė"]
[null,null,"Darbuotojo vardas pavardė"]
["5.6","Projektą vykdančio personalo komandiruočių išlaidos",null,null,null,null,{"$f":"SUM(G128,G135,G142,G149,G156,G163,G170,G177,G184,G191)","v":0},{"$f":"SUM(H128,H135,H142,H149,H156,H163,H170,H177,H184,H191)","v":0}]
["5.6.1","Komandiruotės pavadinimas, vieta, trukmė dienomis, vykstančių asmenų skaičius","Iš viso komandiruotei",null,null,null,{"$f":"SUM(G129:G134)","v":0},{"$f":"ROUND(G128*$D$7,2)","v":0}]
[null,null,"Dienpinigiai",null,null,null,{"$f":"ROUND(E129*F129,2)","v":0}]
[null,null,"Gyvenamojo ploto nuoma",null,null,null,0]
[null,null,"Kelionės išlaidos",null,null,null,0]
[null,null,"Dalyvavimo mokestis",null,null,null,0]
[null,null,"Kitos išlaidų pavadinimas",null,null,null,0]
[null,null,"Kitos išlaidų pavadinimas",null,null,null,0]
["5.6.2","Komandiruotės pavadinimas, vieta, trukmė dienomis, vykstančių asmenų skaičius","Iš viso komandiruotei",null,null,null,{"$f":"SUM(G136:G141)","v":0},{"$f":"ROUND(G135*$D$7,2)","v":0}]
[null,null,"Dienpinigiai",null,null,null,{"$f":"ROUND(E136*F136,2)","v":0}]
[null,null,"Gyvenamojo ploto nuoma",null,null,null,0]
[null,null,"Kelionės išlaidos",null,null,null,0]
[null,null,"Dalyvavimo mokestis",null,null,null,0]
[null,null,"Kitos išlaidų pavadinimas",null,null,null,0]
[null,null,"Kitos išlaidų pavadinimas",null,null,null,0]
["5.6.3","Komandiruotės pavadinimas, vieta, trukmė dienomis, vykstančių asmenų skaičius","Iš viso komandiruotei",null,null,null,{"$f":"SUM(G143:G148)","v":0},{"$f":"ROUND(G142*$D$7,2)","v":0}]
[null,null,"Dienpinigiai",null,null,null,{"$f":"ROUND(E143*F143,2)","v":0}]
[null,null,"Gyvenamojo ploto nuoma",null,null,null,0]
[null,null,"Kelionės išlaidos",null,null,null,0]
[null,null,"Dalyvavimo mokestis",null,null,null,0]
[null,null,"Kitos išlaidų pavadinimas",null,null,null,0]
[null,null,"Kitos išlaidų pavadinimas",null,null,null,0]
["5.6.4","Komandiruotės pavadinimas, vieta, trukmė dienomis, vykstančių asmenų skaičius","Iš viso komandiruotei",null,null,null,{"$f":"SUM(G150:G155)","v":0},{"$f":"ROUND(G149*$D$7,2)","v":0}]
[null,null,"Dienpinigiai",null,null,null,{"$f":"ROUND(E150*F150,2)","v":0}]
[null,null,"Gyvenamojo ploto nuoma",null,null,null,0]
[null,null,"Kelionės išlaidos",null,null,null,0]
[null,null,"Dalyvavimo mokestis",null,null,null,0]
[null,null,"Kitos išlaidų pavadinimas",null,null,null,0]
[null,null,"Kitos išlaidų pavadinimas",null,null,null,0]
["5.6.5","Komandiruotės pavadinimas, vieta, trukmė dienomis, vykstančių asmenų skaičius","Iš viso komandiruotei",null,null,null,{"$f":"SUM(G157:G162)","v":0},{"$f":"ROUND(G156*$D$7,2)","v":0}]
[null,null,"Dienpinigiai",null,null,null,{"$f":"ROUND(E157*F157,2)","v":0}]
[null,null,"Gyvenamojo ploto nuoma",null,null,null,0]
[null,null,"Kelionės išlaidos",null,null,null,0]
[null,null,"Dalyvavimo mokestis",null,null,null,0]
[null,null,"Kitos išlaidų pavadinimas",null,null,null,0]
[null,null,"Kitos išlaidų pavadinimas",null,null,null,0]
["5.6.6","Komandiruotės pavadinimas, vieta, trukmė dienomis, vykstančių asmenų skaičius","Iš viso komandiruotei",null,null,null,{"$f":"SUM(G164:G169)","v":0},{"$f":"ROUND(G163*$D$7,2)","v":0}]
[null,null,"Dienpinigiai",null,null,null,{"$f":"ROUND(E164*F164,2)","v":0}]
[null,null,"Gyvenamojo ploto nuoma",null,null,null,0]
[null,null,"Kelionės išlaidos",null,null,null,0]
[null,null,"Dalyvavimo mokestis",null,null,null,0]
[null,null,"Kitos išlaidų pavadinimas",null,null,null,0]
[null,null,"Kitos išlaidų pavadinimas",null,null,null,0]
["5.6.7","Komandiruotės pavadinimas, vieta, trukmė dienomis, vykstančių asmenų skaičius","Iš viso komandiruotei",null,null,null,{"$f":"SUM(G171:G176)","v":0},{"$f":"ROUND(G170*$D$7,2)","v":0}]
[null,null,"Dienpinigiai",null,null,null,{"$f":"ROUND(E171*F171,2)","v":0}]
[null,null,"Gyvenamojo ploto nuoma",null,null,null,0]
[null,null,"Kelionės išlaidos",null,null,null,0]
[null,null,"Dalyvavimo mokestis",null,null,null,0]
[null,null,"Kitos išlaidų pavadinimas",null,null,null,0]
[null,null,"Kitos išlaidų pavadinimas",null,null,null,0]
["5.6.8","Komandiruotės pavadinimas, vieta, trukmė dienomis, vykstančių asmenų skaičius","Iš viso komandiruotei",null,null,null,{"$f":"SUM(G178:G183)","v":0},{"$f":"ROUND(G177*$D$7,2)","v":0}]
[null,null,"Dienpinigiai",null,null,null,{"$f":"ROUND(E178*F178,2)","v":0}]
[null,null,"Gyvenamojo ploto nuoma",null,null,null,0]
[null,null,"Kelionės išlaidos",null,null,null,0]
[null,null,"Dalyvavimo mokestis",null,null,null,0]
[null,null,"Kitos išlaidų pavadinimas",null,null,null,0]
[null,null,"Kitos išlaidų pavadinimas",null,null,null,0]
["5.6.9","Komandiruotės pavadinimas, vieta, trukmė dienomis, vykstančių asmenų skaičius","Iš viso komandiruotei",null,null,null,{"$f":"SUM(G185:G190)","v":0},{"$f":"ROUND(G184*$D$7,2)","v":0}]
[null,null,"Dienpinigiai",null,null,null,{"$f":"ROUND(E185*F185,2)","v":0}]
[null,null,"Gyvenamojo ploto nuoma",null,null,null,0]
[null,null,"Kelionės išlaidos",null,null,null,0]
[null,null,"Dalyvavimo mokestis",null,null,null,0]
[null,null,"Kitos išlaidų pavadinimas",null,null,null,0]
[null,null,"Kitos išlaidų pavadinimas",null,null,null,0]
["5.6.10","Komandiruotės pavadinimas, vieta, trukmė dienomis, vykstančių asmenų skaičius","Iš viso komandiruotei",null,null,null,{"$f":"SUM(G192:G197)","v":0},{"$f":"ROUND(G191*$D$7,2)","v":0}]
[null,null,"Dienpinigiai",null,null,null,{"$f":"ROUND(E192*F192,2)","v":0}]
[null,null,"Gyvenamojo ploto nuoma",null,null,null,0]
[null,null,"Kelionės išlaidos",null,null,null,0]
[null,null,"Dalyvavimo mokestis",null,null,null,0]
[null,null,"Kitos išlaidų pavadinimas",null,null,null,0]
[null,null,"Kitos išlaidų pavadinimas",null,null,null,0]
["5.7","Įrangos nuomos išlaidos, veiklai priskirtos pro rata principu. Įranga turi būti tiesiogiai susijusi su projekto įgyvendinimu ir negali būti įsigyta iš ES struktūrinių fondų ar kt. ES finansinių priemonių lėšų",null,null,null,null,{"$f":"SUM(G199:G203)","v":0},{"$f":"SUM(H199:H203)","v":0},null,null,"Faktinės 1 mėnesio išlaidos, Eur","Naudojimo projekte trukmė, mėn."]
["5.7.1","Įrangos pavadinimas",null,"pro rata proc.",null,{"$f":"K199*L199","v":0},0,{"$f":"ROUND(G199*$D$7,2)","v":0}]
["5.7.2","Įrangos pavadinimas",null,"pro rata proc.",null,{"$f":"K200*L200","v":0},0,{"$f":"ROUND(G200*$D$7,2)","v":0}]
["5.7.3","Įrangos pavadinimas",null,"pro rata proc.",null,0,0,0]
["5.7.4","Įrangos pavadinimas",null,"pro rata proc.",null,0,0,0]
["5.7.5","Įrangos pavadinimas",null,"pro rata proc.",null,0,0,0]
["5.8","Pastatų ar patalpų nuomos išlaidos, veiklai priskirtos pro rata principu. Pastatai ar patalpos turi būti tiesiogiai susijusi su projekto įgyvendinimu.",null,null,null,null,{"$f":"SUM(G205:G209)","v":0},{"$f":"SUM(H205:H209)","v":0},null,null,"Faktinės 1 mėnesio išlaidos, Eur","Naudojimo projekte trukmė, mėn."]
["5.8.1","Pastato, patalpų adresas",null,"pro rata proc.",null,{"$f":"K205*L205","v":0},{"$f":"ROUND(E205*F205,2)","v":0},{"$f":"ROUND(G205*$D$7,2)","v":0}]
["5.8.2","Pastato, patalpų adresas",null,"pro rata proc.",null,{"$f":"K206*L206","v":0},0,0]
["5.8.3","Pastato, patalpų adresas",null,"pro rata proc.",null,0,0,0]
["5.8.4","Pastato, patalpų adresas",null,"pro rata proc.",null,0,0,0]
["5.8.5","Pastato, patalpų adresas",null,"pro rata proc.",null,0,0,0]
["Iš viso tinkamų finansuoti išlaidų:",null,null,null,null,null,{"$f":"G10+G21","v":0},{"$f":"H10+H21","v":0}]

{"sheet":"14","index":15,"n_rows":210,"n_cols":19,"rows_kept":210,"cut":false,"hidden":false,"merged":[[0,3,0,8],[2,0,2,2],[2,3,2,8],[3,3,3,4],[3,5,3,6],[4,0,4,2],[4,3,4,8],[14,1,14,2],[15,1,15,2],[16,1,16,2],[17,1,17,2],[18,1,18,2],[19,1,19,2],[8,1,8,2],[9,1,9,5],[10,1,10,2],[11,1,11,2],[12,1,12,2],[13,1,13,2],[26,1,26,2],[27,1,27,2],[28,1,28,2],[29,1,29,2],[30,1,30,2],[31,1,31,2],[20,1,20,5],[21,1,21,5],[22,1,22,2],[23,1,23,2],[24,1,24,2],[25,1,25,2],[38,1,38,2],[39,1,39,2],[40,1,40,2],[41,1,41,2],[42,1,42,2],[43,1,43,5],[32,1,32,5],[33,1,33,2],[34,1,34,2],[35,1,35,2],[36,1,36,2],[37,1,37,2],[50,1,50,2],[51,1,51,2],[52,1,52,2],[53,1,53,2],[54,1,54,2],[55,1,55,2],[44,1,44,2],[45,1,45,2],[46,1,46,2],[47,1,47,2],[48,1,48,2],[49,1,49,2],[62,1,62,2],[63,1,63,2],[64,1,64,2],[65,1,65,2],[66,1,66,2],[67,1,67,2],[56,1,56,2],[57,1,57,2],[58,1,58,2],[59,1,59,5],[60,1,60,2],[61,1,61,2],[74,1,74,2],[75,1,75,5],[76,0,80,0],[76,1,80,1],[76,3,80,3],[76,4,80,4],[76,5,80,5],[68,1,68,2],[69,1,69,2],[70,1,70,2],[71,1,71,2],[72,1,72,2],[73,1,73,2],[76,6,80,6],[76,7,80,7],[76,8,80,8],[81,0,85,0],[81,1,85,1],[81,3,85,3],[81,4,85,4],[81,5,85,5],[81,6,85,6],[81,7,85,7],[81,8,85,8],[86,0,90,0],[86,1,90,1],[86,3,90,3],[86,4,90,4],[86,5,90,5],[86,6,90,6],[86,7,90,7],[86,8,90,8],[91,7,95,7],[91,8,95,8],[96,0,100,0],[96,1,100,1],[96,3,100,3],[96,4,100,4],[96,5,100,5],[96,6,100,6],[96,7,100,7],[96,8,100,8],[91,0,95,0],[91,1,95,1],[91,3,95,3],[91,4,95,4],[91,5,95,5],[91,6,95,6],[101,7,105,7],[101,8,105,8],[106,0,110,0],[106,1,110,1],[106,3,110,3],[106,4,110,4],[106,5,110,5],[106,6,110,6],[106,7,110,7],[106,8,110,8],[101,0,105,0],[101,1,105,1],[101,3,105,3],[101,4,105,4],[101,5,105,5],[101,6,105,6],[111,7,115,7],[111,8,115,8],[116,0,120,0],[116,1,120,1],[116,3,120,3],[116,4,120,4],[116,5,120,5],[116,6,120,6],[116,7,120,7],[116,8,120,8],[111,0,115,0],[111,1,115,1],[111,3,115,3],[111,4,115,4],[111,5,115,5],[111,6,115,6],[127,1,133,1],[121,7,125,7],[121,8,125,8],[126,1,126,5],[121,0,125,0],[121,1,125,1],[121,3,125,3],[121,4,125,4],[121,5,125,5],[121,6,125,6],[127,0,133,0],[127,8,133,8],[134,0,140,0],[134,1,140,1],[134,8,140,8],[141,0,147,0],[141,1,147,1],[141,8,147,8],[148,0,154,0],[148,1,154,1],[148,8,154,8],[155,0,161,0],[155,1,161,1],[155,8,161,8],[162,0,168,0],[162,1,168,1],[162,8,168,8],[169,0,175,0],[169,1,175,1],[169,8,175,8],[176,0,182,0],[176,1,182,1],[176,8,182,8],[183,0,189,0],[183,1,189,1],[183,8,189,8],[190,0,196,0],[190,1,196,1],[190,8,196,8],[206,1,206,2],[207,1,207,2],[208,1,208,2],[209,0,209,5],[197,1,197,5],[198,1,198,2],[199,1,199,2],[200,1,200,2],[201,1,201,2],[202,1,202,2],[203,1,203,5],[204,1,204,2],[205,1,205,2]]}
[null,null,"Pasirinkite veiklos tipą:"]
[null,null,"Fizinio rodiklio Nr.:"]
["Fizinio rodiklio pavadinimas:"]
[null,null,"Fizinio rodiklio matavimo vnt.:",null,null,"Fizinio rodiklio vnt. skaičius:"]
["Juridinis asmuo (pareiškėjas, partneris), atsakingas už fizinį rodiklį:"]
[]
[null,null,"Finansavimo intensyvumas:",null,null,null,"Pasirinkite biudžeto išlaidų kategoriją:"]
[]
["Eil. Nr.","Išlaidų kategorijos pavadinimas",null,"Matavimo vnt.","Kiekis","Vieneto kaina be PVM, Eur","Tinkamų finansuoti išlaidų suma be PVM, Eur","Finansavimo suma, Eur","Išlaidų pagrindimo dokumentų pavadinimas, data ir Nr."]
[4,"ĮRANGA, ĮRENGINIAI IR KT. TURTAS (techninių žinių ir išradimų patentų arba teisių pagal licencijų sutartį įsigijimo išlaidos)",null,null,null,null,{"$f":"SUM(G11:G20)","v":0},{"$f":"SUM(H11:H20)","v":0}]
["4.1","Išlaidų pavadinimas",null,null,null,null,{"$f":"ROUND(E11*F11,2)","v":0},{"$f":"ROUND(G11*$D$7,2)","v":0}]
["4.2","Išlaidų pavadinimas",null,null,null,null,0,0]
["4.3","Išlaidų pavadinimas",null,null,null,null,0,0]
["4.4","Išlaidų pavadinimas",null,null,null,null,0,0]
["4.5","Išlaidų pavadinimas",null,null,null,null,0,0]
["4.6","Išlaidų pavadinimas",null,null,null,null,0,0]
["4.7","Išlaidų pavadinimas",null,null,null,null,0,0]
["4.8","Išlaidų pavadinimas",null,null,null,null,0,0]
["4.9","Išlaidų pavadinimas",null,null,null,null,0,0]
["4.10","Išlaidų pavadinimas",null,null,null,null,0,0]
[5,"PROJEKTO VYKDYMAS",null,null,null,null,{"$f":"G22+G33+G44+G60+G76+G127+G198+G204","v":0},{"$f":"H22+H33+H44+H60+H76+H127+H198+H204","v":0}]
["5.1","MTEP paslaugos",null,null,null,null,{"$f":"SUM(G23:G32)","v":0},{"$f":"SUM(H23:H32)","v":0}]
["5.1.1","Paslaugos pavadinimas",null,null,null,null,{"$f":"ROUND(E23*F23,2)","v":0},0]
["5.1.2","Paslaugos pavadinimas",null,null,null,null,0,0]
["5.1.3","Paslaugos pavadinimas",null,null,null,null,0,0]
["5.1.4","Paslaugos pavadinimas",null,null,null,null,0,0]
["5.1.5","Paslaugos pavadinimas",null,null,null,null,0,0]
["5.1.6","Paslaugos pavadinimas",null,null,null,null,0,0]
["5.1.7","Paslaugos pavadinimas",null,null,null,null,0,0]
["5.1.8","Paslaugos pavadinimas",null,null,null,null,0,0]
["5.1.9","Paslaugos pavadinimas",null,null,null,null,0,0]
["5.1.10","Paslaugos pavadinimas",null,null,null,null,0,0]
["5.2","Konsultavimo ir lygiavertės paslaugos, naudojamos vien tik projekto MTEP veiklai",null,null,null,null,{"$f":"SUM(G34:G43)","v":0},{"$f":"SUM(H34:H43)","v":0}]
["5.2.1","Paslaugos pavadinimas",null,null,null,null,{"$f":"ROUND(E34*F34,2)","v":0},0]
["5.2.2","Paslaugos pavadinimas",null,null,null,null,0,0]
["5.2.3","Paslaugos pavadinimas",null,null,null,null,0,0]
["5.2.4","Paslaugos pavadinimas",null,null,null,null,0,0]
["5.2.5","Paslaugos pavadinimas",null,null,null,null,0,0]
["5.2.6","Paslaugos pavadinimas",null,null,null,null,0,0]
["5.2.7","Paslaugos pavadinimas",null,null,null,null,0,0]
["5.2.8","Paslaugos pavadinimas",null,null,null,null,0,0]
["5.2.9","Paslaugos pavadinimas",null,null,null,null,0,0]
["5.2.10","Paslaugos pavadinimas",null,null,null,null,0,0]
["5.3","Medžiagos, mažavertis inventorius, atsargos ir pan. produktai, priskirtini trumpalaikiam turtui ir tiesiogiai susiję su MTEP veikla",null,null,null,null,{"$f":"SUM(G45:G59)","v":0},{"$f":"SUM(H45:H59)","v":0}]
["5.3.1","Išlaidų pavadinimas",null,null,null,null,{"$f":"ROUND(E45*F45,2)","v":0},{"$f":"ROUND(G45*$D$7,2)","v":0}]
["5.3.2","Išlaidų pavadinimas",null,null,null,null,0,0]
["5.3.3","Išlaidų pavadinimas",null,null,null,null,0,0]
["5.3.4","Išlaidų pavadinimas",null,null,null,null,0,0]
["5.3.5","Išlaidų pavadinimas",null,null,null,null,0,0]
["5.3.6","Išlaidų pavadinimas",null,null,null,null,0,0]
["5.3.7","Išlaidų pavadinimas",null,null,null,null,0,0]
["5.3.8","Išlaidų pavadinimas",null,null,null,null,0,0]
["5.3.9","Išlaidų pavadinimas",null,null,null,null,0,0]
["5.3.10","Išlaidų pavadinimas",null,null,null,null,0,0]
["5.3.11","Išlaidų pavadinimas",null,null,null,null,0,0]
["5.3.12","Išlaidų pavadinimas",null,null,null,null,0,0]
["5.3.13","Išlaidų pavadinimas",null,null,null,null,0,0]
["5.3.14","Išlaidų pavadinimas",null,null,null,null,0,0]
["5.3.15","Išlaidų pavadinimas",null,null,null,null,0,0]
["5.4","Projekto MTEP veikloms naudojamo ilgalaikio materialaus turto (įrangos, prietaisų, įrankių, įrenginių, mašinų ir įrengimų, pastatų ir (ar) patalpų), nusidėvėjimo sąnaudos, jeigu šiam turtui įsigyti nebuvo naudojamos viešosios (įskaitant ir kitų valstybių) lėšos",null,null,null,null,{"$f":"SUM(G61:G75)","v":0},{"$f":"SUM(H61:H75)","v":0},null,null,"Turto įvedimo į eksploataciją data","Turto įsigijimo vertė, Eur","Turto nudėvėjimo, amortizacijos laikotarpis, mėn.","Numatoma turto likutinė vertė, Eur","1 mėn. nudėvėjimo, amortizacijos suma, Eur","Turto naudojamo projekto reikmėms laikas, mėn.","Turto panaudojimo projekto reikmėms dalis (proc.)","Projektui priskirta turto nusidėvėjimo, amortizacijos suma per projekto laikotarpį, Eur"]
["5.4.1","Turtas, kurio nusidėvėjimą, amortizaciją prašoma finansuoti",null,null,1,{"$f":"R61","v":0},{"$f":"ROUND(E61*F61,2)","v":0},0,null,null,null,null,null,null,{"$f":"IFERROR(ROUND((L61-N61)/M61,2),\"0\")","v":"0"},null,null,{"$f":"O61*P61*Q61","v":0},{"$f":"IF(K61=0,\" \",IF(K61+(M61*30.5)<TODAY(),\"DĖMESIO! Patikrinkite, ar nurodytas turtas dar nėra nudėvėtas, amortizuotas\",\" \"))","v":" "}]
["5.4.2","Turtas, kurio nusidėvėjimą, amortizaciją prašoma finansuoti",null,null,1,{"$f":"R62","v":0},0,0,null,null,null,null,null,null,{"$f":"IFERROR(ROUND((L62-N62)/M62,2),\"0\")","v":"0"},null,null,{"$f":"O62*P62*Q62","v":0},{"$f":"IF(K62=0,\" \",IF(K62+(M62*30.5)<TODAY(),\"DĖMESIO! Patikrinkite, ar nurodytas turtas dar nėra nudėvėtas, amortizuotas\",\" \"))","v":" "}]
["5.4.3","Turtas, kurio nusidėvėjimą, amortizaciją prašoma finansuoti",null,null,1,0,0,0,null,null,null,null,null,null,"0",null,null,0," "]
["5.4.4","Turtas, kurio nusidėvėjimą, amortizaciją prašoma finansuoti",null,null,1,0,0,0,null,null,null,null,null,null,"0",null,null,0," "]
["5.4.5","Turtas, kurio nusidėvėjimą, amortizaciją prašoma finansuoti",null,null,1,0,0,0,null,null,null,null,null,null,"0",null,null,0," "]
["5.4.6","Turtas, kurio nusidėvėjimą, amortizaciją prašoma finansuoti",null,null,1,0,0,0,null,null,null,null,null,null,"0",null,null,0," "]
["5.4.7","Turtas, kurio nusidėvėjimą, amortizaciją prašoma finansuoti",null,null,1,0,0,0,null,null,null,null,null,null,"0",null,null,0," "]
["5.4.8","Turtas, kurio nusidėvėjimą, amortizaciją prašoma finansuoti",null,null,1,0,0,0,null,null,null,null,null,null,"0",null,null,0," "]
["5.4.9","Turtas, kurio nusidėvėjimą, amortizaciją prašoma finansuoti",null,null,1,0,0,0,null,null,null,null,null,null,"0",null,null,0," "]
["5.4.10","Turtas, kurio nusidėvėjimą, amortizaciją prašoma finansuoti",null,null,1,0,0,0,null,null,null,null,null,null,"0",null,null,0," "]
["5.4.11","Turtas, kurio nusidėvėjimą, amortizaciją prašoma finansuoti",null,null,1,0,0,0,null,null,null,null,null,null,"0",null,null,0," "]
["5.4.12","Turtas, kurio nusidėvėjimą, amortizaciją prašoma finansuoti",null,null,1,0,0,0,null,null,null,null,null,null,"0",null,null,0," "]
["5.4.13","Turtas, kurio nusidėvėjimą, amortizaciją prašoma finansuoti",null,null,1,0,0,0,null,null,null,null,null,null,"0",null,null,0," "]
["5.4.14","Turtas, kurio nusidėvėjimą, amortizaciją prašoma finansuoti",null,null,1,0,0,0,null,null,null,null,null,null,"0",null,null,0," "]
["5.4.15","Turtas, kurio nusidėvėjimą, amortizaciją prašoma finansuoti",null,null,1,0,0,0,null,null,null,null,null,null,"0",null,null,0," "]
["5.5","Projektą vykdančio personalo darbo užmokestis ir išlaidos su darbo santykiais susijusiems darbdavio įsipareigojimams",null,null,null,null,{"$f":"SUM(G77:G126)","v":0},{"$f":"SUM(H77:H126)","v":0},null,null,"Faktiškai gaunamas darbo užmokesti už 1 valandą pagal  pastarųjų 6 mėn. vidurkį, Eur"]
["5.5.1","Pareigybės pavadinimas","Darbuotojo vardas pavardė","val.",null,{"$f":"IFERROR(ROUND(AVERAGE(K77:K81),2),\"0\")","v":"0"},{"$f":"ROUND(E77*F77,2)","v":0},{"$f":"ROUND(G77*$D$7,2)","v":0}]
[null,null,"Darbuotojo vardas pavardė"]
[null,null,"Darbuotojo vardas pavardė"]
[null,null,"Darbuotojo vardas pavardė"]
[null,null,"Darbuotojo vardas pavardė"]
["5.5.2","Pareigybės pavadinimas","Darbuotojo vardas pavardė","val.",null,{"$f":"IFERROR(ROUND(AVERAGE(K82:K86),2),\"0\")","v":"0"},{"$f":"ROUND(E82*F82,2)","v":0},{"$f":"ROUND(G82*$D$7,2)","v":0}]
[null,null,"Darbuotojo vardas pavardė"]
[null,null,"Darbuotojo vardas pavardė"]
[null,null,"Darbuotojo vardas pavardė"]
[null,null,"Darbuotojo vardas pavardė"]
["5.5.3","Pareigybės pavadinimas","Darbuotojo vardas pavardė","val.",null,{"$f":"IFERROR(ROUND(AVERAGE(K87:K91),2),\"0\")","v":"0"},{"$f":"ROUND(E87*F87,2)","v":0},{"$f":"ROUND(G87*$D$7,2)","v":0}]
[null,null,"Darbuotojo vardas pavardė"]
[null,null,"Darbuotojo vardas pavardė"]
[null,null,"Darbuotojo vardas pavardė"]
[null,null,"Darbuotojo vardas pavardė"]
["5.5.4","Pareigybės pavadinimas","Darbuotojo vardas pavardė","val.",null,{"$f":"IFERROR(ROUND(AVERAGE(K92:K96),2),\"0\")","v":"0"},{"$f":"ROUND(E92*F92,2)","v":0},{"$f":"ROUND(G92*$D$7,2)","v":0}]
[null,null,"Darbuotojo vardas pavardė"]
[null,null,"Darbuotojo vardas pavardė"]
[null,null,"Darbuotojo vardas pavardė"]
[null,null,"Darbuotojo vardas pavardė"]
["5.5.5","Pareigybės pavadinimas","Darbuotojo vardas pavardė","val.",null,{"$f":"IFERROR(ROUND(AVERAGE(K97:K101),2),\"0\")","v":"0"},{"$f":"ROUND(E97*F97,2)","v":0},{"$f":"ROUND(G97*$D$7,2)","v":0}]
[null,null,"Darbuotojo vardas pavardė"]
[null,null,"Darbuotojo vardas pavardė"]
[null,null,"Darbuotojo vardas pavardė"]
[null,null,"Darbuotojo vardas pavardė"]
["5.5.6","Pareigybės pavadinimas","Darbuotojo vardas pavardė","val.",null,{"$f":"IFERROR(ROUND(AVERAGE(K102:K106),2),\"0\")","v":"0"},{"$f":"ROUND(E102*F102,2)","v":0},{"$f":"ROUND(G102*$D$7,2)","v":0}]
[null,null,"Darbuotojo vardas pavardė"]
[null,null,"Darbuotojo vardas pavardė"]
[null,null,"Darbuotojo vardas pavardė"]
[null,null,"Darbuotojo vardas pavardė"]
["5.5.7","Pareigybės pavadinimas","Darbuotojo vardas pavardė","val.",null,{"$f":"IFERROR(ROUND(AVERAGE(K107:K111),2),\"0\")","v":"0"},{"$f":"ROUND(E107*F107,2)","v":0},{"$f":"ROUND(G107*$D$7,2)","v":0}]
[null,null,"Darbuotojo vardas pavardė"]
[null,null,"Darbuotojo vardas pavardė"]
[null,null,"Darbuotojo vardas pavardė"]
[null,null,"Darbuotojo vardas pavardė"]
["5.5.8","Pareigybės pavadinimas","Darbuotojo vardas pavardė","val.",null,{"$f":"IFERROR(ROUND(AVERAGE(K112:K116),2),\"0\")","v":"0"},{"$f":"ROUND(E112*F112,2)","v":0},{"$f":"ROUND(G112*$D$7,2)","v":0}]
[null,null,"Darbuotojo vardas pavardė"]
[null,null,"Darbuotojo vardas pavardė"]
[null,null,"Darbuotojo vardas pavardė"]
[null,null,"Darbuotojo vardas pavardė"]
["5.5.9","Pareigybės pavadinimas","Darbuotojo vardas pavardė","val.",null,{"$f":"IFERROR(ROUND(AVERAGE(K117:K121),2),\"0\")","v":"0"},{"$f":"ROUND(E117*F117,2)","v":0},{"$f":"ROUND(G117*$D$7,2)","v":0}]
[null,null,"Darbuotojo vardas pavardė"]
[null,null,"Darbuotojo vardas pavardė"]
[null,null,"Darbuotojo vardas pavardė"]
[null,null,"Darbuotojo vardas pavardė"]
["5.5.10","Pareigybės pavadinimas","Darbuotojo vardas pavardė","val.",null,{"$f":"IFERROR(ROUND(AVERAGE(K122:K126),2),\"0\")","v":"0"},{"$f":"ROUND(E122*F122,2)","v":0},{"$f":"ROUND(G122*$D$7,2)","v":0}]
[null,null,"Darbuotojo vardas pavardė"]
[null,null,"Darbuotojo vardas pavardė"]
[null,null,"Darbuotojo vardas pavardė"]
[null,null,"Darbuotojo vardas pavardė"]
["5.6","Projektą vykdančio personalo komandiruočių išlaidos",null,null,null,null,{"$f":"SUM(G128,G135,G142,G149,G156,G163,G170,G177,G184,G191)","v":0},{"$f":"SUM(H128,H135,H142,H149,H156,H163,H170,H177,H184,H191)","v":0}]
["5.6.1","Komandiruotės pavadinimas, vieta, trukmė dienomis, vykstančių asmenų skaičius","Iš viso komandiruotei",null,null,null,{"$f":"SUM(G129:G134)","v":0},{"$f":"ROUND(G128*$D$7,2)","v":0}]
[null,null,"Dienpinigiai",null,null,null,{"$f":"ROUND(E129*F129,2)","v":0}]
[null,null,"Gyvenamojo ploto nuoma",null,null,null,0]
[null,null,"Kelionės išlaidos",null,null,null,0]
[null,null,"Dalyvavimo mokestis",null,null,null,0]
[null,null,"Kitos išlaidų pavadinimas",null,null,null,0]
[null,null,"Kitos išlaidų pavadinimas",null,null,null,0]
["5.6.2","Komandiruotės pavadinimas, vieta, trukmė dienomis, vykstančių asmenų skaičius","Iš viso komandiruotei",null,null,null,{"$f":"SUM(G136:G141)","v":0},{"$f":"ROUND(G135*$D$7,2)","v":0}]
[null,null,"Dienpinigiai",null,null,null,{"$f":"ROUND(E136*F136,2)","v":0}]
[null,null,"Gyvenamojo ploto nuoma",null,null,null,0]
[null,null,"Kelionės išlaidos",null,null,null,0]
[null,null,"Dalyvavimo mokestis",null,null,null,0]
[null,null,"Kitos išlaidų pavadinimas",null,null,null,0]
[null,null,"Kitos išlaidų pavadinimas",null,null,null,0]
["5.6.3","Komandiruotės pavadinimas, vieta, trukmė dienomis, vykstančių asmenų skaičius","Iš viso komandiruotei",null,null,null,{"$f":"SUM(G143:G148)","v":0},{"$f":"ROUND(G142*$D$7,2)","v":0}]
[null,null,"Dienpinigiai",null,null,null,{"$f":"ROUND(E143*F143,2)","v":0}]
[null,null,"Gyvenamojo ploto nuoma",null,null,null,0]
[null,null,"Kelionės išlaidos",null,null,null,0]
[null,null,"Dalyvavimo mokestis",null,null,null,0]
[null,null,"Kitos išlaidų pavadinimas",null,null,null,0]
[null,null,"Kitos išlaidų pavadinimas",null,null,null,0]
["5.6.4","Komandiruotės pavadinimas, vieta, trukmė dienomis, vykstančių asmenų skaičius","Iš viso komandiruotei",null,null,null,{"$f":"SUM(G150:G155)","v":0},{"$f":"ROUND(G149*$D$7,2)","v":0}]
[null,null,"Dienpinigiai",null,null,null,{"$f":"ROUND(E150*F150,2)","v":0}]
[null,null,"Gyvenamojo ploto nuoma",null,null,null,0]
[null,null,"Kelionės išlaidos",null,null,null,0]
[null,null,"Dalyvavimo mokestis",null,null,null,0]
[null,null,"Kitos išlaidų pavadinimas",null,null,null,0]
[null,null,"Kitos išlaidų pavadinimas",null,null,null,0]
["5.6.5","Komandiruotės pavadinimas, vieta, trukmė dienomis, vykstančių asmenų skaičius","Iš viso komandiruotei",null,null,null,{"$f":"SUM(G157:G162)","v":0},{"$f":"ROUND(G156*$D$7,2)","v":0}]
[null,null,"Dienpinigiai",null,null,null,{"$f":"ROUND(E157*F157,2)","v":0}]
[null,null,"Gyvenamojo ploto nuoma",null,null,null,0]
[null,null,"Kelionės išlaidos",null,null,null,0]
[null,null,"Dalyvavimo mokestis",null,null,null,0]
[null,null,"Kitos išlaidų pavadinimas",null,null,null,0]
[null,null,"Kitos išlaidų pavadinimas",null,null,null,0]
["5.6.6","Komandiruotės pavadinimas, vieta, trukmė dienomis, vykstančių asmenų skaičius","Iš viso komandiruotei",null,null,null,{"$f":"SUM(G164:G169)","v":0},{"$f":"ROUND(G163*$D$7,2)","v":0}]
[null,null,"Dienpinigiai",null,null,null,{"$f":"ROUND(E164*F164,2)","v":0}]
[null,null,"Gyvenamojo ploto nuoma",null,null,null,0]
[null,null,"Kelionės išlaidos",null,null,null,0]
[null,null,"Dalyvavimo mokestis",null,null,null,0]
[null,null,"Kitos išlaidų pavadinimas",null,null,null,0]
[null,null,"Kitos išlaidų pavadinimas",null,null,null,0]
["5.6.7","Komandiruotės pavadinimas, vieta, trukmė dienomis, vykstančių asmenų skaičius","Iš viso komandiruotei",null,null,null,{"$f":"SUM(G171:G176)","v":0},{"$f":"ROUND(G170*$D$7,2)","v":0}]
[null,null,"Dienpinigiai",null,null,null,{"$f":"ROUND(E171*F171,2)","v":0}]
[null,null,"Gyvenamojo ploto nuoma",null,null,null,0]
[null,null,"Kelionės išlaidos",null,null,null,0]
[null,null,"Dalyvavimo mokestis",null,null,null,0]
[null,null,"Kitos išlaidų pavadinimas",null,null,null,0]
[null,null,"Kitos išlaidų pavadinimas",null,null,null,0]
["5.6.8","Komandiruotės pavadinimas, vieta, trukmė dienomis, vykstančių asmenų skaičius","Iš viso komandiruotei",null,null,null,{"$f":"SUM(G178:G183)","v":0},{"$f":"ROUND(G177*$D$7,2)","v":0}]
[null,null,"Dienpinigiai",null,null,null,{"$f":"ROUND(E178*F178,2)","v":0}]
[null,null,"Gyvenamojo ploto nuoma",null,null,null,0]
[null,null,"Kelionės išlaidos",null,null,null,0]
[null,null,"Dalyvavimo mokestis",null,null,null,0]
[null,null,"Kitos išlaidų pavadinimas",null,null,null,0]
[null,null,"Kitos išlaidų pavadinimas",null,null,null,0]
["5.6.9","Komandiruotės pavadinimas, vieta, trukmė dienomis, vykstančių asmenų skaičius","Iš viso komandiruotei",null,null,null,{"$f":"SUM(G185:G190)","v":0},{"$f":"ROUND(G184*$D$7,2)","v":0}]
[null,null,"Dienpinigiai",null,null,null,{"$f":"ROUND(E185*F185,2)","v":0}]
[null,null,"Gyvenamojo ploto nuoma",null,null,null,0]
[null,null,"Kelionės išlaidos",null,null,null,0]
[null,null,"Dalyvavimo mokestis",null,null,null,0]
[null,null,"Kitos išlaidų pavadinimas",null,null,null,0]
[null,null,"Kitos išlaidų pavadinimas",null,null,null,0]
["5.6.10","Komandiruotės pavadinimas, vieta, trukmė dienomis, vykstančių asmenų skaičius","Iš viso komandiruotei",null,null,null,{"$f":"SUM(G192:G197)","v":0},{"$f":"ROUND(G191*$D$7,2)","v":0}]
[null,null,"Dienpinigiai",null,null,null,{"$f":"ROUND(E192*F192,2)","v":0}]
[null,null,"Gyvenamojo ploto nuoma",null,null,null,0]
[null,null,"Kelionės išlaidos",null,null,null,0]
[null,null,"Dalyvavimo mokestis",null,null,null,0]
[null,null,"Kitos išlaidų pavadinimas",null,null,null,0]
[null,null,"Kitos išlaidų pavadinimas",null,null,null,0]
["5.7","Įrangos nuomos išlaidos, veiklai priskirtos pro rata principu. Įranga turi būti tiesiogiai susijusi su projekto įgyvendinimu ir negali būti įsigyta iš ES struktūrinių fondų ar kt. ES finansinių priemonių lėšų",null,null,null,null,{"$f":"SUM(G199:G203)","v":0},{"$f":"SUM(H199:H203)","v":0},null,null,"Faktinės 1 mėnesio išlaidos, Eur","Naudojimo projekte trukmė, mėn."]
["5.7.1","Įrangos pavadinimas",null,"pro rata proc.",null,{"$f":"K199*L199","v":0},0,{"$f":"ROUND(G199*$D$7,2)","v":0}]
["5.7.2","Įrangos pavadinimas",null,"pro rata proc.",null,{"$f":"K200*L200","v":0},0,{"$f":"ROUND(G200*$D$7,2)","v":0}]
["5.7.3","Įrangos pavadinimas",null,"pro rata proc.",null,0,0,0]
["5.7.4","Įrangos pavadinimas",null,"pro rata proc.",null,0,0,0]
["5.7.5","Įrangos pavadinimas",null,"pro rata proc.",null,0,0,0]
["5.8","Pastatų ar patalpų nuomos išlaidos, veiklai priskirtos pro rata principu. Pastatai ar patalpos turi būti tiesiogiai susijusi su projekto įgyvendinimu.",null,null,null,null,{"$f":"SUM(G205:G209)","v":0},{"$f":"SUM(H205:H209)","v":0},null,null,"Faktinės 1 mėnesio išlaidos, Eur","Naudojimo projekte trukmė, mėn."]
["5.8.1","Pastato, patalpų adresas",null,"pro rata proc.",null,{"$f":"K205*L205","v":0},{"$f":"ROUND(E205*F205,2)","v":0},{"$f":"ROUND(G205*$D$7,2)","v":0}]
["5.8.2","Pastato, patalpų adresas",null,"pro rata proc.",null,{"$f":"K206*L206","v":0},0,0]
["5.8.3","Pastato, patalpų adresas",null,"pro rata proc.",null,0,0,0]
["5.8.4","Pastato, patalpų adresas",null,"pro rata proc.",null,0,0,0]
["5.8.5","Pastato, patalpų adresas",null,"pro rata proc.",null,0,0,0]
["Iš viso tinkamų finansuoti išlaidų:",null,null,null,null,null,{"$f":"G10+G21","v":0},{"$f":"H10+H21","v":0}]

{"sheet":"15","index":16,"n_rows":210,"n_cols":19,"rows_kept":210,"cut":false,"hidden":false,"merged":[[0,3,0,8],[2,0,2,2],[2,3,2,8],[3,3,3,4],[3,5,3,6],[4,0,4,2],[4,3,4,8],[14,1,14,2],[15,1,15,2],[16,1,16,2],[17,1,17,2],[18,1,18,2],[19,1,19,2],[8,1,8,2],[9,1,9,5],[10,1,10,2],[11,1,11,2],[12,1,12,2],[13,1,13,2],[26,1,26,2],[27,1,27,2],[28,1,28,2],[29,1,29,2],[30,1,30,2],[31,1,31,2],[20,1,20,5],[21,1,21,5],[22,1,22,2],[23,1,23,2],[24,1,24,2],[25,1,25,2],[38,1,38,2],[39,1,39,2],[40,1,40,2],[41,1,41,2],[42,1,42,2],[43,1,43,5],[32,1,32,5],[33,1,33,2],[34,1,34,2],[35,1,35,2],[36,1,36,2],[37,1,37,2],[50,1,50,2],[51,1,51,2],[52,1,52,2],[53,1,53,2],[54,1,54,2],[55,1,55,2],[44,1,44,2],[45,1,45,2],[46,1,46,2],[47,1,47,2],[48,1,48,2],[49,1,49,2],[62,1,62,2],[63,1,63,2],[64,1,64,2],[65,1,65,2],[66,1,66,2],[67,1,67,2],[56,1,56,2],[57,1,57,2],[58,1,58,2],[59,1,59,5],[60,1,60,2],[61,1,61,2],[74,1,74,2],[75,1,75,5],[76,0,80,0],[76,1,80,1],[76,3,80,3],[76,4,80,4],[76,5,80,5],[68,1,68,2],[69,1,69,2],[70,1,70,2],[71,1,71,2],[72,1,72,2],[73,1,73,2],[76,6,80,6],[76,7,80,7],[76,8,80,8],[81,0,85,0],[81,1,85,1],[81,3,85,3],[81,4,85,4],[81,5,85,5],[81,6,85,6],[81,7,85,7],[81,8,85,8],[86,0,90,0],[86,1,90,1],[86,3,90,3],[86,4,90,4],[86,5,90,5],[86,6,90,6],[86,7,90,7],[86,8,90,8],[91,7,95,7],[91,8,95,8],[96,0,100,0],[96,1,100,1],[96,3,100,3],[96,4,100,4],[96,5,100,5],[96,6,100,6],[96,7,100,7],[96,8,100,8],[91,0,95,0],[91,1,95,1],[91,3,95,3],[91,4,95,4],[91,5,95,5],[91,6,95,6],[101,7,105,7],[101,8,105,8],[106,0,110,0],[106,1,110,1],[106,3,110,3],[106,4,110,4],[106,5,110,5],[106,6,110,6],[106,7,110,7],[106,8,110,8],[101,0,105,0],[101,1,105,1],[101,3,105,3],[101,4,105,4],[101,5,105,5],[101,6,105,6],[111,7,115,7],[111,8,115,8],[116,0,120,0],[116,1,120,1],[116,3,120,3],[116,4,120,4],[116,5,120,5],[116,6,120,6],[116,7,120,7],[116,8,120,8],[111,0,115,0],[111,1,115,1],[111,3,115,3],[111,4,115,4],[111,5,115,5],[111,6,115,6],[127,1,133,1],[121,7,125,7],[121,8,125,8],[126,1,126,5],[121,0,125,0],[121,1,125,1],[121,3,125,3],[121,4,125,4],[121,5,125,5],[121,6,125,6],[127,0,133,0],[127,8,133,8],[134,0,140,0],[134,1,140,1],[134,8,140,8],[141,0,147,0],[141,1,147,1],[141,8,147,8],[148,0,154,0],[148,1,154,1],[148,8,154,8],[155,0,161,0],[155,1,161,1],[155,8,161,8],[162,0,168,0],[162,1,168,1],[162,8,168,8],[169,0,175,0],[169,1,175,1],[169,8,175,8],[176,0,182,0],[176,1,182,1],[176,8,182,8],[183,0,189,0],[183,1,189,1],[183,8,189,8],[190,0,196,0],[190,1,196,1],[190,8,196,8],[206,1,206,2],[207,1,207,2],[208,1,208,2],[209,0,209,5],[197,1,197,5],[198,1,198,2],[199,1,199,2],[200,1,200,2],[201,1,201,2],[202,1,202,2],[203,1,203,5],[204,1,204,2],[205,1,205,2]]}
[null,null,"Pasirinkite veiklos tipą:"]
[null,null,"Fizinio rodiklio Nr.:"]
["Fizinio rodiklio pavadinimas:"]
[null,null,"Fizinio rodiklio matavimo vnt.:",null,null,"Fizinio rodiklio vnt. skaičius:"]
["Juridinis asmuo (pareiškėjas, partneris), atsakingas už fizinį rodiklį:"]
[]
[null,null,"Finansavimo intensyvumas:",null,null,null,"Pasirinkite biudžeto išlaidų kategoriją:"]
[]
["Eil. Nr.","Išlaidų kategorijos pavadinimas",null,"Matavimo vnt.","Kiekis","Vieneto kaina be PVM, Eur","Tinkamų finansuoti išlaidų suma be PVM, Eur","Finansavimo suma, Eur","Išlaidų pagrindimo dokumentų pavadinimas, data ir Nr."]
[4,"ĮRANGA, ĮRENGINIAI IR KT. TURTAS (techninių žinių ir išradimų patentų arba teisių pagal licencijų sutartį įsigijimo išlaidos)",null,null,null,null,{"$f":"SUM(G11:G20)","v":0},{"$f":"SUM(H11:H20)","v":0}]
["4.1","Išlaidų pavadinimas",null,null,null,null,{"$f":"ROUND(E11*F11,2)","v":0},{"$f":"ROUND(G11*$D$7,2)","v":0}]
["4.2","Išlaidų pavadinimas",null,null,null,null,0,0]
["4.3","Išlaidų pavadinimas",null,null,null,null,0,0]
["4.4","Išlaidų pavadinimas",null,null,null,null,0,0]
["4.5","Išlaidų pavadinimas",null,null,null,null,0,0]
["4.6","Išlaidų pavadinimas",null,null,null,null,0,0]
["4.7","Išlaidų pavadinimas",null,null,null,null,0,0]
["4.8","Išlaidų pavadinimas",null,null,null,null,0,0]
["4.9","Išlaidų pavadinimas",null,null,null,null,0,0]
["4.10","Išlaidų pavadinimas",null,null,null,null,0,0]
[5,"PROJEKTO VYKDYMAS",null,null,null,null,{"$f":"G22+G33+G44+G60+G76+G127+G198+G204","v":0},{"$f":"H22+H33+H44+H60+H76+H127+H198+H204","v":0}]
["5.1","MTEP paslaugos",null,null,null,null,{"$f":"SUM(G23:G32)","v":0},{"$f":"SUM(H23:H32)","v":0}]
["5.1.1","Paslaugos pavadinimas",null,null,null,null,{"$f":"ROUND(E23*F23,2)","v":0},0]
["5.1.2","Paslaugos pavadinimas",null,null,null,null,0,0]
["5.1.3","Paslaugos pavadinimas",null,null,null,null,0,0]
["5.1.4","Paslaugos pavadinimas",null,null,null,null,0,0]
["5.1.5","Paslaugos pavadinimas",null,null,null,null,0,0]
["5.1.6","Paslaugos pavadinimas",null,null,null,null,0,0]
["5.1.7","Paslaugos pavadinimas",null,null,null,null,0,0]
["5.1.8","Paslaugos pavadinimas",null,null,null,null,0,0]
["5.1.9","Paslaugos pavadinimas",null,null,null,null,0,0]
["5.1.10","Paslaugos pavadinimas",null,null,null,null,0,0]
["5.2","Konsultavimo ir lygiavertės paslaugos, naudojamos vien tik projekto MTEP veiklai",null,null,null,null,{"$f":"SUM(G34:G43)","v":0},{"$f":"SUM(H34:H43)","v":0}]
["5.2.1","Paslaugos pavadinimas",null,null,null,null,{"$f":"ROUND(E34*F34,2)","v":0},0]
["5.2.2","Paslaugos pavadinimas",null,null,null,null,0,0]
["5.2.3","Paslaugos pavadinimas",null,null,null,null,0,0]
["5.2.4","Paslaugos pavadinimas",null,null,null,null,0,0]
["5.2.5","Paslaugos pavadinimas",null,null,null,null,0,0]
["5.2.6","Paslaugos pavadinimas",null,null,null,null,0,0]
["5.2.7","Paslaugos pavadinimas",null,null,null,null,0,0]
["5.2.8","Paslaugos pavadinimas",null,null,null,null,0,0]
["5.2.9","Paslaugos pavadinimas",null,null,null,null,0,0]
["5.2.10","Paslaugos pavadinimas",null,null,null,null,0,0]
["5.3","Medžiagos, mažavertis inventorius, atsargos ir pan. produktai, priskirtini trumpalaikiam turtui ir tiesiogiai susiję su MTEP veikla",null,null,null,null,{"$f":"SUM(G45:G59)","v":0},{"$f":"SUM(H45:H59)","v":0}]
["5.3.1","Išlaidų pavadinimas",null,null,null,null,{"$f":"ROUND(E45*F45,2)","v":0},{"$f":"ROUND(G45*$D$7,2)","v":0}]
["5.3.2","Išlaidų pavadinimas",null,null,null,null,0,0]
["5.3.3","Išlaidų pavadinimas",null,null,null,null,0,0]
["5.3.4","Išlaidų pavadinimas",null,null,null,null,0,0]
["5.3.5","Išlaidų pavadinimas",null,null,null,null,0,0]
["5.3.6","Išlaidų pavadinimas",null,null,null,null,0,0]
["5.3.7","Išlaidų pavadinimas",null,null,null,null,0,0]
["5.3.8","Išlaidų pavadinimas",null,null,null,null,0,0]
["5.3.9","Išlaidų pavadinimas",null,null,null,null,0,0]
["5.3.10","Išlaidų pavadinimas",null,null,null,null,0,0]
["5.3.11","Išlaidų pavadinimas",null,null,null,null,0,0]
["5.3.12","Išlaidų pavadinimas",null,null,null,null,0,0]
["5.3.13","Išlaidų pavadinimas",null,null,null,null,0,0]
["5.3.14","Išlaidų pavadinimas",null,null,null,null,0,0]
["5.3.15","Išlaidų pavadinimas",null,null,null,null,0,0]
["5.4","Projekto MTEP veikloms naudojamo ilgalaikio materialaus turto (įrangos, prietaisų, įrankių, įrenginių, mašinų ir įrengimų, pastatų ir (ar) patalpų), nusidėvėjimo sąnaudos, jeigu šiam turtui įsigyti nebuvo naudojamos viešosios (įskaitant ir kitų valstybių) lėšos",null,null,null,null,{"$f":"SUM(G61:G75)","v":0},{"$f":"SUM(H61:H75)","v":0},null,null,"Turto įvedimo į eksploataciją data","Turto įsigijimo vertė, Eur","Turto nudėvėjimo, amortizacijos laikotarpis, mėn.","Numatoma turto likutinė vertė, Eur","1 mėn. nudėvėjimo, amortizacijos suma, Eur","Turto naudojamo projekto reikmėms laikas, mėn.","Turto panaudojimo projekto reikmėms dalis (proc.)","Projektui priskirta turto nusidėvėjimo, amortizacijos suma per projekto laikotarpį, Eur"]
["5.4.1","Turtas, kurio nusidėvėjimą, amortizaciją prašoma finansuoti",null,null,1,{"$f":"R61","v":0},{"$f":"ROUND(E61*F61,2)","v":0},0,null,null,null,null,null,null,{"$f":"IFERROR(ROUND((L61-N61)/M61,2),\"0\")","v":"0"},null,null,{"$f":"O61*P61*Q61","v":0},{"$f":"IF(K61=0,\" \",IF(K61+(M61*30.5)<TODAY(),\"DĖMESIO! Patikrinkite, ar nurodytas turtas dar nėra nudėvėtas, amortizuotas\",\" \"))","v":" "}]
["5.4.2","Turtas, kurio nusidėvėjimą, amortizaciją prašoma finansuoti",null,null,1,{"$f":"R62","v":0},0,0,null,null,null,null,null,null,{"$f":"IFERROR(ROUND((L62-N62)/M62,2),\"0\")","v":"0"},null,null,{"$f":"O62*P62*Q62","v":0},{"$f":"IF(K62=0,\" \",IF(K62+(M62*30.5)<TODAY(),\"DĖMESIO! Patikrinkite, ar nurodytas turtas dar nėra nudėvėtas, amortizuotas\",\" \"))","v":" "}]
["5.4.3","Turtas, kurio nusidėvėjimą, amortizaciją prašoma finansuoti",null,null,1,0,0,0,null,null,null,null,null,null,"0",null,null,0," "]
["5.4.4","Turtas, kurio nusidėvėjimą, amortizaciją prašoma finansuoti",null,null,1,0,0,0,null,null,null,null,null,null,"0",null,null,0," "]
["5.4.5","Turtas, kurio nusidėvėjimą, amortizaciją prašoma finansuoti",null,null,1,0,0,0,null,null,null,null,null,null,"0",null,null,0," "]
["5.4.6","Turtas, kurio nusidėvėjimą, amortizaciją prašoma finansuoti",null,null,1,0,0,0,null,null,null,null,null,null,"0",null,null,0," "]
["5.4.7","Turtas, kurio nusidėvėjimą, amortizaciją prašoma finansuoti",null,null,1,0,0,0,null,null,null,null,null,null,"0",null,null,0," "]
["5.4.8","Turtas, kurio nusidėvėjimą, amortizaciją prašoma finansuoti",null,null,1,0,0,0,null,null,null,null,null,null,"0",null,null,0," "]
["5.4.9","Turtas, kurio nusidėvėjimą, amortizaciją prašoma finansuoti",null,null,1,0,0,0,null,null,null,null,null,null,"0",null,null,0," "]
["5.4.10","Turtas, kurio nusidėvėjimą, amortizaciją prašoma finansuoti",null,null,1,0,0,0,null,null,null,null,null,null,"0",null,null,0," "]
["5.4.11","Turtas, kurio nusidėvėjimą, amortizaciją prašoma finansuoti",null,null,1,0,0,0,null,null,null,null,null,null,"0",null,null,0," "]
["5.4.12","Turtas, kurio nusidėvėjimą, amortizaciją prašoma finansuoti",null,null,1,0,0,0,null,null,null,null,null,null,"0",null,null,0," "]
["5.4.13","Turtas, kurio nusidėvėjimą, amortizaciją prašoma finansuoti",null,null,1,0,0,0,null,null,null,null,null,null,"0",null,null,0," "]
["5.4.14","Turtas, kurio nusidėvėjimą, amortizaciją prašoma finansuoti",null,null,1,0,0,0,null,null,null,null,null,null,"0",null,null,0," "]
["5.4.15","Turtas, kurio nusidėvėjimą, amortizaciją prašoma finansuoti",null,null,1,0,0,0,null,null,null,null,null,null,"0",null,null,0," "]
["5.5","Projektą vykdančio personalo darbo užmokestis ir išlaidos su darbo santykiais susijusiems darbdavio įsipareigojimams",null,null,null,null,{"$f":"SUM(G77:G126)","v":0},{"$f":"SUM(H77:H126)","v":0},null,null,"Faktiškai gaunamas darbo užmokesti už 1 valandą pagal  pastarųjų 6 mėn. vidurkį, Eur"]
["5.5.1","Pareigybės pavadinimas","Darbuotojo vardas pavardė","val.",null,{"$f":"IFERROR(ROUND(AVERAGE(K77:K81),2),\"0\")","v":"0"},{"$f":"ROUND(E77*F77,2)","v":0},{"$f":"ROUND(G77*$D$7,2)","v":0}]
[null,null,"Darbuotojo vardas pavardė"]
[null,null,"Darbuotojo vardas pavardė"]
[null,null,"Darbuotojo vardas pavardė"]
[null,null,"Darbuotojo vardas pavardė"]
["5.5.2","Pareigybės pavadinimas","Darbuotojo vardas pavardė","val.",null,{"$f":"IFERROR(ROUND(AVERAGE(K82:K86),2),\"0\")","v":"0"},{"$f":"ROUND(E82*F82,2)","v":0},{"$f":"ROUND(G82*$D$7,2)","v":0}]
[null,null,"Darbuotojo vardas pavardė"]
[null,null,"Darbuotojo vardas pavardė"]
[null,null,"Darbuotojo vardas pavardė"]
[null,null,"Darbuotojo vardas pavardė"]
["5.5.3","Pareigybės pavadinimas","Darbuotojo vardas pavardė","val.",null,{"$f":"IFERROR(ROUND(AVERAGE(K87:K91),2),\"0\")","v":"0"},{"$f":"ROUND(E87*F87,2)","v":0},{"$f":"ROUND(G87*$D$7,2)","v":0}]
[null,null,"Darbuotojo vardas pavardė"]
[null,null,"Darbuotojo vardas pavardė"]
[null,null,"Darbuotojo vardas pavardė"]
[null,null,"Darbuotojo vardas pavardė"]
["5.5.4","Pareigybės pavadinimas","Darbuotojo vardas pavardė","val.",null,{"$f":"IFERROR(ROUND(AVERAGE(K92:K96),2),\"0\")","v":"0"},{"$f":"ROUND(E92*F92,2)","v":0},{"$f":"ROUND(G92*$D$7,2)","v":0}]
[null,null,"Darbuotojo vardas pavardė"]
[null,null,"Darbuotojo vardas pavardė"]
[null,null,"Darbuotojo vardas pavardė"]
[null,null,"Darbuotojo vardas pavardė"]
["5.5.5","Pareigybės pavadinimas","Darbuotojo vardas pavardė","val.",null,{"$f":"IFERROR(ROUND(AVERAGE(K97:K101),2),\"0\")","v":"0"},{"$f":"ROUND(E97*F97,2)","v":0},{"$f":"ROUND(G97*$D$7,2)","v":0}]
[null,null,"Darbuotojo vardas pavardė"]
[null,null,"Darbuotojo vardas pavardė"]
[null,null,"Darbuotojo vardas pavardė"]
[null,null,"Darbuotojo vardas pavardė"]
["5.5.6","Pareigybės pavadinimas","Darbuotojo vardas pavardė","val.",null,{"$f":"IFERROR(ROUND(AVERAGE(K102:K106),2),\"0\")","v":"0"},{"$f":"ROUND(E102*F102,2)","v":0},{"$f":"ROUND(G102*$D$7,2)","v":0}]
[null,null,"Darbuotojo vardas pavardė"]
[null,null,"Darbuotojo vardas pavardė"]
[null,null,"Darbuotojo vardas pavardė"]
[null,null,"Darbuotojo vardas pavardė"]
["5.5.7","Pareigybės pavadinimas","Darbuotojo vardas pavardė","val.",null,{"$f":"IFERROR(ROUND(AVERAGE(K107:K111),2),\"0\")","v":"0"},{"$f":"ROUND(E107*F107,2)","v":0},{"$f":"ROUND(G107*$D$7,2)","v":0}]
[null,null,"Darbuotojo vardas pavardė"]
[null,null,"Darbuotojo vardas pavardė"]
[null,null,"Darbuotojo vardas pavardė"]
[null,null,"Darbuotojo vardas pavardė"]
["5.5.8","Pareigybės pavadinimas","Darbuotojo vardas pavardė","val.",null,{"$f":"IFERROR(ROUND(AVERAGE(K112:K116),2),\"0\")","v":"0"},{"$f":"ROUND(E112*F112,2)","v":0},{"$f":"ROUND(G112*$D$7,2)","v":0}]
[null,null,"Darbuotojo vardas pavardė"]
[null,null,"Darbuotojo vardas pavardė"]
[null,null,"Darbuotojo vardas pavardė"]
[null,null,"Darbuotojo vardas pavardė"]
["5.5.9","Pareigybės pavadinimas","Darbuotojo vardas pavardė","val.",null,{"$f":"IFERROR(ROUND(AVERAGE(K117:K121),2),\"0\")","v":"0"},{"$f":"ROUND(E117*F117,2)","v":0},{"$f":"ROUND(G117*$D$7,2)","v":0}]
[null,null,"Darbuotojo vardas pavardė"]
[null,null,"Darbuotojo vardas pavardė"]
[null,null,"Darbuotojo vardas pavardė"]
[null,null,"Darbuotojo vardas pavardė"]
["5.5.10","Pareigybės pavadinimas","Darbuotojo vardas pavardė","val.",null,{"$f":"IFERROR(ROUND(AVERAGE(K122:K126),2),\"0\")","v":"0"},{"$f":"ROUND(E122*F122,2)","v":0},{"$f":"ROUND(G122*$D$7,2)","v":0}]
[null,null,"Darbuotojo vardas pavardė"]
[null,null,"Darbuotojo vardas pavardė"]
[null,null,"Darbuotojo vardas pavardė"]
[null,null,"Darbuotojo vardas pavardė"]
["5.6","Projektą vykdančio personalo komandiruočių išlaidos",null,null,null,null,{"$f":"SUM(G128,G135,G142,G149,G156,G163,G170,G177,G184,G191)","v":0},{"$f":"SUM(H128,H135,H142,H149,H156,H163,H170,H177,H184,H191)","v":0}]
["5.6.1","Komandiruotės pavadinimas, vieta, trukmė dienomis, vykstančių asmenų skaičius","Iš viso komandiruotei",null,null,null,{"$f":"SUM(G129:G134)","v":0},{"$f":"ROUND(G128*$D$7,2)","v":0}]
[null,null,"Dienpinigiai",null,null,null,{"$f":"ROUND(E129*F129,2)","v":0}]
[null,null,"Gyvenamojo ploto nuoma",null,null,null,0]
[null,null,"Kelionės išlaidos",null,null,null,0]
[null,null,"Dalyvavimo mokestis",null,null,null,0]
[null,null,"Kitos išlaidų pavadinimas",null,null,null,0]
[null,null,"Kitos išlaidų pavadinimas",null,null,null,0]
["5.6.2","Komandiruotės pavadinimas, vieta, trukmė dienomis, vykstančių asmenų skaičius","Iš viso komandiruotei",null,null,null,{"$f":"SUM(G136:G141)","v":0},{"$f":"ROUND(G135*$D$7,2)","v":0}]
[null,null,"Dienpinigiai",null,null,null,{"$f":"ROUND(E136*F136,2)","v":0}]
[null,null,"Gyvenamojo ploto nuoma",null,null,null,0]
[null,null,"Kelionės išlaidos",null,null,null,0]
[null,null,"Dalyvavimo mokestis",null,null,null,0]
[null,null,"Kitos išlaidų pavadinimas",null,null,null,0]
[null,null,"Kitos išlaidų pavadinimas",null,null,null,0]
["5.6.3","Komandiruotės pavadinimas, vieta, trukmė dienomis, vykstančių asmenų skaičius","Iš viso komandiruotei",null,null,null,{"$f":"SUM(G143:G148)","v":0},{"$f":"ROUND(G142*$D$7,2)","v":0}]
[null,null,"Dienpinigiai",null,null,null,{"$f":"ROUND(E143*F143,2)","v":0}]
[null,null,"Gyvenamojo ploto nuoma",null,null,null,0]
[null,null,"Kelionės išlaidos",null,null,null,0]
[null,null,"Dalyvavimo mokestis",null,null,null,0]
[null,null,"Kitos išlaidų pavadinimas",null,null,null,0]
[null,null,"Kitos išlaidų pavadinimas",null,null,null,0]
["5.6.4","Komandiruotės pavadinimas, vieta, trukmė dienomis, vykstančių asmenų skaičius","Iš viso komandiruotei",null,null,null,{"$f":"SUM(G150:G155)","v":0},{"$f":"ROUND(G149*$D$7,2)","v":0}]
[null,null,"Dienpinigiai",null,null,null,{"$f":"ROUND(E150*F150,2)","v":0}]
[null,null,"Gyvenamojo ploto nuoma",null,null,null,0]
[null,null,"Kelionės išlaidos",null,null,null,0]
[null,null,"Dalyvavimo mokestis",null,null,null,0]
[null,null,"Kitos išlaidų pavadinimas",null,null,null,0]
[null,null,"Kitos išlaidų pavadinimas",null,null,null,0]
["5.6.5","Komandiruotės pavadinimas, vieta, trukmė dienomis, vykstančių asmenų skaičius","Iš viso komandiruotei",null,null,null,{"$f":"SUM(G157:G162)","v":0},{"$f":"ROUND(G156*$D$7,2)","v":0}]
[null,null,"Dienpinigiai",null,null,null,{"$f":"ROUND(E157*F157,2)","v":0}]
[null,null,"Gyvenamojo ploto nuoma",null,null,null,0]
[null,null,"Kelionės išlaidos",null,null,null,0]
[null,null,"Dalyvavimo mokestis",null,null,null,0]
[null,null,"Kitos išlaidų pavadinimas",null,null,null,0]
[null,null,"Kitos išlaidų pavadinimas",null,null,null,0]
["5.6.6","Komandiruotės pavadinimas, vieta, trukmė dienomis, vykstančių asmenų skaičius","Iš viso komandiruotei",null,null,null,{"$f":"SUM(G164:G169)","v":0},{"$f":"ROUND(G163*$D$7,2)","v":0}]
[null,null,"Dienpinigiai",null,null,null,{"$f":"ROUND(E164*F164,2)","v":0}]
[null,null,"Gyvenamojo ploto nuoma",null,null,null,0]
[null,null,"Kelionės išlaidos",null,null,null,0]
[null,null,"Dalyvavimo mokestis",null,null,null,0]
[null,null,"Kitos išlaidų pavadinimas",null,null,null,0]
[null,null,"Kitos išlaidų pavadinimas",null,null,null,0]
["5.6.7","Komandiruotės pavadinimas, vieta, trukmė dienomis, vykstančių asmenų skaičius","Iš viso komandiruotei",null,null,null,{"$f":"SUM(G171:G176)","v":0},{"$f":"ROUND(G170*$D$7,2)","v":0}]
[null,null,"Dienpinigiai",null,null,null,{"$f":"ROUND(E171*F171,2)","v":0}]
[null,null,"Gyvenamojo ploto nuoma",null,null,null,0]
[null,null,"Kelionės išlaidos",null,null,null,0]
[null,null,"Dalyvavimo mokestis",null,null,null,0]
[null,null,"Kitos išlaidų pavadinimas",null,null,null,0]
[null,null,"Kitos išlaidų pavadinimas",null,null,null,0]
["5.6.8","Komandiruotės pavadinimas, vieta, trukmė dienomis, vykstančių asmenų skaičius","Iš viso komandiruotei",null,null,null,{"$f":"SUM(G178:G183)","v":0},{"$f":"ROUND(G177*$D$7,2)","v":0}]
[null,null,"Dienpinigiai",null,null,null,{"$f":"ROUND(E178*F178,2)","v":0}]
[null,null,"Gyvenamojo ploto nuoma",null,null,null,0]
[null,null,"Kelionės išlaidos",null,null,null,0]
[null,null,"Dalyvavimo mokestis",null,null,null,0]
[null,null,"Kitos išlaidų pavadinimas",null,null,null,0]
[null,null,"Kitos išlaidų pavadinimas",null,null,null,0]
["5.6.9","Komandiruotės pavadinimas, vieta, trukmė dienomis, vykstančių asmenų skaičius","Iš viso komandiruotei",null,null,null,{"$f":"SUM(G185:G190)","v":0},{"$f":"ROUND(G184*$D$7,2)","v":0}]
[null,null,"Dienpinigiai",null,null,null,{"$f":"ROUND(E185*F185,2)","v":0}]
[null,null,"Gyvenamojo ploto nuoma",null,null,null,0]
[null,null,"Kelionės išlaidos",null,null,null,0]
[null,null,"Dalyvavimo mokestis",null,null,null,0]
[null,null,"Kitos išlaidų pavadinimas",null,null,null,0]
[null,null,"Kitos išlaidų pavadinimas",null,null,null,0]
["5.6.10","Komandiruotės pavadinimas, vieta, trukmė dienomis, vykstančių asmenų skaičius","Iš viso komandiruotei",null,null,null,{"$f":"SUM(G192:G197)","v":0},{"$f":"ROUND(G191*$D$7,2)","v":0}]
[null,null,"Dienpinigiai",null,null,null,{"$f":"ROUND(E192*F192,2)","v":0}]
[null,null,"Gyvenamojo ploto nuoma",null,null,null,0]
[null,null,"Kelionės išlaidos",null,null,null,0]
[null,null,"Dalyvavimo mokestis",null,null,null,0]
[null,null,"Kitos išlaidų pavadinimas",null,null,null,0]
[null,null,"Kitos išlaidų pavadinimas",null,null,null,0]
["5.7","Įrangos nuomos išlaidos, veiklai priskirtos pro rata principu. Įranga turi būti tiesiogiai susijusi su projekto įgyvendinimu ir negali būti įsigyta iš ES struktūrinių fondų ar kt. ES finansinių priemonių lėšų",null,null,null,null,{"$f":"SUM(G199:G203)","v":0},{"$f":"SUM(H199:H203)","v":0},null,null,"Faktinės 1 mėnesio išlaidos, Eur","Naudojimo projekte trukmė, mėn."]
["5.7.1","Įrangos pavadinimas",null,"pro rata proc.",null,{"$f":"K199*L199","v":0},0,{"$f":"ROUND(G199*$D$7,2)","v":0}]
["5.7.2","Įrangos pavadinimas",null,"pro rata proc.",null,{"$f":"K200*L200","v":0},0,{"$f":"ROUND(G200*$D$7,2)","v":0}]
["5.7.3","Įrangos pavadinimas",null,"pro rata proc.",null,0,0,0]
["5.7.4","Įrangos pavadinimas",null,"pro rata proc.",null,0,0,0]
["5.7.5","Įrangos pavadinimas",null,"pro rata proc.",null,0,0,0]
["5.8","Pastatų ar patalpų nuomos išlaidos, veiklai priskirtos pro rata principu. Pastatai ar patalpos turi būti tiesiogiai susijusi su projekto įgyvendinimu.",null,null,null,null,{"$f":"SUM(G205:G209)","v":0},{"$f":"SUM(H205:H209)","v":0},null,null,"Faktinės 1 mėnesio išlaidos, Eur","Naudojimo projekte trukmė, mėn."]
["5.8.1","Pastato, patalpų adresas",null,"pro rata proc.",null,{"$f":"K205*L205","v":0},{"$f":"ROUND(E205*F205,2)","v":0},{"$f":"ROUND(G205*$D$7,2)","v":0}]
["5.8.2","Pastato, patalpų adresas",null,"pro rata proc.",null,{"$f":"K206*L206","v":0},0,0]
["5.8.3","Pastato, patalpų adresas",null,"pro rata proc.",null,0,0,0]
["5.8.4","Pastato, patalpų adresas",null,"pro rata proc.",null,0,0,0]
["5.8.5","Pastato, patalpų adresas",null,"pro rata proc.",null,0,0,0]
["Iš viso tinkamų finansuoti išlaidų:",null,null,null,null,null,{"$f":"G10+G21","v":0},{"$f":"H10+H21","v":0}]

{"sheet":"16","index":17,"n_rows":210,"n_cols":19,"rows_kept":210,"cut":false,"hidden":false,"merged":[[0,3,0,8],[2,0,2,2],[2,3,2,8],[3,3,3,4],[3,5,3,6],[4,0,4,2],[4,3,4,8],[14,1,14,2],[15,1,15,2],[16,1,16,2],[17,1,17,2],[18,1,18,2],[19,1,19,2],[8,1,8,2],[9,1,9,5],[10,1,10,2],[11,1,11,2],[12,1,12,2],[13,1,13,2],[26,1,26,2],[27,1,27,2],[28,1,28,2],[29,1,29,2],[30,1,30,2],[31,1,31,2],[20,1,20,5],[21,1,21,5],[22,1,22,2],[23,1,23,2],[24,1,24,2],[25,1,25,2],[38,1,38,2],[39,1,39,2],[40,1,40,2],[41,1,41,2],[42,1,42,2],[43,1,43,5],[32,1,32,5],[33,1,33,2],[34,1,34,2],[35,1,35,2],[36,1,36,2],[37,1,37,2],[50,1,50,2],[51,1,51,2],[52,1,52,2],[53,1,53,2],[54,1,54,2],[55,1,55,2],[44,1,44,2],[45,1,45,2],[46,1,46,2],[47,1,47,2],[48,1,48,2],[49,1,49,2],[62,1,62,2],[63,1,63,2],[64,1,64,2],[65,1,65,2],[66,1,66,2],[67,1,67,2],[56,1,56,2],[57,1,57,2],[58,1,58,2],[59,1,59,5],[60,1,60,2],[61,1,61,2],[74,1,74,2],[75,1,75,5],[76,0,80,0],[76,1,80,1],[76,3,80,3],[76,4,80,4],[76,5,80,5],[68,1,68,2],[69,1,69,2],[70,1,70,2],[71,1,71,2],[72,1,72,2],[73,1,73,2],[76,6,80,6],[76,7,80,7],[76,8,80,8],[81,0,85,0],[81,1,85,1],[81,3,85,3],[81,4,85,4],[81,5,85,5],[81,6,85,6],[81,7,85,7],[81,8,85,8],[86,0,90,0],[86,1,90,1],[86,3,90,3],[86,4,90,4],[86,5,90,5],[86,6,90,6],[86,7,90,7],[86,8,90,8],[91,7,95,7],[91,8,95,8],[96,0,100,0],[96,1,100,1],[96,3,100,3],[96,4,100,4],[96,5,100,5],[96,6,100,6],[96,7,100,7],[96,8,100,8],[91,0,95,0],[91,1,95,1],[91,3,95,3],[91,4,95,4],[91,5,95,5],[91,6,95,6],[101,7,105,7],[101,8,105,8],[106,0,110,0],[106,1,110,1],[106,3,110,3],[106,4,110,4],[106,5,110,5],[106,6,110,6],[106,7,110,7],[106,8,110,8],[101,0,105,0],[101,1,105,1],[101,3,105,3],[101,4,105,4],[101,5,105,5],[101,6,105,6],[111,7,115,7],[111,8,115,8],[116,0,120,0],[116,1,120,1],[116,3,120,3],[116,4,120,4],[116,5,120,5],[116,6,120,6],[116,7,120,7],[116,8,120,8],[111,0,115,0],[111,1,115,1],[111,3,115,3],[111,4,115,4],[111,5,115,5],[111,6,115,6],[127,1,133,1],[121,7,125,7],[121,8,125,8],[126,1,126,5],[121,0,125,0],[121,1,125,1],[121,3,125,3],[121,4,125,4],[121,5,125,5],[121,6,125,6],[127,0,133,0],[127,8,133,8],[134,0,140,0],[134,1,140,1],[134,8,140,8],[141,0,147,0],[141,1,147,1],[141,8,147,8],[148,0,154,0],[148,1,154,1],[148,8,154,8],[155,0,161,0],[155,1,161,1],[155,8,161,8],[162,0,168,0],[162,1,168,1],[162,8,168,8],[169,0,175,0],[169,1,175,1],[169,8,175,8],[176,0,182,0],[176,1,182,1],[176,8,182,8],[183,0,189,0],[183,1,189,1],[183,8,189,8],[190,0,196,0],[190,1,196,1],[190,8,196,8],[206,1,206,2],[207,1,207,2],[208,1,208,2],[209,0,209,5],[197,1,197,5],[198,1,198,2],[199,1,199,2],[200,1,200,2],[201,1,201,2],[202,1,202,2],[203,1,203,5],[204,1,204,2],[205,1,205,2]]}
[null,null,"Pasirinkite veiklos tipą:"]
[null,null,"Fizinio rodiklio Nr.:"]
["Fizinio rodiklio pavadinimas:"]
[null,null,"Fizinio rodiklio matavimo vnt.:",null,null,"Fizinio rodiklio vnt. skaičius:"]
["Juridinis asmuo (pareiškėjas, partneris), atsakingas už fizinį rodiklį:"]
[]
[null,null,"Finansavimo intensyvumas:",null,null,null,"Pasirinkite biudžeto išlaidų kategoriją:"]
[]
["Eil. Nr.","Išlaidų kategorijos pavadinimas",null,"Matavimo vnt.","Kiekis","Vieneto kaina be PVM, Eur","Tinkamų finansuoti išlaidų suma be PVM, Eur","Finansavimo suma, Eur","Išlaidų pagrindimo dokumentų pavadinimas, data ir Nr."]
[4,"ĮRANGA, ĮRENGINIAI IR KT. TURTAS (techninių žinių ir išradimų patentų arba teisių pagal licencijų sutartį įsigijimo išlaidos)",null,null,null,null,{"$f":"SUM(G11:G20)","v":0},{"$f":"SUM(H11:H20)","v":0}]
["4.1","Išlaidų pavadinimas",null,null,null,null,{"$f":"ROUND(E11*F11,2)","v":0},{"$f":"ROUND(G11*$D$7,2)","v":0}]
["4.2","Išlaidų pavadinimas",null,null,null,null,0,0]
["4.3","Išlaidų pavadinimas",null,null,null,null,0,0]
["4.4","Išlaidų pavadinimas",null,null,null,null,0,0]
["4.5","Išlaidų pavadinimas",null,null,null,null,0,0]
["4.6","Išlaidų pavadinimas",null,null,null,null,0,0]
["4.7","Išlaidų pavadinimas",null,null,null,null,0,0]
["4.8","Išlaidų pavadinimas",null,null,null,null,0,0]
["4.9","Išlaidų pavadinimas",null,null,null,null,0,0]
["4.10","Išlaidų pavadinimas",null,null,null,null,0,0]
[5,"PROJEKTO VYKDYMAS",null,null,null,null,{"$f":"G22+G33+G44+G60+G76+G127+G198+G204","v":0},{"$f":"H22+H33+H44+H60+H76+H127+H198+H204","v":0}]
["5.1","MTEP paslaugos",null,null,null,null,{"$f":"SUM(G23:G32)","v":0},{"$f":"SUM(H23:H32)","v":0}]
["5.1.1","Paslaugos pavadinimas",null,null,null,null,{"$f":"ROUND(E23*F23,2)","v":0},0]
["5.1.2","Paslaugos pavadinimas",null,null,null,null,0,0]
["5.1.3","Paslaugos pavadinimas",null,null,null,null,0,0]
["5.1.4","Paslaugos pavadinimas",null,null,null,null,0,0]
["5.1.5","Paslaugos pavadinimas",null,null,null,null,0,0]
["5.1.6","Paslaugos pavadinimas",null,null,null,null,0,0]
["5.1.7","Paslaugos pavadinimas",null,null,null,null,0,0]
["5.1.8","Paslaugos pavadinimas",null,null,null,null,0,0]
["5.1.9","Paslaugos pavadinimas",null,null,null,null,0,0]
["5.1.10","Paslaugos pavadinimas",null,null,null,null,0,0]
["5.2","Konsultavimo ir lygiavertės paslaugos, naudojamos vien tik projekto MTEP veiklai",null,null,null,null,{"$f":"SUM(G34:G43)","v":0},{"$f":"SUM(H34:H43)","v":0}]
["5.2.1","Paslaugos pavadinimas",null,null,null,null,{"$f":"ROUND(E34*F34,2)","v":0},0]
["5.2.2","Paslaugos pavadinimas",null,null,null,null,0,0]
["5.2.3","Paslaugos pavadinimas",null,null,null,null,0,0]
["5.2.4","Paslaugos pavadinimas",null,null,null,null,0,0]
["5.2.5","Paslaugos pavadinimas",null,null,null,null,0,0]
["5.2.6","Paslaugos pavadinimas",null,null,null,null,0,0]
["5.2.7","Paslaugos pavadinimas",null,null,null,null,0,0]
["5.2.8","Paslaugos pavadinimas",null,null,null,null,0,0]
["5.2.9","Paslaugos pavadinimas",null,null,null,null,0,0]
["5.2.10","Paslaugos pavadinimas",null,null,null,null,0,0]
["5.3","Medžiagos, mažavertis inventorius, atsargos ir pan. produktai, priskirtini trumpalaikiam turtui ir tiesiogiai susiję su MTEP veikla",null,null,null,null,{"$f":"SUM(G45:G59)","v":0},{"$f":"SUM(H45:H59)","v":0}]
["5.3.1","Išlaidų pavadinimas",null,null,null,null,{"$f":"ROUND(E45*F45,2)","v":0},{"$f":"ROUND(G45*$D$7,2)","v":0}]
["5.3.2","Išlaidų pavadinimas",null,null,null,null,0,0]
["5.3.3","Išlaidų pavadinimas",null,null,null,null,0,0]
["5.3.4","Išlaidų pavadinimas",null,null,null,null,0,0]
["5.3.5","Išlaidų pavadinimas",null,null,null,null,0,0]
["5.3.6","Išlaidų pavadinimas",null,null,null,null,0,0]
["5.3.7","Išlaidų pavadinimas",null,null,null,null,0,0]
["5.3.8","Išlaidų pavadinimas",null,null,null,null,0,0]
["5.3.9","Išlaidų pavadinimas",null,null,null,null,0,0]
["5.3.10","Išlaidų pavadinimas",null,null,null,null,0,0]
["5.3.11","Išlaidų pavadinimas",null,null,null,null,0,0]
["5.3.12","Išlaidų pavadinimas",null,null,null,null,0,0]
["5.3.13","Išlaidų pavadinimas",null,null,null,null,0,0]
["5.3.14","Išlaidų pavadinimas",null,null,null,null,0,0]
["5.3.15","Išlaidų pavadinimas",null,null,null,null,0,0]
["5.4","Projekto MTEP veikloms naudojamo ilgalaikio materialaus turto (įrangos, prietaisų, įrankių, įrenginių, mašinų ir įrengimų, pastatų ir (ar) patalpų), nusidėvėjimo sąnaudos, jeigu šiam turtui įsigyti nebuvo naudojamos viešosios (įskaitant ir kitų valstybių) lėšos",null,null,null,null,{"$f":"SUM(G61:G75)","v":0},{"$f":"SUM(H61:H75)","v":0},null,null,"Turto įvedimo į eksploataciją data","Turto įsigijimo vertė, Eur","Turto nudėvėjimo, amortizacijos laikotarpis, mėn.","Numatoma turto likutinė vertė, Eur","1 mėn. nudėvėjimo, amortizacijos suma, Eur","Turto naudojamo projekto reikmėms laikas, mėn.","Turto panaudojimo projekto reikmėms dalis (proc.)","Projektui priskirta turto nusidėvėjimo, amortizacijos suma per projekto laikotarpį, Eur"]
["5.4.1","Turtas, kurio nusidėvėjimą, amortizaciją prašoma finansuoti",null,null,1,{"$f":"R61","v":0},{"$f":"ROUND(E61*F61,2)","v":0},0,null,null,null,null,null,null,{"$f":"IFERROR(ROUND((L61-N61)/M61,2),\"0\")","v":"0"},null,null,{"$f":"O61*P61*Q61","v":0},{"$f":"IF(K61=0,\" \",IF(K61+(M61*30.5)<TODAY(),\"DĖMESIO! Patikrinkite, ar nurodytas turtas dar nėra nudėvėtas, amortizuotas\",\" \"))","v":" "}]
["5.4.2","Turtas, kurio nusidėvėjimą, amortizaciją prašoma finansuoti",null,null,1,{"$f":"R62","v":0},0,0,null,null,null,null,null,null,{"$f":"IFERROR(ROUND((L62-N62)/M62,2),\"0\")","v":"0"},null,null,{"$f":"O62*P62*Q62","v":0},{"$f":"IF(K62=0,\" \",IF(K62+(M62*30.5)<TODAY(),\"DĖMESIO! Patikrinkite, ar nurodytas turtas dar nėra nudėvėtas, amortizuotas\",\" \"))","v":" "}]
["5.4.3","Turtas, kurio nusidėvėjimą, amortizaciją prašoma finansuoti",null,null,1,0,0,0,null,null,null,null,null,null,"0",null,null,0," "]
["5.4.4","Turtas, kurio nusidėvėjimą, amortizaciją prašoma finansuoti",null,null,1,0,0,0,null,null,null,null,null,null,"0",null,null,0," "]
["5.4.5","Turtas, kurio nusidėvėjimą, amortizaciją prašoma finansuoti",null,null,1,0,0,0,null,null,null,null,null,null,"0",null,null,0," "]
["5.4.6","Turtas, kurio nusidėvėjimą, amortizaciją prašoma finansuoti",null,null,1,0,0,0,null,null,null,null,null,null,"0",null,null,0," "]
["5.4.7","Turtas, kurio nusidėvėjimą, amortizaciją prašoma finansuoti",null,null,1,0,0,0,null,null,null,null,null,null,"0",null,null,0," "]
["5.4.8","Turtas, kurio nusidėvėjimą, amortizaciją prašoma finansuoti",null,null,1,0,0,0,null,null,null,null,null,null,"0",null,null,0," "]
["5.4.9","Turtas, kurio nusidėvėjimą, amortizaciją prašoma finansuoti",null,null,1,0,0,0,null,null,null,null,null,null,"0",null,null,0," "]
["5.4.10","Turtas, kurio nusidėvėjimą, amortizaciją prašoma finansuoti",null,null,1,0,0,0,null,null,null,null,null,null,"0",null,null,0," "]
["5.4.11","Turtas, kurio nusidėvėjimą, amortizaciją prašoma finansuoti",null,null,1,0,0,0,null,null,null,null,null,null,"0",null,null,0," "]
["5.4.12","Turtas, kurio nusidėvėjimą, amortizaciją prašoma finansuoti",null,null,1,0,0,0,null,null,null,null,null,null,"0",null,null,0," "]
["5.4.13","Turtas, kurio nusidėvėjimą, amortizaciją prašoma finansuoti",null,null,1,0,0,0,null,null,null,null,null,null,"0",null,null,0," "]
["5.4.14","Turtas, kurio nusidėvėjimą, amortizaciją prašoma finansuoti",null,null,1,0,0,0,null,null,null,null,null,null,"0",null,null,0," "]
["5.4.15","Turtas, kurio nusidėvėjimą, amortizaciją prašoma finansuoti",null,null,1,0,0,0,null,null,null,null,null,null,"0",null,null,0," "]
["5.5","Projektą vykdančio personalo darbo užmokestis ir išlaidos su darbo santykiais susijusiems darbdavio įsipareigojimams",null,null,null,null,{"$f":"SUM(G77:G126)","v":0},{"$f":"SUM(H77:H126)","v":0},null,null,"Faktiškai gaunamas darbo užmokesti už 1 valandą pagal  pastarųjų 6 mėn. vidurkį, Eur"]
["5.5.1","Pareigybės pavadinimas","Darbuotojo vardas pavardė","val.",null,{"$f":"IFERROR(ROUND(AVERAGE(K77:K81),2),\"0\")","v":"0"},{"$f":"ROUND(E77*F77,2)","v":0},{"$f":"ROUND(G77*$D$7,2)","v":0}]
[null,null,"Darbuotojo vardas pavardė"]
[null,null,"Darbuotojo vardas pavardė"]
[null,null,"Darbuotojo vardas pavardė"]
[null,null,"Darbuotojo vardas pavardė"]
["5.5.2","Pareigybės pavadinimas","Darbuotojo vardas pavardė","val.",null,{"$f":"IFERROR(ROUND(AVERAGE(K82:K86),2),\"0\")","v":"0"},{"$f":"ROUND(E82*F82,2)","v":0},{"$f":"ROUND(G82*$D$7,2)","v":0}]
[null,null,"Darbuotojo vardas pavardė"]
[null,null,"Darbuotojo vardas pavardė"]
[null,null,"Darbuotojo vardas pavardė"]
[null,null,"Darbuotojo vardas pavardė"]
["5.5.3","Pareigybės pavadinimas","Darbuotojo vardas pavardė","val.",null,{"$f":"IFERROR(ROUND(AVERAGE(K87:K91),2),\"0\")","v":"0"},{"$f":"ROUND(E87*F87,2)","v":0},{"$f":"ROUND(G87*$D$7,2)","v":0}]
[null,null,"Darbuotojo vardas pavardė"]
[null,null,"Darbuotojo vardas pavardė"]
[null,null,"Darbuotojo vardas pavardė"]
[null,null,"Darbuotojo vardas pavardė"]
["5.5.4","Pareigybės pavadinimas","Darbuotojo vardas pavardė","val.",null,{"$f":"IFERROR(ROUND(AVERAGE(K92:K96),2),\"0\")","v":"0"},{"$f":"ROUND(E92*F92,2)","v":0},{"$f":"ROUND(G92*$D$7,2)","v":0}]
[null,null,"Darbuotojo vardas pavardė"]
[null,null,"Darbuotojo vardas pavardė"]
[null,null,"Darbuotojo vardas pavardė"]
[null,null,"Darbuotojo vardas pavardė"]
["5.5.5","Pareigybės pavadinimas","Darbuotojo vardas pavardė","val.",null,{"$f":"IFERROR(ROUND(AVERAGE(K97:K101),2),\"0\")","v":"0"},{"$f":"ROUND(E97*F97,2)","v":0},{"$f":"ROUND(G97*$D$7,2)","v":0}]
[null,null,"Darbuotojo vardas pavardė"]
[null,null,"Darbuotojo vardas pavardė"]
[null,null,"Darbuotojo vardas pavardė"]
[null,null,"Darbuotojo vardas pavardė"]
["5.5.6","Pareigybės pavadinimas","Darbuotojo vardas pavardė","val.",null,{"$f":"IFERROR(ROUND(AVERAGE(K102:K106),2),\"0\")","v":"0"},{"$f":"ROUND(E102*F102,2)","v":0},{"$f":"ROUND(G102*$D$7,2)","v":0}]
[null,null,"Darbuotojo vardas pavardė"]
[null,null,"Darbuotojo vardas pavardė"]
[null,null,"Darbuotojo vardas pavardė"]
[null,null,"Darbuotojo vardas pavardė"]
["5.5.7","Pareigybės pavadinimas","Darbuotojo vardas pavardė","val.",null,{"$f":"IFERROR(ROUND(AVERAGE(K107:K111),2),\"0\")","v":"0"},{"$f":"ROUND(E107*F107,2)","v":0},{"$f":"ROUND(G107*$D$7,2)","v":0}]
[null,null,"Darbuotojo vardas pavardė"]
[null,null,"Darbuotojo vardas pavardė"]
[null,null,"Darbuotojo vardas pavardė"]
[null,null,"Darbuotojo vardas pavardė"]
["5.5.8","Pareigybės pavadinimas","Darbuotojo vardas pavardė","val.",null,{"$f":"IFERROR(ROUND(AVERAGE(K112:K116),2),\"0\")","v":"0"},{"$f":"ROUND(E112*F112,2)","v":0},{"$f":"ROUND(G112*$D$7,2)","v":0}]
[null,null,"Darbuotojo vardas pavardė"]
[null,null,"Darbuotojo vardas pavardė"]
[null,null,"Darbuotojo vardas pavardė"]
[null,null,"Darbuotojo vardas pavardė"]
["5.5.9","Pareigybės pavadinimas","Darbuotojo vardas pavardė","val.",null,{"$f":"IFERROR(ROUND(AVERAGE(K117:K121),2),\"0\")","v":"0"},{"$f":"ROUND(E117*F117,2)","v":0},{"$f":"ROUND(G117*$D$7,2)","v":0}]
[null,null,"Darbuotojo vardas pavardė"]
[null,null,"Darbuotojo vardas pavardė"]
[null,null,"Darbuotojo vardas pavardė"]
[null,null,"Darbuotojo vardas pavardė"]
["5.5.10","Pareigybės pavadinimas","Darbuotojo vardas pavardė","val.",null,{"$f":"IFERROR(ROUND(AVERAGE(K122:K126),2),\"0\")","v":"0"},{"$f":"ROUND(E122*F122,2)","v":0},{"$f":"ROUND(G122*$D$7,2)","v":0}]
[null,null,"Darbuotojo vardas pavardė"]
[null,null,"Darbuotojo vardas pavardė"]
[null,null,"Darbuotojo vardas pavardė"]
[null,null,"Darbuotojo vardas pavardė"]
["5.6","Projektą vykdančio personalo komandiruočių išlaidos",null,null,null,null,{"$f":"SUM(G128,G135,G142,G149,G156,G163,G170,G177,G184,G191)","v":0},{"$f":"SUM(H128,H135,H142,H149,H156,H163,H170,H177,H184,H191)","v":0}]
["5.6.1","Komandiruotės pavadinimas, vieta, trukmė dienomis, vykstančių asmenų skaičius","Iš viso komandiruotei",null,null,null,{"$f":"SUM(G129:G134)","v":0},{"$f":"ROUND(G128*$D$7,2)","v":0}]
[null,null,"Dienpinigiai",null,null,null,{"$f":"ROUND(E129*F129,2)","v":0}]
[null,null,"Gyvenamojo ploto nuoma",null,null,null,0]
[null,null,"Kelionės išlaidos",null,null,null,0]
[null,null,"Dalyvavimo mokestis",null,null,null,0]
[null,null,"Kitos išlaidų pavadinimas",null,null,null,0]
[null,null,"Kitos išlaidų pavadinimas",null,null,null,0]
["5.6.2","Komandiruotės pavadinimas, vieta, trukmė dienomis, vykstančių asmenų skaičius","Iš viso komandiruotei",null,null,null,{"$f":"SUM(G136:G141)","v":0},{"$f":"ROUND(G135*$D$7,2)","v":0}]
[null,null,"Dienpinigiai",null,null,null,{"$f":"ROUND(E136*F136,2)","v":0}]
[null,null,"Gyvenamojo ploto nuoma",null,null,null,0]
[null,null,"Kelionės išlaidos",null,null,null,0]
[null,null,"Dalyvavimo mokestis",null,null,null,0]
[null,null,"Kitos išlaidų pavadinimas",null,null,null,0]
[null,null,"Kitos išlaidų pavadinimas",null,null,null,0]
["5.6.3","Komandiruotės pavadinimas, vieta, trukmė dienomis, vykstančių asmenų skaičius","Iš viso komandiruotei",null,null,null,{"$f":"SUM(G143:G148)","v":0},{"$f":"ROUND(G142*$D$7,2)","v":0}]
[null,null,"Dienpinigiai",null,null,null,{"$f":"ROUND(E143*F143,2)","v":0}]
[null,null,"Gyvenamojo ploto nuoma",null,null,null,0]
[null,null,"Kelionės išlaidos",null,null,null,0]
[null,null,"Dalyvavimo mokestis",null,null,null,0]
[null,null,"Kitos išlaidų pavadinimas",null,null,null,0]
[null,null,"Kitos išlaidų pavadinimas",null,null,null,0]
["5.6.4","Komandiruotės pavadinimas, vieta, trukmė dienomis, vykstančių asmenų skaičius","Iš viso komandiruotei",null,null,null,{"$f":"SUM(G150:G155)","v":0},{"$f":"ROUND(G149*$D$7,2)","v":0}]
[null,null,"Dienpinigiai",null,null,null,{"$f":"ROUND(E150*F150,2)","v":0}]
[null,null,"Gyvenamojo ploto nuoma",null,null,null,0]
[null,null,"Kelionės išlaidos",null,null,null,0]
[null,null,"Dalyvavimo mokestis",null,null,null,0]
[null,null,"Kitos išlaidų pavadinimas",null,null,null,0]
[null,null,"Kitos išlaidų pavadinimas",null,null,null,0]
["5.6.5","Komandiruotės pavadinimas, vieta, trukmė dienomis, vykstančių asmenų skaičius","Iš viso komandiruotei",null,null,null,{"$f":"SUM(G157:G162)","v":0},{"$f":"ROUND(G156*$D$7,2)","v":0}]
[null,null,"Dienpinigiai",null,null,null,{"$f":"ROUND(E157*F157,2)","v":0}]
[null,null,"Gyvenamojo ploto nuoma",null,null,null,0]
[null,null,"Kelionės išlaidos",null,null,null,0]
[null,null,"Dalyvavimo mokestis",null,null,null,0]
[null,null,"Kitos išlaidų pavadinimas",null,null,null,0]
[null,null,"Kitos išlaidų pavadinimas",null,null,null,0]
["5.6.6","Komandiruotės pavadinimas, vieta, trukmė dienomis, vykstančių asmenų skaičius","Iš viso komandiruotei",null,null,null,{"$f":"SUM(G164:G169)","v":0},{"$f":"ROUND(G163*$D$7,2)","v":0}]
[null,null,"Dienpinigiai",null,null,null,{"$f":"ROUND(E164*F164,2)","v":0}]
[null,null,"Gyvenamojo ploto nuoma",null,null,null,0]
[null,null,"Kelionės išlaidos",null,null,null,0]
[null,null,"Dalyvavimo mokestis",null,null,null,0]
[null,null,"Kitos išlaidų pavadinimas",null,null,null,0]
[null,null,"Kitos išlaidų pavadinimas",null,null,null,0]
["5.6.7","Komandiruotės pavadinimas, vieta, trukmė dienomis, vykstančių asmenų skaičius","Iš viso komandiruotei",null,null,null,{"$f":"SUM(G171:G176)","v":0},{"$f":"ROUND(G170*$D$7,2)","v":0}]
[null,null,"Dienpinigiai",null,null,null,{"$f":"ROUND(E171*F171,2)","v":0}]
[null,null,"Gyvenamojo ploto nuoma",null,null,null,0]
[null,null,"Kelionės išlaidos",null,null,null,0]
[null,null,"Dalyvavimo mokestis",null,null,null,0]
[null,null,"Kitos išlaidų pavadinimas",null,null,null,0]
[null,null,"Kitos išlaidų pavadinimas",null,null,null,0]
["5.6.8","Komandiruotės pavadinimas, vieta, trukmė dienomis, vykstančių asmenų skaičius","Iš viso komandiruotei",null,null,null,{"$f":"SUM(G178:G183)","v":0},{"$f":"ROUND(G177*$D$7,2)","v":0}]
[null,null,"Dienpinigiai",null,null,null,{"$f":"ROUND(E178*F178,2)","v":0}]
[null,null,"Gyvenamojo ploto nuoma",null,null,null,0]
[null,null,"Kelionės išlaidos",null,null,null,0]
[null,null,"Dalyvavimo mokestis",null,null,null,0]
[null,null,"Kitos išlaidų pavadinimas",null,null,null,0]
[null,null,"Kitos išlaidų pavadinimas",null,null,null,0]
["5.6.9","Komandiruotės pavadinimas, vieta, trukmė dienomis, vykstančių asmenų skaičius","Iš viso komandiruotei",null,null,null,{"$f":"SUM(G185:G190)","v":0},{"$f":"ROUND(G184*$D$7,2)","v":0}]
[null,null,"Dienpinigiai",null,null,null,{"$f":"ROUND(E185*F185,2)","v":0}]
[null,null,"Gyvenamojo ploto nuoma",null,null,null,0]
[null,null,"Kelionės išlaidos",null,null,null,0]
[null,null,"Dalyvavimo mokestis",null,null,null,0]
[null,null,"Kitos išlaidų pavadinimas",null,null,null,0]
[null,null,"Kitos išlaidų pavadinimas",null,null,null,0]
["5.6.10","Komandiruotės pavadinimas, vieta, trukmė dienomis, vykstančių asmenų skaičius","Iš viso komandiruotei",null,null,null,{"$f":"SUM(G192:G197)","v":0},{"$f":"ROUND(G191*$D$7,2)","v":0}]
[null,null,"Dienpinigiai",null,null,null,{"$f":"ROUND(E192*F192,2)","v":0}]
[null,null,"Gyvenamojo ploto nuoma",null,null,null,0]
[null,null,"Kelionės išlaidos",null,null,null,0]
[null,null,"Dalyvavimo mokestis",null,null,null,0]
[null,null,"Kitos išlaidų pavadinimas",null,null,null,0]
[null,null,"Kitos išlaidų pavadinimas",null,null,null,0]
["5.7","Įrangos nuomos išlaidos, veiklai priskirtos pro rata principu. Įranga turi būti tiesiogiai susijusi su projekto įgyvendinimu ir negali būti įsigyta iš ES struktūrinių fondų ar kt. ES finansinių priemonių lėšų",null,null,null,null,{"$f":"SUM(G199:G203)","v":0},{"$f":"SUM(H199:H203)","v":0},null,null,"Faktinės 1 mėnesio išlaidos, Eur","Naudojimo projekte trukmė, mėn."]
["5.7.1","Įrangos pavadinimas",null,"pro rata proc.",null,{"$f":"K199*L199","v":0},0,{"$f":"ROUND(G199*$D$7,2)","v":0}]
["5.7.2","Įrangos pavadinimas",null,"pro rata proc.",null,{"$f":"K200*L200","v":0},0,{"$f":"ROUND(G200*$D$7,2)","v":0}]
["5.7.3","Įrangos pavadinimas",null,"pro rata proc.",null,0,0,0]
["5.7.4","Įrangos pavadinimas",null,"pro rata proc.",null,0,0,0]
["5.7.5","Įrangos pavadinimas",null,"pro rata proc.",null,0,0,0]
["5.8","Pastatų ar patalpų nuomos išlaidos, veiklai priskirtos pro rata principu. Pastatai ar patalpos turi būti tiesiogiai susijusi su projekto įgyvendinimu.",null,null,null,null,{"$f":"SUM(G205:G209)","v":0},{"$f":"SUM(H205:H209)","v":0},null,null,"Faktinės 1 mėnesio išlaidos, Eur","Naudojimo projekte trukmė, mėn."]
["5.8.1","Pastato, patalpų adresas",null,"pro rata proc.",null,{"$f":"K205*L205","v":0},{"$f":"ROUND(E205*F205,2)","v":0},{"$f":"ROUND(G205*$D$7,2)","v":0}]
["5.8.2","Pastato, patalpų adresas",null,"pro rata proc.",null,{"$f":"K206*L206","v":0},0,0]
["5.8.3","Pastato, patalpų adresas",null,"pro rata proc.",null,0,0,0]
["5.8.4","Pastato, patalpų adresas",null,"pro rata proc.",null,0,0,0]
["5.8.5","Pastato, patalpų adresas",null,"pro rata proc.",null,0,0,0]
["Iš viso tinkamų finansuoti išlaidų:",null,null,null,null,null,{"$f":"G10+G21","v":0},{"$f":"H10+H21","v":0}]

{"sheet":"17","index":18,"n_rows":210,"n_cols":19,"rows_kept":210,"cut":false,"hidden":false,"merged":[[0,3,0,8],[2,0,2,2],[2,3,2,8],[3,3,3,4],[3,5,3,6],[4,0,4,2],[4,3,4,8],[14,1,14,2],[15,1,15,2],[16,1,16,2],[17,1,17,2],[18,1,18,2],[19,1,19,2],[8,1,8,2],[9,1,9,5],[10,1,10,2],[11,1,11,2],[12,1,12,2],[13,1,13,2],[26,1,26,2],[27,1,27,2],[28,1,28,2],[29,1,29,2],[30,1,30,2],[31,1,31,2],[20,1,20,5],[21,1,21,5],[22,1,22,2],[23,1,23,2],[24,1,24,2],[25,1,25,2],[38,1,38,2],[39,1,39,2],[40,1,40,2],[41,1,41,2],[42,1,42,2],[43,1,43,5],[32,1,32,5],[33,1,33,2],[34,1,34,2],[35,1,35,2],[36,1,36,2],[37,1,37,2],[50,1,50,2],[51,1,51,2],[52,1,52,2],[53,1,53,2],[54,1,54,2],[55,1,55,2],[44,1,44,2],[45,1,45,2],[46,1,46,2],[47,1,47,2],[48,1,48,2],[49,1,49,2],[62,1,62,2],[63,1,63,2],[64,1,64,2],[65,1,65,2],[66,1,66,2],[67,1,67,2],[56,1,56,2],[57,1,57,2],[58,1,58,2],[59,1,59,5],[60,1,60,2],[61,1,61,2],[74,1,74,2],[75,1,75,5],[76,0,80,0],[76,1,80,1],[76,3,80,3],[76,4,80,4],[76,5,80,5],[68,1,68,2],[69,1,69,2],[70,1,70,2],[71,1,71,2],[72,1,72,2],[73,1,73,2],[76,6,80,6],[76,7,80,7],[76,8,80,8],[81,0,85,0],[81,1,85,1],[81,3,85,3],[81,4,85,4],[81,5,85,5],[81,6,85,6],[81,7,85,7],[81,8,85,8],[86,0,90,0],[86,1,90,1],[86,3,90,3],[86,4,90,4],[86,5,90,5],[86,6,90,6],[86,7,90,7],[86,8,90,8],[91,7,95,7],[91,8,95,8],[96,0,100,0],[96,1,100,1],[96,3,100,3],[96,4,100,4],[96,5,100,5],[96,6,100,6],[96,7,100,7],[96,8,100,8],[91,0,95,0],[91,1,95,1],[91,3,95,3],[91,4,95,4],[91,5,95,5],[91,6,95,6],[101,7,105,7],[101,8,105,8],[106,0,110,0],[106,1,110,1],[106,3,110,3],[106,4,110,4],[106,5,110,5],[106,6,110,6],[106,7,110,7],[106,8,110,8],[101,0,105,0],[101,1,105,1],[101,3,105,3],[101,4,105,4],[101,5,105,5],[101,6,105,6],[111,7,115,7],[111,8,115,8],[116,0,120,0],[116,1,120,1],[116,3,120,3],[116,4,120,4],[116,5,120,5],[116,6,120,6],[116,7,120,7],[116,8,120,8],[111,0,115,0],[111,1,115,1],[111,3,115,3],[111,4,115,4],[111,5,115,5],[111,6,115,6],[127,1,133,1],[121,7,125,7],[121,8,125,8],[126,1,126,5],[121,0,125,0],[121,1,125,1],[121,3,125,3],[121,4,125,4],[121,5,125,5],[121,6,125,6],[127,0,133,0],[127,8,133,8],[134,0,140,0],[134,1,140,1],[134,8,140,8],[141,0,147,0],[141,1,147,1],[141,8,147,8],[148,0,154,0],[148,1,154,1],[148,8,154,8],[155,0,161,0],[155,1,161,1],[155,8,161,8],[162,0,168,0],[162,1,168,1],[162,8,168,8],[169,0,175,0],[169,1,175,1],[169,8,175,8],[176,0,182,0],[176,1,182,1],[176,8,182,8],[183,0,189,0],[183,1,189,1],[183,8,189,8],[190,0,196,0],[190,1,196,1],[190,8,196,8],[206,1,206,2],[207,1,207,2],[208,1,208,2],[209,0,209,5],[197,1,197,5],[198,1,198,2],[199,1,199,2],[200,1,200,2],[201,1,201,2],[202,1,202,2],[203,1,203,5],[204,1,204,2],[205,1,205,2]]}
[null,null,"Pasirinkite veiklos tipą:"]
[null,null,"Fizinio rodiklio Nr.:"]
["Fizinio rodiklio pavadinimas:"]
[null,null,"Fizinio rodiklio matavimo vnt.:",null,null,"Fizinio rodiklio vnt. skaičius:"]
["Juridinis asmuo (pareiškėjas, partneris), atsakingas už fizinį rodiklį:"]
[]
[null,null,"Finansavimo intensyvumas:",null,null,null,"Pasirinkite biudžeto išlaidų kategoriją:"]
[]
["Eil. Nr.","Išlaidų kategorijos pavadinimas",null,"Matavimo vnt.","Kiekis","Vieneto kaina be PVM, Eur","Tinkamų finansuoti išlaidų suma be PVM, Eur","Finansavimo suma, Eur","Išlaidų pagrindimo dokumentų pavadinimas, data ir Nr."]
[4,"ĮRANGA, ĮRENGINIAI IR KT. TURTAS (techninių žinių ir išradimų patentų arba teisių pagal licencijų sutartį įsigijimo išlaidos)",null,null,null,null,{"$f":"SUM(G11:G20)","v":0},{"$f":"SUM(H11:H20)","v":0}]
["4.1","Išlaidų pavadinimas",null,null,null,null,{"$f":"ROUND(E11*F11,2)","v":0},{"$f":"ROUND(G11*$D$7,2)","v":0}]
["4.2","Išlaidų pavadinimas",null,null,null,null,0,0]
["4.3","Išlaidų pavadinimas",null,null,null,null,0,0]
["4.4","Išlaidų pavadinimas",null,null,null,null,0,0]
["4.5","Išlaidų pavadinimas",null,null,null,null,0,0]
["4.6","Išlaidų pavadinimas",null,null,null,null,0,0]
["4.7","Išlaidų pavadinimas",null,null,null,null,0,0]
["4.8","Išlaidų pavadinimas",null,null,null,null,0,0]
["4.9","Išlaidų pavadinimas",null,null,null,null,0,0]
["4.10","Išlaidų pavadinimas",null,null,null,null,0,0]
[5,"PROJEKTO VYKDYMAS",null,null,null,null,{"$f":"G22+G33+G44+G60+G76+G127+G198+G204","v":0},{"$f":"H22+H33+H44+H60+H76+H127+H198+H204","v":0}]
["5.1","MTEP paslaugos",null,null,null,null,{"$f":"SUM(G23:G32)","v":0},{"$f":"SUM(H23:H32)","v":0}]
["5.1.1","Paslaugos pavadinimas",null,null,null,null,{"$f":"ROUND(E23*F23,2)","v":0},0]
["5.1.2","Paslaugos pavadinimas",null,null,null,null,0,0]
["5.1.3","Paslaugos pavadinimas",null,null,null,null,0,0]
["5.1.4","Paslaugos pavadinimas",null,null,null,null,0,0]
["5.1.5","Paslaugos pavadinimas",null,null,null,null,0,0]
["5.1.6","Paslaugos pavadinimas",null,null,null,null,0,0]
["5.1.7","Paslaugos pavadinimas",null,null,null,null,0,0]
["5.1.8","Paslaugos pavadinimas",null,null,null,null,0,0]
["5.1.9","Paslaugos pavadinimas",null,null,null,null,0,0]
["5.1.10","Paslaugos pavadinimas",null,null,null,null,0,0]
["5.2","Konsultavimo ir lygiavertės paslaugos, naudojamos vien tik projekto MTEP veiklai",null,null,null,null,{"$f":"SUM(G34:G43)","v":0},{"$f":"SUM(H34:H43)","v":0}]
["5.2.1","Paslaugos pavadinimas",null,null,null,null,{"$f":"ROUND(E34*F34,2)","v":0},0]
["5.2.2","Paslaugos pavadinimas",null,null,null,null,0,0]
["5.2.3","Paslaugos pavadinimas",null,null,null,null,0,0]
["5.2.4","Paslaugos pavadinimas",null,null,null,null,0,0]
["5.2.5","Paslaugos pavadinimas",null,null,null,null,0,0]
["5.2.6","Paslaugos pavadinimas",null,null,null,null,0,0]
["5.2.7","Paslaugos pavadinimas",null,null,null,null,0,0]
["5.2.8","Paslaugos pavadinimas",null,null,null,null,0,0]
["5.2.9","Paslaugos pavadinimas",null,null,null,null,0,0]
["5.2.10","Paslaugos pavadinimas",null,null,null,null,0,0]
["5.3","Medžiagos, mažavertis inventorius, atsargos ir pan. produktai, priskirtini trumpalaikiam turtui ir tiesiogiai susiję su MTEP veikla",null,null,null,null,{"$f":"SUM(G45:G59)","v":0},{"$f":"SUM(H45:H59)","v":0}]
["5.3.1","Išlaidų pavadinimas",null,null,null,null,{"$f":"ROUND(E45*F45,2)","v":0},{"$f":"ROUND(G45*$D$7,2)","v":0}]
["5.3.2","Išlaidų pavadinimas",null,null,null,null,0,0]
["5.3.3","Išlaidų pavadinimas",null,null,null,null,0,0]
["5.3.4","Išlaidų pavadinimas",null,null,null,null,0,0]
["5.3.5","Išlaidų pavadinimas",null,null,null,null,0,0]
["5.3.6","Išlaidų pavadinimas",null,null,null,null,0,0]
["5.3.7","Išlaidų pavadinimas",null,null,null,null,0,0]
["5.3.8","Išlaidų pavadinimas",null,null,null,null,0,0]
["5.3.9","Išlaidų pavadinimas",null,null,null,null,0,0]
["5.3.10","Išlaidų pavadinimas",null,null,null,null,0,0]
["5.3.11","Išlaidų pavadinimas",null,null,null,null,0,0]
["5.3.12","Išlaidų pavadinimas",null,null,null,null,0,0]
["5.3.13","Išlaidų pavadinimas",null,null,null,null,0,0]
["5.3.14","Išlaidų pavadinimas",null,null,null,null,0,0]
["5.3.15","Išlaidų pavadinimas",null,null,null,null,0,0]
["5.4","Projekto MTEP veikloms naudojamo ilgalaikio materialaus turto (įrangos, prietaisų, įrankių, įrenginių, mašinų ir įrengimų, pastatų ir (ar) patalpų), nusidėvėjimo sąnaudos, jeigu šiam turtui įsigyti nebuvo naudojamos viešosios (įskaitant ir kitų valstybių) lėšos",null,null,null,null,{"$f":"SUM(G61:G75)","v":0},{"$f":"SUM(H61:H75)","v":0},null,null,"Turto įvedimo į eksploataciją data","Turto įsigijimo vertė, Eur","Turto nudėvėjimo, amortizacijos laikotarpis, mėn.","Numatoma turto likutinė vertė, Eur","1 mėn. nudėvėjimo, amortizacijos suma, Eur","Turto naudojamo projekto reikmėms laikas, mėn.","Turto panaudojimo projekto reikmėms dalis (proc.)","Projektui priskirta turto nusidėvėjimo, amortizacijos suma per projekto laikotarpį, Eur"]
["5.4.1","Turtas, kurio nusidėvėjimą, amortizaciją prašoma finansuoti",null,null,1,{"$f":"R61","v":0},{"$f":"ROUND(E61*F61,2)","v":0},0,null,null,null,null,null,null,{"$f":"IFERROR(ROUND((L61-N61)/M61,2),\"0\")","v":"0"},null,null,{"$f":"O61*P61*Q61","v":0},{"$f":"IF(K61=0,\" \",IF(K61+(M61*30.5)<TODAY(),\"DĖMESIO! Patikrinkite, ar nurodytas turtas dar nėra nudėvėtas, amortizuotas\",\" \"))","v":" "}]
["5.4.2","Turtas, kurio nusidėvėjimą, amortizaciją prašoma finansuoti",null,null,1,{"$f":"R62","v":0},0,0,null,null,null,null,null,null,{"$f":"IFERROR(ROUND((L62-N62)/M62,2),\"0\")","v":"0"},null,null,{"$f":"O62*P62*Q62","v":0},{"$f":"IF(K62=0,\" \",IF(K62+(M62*30.5)<TODAY(),\"DĖMESIO! Patikrinkite, ar nurodytas turtas dar nėra nudėvėtas, amortizuotas\",\" \"))","v":" "}]
["5.4.3","Turtas, kurio nusidėvėjimą, amortizaciją prašoma finansuoti",null,null,1,0,0,0,null,null,null,null,null,null,"0",null,null,0," "]
["5.4.4","Turtas, kurio nusidėvėjimą, amortizaciją prašoma finansuoti",null,null,1,0,0,0,null,null,null,null,null,null,"0",null,null,0," "]
["5.4.5","Turtas, kurio nusidėvėjimą, amortizaciją prašoma finansuoti",null,null,1,0,0,0,null,null,null,null,null,null,"0",null,null,0," "]
["5.4.6","Turtas, kurio nusidėvėjimą, amortizaciją prašoma finansuoti",null,null,1,0,0,0,null,null,null,null,null,null,"0",null,null,0," "]
["5.4.7","Turtas, kurio nusidėvėjimą, amortizaciją prašoma finansuoti",null,null,1,0,0,0,null,null,null,null,null,null,"0",null,null,0," "]
["5.4.8","Turtas, kurio nusidėvėjimą, amortizaciją prašoma finansuoti",null,null,1,0,0,0,null,null,null,null,null,null,"0",null,null,0," "]
["5.4.9","Turtas, kurio nusidėvėjimą, amortizaciją prašoma finansuoti",null,null,1,0,0,0,null,null,null,null,null,null,"0",null,null,0," "]
["5.4.10","Turtas, kurio nusidėvėjimą, amortizaciją prašoma finansuoti",null,null,1,0,0,0,null,null,null,null,null,null,"0",null,null,0," "]
["5.4.11","Turtas, kurio nusidėvėjimą, amortizaciją prašoma finansuoti",null,null,1,0,0,0,null,null,null,null,null,null,"0",null,null,0," "]
["5.4.12","Turtas, kurio nusidėvėjimą, amortizaciją prašoma finansuoti",null,null,1,0,0,0,null,null,null,null,null,null,"0",null,null,0," "]
["5.4.13","Turtas, kurio nusidėvėjimą, amortizaciją prašoma finansuoti",null,null,1,0,0,0,null,null,null,null,null,null,"0",null,null,0," "]
["5.4.14","Turtas, kurio nusidėvėjimą, amortizaciją prašoma finansuoti",null,null,1,0,0,0,null,null,null,null,null,null,"0",null,null,0," "]
["5.4.15","Turtas, kurio nusidėvėjimą, amortizaciją prašoma finansuoti",null,null,1,0,0,0,null,null,null,null,null,null,"0",null,null,0," "]
["5.5","Projektą vykdančio personalo darbo užmokestis ir išlaidos su darbo santykiais susijusiems darbdavio įsipareigojimams",null,null,null,null,{"$f":"SUM(G77:G126)","v":0},{"$f":"SUM(H77:H126)","v":0},null,null,"Faktiškai gaunamas darbo užmokesti už 1 valandą pagal  pastarųjų 6 mėn. vidurkį, Eur"]
["5.5.1","Pareigybės pavadinimas","Darbuotojo vardas pavardė","val.",null,{"$f":"IFERROR(ROUND(AVERAGE(K77:K81),2),\"0\")","v":"0"},{"$f":"ROUND(E77*F77,2)","v":0},{"$f":"ROUND(G77*$D$7,2)","v":0}]
[null,null,"Darbuotojo vardas pavardė"]
[null,null,"Darbuotojo vardas pavardė"]
[null,null,"Darbuotojo vardas pavardė"]
[null,null,"Darbuotojo vardas pavardė"]
["5.5.2","Pareigybės pavadinimas","Darbuotojo vardas pavardė","val.",null,{"$f":"IFERROR(ROUND(AVERAGE(K82:K86),2),\"0\")","v":"0"},{"$f":"ROUND(E82*F82,2)","v":0},{"$f":"ROUND(G82*$D$7,2)","v":0}]
[null,null,"Darbuotojo vardas pavardė"]
[null,null,"Darbuotojo vardas pavardė"]
[null,null,"Darbuotojo vardas pavardė"]
[null,null,"Darbuotojo vardas pavardė"]
["5.5.3","Pareigybės pavadinimas","Darbuotojo vardas pavardė","val.",null,{"$f":"IFERROR(ROUND(AVERAGE(K87:K91),2),\"0\")","v":"0"},{"$f":"ROUND(E87*F87,2)","v":0},{"$f":"ROUND(G87*$D$7,2)","v":0}]
[null,null,"Darbuotojo vardas pavardė"]
[null,null,"Darbuotojo vardas pavardė"]
[null,null,"Darbuotojo vardas pavardė"]
[null,null,"Darbuotojo vardas pavardė"]
["5.5.4","Pareigybės pavadinimas","Darbuotojo vardas pavardė","val.",null,{"$f":"IFERROR(ROUND(AVERAGE(K92:K96),2),\"0\")","v":"0"},{"$f":"ROUND(E92*F92,2)","v":0},{"$f":"ROUND(G92*$D$7,2)","v":0}]
[null,null,"Darbuotojo vardas pavardė"]
[null,null,"Darbuotojo vardas pavardė"]
[null,null,"Darbuotojo vardas pavardė"]
[null,null,"Darbuotojo vardas pavardė"]
["5.5.5","Pareigybės pavadinimas","Darbuotojo vardas pavardė","val.",null,{"$f":"IFERROR(ROUND(AVERAGE(K97:K101),2),\"0\")","v":"0"},{"$f":"ROUND(E97*F97,2)","v":0},{"$f":"ROUND(G97*$D$7,2)","v":0}]
[null,null,"Darbuotojo vardas pavardė"]
[null,null,"Darbuotojo vardas pavardė"]
[null,null,"Darbuotojo vardas pavardė"]
[null,null,"Darbuotojo vardas pavardė"]
["5.5.6","Pareigybės pavadinimas","Darbuotojo vardas pavardė","val.",null,{"$f":"IFERROR(ROUND(AVERAGE(K102:K106),2),\"0\")","v":"0"},{"$f":"ROUND(E102*F102,2)","v":0},{"$f":"ROUND(G102*$D$7,2)","v":0}]
[null,null,"Darbuotojo vardas pavardė"]
[null,null,"Darbuotojo vardas pavardė"]
[null,null,"Darbuotojo vardas pavardė"]
[null,null,"Darbuotojo vardas pavardė"]
["5.5.7","Pareigybės pavadinimas","Darbuotojo vardas pavardė","val.",null,{"$f":"IFERROR(ROUND(AVERAGE(K107:K111),2),\"0\")","v":"0"},{"$f":"ROUND(E107*F107,2)","v":0},{"$f":"ROUND(G107*$D$7,2)","v":0}]
[null,null,"Darbuotojo vardas pavardė"]
[null,null,"Darbuotojo vardas pavardė"]
[null,null,"Darbuotojo vardas pavardė"]
[null,null,"Darbuotojo vardas pavardė"]
["5.5.8","Pareigybės pavadinimas","Darbuotojo vardas pavardė","val.",null,{"$f":"IFERROR(ROUND(AVERAGE(K112:K116),2),\"0\")","v":"0"},{"$f":"ROUND(E112*F112,2)","v":0},{"$f":"ROUND(G112*$D$7,2)","v":0}]
[null,null,"Darbuotojo vardas pavardė"]
[null,null,"Darbuotojo vardas pavardė"]
[null,null,"Darbuotojo vardas pavardė"]
[null,null,"Darbuotojo vardas pavardė"]
["5.5.9","Pareigybės pavadinimas","Darbuotojo vardas pavardė","val.",null,{"$f":"IFERROR(ROUND(AVERAGE(K117:K121),2),\"0\")","v":"0"},{"$f":"ROUND(E117*F117,2)","v":0},{"$f":"ROUND(G117*$D$7,2)","v":0}]
[null,null,"Darbuotojo vardas pavardė"]
[null,null,"Darbuotojo vardas pavardė"]
[null,null,"Darbuotojo vardas pavardė"]
[null,null,"Darbuotojo vardas pavardė"]
["5.5.10","Pareigybės pavadinimas","Darbuotojo vardas pavardė","val.",null,{"$f":"IFERROR(ROUND(AVERAGE(K122:K126),2),\"0\")","v":"0"},{"$f":"ROUND(E122*F122,2)","v":0},{"$f":"ROUND(G122*$D$7,2)","v":0}]
[null,null,"Darbuotojo vardas pavardė"]
[null,null,"Darbuotojo vardas pavardė"]
[null,null,"Darbuotojo vardas pavardė"]
[null,null,"Darbuotojo vardas pavardė"]
["5.6","Projektą vykdančio personalo komandiruočių išlaidos",null,null,null,null,{"$f":"SUM(G128,G135,G142,G149,G156,G163,G170,G177,G184,G191)","v":0},{"$f":"SUM(H128,H135,H142,H149,H156,H163,H170,H177,H184,H191)","v":0}]
["5.6.1","Komandiruotės pavadinimas, vieta, trukmė dienomis, vykstančių asmenų skaičius","Iš viso komandiruotei",null,null,null,{"$f":"SUM(G129:G134)","v":0},{"$f":"ROUND(G128*$D$7,2)","v":0}]
[null,null,"Dienpinigiai",null,null,null,{"$f":"ROUND(E129*F129,2)","v":0}]
[null,null,"Gyvenamojo ploto nuoma",null,null,null,0]
[null,null,"Kelionės išlaidos",null,null,null,0]
[null,null,"Dalyvavimo mokestis",null,null,null,0]
[null,null,"Kitos išlaidų pavadinimas",null,null,null,0]
[null,null,"Kitos išlaidų pavadinimas",null,null,null,0]
["5.6.2","Komandiruotės pavadinimas, vieta, trukmė dienomis, vykstančių asmenų skaičius","Iš viso komandiruotei",null,null,null,{"$f":"SUM(G136:G141)","v":0},{"$f":"ROUND(G135*$D$7,2)","v":0}]
[null,null,"Dienpinigiai",null,null,null,{"$f":"ROUND(E136*F136,2)","v":0}]
[null,null,"Gyvenamojo ploto nuoma",null,null,null,0]
[null,null,"Kelionės išlaidos",null,null,null,0]
[null,null,"Dalyvavimo mokestis",null,null,null,0]
[null,null,"Kitos išlaidų pavadinimas",null,null,null,0]
[null,null,"Kitos išlaidų pavadinimas",null,null,null,0]
["5.6.3","Komandiruotės pavadinimas, vieta, trukmė dienomis, vykstančių asmenų skaičius","Iš viso komandiruotei",null,null,null,{"$f":"SUM(G143:G148)","v":0},{"$f":"ROUND(G142*$D$7,2)","v":0}]
[null,null,"Dienpinigiai",null,null,null,{"$f":"ROUND(E143*F143,2)","v":0}]
[null,null,"Gyvenamojo ploto nuoma",null,null,null,0]
[null,null,"Kelionės išlaidos",null,null,null,0]
[null,null,"Dalyvavimo mokestis",null,null,null,0]
[null,null,"Kitos išlaidų pavadinimas",null,null,null,0]
[null,null,"Kitos išlaidų pavadinimas",null,null,null,0]
["5.6.4","Komandiruotės pavadinimas, vieta, trukmė dienomis, vykstančių asmenų skaičius","Iš viso komandiruotei",null,null,null,{"$f":"SUM(G150:G155)","v":0},{"$f":"ROUND(G149*$D$7,2)","v":0}]
[null,null,"Dienpinigiai",null,null,null,{"$f":"ROUND(E150*F150,2)","v":0}]
[null,null,"Gyvenamojo ploto nuoma",null,null,null,0]
[null,null,"Kelionės išlaidos",null,null,null,0]
[null,null,"Dalyvavimo mokestis",null,null,null,0]
[null,null,"Kitos išlaidų pavadinimas",null,null,null,0]
[null,null,"Kitos išlaidų pavadinimas",null,null,null,0]
["5.6.5","Komandiruotės pavadinimas, vieta, trukmė dienomis, vykstančių asmenų skaičius","Iš viso komandiruotei",null,null,null,{"$f":"SUM(G157:G162)","v":0},{"$f":"ROUND(G156*$D$7,2)","v":0}]
[null,null,"Dienpinigiai",null,null,null,{"$f":"ROUND(E157*F157,2)","v":0}]
[null,null,"Gyvenamojo ploto nuoma",null,null,null,0]
[null,null,"Kelionės išlaidos",null,null,null,0]
[null,null,"Dalyvavimo mokestis",null,null,null,0]
[null,null,"Kitos išlaidų pavadinimas",null,null,null,0]
[null,null,"Kitos išlaidų pavadinimas",null,null,null,0]
["5.6.6","Komandiruotės pavadinimas, vieta, trukmė dienomis, vykstančių asmenų skaičius","Iš viso komandiruotei",null,null,null,{"$f":"SUM(G164:G169)","v":0},{"$f":"ROUND(G163*$D$7,2)","v":0}]
[null,null,"Dienpinigiai",null,null,null,{"$f":"ROUND(E164*F164,2)","v":0}]
[null,null,"Gyvenamojo ploto nuoma",null,null,null,0]
[null,null,"Kelionės išlaidos",null,null,null,0]
[null,null,"Dalyvavimo mokestis",null,null,null,0]
[null,null,"Kitos išlaidų pavadinimas",null,null,null,0]
[null,null,"Kitos išlaidų pavadinimas",null,null,null,0]
["5.6.7","Komandiruotės pavadinimas, vieta, trukmė dienomis, vykstančių asmenų skaičius","Iš viso komandiruotei",null,null,null,{"$f":"SUM(G171:G176)","v":0},{"$f":"ROUND(G170*$D$7,2)","v":0}]
[null,null,"Dienpinigiai",null,null,null,{"$f":"ROUND(E171*F171,2)","v":0}]
[null,null,"Gyvenamojo ploto nuoma",null,null,null,0]
[null,null,"Kelionės išlaidos",null,null,null,0]
[null,null,"Dalyvavimo mokestis",null,null,null,0]
[null,null,"Kitos išlaidų pavadinimas",null,null,null,0]
[null,null,"Kitos išlaidų pavadinimas",null,null,null,0]
["5.6.8","Komandiruotės pavadinimas, vieta, trukmė dienomis, vykstančių asmenų skaičius","Iš viso komandiruotei",null,null,null,{"$f":"SUM(G178:G183)","v":0},{"$f":"ROUND(G177*$D$7,2)","v":0}]
[null,null,"Dienpinigiai",null,null,null,{"$f":"ROUND(E178*F178,2)","v":0}]
[null,null,"Gyvenamojo ploto nuoma",null,null,null,0]
[null,null,"Kelionės išlaidos",null,null,null,0]
[null,null,"Dalyvavimo mokestis",null,null,null,0]
[null,null,"Kitos išlaidų pavadinimas",null,null,null,0]
[null,null,"Kitos išlaidų pavadinimas",null,null,null,0]
["5.6.9","Komandiruotės pavadinimas, vieta, trukmė dienomis, vykstančių asmenų skaičius","Iš viso komandiruotei",null,null,null,{"$f":"SUM(G185:G190)","v":0},{"$f":"ROUND(G184*$D$7,2)","v":0}]
[null,null,"Dienpinigiai",null,null,null,{"$f":"ROUND(E185*F185,2)","v":0}]
[null,null,"Gyvenamojo ploto nuoma",null,null,null,0]
[null,null,"Kelionės išlaidos",null,null,null,0]
[null,null,"Dalyvavimo mokestis",null,null,null,0]
[null,null,"Kitos išlaidų pavadinimas",null,null,null,0]
[null,null,"Kitos išlaidų pavadinimas",null,null,null,0]
["5.6.10","Komandiruotės pavadinimas, vieta, trukmė dienomis, vykstančių asmenų skaičius","Iš viso komandiruotei",null,null,null,{"$f":"SUM(G192:G197)","v":0},{"$f":"ROUND(G191*$D$7,2)","v":0}]
[null,null,"Dienpinigiai",null,null,null,{"$f":"ROUND(E192*F192,2)","v":0}]
[null,null,"Gyvenamojo ploto nuoma",null,null,null,0]
[null,null,"Kelionės išlaidos",null,null,null,0]
[null,null,"Dalyvavimo mokestis",null,null,null,0]
[null,null,"Kitos išlaidų pavadinimas",null,null,null,0]
[null,null,"Kitos išlaidų pavadinimas",null,null,null,0]
["5.7","Įrangos nuomos išlaidos, veiklai priskirtos pro rata principu. Įranga turi būti tiesiogiai susijusi su projekto įgyvendinimu ir negali būti įsigyta iš ES struktūrinių fondų ar kt. ES finansinių priemonių lėšų",null,null,null,null,{"$f":"SUM(G199:G203)","v":0},{"$f":"SUM(H199:H203)","v":0},null,null,"Faktinės 1 mėnesio išlaidos, Eur","Naudojimo projekte trukmė, mėn."]
["5.7.1","Įrangos pavadinimas",null,"pro rata proc.",null,{"$f":"K199*L199","v":0},0,{"$f":"ROUND(G199*$D$7,2)","v":0}]
["5.7.2","Įrangos pavadinimas",null,"pro rata proc.",null,{"$f":"K200*L200","v":0},0,{"$f":"ROUND(G200*$D$7,2)","v":0}]
["5.7.3","Įrangos pavadinimas",null,"pro rata proc.",null,0,0,0]
["5.7.4","Įrangos pavadinimas",null,"pro rata proc.",null,0,0,0]
["5.7.5","Įrangos pavadinimas",null,"pro rata proc.",null,0,0,0]
["5.8","Pastatų ar patalpų nuomos išlaidos, veiklai priskirtos pro rata principu. Pastatai ar patalpos turi būti tiesiogiai susijusi su projekto įgyvendinimu.",null,null,null,null,{"$f":"SUM(G205:G209)","v":0},{"$f":"SUM(H205:H209)","v":0},null,null,"Faktinės 1 mėnesio išlaidos, Eur","Naudojimo projekte trukmė, mėn."]
["5.8.1","Pastato, patalpų adresas",null,"pro rata proc.",null,{"$f":"K205*L205","v":0},{"$f":"ROUND(E205*F205,2)","v":0},{"$f":"ROUND(G205*$D$7,2)","v":0}]
["5.8.2","Pastato, patalpų adresas",null,"pro rata proc.",null,{"$f":"K206*L206","v":0},0,0]
["5.8.3","Pastato, patalpų adresas",null,"pro rata proc.",null,0,0,0]
["5.8.4","Pastato, patalpų adresas",null,"pro rata proc.",null,0,0,0]
["5.8.5","Pastato, patalpų adresas",null,"pro rata proc.",null,0,0,0]
["Iš viso tinkamų finansuoti išlaidų:",null,null,null,null,null,{"$f":"G10+G21","v":0},{"$f":"H10+H21","v":0}]

{"sheet":"18","index":19,"n_rows":210,"n_cols":19,"rows_kept":210,"cut":false,"hidden":false,"merged":[[0,3,0,8],[2,0,2,2],[2,3,2,8],[3,3,3,4],[3,5,3,6],[4,0,4,2],[4,3,4,8],[14,1,14,2],[15,1,15,2],[16,1,16,2],[17,1,17,2],[18,1,18,2],[19,1,19,2],[8,1,8,2],[9,1,9,5],[10,1,10,2],[11,1,11,2],[12,1,12,2],[13,1,13,2],[26,1,26,2],[27,1,27,2],[28,1,28,2],[29,1,29,2],[30,1,30,2],[31,1,31,2],[20,1,20,5],[21,1,21,5],[22,1,22,2],[23,1,23,2],[24,1,24,2],[25,1,25,2],[38,1,38,2],[39,1,39,2],[40,1,40,2],[41,1,41,2],[42,1,42,2],[43,1,43,5],[32,1,32,5],[33,1,33,2],[34,1,34,2],[35,1,35,2],[36,1,36,2],[37,1,37,2],[50,1,50,2],[51,1,51,2],[52,1,52,2],[53,1,53,2],[54,1,54,2],[55,1,55,2],[44,1,44,2],[45,1,45,2],[46,1,46,2],[47,1,47,2],[48,1,48,2],[49,1,49,2],[62,1,62,2],[63,1,63,2],[64,1,64,2],[65,1,65,2],[66,1,66,2],[67,1,67,2],[56,1,56,2],[57,1,57,2],[58,1,58,2],[59,1,59,5],[60,1,60,2],[61,1,61,2],[74,1,74,2],[75,1,75,5],[76,0,80,0],[76,1,80,1],[76,3,80,3],[76,4,80,4],[76,5,80,5],[68,1,68,2],[69,1,69,2],[70,1,70,2],[71,1,71,2],[72,1,72,2],[73,1,73,2],[76,6,80,6],[76,7,80,7],[76,8,80,8],[81,0,85,0],[81,1,85,1],[81,3,85,3],[81,4,85,4],[81,5,85,5],[81,6,85,6],[81,7,85,7],[81,8,85,8],[86,0,90,0],[86,1,90,1],[86,3,90,3],[86,4,90,4],[86,5,90,5],[86,6,90,6],[86,7,90,7],[86,8,90,8],[91,7,95,7],[91,8,95,8],[96,0,100,0],[96,1,100,1],[96,3,100,3],[96,4,100,4],[96,5,100,5],[96,6,100,6],[96,7,100,7],[96,8,100,8],[91,0,95,0],[91,1,95,1],[91,3,95,3],[91,4,95,4],[91,5,95,5],[91,6,95,6],[101,7,105,7],[101,8,105,8],[106,0,110,0],[106,1,110,1],[106,3,110,3],[106,4,110,4],[106,5,110,5],[106,6,110,6],[106,7,110,7],[106,8,110,8],[101,0,105,0],[101,1,105,1],[101,3,105,3],[101,4,105,4],[101,5,105,5],[101,6,105,6],[111,7,115,7],[111,8,115,8],[116,0,120,0],[116,1,120,1],[116,3,120,3],[116,4,120,4],[116,5,120,5],[116,6,120,6],[116,7,120,7],[116,8,120,8],[111,0,115,0],[111,1,115,1],[111,3,115,3],[111,4,115,4],[111,5,115,5],[111,6,115,6],[127,1,133,1],[121,7,125,7],[121,8,125,8],[126,1,126,5],[121,0,125,0],[121,1,125,1],[121,3,125,3],[121,4,125,4],[121,5,125,5],[121,6,125,6],[127,0,133,0],[127,8,133,8],[134,0,140,0],[134,1,140,1],[134,8,140,8],[141,0,147,0],[141,1,147,1],[141,8,147,8],[148,0,154,0],[148,1,154,1],[148,8,154,8],[155,0,161,0],[155,1,161,1],[155,8,161,8],[162,0,168,0],[162,1,168,1],[162,8,168,8],[169,0,175,0],[169,1,175,1],[169,8,175,8],[176,0,182,0],[176,1,182,1],[176,8,182,8],[183,0,189,0],[183,1,189,1],[183,8,189,8],[190,0,196,0],[190,1,196,1],[190,8,196,8],[206,1,206,2],[207,1,207,2],[208,1,208,2],[209,0,209,5],[197,1,197,5],[198,1,198,2],[199,1,199,2],[200,1,200,2],[201,1,201,2],[202,1,202,2],[203,1,203,5],[204,1,204,2],[205,1,205,2]]}
[null,null,"Pasirinkite veiklos tipą:"]
[null,null,"Fizinio rodiklio Nr.:"]
["Fizinio rodiklio pavadinimas:"]
[null,null,"Fizinio rodiklio matavimo vnt.:",null,null,"Fizinio rodiklio vnt. skaičius:"]
["Juridinis asmuo (pareiškėjas, partneris), atsakingas už fizinį rodiklį:"]
[]
[null,null,"Finansavimo intensyvumas:",null,null,null,"Pasirinkite biudžeto išlaidų kategoriją:"]
[]
["Eil. Nr.","Išlaidų kategorijos pavadinimas",null,"Matavimo vnt.","Kiekis","Vieneto kaina be PVM, Eur","Tinkamų finansuoti išlaidų suma be PVM, Eur","Finansavimo suma, Eur","Išlaidų pagrindimo dokumentų pavadinimas, data ir Nr."]
[4,"ĮRANGA, ĮRENGINIAI IR KT. TURTAS (techninių žinių ir išradimų patentų arba teisių pagal licencijų sutartį įsigijimo išlaidos)",null,null,null,null,{"$f":"SUM(G11:G20)","v":0},{"$f":"SUM(H11:H20)","v":0}]
["4.1","Išlaidų pavadinimas",null,null,null,null,{"$f":"ROUND(E11*F11,2)","v":0},{"$f":"ROUND(G11*$D$7,2)","v":0}]
["4.2","Išlaidų pavadinimas",null,null,null,null,0,0]
["4.3","Išlaidų pavadinimas",null,null,null,null,0,0]
["4.4","Išlaidų pavadinimas",null,null,null,null,0,0]
["4.5","Išlaidų pavadinimas",null,null,null,null,0,0]
["4.6","Išlaidų pavadinimas",null,null,null,null,0,0]
["4.7","Išlaidų pavadinimas",null,null,null,null,0,0]
["4.8","Išlaidų pavadinimas",null,null,null,null,0,0]
["4.9","Išlaidų pavadinimas",null,null,null,null,0,0]
["4.10","Išlaidų pavadinimas",null,null,null,null,0,0]
[5,"PROJEKTO VYKDYMAS",null,null,null,null,{"$f":"G22+G33+G44+G60+G76+G127+G198+G204","v":0},{"$f":"H22+H33+H44+H60+H76+H127+H198+H204","v":0}]
["5.1","MTEP paslaugos",null,null,null,null,{"$f":"SUM(G23:G32)","v":0},{"$f":"SUM(H23:H32)","v":0}]
["5.1.1","Paslaugos pavadinimas",null,null,null,null,{"$f":"ROUND(E23*F23,2)","v":0},0]
["5.1.2","Paslaugos pavadinimas",null,null,null,null,0,0]
["5.1.3","Paslaugos pavadinimas",null,null,null,null,0,0]
["5.1.4","Paslaugos pavadinimas",null,null,null,null,0,0]
["5.1.5","Paslaugos pavadinimas",null,null,null,null,0,0]
["5.1.6","Paslaugos pavadinimas",null,null,null,null,0,0]
["5.1.7","Paslaugos pavadinimas",null,null,null,null,0,0]
["5.1.8","Paslaugos pavadinimas",null,null,null,null,0,0]
["5.1.9","Paslaugos pavadinimas",null,null,null,null,0,0]
["5.1.10","Paslaugos pavadinimas",null,null,null,null,0,0]
["5.2","Konsultavimo ir lygiavertės paslaugos, naudojamos vien tik projekto MTEP veiklai",null,null,null,null,{"$f":"SUM(G34:G43)","v":0},{"$f":"SUM(H34:H43)","v":0}]
["5.2.1","Paslaugos pavadinimas",null,null,null,null,{"$f":"ROUND(E34*F34,2)","v":0},0]
["5.2.2","Paslaugos pavadinimas",null,null,null,null,0,0]
["5.2.3","Paslaugos pavadinimas",null,null,null,null,0,0]
["5.2.4","Paslaugos pavadinimas",null,null,null,null,0,0]
["5.2.5","Paslaugos pavadinimas",null,null,null,null,0,0]
["5.2.6","Paslaugos pavadinimas",null,null,null,null,0,0]
["5.2.7","Paslaugos pavadinimas",null,null,null,null,0,0]
["5.2.8","Paslaugos pavadinimas",null,null,null,null,0,0]
["5.2.9","Paslaugos pavadinimas",null,null,null,null,0,0]
["5.2.10","Paslaugos pavadinimas",null,null,null,null,0,0]
["5.3","Medžiagos, mažavertis inventorius, atsargos ir pan. produktai, priskirtini trumpalaikiam turtui ir tiesiogiai susiję su MTEP veikla",null,null,null,null,{"$f":"SUM(G45:G59)","v":0},{"$f":"SUM(H45:H59)","v":0}]
["5.3.1","Išlaidų pavadinimas",null,null,null,null,{"$f":"ROUND(E45*F45,2)","v":0},{"$f":"ROUND(G45*$D$7,2)","v":0}]
["5.3.2","Išlaidų pavadinimas",null,null,null,null,0,0]
["5.3.3","Išlaidų pavadinimas",null,null,null,null,0,0]
["5.3.4","Išlaidų pavadinimas",null,null,null,null,0,0]
["5.3.5","Išlaidų pavadinimas",null,null,null,null,0,0]
["5.3.6","Išlaidų pavadinimas",null,null,null,null,0,0]
["5.3.7","Išlaidų pavadinimas",null,null,null,null,0,0]
["5.3.8","Išlaidų pavadinimas",null,null,null,null,0,0]
["5.3.9","Išlaidų pavadinimas",null,null,null,null,0,0]
["5.3.10","Išlaidų pavadinimas",null,null,null,null,0,0]
["5.3.11","Išlaidų pavadinimas",null,null,null,null,0,0]
["5.3.12","Išlaidų pavadinimas",null,null,null,null,0,0]
["5.3.13","Išlaidų pavadinimas",null,null,null,null,0,0]
["5.3.14","Išlaidų pavadinimas",null,null,null,null,0,0]
["5.3.15","Išlaidų pavadinimas",null,null,null,null,0,0]
["5.4","Projekto MTEP veikloms naudojamo ilgalaikio materialaus turto (įrangos, prietaisų, įrankių, įrenginių, mašinų ir įrengimų, pastatų ir (ar) patalpų), nusidėvėjimo sąnaudos, jeigu šiam turtui įsigyti nebuvo naudojamos viešosios (įskaitant ir kitų valstybių) lėšos",null,null,null,null,{"$f":"SUM(G61:G75)","v":0},{"$f":"SUM(H61:H75)","v":0},null,null,"Turto įvedimo į eksploataciją data","Turto įsigijimo vertė, Eur","Turto nudėvėjimo, amortizacijos laikotarpis, mėn.","Numatoma turto likutinė vertė, Eur","1 mėn. nudėvėjimo, amortizacijos suma, Eur","Turto naudojamo projekto reikmėms laikas, mėn.","Turto panaudojimo projekto reikmėms dalis (proc.)","Projektui priskirta turto nusidėvėjimo, amortizacijos suma per projekto laikotarpį, Eur"]
["5.4.1","Turtas, kurio nusidėvėjimą, amortizaciją prašoma finansuoti",null,null,1,{"$f":"R61","v":0},{"$f":"ROUND(E61*F61,2)","v":0},0,null,null,null,null,null,null,{"$f":"IFERROR(ROUND((L61-N61)/M61,2),\"0\")","v":"0"},null,null,{"$f":"O61*P61*Q61","v":0},{"$f":"IF(K61=0,\" \",IF(K61+(M61*30.5)<TODAY(),\"DĖMESIO! Patikrinkite, ar nurodytas turtas dar nėra nudėvėtas, amortizuotas\",\" \"))","v":" "}]
["5.4.2","Turtas, kurio nusidėvėjimą, amortizaciją prašoma finansuoti",null,null,1,{"$f":"R62","v":0},0,0,null,null,null,null,null,null,{"$f":"IFERROR(ROUND((L62-N62)/M62,2),\"0\")","v":"0"},null,null,{"$f":"O62*P62*Q62","v":0},{"$f":"IF(K62=0,\" \",IF(K62+(M62*30.5)<TODAY(),\"DĖMESIO! Patikrinkite, ar nurodytas turtas dar nėra nudėvėtas, amortizuotas\",\" \"))","v":" "}]
["5.4.3","Turtas, kurio nusidėvėjimą, amortizaciją prašoma finansuoti",null,null,1,0,0,0,null,null,null,null,null,null,"0",null,null,0," "]
["5.4.4","Turtas, kurio nusidėvėjimą, amortizaciją prašoma finansuoti",null,null,1,0,0,0,null,null,null,null,null,null,"0",null,null,0," "]
["5.4.5","Turtas, kurio nusidėvėjimą, amortizaciją prašoma finansuoti",null,null,1,0,0,0,null,null,null,null,null,null,"0",null,null,0," "]
["5.4.6","Turtas, kurio nusidėvėjimą, amortizaciją prašoma finansuoti",null,null,1,0,0,0,null,null,null,null,null,null,"0",null,null,0," "]
["5.4.7","Turtas, kurio nusidėvėjimą, amortizaciją prašoma finansuoti",null,null,1,0,0,0,null,null,null,null,null,null,"0",null,null,0," "]
["5.4.8","Turtas, kurio nusidėvėjimą, amortizaciją prašoma finansuoti",null,null,1,0,0,0,null,null,null,null,null,null,"0",null,null,0," "]
["5.4.9","Turtas, kurio nusidėvėjimą, amortizaciją prašoma finansuoti",null,null,1,0,0,0,null,null,null,null,null,null,"0",null,null,0," "]
["5.4.10","Turtas, kurio nusidėvėjimą, amortizaciją prašoma finansuoti",null,null,1,0,0,0,null,null,null,null,null,null,"0",null,null,0," "]
["5.4.11","Turtas, kurio nusidėvėjimą, amortizaciją prašoma finansuoti",null,null,1,0,0,0,null,null,null,null,null,null,"0",null,null,0," "]
["5.4.12","Turtas, kurio nusidėvėjimą, amortizaciją prašoma finansuoti",null,null,1,0,0,0,null,null,null,null,null,null,"0",null,null,0," "]
["5.4.13","Turtas, kurio nusidėvėjimą, amortizaciją prašoma finansuoti",null,null,1,0,0,0,null,null,null,null,null,null,"0",null,null,0," "]
["5.4.14","Turtas, kurio nusidėvėjimą, amortizaciją prašoma finansuoti",null,null,1,0,0,0,null,null,null,null,null,null,"0",null,null,0," "]
["5.4.15","Turtas, kurio nusidėvėjimą, amortizaciją prašoma finansuoti",null,null,1,0,0,0,null,null,null,null,null,null,"0",null,null,0," "]
["5.5","Projektą vykdančio personalo darbo užmokestis ir išlaidos su darbo santykiais susijusiems darbdavio įsipareigojimams",null,null,null,null,{"$f":"SUM(G77:G126)","v":0},{"$f":"SUM(H77:H126)","v":0},null,null,"Faktiškai gaunamas darbo užmokesti už 1 valandą pagal  pastarųjų 6 mėn. vidurkį, Eur"]
["5.5.1","Pareigybės pavadinimas","Darbuotojo vardas pavardė","val.",null,{"$f":"IFERROR(ROUND(AVERAGE(K77:K81),2),\"0\")","v":"0"},{"$f":"ROUND(E77*F77,2)","v":0},{"$f":"ROUND(G77*$D$7,2)","v":0}]
[null,null,"Darbuotojo vardas pavardė"]
[null,null,"Darbuotojo vardas pavardė"]
[null,null,"Darbuotojo vardas pavardė"]
[null,null,"Darbuotojo vardas pavardė"]
["5.5.2","Pareigybės pavadinimas","Darbuotojo vardas pavardė","val.",null,{"$f":"IFERROR(ROUND(AVERAGE(K82:K86),2),\"0\")","v":"0"},{"$f":"ROUND(E82*F82,2)","v":0},{"$f":"ROUND(G82*$D$7,2)","v":0}]
[null,null,"Darbuotojo vardas pavardė"]
[null,null,"Darbuotojo vardas pavardė"]
[null,null,"Darbuotojo vardas pavardė"]
[null,null,"Darbuotojo vardas pavardė"]
["5.5.3","Pareigybės pavadinimas","Darbuotojo vardas pavardė","val.",null,{"$f":"IFERROR(ROUND(AVERAGE(K87:K91),2),\"0\")","v":"0"},{"$f":"ROUND(E87*F87,2)","v":0},{"$f":"ROUND(G87*$D$7,2)","v":0}]
[null,null,"Darbuotojo vardas pavardė"]
[null,null,"Darbuotojo vardas pavardė"]
[null,null,"Darbuotojo vardas pavardė"]
[null,null,"Darbuotojo vardas pavardė"]
["5.5.4","Pareigybės pavadinimas","Darbuotojo vardas pavardė","val.",null,{"$f":"IFERROR(ROUND(AVERAGE(K92:K96),2),\"0\")","v":"0"},{"$f":"ROUND(E92*F92,2)","v":0},{"$f":"ROUND(G92*$D$7,2)","v":0}]
[null,null,"Darbuotojo vardas pavardė"]
[null,null,"Darbuotojo vardas pavardė"]
[null,null,"Darbuotojo vardas pavardė"]
[null,null,"Darbuotojo vardas pavardė"]
["5.5.5","Pareigybės pavadinimas","Darbuotojo vardas pavardė","val.",null,{"$f":"IFERROR(ROUND(AVERAGE(K97:K101),2),\"0\")","v":"0"},{"$f":"ROUND(E97*F97,2)","v":0},{"$f":"ROUND(G97*$D$7,2)","v":0}]
[null,null,"Darbuotojo vardas pavardė"]
[null,null,"Darbuotojo vardas pavardė"]
[null,null,"Darbuotojo vardas pavardė"]
[null,null,"Darbuotojo vardas pavardė"]
["5.5.6","Pareigybės pavadinimas","Darbuotojo vardas pavardė","val.",null,{"$f":"IFERROR(ROUND(AVERAGE(K102:K106),2),\"0\")","v":"0"},{"$f":"ROUND(E102*F102,2)","v":0},{"$f":"ROUND(G102*$D$7,2)","v":0}]
[null,null,"Darbuotojo vardas pavardė"]
[null,null,"Darbuotojo vardas pavardė"]
[null,null,"Darbuotojo vardas pavardė"]
[null,null,"Darbuotojo vardas pavardė"]
["5.5.7","Pareigybės pavadinimas","Darbuotojo vardas pavardė","val.",null,{"$f":"IFERROR(ROUND(AVERAGE(K107:K111),2),\"0\")","v":"0"},{"$f":"ROUND(E107*F107,2)","v":0},{"$f":"ROUND(G107*$D$7,2)","v":0}]
[null,null,"Darbuotojo vardas pavardė"]
[null,null,"Darbuotojo vardas pavardė"]
[null,null,"Darbuotojo vardas pavardė"]
[null,null,"Darbuotojo vardas pavardė"]
["5.5.8","Pareigybės pavadinimas","Darbuotojo vardas pavardė","val.",null,{"$f":"IFERROR(ROUND(AVERAGE(K112:K116),2),\"0\")","v":"0"},{"$f":"ROUND(E112*F112,2)","v":0},{"$f":"ROUND(G112*$D$7,2)","v":0}]
[null,null,"Darbuotojo vardas pavardė"]
[null,null,"Darbuotojo vardas pavardė"]
[null,null,"Darbuotojo vardas pavardė"]
[null,null,"Darbuotojo vardas pavardė"]
["5.5.9","Pareigybės pavadinimas","Darbuotojo vardas pavardė","val.",null,{"$f":"IFERROR(ROUND(AVERAGE(K117:K121),2),\"0\")","v":"0"},{"$f":"ROUND(E117*F117,2)","v":0},{"$f":"ROUND(G117*$D$7,2)","v":0}]
[null,null,"Darbuotojo vardas pavardė"]
[null,null,"Darbuotojo vardas pavardė"]
[null,null,"Darbuotojo vardas pavardė"]
[null,null,"Darbuotojo vardas pavardė"]
["5.5.10","Pareigybės pavadinimas","Darbuotojo vardas pavardė","val.",null,{"$f":"IFERROR(ROUND(AVERAGE(K122:K126),2),\"0\")","v":"0"},{"$f":"ROUND(E122*F122,2)","v":0},{"$f":"ROUND(G122*$D$7,2)","v":0}]
[null,null,"Darbuotojo vardas pavardė"]
[null,null,"Darbuotojo vardas pavardė"]
[null,null,"Darbuotojo vardas pavardė"]
[null,null,"Darbuotojo vardas pavardė"]
["5.6","Projektą vykdančio personalo komandiruočių išlaidos",null,null,null,null,{"$f":"SUM(G128,G135,G142,G149,G156,G163,G170,G177,G184,G191)","v":0},{"$f":"SUM(H128,H135,H142,H149,H156,H163,H170,H177,H184,H191)","v":0}]
["5.6.1","Komandiruotės pavadinimas, vieta, trukmė dienomis, vykstančių asmenų skaičius","Iš viso komandiruotei",null,null,null,{"$f":"SUM(G129:G134)","v":0},{"$f":"ROUND(G128*$D$7,2)","v":0}]
[null,null,"Dienpinigiai",null,null,null,{"$f":"ROUND(E129*F129,2)","v":0}]
[null,null,"Gyvenamojo ploto nuoma",null,null,null,0]
[null,null,"Kelionės išlaidos",null,null,null,0]
[null,null,"Dalyvavimo mokestis",null,null,null,0]
[null,null,"Kitos išlaidų pavadinimas",null,null,null,0]
[null,null,"Kitos išlaidų pavadinimas",null,null,null,0]
["5.6.2","Komandiruotės pavadinimas, vieta, trukmė dienomis, vykstančių asmenų skaičius","Iš viso komandiruotei",null,null,null,{"$f":"SUM(G136:G141)","v":0},{"$f":"ROUND(G135*$D$7,2)","v":0}]
[null,null,"Dienpinigiai",null,null,null,{"$f":"ROUND(E136*F136,2)","v":0}]
[null,null,"Gyvenamojo ploto nuoma",null,null,null,0]
[null,null,"Kelionės išlaidos",null,null,null,0]
[null,null,"Dalyvavimo mokestis",null,null,null,0]
[null,null,"Kitos išlaidų pavadinimas",null,null,null,0]
[null,null,"Kitos išlaidų pavadinimas",null,null,null,0]
["5.6.3","Komandiruotės pavadinimas, vieta, trukmė dienomis, vykstančių asmenų skaičius","Iš viso komandiruotei",null,null,null,{"$f":"SUM(G143:G148)","v":0},{"$f":"ROUND(G142*$D$7,2)","v":0}]
[null,null,"Dienpinigiai",null,null,null,{"$f":"ROUND(E143*F143,2)","v":0}]
[null,null,"Gyvenamojo ploto nuoma",null,null,null,0]
[null,null,"Kelionės išlaidos",null,null,null,0]
[null,null,"Dalyvavimo mokestis",null,null,null,0]
[null,null,"Kitos išlaidų pavadinimas",null,null,null,0]
[null,null,"Kitos išlaidų pavadinimas",null,null,null,0]
["5.6.4","Komandiruotės pavadinimas, vieta, trukmė dienomis, vykstančių asmenų skaičius","Iš viso komandiruotei",null,null,null,{"$f":"SUM(G150:G155)","v":0},{"$f":"ROUND(G149*$D$7,2)","v":0}]
[null,null,"Dienpinigiai",null,null,null,{"$f":"ROUND(E150*F150,2)","v":0}]
[null,null,"Gyvenamojo ploto nuoma",null,null,null,0]
[null,null,"Kelionės išlaidos",null,null,null,0]
[null,null,"Dalyvavimo mokestis",null,null,null,0]
[null,null,"Kitos išlaidų pavadinimas",null,null,null,0]
[null,null,"Kitos išlaidų pavadinimas",null,null,null,0]
["5.6.5","Komandiruotės pavadinimas, vieta, trukmė dienomis, vykstančių asmenų skaičius","Iš viso komandiruotei",null,null,null,{"$f":"SUM(G157:G162)","v":0},{"$f":"ROUND(G156*$D$7,2)","v":0}]
[null,null,"Dienpinigiai",null,null,null,{"$f":"ROUND(E157*F157,2)","v":0}]
[null,null,"Gyvenamojo ploto nuoma",null,null,null,0]
[null,null,"Kelionės išlaidos",null,null,null,0]
[null,null,"Dalyvavimo mokestis",null,null,null,0]
[null,null,"Kitos išlaidų pavadinimas",null,null,null,0]
[null,null,"Kitos išlaidų pavadinimas",null,null,null,0]
["5.6.6","Komandiruotės pavadinimas, vieta, trukmė dienomis, vykstančių asmenų skaičius","Iš viso komandiruotei",null,null,null,{"$f":"SUM(G164:G169)","v":0},{"$f":"ROUND(G163*$D$7,2)","v":0}]
[null,null,"Dienpinigiai",null,null,null,{"$f":"ROUND(E164*F164,2)","v":0}]
[null,null,"Gyvenamojo ploto nuoma",null,null,null,0]
[null,null,"Kelionės išlaidos",null,null,null,0]
[null,null,"Dalyvavimo mokestis",null,null,null,0]
[null,null,"Kitos išlaidų pavadinimas",null,null,null,0]
[null,null,"Kitos išlaidų pavadinimas",null,null,null,0]
["5.6.7","Komandiruotės pavadinimas, vieta, trukmė dienomis, vykstančių asmenų skaičius","Iš viso komandiruotei",null,null,null,{"$f":"SUM(G171:G176)","v":0},{"$f":"ROUND(G170*$D$7,2)","v":0}]
[null,null,"Dienpinigiai",null,null,null,{"$f":"ROUND(E171*F171,2)","v":0}]
[null,null,"Gyvenamojo ploto nuoma",null,null,null,0]
[null,null,"Kelionės išlaidos",null,null,null,0]
[null,null,"Dalyvavimo mokestis",null,null,null,0]
[null,null,"Kitos išlaidų pavadinimas",null,null,null,0]
[null,null,"Kitos išlaidų pavadinimas",null,null,null,0]
["5.6.8","Komandiruotės pavadinimas, vieta, trukmė dienomis, vykstančių asmenų skaičius","Iš viso komandiruotei",null,null,null,{"$f":"SUM(G178:G183)","v":0},{"$f":"ROUND(G177*$D$7,2)","v":0}]
[null,null,"Dienpinigiai",null,null,null,{"$f":"ROUND(E178*F178,2)","v":0}]
[null,null,"Gyvenamojo ploto nuoma",null,null,null,0]
[null,null,"Kelionės išlaidos",null,null,null,0]
[null,null,"Dalyvavimo mokestis",null,null,null,0]
[null,null,"Kitos išlaidų pavadinimas",null,null,null,0]
[null,null,"Kitos išlaidų pavadinimas",null,null,null,0]
["5.6.9","Komandiruotės pavadinimas, vieta, trukmė dienomis, vykstančių asmenų skaičius","Iš viso komandiruotei",null,null,null,{"$f":"SUM(G185:G190)","v":0},{"$f":"ROUND(G184*$D$7,2)","v":0}]
[null,null,"Dienpinigiai",null,null,null,{"$f":"ROUND(E185*F185,2)","v":0}]
[null,null,"Gyvenamojo ploto nuoma",null,null,null,0]
[null,null,"Kelionės išlaidos",null,null,null,0]
[null,null,"Dalyvavimo mokestis",null,null,null,0]
[null,null,"Kitos išlaidų pavadinimas",null,null,null,0]
[null,null,"Kitos išlaidų pavadinimas",null,null,null,0]
["5.6.10","Komandiruotės pavadinimas, vieta, trukmė dienomis, vykstančių asmenų skaičius","Iš viso komandiruotei",null,null,null,{"$f":"SUM(G192:G197)","v":0},{"$f":"ROUND(G191*$D$7,2)","v":0}]
[null,null,"Dienpinigiai",null,null,null,{"$f":"ROUND(E192*F192,2)","v":0}]
[null,null,"Gyvenamojo ploto nuoma",null,null,null,0]
[null,null,"Kelionės išlaidos",null,null,null,0]
[null,null,"Dalyvavimo mokestis",null,null,null,0]
[null,null,"Kitos išlaidų pavadinimas",null,null,null,0]
[null,null,"Kitos išlaidų pavadinimas",null,null,null,0]
["5.7","Įrangos nuomos išlaidos, veiklai priskirtos pro rata principu. Įranga turi būti tiesiogiai susijusi su projekto įgyvendinimu ir negali būti įsigyta iš ES struktūrinių fondų ar kt. ES finansinių priemonių lėšų",null,null,null,null,{"$f":"SUM(G199:G203)","v":0},{"$f":"SUM(H199:H203)","v":0},null,null,"Faktinės 1 mėnesio išlaidos, Eur","Naudojimo projekte trukmė, mėn."]
["5.7.1","Įrangos pavadinimas",null,"pro rata proc.",null,{"$f":"K199*L199","v":0},0,{"$f":"ROUND(G199*$D$7,2)","v":0}]
["5.7.2","Įrangos pavadinimas",null,"pro rata proc.",null,{"$f":"K200*L200","v":0},0,{"$f":"ROUND(G200*$D$7,2)","v":0}]
["5.7.3","Įrangos pavadinimas",null,"pro rata proc.",null,0,0,0]
["5.7.4","Įrangos pavadinimas",null,"pro rata proc.",null,0,0,0]
["5.7.5","Įrangos pavadinimas",null,"pro rata proc.",null,0,0,0]
["5.8","Pastatų ar patalpų nuomos išlaidos, veiklai priskirtos pro rata principu. Pastatai ar patalpos turi būti tiesiogiai susijusi su projekto įgyvendinimu.",null,null,null,null,{"$f":"SUM(G205:G209)","v":0},{"$f":"SUM(H205:H209)","v":0},null,null,"Faktinės 1 mėnesio išlaidos, Eur","Naudojimo projekte trukmė, mėn."]
["5.8.1","Pastato, patalpų adresas",null,"pro rata proc.",null,{"$f":"K205*L205","v":0},{"$f":"ROUND(E205*F205,2)","v":0},{"$f":"ROUND(G205*$D$7,2)","v":0}]
["5.8.2","Pastato, patalpų adresas",null,"pro rata proc.",null,{"$f":"K206*L206","v":0},0,0]
["5.8.3","Pastato, patalpų adresas",null,"pro rata proc.",null,0,0,0]
["5.8.4","Pastato, patalpų adresas",null,"pro rata proc.",null,0,0,0]
["5.8.5","Pastato, patalpų adresas",null,"pro rata proc.",null,0,0,0]
["Iš viso tinkamų finansuoti išlaidų:",null,null,null,null,null,{"$f":"G10+G21","v":0},{"$f":"H10+H21","v":0}]

{"sheet":"19","index":20,"n_rows":210,"n_cols":19,"rows_kept":210,"cut":false,"hidden":false,"merged":[[0,3,0,8],[2,0,2,2],[2,3,2,8],[3,3,3,4],[3,5,3,6],[4,0,4,2],[4,3,4,8],[14,1,14,2],[15,1,15,2],[16,1,16,2],[17,1,17,2],[18,1,18,2],[19,1,19,2],[8,1,8,2],[9,1,9,5],[10,1,10,2],[11,1,11,2],[12,1,12,2],[13,1,13,2],[26,1,26,2],[27,1,27,2],[28,1,28,2],[29,1,29,2],[30,1,30,2],[31,1,31,2],[20,1,20,5],[21,1,21,5],[22,1,22,2],[23,1,23,2],[24,1,24,2],[25,1,25,2],[38,1,38,2],[39,1,39,2],[40,1,40,2],[41,1,41,2],[42,1,42,2],[43,1,43,5],[32,1,32,5],[33,1,33,2],[34,1,34,2],[35,1,35,2],[36,1,36,2],[37,1,37,2],[50,1,50,2],[51,1,51,2],[52,1,52,2],[53,1,53,2],[54,1,54,2],[55,1,55,2],[44,1,44,2],[45,1,45,2],[46,1,46,2],[47,1,47,2],[48,1,48,2],[49,1,49,2],[62,1,62,2],[63,1,63,2],[64,1,64,2],[65,1,65,2],[66,1,66,2],[67,1,67,2],[56,1,56,2],[57,1,57,2],[58,1,58,2],[59,1,59,5],[60,1,60,2],[61,1,61,2],[74,1,74,2],[75,1,75,5],[76,0,80,0],[76,1,80,1],[76,3,80,3],[76,4,80,4],[76,5,80,5],[68,1,68,2],[69,1,69,2],[70,1,70,2],[71,1,71,2],[72,1,72,2],[73,1,73,2],[76,6,80,6],[76,7,80,7],[76,8,80,8],[81,0,85,0],[81,1,85,1],[81,3,85,3],[81,4,85,4],[81,5,85,5],[81,6,85,6],[81,7,85,7],[81,8,85,8],[86,0,90,0],[86,1,90,1],[86,3,90,3],[86,4,90,4],[86,5,90,5],[86,6,90,6],[86,7,90,7],[86,8,90,8],[91,7,95,7],[91,8,95,8],[96,0,100,0],[96,1,100,1],[96,3,100,3],[96,4,100,4],[96,5,100,5],[96,6,100,6],[96,7,100,7],[96,8,100,8],[91,0,95,0],[91,1,95,1],[91,3,95,3],[91,4,95,4],[91,5,95,5],[91,6,95,6],[101,7,105,7],[101,8,105,8],[106,0,110,0],[106,1,110,1],[106,3,110,3],[106,4,110,4],[106,5,110,5],[106,6,110,6],[106,7,110,7],[106,8,110,8],[101,0,105,0],[101,1,105,1],[101,3,105,3],[101,4,105,4],[101,5,105,5],[101,6,105,6],[111,7,115,7],[111,8,115,8],[116,0,120,0],[116,1,120,1],[116,3,120,3],[116,4,120,4],[116,5,120,5],[116,6,120,6],[116,7,120,7],[116,8,120,8],[111,0,115,0],[111,1,115,1],[111,3,115,3],[111,4,115,4],[111,5,115,5],[111,6,115,6],[127,1,133,1],[121,7,125,7],[121,8,125,8],[126,1,126,5],[121,0,125,0],[121,1,125,1],[121,3,125,3],[121,4,125,4],[121,5,125,5],[121,6,125,6],[127,0,133,0],[127,8,133,8],[134,0,140,0],[134,1,140,1],[134,8,140,8],[141,0,147,0],[141,1,147,1],[141,8,147,8],[148,0,154,0],[148,1,154,1],[148,8,154,8],[155,0,161,0],[155,1,161,1],[155,8,161,8],[162,0,168,0],[162,1,168,1],[162,8,168,8],[169,0,175,0],[169,1,175,1],[169,8,175,8],[176,0,182,0],[176,1,182,1],[176,8,182,8],[183,0,189,0],[183,1,189,1],[183,8,189,8],[190,0,196,0],[190,1,196,1],[190,8,196,8],[206,1,206,2],[207,1,207,2],[208,1,208,2],[209,0,209,5],[197,1,197,5],[198,1,198,2],[199,1,199,2],[200,1,200,2],[201,1,201,2],[202,1,202,2],[203,1,203,5],[204,1,204,2],[205,1,205,2]]}
[null,null,"Pasirinkite veiklos tipą:"]
[null,null,"Fizinio rodiklio Nr.:"]
["Fizinio rodiklio pavadinimas:"]
[null,null,"Fizinio rodiklio matavimo vnt.:",null,null,"Fizinio rodiklio vnt. skaičius:"]
["Juridinis asmuo (pareiškėjas, partneris), atsakingas už fizinį rodiklį:"]
[]
[null,null,"Finansavimo intensyvumas:",null,null,null,"Pasirinkite biudžeto išlaidų kategoriją:"]
[]
["Eil. Nr.","Išlaidų kategorijos pavadinimas",null,"Matavimo vnt.","Kiekis","Vieneto kaina be PVM, Eur","Tinkamų finansuoti išlaidų suma be PVM, Eur","Finansavimo suma, Eur","Išlaidų pagrindimo dokumentų pavadinimas, data ir Nr."]
[4,"ĮRANGA, ĮRENGINIAI IR KT. TURTAS (techninių žinių ir išradimų patentų arba teisių pagal licencijų sutartį įsigijimo išlaidos)",null,null,null,null,{"$f":"SUM(G11:G20)","v":0},{"$f":"SUM(H11:H20)","v":0}]
["4.1","Išlaidų pavadinimas",null,null,null,null,{"$f":"ROUND(E11*F11,2)","v":0},{"$f":"ROUND(G11*$D$7,2)","v":0}]
["4.2","Išlaidų pavadinimas",null,null,null,null,0,0]
["4.3","Išlaidų pavadinimas",null,null,null,null,0,0]
["4.4","Išlaidų pavadinimas",null,null,null,null,0,0]
["4.5","Išlaidų pavadinimas",null,null,null,null,0,0]
["4.6","Išlaidų pavadinimas",null,null,null,null,0,0]
["4.7","Išlaidų pavadinimas",null,null,null,null,0,0]
["4.8","Išlaidų pavadinimas",null,null,null,null,0,0]
["4.9","Išlaidų pavadinimas",null,null,null,null,0,0]
["4.10","Išlaidų pavadinimas",null,null,null,null,0,0]
[5,"PROJEKTO VYKDYMAS",null,null,null,null,{"$f":"G22+G33+G44+G60+G76+G127+G198+G204","v":0},{"$f":"H22+H33+H44+H60+H76+H127+H198+H204","v":0}]
["5.1","MTEP paslaugos",null,null,null,null,{"$f":"SUM(G23:G32)","v":0},{"$f":"SUM(H23:H32)","v":0}]
["5.1.1","Paslaugos pavadinimas",null,null,null,null,{"$f":"ROUND(E23*F23,2)","v":0},0]
["5.1.2","Paslaugos pavadinimas",null,null,null,null,0,0]
["5.1.3","Paslaugos pavadinimas",null,null,null,null,0,0]
["5.1.4","Paslaugos pavadinimas",null,null,null,null,0,0]
["5.1.5","Paslaugos pavadinimas",null,null,null,null,0,0]
["5.1.6","Paslaugos pavadinimas",null,null,null,null,0,0]
["5.1.7","Paslaugos pavadinimas",null,null,null,null,0,0]
["5.1.8","Paslaugos pavadinimas",null,null,null,null,0,0]
["5.1.9","Paslaugos pavadinimas",null,null,null,null,0,0]
["5.1.10","Paslaugos pavadinimas",null,null,null,null,0,0]
["5.2","Konsultavimo ir lygiavertės paslaugos, naudojamos vien tik projekto MTEP veiklai",null,null,null,null,{"$f":"SUM(G34:G43)","v":0},{"$f":"SUM(H34:H43)","v":0}]
["5.2.1","Paslaugos pavadinimas",null,null,null,null,{"$f":"ROUND(E34*F34,2)","v":0},0]
["5.2.2","Paslaugos pavadinimas",null,null,null,null,0,0]
["5.2.3","Paslaugos pavadinimas",null,null,null,null,0,0]
["5.2.4","Paslaugos pavadinimas",null,null,null,null,0,0]
["5.2.5","Paslaugos pavadinimas",null,null,null,null,0,0]
["5.2.6","Paslaugos pavadinimas",null,null,null,null,0,0]
["5.2.7","Paslaugos pavadinimas",null,null,null,null,0,0]
["5.2.8","Paslaugos pavadinimas",null,null,null,null,0,0]
["5.2.9","Paslaugos pavadinimas",null,null,null,null,0,0]
["5.2.10","Paslaugos pavadinimas",null,null,null,null,0,0]
["5.3","Medžiagos, mažavertis inventorius, atsargos ir pan. produktai, priskirtini trumpalaikiam turtui ir tiesiogiai susiję su MTEP veikla",null,null,null,null,{"$f":"SUM(G45:G59)","v":0},{"$f":"SUM(H45:H59)","v":0}]
["5.3.1","Išlaidų pavadinimas",null,null,null,null,{"$f":"ROUND(E45*F45,2)","v":0},{"$f":"ROUND(G45*$D$7,2)","v":0}]
["5.3.2","Išlaidų pavadinimas",null,null,null,null,0,0]
["5.3.3","Išlaidų pavadinimas",null,null,null,null,0,0]
["5.3.4","Išlaidų pavadinimas",null,null,null,null,0,0]
["5.3.5","Išlaidų pavadinimas",null,null,null,null,0,0]
["5.3.6","Išlaidų pavadinimas",null,null,null,null,0,0]
["5.3.7","Išlaidų pavadinimas",null,null,null,null,0,0]
["5.3.8","Išlaidų pavadinimas",null,null,null,null,0,0]
["5.3.9","Išlaidų pavadinimas",null,null,null,null,0,0]
["5.3.10","Išlaidų pavadinimas",null,null,null,null,0,0]
["5.3.11","Išlaidų pavadinimas",null,null,null,null,0,0]
["5.3.12","Išlaidų pavadinimas",null,null,null,null,0,0]
["5.3.13","Išlaidų pavadinimas",null,null,null,null,0,0]
["5.3.14","Išlaidų pavadinimas",null,null,null,null,0,0]
["5.3.15","Išlaidų pavadinimas",null,null,null,null,0,0]
["5.4","Projekto MTEP veikloms naudojamo ilgalaikio materialaus turto (įrangos, prietaisų, įrankių, įrenginių, mašinų ir įrengimų, pastatų ir (ar) patalpų), nusidėvėjimo sąnaudos, jeigu šiam turtui įsigyti nebuvo naudojamos viešosios (įskaitant ir kitų valstybių) lėšos",null,null,null,null,{"$f":"SUM(G61:G75)","v":0},{"$f":"SUM(H61:H75)","v":0},null,null,"Turto įvedimo į eksploataciją data","Turto įsigijimo vertė, Eur","Turto nudėvėjimo, amortizacijos laikotarpis, mėn.","Numatoma turto likutinė vertė, Eur","1 mėn. nudėvėjimo, amortizacijos suma, Eur","Turto naudojamo projekto reikmėms laikas, mėn.","Turto panaudojimo projekto reikmėms dalis (proc.)","Projektui priskirta turto nusidėvėjimo, amortizacijos suma per projekto laikotarpį, Eur"]
["5.4.1","Turtas, kurio nusidėvėjimą, amortizaciją prašoma finansuoti",null,null,1,{"$f":"R61","v":0},{"$f":"ROUND(E61*F61,2)","v":0},0,null,null,null,null,null,null,{"$f":"IFERROR(ROUND((L61-N61)/M61,2),\"0\")","v":"0"},null,null,{"$f":"O61*P61*Q61","v":0},{"$f":"IF(K61=0,\" \",IF(K61+(M61*30.5)<TODAY(),\"DĖMESIO! Patikrinkite, ar nurodytas turtas dar nėra nudėvėtas, amortizuotas\",\" \"))","v":" "}]
["5.4.2","Turtas, kurio nusidėvėjimą, amortizaciją prašoma finansuoti",null,null,1,{"$f":"R62","v":0},0,0,null,null,null,null,null,null,{"$f":"IFERROR(ROUND((L62-N62)/M62,2),\"0\")","v":"0"},null,null,{"$f":"O62*P62*Q62","v":0},{"$f":"IF(K62=0,\" \",IF(K62+(M62*30.5)<TODAY(),\"DĖMESIO! Patikrinkite, ar nurodytas turtas dar nėra nudėvėtas, amortizuotas\",\" \"))","v":" "}]
["5.4.3","Turtas, kurio nusidėvėjimą, amortizaciją prašoma finansuoti",null,null,1,0,0,0,null,null,null,null,null,null,"0",null,null,0," "]
["5.4.4","Turtas, kurio nusidėvėjimą, amortizaciją prašoma finansuoti",null,null,1,0,0,0,null,null,null,null,null,null,"0",null,null,0," "]
["5.4.5","Turtas, kurio nusidėvėjimą, amortizaciją prašoma finansuoti",null,null,1,0,0,0,null,null,null,null,null,null,"0",null,null,0," "]
["5.4.6","Turtas, kurio nusidėvėjimą, amortizaciją prašoma finansuoti",null,null,1,0,0,0,null,null,null,null,null,null,"0",null,null,0," "]
["5.4.7","Turtas, kurio nusidėvėjimą, amortizaciją prašoma finansuoti",null,null,1,0,0,0,null,null,null,null,null,null,"0",null,null,0," "]
["5.4.8","Turtas, kurio nusidėvėjimą, amortizaciją prašoma finansuoti",null,null,1,0,0,0,null,null,null,null,null,null,"0",null,null,0," "]
["5.4.9","Turtas, kurio nusidėvėjimą, amortizaciją prašoma finansuoti",null,null,1,0,0,0,null,null,null,null,null,null,"0",null,null,0," "]
["5.4.10","Turtas, kurio nusidėvėjimą, amortizaciją prašoma finansuoti",null,null,1,0,0,0,null,null,null,null,null,null,"0",null,null,0," "]
["5.4.11","Turtas, kurio nusidėvėjimą, amortizaciją prašoma finansuoti",null,null,1,0,0,0,null,null,null,null,null,null,"0",null,null,0," "]
["5.4.12","Turtas, kurio nusidėvėjimą, amortizaciją prašoma finansuoti",null,null,1,0,0,0,null,null,null,null,null,null,"0",null,null,0," "]
["5.4.13","Turtas, kurio nusidėvėjimą, amortizaciją prašoma finansuoti",null,null,1,0,0,0,null,null,null,null,null,null,"0",null,null,0," "]
["5.4.14","Turtas, kurio nusidėvėjimą, amortizaciją prašoma finansuoti",null,null,1,0,0,0,null,null,null,null,null,null,"0",null,null,0," "]
["5.4.15","Turtas, kurio nusidėvėjimą, amortizaciją prašoma finansuoti",null,null,1,0,0,0,null,null,null,null,null,null,"0",null,null,0," "]
["5.5","Projektą vykdančio personalo darbo užmokestis ir išlaidos su darbo santykiais susijusiems darbdavio įsipareigojimams",null,null,null,null,{"$f":"SUM(G77:G126)","v":0},{"$f":"SUM(H77:H126)","v":0},null,null,"Faktiškai gaunamas darbo užmokesti už 1 valandą pagal  pastarųjų 6 mėn. vidurkį, Eur"]
["5.5.1","Pareigybės pavadinimas","Darbuotojo vardas pavardė","val.",null,{"$f":"IFERROR(ROUND(AVERAGE(K77:K81),2),\"0\")","v":"0"},{"$f":"ROUND(E77*F77,2)","v":0},{"$f":"ROUND(G77*$D$7,2)","v":0}]
[null,null,"Darbuotojo vardas pavardė"]
[null,null,"Darbuotojo vardas pavardė"]
[null,null,"Darbuotojo vardas pavardė"]
[null,null,"Darbuotojo vardas pavardė"]
["5.5.2","Pareigybės pavadinimas","Darbuotojo vardas pavardė","val.",null,{"$f":"IFERROR(ROUND(AVERAGE(K82:K86),2),\"0\")","v":"0"},{"$f":"ROUND(E82*F82,2)","v":0},{"$f":"ROUND(G82*$D$7,2)","v":0}]
[null,null,"Darbuotojo vardas pavardė"]
[null,null,"Darbuotojo vardas pavardė"]
[null,null,"Darbuotojo vardas pavardė"]
[null,null,"Darbuotojo vardas pavardė"]
["5.5.3","Pareigybės pavadinimas","Darbuotojo vardas pavardė","val.",null,{"$f":"IFERROR(ROUND(AVERAGE(K87:K91),2),\"0\")","v":"0"},{"$f":"ROUND(E87*F87,2)","v":0},{"$f":"ROUND(G87*$D$7,2)","v":0}]
[null,null,"Darbuotojo vardas pavardė"]
[null,null,"Darbuotojo vardas pavardė"]
[null,null,"Darbuotojo vardas pavardė"]
[null,null,"Darbuotojo vardas pavardė"]
["5.5.4","Pareigybės pavadinimas","Darbuotojo vardas pavardė","val.",null,{"$f":"IFERROR(ROUND(AVERAGE(K92:K96),2),\"0\")","v":"0"},{"$f":"ROUND(E92*F92,2)","v":0},{"$f":"ROUND(G92*$D$7,2)","v":0}]
[null,null,"Darbuotojo vardas pavardė"]
[null,null,"Darbuotojo vardas pavardė"]
[null,null,"Darbuotojo vardas pavardė"]
[null,null,"Darbuotojo vardas pavardė"]
["5.5.5","Pareigybės pavadinimas","Darbuotojo vardas pavardė","val.",null,{"$f":"IFERROR(ROUND(AVERAGE(K97:K101),2),\"0\")","v":"0"},{"$f":"ROUND(E97*F97,2)","v":0},{"$f":"ROUND(G97*$D$7,2)","v":0}]
[null,null,"Darbuotojo vardas pavardė"]
[null,null,"Darbuotojo vardas pavardė"]
[null,null,"Darbuotojo vardas pavardė"]
[null,null,"Darbuotojo vardas pavardė"]
["5.5.6","Pareigybės pavadinimas","Darbuotojo vardas pavardė","val.",null,{"$f":"IFERROR(ROUND(AVERAGE(K102:K106),2),\"0\")","v":"0"},{"$f":"ROUND(E102*F102,2)","v":0},{"$f":"ROUND(G102*$D$7,2)","v":0}]
[null,null,"Darbuotojo vardas pavardė"]
[null,null,"Darbuotojo vardas pavardė"]
[null,null,"Darbuotojo vardas pavardė"]
[null,null,"Darbuotojo vardas pavardė"]
["5.5.7","Pareigybės pavadinimas","Darbuotojo vardas pavardė","val.",null,{"$f":"IFERROR(ROUND(AVERAGE(K107:K111),2),\"0\")","v":"0"},{"$f":"ROUND(E107*F107,2)","v":0},{"$f":"ROUND(G107*$D$7,2)","v":0}]
[null,null,"Darbuotojo vardas pavardė"]
[null,null,"Darbuotojo vardas pavardė"]
[null,null,"Darbuotojo vardas pavardė"]
[null,null,"Darbuotojo vardas pavardė"]
["5.5.8","Pareigybės pavadinimas","Darbuotojo vardas pavardė","val.",null,{"$f":"IFERROR(ROUND(AVERAGE(K112:K116),2),\"0\")","v":"0"},{"$f":"ROUND(E112*F112,2)","v":0},{"$f":"ROUND(G112*$D$7,2)","v":0}]
[null,null,"Darbuotojo vardas pavardė"]
[null,null,"Darbuotojo vardas pavardė"]
[null,null,"Darbuotojo vardas pavardė"]
[null,null,"Darbuotojo vardas pavardė"]
["5.5.9","Pareigybės pavadinimas","Darbuotojo vardas pavardė","val.",null,{"$f":"IFERROR(ROUND(AVERAGE(K117:K121),2),\"0\")","v":"0"},{"$f":"ROUND(E117*F117,2)","v":0},{"$f":"ROUND(G117*$D$7,2)","v":0}]
[null,null,"Darbuotojo vardas pavardė"]
[null,null,"Darbuotojo vardas pavardė"]
[null,null,"Darbuotojo vardas pavardė"]
[null,null,"Darbuotojo vardas pavardė"]
["5.5.10","Pareigybės pavadinimas","Darbuotojo vardas pavardė","val.",null,{"$f":"IFERROR(ROUND(AVERAGE(K122:K126),2),\"0\")","v":"0"},{"$f":"ROUND(E122*F122,2)","v":0},{"$f":"ROUND(G122*$D$7,2)","v":0}]
[null,null,"Darbuotojo vardas pavardė"]
[null,null,"Darbuotojo vardas pavardė"]
[null,null,"Darbuotojo vardas pavardė"]
[null,null,"Darbuotojo vardas pavardė"]
["5.6","Projektą vykdančio personalo komandiruočių išlaidos",null,null,null,null,{"$f":"SUM(G128,G135,G142,G149,G156,G163,G170,G177,G184,G191)","v":0},{"$f":"SUM(H128,H135,H142,H149,H156,H163,H170,H177,H184,H191)","v":0}]
["5.6.1","Komandiruotės pavadinimas, vieta, trukmė dienomis, vykstančių asmenų skaičius","Iš viso komandiruotei",null,null,null,{"$f":"SUM(G129:G134)","v":0},{"$f":"ROUND(G128*$D$7,2)","v":0}]
[null,null,"Dienpinigiai",null,null,null,{"$f":"ROUND(E129*F129,2)","v":0}]
[null,null,"Gyvenamojo ploto nuoma",null,null,null,0]
[null,null,"Kelionės išlaidos",null,null,null,0]
[null,null,"Dalyvavimo mokestis",null,null,null,0]
[null,null,"Kitos išlaidų pavadinimas",null,null,null,0]
[null,null,"Kitos išlaidų pavadinimas",null,null,null,0]
["5.6.2","Komandiruotės pavadinimas, vieta, trukmė dienomis, vykstančių asmenų skaičius","Iš viso komandiruotei",null,null,null,{"$f":"SUM(G136:G141)","v":0},{"$f":"ROUND(G135*$D$7,2)","v":0}]
[null,null,"Dienpinigiai",null,null,null,{"$f":"ROUND(E136*F136,2)","v":0}]
[null,null,"Gyvenamojo ploto nuoma",null,null,null,0]
[null,null,"Kelionės išlaidos",null,null,null,0]
[null,null,"Dalyvavimo mokestis",null,null,null,0]
[null,null,"Kitos išlaidų pavadinimas",null,null,null,0]
[null,null,"Kitos išlaidų pavadinimas",null,null,null,0]
["5.6.3","Komandiruotės pavadinimas, vieta, trukmė dienomis, vykstančių asmenų skaičius","Iš viso komandiruotei",null,null,null,{"$f":"SUM(G143:G148)","v":0},{"$f":"ROUND(G142*$D$7,2)","v":0}]
[null,null,"Dienpinigiai",null,null,null,{"$f":"ROUND(E143*F143,2)","v":0}]
[null,null,"Gyvenamojo ploto nuoma",null,null,null,0]
[null,null,"Kelionės išlaidos",null,null,null,0]
[null,null,"Dalyvavimo mokestis",null,null,null,0]
[null,null,"Kitos išlaidų pavadinimas",null,null,null,0]
[null,null,"Kitos išlaidų pavadinimas",null,null,null,0]
["5.6.4","Komandiruotės pavadinimas, vieta, trukmė dienomis, vykstančių asmenų skaičius","Iš viso komandiruotei",null,null,null,{"$f":"SUM(G150:G155)","v":0},{"$f":"ROUND(G149*$D$7,2)","v":0}]
[null,null,"Dienpinigiai",null,null,null,{"$f":"ROUND(E150*F150,2)","v":0}]
[null,null,"Gyvenamojo ploto nuoma",null,null,null,0]
[null,null,"Kelionės išlaidos",null,null,null,0]
[null,null,"Dalyvavimo mokestis",null,null,null,0]
[null,null,"Kitos išlaidų pavadinimas",null,null,null,0]
[null,null,"Kitos išlaidų pavadinimas",null,null,null,0]
["5.6.5","Komandiruotės pavadinimas, vieta, trukmė dienomis, vykstančių asmenų skaičius","Iš viso komandiruotei",null,null,null,{"$f":"SUM(G157:G162)","v":0},{"$f":"ROUND(G156*$D$7,2)","v":0}]
[null,null,"Dienpinigiai",null,null,null,{"$f":"ROUND(E157*F157,2)","v":0}]
[null,null,"Gyvenamojo ploto nuoma",null,null,null,0]
[null,null,"Kelionės išlaidos",null,null,null,0]
[null,null,"Dalyvavimo mokestis",null,null,null,0]
[null,null,"Kitos išlaidų pavadinimas",null,null,null,0]
[null,null,"Kitos išlaidų pavadinimas",null,null,null,0]
["5.6.6","Komandiruotės pavadinimas, vieta, trukmė dienomis, vykstančių asmenų skaičius","Iš viso komandiruotei",null,null,null,{"$f":"SUM(G164:G169)","v":0},{"$f":"ROUND(G163*$D$7,2)","v":0}]
[null,null,"Dienpinigiai",null,null,null,{"$f":"ROUND(E164*F164,2)","v":0}]
[null,null,"Gyvenamojo ploto nuoma",null,null,null,0]
[null,null,"Kelionės išlaidos",null,null,null,0]
[null,null,"Dalyvavimo mokestis",null,null,null,0]
[null,null,"Kitos išlaidų pavadinimas",null,null,null,0]
[null,null,"Kitos išlaidų pavadinimas",null,null,null,0]
["5.6.7","Komandiruotės pavadinimas, vieta, trukmė dienomis, vykstančių asmenų skaičius","Iš viso komandiruotei",null,null,null,{"$f":"SUM(G171:G176)","v":0},{"$f":"ROUND(G170*$D$7,2)","v":0}]
[null,null,"Dienpinigiai",null,null,null,{"$f":"ROUND(E171*F171,2)","v":0}]
[null,null,"Gyvenamojo ploto nuoma",null,null,null,0]
[null,null,"Kelionės išlaidos",null,null,null,0]
[null,null,"Dalyvavimo mokestis",null,null,null,0]
[null,null,"Kitos išlaidų pavadinimas",null,null,null,0]
[null,null,"Kitos išlaidų pavadinimas",null,null,null,0]
["5.6.8","Komandiruotės pavadinimas, vieta, trukmė dienomis, vykstančių asmenų skaičius","Iš viso komandiruotei",null,null,null,{"$f":"SUM(G178:G183)","v":0},{"$f":"ROUND(G177*$D$7,2)","v":0}]
[null,null,"Dienpinigiai",null,null,null,{"$f":"ROUND(E178*F178,2)","v":0}]
[null,null,"Gyvenamojo ploto nuoma",null,null,null,0]
[null,null,"Kelionės išlaidos",null,null,null,0]
[null,null,"Dalyvavimo mokestis",null,null,null,0]
[null,null,"Kitos išlaidų pavadinimas",null,null,null,0]
[null,null,"Kitos išlaidų pavadinimas",null,null,null,0]
["5.6.9","Komandiruotės pavadinimas, vieta, trukmė dienomis, vykstančių asmenų skaičius","Iš viso komandiruotei",null,null,null,{"$f":"SUM(G185:G190)","v":0},{"$f":"ROUND(G184*$D$7,2)","v":0}]
[null,null,"Dienpinigiai",null,null,null,{"$f":"ROUND(E185*F185,2)","v":0}]
[null,null,"Gyvenamojo ploto nuoma",null,null,null,0]
[null,null,"Kelionės išlaidos",null,null,null,0]
[null,null,"Dalyvavimo mokestis",null,null,null,0]
[null,null,"Kitos išlaidų pavadinimas",null,null,null,0]
[null,null,"Kitos išlaidų pavadinimas",null,null,null,0]
["5.6.10","Komandiruotės pavadinimas, vieta, trukmė dienomis, vykstančių asmenų skaičius","Iš viso komandiruotei",null,null,null,{"$f":"SUM(G192:G197)","v":0},{"$f":"ROUND(G191*$D$7,2)","v":0}]
[null,null,"Dienpinigiai",null,null,null,{"$f":"ROUND(E192*F192,2)","v":0}]
[null,null,"Gyvenamojo ploto nuoma",null,null,null,0]
[null,null,"Kelionės išlaidos",null,null,null,0]
[null,null,"Dalyvavimo mokestis",null,null,null,0]
[null,null,"Kitos išlaidų pavadinimas",null,null,null,0]
[null,null,"Kitos išlaidų pavadinimas",null,null,null,0]
["5.7","Įrangos nuomos išlaidos, veiklai priskirtos pro rata principu. Įranga turi būti tiesiogiai susijusi su projekto įgyvendinimu ir negali būti įsigyta iš ES struktūrinių fondų ar kt. ES finansinių priemonių lėšų",null,null,null,null,{"$f":"SUM(G199:G203)","v":0},{"$f":"SUM(H199:H203)","v":0},null,null,"Faktinės 1 mėnesio išlaidos, Eur","Naudojimo projekte trukmė, mėn."]
["5.7.1","Įrangos pavadinimas",null,"pro rata proc.",null,{"$f":"K199*L199","v":0},0,{"$f":"ROUND(G199*$D$7,2)","v":0}]
["5.7.2","Įrangos pavadinimas",null,"pro rata proc.",null,{"$f":"K200*L200","v":0},0,{"$f":"ROUND(G200*$D$7,2)","v":0}]
["5.7.3","Įrangos pavadinimas",null,"pro rata proc.",null,0,0,0]
["5.7.4","Įrangos pavadinimas",null,"pro rata proc.",null,0,0,0]
["5.7.5","Įrangos pavadinimas",null,"pro rata proc.",null,0,0,0]
["5.8","Pastatų ar patalpų nuomos išlaidos, veiklai priskirtos pro rata principu. Pastatai ar patalpos turi būti tiesiogiai susijusi su projekto įgyvendinimu.",null,null,null,null,{"$f":"SUM(G205:G209)","v":0},{"$f":"SUM(H205:H209)","v":0},null,null,"Faktinės 1 mėnesio išlaidos, Eur","Naudojimo projekte trukmė, mėn."]
["5.8.1","Pastato, patalpų adresas",null,"pro rata proc.",null,{"$f":"K205*L205","v":0},{"$f":"ROUND(E205*F205,2)","v":0},{"$f":"ROUND(G205*$D$7,2)","v":0}]
["5.8.2","Pastato, patalpų adresas",null,"pro rata proc.",null,{"$f":"K206*L206","v":0},0,0]
["5.8.3","Pastato, patalpų adresas",null,"pro rata proc.",null,0,0,0]
["5.8.4","Pastato, patalpų adresas",null,"pro rata proc.",null,0,0,0]
["5.8.5","Pastato, patalpų adresas",null,"pro rata proc.",null,0,0,0]
["Iš viso tinkamų finansuoti išlaidų:",null,null,null,null,null,{"$f":"G10+G21","v":0},{"$f":"H10+H21","v":0}]

{"sheet":"20","index":21,"n_rows":210,"n_cols":19,"rows_kept":210,"cut":false,"hidden":false,"merged":[[0,3,0,8],[2,0,2,2],[2,3,2,8],[3,3,3,4],[3,5,3,6],[4,0,4,2],[4,3,4,8],[14,1,14,2],[15,1,15,2],[16,1,16,2],[17,1,17,2],[18,1,18,2],[19,1,19,2],[8,1,8,2],[9,1,9,5],[10,1,10,2],[11,1,11,2],[12,1,12,2],[13,1,13,2],[26,1,26,2],[27,1,27,2],[28,1,28,2],[29,1,29,2],[30,1,30,2],[31,1,31,2],[20,1,20,5],[21,1,21,5],[22,1,22,2],[23,1,23,2],[24,1,24,2],[25,1,25,2],[38,1,38,2],[39,1,39,2],[40,1,40,2],[41,1,41,2],[42,1,42,2],[43,1,43,5],[32,1,32,5],[33,1,33,2],[34,1,34,2],[35,1,35,2],[36,1,36,2],[37,1,37,2],[50,1,50,2],[51,1,51,2],[52,1,52,2],[53,1,53,2],[54,1,54,2],[55,1,55,2],[44,1,44,2],[45,1,45,2],[46,1,46,2],[47,1,47,2],[48,1,48,2],[49,1,49,2],[62,1,62,2],[63,1,63,2],[64,1,64,2],[65,1,65,2],[66,1,66,2],[67,1,67,2],[56,1,56,2],[57,1,57,2],[58,1,58,2],[59,1,59,5],[60,1,60,2],[61,1,61,2],[74,1,74,2],[75,1,75,5],[76,0,80,0],[76,1,80,1],[76,3,80,3],[76,4,80,4],[76,5,80,5],[68,1,68,2],[69,1,69,2],[70,1,70,2],[71,1,71,2],[72,1,72,2],[73,1,73,2],[76,6,80,6],[76,7,80,7],[76,8,80,8],[81,0,85,0],[81,1,85,1],[81,3,85,3],[81,4,85,4],[81,5,85,5],[81,6,85,6],[81,7,85,7],[81,8,85,8],[86,0,90,0],[86,1,90,1],[86,3,90,3],[86,4,90,4],[86,5,90,5],[86,6,90,6],[86,7,90,7],[86,8,90,8],[91,7,95,7],[91,8,95,8],[96,0,100,0],[96,1,100,1],[96,3,100,3],[96,4,100,4],[96,5,100,5],[96,6,100,6],[96,7,100,7],[96,8,100,8],[91,0,95,0],[91,1,95,1],[91,3,95,3],[91,4,95,4],[91,5,95,5],[91,6,95,6],[101,7,105,7],[101,8,105,8],[106,0,110,0],[106,1,110,1],[106,3,110,3],[106,4,110,4],[106,5,110,5],[106,6,110,6],[106,7,110,7],[106,8,110,8],[101,0,105,0],[101,1,105,1],[101,3,105,3],[101,4,105,4],[101,5,105,5],[101,6,105,6],[111,7,115,7],[111,8,115,8],[116,0,120,0],[116,1,120,1],[116,3,120,3],[116,4,120,4],[116,5,120,5],[116,6,120,6],[116,7,120,7],[116,8,120,8],[111,0,115,0],[111,1,115,1],[111,3,115,3],[111,4,115,4],[111,5,115,5],[111,6,115,6],[127,1,133,1],[121,7,125,7],[121,8,125,8],[126,1,126,5],[121,0,125,0],[121,1,125,1],[121,3,125,3],[121,4,125,4],[121,5,125,5],[121,6,125,6],[127,0,133,0],[127,8,133,8],[134,0,140,0],[134,1,140,1],[134,8,140,8],[141,0,147,0],[141,1,147,1],[141,8,147,8],[148,0,154,0],[148,1,154,1],[148,8,154,8],[155,0,161,0],[155,1,161,1],[155,8,161,8],[162,0,168,0],[162,1,168,1],[162,8,168,8],[169,0,175,0],[169,1,175,1],[169,8,175,8],[176,0,182,0],[176,1,182,1],[176,8,182,8],[183,0,189,0],[183,1,189,1],[183,8,189,8],[190,0,196,0],[190,1,196,1],[190,8,196,8],[206,1,206,2],[207,1,207,2],[208,1,208,2],[209,0,209,5],[197,1,197,5],[198,1,198,2],[199,1,199,2],[200,1,200,2],[201,1,201,2],[202,1,202,2],[203,1,203,5],[204,1,204,2],[205,1,205,2]]}
[null,null,"Pasirinkite veiklos tipą:"]
[null,null,"Fizinio rodiklio Nr.:"]
["Fizinio rodiklio pavadinimas:"]
[null,null,"Fizinio rodiklio matavimo vnt.:",null,null,"Fizinio rodiklio vnt. skaičius:"]
["Juridinis asmuo (pareiškėjas, partneris), atsakingas už fizinį rodiklį:"]
[]
[null,null,"Finansavimo intensyvumas:",null,null,null,"Pasirinkite biudžeto išlaidų kategoriją:"]
[]
["Eil. Nr.","Išlaidų kategorijos pavadinimas",null,"Matavimo vnt.","Kiekis","Vieneto kaina be PVM, Eur","Tinkamų finansuoti išlaidų suma be PVM, Eur","Finansavimo suma, Eur","Išlaidų pagrindimo dokumentų pavadinimas, data ir Nr."]
[4,"ĮRANGA, ĮRENGINIAI IR KT. TURTAS (techninių žinių ir išradimų patentų arba teisių pagal licencijų sutartį įsigijimo išlaidos)",null,null,null,null,{"$f":"SUM(G11:G20)","v":0},{"$f":"SUM(H11:H20)","v":0}]
["4.1","Išlaidų pavadinimas",null,null,null,null,{"$f":"ROUND(E11*F11,2)","v":0},{"$f":"ROUND(G11*$D$7,2)","v":0}]
["4.2","Išlaidų pavadinimas",null,null,null,null,0,0]
["4.3","Išlaidų pavadinimas",null,null,null,null,0,0]
["4.4","Išlaidų pavadinimas",null,null,null,null,0,0]
["4.5","Išlaidų pavadinimas",null,null,null,null,0,0]
["4.6","Išlaidų pavadinimas",null,null,null,null,0,0]
["4.7","Išlaidų pavadinimas",null,null,null,null,0,0]
["4.8","Išlaidų pavadinimas",null,null,null,null,0,0]
["4.9","Išlaidų pavadinimas",null,null,null,null,0,0]
["4.10","Išlaidų pavadinimas",null,null,null,null,0,0]
[5,"PROJEKTO VYKDYMAS",null,null,null,null,{"$f":"G22+G33+G44+G60+G76+G127+G198+G204","v":0},{"$f":"H22+H33+H44+H60+H76+H127+H198+H204","v":0}]
["5.1","MTEP paslaugos",null,null,null,null,{"$f":"SUM(G23:G32)","v":0},{"$f":"SUM(H23:H32)","v":0}]
["5.1.1","Paslaugos pavadinimas",null,null,null,null,{"$f":"ROUND(E23*F23,2)","v":0},0]
["5.1.2","Paslaugos pavadinimas",null,null,null,null,0,0]
["5.1.3","Paslaugos pavadinimas",null,null,null,null,0,0]
["5.1.4","Paslaugos pavadinimas",null,null,null,null,0,0]
["5.1.5","Paslaugos pavadinimas",null,null,null,null,0,0]
["5.1.6","Paslaugos pavadinimas",null,null,null,null,0,0]
["5.1.7","Paslaugos pavadinimas",null,null,null,null,0,0]
["5.1.8","Paslaugos pavadinimas",null,null,null,null,0,0]
["5.1.9","Paslaugos pavadinimas",null,null,null,null,0,0]
["5.1.10","Paslaugos pavadinimas",null,null,null,null,0,0]
["5.2","Konsultavimo ir lygiavertės paslaugos, naudojamos vien tik projekto MTEP veiklai",null,null,null,null,{"$f":"SUM(G34:G43)","v":0},{"$f":"SUM(H34:H43)","v":0}]
["5.2.1","Paslaugos pavadinimas",null,null,null,null,{"$f":"ROUND(E34*F34,2)","v":0},0]
["5.2.2","Paslaugos pavadinimas",null,null,null,null,0,0]
["5.2.3","Paslaugos pavadinimas",null,null,null,null,0,0]
["5.2.4","Paslaugos pavadinimas",null,null,null,null,0,0]
["5.2.5","Paslaugos pavadinimas",null,null,null,null,0,0]
["5.2.6","Paslaugos pavadinimas",null,null,null,null,0,0]
["5.2.7","Paslaugos pavadinimas",null,null,null,null,0,0]
["5.2.8","Paslaugos pavadinimas",null,null,null,null,0,0]
["5.2.9","Paslaugos pavadinimas",null,null,null,null,0,0]
["5.2.10","Paslaugos pavadinimas",null,null,null,null,0,0]
["5.3","Medžiagos, mažavertis inventorius, atsargos ir pan. produktai, priskirtini trumpalaikiam turtui ir tiesiogiai susiję su MTEP veikla",null,null,null,null,{"$f":"SUM(G45:G59)","v":0},{"$f":"SUM(H45:H59)","v":0}]
["5.3.1","Išlaidų pavadinimas",null,null,null,null,{"$f":"ROUND(E45*F45,2)","v":0},{"$f":"ROUND(G45*$D$7,2)","v":0}]
["5.3.2","Išlaidų pavadinimas",null,null,null,null,0,0]
["5.3.3","Išlaidų pavadinimas",null,null,null,null,0,0]
["5.3.4","Išlaidų pavadinimas",null,null,null,null,0,0]
["5.3.5","Išlaidų pavadinimas",null,null,null,null,0,0]
["5.3.6","Išlaidų pavadinimas",null,null,null,null,0,0]
["5.3.7","Išlaidų pavadinimas",null,null,null,null,0,0]
["5.3.8","Išlaidų pavadinimas",null,null,null,null,0,0]
["5.3.9","Išlaidų pavadinimas",null,null,null,null,0,0]
["5.3.10","Išlaidų pavadinimas",null,null,null,null,0,0]
["5.3.11","Išlaidų pavadinimas",null,null,null,null,0,0]
["5.3.12","Išlaidų pavadinimas",null,null,null,null,0,0]
["5.3.13","Išlaidų pavadinimas",null,null,null,null,0,0]
["5.3.14","Išlaidų pavadinimas",null,null,null,null,0,0]
["5.3.15","Išlaidų pavadinimas",null,null,null,null,0,0]
["5.4","Projekto MTEP veikloms naudojamo ilgalaikio materialaus turto (įrangos, prietaisų, įrankių, įrenginių, mašinų ir įrengimų, pastatų ir (ar) patalpų), nusidėvėjimo sąnaudos, jeigu šiam turtui įsigyti nebuvo naudojamos viešosios (įskaitant ir kitų valstybių) lėšos",null,null,null,null,{"$f":"SUM(G61:G75)","v":0},{"$f":"SUM(H61:H75)","v":0},null,null,"Turto įvedimo į eksploataciją data","Turto įsigijimo vertė, Eur","Turto nudėvėjimo, amortizacijos laikotarpis, mėn.","Numatoma turto likutinė vertė, Eur","1 mėn. nudėvėjimo, amortizacijos suma, Eur","Turto naudojamo projekto reikmėms laikas, mėn.","Turto panaudojimo projekto reikmėms dalis (proc.)","Projektui priskirta turto nusidėvėjimo, amortizacijos suma per projekto laikotarpį, Eur"]
["5.4.1","Turtas, kurio nusidėvėjimą, amortizaciją prašoma finansuoti",null,null,1,{"$f":"R61","v":0},{"$f":"ROUND(E61*F61,2)","v":0},0,null,null,null,null,null,null,{"$f":"IFERROR(ROUND((L61-N61)/M61,2),\"0\")","v":"0"},null,null,{"$f":"O61*P61*Q61","v":0},{"$f":"IF(K61=0,\" \",IF(K61+(M61*30.5)<TODAY(),\"DĖMESIO! Patikrinkite, ar nurodytas turtas dar nėra nudėvėtas, amortizuotas\",\" \"))","v":" "}]
["5.4.2","Turtas, kurio nusidėvėjimą, amortizaciją prašoma finansuoti",null,null,1,{"$f":"R62","v":0},0,0,null,null,null,null,null,null,{"$f":"IFERROR(ROUND((L62-N62)/M62,2),\"0\")","v":"0"},null,null,{"$f":"O62*P62*Q62","v":0},{"$f":"IF(K62=0,\" \",IF(K62+(M62*30.5)<TODAY(),\"DĖMESIO! Patikrinkite, ar nurodytas turtas dar nėra nudėvėtas, amortizuotas\",\" \"))","v":" "}]
["5.4.3","Turtas, kurio nusidėvėjimą, amortizaciją prašoma finansuoti",null,null,1,0,0,0,null,null,null,null,null,null,"0",null,null,0," "]
["5.4.4","Turtas, kurio nusidėvėjimą, amortizaciją prašoma finansuoti",null,null,1,0,0,0,null,null,null,null,null,null,"0",null,null,0," "]
["5.4.5","Turtas, kurio nusidėvėjimą, amortizaciją prašoma finansuoti",null,null,1,0,0,0,null,null,null,null,null,null,"0",null,null,0," "]
["5.4.6","Turtas, kurio nusidėvėjimą, amortizaciją prašoma finansuoti",null,null,1,0,0,0,null,null,null,null,null,null,"0",null,null,0," "]
["5.4.7","Turtas, kurio nusidėvėjimą, amortizaciją prašoma finansuoti",null,null,1,0,0,0,null,null,null,null,null,null,"0",null,null,0," "]
["5.4.8","Turtas, kurio nusidėvėjimą, amortizaciją prašoma finansuoti",null,null,1,0,0,0,null,null,null,null,null,null,"0",null,null,0," "]
["5.4.9","Turtas, kurio nusidėvėjimą, amortizaciją prašoma finansuoti",null,null,1,0,0,0,null,null,null,null,null,null,"0",null,null,0," "]
["5.4.10","Turtas, kurio nusidėvėjimą, amortizaciją prašoma finansuoti",null,null,1,0,0,0,null,null,null,null,null,null,"0",null,null,0," "]
["5.4.11","Turtas, kurio nusidėvėjimą, amortizaciją prašoma finansuoti",null,null,1,0,0,0,null,null,null,null,null,null,"0",null,null,0," "]
["5.4.12","Turtas, kurio nusidėvėjimą, amortizaciją prašoma finansuoti",null,null,1,0,0,0,null,null,null,null,null,null,"0",null,null,0," "]
["5.4.13","Turtas, kurio nusidėvėjimą, amortizaciją prašoma finansuoti",null,null,1,0,0,0,null,null,null,null,null,null,"0",null,null,0," "]
["5.4.14","Turtas, kurio nusidėvėjimą, amortizaciją prašoma finansuoti",null,null,1,0,0,0,null,null,null,null,null,null,"0",null,null,0," "]
["5.4.15","Turtas, kurio nusidėvėjimą, amortizaciją prašoma finansuoti",null,null,1,0,0,0,null,null,null,null,null,null,"0",null,null,0," "]
["5.5","Projektą vykdančio personalo darbo užmokestis ir išlaidos su darbo santykiais susijusiems darbdavio įsipareigojimams",null,null,null,null,{"$f":"SUM(G77:G126)","v":0},{"$f":"SUM(H77:H126)","v":0},null,null,"Faktiškai gaunamas darbo užmokesti už 1 valandą pagal  pastarųjų 6 mėn. vidurkį, Eur"]
["5.5.1","Pareigybės pavadinimas","Darbuotojo vardas pavardė","val.",null,{"$f":"IFERROR(ROUND(AVERAGE(K77:K81),2),\"0\")","v":"0"},{"$f":"ROUND(E77*F77,2)","v":0},{"$f":"ROUND(G77*$D$7,2)","v":0}]
[null,null,"Darbuotojo vardas pavardė"]
[null,null,"Darbuotojo vardas pavardė"]
[null,null,"Darbuotojo vardas pavardė"]
[null,null,"Darbuotojo vardas pavardė"]
["5.5.2","Pareigybės pavadinimas","Darbuotojo vardas pavardė","val.",null,{"$f":"IFERROR(ROUND(AVERAGE(K82:K86),2),\"0\")","v":"0"},{"$f":"ROUND(E82*F82,2)","v":0},{"$f":"ROUND(G82*$D$7,2)","v":0}]
[null,null,"Darbuotojo vardas pavardė"]
[null,null,"Darbuotojo vardas pavardė"]
[null,null,"Darbuotojo vardas pavardė"]
[null,null,"Darbuotojo vardas pavardė"]
["5.5.3","Pareigybės pavadinimas","Darbuotojo vardas pavardė","val.",null,{"$f":"IFERROR(ROUND(AVERAGE(K87:K91),2),\"0\")","v":"0"},{"$f":"ROUND(E87*F87,2)","v":0},{"$f":"ROUND(G87*$D$7,2)","v":0}]
[null,null,"Darbuotojo vardas pavardė"]
[null,null,"Darbuotojo vardas pavardė"]
[null,null,"Darbuotojo vardas pavardė"]
[null,null,"Darbuotojo vardas pavardė"]
["5.5.4","Pareigybės pavadinimas","Darbuotojo vardas pavardė","val.",null,{"$f":"IFERROR(ROUND(AVERAGE(K92:K96),2),\"0\")","v":"0"},{"$f":"ROUND(E92*F92,2)","v":0},{"$f":"ROUND(G92*$D$7,2)","v":0}]
[null,null,"Darbuotojo vardas pavardė"]
[null,null,"Darbuotojo vardas pavardė"]
[null,null,"Darbuotojo vardas pavardė"]
[null,null,"Darbuotojo vardas pavardė"]
["5.5.5","Pareigybės pavadinimas","Darbuotojo vardas pavardė","val.",null,{"$f":"IFERROR(ROUND(AVERAGE(K97:K101),2),\"0\")","v":"0"},{"$f":"ROUND(E97*F97,2)","v":0},{"$f":"ROUND(G97*$D$7,2)","v":0}]
[null,null,"Darbuotojo vardas pavardė"]
[null,null,"Darbuotojo vardas pavardė"]
[null,null,"Darbuotojo vardas pavardė"]
[null,null,"Darbuotojo vardas pavardė"]
["5.5.6","Pareigybės pavadinimas","Darbuotojo vardas pavardė","val.",null,{"$f":"IFERROR(ROUND(AVERAGE(K102:K106),2),\"0\")","v":"0"},{"$f":"ROUND(E102*F102,2)","v":0},{"$f":"ROUND(G102*$D$7,2)","v":0}]
[null,null,"Darbuotojo vardas pavardė"]
[null,null,"Darbuotojo vardas pavardė"]
[null,null,"Darbuotojo vardas pavardė"]
[null,null,"Darbuotojo vardas pavardė"]
["5.5.7","Pareigybės pavadinimas","Darbuotojo vardas pavardė","val.",null,{"$f":"IFERROR(ROUND(AVERAGE(K107:K111),2),\"0\")","v":"0"},{"$f":"ROUND(E107*F107,2)","v":0},{"$f":"ROUND(G107*$D$7,2)","v":0}]
[null,null,"Darbuotojo vardas pavardė"]
[null,null,"Darbuotojo vardas pavardė"]
[null,null,"Darbuotojo vardas pavardė"]
[null,null,"Darbuotojo vardas pavardė"]
["5.5.8","Pareigybės pavadinimas","Darbuotojo vardas pavardė","val.",null,{"$f":"IFERROR(ROUND(AVERAGE(K112:K116),2),\"0\")","v":"0"},{"$f":"ROUND(E112*F112,2)","v":0},{"$f":"ROUND(G112*$D$7,2)","v":0}]
[null,null,"Darbuotojo vardas pavardė"]
[null,null,"Darbuotojo vardas pavardė"]
[null,null,"Darbuotojo vardas pavardė"]
[null,null,"Darbuotojo vardas pavardė"]
["5.5.9","Pareigybės pavadinimas","Darbuotojo vardas pavardė","val.",null,{"$f":"IFERROR(ROUND(AVERAGE(K117:K121),2),\"0\")","v":"0"},{"$f":"ROUND(E117*F117,2)","v":0},{"$f":"ROUND(G117*$D$7,2)","v":0}]
[null,null,"Darbuotojo vardas pavardė"]
[null,null,"Darbuotojo vardas pavardė"]
[null,null,"Darbuotojo vardas pavardė"]
[null,null,"Darbuotojo vardas pavardė"]
["5.5.10","Pareigybės pavadinimas","Darbuotojo vardas pavardė","val.",null,{"$f":"IFERROR(ROUND(AVERAGE(K122:K126),2),\"0\")","v":"0"},{"$f":"ROUND(E122*F122,2)","v":0},{"$f":"ROUND(G122*$D$7,2)","v":0}]
[null,null,"Darbuotojo vardas pavardė"]
[null,null,"Darbuotojo vardas pavardė"]
[null,null,"Darbuotojo vardas pavardė"]
[null,null,"Darbuotojo vardas pavardė"]
["5.6","Projektą vykdančio personalo komandiruočių išlaidos",null,null,null,null,{"$f":"SUM(G128,G135,G142,G149,G156,G163,G170,G177,G184,G191)","v":0},{"$f":"SUM(H128,H135,H142,H149,H156,H163,H170,H177,H184,H191)","v":0}]
["5.6.1","Komandiruotės pavadinimas, vieta, trukmė dienomis, vykstančių asmenų skaičius","Iš viso komandiruotei",null,null,null,{"$f":"SUM(G129:G134)","v":0},{"$f":"ROUND(G128*$D$7,2)","v":0}]
[null,null,"Dienpinigiai",null,null,null,{"$f":"ROUND(E129*F129,2)","v":0}]
[null,null,"Gyvenamojo ploto nuoma",null,null,null,0]
[null,null,"Kelionės išlaidos",null,null,null,0]
[null,null,"Dalyvavimo mokestis",null,null,null,0]
[null,null,"Kitos išlaidų pavadinimas",null,null,null,0]
[null,null,"Kitos išlaidų pavadinimas",null,null,null,0]
["5.6.2","Komandiruotės pavadinimas, vieta, trukmė dienomis, vykstančių asmenų skaičius","Iš viso komandiruotei",null,null,null,{"$f":"SUM(G136:G141)","v":0},{"$f":"ROUND(G135*$D$7,2)","v":0}]
[null,null,"Dienpinigiai",null,null,null,{"$f":"ROUND(E136*F136,2)","v":0}]
[null,null,"Gyvenamojo ploto nuoma",null,null,null,0]
[null,null,"Kelionės išlaidos",null,null,null,0]
[null,null,"Dalyvavimo mokestis",null,null,null,0]
[null,null,"Kitos išlaidų pavadinimas",null,null,null,0]
[null,null,"Kitos išlaidų pavadinimas",null,null,null,0]
["5.6.3","Komandiruotės pavadinimas, vieta, trukmė dienomis, vykstančių asmenų skaičius","Iš viso komandiruotei",null,null,null,{"$f":"SUM(G143:G148)","v":0},{"$f":"ROUND(G142*$D$7,2)","v":0}]
[null,null,"Dienpinigiai",null,null,null,{"$f":"ROUND(E143*F143,2)","v":0}]
[null,null,"Gyvenamojo ploto nuoma",null,null,null,0]
[null,null,"Kelionės išlaidos",null,null,null,0]
[null,null,"Dalyvavimo mokestis",null,null,null,0]
[null,null,"Kitos išlaidų pavadinimas",null,null,null,0]
[null,null,"Kitos išlaidų pavadinimas",null,null,null,0]
["5.6.4","Komandiruotės pavadinimas, vieta, trukmė dienomis, vykstančių asmenų skaičius","Iš viso komandiruotei",null,null,null,{"$f":"SUM(G150:G155)","v":0},{"$f":"ROUND(G149*$D$7,2)","v":0}]
[null,null,"Dienpinigiai",null,null,null,{"$f":"ROUND(E150*F150,2)","v":0}]
[null,null,"Gyvenamojo ploto nuoma",null,null,null,0]
[null,null,"Kelionės išlaidos",null,null,null,0]
[null,null,"Dalyvavimo mokestis",null,null,null,0]
[null,null,"Kitos išlaidų pavadinimas",null,null,null,0]
[null,null,"Kitos išlaidų pavadinimas",null,null,null,0]
["5.6.5","Komandiruotės pavadinimas, vieta, trukmė dienomis, vykstančių asmenų skaičius","Iš viso komandiruotei",null,null,null,{"$f":"SUM(G157:G162)","v":0},{"$f":"ROUND(G156*$D$7,2)","v":0}]
[null,null,"Dienpinigiai",null,null,null,{"$f":"ROUND(E157*F157,2)","v":0}]
[null,null,"Gyvenamojo ploto nuoma",null,null,null,0]
[null,null,"Kelionės išlaidos",null,null,null,0]
[null,null,"Dalyvavimo mokestis",null,null,null,0]
[null,null,"Kitos išlaidų pavadinimas",null,null,null,0]
[null,null,"Kitos išlaidų pavadinimas",null,null,null,0]
["5.6.6","Komandiruotės pavadinimas, vieta, trukmė dienomis, vykstančių asmenų skaičius","Iš viso komandiruotei",null,null,null,{"$f":"SUM(G164:G169)","v":0},{"$f":"ROUND(G163*$D$7,2)","v":0}]
[null,null,"Dienpinigiai",null,null,null,{"$f":"ROUND(E164*F164,2)","v":0}]
[null,null,"Gyvenamojo ploto nuoma",null,null,null,0]
[null,null,"Kelionės išlaidos",null,null,null,0]
[null,null,"Dalyvavimo mokestis",null,null,null,0]
[null,null,"Kitos išlaidų pavadinimas",null,null,null,0]
[null,null,"Kitos išlaidų pavadinimas",null,null,null,0]
["5.6.7","Komandiruotės pavadinimas, vieta, trukmė dienomis, vykstančių asmenų skaičius","Iš viso komandiruotei",null,null,null,{"$f":"SUM(G171:G176)","v":0},{"$f":"ROUND(G170*$D$7,2)","v":0}]
[null,null,"Dienpinigiai",null,null,null,{"$f":"ROUND(E171*F171,2)","v":0}]
[null,null,"Gyvenamojo ploto nuoma",null,null,null,0]
[null,null,"Kelionės išlaidos",null,null,null,0]
[null,null,"Dalyvavimo mokestis",null,null,null,0]
[null,null,"Kitos išlaidų pavadinimas",null,null,null,0]
[null,null,"Kitos išlaidų pavadinimas",null,null,null,0]
["5.6.8","Komandiruotės pavadinimas, vieta, trukmė dienomis, vykstančių asmenų skaičius","Iš viso komandiruotei",null,null,null,{"$f":"SUM(G178:G183)","v":0},{"$f":"ROUND(G177*$D$7,2)","v":0}]
[null,null,"Dienpinigiai",null,null,null,{"$f":"ROUND(E178*F178,2)","v":0}]
[null,null,"Gyvenamojo ploto nuoma",null,null,null,0]
[null,null,"Kelionės išlaidos",null,null,null,0]
[null,null,"Dalyvavimo mokestis",null,null,null,0]
[null,null,"Kitos išlaidų pavadinimas",null,null,null,0]
[null,null,"Kitos išlaidų pavadinimas",null,null,null,0]
["5.6.9","Komandiruotės pavadinimas, vieta, trukmė dienomis, vykstančių asmenų skaičius","Iš viso komandiruotei",null,null,null,{"$f":"SUM(G185:G190)","v":0},{"$f":"ROUND(G184*$D$7,2)","v":0}]
[null,null,"Dienpinigiai",null,null,null,{"$f":"ROUND(E185*F185,2)","v":0}]
[null,null,"Gyvenamojo ploto nuoma",null,null,null,0]
[null,null,"Kelionės išlaidos",null,null,null,0]
[null,null,"Dalyvavimo mokestis",null,null,null,0]
[null,null,"Kitos išlaidų pavadinimas",null,null,null,0]
[null,null,"Kitos išlaidų pavadinimas",null,null,null,0]
["5.6.10","Komandiruotės pavadinimas, vieta, trukmė dienomis, vykstančių asmenų skaičius","Iš viso komandiruotei",null,null,null,{"$f":"SUM(G192:G197)","v":0},{"$f":"ROUND(G191*$D$7,2)","v":0}]
[null,null,"Dienpinigiai",null,null,null,{"$f":"ROUND(E192*F192,2)","v":0}]
[null,null,"Gyvenamojo ploto nuoma",null,null,null,0]
[null,null,"Kelionės išlaidos",null,null,null,0]
[null,null,"Dalyvavimo mokestis",null,null,null,0]
[null,null,"Kitos išlaidų pavadinimas",null,null,null,0]
[null,null,"Kitos išlaidų pavadinimas",null,null,null,0]
["5.7","Įrangos nuomos išlaidos, veiklai priskirtos pro rata principu. Įranga turi būti tiesiogiai susijusi su projekto įgyvendinimu ir negali būti įsigyta iš ES struktūrinių fondų ar kt. ES finansinių priemonių lėšų",null,null,null,null,{"$f":"SUM(G199:G203)","v":0},{"$f":"SUM(H199:H203)","v":0},null,null,"Faktinės 1 mėnesio išlaidos, Eur","Naudojimo projekte trukmė, mėn."]
["5.7.1","Įrangos pavadinimas",null,"pro rata proc.",null,{"$f":"K199*L199","v":0},0,{"$f":"ROUND(G199*$D$7,2)","v":0}]
["5.7.2","Įrangos pavadinimas",null,"pro rata proc.",null,{"$f":"K200*L200","v":0},0,{"$f":"ROUND(G200*$D$7,2)","v":0}]
["5.7.3","Įrangos pavadinimas",null,"pro rata proc.",null,0,0,0]
["5.7.4","Įrangos pavadinimas",null,"pro rata proc.",null,0,0,0]
["5.7.5","Įrangos pavadinimas",null,"pro rata proc.",null,0,0,0]
["5.8","Pastatų ar patalpų nuomos išlaidos, veiklai priskirtos pro rata principu. Pastatai ar patalpos turi būti tiesiogiai susijusi su projekto įgyvendinimu.",null,null,null,null,{"$f":"SUM(G205:G209)","v":0},{"$f":"SUM(H205:H209)","v":0},null,null,"Faktinės 1 mėnesio išlaidos, Eur","Naudojimo projekte trukmė, mėn."]
["5.8.1","Pastato, patalpų adresas",null,"pro rata proc.",null,{"$f":"K205*L205","v":0},{"$f":"ROUND(E205*F205,2)","v":0},{"$f":"ROUND(G205*$D$7,2)","v":0}]
["5.8.2","Pastato, patalpų adresas",null,"pro rata proc.",null,{"$f":"K206*L206","v":0},0,0]
["5.8.3","Pastato, patalpų adresas",null,"pro rata proc.",null,0,0,0]
["5.8.4","Pastato, patalpų adresas",null,"pro rata proc.",null,0,0,0]
["5.8.5","Pastato, patalpų adresas",null,"pro rata proc.",null,0,0,0]
["Iš viso tinkamų finansuoti išlaidų:",null,null,null,null,null,{"$f":"G10+G21","v":0},{"$f":"H10+H21","v":0}]

{"sheet":"21","index":22,"n_rows":210,"n_cols":19,"rows_kept":210,"cut":false,"hidden":false,"merged":[[0,3,0,8],[2,0,2,2],[2,3,2,8],[3,3,3,4],[3,5,3,6],[4,0,4,2],[4,3,4,8],[14,1,14,2],[15,1,15,2],[16,1,16,2],[17,1,17,2],[18,1,18,2],[19,1,19,2],[8,1,8,2],[9,1,9,5],[10,1,10,2],[11,1,11,2],[12,1,12,2],[13,1,13,2],[26,1,26,2],[27,1,27,2],[28,1,28,2],[29,1,29,2],[30,1,30,2],[31,1,31,2],[20,1,20,5],[21,1,21,5],[22,1,22,2],[23,1,23,2],[24,1,24,2],[25,1,25,2],[38,1,38,2],[39,1,39,2],[40,1,40,2],[41,1,41,2],[42,1,42,2],[43,1,43,5],[32,1,32,5],[33,1,33,2],[34,1,34,2],[35,1,35,2],[36,1,36,2],[37,1,37,2],[50,1,50,2],[51,1,51,2],[52,1,52,2],[53,1,53,2],[54,1,54,2],[55,1,55,2],[44,1,44,2],[45,1,45,2],[46,1,46,2],[47,1,47,2],[48,1,48,2],[49,1,49,2],[62,1,62,2],[63,1,63,2],[64,1,64,2],[65,1,65,2],[66,1,66,2],[67,1,67,2],[56,1,56,2],[57,1,57,2],[58,1,58,2],[59,1,59,5],[60,1,60,2],[61,1,61,2],[74,1,74,2],[75,1,75,5],[76,0,80,0],[76,1,80,1],[76,3,80,3],[76,4,80,4],[76,5,80,5],[68,1,68,2],[69,1,69,2],[70,1,70,2],[71,1,71,2],[72,1,72,2],[73,1,73,2],[76,6,80,6],[76,7,80,7],[76,8,80,8],[81,0,85,0],[81,1,85,1],[81,3,85,3],[81,4,85,4],[81,5,85,5],[81,6,85,6],[81,7,85,7],[81,8,85,8],[86,0,90,0],[86,1,90,1],[86,3,90,3],[86,4,90,4],[86,5,90,5],[86,6,90,6],[86,7,90,7],[86,8,90,8],[91,7,95,7],[91,8,95,8],[96,0,100,0],[96,1,100,1],[96,3,100,3],[96,4,100,4],[96,5,100,5],[96,6,100,6],[96,7,100,7],[96,8,100,8],[91,0,95,0],[91,1,95,1],[91,3,95,3],[91,4,95,4],[91,5,95,5],[91,6,95,6],[101,7,105,7],[101,8,105,8],[106,0,110,0],[106,1,110,1],[106,3,110,3],[106,4,110,4],[106,5,110,5],[106,6,110,6],[106,7,110,7],[106,8,110,8],[101,0,105,0],[101,1,105,1],[101,3,105,3],[101,4,105,4],[101,5,105,5],[101,6,105,6],[111,7,115,7],[111,8,115,8],[116,0,120,0],[116,1,120,1],[116,3,120,3],[116,4,120,4],[116,5,120,5],[116,6,120,6],[116,7,120,7],[116,8,120,8],[111,0,115,0],[111,1,115,1],[111,3,115,3],[111,4,115,4],[111,5,115,5],[111,6,115,6],[127,1,133,1],[121,7,125,7],[121,8,125,8],[126,1,126,5],[121,0,125,0],[121,1,125,1],[121,3,125,3],[121,4,125,4],[121,5,125,5],[121,6,125,6],[127,0,133,0],[127,8,133,8],[134,0,140,0],[134,1,140,1],[134,8,140,8],[141,0,147,0],[141,1,147,1],[141,8,147,8],[148,0,154,0],[148,1,154,1],[148,8,154,8],[155,0,161,0],[155,1,161,1],[155,8,161,8],[162,0,168,0],[162,1,168,1],[162,8,168,8],[169,0,175,0],[169,1,175,1],[169,8,175,8],[176,0,182,0],[176,1,182,1],[176,8,182,8],[183,0,189,0],[183,1,189,1],[183,8,189,8],[190,0,196,0],[190,1,196,1],[190,8,196,8],[206,1,206,2],[207,1,207,2],[208,1,208,2],[209,0,209,5],[197,1,197,5],[198,1,198,2],[199,1,199,2],[200,1,200,2],[201,1,201,2],[202,1,202,2],[203,1,203,5],[204,1,204,2],[205,1,205,2]]}
[null,null,"Pasirinkite veiklos tipą:"]
[null,null,"Fizinio rodiklio Nr.:"]
["Fizinio rodiklio pavadinimas:"]
[null,null,"Fizinio rodiklio matavimo vnt.:",null,null,"Fizinio rodiklio vnt. skaičius:"]
["Juridinis asmuo (pareiškėjas, partneris), atsakingas už fizinį rodiklį:"]
[]
[null,null,"Finansavimo intensyvumas:",null,null,null,"Pasirinkite biudžeto išlaidų kategoriją:"]
[]
["Eil. Nr.","Išlaidų kategorijos pavadinimas",null,"Matavimo vnt.","Kiekis","Vieneto kaina be PVM, Eur","Tinkamų finansuoti išlaidų suma be PVM, Eur","Finansavimo suma, Eur","Išlaidų pagrindimo dokumentų pavadinimas, data ir Nr."]
[4,"ĮRANGA, ĮRENGINIAI IR KT. TURTAS (techninių žinių ir išradimų patentų arba teisių pagal licencijų sutartį įsigijimo išlaidos)",null,null,null,null,{"$f":"SUM(G11:G20)","v":0},{"$f":"SUM(H11:H20)","v":0}]
["4.1","Išlaidų pavadinimas",null,null,null,null,{"$f":"ROUND(E11*F11,2)","v":0},{"$f":"ROUND(G11*$D$7,2)","v":0}]
["4.2","Išlaidų pavadinimas",null,null,null,null,0,0]
["4.3","Išlaidų pavadinimas",null,null,null,null,0,0]
["4.4","Išlaidų pavadinimas",null,null,null,null,0,0]
["4.5","Išlaidų pavadinimas",null,null,null,null,0,0]
["4.6","Išlaidų pavadinimas",null,null,null,null,0,0]
["4.7","Išlaidų pavadinimas",null,null,null,null,0,0]
["4.8","Išlaidų pavadinimas",null,null,null,null,0,0]
["4.9","Išlaidų pavadinimas",null,null,null,null,0,0]
["4.10","Išlaidų pavadinimas",null,null,null,null,0,0]
[5,"PROJEKTO VYKDYMAS",null,null,null,null,{"$f":"G22+G33+G44+G60+G76+G127+G198+G204","v":0},{"$f":"H22+H33+H44+H60+H76+H127+H198+H204","v":0}]
["5.1","MTEP paslaugos",null,null,null,null,{"$f":"SUM(G23:G32)","v":0},{"$f":"SUM(H23:H32)","v":0}]
["5.1.1","Paslaugos pavadinimas",null,null,null,null,{"$f":"ROUND(E23*F23,2)","v":0},0]
["5.1.2","Paslaugos pavadinimas",null,null,null,null,0,0]
["5.1.3","Paslaugos pavadinimas",null,null,null,null,0,0]
["5.1.4","Paslaugos pavadinimas",null,null,null,null,0,0]
["5.1.5","Paslaugos pavadinimas",null,null,null,null,0,0]
["5.1.6","Paslaugos pavadinimas",null,null,null,null,0,0]
["5.1.7","Paslaugos pavadinimas",null,null,null,null,0,0]
["5.1.8","Paslaugos pavadinimas",null,null,null,null,0,0]
["5.1.9","Paslaugos pavadinimas",null,null,null,null,0,0]
["5.1.10","Paslaugos pavadinimas",null,null,null,null,0,0]
["5.2","Konsultavimo ir lygiavertės paslaugos, naudojamos vien tik projekto MTEP veiklai",null,null,null,null,{"$f":"SUM(G34:G43)","v":0},{"$f":"SUM(H34:H43)","v":0}]
["5.2.1","Paslaugos pavadinimas",null,null,null,null,{"$f":"ROUND(E34*F34,2)","v":0},0]
["5.2.2","Paslaugos pavadinimas",null,null,null,null,0,0]
["5.2.3","Paslaugos pavadinimas",null,null,null,null,0,0]
["5.2.4","Paslaugos pavadinimas",null,null,null,null,0,0]
["5.2.5","Paslaugos pavadinimas",null,null,null,null,0,0]
["5.2.6","Paslaugos pavadinimas",null,null,null,null,0,0]
["5.2.7","Paslaugos pavadinimas",null,null,null,null,0,0]
["5.2.8","Paslaugos pavadinimas",null,null,null,null,0,0]
["5.2.9","Paslaugos pavadinimas",null,null,null,null,0,0]
["5.2.10","Paslaugos pavadinimas",null,null,null,null,0,0]
["5.3","Medžiagos, mažavertis inventorius, atsargos ir pan. produktai, priskirtini trumpalaikiam turtui ir tiesiogiai susiję su MTEP veikla",null,null,null,null,{"$f":"SUM(G45:G59)","v":0},{"$f":"SUM(H45:H59)","v":0}]
["5.3.1","Išlaidų pavadinimas",null,null,null,null,{"$f":"ROUND(E45*F45,2)","v":0},{"$f":"ROUND(G45*$D$7,2)","v":0}]
["5.3.2","Išlaidų pavadinimas",null,null,null,null,0,0]
["5.3.3","Išlaidų pavadinimas",null,null,null,null,0,0]
["5.3.4","Išlaidų pavadinimas",null,null,null,null,0,0]
["5.3.5","Išlaidų pavadinimas",null,null,null,null,0,0]
["5.3.6","Išlaidų pavadinimas",null,null,null,null,0,0]
["5.3.7","Išlaidų pavadinimas",null,null,null,null,0,0]
["5.3.8","Išlaidų pavadinimas",null,null,null,null,0,0]
["5.3.9","Išlaidų pavadinimas",null,null,null,null,0,0]
["5.3.10","Išlaidų pavadinimas",null,null,null,null,0,0]
["5.3.11","Išlaidų pavadinimas",null,null,null,null,0,0]
["5.3.12","Išlaidų pavadinimas",null,null,null,null,0,0]
["5.3.13","Išlaidų pavadinimas",null,null,null,null,0,0]
["5.3.14","Išlaidų pavadinimas",null,null,null,null,0,0]
["5.3.15","Išlaidų pavadinimas",null,null,null,null,0,0]
["5.4","Projekto MTEP veikloms naudojamo ilgalaikio materialaus turto (įrangos, prietaisų, įrankių, įrenginių, mašinų ir įrengimų, pastatų ir (ar) patalpų), nusidėvėjimo sąnaudos, jeigu šiam turtui įsigyti nebuvo naudojamos viešosios (įskaitant ir kitų valstybių) lėšos",null,null,null,null,{"$f":"SUM(G61:G75)","v":0},{"$f":"SUM(H61:H75)","v":0},null,null,"Turto įvedimo į eksploataciją data","Turto įsigijimo vertė, Eur","Turto nudėvėjimo, amortizacijos laikotarpis, mėn.","Numatoma turto likutinė vertė, Eur","1 mėn. nudėvėjimo, amortizacijos suma, Eur","Turto naudojamo projekto reikmėms laikas, mėn.","Turto panaudojimo projekto reikmėms dalis (proc.)","Projektui priskirta turto nusidėvėjimo, amortizacijos suma per projekto laikotarpį, Eur"]
["5.4.1","Turtas, kurio nusidėvėjimą, amortizaciją prašoma finansuoti",null,null,1,{"$f":"R61","v":0},{"$f":"ROUND(E61*F61,2)","v":0},0,null,null,null,null,null,null,{"$f":"IFERROR(ROUND((L61-N61)/M61,2),\"0\")","v":"0"},null,null,{"$f":"O61*P61*Q61","v":0},{"$f":"IF(K61=0,\" \",IF(K61+(M61*30.5)<TODAY(),\"DĖMESIO! Patikrinkite, ar nurodytas turtas dar nėra nudėvėtas, amortizuotas\",\" \"))","v":" "}]
["5.4.2","Turtas, kurio nusidėvėjimą, amortizaciją prašoma finansuoti",null,null,1,{"$f":"R62","v":0},0,0,null,null,null,null,null,null,{"$f":"IFERROR(ROUND((L62-N62)/M62,2),\"0\")","v":"0"},null,null,{"$f":"O62*P62*Q62","v":0},{"$f":"IF(K62=0,\" \",IF(K62+(M62*30.5)<TODAY(),\"DĖMESIO! Patikrinkite, ar nurodytas turtas dar nėra nudėvėtas, amortizuotas\",\" \"))","v":" "}]
["5.4.3","Turtas, kurio nusidėvėjimą, amortizaciją prašoma finansuoti",null,null,1,0,0,0,null,null,null,null,null,null,"0",null,null,0," "]
["5.4.4","Turtas, kurio nusidėvėjimą, amortizaciją prašoma finansuoti",null,null,1,0,0,0,null,null,null,null,null,null,"0",null,null,0," "]
["5.4.5","Turtas, kurio nusidėvėjimą, amortizaciją prašoma finansuoti",null,null,1,0,0,0,null,null,null,null,null,null,"0",null,null,0," "]
["5.4.6","Turtas, kurio nusidėvėjimą, amortizaciją prašoma finansuoti",null,null,1,0,0,0,null,null,null,null,null,null,"0",null,null,0," "]
["5.4.7","Turtas, kurio nusidėvėjimą, amortizaciją prašoma finansuoti",null,null,1,0,0,0,null,null,null,null,null,null,"0",null,null,0," "]
["5.4.8","Turtas, kurio nusidėvėjimą, amortizaciją prašoma finansuoti",null,null,1,0,0,0,null,null,null,null,null,null,"0",null,null,0," "]
["5.4.9","Turtas, kurio nusidėvėjimą, amortizaciją prašoma finansuoti",null,null,1,0,0,0,null,null,null,null,null,null,"0",null,null,0," "]
["5.4.10","Turtas, kurio nusidėvėjimą, amortizaciją prašoma finansuoti",null,null,1,0,0,0,null,null,null,null,null,null,"0",null,null,0," "]
["5.4.11","Turtas, kurio nusidėvėjimą, amortizaciją prašoma finansuoti",null,null,1,0,0,0,null,null,null,null,null,null,"0",null,null,0," "]
["5.4.12","Turtas, kurio nusidėvėjimą, amortizaciją prašoma finansuoti",null,null,1,0,0,0,null,null,null,null,null,null,"0",null,null,0," "]
["5.4.13","Turtas, kurio nusidėvėjimą, amortizaciją prašoma finansuoti",null,null,1,0,0,0,null,null,null,null,null,null,"0",null,null,0," "]
["5.4.14","Turtas, kurio nusidėvėjimą, amortizaciją prašoma finansuoti",null,null,1,0,0,0,null,null,null,null,null,null,"0",null,null,0," "]
["5.4.15","Turtas, kurio nusidėvėjimą, amortizaciją prašoma finansuoti",null,null,1,0,0,0,null,null,null,null,null,null,"0",null,null,0," "]
["5.5","Projektą vykdančio personalo darbo užmokestis ir išlaidos su darbo santykiais susijusiems darbdavio įsipareigojimams",null,null,null,null,{"$f":"SUM(G77:G126)","v":0},{"$f":"SUM(H77:H126)","v":0},null,null,"Faktiškai gaunamas darbo užmokesti už 1 valandą pagal  pastarųjų 6 mėn. vidurkį, Eur"]
["5.5.1","Pareigybės pavadinimas","Darbuotojo vardas pavardė","val.",null,{"$f":"IFERROR(ROUND(AVERAGE(K77:K81),2),\"0\")","v":"0"},{"$f":"ROUND(E77*F77,2)","v":0},{"$f":"ROUND(G77*$D$7,2)","v":0}]
[null,null,"Darbuotojo vardas pavardė"]
[null,null,"Darbuotojo vardas pavardė"]
[null,null,"Darbuotojo vardas pavardė"]
[null,null,"Darbuotojo vardas pavardė"]
["5.5.2","Pareigybės pavadinimas","Darbuotojo vardas pavardė","val.",null,{"$f":"IFERROR(ROUND(AVERAGE(K82:K86),2),\"0\")","v":"0"},{"$f":"ROUND(E82*F82,2)","v":0},{"$f":"ROUND(G82*$D$7,2)","v":0}]
[null,null,"Darbuotojo vardas pavardė"]
[null,null,"Darbuotojo vardas pavardė"]
[null,null,"Darbuotojo vardas pavardė"]
[null,null,"Darbuotojo vardas pavardė"]
["5.5.3","Pareigybės pavadinimas","Darbuotojo vardas pavardė","val.",null,{"$f":"IFERROR(ROUND(AVERAGE(K87:K91),2),\"0\")","v":"0"},{"$f":"ROUND(E87*F87,2)","v":0},{"$f":"ROUND(G87*$D$7,2)","v":0}]
[null,null,"Darbuotojo vardas pavardė"]
[null,null,"Darbuotojo vardas pavardė"]
[null,null,"Darbuotojo vardas pavardė"]
[null,null,"Darbuotojo vardas pavardė"]
["5.5.4","Pareigybės pavadinimas","Darbuotojo vardas pavardė","val.",null,{"$f":"IFERROR(ROUND(AVERAGE(K92:K96),2),\"0\")","v":"0"},{"$f":"ROUND(E92*F92,2)","v":0},{"$f":"ROUND(G92*$D$7,2)","v":0}]
[null,null,"Darbuotojo vardas pavardė"]
[null,null,"Darbuotojo vardas pavardė"]
[null,null,"Darbuotojo vardas pavardė"]
[null,null,"Darbuotojo vardas pavardė"]
["5.5.5","Pareigybės pavadinimas","Darbuotojo vardas pavardė","val.",null,{"$f":"IFERROR(ROUND(AVERAGE(K97:K101),2),\"0\")","v":"0"},{"$f":"ROUND(E97*F97,2)","v":0},{"$f":"ROUND(G97*$D$7,2)","v":0}]
[null,null,"Darbuotojo vardas pavardė"]
[null,null,"Darbuotojo vardas pavardė"]
[null,null,"Darbuotojo vardas pavardė"]
[null,null,"Darbuotojo vardas pavardė"]
["5.5.6","Pareigybės pavadinimas","Darbuotojo vardas pavardė","val.",null,{"$f":"IFERROR(ROUND(AVERAGE(K102:K106),2),\"0\")","v":"0"},{"$f":"ROUND(E102*F102,2)","v":0},{"$f":"ROUND(G102*$D$7,2)","v":0}]
[null,null,"Darbuotojo vardas pavardė"]
[null,null,"Darbuotojo vardas pavardė"]
[null,null,"Darbuotojo vardas pavardė"]
[null,null,"Darbuotojo vardas pavardė"]
["5.5.7","Pareigybės pavadinimas","Darbuotojo vardas pavardė","val.",null,{"$f":"IFERROR(ROUND(AVERAGE(K107:K111),2),\"0\")","v":"0"},{"$f":"ROUND(E107*F107,2)","v":0},{"$f":"ROUND(G107*$D$7,2)","v":0}]
[null,null,"Darbuotojo vardas pavardė"]
[null,null,"Darbuotojo vardas pavardė"]
[null,null,"Darbuotojo vardas pavardė"]
[null,null,"Darbuotojo vardas pavardė"]
["5.5.8","Pareigybės pavadinimas","Darbuotojo vardas pavardė","val.",null,{"$f":"IFERROR(ROUND(AVERAGE(K112:K116),2),\"0\")","v":"0"},{"$f":"ROUND(E112*F112,2)","v":0},{"$f":"ROUND(G112*$D$7,2)","v":0}]
[null,null,"Darbuotojo vardas pavardė"]
[null,null,"Darbuotojo vardas pavardė"]
[null,null,"Darbuotojo vardas pavardė"]
[null,null,"Darbuotojo vardas pavardė"]
["5.5.9","Pareigybės pavadinimas","Darbuotojo vardas pavardė","val.",null,{"$f":"IFERROR(ROUND(AVERAGE(K117:K121),2),\"0\")","v":"0"},{"$f":"ROUND(E117*F117,2)","v":0},{"$f":"ROUND(G117*$D$7,2)","v":0}]
[null,null,"Darbuotojo vardas pavardė"]
[null,null,"Darbuotojo vardas pavardė"]
[null,null,"Darbuotojo vardas pavardė"]
[null,null,"Darbuotojo vardas pavardė"]
["5.5.10","Pareigybės pavadinimas","Darbuotojo vardas pavardė","val.",null,{"$f":"IFERROR(ROUND(AVERAGE(K122:K126),2),\"0\")","v":"0"},{"$f":"ROUND(E122*F122,2)","v":0},{"$f":"ROUND(G122*$D$7,2)","v":0}]
[null,null,"Darbuotojo vardas pavardė"]
[null,null,"Darbuotojo vardas pavardė"]
[null,null,"Darbuotojo vardas pavardė"]
[null,null,"Darbuotojo vardas pavardė"]
["5.6","Projektą vykdančio personalo komandiruočių išlaidos",null,null,null,null,{"$f":"SUM(G128,G135,G142,G149,G156,G163,G170,G177,G184,G191)","v":0},{"$f":"SUM(H128,H135,H142,H149,H156,H163,H170,H177,H184,H191)","v":0}]
["5.6.1","Komandiruotės pavadinimas, vieta, trukmė dienomis, vykstančių asmenų skaičius","Iš viso komandiruotei",null,null,null,{"$f":"SUM(G129:G134)","v":0},{"$f":"ROUND(G128*$D$7,2)","v":0}]
[null,null,"Dienpinigiai",null,null,null,{"$f":"ROUND(E129*F129,2)","v":0}]
[null,null,"Gyvenamojo ploto nuoma",null,null,null,0]
[null,null,"Kelionės išlaidos",null,null,null,0]
[null,null,"Dalyvavimo mokestis",null,null,null,0]
[null,null,"Kitos išlaidų pavadinimas",null,null,null,0]
[null,null,"Kitos išlaidų pavadinimas",null,null,null,0]
["5.6.2","Komandiruotės pavadinimas, vieta, trukmė dienomis, vykstančių asmenų skaičius","Iš viso komandiruotei",null,null,null,{"$f":"SUM(G136:G141)","v":0},{"$f":"ROUND(G135*$D$7,2)","v":0}]
[null,null,"Dienpinigiai",null,null,null,{"$f":"ROUND(E136*F136,2)","v":0}]
[null,null,"Gyvenamojo ploto nuoma",null,null,null,0]
[null,null,"Kelionės išlaidos",null,null,null,0]
[null,null,"Dalyvavimo mokestis",null,null,null,0]
[null,null,"Kitos išlaidų pavadinimas",null,null,null,0]
[null,null,"Kitos išlaidų pavadinimas",null,null,null,0]
["5.6.3","Komandiruotės pavadinimas, vieta, trukmė dienomis, vykstančių asmenų skaičius","Iš viso komandiruotei",null,null,null,{"$f":"SUM(G143:G148)","v":0},{"$f":"ROUND(G142*$D$7,2)","v":0}]
[null,null,"Dienpinigiai",null,null,null,{"$f":"ROUND(E143*F143,2)","v":0}]
[null,null,"Gyvenamojo ploto nuoma",null,null,null,0]
[null,null,"Kelionės išlaidos",null,null,null,0]
[null,null,"Dalyvavimo mokestis",null,null,null,0]
[null,null,"Kitos išlaidų pavadinimas",null,null,null,0]
[null,null,"Kitos išlaidų pavadinimas",null,null,null,0]
["5.6.4","Komandiruotės pavadinimas, vieta, trukmė dienomis, vykstančių asmenų skaičius","Iš viso komandiruotei",null,null,null,{"$f":"SUM(G150:G155)","v":0},{"$f":"ROUND(G149*$D$7,2)","v":0}]
[null,null,"Dienpinigiai",null,null,null,{"$f":"ROUND(E150*F150,2)","v":0}]
[null,null,"Gyvenamojo ploto nuoma",null,null,null,0]
[null,null,"Kelionės išlaidos",null,null,null,0]
[null,null,"Dalyvavimo mokestis",null,null,null,0]
[null,null,"Kitos išlaidų pavadinimas",null,null,null,0]
[null,null,"Kitos išlaidų pavadinimas",null,null,null,0]
["5.6.5","Komandiruotės pavadinimas, vieta, trukmė dienomis, vykstančių asmenų skaičius","Iš viso komandiruotei",null,null,null,{"$f":"SUM(G157:G162)","v":0},{"$f":"ROUND(G156*$D$7,2)","v":0}]
[null,null,"Dienpinigiai",null,null,null,{"$f":"ROUND(E157*F157,2)","v":0}]
[null,null,"Gyvenamojo ploto nuoma",null,null,null,0]
[null,null,"Kelionės išlaidos",null,null,null,0]
[null,null,"Dalyvavimo mokestis",null,null,null,0]
[null,null,"Kitos išlaidų pavadinimas",null,null,null,0]
[null,null,"Kitos išlaidų pavadinimas",null,null,null,0]
["5.6.6","Komandiruotės pavadinimas, vieta, trukmė dienomis, vykstančių asmenų skaičius","Iš viso komandiruotei",null,null,null,{"$f":"SUM(G164:G169)","v":0},{"$f":"ROUND(G163*$D$7,2)","v":0}]
[null,null,"Dienpinigiai",null,null,null,{"$f":"ROUND(E164*F164,2)","v":0}]
[null,null,"Gyvenamojo ploto nuoma",null,null,null,0]
[null,null,"Kelionės išlaidos",null,null,null,0]
[null,null,"Dalyvavimo mokestis",null,null,null,0]
[null,null,"Kitos išlaidų pavadinimas",null,null,null,0]
[null,null,"Kitos išlaidų pavadinimas",null,null,null,0]
["5.6.7","Komandiruotės pavadinimas, vieta, trukmė dienomis, vykstančių asmenų skaičius","Iš viso komandiruotei",null,null,null,{"$f":"SUM(G171:G176)","v":0},{"$f":"ROUND(G170*$D$7,2)","v":0}]
[null,null,"Dienpinigiai",null,null,null,{"$f":"ROUND(E171*F171,2)","v":0}]
[null,null,"Gyvenamojo ploto nuoma",null,null,null,0]
[null,null,"Kelionės išlaidos",null,null,null,0]
[null,null,"Dalyvavimo mokestis",null,null,null,0]
[null,null,"Kitos išlaidų pavadinimas",null,null,null,0]
[null,null,"Kitos išlaidų pavadinimas",null,null,null,0]
["5.6.8","Komandiruotės pavadinimas, vieta, trukmė dienomis, vykstančių asmenų skaičius","Iš viso komandiruotei",null,null,null,{"$f":"SUM(G178:G183)","v":0},{"$f":"ROUND(G177*$D$7,2)","v":0}]
[null,null,"Dienpinigiai",null,null,null,{"$f":"ROUND(E178*F178,2)","v":0}]
[null,null,"Gyvenamojo ploto nuoma",null,null,null,0]
[null,null,"Kelionės išlaidos",null,null,null,0]
[null,null,"Dalyvavimo mokestis",null,null,null,0]
[null,null,"Kitos išlaidų pavadinimas",null,null,null,0]
[null,null,"Kitos išlaidų pavadinimas",null,null,null,0]
["5.6.9","Komandiruotės pavadinimas, vieta, trukmė dienomis, vykstančių asmenų skaičius","Iš viso komandiruotei",null,null,null,{"$f":"SUM(G185:G190)","v":0},{"$f":"ROUND(G184*$D$7,2)","v":0}]
[null,null,"Dienpinigiai",null,null,null,{"$f":"ROUND(E185*F185,2)","v":0}]
[null,null,"Gyvenamojo ploto nuoma",null,null,null,0]
[null,null,"Kelionės išlaidos",null,null,null,0]
[null,null,"Dalyvavimo mokestis",null,null,null,0]
[null,null,"Kitos išlaidų pavadinimas",null,null,null,0]
[null,null,"Kitos išlaidų pavadinimas",null,null,null,0]
["5.6.10","Komandiruotės pavadinimas, vieta, trukmė dienomis, vykstančių asmenų skaičius","Iš viso komandiruotei",null,null,null,{"$f":"SUM(G192:G197)","v":0},{"$f":"ROUND(G191*$D$7,2)","v":0}]
[null,null,"Dienpinigiai",null,null,null,{"$f":"ROUND(E192*F192,2)","v":0}]
[null,null,"Gyvenamojo ploto nuoma",null,null,null,0]
[null,null,"Kelionės išlaidos",null,null,null,0]
[null,null,"Dalyvavimo mokestis",null,null,null,0]
[null,null,"Kitos išlaidų pavadinimas",null,null,null,0]
[null,null,"Kitos išlaidų pavadinimas",null,null,null,0]
["5.7","Įrangos nuomos išlaidos, veiklai priskirtos pro rata principu. Įranga turi būti tiesiogiai susijusi su projekto įgyvendinimu ir negali būti įsigyta iš ES struktūrinių fondų ar kt. ES finansinių priemonių lėšų",null,null,null,null,{"$f":"SUM(G199:G203)","v":0},{"$f":"SUM(H199:H203)","v":0},null,null,"Faktinės 1 mėnesio išlaidos, Eur","Naudojimo projekte trukmė, mėn."]
["5.7.1","Įrangos pavadinimas",null,"pro rata proc.",null,{"$f":"K199*L199","v":0},0,{"$f":"ROUND(G199*$D$7,2)","v":0}]
["5.7.2","Įrangos pavadinimas",null,"pro rata proc.",null,{"$f":"K200*L200","v":0},0,{"$f":"ROUND(G200*$D$7,2)","v":0}]
["5.7.3","Įrangos pavadinimas",null,"pro rata proc.",null,0,0,0]
["5.7.4","Įrangos pavadinimas",null,"pro rata proc.",null,0,0,0]
["5.7.5","Įrangos pavadinimas",null,"pro rata proc.",null,0,0,0]
["5.8","Pastatų ar patalpų nuomos išlaidos, veiklai priskirtos pro rata principu. Pastatai ar patalpos turi būti tiesiogiai susijusi su projekto įgyvendinimu.",null,null,null,null,{"$f":"SUM(G205:G209)","v":0},{"$f":"SUM(H205:H209)","v":0},null,null,"Faktinės 1 mėnesio išlaidos, Eur","Naudojimo projekte trukmė, mėn."]
["5.8.1","Pastato, patalpų adresas",null,"pro rata proc.",null,{"$f":"K205*L205","v":0},{"$f":"ROUND(E205*F205,2)","v":0},{"$f":"ROUND(G205*$D$7,2)","v":0}]
["5.8.2","Pastato, patalpų adresas",null,"pro rata proc.",null,{"$f":"K206*L206","v":0},0,0]
["5.8.3","Pastato, patalpų adresas",null,"pro rata proc.",null,0,0,0]
["5.8.4","Pastato, patalpų adresas",null,"pro rata proc.",null,0,0,0]
["5.8.5","Pastato, patalpų adresas",null,"pro rata proc.",null,0,0,0]
["Iš viso tinkamų finansuoti išlaidų:",null,null,null,null,null,{"$f":"G10+G21","v":0},{"$f":"H10+H21","v":0}]

{"sheet":"22","index":23,"n_rows":210,"n_cols":19,"rows_kept":210,"cut":false,"hidden":false,"merged":[[0,3,0,8],[2,0,2,2],[2,3,2,8],[3,3,3,4],[3,5,3,6],[4,0,4,2],[4,3,4,8],[14,1,14,2],[15,1,15,2],[16,1,16,2],[17,1,17,2],[18,1,18,2],[19,1,19,2],[8,1,8,2],[9,1,9,5],[10,1,10,2],[11,1,11,2],[12,1,12,2],[13,1,13,2],[26,1,26,2],[27,1,27,2],[28,1,28,2],[29,1,29,2],[30,1,30,2],[31,1,31,2],[20,1,20,5],[21,1,21,5],[22,1,22,2],[23,1,23,2],[24,1,24,2],[25,1,25,2],[38,1,38,2],[39,1,39,2],[40,1,40,2],[41,1,41,2],[42,1,42,2],[43,1,43,5],[32,1,32,5],[33,1,33,2],[34,1,34,2],[35,1,35,2],[36,1,36,2],[37,1,37,2],[50,1,50,2],[51,1,51,2],[52,1,52,2],[53,1,53,2],[54,1,54,2],[55,1,55,2],[44,1,44,2],[45,1,45,2],[46,1,46,2],[47,1,47,2],[48,1,48,2],[49,1,49,2],[62,1,62,2],[63,1,63,2],[64,1,64,2],[65,1,65,2],[66,1,66,2],[67,1,67,2],[56,1,56,2],[57,1,57,2],[58,1,58,2],[59,1,59,5],[60,1,60,2],[61,1,61,2],[74,1,74,2],[75,1,75,5],[76,0,80,0],[76,1,80,1],[76,3,80,3],[76,4,80,4],[76,5,80,5],[68,1,68,2],[69,1,69,2],[70,1,70,2],[71,1,71,2],[72,1,72,2],[73,1,73,2],[76,6,80,6],[76,7,80,7],[76,8,80,8],[81,0,85,0],[81,1,85,1],[81,3,85,3],[81,4,85,4],[81,5,85,5],[81,6,85,6],[81,7,85,7],[81,8,85,8],[86,0,90,0],[86,1,90,1],[86,3,90,3],[86,4,90,4],[86,5,90,5],[86,6,90,6],[86,7,90,7],[86,8,90,8],[91,7,95,7],[91,8,95,8],[96,0,100,0],[96,1,100,1],[96,3,100,3],[96,4,100,4],[96,5,100,5],[96,6,100,6],[96,7,100,7],[96,8,100,8],[91,0,95,0],[91,1,95,1],[91,3,95,3],[91,4,95,4],[91,5,95,5],[91,6,95,6],[101,7,105,7],[101,8,105,8],[106,0,110,0],[106,1,110,1],[106,3,110,3],[106,4,110,4],[106,5,110,5],[106,6,110,6],[106,7,110,7],[106,8,110,8],[101,0,105,0],[101,1,105,1],[101,3,105,3],[101,4,105,4],[101,5,105,5],[101,6,105,6],[111,7,115,7],[111,8,115,8],[116,0,120,0],[116,1,120,1],[116,3,120,3],[116,4,120,4],[116,5,120,5],[116,6,120,6],[116,7,120,7],[116,8,120,8],[111,0,115,0],[111,1,115,1],[111,3,115,3],[111,4,115,4],[111,5,115,5],[111,6,115,6],[127,1,133,1],[121,7,125,7],[121,8,125,8],[126,1,126,5],[121,0,125,0],[121,1,125,1],[121,3,125,3],[121,4,125,4],[121,5,125,5],[121,6,125,6],[127,0,133,0],[127,8,133,8],[134,0,140,0],[134,1,140,1],[134,8,140,8],[141,0,147,0],[141,1,147,1],[141,8,147,8],[148,0,154,0],[148,1,154,1],[148,8,154,8],[155,0,161,0],[155,1,161,1],[155,8,161,8],[162,0,168,0],[162,1,168,1],[162,8,168,8],[169,0,175,0],[169,1,175,1],[169,8,175,8],[176,0,182,0],[176,1,182,1],[176,8,182,8],[183,0,189,0],[183,1,189,1],[183,8,189,8],[190,0,196,0],[190,1,196,1],[190,8,196,8],[206,1,206,2],[207,1,207,2],[208,1,208,2],[209,0,209,5],[197,1,197,5],[198,1,198,2],[199,1,199,2],[200,1,200,2],[201,1,201,2],[202,1,202,2],[203,1,203,5],[204,1,204,2],[205,1,205,2]]}
[null,null,"Pasirinkite veiklos tipą:"]
[null,null,"Fizinio rodiklio Nr.:"]
["Fizinio rodiklio pavadinimas:"]
[null,null,"Fizinio rodiklio matavimo vnt.:",null,null,"Fizinio rodiklio vnt. skaičius:"]
["Juridinis asmuo (pareiškėjas, partneris), atsakingas už fizinį rodiklį:"]
[]
[null,null,"Finansavimo intensyvumas:",null,null,null,"Pasirinkite biudžeto išlaidų kategoriją:"]
[]
["Eil. Nr.","Išlaidų kategorijos pavadinimas",null,"Matavimo vnt.","Kiekis","Vieneto kaina be PVM, Eur","Tinkamų finansuoti išlaidų suma be PVM, Eur","Finansavimo suma, Eur","Išlaidų pagrindimo dokumentų pavadinimas, data ir Nr."]
[4,"ĮRANGA, ĮRENGINIAI IR KT. TURTAS (techninių žinių ir išradimų patentų arba teisių pagal licencijų sutartį įsigijimo išlaidos)",null,null,null,null,{"$f":"SUM(G11:G20)","v":0},{"$f":"SUM(H11:H20)","v":0}]
["4.1","Išlaidų pavadinimas",null,null,null,null,{"$f":"ROUND(E11*F11,2)","v":0},{"$f":"ROUND(G11*$D$7,2)","v":0}]
["4.2","Išlaidų pavadinimas",null,null,null,null,0,0]
["4.3","Išlaidų pavadinimas",null,null,null,null,0,0]
["4.4","Išlaidų pavadinimas",null,null,null,null,0,0]
["4.5","Išlaidų pavadinimas",null,null,null,null,0,0]
["4.6","Išlaidų pavadinimas",null,null,null,null,0,0]
["4.7","Išlaidų pavadinimas",null,null,null,null,0,0]
["4.8","Išlaidų pavadinimas",null,null,null,null,0,0]
["4.9","Išlaidų pavadinimas",null,null,null,null,0,0]
["4.10","Išlaidų pavadinimas",null,null,null,null,0,0]
[5,"PROJEKTO VYKDYMAS",null,null,null,null,{"$f":"G22+G33+G44+G60+G76+G127+G198+G204","v":0},{"$f":"H22+H33+H44+H60+H76+H127+H198+H204","v":0}]
["5.1","MTEP paslaugos",null,null,null,null,{"$f":"SUM(G23:G32)","v":0},{"$f":"SUM(H23:H32)","v":0}]
["5.1.1","Paslaugos pavadinimas",null,null,null,null,{"$f":"ROUND(E23*F23,2)","v":0},0]
["5.1.2","Paslaugos pavadinimas",null,null,null,null,0,0]
["5.1.3","Paslaugos pavadinimas",null,null,null,null,0,0]
["5.1.4","Paslaugos pavadinimas",null,null,null,null,0,0]
["5.1.5","Paslaugos pavadinimas",null,null,null,null,0,0]
["5.1.6","Paslaugos pavadinimas",null,null,null,null,0,0]
["5.1.7","Paslaugos pavadinimas",null,null,null,null,0,0]
["5.1.8","Paslaugos pavadinimas",null,null,null,null,0,0]
["5.1.9","Paslaugos pavadinimas",null,null,null,null,0,0]
["5.1.10","Paslaugos pavadinimas",null,null,null,null,0,0]
["5.2","Konsultavimo ir lygiavertės paslaugos, naudojamos vien tik projekto MTEP veiklai",null,null,null,null,{"$f":"SUM(G34:G43)","v":0},{"$f":"SUM(H34:H43)","v":0}]
["5.2.1","Paslaugos pavadinimas",null,null,null,null,{"$f":"ROUND(E34*F34,2)","v":0},0]
["5.2.2","Paslaugos pavadinimas",null,null,null,null,0,0]
["5.2.3","Paslaugos pavadinimas",null,null,null,null,0,0]
["5.2.4","Paslaugos pavadinimas",null,null,null,null,0,0]
["5.2.5","Paslaugos pavadinimas",null,null,null,null,0,0]
["5.2.6","Paslaugos pavadinimas",null,null,null,null,0,0]
["5.2.7","Paslaugos pavadinimas",null,null,null,null,0,0]
["5.2.8","Paslaugos pavadinimas",null,null,null,null,0,0]
["5.2.9","Paslaugos pavadinimas",null,null,null,null,0,0]
["5.2.10","Paslaugos pavadinimas",null,null,null,null,0,0]
["5.3","Medžiagos, mažavertis inventorius, atsargos ir pan. produktai, priskirtini trumpalaikiam turtui ir tiesiogiai susiję su MTEP veikla",null,null,null,null,{"$f":"SUM(G45:G59)","v":0},{"$f":"SUM(H45:H59)","v":0}]
["5.3.1","Išlaidų pavadinimas",null,null,null,null,{"$f":"ROUND(E45*F45,2)","v":0},{"$f":"ROUND(G45*$D$7,2)","v":0}]
["5.3.2","Išlaidų pavadinimas",null,null,null,null,0,0]
["5.3.3","Išlaidų pavadinimas",null,null,null,null,0,0]
["5.3.4","Išlaidų pavadinimas",null,null,null,null,0,0]
["5.3.5","Išlaidų pavadinimas",null,null,null,null,0,0]
["5.3.6","Išlaidų pavadinimas",null,null,null,null,0,0]
["5.3.7","Išlaidų pavadinimas",null,null,null,null,0,0]
["5.3.8","Išlaidų pavadinimas",null,null,null,null,0,0]
["5.3.9","Išlaidų pavadinimas",null,null,null,null,0,0]
["5.3.10","Išlaidų pavadinimas",null,null,null,null,0,0]
["5.3.11","Išlaidų pavadinimas",null,null,null,null,0,0]
["5.3.12","Išlaidų pavadinimas",null,null,null,null,0,0]
["5.3.13","Išlaidų pavadinimas",null,null,null,null,0,0]
["5.3.14","Išlaidų pavadinimas",null,null,null,null,0,0]
["5.3.15","Išlaidų pavadinimas",null,null,null,null,0,0]
["5.4","Projekto MTEP veikloms naudojamo ilgalaikio materialaus turto (įrangos, prietaisų, įrankių, įrenginių, mašinų ir įrengimų, pastatų ir (ar) patalpų), nusidėvėjimo sąnaudos, jeigu šiam turtui įsigyti nebuvo naudojamos viešosios (įskaitant ir kitų valstybių) lėšos",null,null,null,null,{"$f":"SUM(G61:G75)","v":0},{"$f":"SUM(H61:H75)","v":0},null,null,"Turto įvedimo į eksploataciją data","Turto įsigijimo vertė, Eur","Turto nudėvėjimo, amortizacijos laikotarpis, mėn.","Numatoma turto likutinė vertė, Eur","1 mėn. nudėvėjimo, amortizacijos suma, Eur","Turto naudojamo projekto reikmėms laikas, mėn.","Turto panaudojimo projekto reikmėms dalis (proc.)","Projektui priskirta turto nusidėvėjimo, amortizacijos suma per projekto laikotarpį, Eur"]
["5.4.1","Turtas, kurio nusidėvėjimą, amortizaciją prašoma finansuoti",null,null,1,{"$f":"R61","v":0},{"$f":"ROUND(E61*F61,2)","v":0},0,null,null,null,null,null,null,{"$f":"IFERROR(ROUND((L61-N61)/M61,2),\"0\")","v":"0"},null,null,{"$f":"O61*P61*Q61","v":0},{"$f":"IF(K61=0,\" \",IF(K61+(M61*30.5)<TODAY(),\"DĖMESIO! Patikrinkite, ar nurodytas turtas dar nėra nudėvėtas, amortizuotas\",\" \"))","v":" "}]
["5.4.2","Turtas, kurio nusidėvėjimą, amortizaciją prašoma finansuoti",null,null,1,{"$f":"R62","v":0},0,0,null,null,null,null,null,null,{"$f":"IFERROR(ROUND((L62-N62)/M62,2),\"0\")","v":"0"},null,null,{"$f":"O62*P62*Q62","v":0},{"$f":"IF(K62=0,\" \",IF(K62+(M62*30.5)<TODAY(),\"DĖMESIO! Patikrinkite, ar nurodytas turtas dar nėra nudėvėtas, amortizuotas\",\" \"))","v":" "}]
["5.4.3","Turtas, kurio nusidėvėjimą, amortizaciją prašoma finansuoti",null,null,1,0,0,0,null,null,null,null,null,null,"0",null,null,0," "]
["5.4.4","Turtas, kurio nusidėvėjimą, amortizaciją prašoma finansuoti",null,null,1,0,0,0,null,null,null,null,null,null,"0",null,null,0," "]
["5.4.5","Turtas, kurio nusidėvėjimą, amortizaciją prašoma finansuoti",null,null,1,0,0,0,null,null,null,null,null,null,"0",null,null,0," "]
["5.4.6","Turtas, kurio nusidėvėjimą, amortizaciją prašoma finansuoti",null,null,1,0,0,0,null,null,null,null,null,null,"0",null,null,0," "]
["5.4.7","Turtas, kurio nusidėvėjimą, amortizaciją prašoma finansuoti",null,null,1,0,0,0,null,null,null,null,null,null,"0",null,null,0," "]
["5.4.8","Turtas, kurio nusidėvėjimą, amortizaciją prašoma finansuoti",null,null,1,0,0,0,null,null,null,null,null,null,"0",null,null,0," "]
["5.4.9","Turtas, kurio nusidėvėjimą, amortizaciją prašoma finansuoti",null,null,1,0,0,0,null,null,null,null,null,null,"0",null,null,0," "]
["5.4.10","Turtas, kurio nusidėvėjimą, amortizaciją prašoma finansuoti",null,null,1,0,0,0,null,null,null,null,null,null,"0",null,null,0," "]
["5.4.11","Turtas, kurio nusidėvėjimą, amortizaciją prašoma finansuoti",null,null,1,0,0,0,null,null,null,null,null,null,"0",null,null,0," "]
["5.4.12","Turtas, kurio nusidėvėjimą, amortizaciją prašoma finansuoti",null,null,1,0,0,0,null,null,null,null,null,null,"0",null,null,0," "]
["5.4.13","Turtas, kurio nusidėvėjimą, amortizaciją prašoma finansuoti",null,null,1,0,0,0,null,null,null,null,null,null,"0",null,null,0," "]
["5.4.14","Turtas, kurio nusidėvėjimą, amortizaciją prašoma finansuoti",null,null,1,0,0,0,null,null,null,null,null,null,"0",null,null,0," "]
["5.4.15","Turtas, kurio nusidėvėjimą, amortizaciją prašoma finansuoti",null,null,1,0,0,0,null,null,null,null,null,null,"0",null,null,0," "]
["5.5","Projektą vykdančio personalo darbo užmokestis ir išlaidos su darbo santykiais susijusiems darbdavio įsipareigojimams",null,null,null,null,{"$f":"SUM(G77:G126)","v":0},{"$f":"SUM(H77:H126)","v":0},null,null,"Faktiškai gaunamas darbo užmokesti už 1 valandą pagal  pastarųjų 6 mėn. vidurkį, Eur"]
["5.5.1","Pareigybės pavadinimas","Darbuotojo vardas pavardė","val.",null,{"$f":"IFERROR(ROUND(AVERAGE(K77:K81),2),\"0\")","v":"0"},{"$f":"ROUND(E77*F77,2)","v":0},{"$f":"ROUND(G77*$D$7,2)","v":0}]
[null,null,"Darbuotojo vardas pavardė"]
[null,null,"Darbuotojo vardas pavardė"]
[null,null,"Darbuotojo vardas pavardė"]
[null,null,"Darbuotojo vardas pavardė"]
["5.5.2","Pareigybės pavadinimas","Darbuotojo vardas pavardė","val.",null,{"$f":"IFERROR(ROUND(AVERAGE(K82:K86),2),\"0\")","v":"0"},{"$f":"ROUND(E82*F82,2)","v":0},{"$f":"ROUND(G82*$D$7,2)","v":0}]
[null,null,"Darbuotojo vardas pavardė"]
[null,null,"Darbuotojo vardas pavardė"]
[null,null,"Darbuotojo vardas pavardė"]
[null,null,"Darbuotojo vardas pavardė"]
["5.5.3","Pareigybės pavadinimas","Darbuotojo vardas pavardė","val.",null,{"$f":"IFERROR(ROUND(AVERAGE(K87:K91),2),\"0\")","v":"0"},{"$f":"ROUND(E87*F87,2)","v":0},{"$f":"ROUND(G87*$D$7,2)","v":0}]
[null,null,"Darbuotojo vardas pavardė"]
[null,null,"Darbuotojo vardas pavardė"]
[null,null,"Darbuotojo vardas pavardė"]
[null,null,"Darbuotojo vardas pavardė"]
["5.5.4","Pareigybės pavadinimas","Darbuotojo vardas pavardė","val.",null,{"$f":"IFERROR(ROUND(AVERAGE(K92:K96),2),\"0\")","v":"0"},{"$f":"ROUND(E92*F92,2)","v":0},{"$f":"ROUND(G92*$D$7,2)","v":0}]
[null,null,"Darbuotojo vardas pavardė"]
[null,null,"Darbuotojo vardas pavardė"]
[null,null,"Darbuotojo vardas pavardė"]
[null,null,"Darbuotojo vardas pavardė"]
["5.5.5","Pareigybės pavadinimas","Darbuotojo vardas pavardė","val.",null,{"$f":"IFERROR(ROUND(AVERAGE(K97:K101),2),\"0\")","v":"0"},{"$f":"ROUND(E97*F97,2)","v":0},{"$f":"ROUND(G97*$D$7,2)","v":0}]
[null,null,"Darbuotojo vardas pavardė"]
[null,null,"Darbuotojo vardas pavardė"]
[null,null,"Darbuotojo vardas pavardė"]
[null,null,"Darbuotojo vardas pavardė"]
["5.5.6","Pareigybės pavadinimas","Darbuotojo vardas pavardė","val.",null,{"$f":"IFERROR(ROUND(AVERAGE(K102:K106),2),\"0\")","v":"0"},{"$f":"ROUND(E102*F102,2)","v":0},{"$f":"ROUND(G102*$D$7,2)","v":0}]
[null,null,"Darbuotojo vardas pavardė"]
[null,null,"Darbuotojo vardas pavardė"]
[null,null,"Darbuotojo vardas pavardė"]
[null,null,"Darbuotojo vardas pavardė"]
["5.5.7","Pareigybės pavadinimas","Darbuotojo vardas pavardė","val.",null,{"$f":"IFERROR(ROUND(AVERAGE(K107:K111),2),\"0\")","v":"0"},{"$f":"ROUND(E107*F107,2)","v":0},{"$f":"ROUND(G107*$D$7,2)","v":0}]
[null,null,"Darbuotojo vardas pavardė"]
[null,null,"Darbuotojo vardas pavardė"]
[null,null,"Darbuotojo vardas pavardė"]
[null,null,"Darbuotojo vardas pavardė"]
["5.5.8","Pareigybės pavadinimas","Darbuotojo vardas pavardė","val.",null,{"$f":"IFERROR(ROUND(AVERAGE(K112:K116),2),\"0\")","v":"0"},{"$f":"ROUND(E112*F112,2)","v":0},{"$f":"ROUND(G112*$D$7,2)","v":0}]
[null,null,"Darbuotojo vardas pavardė"]
[null,null,"Darbuotojo vardas pavardė"]
[null,null,"Darbuotojo vardas pavardė"]
[null,null,"Darbuotojo vardas pavardė"]
["5.5.9","Pareigybės pavadinimas","Darbuotojo vardas pavardė","val.",null,{"$f":"IFERROR(ROUND(AVERAGE(K117:K121),2),\"0\")","v":"0"},{"$f":"ROUND(E117*F117,2)","v":0},{"$f":"ROUND(G117*$D$7,2)","v":0}]
[null,null,"Darbuotojo vardas pavardė"]
[null,null,"Darbuotojo vardas pavardė"]
[null,null,"Darbuotojo vardas pavardė"]
[null,null,"Darbuotojo vardas pavardė"]
["5.5.10","Pareigybės pavadinimas","Darbuotojo vardas pavardė","val.",null,{"$f":"IFERROR(ROUND(AVERAGE(K122:K126),2),\"0\")","v":"0"},{"$f":"ROUND(E122*F122,2)","v":0},{"$f":"ROUND(G122*$D$7,2)","v":0}]
[null,null,"Darbuotojo vardas pavardė"]
[null,null,"Darbuotojo vardas pavardė"]
[null,null,"Darbuotojo vardas pavardė"]
[null,null,"Darbuotojo vardas pavardė"]
["5.6","Projektą vykdančio personalo komandiruočių išlaidos",null,null,null,null,{"$f":"SUM(G128,G135,G142,G149,G156,G163,G170,G177,G184,G191)","v":0},{"$f":"SUM(H128,H135,H142,H149,H156,H163,H170,H177,H184,H191)","v":0}]
["5.6.1","Komandiruotės pavadinimas, vieta, trukmė dienomis, vykstančių asmenų skaičius","Iš viso komandiruotei",null,null,null,{"$f":"SUM(G129:G134)","v":0},{"$f":"ROUND(G128*$D$7,2)","v":0}]
[null,null,"Dienpinigiai",null,null,null,{"$f":"ROUND(E129*F129,2)","v":0}]
[null,null,"Gyvenamojo ploto nuoma",null,null,null,0]
[null,null,"Kelionės išlaidos",null,null,null,0]
[null,null,"Dalyvavimo mokestis",null,null,null,0]
[null,null,"Kitos išlaidų pavadinimas",null,null,null,0]
[null,null,"Kitos išlaidų pavadinimas",null,null,null,0]
["5.6.2","Komandiruotės pavadinimas, vieta, trukmė dienomis, vykstančių asmenų skaičius","Iš viso komandiruotei",null,null,null,{"$f":"SUM(G136:G141)","v":0},{"$f":"ROUND(G135*$D$7,2)","v":0}]
[null,null,"Dienpinigiai",null,null,null,{"$f":"ROUND(E136*F136,2)","v":0}]
[null,null,"Gyvenamojo ploto nuoma",null,null,null,0]
[null,null,"Kelionės išlaidos",null,null,null,0]
[null,null,"Dalyvavimo mokestis",null,null,null,0]
[null,null,"Kitos išlaidų pavadinimas",null,null,null,0]
[null,null,"Kitos išlaidų pavadinimas",null,null,null,0]
["5.6.3","Komandiruotės pavadinimas, vieta, trukmė dienomis, vykstančių asmenų skaičius","Iš viso komandiruotei",null,null,null,{"$f":"SUM(G143:G148)","v":0},{"$f":"ROUND(G142*$D$7,2)","v":0}]
[null,null,"Dienpinigiai",null,null,null,{"$f":"ROUND(E143*F143,2)","v":0}]
[null,null,"Gyvenamojo ploto nuoma",null,null,null,0]
[null,null,"Kelionės išlaidos",null,null,null,0]
[null,null,"Dalyvavimo mokestis",null,null,null,0]
[null,null,"Kitos išlaidų pavadinimas",null,null,null,0]
[null,null,"Kitos išlaidų pavadinimas",null,null,null,0]
["5.6.4","Komandiruotės pavadinimas, vieta, trukmė dienomis, vykstančių asmenų skaičius","Iš viso komandiruotei",null,null,null,{"$f":"SUM(G150:G155)","v":0},{"$f":"ROUND(G149*$D$7,2)","v":0}]
[null,null,"Dienpinigiai",null,null,null,{"$f":"ROUND(E150*F150,2)","v":0}]
[null,null,"Gyvenamojo ploto nuoma",null,null,null,0]
[null,null,"Kelionės išlaidos",null,null,null,0]
[null,null,"Dalyvavimo mokestis",null,null,null,0]
[null,null,"Kitos išlaidų pavadinimas",null,null,null,0]
[null,null,"Kitos išlaidų pavadinimas",null,null,null,0]
["5.6.5","Komandiruotės pavadinimas, vieta, trukmė dienomis, vykstančių asmenų skaičius","Iš viso komandiruotei",null,null,null,{"$f":"SUM(G157:G162)","v":0},{"$f":"ROUND(G156*$D$7,2)","v":0}]
[null,null,"Dienpinigiai",null,null,null,{"$f":"ROUND(E157*F157,2)","v":0}]
[null,null,"Gyvenamojo ploto nuoma",null,null,null,0]
[null,null,"Kelionės išlaidos",null,null,null,0]
[null,null,"Dalyvavimo mokestis",null,null,null,0]
[null,null,"Kitos išlaidų pavadinimas",null,null,null,0]
[null,null,"Kitos išlaidų pavadinimas",null,null,null,0]
["5.6.6","Komandiruotės pavadinimas, vieta, trukmė dienomis, vykstančių asmenų skaičius","Iš viso komandiruotei",null,null,null,{"$f":"SUM(G164:G169)","v":0},{"$f":"ROUND(G163*$D$7,2)","v":0}]
[null,null,"Dienpinigiai",null,null,null,{"$f":"ROUND(E164*F164,2)","v":0}]
[null,null,"Gyvenamojo ploto nuoma",null,null,null,0]
[null,null,"Kelionės išlaidos",null,null,null,0]
[null,null,"Dalyvavimo mokestis",null,null,null,0]
[null,null,"Kitos išlaidų pavadinimas",null,null,null,0]
[null,null,"Kitos išlaidų pavadinimas",null,null,null,0]
["5.6.7","Komandiruotės pavadinimas, vieta, trukmė dienomis, vykstančių asmenų skaičius","Iš viso komandiruotei",null,null,null,{"$f":"SUM(G171:G176)","v":0},{"$f":"ROUND(G170*$D$7,2)","v":0}]
[null,null,"Dienpinigiai",null,null,null,{"$f":"ROUND(E171*F171,2)","v":0}]
[null,null,"Gyvenamojo ploto nuoma",null,null,null,0]
[null,null,"Kelionės išlaidos",null,null,null,0]
[null,null,"Dalyvavimo mokestis",null,null,null,0]
[null,null,"Kitos išlaidų pavadinimas",null,null,null,0]
[null,null,"Kitos išlaidų pavadinimas",null,null,null,0]
["5.6.8","Komandiruotės pavadinimas, vieta, trukmė dienomis, vykstančių asmenų skaičius","Iš viso komandiruotei",null,null,null,{"$f":"SUM(G178:G183)","v":0},{"$f":"ROUND(G177*$D$7,2)","v":0}]
[null,null,"Dienpinigiai",null,null,null,{"$f":"ROUND(E178*F178,2)","v":0}]
[null,null,"Gyvenamojo ploto nuoma",null,null,null,0]
[null,null,"Kelionės išlaidos",null,null,null,0]
[null,null,"Dalyvavimo mokestis",null,null,null,0]
[null,null,"Kitos išlaidų pavadinimas",null,null,null,0]
[null,null,"Kitos išlaidų pavadinimas",null,null,null,0]
["5.6.9","Komandiruotės pavadinimas, vieta, trukmė dienomis, vykstančių asmenų skaičius","Iš viso komandiruotei",null,null,null,{"$f":"SUM(G185:G190)","v":0},{"$f":"ROUND(G184*$D$7,2)","v":0}]
[null,null,"Dienpinigiai",null,null,null,{"$f":"ROUND(E185*F185,2)","v":0}]
[null,null,"Gyvenamojo ploto nuoma",null,null,null,0]
[null,null,"Kelionės išlaidos",null,null,null,0]
[null,null,"Dalyvavimo mokestis",null,null,null,0]
[null,null,"Kitos išlaidų pavadinimas",null,null,null,0]
[null,null,"Kitos išlaidų pavadinimas",null,null,null,0]
["5.6.10","Komandiruotės pavadinimas, vieta, trukmė dienomis, vykstančių asmenų skaičius","Iš viso komandiruotei",null,null,null,{"$f":"SUM(G192:G197)","v":0},{"$f":"ROUND(G191*$D$7,2)","v":0}]
[null,null,"Dienpinigiai",null,null,null,{"$f":"ROUND(E192*F192,2)","v":0}]
[null,null,"Gyvenamojo ploto nuoma",null,null,null,0]
[null,null,"Kelionės išlaidos",null,null,null,0]
[null,null,"Dalyvavimo mokestis",null,null,null,0]
[null,null,"Kitos išlaidų pavadinimas",null,null,null,0]
[null,null,"Kitos išlaidų pavadinimas",null,null,null,0]
["5.7","Įrangos nuomos išlaidos, veiklai priskirtos pro rata principu. Įranga turi būti tiesiogiai susijusi su projekto įgyvendinimu ir negali būti įsigyta iš ES struktūrinių fondų ar kt. ES finansinių priemonių lėšų",null,null,null,null,{"$f":"SUM(G199:G203)","v":0},{"$f":"SUM(H199:H203)","v":0},null,null,"Faktinės 1 mėnesio išlaidos, Eur","Naudojimo projekte trukmė, mėn."]
["5.7.1","Įrangos pavadinimas",null,"pro rata proc.",null,{"$f":"K199*L199","v":0},0,{"$f":"ROUND(G199*$D$7,2)","v":0}]
["5.7.2","Įrangos pavadinimas",null,"pro rata proc.",null,{"$f":"K200*L200","v":0},0,{"$f":"ROUND(G200*$D$7,2)","v":0}]
["5.7.3","Įrangos pavadinimas",null,"pro rata proc.",null,0,0,0]
["5.7.4","Įrangos pavadinimas",null,"pro rata proc.",null,0,0,0]
["5.7.5","Įrangos pavadinimas",null,"pro rata proc.",null,0,0,0]
["5.8","Pastatų ar patalpų nuomos išlaidos, veiklai priskirtos pro rata principu. Pastatai ar patalpos turi būti tiesiogiai susijusi su projekto įgyvendinimu.",null,null,null,null,{"$f":"SUM(G205:G209)","v":0},{"$f":"SUM(H205:H209)","v":0},null,null,"Faktinės 1 mėnesio išlaidos, Eur","Naudojimo projekte trukmė, mėn."]
["5.8.1","Pastato, patalpų adresas",null,"pro rata proc.",null,{"$f":"K205*L205","v":0},{"$f":"ROUND(E205*F205,2)","v":0},{"$f":"ROUND(G205*$D$7,2)","v":0}]
["5.8.2","Pastato, patalpų adresas",null,"pro rata proc.",null,{"$f":"K206*L206","v":0},0,0]
["5.8.3","Pastato, patalpų adresas",null,"pro rata proc.",null,0,0,0]
["5.8.4","Pastato, patalpų adresas",null,"pro rata proc.",null,0,0,0]
["5.8.5","Pastato, patalpų adresas",null,"pro rata proc.",null,0,0,0]
["Iš viso tinkamų finansuoti išlaidų:",null,null,null,null,null,{"$f":"G10+G21","v":0},{"$f":"H10+H21","v":0}]

{"sheet":"23","index":24,"n_rows":210,"n_cols":19,"rows_kept":210,"cut":false,"hidden":false,"merged":[[0,3,0,8],[2,0,2,2],[2,3,2,8],[3,3,3,4],[3,5,3,6],[4,0,4,2],[4,3,4,8],[14,1,14,2],[15,1,15,2],[16,1,16,2],[17,1,17,2],[18,1,18,2],[19,1,19,2],[8,1,8,2],[9,1,9,5],[10,1,10,2],[11,1,11,2],[12,1,12,2],[13,1,13,2],[26,1,26,2],[27,1,27,2],[28,1,28,2],[29,1,29,2],[30,1,30,2],[31,1,31,2],[20,1,20,5],[21,1,21,5],[22,1,22,2],[23,1,23,2],[24,1,24,2],[25,1,25,2],[38,1,38,2],[39,1,39,2],[40,1,40,2],[41,1,41,2],[42,1,42,2],[43,1,43,5],[32,1,32,5],[33,1,33,2],[34,1,34,2],[35,1,35,2],[36,1,36,2],[37,1,37,2],[50,1,50,2],[51,1,51,2],[52,1,52,2],[53,1,53,2],[54,1,54,2],[55,1,55,2],[44,1,44,2],[45,1,45,2],[46,1,46,2],[47,1,47,2],[48,1,48,2],[49,1,49,2],[62,1,62,2],[63,1,63,2],[64,1,64,2],[65,1,65,2],[66,1,66,2],[67,1,67,2],[56,1,56,2],[57,1,57,2],[58,1,58,2],[59,1,59,5],[60,1,60,2],[61,1,61,2],[74,1,74,2],[75,1,75,5],[76,0,80,0],[76,1,80,1],[76,3,80,3],[76,4,80,4],[76,5,80,5],[68,1,68,2],[69,1,69,2],[70,1,70,2],[71,1,71,2],[72,1,72,2],[73,1,73,2],[76,6,80,6],[76,7,80,7],[76,8,80,8],[81,0,85,0],[81,1,85,1],[81,3,85,3],[81,4,85,4],[81,5,85,5],[81,6,85,6],[81,7,85,7],[81,8,85,8],[86,0,90,0],[86,1,90,1],[86,3,90,3],[86,4,90,4],[86,5,90,5],[86,6,90,6],[86,7,90,7],[86,8,90,8],[91,7,95,7],[91,8,95,8],[96,0,100,0],[96,1,100,1],[96,3,100,3],[96,4,100,4],[96,5,100,5],[96,6,100,6],[96,7,100,7],[96,8,100,8],[91,0,95,0],[91,1,95,1],[91,3,95,3],[91,4,95,4],[91,5,95,5],[91,6,95,6],[101,7,105,7],[101,8,105,8],[106,0,110,0],[106,1,110,1],[106,3,110,3],[106,4,110,4],[106,5,110,5],[106,6,110,6],[106,7,110,7],[106,8,110,8],[101,0,105,0],[101,1,105,1],[101,3,105,3],[101,4,105,4],[101,5,105,5],[101,6,105,6],[111,7,115,7],[111,8,115,8],[116,0,120,0],[116,1,120,1],[116,3,120,3],[116,4,120,4],[116,5,120,5],[116,6,120,6],[116,7,120,7],[116,8,120,8],[111,0,115,0],[111,1,115,1],[111,3,115,3],[111,4,115,4],[111,5,115,5],[111,6,115,6],[127,1,133,1],[121,7,125,7],[121,8,125,8],[126,1,126,5],[121,0,125,0],[121,1,125,1],[121,3,125,3],[121,4,125,4],[121,5,125,5],[121,6,125,6],[127,0,133,0],[127,8,133,8],[134,0,140,0],[134,1,140,1],[134,8,140,8],[141,0,147,0],[141,1,147,1],[141,8,147,8],[148,0,154,0],[148,1,154,1],[148,8,154,8],[155,0,161,0],[155,1,161,1],[155,8,161,8],[162,0,168,0],[162,1,168,1],[162,8,168,8],[169,0,175,0],[169,1,175,1],[169,8,175,8],[176,0,182,0],[176,1,182,1],[176,8,182,8],[183,0,189,0],[183,1,189,1],[183,8,189,8],[190,0,196,0],[190,1,196,1],[190,8,196,8],[206,1,206,2],[207,1,207,2],[208,1,208,2],[209,0,209,5],[197,1,197,5],[198,1,198,2],[199,1,199,2],[200,1,200,2],[201,1,201,2],[202,1,202,2],[203,1,203,5],[204,1,204,2],[205,1,205,2]]}
[null,null,"Pasirinkite veiklos tipą:"]
[null,null,"Fizinio rodiklio Nr.:"]
["Fizinio rodiklio pavadinimas:"]
[null,null,"Fizinio rodiklio matavimo vnt.:",null,null,"Fizinio rodiklio vnt. skaičius:"]
["Juridinis asmuo (pareiškėjas, partneris), atsakingas už fizinį rodiklį:"]
[]
[null,null,"Finansavimo intensyvumas:",null,null,null,"Pasirinkite biudžeto išlaidų kategoriją:"]
[]
["Eil. Nr.","Išlaidų kategorijos pavadinimas",null,"Matavimo vnt.","Kiekis","Vieneto kaina be PVM, Eur","Tinkamų finansuoti išlaidų suma be PVM, Eur","Finansavimo suma, Eur","Išlaidų pagrindimo dokumentų pavadinimas, data ir Nr."]
[4,"ĮRANGA, ĮRENGINIAI IR KT. TURTAS (techninių žinių ir išradimų patentų arba teisių pagal licencijų sutartį įsigijimo išlaidos)",null,null,null,null,{"$f":"SUM(G11:G20)","v":0},{"$f":"SUM(H11:H20)","v":0}]
["4.1","Išlaidų pavadinimas",null,null,null,null,{"$f":"ROUND(E11*F11,2)","v":0},{"$f":"ROUND(G11*$D$7,2)","v":0}]
["4.2","Išlaidų pavadinimas",null,null,null,null,0,0]
["4.3","Išlaidų pavadinimas",null,null,null,null,0,0]
["4.4","Išlaidų pavadinimas",null,null,null,null,0,0]
["4.5","Išlaidų pavadinimas",null,null,null,null,0,0]
["4.6","Išlaidų pavadinimas",null,null,null,null,0,0]
["4.7","Išlaidų pavadinimas",null,null,null,null,0,0]
["4.8","Išlaidų pavadinimas",null,null,null,null,0,0]
["4.9","Išlaidų pavadinimas",null,null,null,null,0,0]
["4.10","Išlaidų pavadinimas",null,null,null,null,0,0]
[5,"PROJEKTO VYKDYMAS",null,null,null,null,{"$f":"G22+G33+G44+G60+G76+G127+G198+G204","v":0},{"$f":"H22+H33+H44+H60+H76+H127+H198+H204","v":0}]
["5.1","MTEP paslaugos",null,null,null,null,{"$f":"SUM(G23:G32)","v":0},{"$f":"SUM(H23:H32)","v":0}]
["5.1.1","Paslaugos pavadinimas",null,null,null,null,{"$f":"ROUND(E23*F23,2)","v":0},0]
["5.1.2","Paslaugos pavadinimas",null,null,null,null,0,0]
["5.1.3","Paslaugos pavadinimas",null,null,null,null,0,0]
["5.1.4","Paslaugos pavadinimas",null,null,null,null,0,0]
["5.1.5","Paslaugos pavadinimas",null,null,null,null,0,0]
["5.1.6","Paslaugos pavadinimas",null,null,null,null,0,0]
["5.1.7","Paslaugos pavadinimas",null,null,null,null,0,0]
["5.1.8","Paslaugos pavadinimas",null,null,null,null,0,0]
["5.1.9","Paslaugos pavadinimas",null,null,null,null,0,0]
["5.1.10","Paslaugos pavadinimas",null,null,null,null,0,0]
["5.2","Konsultavimo ir lygiavertės paslaugos, naudojamos vien tik projekto MTEP veiklai",null,null,null,null,{"$f":"SUM(G34:G43)","v":0},{"$f":"SUM(H34:H43)","v":0}]
["5.2.1","Paslaugos pavadinimas",null,null,null,null,{"$f":"ROUND(E34*F34,2)","v":0},0]
["5.2.2","Paslaugos pavadinimas",null,null,null,null,0,0]
["5.2.3","Paslaugos pavadinimas",null,null,null,null,0,0]
["5.2.4","Paslaugos pavadinimas",null,null,null,null,0,0]
["5.2.5","Paslaugos pavadinimas",null,null,null,null,0,0]
["5.2.6","Paslaugos pavadinimas",null,null,null,null,0,0]
["5.2.7","Paslaugos pavadinimas",null,null,null,null,0,0]
["5.2.8","Paslaugos pavadinimas",null,null,null,null,0,0]
["5.2.9","Paslaugos pavadinimas",null,null,null,null,0,0]
["5.2.10","Paslaugos pavadinimas",null,null,null,null,0,0]
["5.3","Medžiagos, mažavertis inventorius, atsargos ir pan. produktai, priskirtini trumpalaikiam turtui ir tiesiogiai susiję su MTEP veikla",null,null,null,null,{"$f":"SUM(G45:G59)","v":0},{"$f":"SUM(H45:H59)","v":0}]
["5.3.1","Išlaidų pavadinimas",null,null,null,null,{"$f":"ROUND(E45*F45,2)","v":0},{"$f":"ROUND(G45*$D$7,2)","v":0}]
["5.3.2","Išlaidų pavadinimas",null,null,null,null,0,0]
["5.3.3","Išlaidų pavadinimas",null,null,null,null,0,0]
["5.3.4","Išlaidų pavadinimas",null,null,null,null,0,0]
["5.3.5","Išlaidų pavadinimas",null,null,null,null,0,0]
["5.3.6","Išlaidų pavadinimas",null,null,null,null,0,0]
["5.3.7","Išlaidų pavadinimas",null,null,null,null,0,0]
["5.3.8","Išlaidų pavadinimas",null,null,null,null,0,0]
["5.3.9","Išlaidų pavadinimas",null,null,null,null,0,0]
["5.3.10","Išlaidų pavadinimas",null,null,null,null,0,0]
["5.3.11","Išlaidų pavadinimas",null,null,null,null,0,0]
["5.3.12","Išlaidų pavadinimas",null,null,null,null,0,0]
["5.3.13","Išlaidų pavadinimas",null,null,null,null,0,0]
["5.3.14","Išlaidų pavadinimas",null,null,null,null,0,0]
["5.3.15","Išlaidų pavadinimas",null,null,null,null,0,0]
["5.4","Projekto MTEP veikloms naudojamo ilgalaikio materialaus turto (įrangos, prietaisų, įrankių, įrenginių, mašinų ir įrengimų, pastatų ir (ar) patalpų), nusidėvėjimo sąnaudos, jeigu šiam turtui įsigyti nebuvo naudojamos viešosios (įskaitant ir kitų valstybių) lėšos",null,null,null,null,{"$f":"SUM(G61:G75)","v":0},{"$f":"SUM(H61:H75)","v":0},null,null,"Turto įvedimo į eksploataciją data","Turto įsigijimo vertė, Eur","Turto nudėvėjimo, amortizacijos laikotarpis, mėn.","Numatoma turto likutinė vertė, Eur","1 mėn. nudėvėjimo, amortizacijos suma, Eur","Turto naudojamo projekto reikmėms laikas, mėn.","Turto panaudojimo projekto reikmėms dalis (proc.)","Projektui priskirta turto nusidėvėjimo, amortizacijos suma per projekto laikotarpį, Eur"]
["5.4.1","Turtas, kurio nusidėvėjimą, amortizaciją prašoma finansuoti",null,null,1,{"$f":"R61","v":0},{"$f":"ROUND(E61*F61,2)","v":0},0,null,null,null,null,null,null,{"$f":"IFERROR(ROUND((L61-N61)/M61,2),\"0\")","v":"0"},null,null,{"$f":"O61*P61*Q61","v":0},{"$f":"IF(K61=0,\" \",IF(K61+(M61*30.5)<TODAY(),\"DĖMESIO! Patikrinkite, ar nurodytas turtas dar nėra nudėvėtas, amortizuotas\",\" \"))","v":" "}]
["5.4.2","Turtas, kurio nusidėvėjimą, amortizaciją prašoma finansuoti",null,null,1,{"$f":"R62","v":0},0,0,null,null,null,null,null,null,{"$f":"IFERROR(ROUND((L62-N62)/M62,2),\"0\")","v":"0"},null,null,{"$f":"O62*P62*Q62","v":0},{"$f":"IF(K62=0,\" \",IF(K62+(M62*30.5)<TODAY(),\"DĖMESIO! Patikrinkite, ar nurodytas turtas dar nėra nudėvėtas, amortizuotas\",\" \"))","v":" "}]
["5.4.3","Turtas, kurio nusidėvėjimą, amortizaciją prašoma finansuoti",null,null,1,0,0,0,null,null,null,null,null,null,"0",null,null,0," "]
["5.4.4","Turtas, kurio nusidėvėjimą, amortizaciją prašoma finansuoti",null,null,1,0,0,0,null,null,null,null,null,null,"0",null,null,0," "]
["5.4.5","Turtas, kurio nusidėvėjimą, amortizaciją prašoma finansuoti",null,null,1,0,0,0,null,null,null,null,null,null,"0",null,null,0," "]
["5.4.6","Turtas, kurio nusidėvėjimą, amortizaciją prašoma finansuoti",null,null,1,0,0,0,null,null,null,null,null,null,"0",null,null,0," "]
["5.4.7","Turtas, kurio nusidėvėjimą, amortizaciją prašoma finansuoti",null,null,1,0,0,0,null,null,null,null,null,null,"0",null,null,0," "]
["5.4.8","Turtas, kurio nusidėvėjimą, amortizaciją prašoma finansuoti",null,null,1,0,0,0,null,null,null,null,null,null,"0",null,null,0," "]
["5.4.9","Turtas, kurio nusidėvėjimą, amortizaciją prašoma finansuoti",null,null,1,0,0,0,null,null,null,null,null,null,"0",null,null,0," "]
["5.4.10","Turtas, kurio nusidėvėjimą, amortizaciją prašoma finansuoti",null,null,1,0,0,0,null,null,null,null,null,null,"0",null,null,0," "]
["5.4.11","Turtas, kurio nusidėvėjimą, amortizaciją prašoma finansuoti",null,null,1,0,0,0,null,null,null,null,null,null,"0",null,null,0," "]
["5.4.12","Turtas, kurio nusidėvėjimą, amortizaciją prašoma finansuoti",null,null,1,0,0,0,null,null,null,null,null,null,"0",null,null,0," "]
["5.4.13","Turtas, kurio nusidėvėjimą, amortizaciją prašoma finansuoti",null,null,1,0,0,0,null,null,null,null,null,null,"0",null,null,0," "]
["5.4.14","Turtas, kurio nusidėvėjimą, amortizaciją prašoma finansuoti",null,null,1,0,0,0,null,null,null,null,null,null,"0",null,null,0," "]
["5.4.15","Turtas, kurio nusidėvėjimą, amortizaciją prašoma finansuoti",null,null,1,0,0,0,null,null,null,null,null,null,"0",null,null,0," "]
["5.5","Projektą vykdančio personalo darbo užmokestis ir išlaidos su darbo santykiais susijusiems darbdavio įsipareigojimams",null,null,null,null,{"$f":"SUM(G77:G126)","v":0},{"$f":"SUM(H77:H126)","v":0},null,null,"Faktiškai gaunamas darbo užmokesti už 1 valandą pagal  pastarųjų 6 mėn. vidurkį, Eur"]
["5.5.1","Pareigybės pavadinimas","Darbuotojo vardas pavardė","val.",null,{"$f":"IFERROR(ROUND(AVERAGE(K77:K81),2),\"0\")","v":"0"},{"$f":"ROUND(E77*F77,2)","v":0},{"$f":"ROUND(G77*$D$7,2)","v":0}]
[null,null,"Darbuotojo vardas pavardė"]
[null,null,"Darbuotojo vardas pavardė"]
[null,null,"Darbuotojo vardas pavardė"]
[null,null,"Darbuotojo vardas pavardė"]
["5.5.2","Pareigybės pavadinimas","Darbuotojo vardas pavardė","val.",null,{"$f":"IFERROR(ROUND(AVERAGE(K82:K86),2),\"0\")","v":"0"},{"$f":"ROUND(E82*F82,2)","v":0},{"$f":"ROUND(G82*$D$7,2)","v":0}]
[null,null,"Darbuotojo vardas pavardė"]
[null,null,"Darbuotojo vardas pavardė"]
[null,null,"Darbuotojo vardas pavardė"]
[null,null,"Darbuotojo vardas pavardė"]
["5.5.3","Pareigybės pavadinimas","Darbuotojo vardas pavardė","val.",null,{"$f":"IFERROR(ROUND(AVERAGE(K87:K91),2),\"0\")","v":"0"},{"$f":"ROUND(E87*F87,2)","v":0},{"$f":"ROUND(G87*$D$7,2)","v":0}]
[null,null,"Darbuotojo vardas pavardė"]
[null,null,"Darbuotojo vardas pavardė"]
[null,null,"Darbuotojo vardas pavardė"]
[null,null,"Darbuotojo vardas pavardė"]
["5.5.4","Pareigybės pavadinimas","Darbuotojo vardas pavardė","val.",null,{"$f":"IFERROR(ROUND(AVERAGE(K92:K96),2),\"0\")","v":"0"},{"$f":"ROUND(E92*F92,2)","v":0},{"$f":"ROUND(G92*$D$7,2)","v":0}]
[null,null,"Darbuotojo vardas pavardė"]
[null,null,"Darbuotojo vardas pavardė"]
[null,null,"Darbuotojo vardas pavardė"]
[null,null,"Darbuotojo vardas pavardė"]
["5.5.5","Pareigybės pavadinimas","Darbuotojo vardas pavardė","val.",null,{"$f":"IFERROR(ROUND(AVERAGE(K97:K101),2),\"0\")","v":"0"},{"$f":"ROUND(E97*F97,2)","v":0},{"$f":"ROUND(G97*$D$7,2)","v":0}]
[null,null,"Darbuotojo vardas pavardė"]
[null,null,"Darbuotojo vardas pavardė"]
[null,null,"Darbuotojo vardas pavardė"]
[null,null,"Darbuotojo vardas pavardė"]
["5.5.6","Pareigybės pavadinimas","Darbuotojo vardas pavardė","val.",null,{"$f":"IFERROR(ROUND(AVERAGE(K102:K106),2),\"0\")","v":"0"},{"$f":"ROUND(E102*F102,2)","v":0},{"$f":"ROUND(G102*$D$7,2)","v":0}]
[null,null,"Darbuotojo vardas pavardė"]
[null,null,"Darbuotojo vardas pavardė"]
[null,null,"Darbuotojo vardas pavardė"]
[null,null,"Darbuotojo vardas pavardė"]
["5.5.7","Pareigybės pavadinimas","Darbuotojo vardas pavardė","val.",null,{"$f":"IFERROR(ROUND(AVERAGE(K107:K111),2),\"0\")","v":"0"},{"$f":"ROUND(E107*F107,2)","v":0},{"$f":"ROUND(G107*$D$7,2)","v":0}]
[null,null,"Darbuotojo vardas pavardė"]
[null,null,"Darbuotojo vardas pavardė"]
[null,null,"Darbuotojo vardas pavardė"]
[null,null,"Darbuotojo vardas pavardė"]
["5.5.8","Pareigybės pavadinimas","Darbuotojo vardas pavardė","val.",null,{"$f":"IFERROR(ROUND(AVERAGE(K112:K116),2),\"0\")","v":"0"},{"$f":"ROUND(E112*F112,2)","v":0},{"$f":"ROUND(G112*$D$7,2)","v":0}]
[null,null,"Darbuotojo vardas pavardė"]
[null,null,"Darbuotojo vardas pavardė"]
[null,null,"Darbuotojo vardas pavardė"]
[null,null,"Darbuotojo vardas pavardė"]
["5.5.9","Pareigybės pavadinimas","Darbuotojo vardas pavardė","val.",null,{"$f":"IFERROR(ROUND(AVERAGE(K117:K121),2),\"0\")","v":"0"},{"$f":"ROUND(E117*F117,2)","v":0},{"$f":"ROUND(G117*$D$7,2)","v":0}]
[null,null,"Darbuotojo vardas pavardė"]
[null,null,"Darbuotojo vardas pavardė"]
[null,null,"Darbuotojo vardas pavardė"]
[null,null,"Darbuotojo vardas pavardė"]
["5.5.10","Pareigybės pavadinimas","Darbuotojo vardas pavardė","val.",null,{"$f":"IFERROR(ROUND(AVERAGE(K122:K126),2),\"0\")","v":"0"},{"$f":"ROUND(E122*F122,2)","v":0},{"$f":"ROUND(G122*$D$7,2)","v":0}]
[null,null,"Darbuotojo vardas pavardė"]
[null,null,"Darbuotojo vardas pavardė"]
[null,null,"Darbuotojo vardas pavardė"]
[null,null,"Darbuotojo vardas pavardė"]
["5.6","Projektą vykdančio personalo komandiruočių išlaidos",null,null,null,null,{"$f":"SUM(G128,G135,G142,G149,G156,G163,G170,G177,G184,G191)","v":0},{"$f":"SUM(H128,H135,H142,H149,H156,H163,H170,H177,H184,H191)","v":0}]
["5.6.1","Komandiruotės pavadinimas, vieta, trukmė dienomis, vykstančių asmenų skaičius","Iš viso komandiruotei",null,null,null,{"$f":"SUM(G129:G134)","v":0},{"$f":"ROUND(G128*$D$7,2)","v":0}]
[null,null,"Dienpinigiai",null,null,null,{"$f":"ROUND(E129*F129,2)","v":0}]
[null,null,"Gyvenamojo ploto nuoma",null,null,null,0]
[null,null,"Kelionės išlaidos",null,null,null,0]
[null,null,"Dalyvavimo mokestis",null,null,null,0]
[null,null,"Kitos išlaidų pavadinimas",null,null,null,0]
[null,null,"Kitos išlaidų pavadinimas",null,null,null,0]
["5.6.2","Komandiruotės pavadinimas, vieta, trukmė dienomis, vykstančių asmenų skaičius","Iš viso komandiruotei",null,null,null,{"$f":"SUM(G136:G141)","v":0},{"$f":"ROUND(G135*$D$7,2)","v":0}]
[null,null,"Dienpinigiai",null,null,null,{"$f":"ROUND(E136*F136,2)","v":0}]
[null,null,"Gyvenamojo ploto nuoma",null,null,null,0]
[null,null,"Kelionės išlaidos",null,null,null,0]
[null,null,"Dalyvavimo mokestis",null,null,null,0]
[null,null,"Kitos išlaidų pavadinimas",null,null,null,0]
[null,null,"Kitos išlaidų pavadinimas",null,null,null,0]
["5.6.3","Komandiruotės pavadinimas, vieta, trukmė dienomis, vykstančių asmenų skaičius","Iš viso komandiruotei",null,null,null,{"$f":"SUM(G143:G148)","v":0},{"$f":"ROUND(G142*$D$7,2)","v":0}]
[null,null,"Dienpinigiai",null,null,null,{"$f":"ROUND(E143*F143,2)","v":0}]
[null,null,"Gyvenamojo ploto nuoma",null,null,null,0]
[null,null,"Kelionės išlaidos",null,null,null,0]
[null,null,"Dalyvavimo mokestis",null,null,null,0]
[null,null,"Kitos išlaidų pavadinimas",null,null,null,0]
[null,null,"Kitos išlaidų pavadinimas",null,null,null,0]
["5.6.4","Komandiruotės pavadinimas, vieta, trukmė dienomis, vykstančių asmenų skaičius","Iš viso komandiruotei",null,null,null,{"$f":"SUM(G150:G155)","v":0},{"$f":"ROUND(G149*$D$7,2)","v":0}]
[null,null,"Dienpinigiai",null,null,null,{"$f":"ROUND(E150*F150,2)","v":0}]
[null,null,"Gyvenamojo ploto nuoma",null,null,null,0]
[null,null,"Kelionės išlaidos",null,null,null,0]
[null,null,"Dalyvavimo mokestis",null,null,null,0]
[null,null,"Kitos išlaidų pavadinimas",null,null,null,0]
[null,null,"Kitos išlaidų pavadinimas",null,null,null,0]
["5.6.5","Komandiruotės pavadinimas, vieta, trukmė dienomis, vykstančių asmenų skaičius","Iš viso komandiruotei",null,null,null,{"$f":"SUM(G157:G162)","v":0},{"$f":"ROUND(G156*$D$7,2)","v":0}]
[null,null,"Dienpinigiai",null,null,null,{"$f":"ROUND(E157*F157,2)","v":0}]
[null,null,"Gyvenamojo ploto nuoma",null,null,null,0]
[null,null,"Kelionės išlaidos",null,null,null,0]
[null,null,"Dalyvavimo mokestis",null,null,null,0]
[null,null,"Kitos išlaidų pavadinimas",null,null,null,0]
[null,null,"Kitos išlaidų pavadinimas",null,null,null,0]
["5.6.6","Komandiruotės pavadinimas, vieta, trukmė dienomis, vykstančių asmenų skaičius","Iš viso komandiruotei",null,null,null,{"$f":"SUM(G164:G169)","v":0},{"$f":"ROUND(G163*$D$7,2)","v":0}]
[null,null,"Dienpinigiai",null,null,null,{"$f":"ROUND(E164*F164,2)","v":0}]
[null,null,"Gyvenamojo ploto nuoma",null,null,null,0]
[null,null,"Kelionės išlaidos",null,null,null,0]
[null,null,"Dalyvavimo mokestis",null,null,null,0]
[null,null,"Kitos išlaidų pavadinimas",null,null,null,0]
[null,null,"Kitos išlaidų pavadinimas",null,null,null,0]
["5.6.7","Komandiruotės pavadinimas, vieta, trukmė dienomis, vykstančių asmenų skaičius","Iš viso komandiruotei",null,null,null,{"$f":"SUM(G171:G176)","v":0},{"$f":"ROUND(G170*$D$7,2)","v":0}]
[null,null,"Dienpinigiai",null,null,null,{"$f":"ROUND(E171*F171,2)","v":0}]
[null,null,"Gyvenamojo ploto nuoma",null,null,null,0]
[null,null,"Kelionės išlaidos",null,null,null,0]
[null,null,"Dalyvavimo mokestis",null,null,null,0]
[null,null,"Kitos išlaidų pavadinimas",null,null,null,0]
[null,null,"Kitos išlaidų pavadinimas",null,null,null,0]
["5.6.8","Komandiruotės pavadinimas, vieta, trukmė dienomis, vykstančių asmenų skaičius","Iš viso komandiruotei",null,null,null,{"$f":"SUM(G178:G183)","v":0},{"$f":"ROUND(G177*$D$7,2)","v":0}]
[null,null,"Dienpinigiai",null,null,null,{"$f":"ROUND(E178*F178,2)","v":0}]
[null,null,"Gyvenamojo ploto nuoma",null,null,null,0]
[null,null,"Kelionės išlaidos",null,null,null,0]
[null,null,"Dalyvavimo mokestis",null,null,null,0]
[null,null,"Kitos išlaidų pavadinimas",null,null,null,0]
[null,null,"Kitos išlaidų pavadinimas",null,null,null,0]
["5.6.9","Komandiruotės pavadinimas, vieta, trukmė dienomis, vykstančių asmenų skaičius","Iš viso komandiruotei",null,null,null,{"$f":"SUM(G185:G190)","v":0},{"$f":"ROUND(G184*$D$7,2)","v":0}]
[null,null,"Dienpinigiai",null,null,null,{"$f":"ROUND(E185*F185,2)","v":0}]
[null,null,"Gyvenamojo ploto nuoma",null,null,null,0]
[null,null,"Kelionės išlaidos",null,null,null,0]
[null,null,"Dalyvavimo mokestis",null,null,null,0]
[null,null,"Kitos išlaidų pavadinimas",null,null,null,0]
[null,null,"Kitos išlaidų pavadinimas",null,null,null,0]
["5.6.10","Komandiruotės pavadinimas, vieta, trukmė dienomis, vykstančių asmenų skaičius","Iš viso komandiruotei",null,null,null,{"$f":"SUM(G192:G197)","v":0},{"$f":"ROUND(G191*$D$7,2)","v":0}]
[null,null,"Dienpinigiai",null,null,null,{"$f":"ROUND(E192*F192,2)","v":0}]
[null,null,"Gyvenamojo ploto nuoma",null,null,null,0]
[null,null,"Kelionės išlaidos",null,null,null,0]
[null,null,"Dalyvavimo mokestis",null,null,null,0]
[null,null,"Kitos išlaidų pavadinimas",null,null,null,0]
[null,null,"Kitos išlaidų pavadinimas",null,null,null,0]
["5.7","Įrangos nuomos išlaidos, veiklai priskirtos pro rata principu. Įranga turi būti tiesiogiai susijusi su projekto įgyvendinimu ir negali būti įsigyta iš ES struktūrinių fondų ar kt. ES finansinių priemonių lėšų",null,null,null,null,{"$f":"SUM(G199:G203)","v":0},{"$f":"SUM(H199:H203)","v":0},null,null,"Faktinės 1 mėnesio išlaidos, Eur","Naudojimo projekte trukmė, mėn."]
["5.7.1","Įrangos pavadinimas",null,"pro rata proc.",null,{"$f":"K199*L199","v":0},0,{"$f":"ROUND(G199*$D$7,2)","v":0}]
["5.7.2","Įrangos pavadinimas",null,"pro rata proc.",null,{"$f":"K200*L200","v":0},0,{"$f":"ROUND(G200*$D$7,2)","v":0}]
["5.7.3","Įrangos pavadinimas",null,"pro rata proc.",null,0,0,0]
["5.7.4","Įrangos pavadinimas",null,"pro rata proc.",null,0,0,0]
["5.7.5","Įrangos pavadinimas",null,"pro rata proc.",null,0,0,0]
["5.8","Pastatų ar patalpų nuomos išlaidos, veiklai priskirtos pro rata principu. Pastatai ar patalpos turi būti tiesiogiai susijusi su projekto įgyvendinimu.",null,null,null,null,{"$f":"SUM(G205:G209)","v":0},{"$f":"SUM(H205:H209)","v":0},null,null,"Faktinės 1 mėnesio išlaidos, Eur","Naudojimo projekte trukmė, mėn."]
["5.8.1","Pastato, patalpų adresas",null,"pro rata proc.",null,{"$f":"K205*L205","v":0},{"$f":"ROUND(E205*F205,2)","v":0},{"$f":"ROUND(G205*$D$7,2)","v":0}]
["5.8.2","Pastato, patalpų adresas",null,"pro rata proc.",null,{"$f":"K206*L206","v":0},0,0]
["5.8.3","Pastato, patalpų adresas",null,"pro rata proc.",null,0,0,0]
["5.8.4","Pastato, patalpų adresas",null,"pro rata proc.",null,0,0,0]
["5.8.5","Pastato, patalpų adresas",null,"pro rata proc.",null,0,0,0]
["Iš viso tinkamų finansuoti išlaidų:",null,null,null,null,null,{"$f":"G10+G21","v":0},{"$f":"H10+H21","v":0}]

{"sheet":"24","index":25,"n_rows":210,"n_cols":19,"rows_kept":210,"cut":false,"hidden":false,"merged":[[0,3,0,8],[2,0,2,2],[2,3,2,8],[3,3,3,4],[3,5,3,6],[4,0,4,2],[4,3,4,8],[14,1,14,2],[15,1,15,2],[16,1,16,2],[17,1,17,2],[18,1,18,2],[19,1,19,2],[8,1,8,2],[9,1,9,5],[10,1,10,2],[11,1,11,2],[12,1,12,2],[13,1,13,2],[26,1,26,2],[27,1,27,2],[28,1,28,2],[29,1,29,2],[30,1,30,2],[31,1,31,2],[20,1,20,5],[21,1,21,5],[22,1,22,2],[23,1,23,2],[24,1,24,2],[25,1,25,2],[38,1,38,2],[39,1,39,2],[40,1,40,2],[41,1,41,2],[42,1,42,2],[43,1,43,5],[32,1,32,5],[33,1,33,2],[34,1,34,2],[35,1,35,2],[36,1,36,2],[37,1,37,2],[50,1,50,2],[51,1,51,2],[52,1,52,2],[53,1,53,2],[54,1,54,2],[55,1,55,2],[44,1,44,2],[45,1,45,2],[46,1,46,2],[47,1,47,2],[48,1,48,2],[49,1,49,2],[62,1,62,2],[63,1,63,2],[64,1,64,2],[65,1,65,2],[66,1,66,2],[67,1,67,2],[56,1,56,2],[57,1,57,2],[58,1,58,2],[59,1,59,5],[60,1,60,2],[61,1,61,2],[74,1,74,2],[75,1,75,5],[76,0,80,0],[76,1,80,1],[76,3,80,3],[76,4,80,4],[76,5,80,5],[68,1,68,2],[69,1,69,2],[70,1,70,2],[71,1,71,2],[72,1,72,2],[73,1,73,2],[76,6,80,6],[76,7,80,7],[76,8,80,8],[81,0,85,0],[81,1,85,1],[81,3,85,3],[81,4,85,4],[81,5,85,5],[81,6,85,6],[81,7,85,7],[81,8,85,8],[86,0,90,0],[86,1,90,1],[86,3,90,3],[86,4,90,4],[86,5,90,5],[86,6,90,6],[86,7,90,7],[86,8,90,8],[91,7,95,7],[91,8,95,8],[96,0,100,0],[96,1,100,1],[96,3,100,3],[96,4,100,4],[96,5,100,5],[96,6,100,6],[96,7,100,7],[96,8,100,8],[91,0,95,0],[91,1,95,1],[91,3,95,3],[91,4,95,4],[91,5,95,5],[91,6,95,6],[101,7,105,7],[101,8,105,8],[106,0,110,0],[106,1,110,1],[106,3,110,3],[106,4,110,4],[106,5,110,5],[106,6,110,6],[106,7,110,7],[106,8,110,8],[101,0,105,0],[101,1,105,1],[101,3,105,3],[101,4,105,4],[101,5,105,5],[101,6,105,6],[111,7,115,7],[111,8,115,8],[116,0,120,0],[116,1,120,1],[116,3,120,3],[116,4,120,4],[116,5,120,5],[116,6,120,6],[116,7,120,7],[116,8,120,8],[111,0,115,0],[111,1,115,1],[111,3,115,3],[111,4,115,4],[111,5,115,5],[111,6,115,6],[127,1,133,1],[121,7,125,7],[121,8,125,8],[126,1,126,5],[121,0,125,0],[121,1,125,1],[121,3,125,3],[121,4,125,4],[121,5,125,5],[121,6,125,6],[127,0,133,0],[127,8,133,8],[134,0,140,0],[134,1,140,1],[134,8,140,8],[141,0,147,0],[141,1,147,1],[141,8,147,8],[148,0,154,0],[148,1,154,1],[148,8,154,8],[155,0,161,0],[155,1,161,1],[155,8,161,8],[162,0,168,0],[162,1,168,1],[162,8,168,8],[169,0,175,0],[169,1,175,1],[169,8,175,8],[176,0,182,0],[176,1,182,1],[176,8,182,8],[183,0,189,0],[183,1,189,1],[183,8,189,8],[190,0,196,0],[190,1,196,1],[190,8,196,8],[206,1,206,2],[207,1,207,2],[208,1,208,2],[209,0,209,5],[197,1,197,5],[198,1,198,2],[199,1,199,2],[200,1,200,2],[201,1,201,2],[202,1,202,2],[203,1,203,5],[204,1,204,2],[205,1,205,2]]}
[null,null,"Pasirinkite veiklos tipą:"]
[null,null,"Fizinio rodiklio Nr.:"]
["Fizinio rodiklio pavadinimas:"]
[null,null,"Fizinio rodiklio matavimo vnt.:",null,null,"Fizinio rodiklio vnt. skaičius:"]
["Juridinis asmuo (pareiškėjas, partneris), atsakingas už fizinį rodiklį:"]
[]
[null,null,"Finansavimo intensyvumas:",null,null,null,"Pasirinkite biudžeto išlaidų kategoriją:"]
[]
["Eil. Nr.","Išlaidų kategorijos pavadinimas",null,"Matavimo vnt.","Kiekis","Vieneto kaina be PVM, Eur","Tinkamų finansuoti išlaidų suma be PVM, Eur","Finansavimo suma, Eur","Išlaidų pagrindimo dokumentų pavadinimas, data ir Nr."]
[4,"ĮRANGA, ĮRENGINIAI IR KT. TURTAS (techninių žinių ir išradimų patentų arba teisių pagal licencijų sutartį įsigijimo išlaidos)",null,null,null,null,{"$f":"SUM(G11:G20)","v":0},{"$f":"SUM(H11:H20)","v":0}]
["4.1","Išlaidų pavadinimas",null,null,null,null,{"$f":"ROUND(E11*F11,2)","v":0},{"$f":"ROUND(G11*$D$7,2)","v":0}]
["4.2","Išlaidų pavadinimas",null,null,null,null,0,0]
["4.3","Išlaidų pavadinimas",null,null,null,null,0,0]
["4.4","Išlaidų pavadinimas",null,null,null,null,0,0]
["4.5","Išlaidų pavadinimas",null,null,null,null,0,0]
["4.6","Išlaidų pavadinimas",null,null,null,null,0,0]
["4.7","Išlaidų pavadinimas",null,null,null,null,0,0]
["4.8","Išlaidų pavadinimas",null,null,null,null,0,0]
["4.9","Išlaidų pavadinimas",null,null,null,null,0,0]
["4.10","Išlaidų pavadinimas",null,null,null,null,0,0]
[5,"PROJEKTO VYKDYMAS",null,null,null,null,{"$f":"G22+G33+G44+G60+G76+G127+G198+G204","v":0},{"$f":"H22+H33+H44+H60+H76+H127+H198+H204","v":0}]
["5.1","MTEP paslaugos",null,null,null,null,{"$f":"SUM(G23:G32)","v":0},{"$f":"SUM(H23:H32)","v":0}]
["5.1.1","Paslaugos pavadinimas",null,null,null,null,{"$f":"ROUND(E23*F23,2)","v":0},0]
["5.1.2","Paslaugos pavadinimas",null,null,null,null,0,0]
["5.1.3","Paslaugos pavadinimas",null,null,null,null,0,0]
["5.1.4","Paslaugos pavadinimas",null,null,null,null,0,0]
["5.1.5","Paslaugos pavadinimas",null,null,null,null,0,0]
["5.1.6","Paslaugos pavadinimas",null,null,null,null,0,0]
["5.1.7","Paslaugos pavadinimas",null,null,null,null,0,0]
["5.1.8","Paslaugos pavadinimas",null,null,null,null,0,0]
["5.1.9","Paslaugos pavadinimas",null,null,null,null,0,0]
["5.1.10","Paslaugos pavadinimas",null,null,null,null,0,0]
["5.2","Konsultavimo ir lygiavertės paslaugos, naudojamos vien tik projekto MTEP veiklai",null,null,null,null,{"$f":"SUM(G34:G43)","v":0},{"$f":"SUM(H34:H43)","v":0}]
["5.2.1","Paslaugos pavadinimas",null,null,null,null,{"$f":"ROUND(E34*F34,2)","v":0},0]
["5.2.2","Paslaugos pavadinimas",null,null,null,null,0,0]
["5.2.3","Paslaugos pavadinimas",null,null,null,null,0,0]
["5.2.4","Paslaugos pavadinimas",null,null,null,null,0,0]
["5.2.5","Paslaugos pavadinimas",null,null,null,null,0,0]
["5.2.6","Paslaugos pavadinimas",null,null,null,null,0,0]
["5.2.7","Paslaugos pavadinimas",null,null,null,null,0,0]
["5.2.8","Paslaugos pavadinimas",null,null,null,null,0,0]
["5.2.9","Paslaugos pavadinimas",null,null,null,null,0,0]
["5.2.10","Paslaugos pavadinimas",null,null,null,null,0,0]
["5.3","Medžiagos, mažavertis inventorius, atsargos ir pan. produktai, priskirtini trumpalaikiam turtui ir tiesiogiai susiję su MTEP veikla",null,null,null,null,{"$f":"SUM(G45:G59)","v":0},{"$f":"SUM(H45:H59)","v":0}]
["5.3.1","Išlaidų pavadinimas",null,null,null,null,{"$f":"ROUND(E45*F45,2)","v":0},{"$f":"ROUND(G45*$D$7,2)","v":0}]
["5.3.2","Išlaidų pavadinimas",null,null,null,null,0,0]
["5.3.3","Išlaidų pavadinimas",null,null,null,null,0,0]
["5.3.4","Išlaidų pavadinimas",null,null,null,null,0,0]
["5.3.5","Išlaidų pavadinimas",null,null,null,null,0,0]
["5.3.6","Išlaidų pavadinimas",null,null,null,null,0,0]
["5.3.7","Išlaidų pavadinimas",null,null,null,null,0,0]
["5.3.8","Išlaidų pavadinimas",null,null,null,null,0,0]
["5.3.9","Išlaidų pavadinimas",null,null,null,null,0,0]
["5.3.10","Išlaidų pavadinimas",null,null,null,null,0,0]
["5.3.11","Išlaidų pavadinimas",null,null,null,null,0,0]
["5.3.12","Išlaidų pavadinimas",null,null,null,null,0,0]
["5.3.13","Išlaidų pavadinimas",null,null,null,null,0,0]
["5.3.14","Išlaidų pavadinimas",null,null,null,null,0,0]
["5.3.15","Išlaidų pavadinimas",null,null,null,null,0,0]
["5.4","Projekto MTEP veikloms naudojamo ilgalaikio materialaus turto (įrangos, prietaisų, įrankių, įrenginių, mašinų ir įrengimų, pastatų ir (ar) patalpų), nusidėvėjimo sąnaudos, jeigu šiam turtui įsigyti nebuvo naudojamos viešosios (įskaitant ir kitų valstybių) lėšos",null,null,null,null,{"$f":"SUM(G61:G75)","v":0},{"$f":"SUM(H61:H75)","v":0},null,null,"Turto įvedimo į eksploataciją data","Turto įsigijimo vertė, Eur","Turto nudėvėjimo, amortizacijos laikotarpis, mėn.","Numatoma turto likutinė vertė, Eur","1 mėn. nudėvėjimo, amortizacijos suma, Eur","Turto naudojamo projekto reikmėms laikas, mėn.","Turto panaudojimo projekto reikmėms dalis (proc.)","Projektui priskirta turto nusidėvėjimo, amortizacijos suma per projekto laikotarpį, Eur"]
["5.4.1","Turtas, kurio nusidėvėjimą, amortizaciją prašoma finansuoti",null,null,1,{"$f":"R61","v":0},{"$f":"ROUND(E61*F61,2)","v":0},0,null,null,null,null,null,null,{"$f":"IFERROR(ROUND((L61-N61)/M61,2),\"0\")","v":"0"},null,null,{"$f":"O61*P61*Q61","v":0},{"$f":"IF(K61=0,\" \",IF(K61+(M61*30.5)<TODAY(),\"DĖMESIO! Patikrinkite, ar nurodytas turtas dar nėra nudėvėtas, amortizuotas\",\" \"))","v":" "}]
["5.4.2","Turtas, kurio nusidėvėjimą, amortizaciją prašoma finansuoti",null,null,1,{"$f":"R62","v":0},0,0,null,null,null,null,null,null,{"$f":"IFERROR(ROUND((L62-N62)/M62,2),\"0\")","v":"0"},null,null,{"$f":"O62*P62*Q62","v":0},{"$f":"IF(K62=0,\" \",IF(K62+(M62*30.5)<TODAY(),\"DĖMESIO! Patikrinkite, ar nurodytas turtas dar nėra nudėvėtas, amortizuotas\",\" \"))","v":" "}]
["5.4.3","Turtas, kurio nusidėvėjimą, amortizaciją prašoma finansuoti",null,null,1,0,0,0,null,null,null,null,null,null,"0",null,null,0," "]
["5.4.4","Turtas, kurio nusidėvėjimą, amortizaciją prašoma finansuoti",null,null,1,0,0,0,null,null,null,null,null,null,"0",null,null,0," "]
["5.4.5","Turtas, kurio nusidėvėjimą, amortizaciją prašoma finansuoti",null,null,1,0,0,0,null,null,null,null,null,null,"0",null,null,0," "]
["5.4.6","Turtas, kurio nusidėvėjimą, amortizaciją prašoma finansuoti",null,null,1,0,0,0,null,null,null,null,null,null,"0",null,null,0," "]
["5.4.7","Turtas, kurio nusidėvėjimą, amortizaciją prašoma finansuoti",null,null,1,0,0,0,null,null,null,null,null,null,"0",null,null,0," "]
["5.4.8","Turtas, kurio nusidėvėjimą, amortizaciją prašoma finansuoti",null,null,1,0,0,0,null,null,null,null,null,null,"0",null,null,0," "]
["5.4.9","Turtas, kurio nusidėvėjimą, amortizaciją prašoma finansuoti",null,null,1,0,0,0,null,null,null,null,null,null,"0",null,null,0," "]
["5.4.10","Turtas, kurio nusidėvėjimą, amortizaciją prašoma finansuoti",null,null,1,0,0,0,null,null,null,null,null,null,"0",null,null,0," "]
["5.4.11","Turtas, kurio nusidėvėjimą, amortizaciją prašoma finansuoti",null,null,1,0,0,0,null,null,null,null,null,null,"0",null,null,0," "]
["5.4.12","Turtas, kurio nusidėvėjimą, amortizaciją prašoma finansuoti",null,null,1,0,0,0,null,null,null,null,null,null,"0",null,null,0," "]
["5.4.13","Turtas, kurio nusidėvėjimą, amortizaciją prašoma finansuoti",null,null,1,0,0,0,null,null,null,null,null,null,"0",null,null,0," "]
["5.4.14","Turtas, kurio nusidėvėjimą, amortizaciją prašoma finansuoti",null,null,1,0,0,0,null,null,null,null,null,null,"0",null,null,0," "]
["5.4.15","Turtas, kurio nusidėvėjimą, amortizaciją prašoma finansuoti",null,null,1,0,0,0,null,null,null,null,null,null,"0",null,null,0," "]
["5.5","Projektą vykdančio personalo darbo užmokestis ir išlaidos su darbo santykiais susijusiems darbdavio įsipareigojimams",null,null,null,null,{"$f":"SUM(G77:G126)","v":0},{"$f":"SUM(H77:H126)","v":0},null,null,"Faktiškai gaunamas darbo užmokesti už 1 valandą pagal  pastarųjų 6 mėn. vidurkį, Eur"]
["5.5.1","Pareigybės pavadinimas","Darbuotojo vardas pavardė","val.",null,{"$f":"IFERROR(ROUND(AVERAGE(K77:K81),2),\"0\")","v":"0"},{"$f":"ROUND(E77*F77,2)","v":0},{"$f":"ROUND(G77*$D$7,2)","v":0}]
[null,null,"Darbuotojo vardas pavardė"]
[null,null,"Darbuotojo vardas pavardė"]
[null,null,"Darbuotojo vardas pavardė"]
[null,null,"Darbuotojo vardas pavardė"]
["5.5.2","Pareigybės pavadinimas","Darbuotojo vardas pavardė","val.",null,{"$f":"IFERROR(ROUND(AVERAGE(K82:K86),2),\"0\")","v":"0"},{"$f":"ROUND(E82*F82,2)","v":0},{"$f":"ROUND(G82*$D$7,2)","v":0}]
[null,null,"Darbuotojo vardas pavardė"]
[null,null,"Darbuotojo vardas pavardė"]
[null,null,"Darbuotojo vardas pavardė"]
[null,null,"Darbuotojo vardas pavardė"]
["5.5.3","Pareigybės pavadinimas","Darbuotojo vardas pavardė","val.",null,{"$f":"IFERROR(ROUND(AVERAGE(K87:K91),2),\"0\")","v":"0"},{"$f":"ROUND(E87*F87,2)","v":0},{"$f":"ROUND(G87*$D$7,2)","v":0}]
[null,null,"Darbuotojo vardas pavardė"]
[null,null,"Darbuotojo vardas pavardė"]
[null,null,"Darbuotojo vardas pavardė"]
[null,null,"Darbuotojo vardas pavardė"]
["5.5.4","Pareigybės pavadinimas","Darbuotojo vardas pavardė","val.",null,{"$f":"IFERROR(ROUND(AVERAGE(K92:K96),2),\"0\")","v":"0"},{"$f":"ROUND(E92*F92,2)","v":0},{"$f":"ROUND(G92*$D$7,2)","v":0}]
[null,null,"Darbuotojo vardas pavardė"]
[null,null,"Darbuotojo vardas pavardė"]
[null,null,"Darbuotojo vardas pavardė"]
[null,null,"Darbuotojo vardas pavardė"]
["5.5.5","Pareigybės pavadinimas","Darbuotojo vardas pavardė","val.",null,{"$f":"IFERROR(ROUND(AVERAGE(K97:K101),2),\"0\")","v":"0"},{"$f":"ROUND(E97*F97,2)","v":0},{"$f":"ROUND(G97*$D$7,2)","v":0}]
[null,null,"Darbuotojo vardas pavardė"]
[null,null,"Darbuotojo vardas pavardė"]
[null,null,"Darbuotojo vardas pavardė"]
[null,null,"Darbuotojo vardas pavardė"]
["5.5.6","Pareigybės pavadinimas","Darbuotojo vardas pavardė","val.",null,{"$f":"IFERROR(ROUND(AVERAGE(K102:K106),2),\"0\")","v":"0"},{"$f":"ROUND(E102*F102,2)","v":0},{"$f":"ROUND(G102*$D$7,2)","v":0}]
[null,null,"Darbuotojo vardas pavardė"]
[null,null,"Darbuotojo vardas pavardė"]
[null,null,"Darbuotojo vardas pavardė"]
[null,null,"Darbuotojo vardas pavardė"]
["5.5.7","Pareigybės pavadinimas","Darbuotojo vardas pavardė","val.",null,{"$f":"IFERROR(ROUND(AVERAGE(K107:K111),2),\"0\")","v":"0"},{"$f":"ROUND(E107*F107,2)","v":0},{"$f":"ROUND(G107*$D$7,2)","v":0}]
[null,null,"Darbuotojo vardas pavardė"]
[null,null,"Darbuotojo vardas pavardė"]
[null,null,"Darbuotojo vardas pavardė"]
[null,null,"Darbuotojo vardas pavardė"]
["5.5.8","Pareigybės pavadinimas","Darbuotojo vardas pavardė","val.",null,{"$f":"IFERROR(ROUND(AVERAGE(K112:K116),2),\"0\")","v":"0"},{"$f":"ROUND(E112*F112,2)","v":0},{"$f":"ROUND(G112*$D$7,2)","v":0}]
[null,null,"Darbuotojo vardas pavardė"]
[null,null,"Darbuotojo vardas pavardė"]
[null,null,"Darbuotojo vardas pavardė"]
[null,null,"Darbuotojo vardas pavardė"]
["5.5.9","Pareigybės pavadinimas","Darbuotojo vardas pavardė","val.",null,{"$f":"IFERROR(ROUND(AVERAGE(K117:K121),2),\"0\")","v":"0"},{"$f":"ROUND(E117*F117,2)","v":0},{"$f":"ROUND(G117*$D$7,2)","v":0}]
[null,null,"Darbuotojo vardas pavardė"]
[null,null,"Darbuotojo vardas pavardė"]
[null,null,"Darbuotojo vardas pavardė"]
[null,null,"Darbuotojo vardas pavardė"]
["5.5.10","Pareigybės pavadinimas","Darbuotojo vardas pavardė","val.",null,{"$f":"IFERROR(ROUND(AVERAGE(K122:K126),2),\"0\")","v":"0"},{"$f":"ROUND(E122*F122,2)","v":0},{"$f":"ROUND(G122*$D$7,2)","v":0}]
[null,null,"Darbuotojo vardas pavardė"]
[null,null,"Darbuotojo vardas pavardė"]
[null,null,"Darbuotojo vardas pavardė"]
[null,null,"Darbuotojo vardas pavardė"]
["5.6","Projektą vykdančio personalo komandiruočių išlaidos",null,null,null,null,{"$f":"SUM(G128,G135,G142,G149,G156,G163,G170,G177,G184,G191)","v":0},{"$f":"SUM(H128,H135,H142,H149,H156,H163,H170,H177,H184,H191)","v":0}]
["5.6.1","Komandiruotės pavadinimas, vieta, trukmė dienomis, vykstančių asmenų skaičius","Iš viso komandiruotei",null,null,null,{"$f":"SUM(G129:G134)","v":0},{"$f":"ROUND(G128*$D$7,2)","v":0}]
[null,null,"Dienpinigiai",null,null,null,{"$f":"ROUND(E129*F129,2)","v":0}]
[null,null,"Gyvenamojo ploto nuoma",null,null,null,0]
[null,null,"Kelionės išlaidos",null,null,null,0]
[null,null,"Dalyvavimo mokestis",null,null,null,0]
[null,null,"Kitos išlaidų pavadinimas",null,null,null,0]
[null,null,"Kitos išlaidų pavadinimas",null,null,null,0]
["5.6.2","Komandiruotės pavadinimas, vieta, trukmė dienomis, vykstančių asmenų skaičius","Iš viso komandiruotei",null,null,null,{"$f":"SUM(G136:G141)","v":0},{"$f":"ROUND(G135*$D$7,2)","v":0}]
[null,null,"Dienpinigiai",null,null,null,{"$f":"ROUND(E136*F136,2)","v":0}]
[null,null,"Gyvenamojo ploto nuoma",null,null,null,0]
[null,null,"Kelionės išlaidos",null,null,null,0]
[null,null,"Dalyvavimo mokestis",null,null,null,0]
[null,null,"Kitos išlaidų pavadinimas",null,null,null,0]
[null,null,"Kitos išlaidų pavadinimas",null,null,null,0]
["5.6.3","Komandiruotės pavadinimas, vieta, trukmė dienomis, vykstančių asmenų skaičius","Iš viso komandiruotei",null,null,null,{"$f":"SUM(G143:G148)","v":0},{"$f":"ROUND(G142*$D$7,2)","v":0}]
[null,null,"Dienpinigiai",null,null,null,{"$f":"ROUND(E143*F143,2)","v":0}]
[null,null,"Gyvenamojo ploto nuoma",null,null,null,0]
[null,null,"Kelionės išlaidos",null,null,null,0]
[null,null,"Dalyvavimo mokestis",null,null,null,0]
[null,null,"Kitos išlaidų pavadinimas",null,null,null,0]
[null,null,"Kitos išlaidų pavadinimas",null,null,null,0]
["5.6.4","Komandiruotės pavadinimas, vieta, trukmė dienomis, vykstančių asmenų skaičius","Iš viso komandiruotei",null,null,null,{"$f":"SUM(G150:G155)","v":0},{"$f":"ROUND(G149*$D$7,2)","v":0}]
[null,null,"Dienpinigiai",null,null,null,{"$f":"ROUND(E150*F150,2)","v":0}]
[null,null,"Gyvenamojo ploto nuoma",null,null,null,0]
[null,null,"Kelionės išlaidos",null,null,null,0]
[null,null,"Dalyvavimo mokestis",null,null,null,0]
[null,null,"Kitos išlaidų pavadinimas",null,null,null,0]
[null,null,"Kitos išlaidų pavadinimas",null,null,null,0]
["5.6.5","Komandiruotės pavadinimas, vieta, trukmė dienomis, vykstančių asmenų skaičius","Iš viso komandiruotei",null,null,null,{"$f":"SUM(G157:G162)","v":0},{"$f":"ROUND(G156*$D$7,2)","v":0}]
[null,null,"Dienpinigiai",null,null,null,{"$f":"ROUND(E157*F157,2)","v":0}]
[null,null,"Gyvenamojo ploto nuoma",null,null,null,0]
[null,null,"Kelionės išlaidos",null,null,null,0]
[null,null,"Dalyvavimo mokestis",null,null,null,0]
[null,null,"Kitos išlaidų pavadinimas",null,null,null,0]
[null,null,"Kitos išlaidų pavadinimas",null,null,null,0]
["5.6.6","Komandiruotės pavadinimas, vieta, trukmė dienomis, vykstančių asmenų skaičius","Iš viso komandiruotei",null,null,null,{"$f":"SUM(G164:G169)","v":0},{"$f":"ROUND(G163*$D$7,2)","v":0}]
[null,null,"Dienpinigiai",null,null,null,{"$f":"ROUND(E164*F164,2)","v":0}]
[null,null,"Gyvenamojo ploto nuoma",null,null,null,0]
[null,null,"Kelionės išlaidos",null,null,null,0]
[null,null,"Dalyvavimo mokestis",null,null,null,0]
[null,null,"Kitos išlaidų pavadinimas",null,null,null,0]
[null,null,"Kitos išlaidų pavadinimas",null,null,null,0]
["5.6.7","Komandiruotės pavadinimas, vieta, trukmė dienomis, vykstančių asmenų skaičius","Iš viso komandiruotei",null,null,null,{"$f":"SUM(G171:G176)","v":0},{"$f":"ROUND(G170*$D$7,2)","v":0}]
[null,null,"Dienpinigiai",null,null,null,{"$f":"ROUND(E171*F171,2)","v":0}]
[null,null,"Gyvenamojo ploto nuoma",null,null,null,0]
[null,null,"Kelionės išlaidos",null,null,null,0]
[null,null,"Dalyvavimo mokestis",null,null,null,0]
[null,null,"Kitos išlaidų pavadinimas",null,null,null,0]
[null,null,"Kitos išlaidų pavadinimas",null,null,null,0]
["5.6.8","Komandiruotės pavadinimas, vieta, trukmė dienomis, vykstančių asmenų skaičius","Iš viso komandiruotei",null,null,null,{"$f":"SUM(G178:G183)","v":0},{"$f":"ROUND(G177*$D$7,2)","v":0}]
[null,null,"Dienpinigiai",null,null,null,{"$f":"ROUND(E178*F178,2)","v":0}]
[null,null,"Gyvenamojo ploto nuoma",null,null,null,0]
[null,null,"Kelionės išlaidos",null,null,null,0]
[null,null,"Dalyvavimo mokestis",null,null,null,0]
[null,null,"Kitos išlaidų pavadinimas",null,null,null,0]
[null,null,"Kitos išlaidų pavadinimas",null,null,null,0]
["5.6.9","Komandiruotės pavadinimas, vieta, trukmė dienomis, vykstančių asmenų skaičius","Iš viso komandiruotei",null,null,null,{"$f":"SUM(G185:G190)","v":0},{"$f":"ROUND(G184*$D$7,2)","v":0}]
[null,null,"Dienpinigiai",null,null,null,{"$f":"ROUND(E185*F185,2)","v":0}]
[null,null,"Gyvenamojo ploto nuoma",null,null,null,0]
[null,null,"Kelionės išlaidos",null,null,null,0]
[null,null,"Dalyvavimo mokestis",null,null,null,0]
[null,null,"Kitos išlaidų pavadinimas",null,null,null,0]
[null,null,"Kitos išlaidų pavadinimas",null,null,null,0]
["5.6.10","Komandiruotės pavadinimas, vieta, trukmė dienomis, vykstančių asmenų skaičius","Iš viso komandiruotei",null,null,null,{"$f":"SUM(G192:G197)","v":0},{"$f":"ROUND(G191*$D$7,2)","v":0}]
[null,null,"Dienpinigiai",null,null,null,{"$f":"ROUND(E192*F192,2)","v":0}]
[null,null,"Gyvenamojo ploto nuoma",null,null,null,0]
[null,null,"Kelionės išlaidos",null,null,null,0]
[null,null,"Dalyvavimo mokestis",null,null,null,0]
[null,null,"Kitos išlaidų pavadinimas",null,null,null,0]
[null,null,"Kitos išlaidų pavadinimas",null,null,null,0]
["5.7","Įrangos nuomos išlaidos, veiklai priskirtos pro rata principu. Įranga turi būti tiesiogiai susijusi su projekto įgyvendinimu ir negali būti įsigyta iš ES struktūrinių fondų ar kt. ES finansinių priemonių lėšų",null,null,null,null,{"$f":"SUM(G199:G203)","v":0},{"$f":"SUM(H199:H203)","v":0},null,null,"Faktinės 1 mėnesio išlaidos, Eur","Naudojimo projekte trukmė, mėn."]
["5.7.1","Įrangos pavadinimas",null,"pro rata proc.",null,{"$f":"K199*L199","v":0},0,{"$f":"ROUND(G199*$D$7,2)","v":0}]
["5.7.2","Įrangos pavadinimas",null,"pro rata proc.",null,{"$f":"K200*L200","v":0},0,{"$f":"ROUND(G200*$D$7,2)","v":0}]
["5.7.3","Įrangos pavadinimas",null,"pro rata proc.",null,0,0,0]
["5.7.4","Įrangos pavadinimas",null,"pro rata proc.",null,0,0,0]
["5.7.5","Įrangos pavadinimas",null,"pro rata proc.",null,0,0,0]
["5.8","Pastatų ar patalpų nuomos išlaidos, veiklai priskirtos pro rata principu. Pastatai ar patalpos turi būti tiesiogiai susijusi su projekto įgyvendinimu.",null,null,null,null,{"$f":"SUM(G205:G209)","v":0},{"$f":"SUM(H205:H209)","v":0},null,null,"Faktinės 1 mėnesio išlaidos, Eur","Naudojimo projekte trukmė, mėn."]
["5.8.1","Pastato, patalpų adresas",null,"pro rata proc.",null,{"$f":"K205*L205","v":0},{"$f":"ROUND(E205*F205,2)","v":0},{"$f":"ROUND(G205*$D$7,2)","v":0}]
["5.8.2","Pastato, patalpų adresas",null,"pro rata proc.",null,{"$f":"K206*L206","v":0},0,0]
["5.8.3","Pastato, patalpų adresas",null,"pro rata proc.",null,0,0,0]
["5.8.4","Pastato, patalpų adresas",null,"pro rata proc.",null,0,0,0]
["5.8.5","Pastato, patalpų adresas",null,"pro rata proc.",null,0,0,0]
["Iš viso tinkamų finansuoti išlaidų:",null,null,null,null,null,{"$f":"G10+G21","v":0},{"$f":"H10+H21","v":0}]

{"sheet":"25","index":26,"n_rows":210,"n_cols":19,"rows_kept":210,"cut":false,"hidden":false,"merged":[[0,3,0,8],[2,0,2,2],[2,3,2,8],[3,3,3,4],[3,5,3,6],[4,0,4,2],[4,3,4,8],[14,1,14,2],[15,1,15,2],[16,1,16,2],[17,1,17,2],[18,1,18,2],[19,1,19,2],[8,1,8,2],[9,1,9,5],[10,1,10,2],[11,1,11,2],[12,1,12,2],[13,1,13,2],[26,1,26,2],[27,1,27,2],[28,1,28,2],[29,1,29,2],[30,1,30,2],[31,1,31,2],[20,1,20,5],[21,1,21,5],[22,1,22,2],[23,1,23,2],[24,1,24,2],[25,1,25,2],[38,1,38,2],[39,1,39,2],[40,1,40,2],[41,1,41,2],[42,1,42,2],[43,1,43,5],[32,1,32,5],[33,1,33,2],[34,1,34,2],[35,1,35,2],[36,1,36,2],[37,1,37,2],[50,1,50,2],[51,1,51,2],[52,1,52,2],[53,1,53,2],[54,1,54,2],[55,1,55,2],[44,1,44,2],[45,1,45,2],[46,1,46,2],[47,1,47,2],[48,1,48,2],[49,1,49,2],[62,1,62,2],[63,1,63,2],[64,1,64,2],[65,1,65,2],[66,1,66,2],[67,1,67,2],[56,1,56,2],[57,1,57,2],[58,1,58,2],[59,1,59,5],[60,1,60,2],[61,1,61,2],[74,1,74,2],[75,1,75,5],[76,0,80,0],[76,1,80,1],[76,3,80,3],[76,4,80,4],[76,5,80,5],[68,1,68,2],[69,1,69,2],[70,1,70,2],[71,1,71,2],[72,1,72,2],[73,1,73,2],[76,6,80,6],[76,7,80,7],[76,8,80,8],[81,0,85,0],[81,1,85,1],[81,3,85,3],[81,4,85,4],[81,5,85,5],[81,6,85,6],[81,7,85,7],[81,8,85,8],[86,0,90,0],[86,1,90,1],[86,3,90,3],[86,4,90,4],[86,5,90,5],[86,6,90,6],[86,7,90,7],[86,8,90,8],[91,7,95,7],[91,8,95,8],[96,0,100,0],[96,1,100,1],[96,3,100,3],[96,4,100,4],[96,5,100,5],[96,6,100,6],[96,7,100,7],[96,8,100,8],[91,0,95,0],[91,1,95,1],[91,3,95,3],[91,4,95,4],[91,5,95,5],[91,6,95,6],[101,7,105,7],[101,8,105,8],[106,0,110,0],[106,1,110,1],[106,3,110,3],[106,4,110,4],[106,5,110,5],[106,6,110,6],[106,7,110,7],[106,8,110,8],[101,0,105,0],[101,1,105,1],[101,3,105,3],[101,4,105,4],[101,5,105,5],[101,6,105,6],[111,7,115,7],[111,8,115,8],[116,0,120,0],[116,1,120,1],[116,3,120,3],[116,4,120,4],[116,5,120,5],[116,6,120,6],[116,7,120,7],[116,8,120,8],[111,0,115,0],[111,1,115,1],[111,3,115,3],[111,4,115,4],[111,5,115,5],[111,6,115,6],[127,1,133,1],[121,7,125,7],[121,8,125,8],[126,1,126,5],[121,0,125,0],[121,1,125,1],[121,3,125,3],[121,4,125,4],[121,5,125,5],[121,6,125,6],[127,0,133,0],[127,8,133,8],[134,0,140,0],[134,1,140,1],[134,8,140,8],[141,0,147,0],[141,1,147,1],[141,8,147,8],[148,0,154,0],[148,1,154,1],[148,8,154,8],[155,0,161,0],[155,1,161,1],[155,8,161,8],[162,0,168,0],[162,1,168,1],[162,8,168,8],[169,0,175,0],[169,1,175,1],[169,8,175,8],[176,0,182,0],[176,1,182,1],[176,8,182,8],[183,0,189,0],[183,1,189,1],[183,8,189,8],[190,0,196,0],[190,1,196,1],[190,8,196,8],[206,1,206,2],[207,1,207,2],[208,1,208,2],[209,0,209,5],[197,1,197,5],[198,1,198,2],[199,1,199,2],[200,1,200,2],[201,1,201,2],[202,1,202,2],[203,1,203,5],[204,1,204,2],[205,1,205,2]]}
[null,null,"Pasirinkite veiklos tipą:"]
[null,null,"Fizinio rodiklio Nr.:"]
["Fizinio rodiklio pavadinimas:"]
[null,null,"Fizinio rodiklio matavimo vnt.:",null,null,"Fizinio rodiklio vnt. skaičius:"]
["Juridinis asmuo (pareiškėjas, partneris), atsakingas už fizinį rodiklį:"]
[]
[null,null,"Finansavimo intensyvumas:",null,null,null,"Pasirinkite biudžeto išlaidų kategoriją:"]
[]
["Eil. Nr.","Išlaidų kategorijos pavadinimas",null,"Matavimo vnt.","Kiekis","Vieneto kaina be PVM, Eur","Tinkamų finansuoti išlaidų suma be PVM, Eur","Finansavimo suma, Eur","Išlaidų pagrindimo dokumentų pavadinimas, data ir Nr."]
[4,"ĮRANGA, ĮRENGINIAI IR KT. TURTAS (techninių žinių ir išradimų patentų arba teisių pagal licencijų sutartį įsigijimo išlaidos)",null,null,null,null,{"$f":"SUM(G11:G20)","v":0},{"$f":"SUM(H11:H20)","v":0}]
["4.1","Išlaidų pavadinimas",null,null,null,null,{"$f":"ROUND(E11*F11,2)","v":0},{"$f":"ROUND(G11*$D$7,2)","v":0}]
["4.2","Išlaidų pavadinimas",null,null,null,null,0,0]
["4.3","Išlaidų pavadinimas",null,null,null,null,0,0]
["4.4","Išlaidų pavadinimas",null,null,null,null,0,0]
["4.5","Išlaidų pavadinimas",null,null,null,null,0,0]
["4.6","Išlaidų pavadinimas",null,null,null,null,0,0]
["4.7","Išlaidų pavadinimas",null,null,null,null,0,0]
["4.8","Išlaidų pavadinimas",null,null,null,null,0,0]
["4.9","Išlaidų pavadinimas",null,null,null,null,0,0]
["4.10","Išlaidų pavadinimas",null,null,null,null,0,0]
[5,"PROJEKTO VYKDYMAS",null,null,null,null,{"$f":"G22+G33+G44+G60+G76+G127+G198+G204","v":0},{"$f":"H22+H33+H44+H60+H76+H127+H198+H204","v":0}]
["5.1","MTEP paslaugos",null,null,null,null,{"$f":"SUM(G23:G32)","v":0},{"$f":"SUM(H23:H32)","v":0}]
["5.1.1","Paslaugos pavadinimas",null,null,null,null,{"$f":"ROUND(E23*F23,2)","v":0},0]
["5.1.2","Paslaugos pavadinimas",null,null,null,null,0,0]
["5.1.3","Paslaugos pavadinimas",null,null,null,null,0,0]
["5.1.4","Paslaugos pavadinimas",null,null,null,null,0,0]
["5.1.5","Paslaugos pavadinimas",null,null,null,null,0,0]
["5.1.6","Paslaugos pavadinimas",null,null,null,null,0,0]
["5.1.7","Paslaugos pavadinimas",null,null,null,null,0,0]
["5.1.8","Paslaugos pavadinimas",null,null,null,null,0,0]
["5.1.9","Paslaugos pavadinimas",null,null,null,null,0,0]
["5.1.10","Paslaugos pavadinimas",null,null,null,null,0,0]
["5.2","Konsultavimo ir lygiavertės paslaugos, naudojamos vien tik projekto MTEP veiklai",null,null,null,null,{"$f":"SUM(G34:G43)","v":0},{"$f":"SUM(H34:H43)","v":0}]
["5.2.1","Paslaugos pavadinimas",null,null,null,null,{"$f":"ROUND(E34*F34,2)","v":0},0]
["5.2.2","Paslaugos pavadinimas",null,null,null,null,0,0]
["5.2.3","Paslaugos pavadinimas",null,null,null,null,0,0]
["5.2.4","Paslaugos pavadinimas",null,null,null,null,0,0]
["5.2.5","Paslaugos pavadinimas",null,null,null,null,0,0]
["5.2.6","Paslaugos pavadinimas",null,null,null,null,0,0]
["5.2.7","Paslaugos pavadinimas",null,null,null,null,0,0]
["5.2.8","Paslaugos pavadinimas",null,null,null,null,0,0]
["5.2.9","Paslaugos pavadinimas",null,null,null,null,0,0]
["5.2.10","Paslaugos pavadinimas",null,null,null,null,0,0]
["5.3","Medžiagos, mažavertis inventorius, atsargos ir pan. produktai, priskirtini trumpalaikiam turtui ir tiesiogiai susiję su MTEP veikla",null,null,null,null,{"$f":"SUM(G45:G59)","v":0},{"$f":"SUM(H45:H59)","v":0}]
["5.3.1","Išlaidų pavadinimas",null,null,null,null,{"$f":"ROUND(E45*F45,2)","v":0},{"$f":"ROUND(G45*$D$7,2)","v":0}]
["5.3.2","Išlaidų pavadinimas",null,null,null,null,0,0]
["5.3.3","Išlaidų pavadinimas",null,null,null,null,0,0]
["5.3.4","Išlaidų pavadinimas",null,null,null,null,0,0]
["5.3.5","Išlaidų pavadinimas",null,null,null,null,0,0]
["5.3.6","Išlaidų pavadinimas",null,null,null,null,0,0]
["5.3.7","Išlaidų pavadinimas",null,null,null,null,0,0]
["5.3.8","Išlaidų pavadinimas",null,null,null,null,0,0]
["5.3.9","Išlaidų pavadinimas",null,null,null,null,0,0]
["5.3.10","Išlaidų pavadinimas",null,null,null,null,0,0]
["5.3.11","Išlaidų pavadinimas",null,null,null,null,0,0]
["5.3.12","Išlaidų pavadinimas",null,null,null,null,0,0]
["5.3.13","Išlaidų pavadinimas",null,null,null,null,0,0]
["5.3.14","Išlaidų pavadinimas",null,null,null,null,0,0]
["5.3.15","Išlaidų pavadinimas",null,null,null,null,0,0]
["5.4","Projekto MTEP veikloms naudojamo ilgalaikio materialaus turto (įrangos, prietaisų, įrankių, įrenginių, mašinų ir įrengimų, pastatų ir (ar) patalpų), nusidėvėjimo sąnaudos, jeigu šiam turtui įsigyti nebuvo naudojamos viešosios (įskaitant ir kitų valstybių) lėšos",null,null,null,null,{"$f":"SUM(G61:G75)","v":0},{"$f":"SUM(H61:H75)","v":0},null,null,"Turto įvedimo į eksploataciją data","Turto įsigijimo vertė, Eur","Turto nudėvėjimo, amortizacijos laikotarpis, mėn.","Numatoma turto likutinė vertė, Eur","1 mėn. nudėvėjimo, amortizacijos suma, Eur","Turto naudojamo projekto reikmėms laikas, mėn.","Turto panaudojimo projekto reikmėms dalis (proc.)","Projektui priskirta turto nusidėvėjimo, amortizacijos suma per projekto laikotarpį, Eur"]
["5.4.1","Turtas, kurio nusidėvėjimą, amortizaciją prašoma finansuoti",null,null,1,{"$f":"R61","v":0},{"$f":"ROUND(E61*F61,2)","v":0},0,null,null,null,null,null,null,{"$f":"IFERROR(ROUND((L61-N61)/M61,2),\"0\")","v":"0"},null,null,{"$f":"O61*P61*Q61","v":0},{"$f":"IF(K61=0,\" \",IF(K61+(M61*30.5)<TODAY(),\"DĖMESIO! Patikrinkite, ar nurodytas turtas dar nėra nudėvėtas, amortizuotas\",\" \"))","v":" "}]
["5.4.2","Turtas, kurio nusidėvėjimą, amortizaciją prašoma finansuoti",null,null,1,{"$f":"R62","v":0},0,0,null,null,null,null,null,null,{"$f":"IFERROR(ROUND((L62-N62)/M62,2),\"0\")","v":"0"},null,null,{"$f":"O62*P62*Q62","v":0},{"$f":"IF(K62=0,\" \",IF(K62+(M62*30.5)<TODAY(),\"DĖMESIO! Patikrinkite, ar nurodytas turtas dar nėra nudėvėtas, amortizuotas\",\" \"))","v":" "}]
["5.4.3","Turtas, kurio nusidėvėjimą, amortizaciją prašoma finansuoti",null,null,1,0,0,0,null,null,null,null,null,null,"0",null,null,0," "]
["5.4.4","Turtas, kurio nusidėvėjimą, amortizaciją prašoma finansuoti",null,null,1,0,0,0,null,null,null,null,null,null,"0",null,null,0," "]
["5.4.5","Turtas, kurio nusidėvėjimą, amortizaciją prašoma finansuoti",null,null,1,0,0,0,null,null,null,null,null,null,"0",null,null,0," "]
["5.4.6","Turtas, kurio nusidėvėjimą, amortizaciją prašoma finansuoti",null,null,1,0,0,0,null,null,null,null,null,null,"0",null,null,0," "]
["5.4.7","Turtas, kurio nusidėvėjimą, amortizaciją prašoma finansuoti",null,null,1,0,0,0,null,null,null,null,null,null,"0",null,null,0," "]
["5.4.8","Turtas, kurio nusidėvėjimą, amortizaciją prašoma finansuoti",null,null,1,0,0,0,null,null,null,null,null,null,"0",null,null,0," "]
["5.4.9","Turtas, kurio nusidėvėjimą, amortizaciją prašoma finansuoti",null,null,1,0,0,0,null,null,null,null,null,null,"0",null,null,0," "]
["5.4.10","Turtas, kurio nusidėvėjimą, amortizaciją prašoma finansuoti",null,null,1,0,0,0,null,null,null,null,null,null,"0",null,null,0," "]
["5.4.11","Turtas, kurio nusidėvėjimą, amortizaciją prašoma finansuoti",null,null,1,0,0,0,null,null,null,null,null,null,"0",null,null,0," "]
["5.4.12","Turtas, kurio nusidėvėjimą, amortizaciją prašoma finansuoti",null,null,1,0,0,0,null,null,null,null,null,null,"0",null,null,0," "]
["5.4.13","Turtas, kurio nusidėvėjimą, amortizaciją prašoma finansuoti",null,null,1,0,0,0,null,null,null,null,null,null,"0",null,null,0," "]
["5.4.14","Turtas, kurio nusidėvėjimą, amortizaciją prašoma finansuoti",null,null,1,0,0,0,null,null,null,null,null,null,"0",null,null,0," "]
["5.4.15","Turtas, kurio nusidėvėjimą, amortizaciją prašoma finansuoti",null,null,1,0,0,0,null,null,null,null,null,null,"0",null,null,0," "]
["5.5","Projektą vykdančio personalo darbo užmokestis ir išlaidos su darbo santykiais susijusiems darbdavio įsipareigojimams",null,null,null,null,{"$f":"SUM(G77:G126)","v":0},{"$f":"SUM(H77:H126)","v":0},null,null,"Faktiškai gaunamas darbo užmokesti už 1 valandą pagal  pastarųjų 6 mėn. vidurkį, Eur"]
["5.5.1","Pareigybės pavadinimas","Darbuotojo vardas pavardė","val.",null,{"$f":"IFERROR(ROUND(AVERAGE(K77:K81),2),\"0\")","v":"0"},{"$f":"ROUND(E77*F77,2)","v":0},{"$f":"ROUND(G77*$D$7,2)","v":0}]
[null,null,"Darbuotojo vardas pavardė"]
[null,null,"Darbuotojo vardas pavardė"]
[null,null,"Darbuotojo vardas pavardė"]
[null,null,"Darbuotojo vardas pavardė"]
["5.5.2","Pareigybės pavadinimas","Darbuotojo vardas pavardė","val.",null,{"$f":"IFERROR(ROUND(AVERAGE(K82:K86),2),\"0\")","v":"0"},{"$f":"ROUND(E82*F82,2)","v":0},{"$f":"ROUND(G82*$D$7,2)","v":0}]
[null,null,"Darbuotojo vardas pavardė"]
[null,null,"Darbuotojo vardas pavardė"]
[null,null,"Darbuotojo vardas pavardė"]
[null,null,"Darbuotojo vardas pavardė"]
["5.5.3","Pareigybės pavadinimas","Darbuotojo vardas pavardė","val.",null,{"$f":"IFERROR(ROUND(AVERAGE(K87:K91),2),\"0\")","v":"0"},{"$f":"ROUND(E87*F87,2)","v":0},{"$f":"ROUND(G87*$D$7,2)","v":0}]
[null,null,"Darbuotojo vardas pavardė"]
[null,null,"Darbuotojo vardas pavardė"]
[null,null,"Darbuotojo vardas pavardė"]
[null,null,"Darbuotojo vardas pavardė"]
["5.5.4","Pareigybės pavadinimas","Darbuotojo vardas pavardė","val.",null,{"$f":"IFERROR(ROUND(AVERAGE(K92:K96),2),\"0\")","v":"0"},{"$f":"ROUND(E92*F92,2)","v":0},{"$f":"ROUND(G92*$D$7,2)","v":0}]
[null,null,"Darbuotojo vardas pavardė"]
[null,null,"Darbuotojo vardas pavardė"]
[null,null,"Darbuotojo vardas pavardė"]
[null,null,"Darbuotojo vardas pavardė"]
["5.5.5","Pareigybės pavadinimas","Darbuotojo vardas pavardė","val.",null,{"$f":"IFERROR(ROUND(AVERAGE(K97:K101),2),\"0\")","v":"0"},{"$f":"ROUND(E97*F97,2)","v":0},{"$f":"ROUND(G97*$D$7,2)","v":0}]
[null,null,"Darbuotojo vardas pavardė"]
[null,null,"Darbuotojo vardas pavardė"]
[null,null,"Darbuotojo vardas pavardė"]
[null,null,"Darbuotojo vardas pavardė"]
["5.5.6","Pareigybės pavadinimas","Darbuotojo vardas pavardė","val.",null,{"$f":"IFERROR(ROUND(AVERAGE(K102:K106),2),\"0\")","v":"0"},{"$f":"ROUND(E102*F102,2)","v":0},{"$f":"ROUND(G102*$D$7,2)","v":0}]
[null,null,"Darbuotojo vardas pavardė"]
[null,null,"Darbuotojo vardas pavardė"]
[null,null,"Darbuotojo vardas pavardė"]
[null,null,"Darbuotojo vardas pavardė"]
["5.5.7","Pareigybės pavadinimas","Darbuotojo vardas pavardė","val.",null,{"$f":"IFERROR(ROUND(AVERAGE(K107:K111),2),\"0\")","v":"0"},{"$f":"ROUND(E107*F107,2)","v":0},{"$f":"ROUND(G107*$D$7,2)","v":0}]
[null,null,"Darbuotojo vardas pavardė"]
[null,null,"Darbuotojo vardas pavardė"]
[null,null,"Darbuotojo vardas pavardė"]
[null,null,"Darbuotojo vardas pavardė"]
["5.5.8","Pareigybės pavadinimas","Darbuotojo vardas pavardė","val.",null,{"$f":"IFERROR(ROUND(AVERAGE(K112:K116),2),\"0\")","v":"0"},{"$f":"ROUND(E112*F112,2)","v":0},{"$f":"ROUND(G112*$D$7,2)","v":0}]
[null,null,"Darbuotojo vardas pavardė"]
[null,null,"Darbuotojo vardas pavardė"]
[null,null,"Darbuotojo vardas pavardė"]
[null,null,"Darbuotojo vardas pavardė"]
["5.5.9","Pareigybės pavadinimas","Darbuotojo vardas pavardė","val.",null,{"$f":"IFERROR(ROUND(AVERAGE(K117:K121),2),\"0\")","v":"0"},{"$f":"ROUND(E117*F117,2)","v":0},{"$f":"ROUND(G117*$D$7,2)","v":0}]
[null,null,"Darbuotojo vardas pavardė"]
[null,null,"Darbuotojo vardas pavardė"]
[null,null,"Darbuotojo vardas pavardė"]
[null,null,"Darbuotojo vardas pavardė"]
["5.5.10","Pareigybės pavadinimas","Darbuotojo vardas pavardė","val.",null,{"$f":"IFERROR(ROUND(AVERAGE(K122:K126),2),\"0\")","v":"0"},{"$f":"ROUND(E122*F122,2)","v":0},{"$f":"ROUND(G122*$D$7,2)","v":0}]
[null,null,"Darbuotojo vardas pavardė"]
[null,null,"Darbuotojo vardas pavardė"]
[null,null,"Darbuotojo vardas pavardė"]
[null,null,"Darbuotojo vardas pavardė"]
["5.6","Projektą vykdančio personalo komandiruočių išlaidos",null,null,null,null,{"$f":"SUM(G128,G135,G142,G149,G156,G163,G170,G177,G184,G191)","v":0},{"$f":"SUM(H128,H135,H142,H149,H156,H163,H170,H177,H184,H191)","v":0}]
["5.6.1","Komandiruotės pavadinimas, vieta, trukmė dienomis, vykstančių asmenų skaičius","Iš viso komandiruotei",null,null,null,{"$f":"SUM(G129:G134)","v":0},{"$f":"ROUND(G128*$D$7,2)","v":0}]
[null,null,"Dienpinigiai",null,null,null,{"$f":"ROUND(E129*F129,2)","v":0}]
[null,null,"Gyvenamojo ploto nuoma",null,null,null,0]
[null,null,"Kelionės išlaidos",null,null,null,0]
[null,null,"Dalyvavimo mokestis",null,null,null,0]
[null,null,"Kitos išlaidų pavadinimas",null,null,null,0]
[null,null,"Kitos išlaidų pavadinimas",null,null,null,0]
["5.6.2","Komandiruotės pavadinimas, vieta, trukmė dienomis, vykstančių asmenų skaičius","Iš viso komandiruotei",null,null,null,{"$f":"SUM(G136:G141)","v":0},{"$f":"ROUND(G135*$D$7,2)","v":0}]
[null,null,"Dienpinigiai",null,null,null,{"$f":"ROUND(E136*F136,2)","v":0}]
[null,null,"Gyvenamojo ploto nuoma",null,null,null,0]
[null,null,"Kelionės išlaidos",null,null,null,0]
[null,null,"Dalyvavimo mokestis",null,null,null,0]
[null,null,"Kitos išlaidų pavadinimas",null,null,null,0]
[null,null,"Kitos išlaidų pavadinimas",null,null,null,0]
["5.6.3","Komandiruotės pavadinimas, vieta, trukmė dienomis, vykstančių asmenų skaičius","Iš viso komandiruotei",null,null,null,{"$f":"SUM(G143:G148)","v":0},{"$f":"ROUND(G142*$D$7,2)","v":0}]
[null,null,"Dienpinigiai",null,null,null,{"$f":"ROUND(E143*F143,2)","v":0}]
[null,null,"Gyvenamojo ploto nuoma",null,null,null,0]
[null,null,"Kelionės išlaidos",null,null,null,0]
[null,null,"Dalyvavimo mokestis",null,null,null,0]
[null,null,"Kitos išlaidų pavadinimas",null,null,null,0]
[null,null,"Kitos išlaidų pavadinimas",null,null,null,0]
["5.6.4","Komandiruotės pavadinimas, vieta, trukmė dienomis, vykstančių asmenų skaičius","Iš viso komandiruotei",null,null,null,{"$f":"SUM(G150:G155)","v":0},{"$f":"ROUND(G149*$D$7,2)","v":0}]
[null,null,"Dienpinigiai",null,null,null,{"$f":"ROUND(E150*F150,2)","v":0}]
[null,null,"Gyvenamojo ploto nuoma",null,null,null,0]
[null,null,"Kelionės išlaidos",null,null,null,0]
[null,null,"Dalyvavimo mokestis",null,null,null,0]
[null,null,"Kitos išlaidų pavadinimas",null,null,null,0]
[null,null,"Kitos išlaidų pavadinimas",null,null,null,0]
["5.6.5","Komandiruotės pavadinimas, vieta, trukmė dienomis, vykstančių asmenų skaičius","Iš viso komandiruotei",null,null,null,{"$f":"SUM(G157:G162)","v":0},{"$f":"ROUND(G156*$D$7,2)","v":0}]
[null,null,"Dienpinigiai",null,null,null,{"$f":"ROUND(E157*F157,2)","v":0}]
[null,null,"Gyvenamojo ploto nuoma",null,null,null,0]
[null,null,"Kelionės išlaidos",null,null,null,0]
[null,null,"Dalyvavimo mokestis",null,null,null,0]
[null,null,"Kitos išlaidų pavadinimas",null,null,null,0]
[null,null,"Kitos išlaidų pavadinimas",null,null,null,0]
["5.6.6","Komandiruotės pavadinimas, vieta, trukmė dienomis, vykstančių asmenų skaičius","Iš viso komandiruotei",null,null,null,{"$f":"SUM(G164:G169)","v":0},{"$f":"ROUND(G163*$D$7,2)","v":0}]
[null,null,"Dienpinigiai",null,null,null,{"$f":"ROUND(E164*F164,2)","v":0}]
[null,null,"Gyvenamojo ploto nuoma",null,null,null,0]
[null,null,"Kelionės išlaidos",null,null,null,0]
[null,null,"Dalyvavimo mokestis",null,null,null,0]
[null,null,"Kitos išlaidų pavadinimas",null,null,null,0]
[null,null,"Kitos išlaidų pavadinimas",null,null,null,0]
["5.6.7","Komandiruotės pavadinimas, vieta, trukmė dienomis, vykstančių asmenų skaičius","Iš viso komandiruotei",null,null,null,{"$f":"SUM(G171:G176)","v":0},{"$f":"ROUND(G170*$D$7,2)","v":0}]
[null,null,"Dienpinigiai",null,null,null,{"$f":"ROUND(E171*F171,2)","v":0}]
[null,null,"Gyvenamojo ploto nuoma",null,null,null,0]
[null,null,"Kelionės išlaidos",null,null,null,0]
[null,null,"Dalyvavimo mokestis",null,null,null,0]
[null,null,"Kitos išlaidų pavadinimas",null,null,null,0]
[null,null,"Kitos išlaidų pavadinimas",null,null,null,0]
["5.6.8","Komandiruotės pavadinimas, vieta, trukmė dienomis, vykstančių asmenų skaičius","Iš viso komandiruotei",null,null,null,{"$f":"SUM(G178:G183)","v":0},{"$f":"ROUND(G177*$D$7,2)","v":0}]
[null,null,"Dienpinigiai",null,null,null,{"$f":"ROUND(E178*F178,2)","v":0}]
[null,null,"Gyvenamojo ploto nuoma",null,null,null,0]
[null,null,"Kelionės išlaidos",null,null,null,0]
[null,null,"Dalyvavimo mokestis",null,null,null,0]
[null,null,"Kitos išlaidų pavadinimas",null,null,null,0]
[null,null,"Kitos išlaidų pavadinimas",null,null,null,0]
["5.6.9","Komandiruotės pavadinimas, vieta, trukmė dienomis, vykstančių asmenų skaičius","Iš viso komandiruotei",null,null,null,{"$f":"SUM(G185:G190)","v":0},{"$f":"ROUND(G184*$D$7,2)","v":0}]
[null,null,"Dienpinigiai",null,null,null,{"$f":"ROUND(E185*F185,2)","v":0}]
[null,null,"Gyvenamojo ploto nuoma",null,null,null,0]
[null,null,"Kelionės išlaidos",null,null,null,0]
[null,null,"Dalyvavimo mokestis",null,null,null,0]
[null,null,"Kitos išlaidų pavadinimas",null,null,null,0]
[null,null,"Kitos išlaidų pavadinimas",null,null,null,0]
["5.6.10","Komandiruotės pavadinimas, vieta, trukmė dienomis, vykstančių asmenų skaičius","Iš viso komandiruotei",null,null,null,{"$f":"SUM(G192:G197)","v":0},{"$f":"ROUND(G191*$D$7,2)","v":0}]
[null,null,"Dienpinigiai",null,null,null,{"$f":"ROUND(E192*F192,2)","v":0}]
[null,null,"Gyvenamojo ploto nuoma",null,null,null,0]
[null,null,"Kelionės išlaidos",null,null,null,0]
[null,null,"Dalyvavimo mokestis",null,null,null,0]
[null,null,"Kitos išlaidų pavadinimas",null,null,null,0]
[null,null,"Kitos išlaidų pavadinimas",null,null,null,0]
["5.7","Įrangos nuomos išlaidos, veiklai priskirtos pro rata principu. Įranga turi būti tiesiogiai susijusi su projekto įgyvendinimu ir negali būti įsigyta iš ES struktūrinių fondų ar kt. ES finansinių priemonių lėšų",null,null,null,null,{"$f":"SUM(G199:G203)","v":0},{"$f":"SUM(H199:H203)","v":0},null,null,"Faktinės 1 mėnesio išlaidos, Eur","Naudojimo projekte trukmė, mėn."]
["5.7.1","Įrangos pavadinimas",null,"pro rata proc.",null,{"$f":"K199*L199","v":0},0,{"$f":"ROUND(G199*$D$7,2)","v":0}]
["5.7.2","Įrangos pavadinimas",null,"pro rata proc.",null,{"$f":"K200*L200","v":0},0,{"$f":"ROUND(G200*$D$7,2)","v":0}]
["5.7.3","Įrangos pavadinimas",null,"pro rata proc.",null,0,0,0]
["5.7.4","Įrangos pavadinimas",null,"pro rata proc.",null,0,0,0]
["5.7.5","Įrangos pavadinimas",null,"pro rata proc.",null,0,0,0]
["5.8","Pastatų ar patalpų nuomos išlaidos, veiklai priskirtos pro rata principu. Pastatai ar patalpos turi būti tiesiogiai susijusi su projekto įgyvendinimu.",null,null,null,null,{"$f":"SUM(G205:G209)","v":0},{"$f":"SUM(H205:H209)","v":0},null,null,"Faktinės 1 mėnesio išlaidos, Eur","Naudojimo projekte trukmė, mėn."]
["5.8.1","Pastato, patalpų adresas",null,"pro rata proc.",null,{"$f":"K205*L205","v":0},{"$f":"ROUND(E205*F205,2)","v":0},{"$f":"ROUND(G205*$D$7,2)","v":0}]
["5.8.2","Pastato, patalpų adresas",null,"pro rata proc.",null,{"$f":"K206*L206","v":0},0,0]
["5.8.3","Pastato, patalpų adresas",null,"pro rata proc.",null,0,0,0]
["5.8.4","Pastato, patalpų adresas",null,"pro rata proc.",null,0,0,0]
["5.8.5","Pastato, patalpų adresas",null,"pro rata proc.",null,0,0,0]
["Iš viso tinkamų finansuoti išlaidų:",null,null,null,null,null,{"$f":"G10+G21","v":0},{"$f":"H10+H21","v":0}]

{"sheet":"Netiesioginės išlaidos","index":27,"n_rows":84,"n_cols":10,"rows_kept":84,"cut":false,"hidden":false,"merged":[[82,0,82,1],[83,0,83,1],[25,8,25,9],[52,0,52,1],[53,0,53,1],[54,0,54,5],[55,2,55,3],[55,4,55,5],[55,6,55,7],[55,8,55,9],[13,1,13,2],[14,0,14,2],[15,0,15,2],[17,0,17,2],[18,0,18,2],[23,0,23,7],[24,0,24,5],[25,2,25,3],[25,4,25,5],[25,6,25,7],[10,0,10,2],[11,0,11,7],[12,1,12,2],[0,0,0,5],[7,1,7,2],[5,0,5,2],[9,0,9,2],[4,0,4,5],[2,0,2,7],[6,0,6,7],[8,1,8,2]]}
["7. Netiesioginių išlaidų ir kt. išlaidų pagal fiksuotąją projekto išlaidų normą apskaičiavimas"]
[]
["Žemiau esančios lentelės žaliuose laukuose įrašykite planuojamas patirti su projekto administravimu susijusias išlaidas mokslinių tyrimų ir eksperimentinės plėtros veikloms atskirai. Pareiškėjui ir kiekvienam projekto partneriui pildykite atskirą lentelės stulpelį. \nNetiesioginių išlaidų finansavimo suma bus apskaičiuojama automatiškai, po to, kai užpildysite šiame lape esančias 2 ir 3 lenteles."]
[]
["1 lentelė: Netiesioginių išlaidų pasiskirstymas pagal projekto vykdytojus"]
["Netiesioginės išlaidos",null,null,"Pareiškėjo","Partnerio Nr. 1","Partnerio Nr. 2","Partnerio Nr. 3","Iš viso, Eur"]
["Mokslinių tyrimų (MT) veiklos"]
["7.1","Projektą administruojančių asmenų darbo užmokestis ir išlaidos su darbo santykiais susijusiems darbdavio įsipareigojimams",null,null,null,null,null,{"$f":"SUM(D8:G8)","v":0}]
["7.2","Su projekto administravimo reikmėms susijusių prekių įsigijimo išlaidos, Eur",null,null,null,null,null,{"$f":"SUM(D9:G9)","v":0}]
["Iš viso MT netiesioginės išlaidos:",null,null,{"$f":"D8+D9","v":0},{"$f":"E8+E9","v":0},{"$f":"F8+F9","v":0},{"$f":"G8+G9","v":0},{"$f":"SUM(D10:G10)","v":0}]
["MT finansavimo suma, Eur",null,null,{"$f":"D10*D54","v":0},{"$f":"E10*F54","v":0},{"$f":"F10*H54","v":0},{"$f":"G10*J54","v":0},{"$f":"SUM(D11:G11)","v":0}]
["Eksperimentinės plėtros (EP) veiklos"]
["7.1","Projektą administruojančių asmenų darbo užmokestis ir išlaidos su darbo santykiais susijusiems darbdavio įsipareigojimams",null,null,null,null,null,{"$f":"SUM(D13:G13)","v":0}]
["7.2","Su projekto administravimo reikmėms susijusių prekių įsigijimo išlaidos, Eur",null,null,null,null,null,{"$f":"SUM(D14:G14)","v":0}]
["Iš viso EP netiesioginės išlaidos:",null,null,{"$f":"D13+D14","v":0},{"$f":"E13+E14","v":0},{"$f":"F13+F14","v":0},{"$f":"G13+G14","v":0},{"$f":"SUM(D15:G15)","v":0}]
["EP finansavimo suma, Eur",null,null,{"$f":"D15*D84","v":0},{"$f":"E15*F84","v":0},{"$f":"F15*H84","v":0},{"$f":"G15*J84","v":0},{"$f":"SUM(D16:G16)","v":0}]
[]
["Iš viso netiesioginių išlaidų:",null,null,{"$f":"D10+D15","v":0},{"$f":"E10+E15","v":0},0,0,{"$f":"H10+H15","v":0}]
["Bendra finansavimo suma, Eur",null,null,{"$f":"D11+D16","v":0},0,0,0,0]
[]
[]
[]
[]
["Užpildykite žemiau esančias lenteles, nurodydami pareiškėjo ir kiekvieno projekto partnerio tinkamas finansuoti išlaidas pagal fizinius rodiklius. (Tikslinių fundamentinių ir) Mokslinių tyrimų veiklų ir eksperimentinės plėtros veiklų fizinius rodiklius surašykite į atskiras lenteles.\nSuminę kiekvieno fizinio rodiklio tinkamų finansuoti išlaidų sumą paimkite iš atitinkamo fizinio rodiklio lapo G stulpelio, finansavimo sumą – iš H stulpelio."]
["2 lentelė: Kiekvieno projekto vykdytojo mokslinių tyrimų veiklų tinkamų finansuoti išlaidų pasiskirstymas pagal fizinius rodiklius"]
[null,null,"Pareiškėjo išlaidos",null,"Projekto partnerio Nr. 1 išlaidos",null,"Projekto partnerio Nr. 2 išlaidos",null,"Projekto partnerio Nr. 3 išlaidos"]
["Fizinio rodiklio Nr.","(Tikslinių fundamentinių ir) Mokslinių tyrimų veiklų fizinio rodiklio pavadinimas","Tinkamų finansuoti išlaidų suma be PVM, Eur","Finansavimo suma, Eur","Tinkamų finansuoti išlaidų suma be PVM, Eur","Finansavimo suma, Eur","Tinkamų finansuoti išlaidų suma be PVM, Eur","Finansavimo suma, Eur","Tinkamų finansuoti išlaidų suma be PVM, Eur","Finansavimo suma, Eur"]
[]
[]
[]
[]
[]
[]
[]
[]
[]
[]
[]
[]
[]
[]
[]
[]
[]
[]
[]
[]
[]
[]
[]
[]
[]
["Iš viso:",null,{"$f":"SUM(C28:C52)","v":0},0,0,0,0,0,0,0]
["Vidutinis finansavimo intensyvumo vidurkis:",null,null,{"$f":"IFERROR(D53/C53,\"0,00%\")","v":"0,00%"},null,{"$f":"IFERROR(F53/E53,\"0,00%\")","v":"0,00%"},null,{"$f":"IFERROR(H53/G53,\"0,00%\")","v":"0,00%"},null,{"$f":"IFERROR(J53/I53,\"0,00%\")","v":"0,00%"}]
["3 lentelė: Kiekvieno projekto vykdytojo eksperimentinės plėtros  veiklų tinkamų finansuoti išlaidų pasiskirstymas pagal fizinius rodiklius"]
[null,null,"Pareiškėjo išlaidos",null,"Projekto partnerio Nr. 1 išlaidos",null,"Projekto partnerio Nr. 2 išlaidos",null,"Projekto partnerio Nr. 3 išlaidos"]
["Fizinio rodiklio Nr.","Eksperimentinės plėtros veiklų fizinio rodiklio pavadinimas","Tinkamų finansuoti išlaidų suma be PVM, Eur","Finansavimo suma, Eur","Tinkamų finansuoti išlaidų suma be PVM, Eur","Finansavimo suma, Eur","Tinkamų finansuoti išlaidų suma be PVM, Eur","Finansavimo suma, Eur","Tinkamų finansuoti išlaidų suma be PVM, Eur","Finansavimo suma, Eur"]
[]
[]
[]
[]
[]
[]
[]
[]
[]
[]
[]
[]
[]
[]
[]
[]
[]
[]
[]
[]
[]
[]
[]
[]
[]
["Iš viso:",null,{"$f":"SUM(C58:C82)","v":0},{"$f":"SUM(D58:D82)","v":0},0,0,0,0,0,0]
["Vidutinis finansavimo intensyvumo vidurkis:",null,null,{"$f":"IFERROR(D83/C83,\"0,00%\")","v":"0,00%"},null,{"$f":"IFERROR(F83/E83,\"0,00%\")","v":"0,00%"},null,{"$f":"IFERROR(H83/G83,\"0,00%\")","v":"0,00%"},null,{"$f":"IFERROR(J83/I83,\"0,00%\")","v":"0,00%"}]