{"text_format":"1","workbook":"xlsx","n_sheets":29,"sheets":["DATA","Instrukcija","Suvestine","1","2","3","4","5","6","7","8","9","10","11","12","13","14","15","16","17","18","19","20","21","22","23","24","25","Netiesioginės išlaidos"],"not_rendered":{"charts":0,"images":1,"macros":1,"external_links":0,"defined_names":26,"comments":1,"pivot_tables":0},"unopened":[],"bounds":{"document_bytes":16777216,"sheet_cells":100000,"rows_first":2000,"rows_last":500,"rows_between":2000,"halvings":0,"cell_chars":16384,"cell_head_chars":4096},"cells_cut":0,"cells_raw":0,"read":"whole","date_system":"1900"}

{"sheet":"DATA","index":0,"n_rows":32,"n_cols":15,"rows_kept":32,"cut":false,"hidden":true,"merged":[]}
[null,"Vykdytojo tipas","MT VID. intensyvumas","EP VID. intensyvumas",null,null,null,"Vykdytojo tipas","TIS","FS",null,null,null,"Vykdytojo tipas","Juridinis asmuo"]
[null,"Pareiškėjas",{"$f":"IF(ISERROR(AVERAGEIFS($D$8:$D$32,$C$8:$C$32,B2)),0,AVERAGEIFS($D$8:$D$32,$C$8:$C$32,B2))","v":0},{"$f":"IF(ISERROR(AVERAGEIFS($D$8:$D$32,$C$8:$C$32,B2,$B$8:$B$32,\"Eksperimentinė plėtra\")),0,AVERAGEIFS($D$8:$D$32,$C$8:$C$32,B2,$B$8:$B$32,\"Eksperimentinė plėtra\"))","v":0},null,null,null,"Pareiškėjas",{"$f":"SUMIF($H$8:$H$32,H2,$I$8:$I$32)","v":0},{"$f":"SUMIF($H$8:$H$32,H2,$J$8:$J$32)","v":0},null,null,null,"Pareiškėjas",{"$f":"VLOOKUP(N2,$N$8:$O$32,2,FALSE)","v":{"$error":"#N/A"}}]
[null,"Partneris Nr. 1",{"$f":"IF(ISERROR(AVERAGEIFS($D$8:$D$32,$C$8:$C$32,B3,$B$8:$B$32,\"\")),0,AVERAGEIFS($D$8:$D$32,$C$8:$C$32,B3,$B$8:$B$32,\"\"))","v":0},{"$f":"IF(ISERROR(AVERAGEIFS($D$8:$D$32,$C$8:$C$32,B3,$B$8:$B$32,\"Eksperimentinė plėtra\")),0,AVERAGEIFS($D$8:$D$32,$C$8:$C$32,B3,$B$8:$B$32,\"Eksperimentinė plėtra\"))","v":0},null,null,null,"Partneris Nr. 1",{"$f":"SUMIF($H$8:$H$32,H3,$I$8:$I$32)","v":0},{"$f":"SUMIF($H$8:$H$32,H3,$J$8:$J$32)","v":0},null,null,null,"Partneris Nr. 1",{"$f":"VLOOKUP(N3,$N$8:$O$32,2,FALSE)","v":{"$error":"#N/A"}}]
[null,"Partneris Nr. 2",{"$f":"IF(ISERROR(AVERAGEIFS($D$8:$D$32,$C$8:$C$32,B4,$B$8:$B$32,\"\")),0,AVERAGEIFS($D$8:$D$32,$C$8:$C$32,B4,$B$8:$B$32,\"\"))","v":0},0,null,null,null,"Partneris Nr. 2",0,0,null,null,null,"Partneris Nr. 2",{"$error":"#N/A"}]
[null,"Partneris Nr. 3",{"$f":"IF(ISERROR(AVERAGEIFS($D$8:$D$32,$C$8:$C$32,B5,$B$8:$B$32,\"\")),0,AVERAGEIFS($D$8:$D$32,$C$8:$C$32,B5,$B$8:$B$32,\"\"))","v":0},0,null,null,null,"Partneris Nr. 3",{"$f":"SUMIF($H$8:$H$32,H5,$I$8:$I$32)","v":0},0,null,null,null,"Partneris Nr. 3",{"$error":"#N/A"}]
[]
["Veiklos Nr.","Veiklos tipas","Vykdytojo tipas","Intensyvumas",null,null,"Veiklos Nr.","Vykdytojo tipas","TIS","FS",null,null,"Veiklos Nr.","Vykdytojo tipas","Juridinis asmuo"]
[1,{"$f":"IF('1'!$D$1=\"\",\"\",'1'!$D$1)","v":""},{"$f":"IF('1'!$D$6=\"\",\"\",'1'!$D$6)","v":""},{"$f":"IF('1'!$D$7=\"\",\"\",'1'!$D$7)","v":""},null,null,1,{"$f":"IF('1'!$D$6=\"\",\"\",'1'!$D$6)","v":""},{"$f":"'1'!$G$187","v":0},{"$f":"'1'!$H$187","v":0},null,null,1,{"$f":"IF('1'!$D$6=\"\",\"\",'1'!$D$6)","v":""},{"$f":"IF('1'!$D$5=\"\",\"\",'1'!$D$5)","v":""}]
[2,{"$f":"IF('2'!$D$1=\"\",\"\",'2'!$D$1)","v":""},{"$f":"IF('2'!$D$6=\"\",\"\",'2'!$D$6)","v":""},{"$f":"IF('2'!$D$7=\"\",\"\",'2'!$D$7)","v":""},null,null,2,{"$f":"IF('2'!$D$6=\"\",\"\",'2'!$D$6)","v":""},{"$f":"'2'!$G$187","v":0},{"$f":"'2'!$H$187","v":0},null,null,2,{"$f":"IF('2'!$D$6=\"\",\"\",'2'!$D$6)","v":""},{"$f":"IF('2'!$D$5=\"\",\"\",'2'!$D$5)","v":""}]
[3,{"$f":"IF('3'!$D$1=\"\",\"\",'3'!$D$1)","v":""},{"$f":"IF('3'!$D$6=\"\",\"\",'3'!$D$6)","v":""},{"$f":"IF('3'!$D$7=\"\",\"\",'3'!$D$7)","v":""},null,null,3,{"$f":"IF('3'!$D$6=\"\",\"\",'3'!$D$6)","v":""},{"$f":"'3'!$G$187","v":0},{"$f":"'3'!$H$187","v":0},null,null,3,{"$f":"IF('3'!$D$6=\"\",\"\",'3'!$D$6)","v":""},{"$f":"IF('3'!$D$5=\"\",\"\",'3'!$D$5)","v":""}]
[4,{"$f":"IF('4'!$D$1=\"\",\"\",'4'!$D$1)","v":""},{"$f":"IF('4'!$D$6=\"\",\"\",'4'!$D$6)","v":""},{"$f":"IF('4'!$D$7=\"\",\"\",'4'!$D$7)","v":""},null,null,4,{"$f":"IF('4'!$D$6=\"\",\"\",'4'!$D$6)","v":""},{"$f":"'4'!$G$187","v":0},{"$f":"'4'!$H$187","v":0},null,null,4,{"$f":"IF('4'!$D$6=\"\",\"\",'4'!$D$6)","v":""},{"$f":"IF('4'!$D$5=\"\",\"\",'4'!$D$5)","v":""}]
[5,{"$f":"IF('5'!$D$1=\"\",\"\",'5'!$D$1)","v":""},{"$f":"IF('5'!$D$6=\"\",\"\",'5'!$D$6)","v":""},{"$f":"IF('5'!$D$7=\"\",\"\",'5'!$D$7)","v":""},null,null,5,{"$f":"IF('5'!$D$6=\"\",\"\",'5'!$D$6)","v":""},{"$f":"'5'!$G$187","v":0},{"$f":"'5'!$H$187","v":0},null,null,5,{"$f":"IF('5'!$D$6=\"\",\"\",'5'!$D$6)","v":""},{"$f":"IF('5'!$D$5=\"\",\"\",'5'!$D$5)","v":""}]
[6,{"$f":"IF('6'!$D$1=\"\",\"\",'6'!$D$1)","v":""},{"$f":"IF('6'!$D$6=\"\",\"\",'6'!$D$6)","v":""},{"$f":"IF('6'!$D$7=\"\",\"\",'6'!$D$7)","v":""},null,null,6,{"$f":"IF('6'!$D$6=\"\",\"\",'6'!$D$6)","v":""},{"$f":"'6'!$G$187","v":0},{"$f":"'6'!$H$187","v":0},null,null,6,{"$f":"IF('6'!$D$6=\"\",\"\",'6'!$D$6)","v":""},{"$f":"IF('6'!$D$5=\"\",\"\",'6'!$D$5)","v":""}]
[7,{"$f":"IF('7'!$D$1=\"\",\"\",'7'!$D$1)","v":""},{"$f":"IF('7'!$D$6=\"\",\"\",'7'!$D$6)","v":""},{"$f":"IF('7'!$D$7=\"\",\"\",'7'!$D$7)","v":""},null,null,7,{"$f":"IF('7'!$D$6=\"\",\"\",'7'!$D$6)","v":""},{"$f":"'7'!$G$187","v":0},{"$f":"'7'!$H$187","v":0},null,null,7,{"$f":"IF('7'!$D$6=\"\",\"\",'7'!$D$6)","v":""},{"$f":"IF('7'!$D$5=\"\",\"\",'7'!$D$5)","v":""}]
[8,{"$f":"IF('8'!$D$1=\"\",\"\",'8'!$D$1)","v":""},{"$f":"IF('8'!$D$6=\"\",\"\",'8'!$D$6)","v":""},{"$f":"IF('8'!$D$7=\"\",\"\",'8'!$D$7)","v":""},null,null,8,{"$f":"IF('8'!$D$6=\"\",\"\",'8'!$D$6)","v":""},{"$f":"'8'!$G$187","v":0},{"$f":"'8'!$H$187","v":0},null,null,8,{"$f":"IF('8'!$D$6=\"\",\"\",'8'!$D$6)","v":""},{"$f":"IF('8'!$D$5=\"\",\"\",'8'!$D$5)","v":""}]
[9,{"$f":"IF('9'!$D$1=\"\",\"\",'9'!$D$1)","v":""},{"$f":"IF('9'!$D$6=\"\",\"\",'9'!$D$6)","v":""},{"$f":"IF('9'!$D$7=\"\",\"\",'9'!$D$7)","v":""},null,null,9,{"$f":"IF('9'!$D$6=\"\",\"\",'9'!$D$6)","v":""},{"$f":"'9'!$G$187","v":0},{"$f":"'9'!$H$187","v":0},null,null,9,{"$f":"IF('9'!$D$6=\"\",\"\",'9'!$D$6)","v":""},{"$f":"IF('9'!$D$5=\"\",\"\",'9'!$D$5)","v":""}]
[10,{"$f":"IF('10'!$D$1=\"\",\"\",'10'!$D$1)","v":""},{"$f":"IF('10'!$D$6=\"\",\"\",'10'!$D$6)","v":""},{"$f":"IF('10'!$D$7=\"\",\"\",'10'!$D$7)","v":""},null,null,10,{"$f":"IF('10'!$D$6=\"\",\"\",'10'!$D$6)","v":""},{"$f":"'10'!$G$187","v":0},{"$f":"'10'!$H$187","v":0},null,null,10,{"$f":"IF('10'!$D$6=\"\",\"\",'10'!$D$6)","v":""},{"$f":"IF('10'!$D$5=\"\",\"\",'10'!$D$5)","v":""}]
[11,{"$f":"IF('11'!$D$1=\"\",\"\",'11'!$D$1)","v":""},{"$f":"IF('11'!$D$6=\"\",\"\",'11'!$D$6)","v":""},{"$f":"IF('11'!$D$7=\"\",\"\",'11'!$D$7)","v":""},null,null,11,{"$f":"IF('11'!$D$6=\"\",\"\",'11'!$D$6)","v":""},{"$f":"'11'!$G$187","v":0},{"$f":"'11'!$H$187","v":0},null,null,11,{"$f":"IF('11'!$D$6=\"\",\"\",'11'!$D$6)","v":""},{"$f":"IF('11'!$D$5=\"\",\"\",'11'!$D$5)","v":""}]
[12,{"$f":"IF('12'!$D$1=\"\",\"\",'12'!$D$1)","v":""},{"$f":"IF('12'!$D$6=\"\",\"\",'12'!$D$6)","v":""},{"$f":"IF('12'!$D$7=\"\",\"\",'12'!$D$7)","v":""},null,null,12,{"$f":"IF('12'!$D$6=\"\",\"\",'12'!$D$6)","v":""},{"$f":"'12'!$G$187","v":0},{"$f":"'12'!$H$187","v":0},null,null,12,{"$f":"IF('12'!$D$6=\"\",\"\",'12'!$D$6)","v":""},{"$f":"IF('12'!$D$5=\"\",\"\",'12'!$D$5)","v":""}]
[13,{"$f":"IF('13'!$D$1=\"\",\"\",'13'!$D$1)","v":""},{"$f":"IF('13'!$D$6=\"\",\"\",'13'!$D$6)","v":""},{"$f":"IF('13'!$D$7=\"\",\"\",'13'!$D$7)","v":""},null,null,13,{"$f":"IF('13'!$D$6=\"\",\"\",'13'!$D$6)","v":""},{"$f":"'13'!$G$187","v":0},{"$f":"'13'!$H$187","v":0},null,null,13,{"$f":"IF('13'!$D$6=\"\",\"\",'13'!$D$6)","v":""},{"$f":"IF('13'!$D$5=\"\",\"\",'13'!$D$5)","v":""}]
[14,{"$f":"IF('14'!$D$1=\"\",\"\",'14'!$D$1)","v":""},{"$f":"IF('14'!$D$6=\"\",\"\",'14'!$D$6)","v":""},{"$f":"IF('14'!$D$7=\"\",\"\",'14'!$D$7)","v":""},null,null,14,{"$f":"IF('14'!$D$6=\"\",\"\",'14'!$D$6)","v":""},{"$f":"'14'!$G$187","v":0},{"$f":"'14'!$H$187","v":0},null,null,14,{"$f":"IF('14'!$D$6=\"\",\"\",'14'!$D$6)","v":""},{"$f":"IF('14'!$D$5=\"\",\"\",'14'!$D$5)","v":""}]
[15,{"$f":"IF('15'!$D$1=\"\",\"\",'15'!$D$1)","v":""},{"$f":"IF('15'!$D$6=\"\",\"\",'15'!$D$6)","v":""},{"$f":"IF('15'!$D$7=\"\",\"\",'15'!$D$7)","v":""},null,null,15,{"$f":"IF('15'!$D$6=\"\",\"\",'15'!$D$6)","v":""},{"$f":"'15'!$G$187","v":0},{"$f":"'15'!$H$187","v":0},null,null,15,{"$f":"IF('15'!$D$6=\"\",\"\",'15'!$D$6)","v":""},{"$f":"IF('15'!$D$5=\"\",\"\",'15'!$D$5)","v":""}]
[16,{"$f":"IF('16'!$D$1=\"\",\"\",'16'!$D$1)","v":""},{"$f":"IF('16'!$D$6=\"\",\"\",'16'!$D$6)","v":""},{"$f":"IF('16'!$D$7=\"\",\"\",'16'!$D$7)","v":""},null,null,16,{"$f":"IF('16'!$D$6=\"\",\"\",'16'!$D$6)","v":""},{"$f":"'16'!$G$187","v":0},{"$f":"'16'!$H$187","v":0},null,null,16,{"$f":"IF('16'!$D$6=\"\",\"\",'16'!$D$6)","v":""},{"$f":"IF('16'!$D$5=\"\",\"\",'16'!$D$5)","v":""}]
[17,{"$f":"IF('17'!$D$1=\"\",\"\",'17'!$D$1)","v":""},{"$f":"IF('17'!$D$6=\"\",\"\",'17'!$D$6)","v":""},{"$f":"IF('17'!$D$7=\"\",\"\",'17'!$D$7)","v":""},null,null,17,{"$f":"IF('17'!$D$6=\"\",\"\",'17'!$D$6)","v":""},{"$f":"'17'!$G$187","v":0},{"$f":"'17'!$H$187","v":0},null,null,17,{"$f":"IF('17'!$D$6=\"\",\"\",'17'!$D$6)","v":""},{"$f":"IF('17'!$D$5=\"\",\"\",'17'!$D$5)","v":""}]
[18,{"$f":"IF('18'!$D$1=\"\",\"\",'18'!$D$1)","v":""},{"$f":"IF('18'!$D$6=\"\",\"\",'18'!$D$6)","v":""},{"$f":"IF('18'!$D$7=\"\",\"\",'18'!$D$7)","v":""},null,null,18,{"$f":"IF('18'!$D$6=\"\",\"\",'18'!$D$6)","v":""},{"$f":"'18'!$G$187","v":0},{"$f":"'18'!$H$187","v":0},null,null,18,{"$f":"IF('18'!$D$6=\"\",\"\",'18'!$D$6)","v":""},{"$f":"IF('18'!$D$5=\"\",\"\",'18'!$D$5)","v":""}]
[19,{"$f":"IF('19'!$D$1=\"\",\"\",'19'!$D$1)","v":""},{"$f":"IF('19'!$D$6=\"\",\"\",'19'!$D$6)","v":""},{"$f":"IF('19'!$D$7=\"\",\"\",'19'!$D$7)","v":""},null,null,19,{"$f":"IF('19'!$D$6=\"\",\"\",'19'!$D$6)","v":""},{"$f":"'19'!$G$187","v":0},{"$f":"'19'!$H$187","v":0},null,null,19,{"$f":"IF('19'!$D$6=\"\",\"\",'19'!$D$6)","v":""},{"$f":"IF('19'!$D$5=\"\",\"\",'19'!$D$5)","v":""}]
[20,{"$f":"IF('20'!$D$1=\"\",\"\",'20'!$D$1)","v":""},{"$f":"IF('20'!$D$6=\"\",\"\",'20'!$D$6)","v":""},{"$f":"IF('20'!$D$7=\"\",\"\",'20'!$D$7)","v":""},null,null,20,{"$f":"IF('20'!$D$6=\"\",\"\",'20'!$D$6)","v":""},{"$f":"'20'!$G$187","v":0},{"$f":"'20'!$H$187","v":0},null,null,20,{"$f":"IF('20'!$D$6=\"\",\"\",'20'!$D$6)","v":""},{"$f":"IF('20'!$D$5=\"\",\"\",'20'!$D$5)","v":""}]
[21,{"$f":"IF('21'!$D$1=\"\",\"\",'21'!$D$1)","v":""},{"$f":"IF('21'!$D$6=\"\",\"\",'21'!$D$6)","v":""},{"$f":"IF('21'!$D$7=\"\",\"\",'21'!$D$7)","v":""},null,null,21,{"$f":"IF('21'!$D$6=\"\",\"\",'21'!$D$6)","v":""},{"$f":"'21'!$G$187","v":0},{"$f":"'21'!$H$187","v":0},null,null,21,{"$f":"IF('21'!$D$6=\"\",\"\",'21'!$D$6)","v":""},{"$f":"IF('21'!$D$5=\"\",\"\",'21'!$D$5)","v":""}]
[22,{"$f":"IF('22'!$D$1=\"\",\"\",'22'!$D$1)","v":""},{"$f":"IF('22'!$D$6=\"\",\"\",'22'!$D$6)","v":""},{"$f":"IF('22'!$D$7=\"\",\"\",'22'!$D$7)","v":""},null,null,22,{"$f":"IF('22'!$D$6=\"\",\"\",'22'!$D$6)","v":""},{"$f":"'22'!$G$187","v":0},{"$f":"'22'!$H$187","v":0},null,null,22,{"$f":"IF('22'!$D$6=\"\",\"\",'22'!$D$6)","v":""},{"$f":"IF('22'!$D$5=\"\",\"\",'22'!$D$5)","v":""}]
[23,{"$f":"IF('23'!$D$1=\"\",\"\",'23'!$D$1)","v":""},{"$f":"IF('23'!$D$6=\"\",\"\",'23'!$D$6)","v":""},{"$f":"IF('23'!$D$7=\"\",\"\",'23'!$D$7)","v":""},null,null,23,{"$f":"IF('23'!$D$6=\"\",\"\",'23'!$D$6)","v":""},{"$f":"'23'!$G$187","v":0},{"$f":"'23'!$H$187","v":0},null,null,23,{"$f":"IF('23'!$D$6=\"\",\"\",'23'!$D$6)","v":""},{"$f":"IF('23'!$D$5=\"\",\"\",'23'!$D$5)","v":""}]
[24,{"$f":"IF('24'!$D$1=\"\",\"\",'24'!$D$1)","v":""},{"$f":"IF('24'!$D$6=\"\",\"\",'24'!$D$6)","v":""},{"$f":"IF('24'!$D$7=\"\",\"\",'24'!$D$7)","v":""},null,null,24,{"$f":"IF('24'!$D$6=\"\",\"\",'24'!$D$6)","v":""},{"$f":"'24'!$G$187","v":0},{"$f":"'24'!$H$187","v":0},null,null,24,{"$f":"IF('24'!$D$6=\"\",\"\",'24'!$D$6)","v":""},{"$f":"IF('24'!$D$5=\"\",\"\",'24'!$D$5)","v":""}]
[25,{"$f":"IF('25'!$D$1=\"\",\"\",'25'!$D$1)","v":""},{"$f":"IF('25'!$D$6=\"\",\"\",'25'!$D$6)","v":""},{"$f":"IF('25'!$D$7=\"\",\"\",'25'!$D$7)","v":""},null,null,25,{"$f":"IF('25'!$D$6=\"\",\"\",'25'!$D$6)","v":""},{"$f":"'25'!$G$187","v":0},{"$f":"'25'!$H$187","v":0},null,null,25,{"$f":"IF('25'!$D$6=\"\",\"\",'25'!$D$6)","v":""},{"$f":"IF('25'!$D$5=\"\",\"\",'25'!$D$5)","v":""}]

{"sheet":"Instrukcija","index":1,"n_rows":11,"n_cols":4,"rows_kept":11,"cut":false,"hidden":false,"merged":[[0,3,0,5],[5,1,5,5],[8,1,8,5],[10,1,10,5],[2,0,2,5],[4,1,4,5],[6,1,6,5],[7,1,7,5],[9,1,9,5]]}
[null,null,null,"Verslo plano priedas „Reikalingi ištekliai“\nNr. 1C"]
[]
["Pildymo instrukcija"]
[]
[1,"Šis verslo plano priedas Nr. 1A pildomas tik projekto veikloms, nurodytoms 2014–2020 metų Europos Sąjungos fondų investicijų veiksmų programos 1 prioriteto „Mokslinių tyrimų, eksperimentinės plėtros ir inovacijų skatinimas“ priemonės Nr. 01.2.1-LVPA-K-848 „SMART FDI“ projektų finansavimo sąlygų aprašo  (toliau – Aprašas) 10.3 punkte."]
[2,"Pildykite tik žalia spalva pažymėtus laukus."]
[3,"Nereikalingų eilučių, stulpelių netrinkite, esant poreikiui eilutes, stulpelius galite tik paslėpti (hide)."]
[4,"Kiekvienam pirmo lygio (kurio paraiškoje nurodytas numeris susideda iš trijų skaitmenų) fiziniam rodikliui, nurodytam paraiškos 6 dalyje „Projekto loginis pagrindimas“, pildykite atskirą lapą. Fizinio rodiklio pavadinimas ir numeris turi sutapti su paraiškoje nurodytais fizinių rodiklių pavadinimais ir numeriais. Jei projektas vykdomas kartu su partneriu(-iais), veikloms, kurios vykdomos kartu su partneriu(-iais) rekomenduojama atskirai numatyti pareiškėjui ir partneriui(-iams) tenkančius fizinius rodiklius.\nAtkreipiame dėmesį, kad vienam fiziniam rodikliui gali būti priskirta tik viena biudžeto išlaidų kategorija."]
[5,"Jei projektas vykdomas kartu su partneriu(-iais), rekomenduojama pareiškėjui ir partneriui(-iams) numatyti atskirus  pirmo lygio fizinius rodiklius."]
[6,"Kai užpildysite visas fizinių rodiklių išlaidas, kortelėje „Suvestinė“ paspauskite viršuje kairėje pusėje esantį mygtuką „Tvarkyti lentelę“, kad užsipildytų suminė informacija šioje kortelėje."]
[7,"Kartu su verslo planu turi būti pateiktas ir šis verslo plano priedas (popierinė ir elektroninė versijos). LVPA teikiamoje elektroninėje versijoje turi likti visos skaičiavimams naudotos formulės."]

{"sheet":"Suvestine","index":2,"n_rows":69,"n_cols":6,"rows_kept":69,"cut":false,"hidden":false,"merged":[[0,1,0,5],[55,0,55,1],[57,0,57,5],[68,0,68,1]]}
[null,"Veiklų, vykdomų pagal Aprašo 10.3 punktą, išlaidų suvestinė lentelė pagal fizinius rodiklius (lentelė užsipildo automatiškai)"]
[]
["Fizinio rodiklio Nr.","Fizinio rodiklio pavadinimas","Fizinio rodiklio matavimo vnt.","Fizinio rodiklio vnt. skaičius","Tinkamų finansuoti išlaidų suma, Eur","Finansavimo suma, Eur"]
["4","Įranga, įrenginiai ir kt. turtas",null,null,{"$f":"SUM(E5:E29)","v":0},{"$f":"SUM(F5:F29)","v":0}]
[{"$f":"'1'!$D$2","v":0},{"$f":"'1'!$D$3","v":0},{"$f":"'1'!$D$4","v":0},{"$f":"'1'!$H$4","v":0},{"$f":"'1'!$G$10","v":0},{"$f":"'1'!$H$10","v":0}]
[{"$f":"'2'!$D$2","v":0},{"$f":"'2'!$D$3","v":0},{"$f":"'2'!$D$4","v":0},{"$f":"'2'!$H$4","v":0},{"$f":"'2'!$G$10","v":0},{"$f":"'2'!$H$10","v":0}]
[{"$f":"'3'!$D$2","v":0},{"$f":"'3'!$D$3","v":0},{"$f":"'3'!$D$4","v":0},{"$f":"'3'!$H$4","v":0},{"$f":"'3'!$G$10","v":0},{"$f":"'3'!$H$10","v":0}]
[{"$f":"'4'!$D$2","v":0},{"$f":"'4'!$D$3","v":0},{"$f":"'4'!$D$4","v":0},{"$f":"'4'!$H$4","v":0},{"$f":"'4'!$G$10","v":0},{"$f":"'4'!$H$10","v":0}]
[{"$f":"'5'!$D$2","v":0},{"$f":"'5'!$D$3","v":0},{"$f":"'5'!$D$4","v":0},{"$f":"'5'!$H$4","v":0},{"$f":"'5'!$G$10","v":0},{"$f":"'5'!$H$10","v":0}]
[{"$f":"'6'!$D$2","v":0},{"$f":"'6'!$D$3","v":0},{"$f":"'6'!$D$4","v":0},{"$f":"'6'!$H$4","v":0},{"$f":"'6'!$G$10","v":0},{"$f":"'6'!$H$10","v":0}]
[{"$f":"'7'!$D$2","v":0},{"$f":"'7'!$D$3","v":0},{"$f":"'7'!$D$4","v":0},{"$f":"'7'!$H$4","v":0},{"$f":"'7'!$G$10","v":0},{"$f":"'7'!$H$10","v":0}]
[{"$f":"'8'!$D$2","v":0},{"$f":"'8'!$D$3","v":0},{"$f":"'8'!$D$4","v":0},{"$f":"'8'!$H$4","v":0},{"$f":"'8'!$G$10","v":0},{"$f":"'8'!$H$10","v":0}]
[{"$f":"'9'!$D$2","v":0},{"$f":"'9'!$D$3","v":0},{"$f":"'9'!$D$4","v":0},{"$f":"'9'!$H$4","v":0},{"$f":"'9'!$G$10","v":0},{"$f":"'9'!$H$10","v":0}]
[{"$f":"'10'!$D$2","v":0},{"$f":"'10'!$D$3","v":0},{"$f":"'10'!$D$4","v":0},{"$f":"'10'!$H$4","v":0},{"$f":"'10'!$G$10","v":0},{"$f":"'10'!$H$10","v":0}]
[{"$f":"'11'!$D$2","v":0},{"$f":"'11'!$D$3","v":0},{"$f":"'11'!$D$4","v":0},{"$f":"'11'!$H$4","v":0},{"$f":"'11'!$G$10","v":0},{"$f":"'11'!$H$10","v":0}]
[{"$f":"'12'!$D$2","v":0},{"$f":"'12'!$D$3","v":0},{"$f":"'12'!$D$4","v":0},{"$f":"'12'!$H$4","v":0},{"$f":"'12'!$G$10","v":0},{"$f":"'12'!$H$10","v":0}]
[{"$f":"'13'!$D$2","v":0},{"$f":"'13'!$D$3","v":0},{"$f":"'13'!$D$4","v":0},{"$f":"'13'!$H$4","v":0},{"$f":"'13'!$G$10","v":0},{"$f":"'13'!$H$10","v":0}]
[{"$f":"'14'!$D$2","v":0},{"$f":"'14'!$D$3","v":0},{"$f":"'14'!$D$4","v":0},{"$f":"'14'!$H$4","v":0},{"$f":"'14'!$G$10","v":0},{"$f":"'14'!$H$10","v":0}]
[{"$f":"'15'!$D$2","v":0},{"$f":"'15'!$D$3","v":0},{"$f":"'15'!$D$4","v":0},{"$f":"'15'!$H$4","v":0},{"$f":"'15'!$G$10","v":0},{"$f":"'15'!$H$10","v":0}]
[{"$f":"'16'!$D$2","v":0},{"$f":"'16'!$D$3","v":0},{"$f":"'16'!$D$4","v":0},{"$f":"'16'!$H$4","v":0},{"$f":"'16'!$G$10","v":0},{"$f":"'16'!$H$10","v":0}]
[{"$f":"'17'!$D$2","v":0},{"$f":"'17'!$D$3","v":0},{"$f":"'17'!$D$4","v":0},{"$f":"'17'!$H$4","v":0},{"$f":"'17'!$G$10","v":0},{"$f":"'17'!$H$10","v":0}]
[{"$f":"'18'!$D$2","v":0},{"$f":"'18'!$D$3","v":0},{"$f":"'18'!$D$4","v":0},{"$f":"'18'!$H$4","v":0},{"$f":"'18'!$G$10","v":0},{"$f":"'18'!$H$10","v":0}]
[{"$f":"'19'!$D$2","v":0},{"$f":"'19'!$D$3","v":0},{"$f":"'19'!$D$4","v":0},{"$f":"'19'!$H$4","v":0},{"$f":"'19'!$G$10","v":0},{"$f":"'19'!$H$10","v":0}]
[{"$f":"'20'!$D$2","v":0},{"$f":"'20'!$D$3","v":0},{"$f":"'20'!$D$4","v":0},{"$f":"'20'!$H$4","v":0},{"$f":"'20'!$G$10","v":0},{"$f":"'20'!$H$10","v":0}]
[{"$f":"'21'!$D$2","v":0},{"$f":"'21'!$D$3","v":0},{"$f":"'21'!$D$4","v":0},{"$f":"'21'!$H$4","v":0},{"$f":"'21'!$G$10","v":0},{"$f":"'21'!$H$10","v":0}]
[{"$f":"'22'!$D$2","v":0},{"$f":"'22'!$D$3","v":0},{"$f":"'22'!$D$4","v":0},{"$f":"'22'!$H$4","v":0},{"$f":"'22'!$G$10","v":0},{"$f":"'22'!$H$10","v":0}]
[{"$f":"'23'!$D$2","v":0},{"$f":"'23'!$D$3","v":0},{"$f":"'23'!$D$4","v":0},{"$f":"'23'!$H$4","v":0},{"$f":"'23'!$G$10","v":0},{"$f":"'23'!$H$10","v":0}]
[{"$f":"'24'!$D$2","v":0},{"$f":"'24'!$D$3","v":0},{"$f":"'24'!$D$4","v":0},{"$f":"'24'!$H$4","v":0},{"$f":"'24'!$G$10","v":0},{"$f":"'24'!$H$10","v":0}]
[{"$f":"'25'!$D$2","v":0},{"$f":"'25'!$D$3","v":0},{"$f":"'25'!$D$4","v":0},{"$f":"'25'!$H$4","v":0},{"$f":"'25'!$G$10","v":0},{"$f":"'25'!$H$10","v":0}]
["5","Projekto vykdymas",null,null,{"$f":"SUM(E31:E55)","v":0},{"$f":"SUM(F31:F55)","v":0}]
[{"$f":"'1'!$D$2","v":0},{"$f":"'1'!$D$3","v":0},{"$f":"'1'!$D$4","v":0},{"$f":"'1'!$H$4","v":0},{"$f":"'1'!$G$21","v":0},{"$f":"'1'!$H$21","v":0}]
[{"$f":"'2'!$D$2","v":0},{"$f":"'2'!$D$3","v":0},{"$f":"'2'!$D$4","v":0},{"$f":"'2'!$H$4","v":0},{"$f":"'2'!$G$21","v":0},{"$f":"'2'!$H$21","v":0}]
[{"$f":"'3'!$D$2","v":0},{"$f":"'3'!$D$3","v":0},{"$f":"'3'!$D$4","v":0},{"$f":"'3'!$H$4","v":0},{"$f":"'3'!$G$21","v":0},{"$f":"'3'!$H$21","v":0}]
[{"$f":"'4'!$D$2","v":0},{"$f":"'4'!$D$3","v":0},{"$f":"'4'!$D$4","v":0},{"$f":"'4'!$H$4","v":0},{"$f":"'4'!$G$21","v":0},{"$f":"'4'!$H$21","v":0}]
[{"$f":"'5'!$D$2","v":0},{"$f":"'5'!$D$3","v":0},{"$f":"'5'!$D$4","v":0},{"$f":"'5'!$H$4","v":0},{"$f":"'5'!$G$21","v":0},{"$f":"'5'!$H$21","v":0}]
[{"$f":"'6'!$D$2","v":0},{"$f":"'6'!$D$3","v":0},{"$f":"'6'!$D$4","v":0},{"$f":"'6'!$H$4","v":0},{"$f":"'6'!$G$21","v":0},{"$f":"'6'!$H$21","v":0}]
[{"$f":"'7'!$D$2","v":0},{"$f":"'7'!$D$3","v":0},{"$f":"'7'!$D$4","v":0},{"$f":"'7'!$H$4","v":0},{"$f":"'7'!$G$21","v":0},{"$f":"'7'!$H$21","v":0}]
[{"$f":"'8'!$D$2","v":0},{"$f":"'8'!$D$3","v":0},{"$f":"'8'!$D$4","v":0},{"$f":"'8'!$H$4","v":0},{"$f":"'8'!$G$21","v":0},{"$f":"'8'!$H$21","v":0}]
[{"$f":"'9'!$D$2","v":0},{"$f":"'9'!$D$3","v":0},{"$f":"'9'!$D$4","v":0},{"$f":"'9'!$H$4","v":0},{"$f":"'9'!$G$21","v":0},{"$f":"'9'!$H$21","v":0}]
[{"$f":"'10'!$D$2","v":0},{"$f":"'10'!$D$3","v":0},{"$f":"'10'!$D$4","v":0},{"$f":"'10'!$H$4","v":0},{"$f":"'10'!$G$21","v":0},{"$f":"'10'!$H$21","v":0}]
[{"$f":"'11'!$D$2","v":0},{"$f":"'11'!$D$3","v":0},{"$f":"'11'!$D$4","v":0},{"$f":"'11'!$H$4","v":0},{"$f":"'11'!$G$21","v":0},{"$f":"'11'!$H$21","v":0}]
[{"$f":"'12'!$D$2","v":0},{"$f":"'12'!$D$3","v":0},{"$f":"'12'!$D$4","v":0},{"$f":"'12'!$H$4","v":0},{"$f":"'12'!$G$21","v":0},{"$f":"'12'!$H$21","v":0}]
[{"$f":"'13'!$D$2","v":0},{"$f":"'13'!$D$3","v":0},{"$f":"'13'!$D$4","v":0},{"$f":"'13'!$H$4","v":0},{"$f":"'13'!$G$21","v":0},{"$f":"'13'!$H$21","v":0}]
[{"$f":"'14'!$D$2","v":0},{"$f":"'14'!$D$3","v":0},{"$f":"'14'!$D$4","v":0},{"$f":"'14'!$H$4","v":0},{"$f":"'14'!$G$21","v":0},{"$f":"'14'!$H$21","v":0}]
[{"$f":"'15'!$D$2","v":0},{"$f":"'15'!$D$3","v":0},{"$f":"'15'!$D$4","v":0},{"$f":"'15'!$H$4","v":0},{"$f":"'15'!$G$21","v":0},{"$f":"'15'!$H$21","v":0}]
[{"$f":"'16'!$D$2","v":0},{"$f":"'16'!$D$3","v":0},{"$f":"'16'!$D$4","v":0},{"$f":"'16'!$H$4","v":0},{"$f":"'16'!$G$21","v":0},{"$f":"'16'!$H$21","v":0}]
[{"$f":"'17'!$D$2","v":0},{"$f":"'17'!$D$3","v":0},{"$f":"'17'!$D$4","v":0},{"$f":"'17'!$H$4","v":0},{"$f":"'17'!$G$21","v":0},{"$f":"'17'!$H$21","v":0}]
[{"$f":"'18'!$D$2","v":0},{"$f":"'18'!$D$3","v":0},{"$f":"'18'!$D$4","v":0},{"$f":"'18'!$H$4","v":0},{"$f":"'18'!$G$21","v":0},{"$f":"'18'!$H$21","v":0}]
[{"$f":"'19'!$D$2","v":0},{"$f":"'19'!$D$3","v":0},{"$f":"'19'!$D$4","v":0},{"$f":"'19'!$H$4","v":0},{"$f":"'19'!$G$21","v":0},{"$f":"'19'!$H$21","v":0}]
[{"$f":"'20'!$D$2","v":0},{"$f":"'20'!$D$3","v":0},{"$f":"'20'!$D$4","v":0},{"$f":"'20'!$H$4","v":0},{"$f":"'20'!$G$21","v":0},{"$f":"'20'!$H$21","v":0}]
[{"$f":"'21'!$D$2","v":0},{"$f":"'21'!$D$3","v":0},{"$f":"'21'!$D$4","v":0},{"$f":"'21'!$H$4","v":0},{"$f":"'21'!$G$21","v":0},{"$f":"'21'!$H$21","v":0}]
[{"$f":"'22'!$D$2","v":0},{"$f":"'22'!$D$3","v":0},{"$f":"'22'!$D$4","v":0},{"$f":"'22'!$H$4","v":0},{"$f":"'22'!$G$21","v":0},{"$f":"'22'!$H$21","v":0}]
[{"$f":"'23'!$D$2","v":0},{"$f":"'23'!$D$3","v":0},{"$f":"'23'!$D$4","v":0},{"$f":"'23'!$H$4","v":0},{"$f":"'23'!$G$21","v":0},{"$f":"'23'!$H$21","v":0}]
[{"$f":"'24'!$D$2","v":0},{"$f":"'24'!$D$3","v":0},{"$f":"'24'!$D$4","v":0},{"$f":"'24'!$H$4","v":0},{"$f":"'24'!$G$21","v":0},{"$f":"'24'!$H$21","v":0}]
[{"$f":"'25'!$D$2","v":0},{"$f":"'25'!$D$3","v":0},{"$f":"'25'!$D$4","v":0},{"$f":"'25'!$H$4","v":0},{"$f":"'25'!$G$21","v":0},{"$f":"'25'!$H$21","v":0}]
["Iš viso:",null,null,null,{"$f":"E4+E30","v":0},{"$f":"F4+F30","v":0}]
[]
["Veiklų, vykdomų pagal Aprašo 10.3 punktą, išlaidų suvestinė lentelė pagal išlaidų kategorijas (lentelė užsipildo automatiškai)"]
[]
["Fizinio rodiklio Nr.","Fizinio rodiklio pavadinimas","Tinkamų finansuoti išlaidų suma, Eur","Finansavimo suma, Eur"]
[4,"Įranga, įrenginiai ir kt. turtas",{"$f":"'1'!G10+'2'!G10+'3'!G10+'4'!G10+'5'!G10+'6'!G10+'7'!G10+'8'!G10+'9'!G10+'10'!G10+'11'!G10+'12'!G10+'13'!G10+'14'!G10+'15'!G10+'16'!G10+'17'!G10+'18'!G10+'19'!G10+'20'!G10+'21'!G10+'22'!G10+'23'!G10+'24'!G10+'25'!G10","v":0},{"$f":"'1'!H10+'2'!H10+'3'!H10+'4'!H10+'5'!H10+'6'!H10+'7'!H10+'8'!H10+'9'!H10+'10'!H10+'11'!H10+'12'!H10+'13'!H10+'14'!H10+'15'!H10+'16'!H10+'17'!H10+'18'!H10+'19'!H10+'20'!H10+'21'!H10+'22'!H10+'23'!H10+'24'!H10+'25'!H10","v":0}]
["5","Projekto vykdymas",{"$f":"'1'!G21+'2'!G21+'3'!G21+'4'!G21+'5'!G21+'6'!G21+'7'!G21+'8'!G21+'9'!G21+'10'!G21+'11'!G21+'12'!G21+'13'!G21+'14'!G21+'15'!G21+'16'!G21+'17'!G21+'18'!G21+'19'!G21+'20'!G21+'21'!G21+'22'!G21+'23'!G21+'24'!G21+'25'!G21","v":0},{"$f":"'1'!H21+'2'!H21+'3'!H21+'4'!H21+'5'!H21+'6'!H21+'7'!H21+'8'!H21+'9'!H21+'10'!H21+'11'!H21+'12'!H21+'13'!H21+'14'!H21+'15'!H21+'16'!H21+'17'!H21+'18'!H21+'19'!H21+'20'!H21+'21'!H21+'22'!H21+'23'!H21+'24'!H21+'25'!H21","v":0}]
["5.1","MTEP paslaugos",{"$f":"'1'!G22+'2'!G22+'3'!G22+'4'!G22+'5'!G22+'6'!G22+'7'!G22+'8'!G22+'9'!G22+'10'!G22+'11'!G22+'12'!G22+'13'!G22+'14'!G22+'15'!G22+'16'!G22+'17'!G22+'18'!G22+'19'!G22+'20'!G22+'21'!G22+'22'!G22+'23'!G22+'24'!G22+'25'!G22","v":0},{"$f":"'1'!H22+'2'!H22+'3'!H22+'4'!H22+'5'!H22+'6'!H22+'7'!H22+'8'!H22+'9'!H22+'10'!H22+'11'!H22+'12'!H22+'13'!H22+'14'!H22+'15'!H22+'16'!H22+'17'!H22+'18'!H22+'19'!H22+'20'!H22+'21'!H22+'22'!H22+'23'!H22+'24'!H22+'25'!H22","v":0}]
["5.2","Medžiagos, mažavertis inventorius, atsargos ir pan. produktai, priskirtini trumpalaikiam turtui ",{"$f":"'1'!G33+'2'!G33+'3'!G33+'4'!G33+'5'!G33+'6'!G33+'7'!G33+'8'!G33+'9'!G33+'10'!G33+'11'!G33+'12'!G33+'13'!G33+'14'!G33+'15'!G33+'16'!G33+'17'!G33+'18'!G33+'19'!G33+'20'!G33+'21'!G33+'22'!G33+'23'!G33+'24'!G33+'25'!G33","v":0},{"$f":"'1'!H33+'2'!H33+'3'!H33+'4'!H33+'5'!H33+'6'!H33+'7'!H33+'8'!H33+'9'!H33+'10'!H33+'11'!H33+'12'!H33+'13'!H33+'14'!H33+'15'!H33+'16'!H33+'17'!H33+'18'!H33+'19'!H33+'20'!H33+'21'!H33+'22'!H33+'23'!H33+'24'!H33+'25'!H33","v":0}]
["5.3","Projekto veikloms naudojamo ilgalaikio materialaus turto (įrangos, prietaisų, įrankių, įrenginių, mašinų ir įrengimų, pastatų ir (ar) patalpų), nusidėvėjimo sąnaudos",{"$f":"'1'!G49+'2'!G49+'3'!G49+'4'!G49+'5'!G49+'6'!G49+'7'!G49+'8'!G49+'9'!G49+'10'!G49+'11'!G49+'12'!G49+'13'!G49+'14'!G49+'15'!G49+'16'!G49+'17'!G49+'18'!G49+'19'!G49+'20'!G49+'21'!G49+'22'!G49+'23'!G49+'24'!G49+'25'!G49","v":0},{"$f":"'1'!H49+'2'!H49+'3'!H49+'4'!H49+'5'!H49+'6'!H49+'7'!H49+'8'!H49+'9'!H49+'10'!H49+'11'!H49+'12'!H49+'13'!H49+'14'!H49+'15'!H49+'16'!H49+'17'!H49+'18'!H49+'19'!H49+'20'!H49+'21'!H49+'22'!H49+'23'!H49+'24'!H49+'25'!H49","v":0}]
["5.4","Projektą vykdančio personalo darbo užmokestis ir išlaidos su darbo santykiais susijusiems darbdavio įsipareigojimams",{"$f":"'1'!G65+'2'!G65+'3'!G65+'4'!G65+'5'!G65+'6'!G65+'7'!G65+'8'!G65+'9'!G65+'10'!G65+'11'!G65+'12'!G65+'13'!G65+'14'!G65+'15'!G65+'16'!G65+'17'!G65+'18'!G65+'19'!G65+'20'!G65+'21'!G65+'22'!G65+'23'!G65+'24'!G65+'25'!G65","v":0},{"$f":"'1'!H65+'2'!H65+'3'!H65+'4'!H65+'5'!H65+'6'!H65+'7'!H65+'8'!H65+'9'!H65+'10'!H65+'11'!H65+'12'!H65+'13'!H65+'14'!H65+'15'!H65+'16'!H65+'17'!H65+'18'!H65+'19'!H65+'20'!H65+'21'!H65+'22'!H65+'23'!H65+'24'!H65+'25'!H65","v":0}]
["5.5","Projektą vykdančio personalo komandiruočių išlaidos",{"$f":"'1'!G116+'2'!G116+'3'!G116+'4'!G116+'5'!G116+'6'!G116+'7'!G116+'8'!G116+'9'!G116+'10'!G116+'11'!G116+'12'!G116+'13'!G116+'14'!G116+'15'!G116+'16'!G116+'17'!G116+'18'!G116+'19'!G116+'20'!G116+'21'!G116+'22'!G116+'23'!G116+'24'!G116+'25'!G116","v":0},{"$f":"'1'!H116+'2'!H116+'3'!H116+'4'!H116+'5'!H116+'6'!H116+'7'!H116+'8'!H116+'9'!H116+'10'!H116+'11'!H116+'12'!H116+'13'!H116+'14'!H116+'15'!H116+'16'!H116+'17'!H116+'18'!H116+'19'!H116+'20'!H116+'21'!H116+'22'!H116+'23'!H116+'24'!H116+'25'!H116","v":0}]
["7","Netiesioginės išlaidos ir kt. išlaidos pagal fiksuotąją projekto išlaidų normą",{"$f":"'Netiesioginės išlaidos'!H12","v":0},{"$f":"'Netiesioginės išlaidos'!H13","v":0}]
["Iš viso:",null,{"$f":"C61+C62+C68","v":0},{"$f":"D61+D62+D68","v":0}]

{"sheet":"1","index":3,"n_rows":187,"n_cols":19,"rows_kept":187,"cut":false,"hidden":false,"merged":[[70,6,74,6],[70,7,74,7],[70,8,74,8],[123,0,129,0],[123,1,129,1],[130,0,136,0],[130,1,136,1],[137,0,143,0],[137,1,143,1],[144,0,150,0],[144,1,150,1],[0,3,0,8],[116,8,122,8],[123,8,129,8],[130,8,136,8],[137,8,143,8],[144,8,150,8],[110,6,114,6],[110,7,114,7],[110,8,114,8],[95,6,99,6],[95,7,99,7],[95,8,99,8],[85,6,89,6],[85,7,89,7],[85,8,89,8],[75,6,79,6],[179,8,185,8],[151,0,157,0],[151,1,157,1],[158,0,164,0],[158,1,164,1],[165,0,171,0],[165,1,171,1],[172,0,178,0],[172,1,178,1],[179,0,185,0],[179,1,185,1],[172,8,178,8],[151,8,157,8],[158,8,164,8],[165,8,171,8],[105,0,109,0],[105,1,109,1],[105,3,109,3],[105,4,109,4],[105,5,109,5],[105,6,109,6],[105,7,109,7],[105,8,109,8],[110,0,114,0],[110,1,114,1],[110,3,114,3],[110,4,114,4],[110,5,114,5],[100,0,104,0],[100,1,104,1],[100,3,104,3],[100,4,104,4],[100,5,104,5],[100,6,104,6],[100,7,104,7],[100,8,104,8],[95,0,99,0],[95,1,99,1],[95,3,99,3],[95,4,99,4],[95,5,99,5],[90,0,94,0],[90,1,94,1],[90,3,94,3],[90,4,94,4],[90,5,94,5],[90,6,94,6],[90,7,94,7],[90,8,94,8],[85,0,89,0],[85,1,89,1],[85,3,89,3],[85,4,89,4],[85,5,89,5],[80,0,84,0],[80,1,84,1],[80,3,84,3],[80,4,84,4],[80,5,84,5],[80,6,84,6],[80,7,84,7],[80,8,84,8],[75,0,79,0],[75,1,79,1],[75,3,79,3],[75,4,79,4],[75,5,79,5],[75,7,79,7],[75,8,79,8],[65,1,69,1],[65,3,69,3],[65,4,69,4],[52,1,52,2],[63,1,63,2],[64,1,64,5],[65,6,69,6],[65,7,69,7],[65,8,69,8],[13,1,13,2],[14,1,14,2],[15,1,15,2],[16,1,16,2],[17,1,17,2],[18,1,18,2],[19,1,19,2],[30,1,30,2],[22,1,22,2],[23,1,23,2],[24,1,24,2],[25,1,25,2],[26,1,26,2],[20,1,20,5],[21,1,21,5],[2,0,2,2],[2,3,2,8],[8,1,8,2],[9,1,9,5],[10,1,10,2],[11,1,11,2],[12,1,12,2],[4,0,4,2],[4,3,4,8],[3,3,3,4],[3,5,3,6],[5,3,5,8],[186,0,186,5],[115,1,115,5],[27,1,27,2],[28,1,28,2],[29,1,29,2],[31,1,31,2],[50,1,50,2],[33,1,33,2],[34,1,34,2],[35,1,35,2],[36,1,36,2],[37,1,37,2],[47,1,47,2],[65,5,69,5],[49,1,49,2],[45,1,45,2],[70,1,74,1],[70,3,74,3],[70,4,74,4],[70,5,74,5],[65,0,69,0],[70,0,74,0],[116,0,122,0],[116,1,122,1],[32,1,32,5],[48,1,48,5],[38,1,38,2],[39,1,39,2],[40,1,40,2],[41,1,41,2],[62,1,62,2],[51,1,51,2],[57,1,57,2],[58,1,58,2],[59,1,59,2],[60,1,60,2],[61,1,61,2],[42,1,42,2],[43,1,43,2],[44,1,44,2],[46,1,46,2],[53,1,53,2],[54,1,54,2],[55,1,55,2],[56,1,56,2]]}
[null,null,"Pasirinkite veiklos tipą:"]
[null,null,"Fizinio rodiklio Nr.:"]
["Fizinio rodiklio pavadinimas:"]
[null,null,"Fizinio rodiklio matavimo vnt.:",null,null,"Fizinio rodiklio vnt. skaičius:"]
["Juridinis asmuo (pareiškėjas, partneris), atsakingas už fizinį rodiklį:"]
[null,null,"Vykdytojo tipas:"]
[null,null,"Finansavimo intensyvumas:",null,null,null,"Pasirinkite biudžeto išlaidų kategoriją:","Visos"]
[]
["Eil. Nr.","Išlaidų kategorijos pavadinimas",null,"Matavimo vnt.","Kiekis","Vieneto kaina be PVM, Eur","Tinkamų finansuoti išlaidų suma be PVM, Eur","Finansavimo suma, Eur","Išlaidų pagrindimo dokumentų pavadinimas, data ir Nr."]
[4,"ĮRANGA, ĮRENGINIAI IR KT. TURTAS (techninių žinių ir išradimų patentų arba teisių pagal licencijų sutartį įsigijimo išlaidos)",null,null,null,null,{"$f":"SUM(G11:G20)","v":0},{"$f":"SUM(H11:H20)","v":0}]
["4.1","Išlaidų pavadinimas",null,null,null,null,{"$f":"ROUND(E11*F11,2)","v":0},{"$f":"ROUND(G11*$D$7,2)","v":0}]
["4.2","Išlaidų pavadinimas",null,null,null,null,0,0]
["4.3","Išlaidų pavadinimas",null,null,null,null,0,0]
["4.4","Išlaidų pavadinimas",null,null,null,null,0,0]
["4.5","Išlaidų pavadinimas",null,null,null,null,0,0]
["4.6","Išlaidų pavadinimas",null,null,null,null,0,0]
["4.7","Išlaidų pavadinimas",null,null,null,null,0,0]
["4.8","Išlaidų pavadinimas",null,null,null,null,0,0]
["4.9","Išlaidų pavadinimas",null,null,null,null,0,0]
["4.10","Išlaidų pavadinimas",null,null,null,null,0,0]
[5,"PROJEKTO VYKDYMAS",null,null,null,null,{"$f":"G22+G33+G49+G65+G116","v":0},{"$f":"H22+H33+H49+H65+H116","v":0}]
["5.1","MTEP paslaugos",null,null,null,null,{"$f":"SUM(G23:G32)","v":0},{"$f":"SUM(H23:H32)","v":0}]
["5.1.1","Paslaugos pavadinimas",null,null,null,null,{"$f":"ROUND(E23*F23,2)","v":0},0]
["5.1.2","Paslaugos pavadinimas",null,null,null,null,0,0]
["5.1.3","Paslaugos pavadinimas",null,null,null,null,0,0]
["5.1.4","Paslaugos pavadinimas",null,null,null,null,0,0]
["5.1.5","Paslaugos pavadinimas",null,null,null,null,0,0]
["5.1.6","Paslaugos pavadinimas",null,null,null,null,0,0]
["5.1.7","Paslaugos pavadinimas",null,null,null,null,0,0]
["5.1.8","Paslaugos pavadinimas",null,null,null,null,0,0]
["5.1.9","Paslaugos pavadinimas",null,null,null,null,0,0]
["5.1.10","Paslaugos pavadinimas",null,null,null,null,0,0]
["5.2","Medžiagos, mažavertis inventorius, atsargos ir pan. produktai, priskirtini trumpalaikiam turtui ir tiesiogiai susiję su MTEP veikla",null,null,null,null,{"$f":"SUM(G34:G50)","v":0},{"$f":"SUM(H34:H50)","v":0}]
["5.2.1","Išlaidų pavadinimas",null,null,null,null,{"$f":"ROUND(E34*F34,2)","v":0},{"$f":"ROUND(G34*$D$7,2)","v":0}]
["5.2.2","Išlaidų pavadinimas",null,null,null,null,0,0]
["5.2.3","Išlaidų pavadinimas",null,null,null,null,0,0]
["5.2.4","Išlaidų pavadinimas",null,null,null,null,0,0]
["5.2.5","Išlaidų pavadinimas",null,null,null,null,{"$f":"ROUND(E38*F38,2)","v":0},{"$f":"ROUND(G38*$D$7,2)","v":0}]
["5.2.6","Išlaidų pavadinimas",null,null,null,null,0,0]
["5.2.7","Išlaidų pavadinimas",null,null,null,null,0,0]
["5.2.8","Išlaidų pavadinimas",null,null,null,null,0,0]
["5.2.9","Išlaidų pavadinimas",null,null,null,null,0,0]
["5.2.10","Išlaidų pavadinimas",null,null,null,null,0,0]
["5.2.11","Išlaidų pavadinimas",null,null,null,null,0,0]
["5.2.12","Išlaidų pavadinimas",null,null,null,null,0,0]
["5.2.13","Išlaidų pavadinimas",null,null,null,null,0,0]
["5.2.14","Išlaidų pavadinimas",null,null,null,null,0,0]
["5.2.15","Išlaidų pavadinimas",null,null,null,null,0,0]
["5.3","Projekto MTEP veikloms naudojamo ilgalaikio materialaus turto (įrangos, prietaisų, įrankių, įrenginių, mašinų ir įrengimų, pastatų ir (ar) patalpų), nusidėvėjimo sąnaudos, jeigu šiam turtui įsigyti nebuvo naudojamos viešosios (įskaitant ir kitų valstybių) lėšos",null,null,null,null,{"$f":"SUM(G50:G64)","v":0},{"$f":"SUM(H50:H64)","v":0},null,null,"Turto įvedimo į eksploataciją data","Turto įsigijimo vertė, Eur","Turto nudėvėjimo, amortizacijos laikotarpis, mėn.","Numatoma turto likutinė vertė, Eur","1 mėn. nudėvėjimo, amortizacijos suma, Eur","Turto naudojamo projekto reikmėms laikas, mėn.","Turto panaudojimo projekto reikmėms dalis (proc.)","Projektui priskirta turto nusidėvėjimo, amortizacijos suma per projekto laikotarpį, Eur"]
["5.3.1","Turtas, kurio nusidėvėjimą, amortizaciją prašoma finansuoti",null,null,1,{"$f":"R50","v":0},{"$f":"ROUND(E50*F50,2)","v":0},0,null,null,null,null,null,null,{"$f":"IFERROR(ROUND((L50-N50)/M50,2),\"0\")","v":"0"},null,null,{"$f":"O50*P50*Q50","v":0},{"$f":"IF(K50=0,\" \",IF(K50+(M50*30.5)<TODAY(),\"DĖMESIO! Patikrinkite, ar nurodytas turtas dar nėra nudėvėtas, amortizuotas\",\" \"))","v":" "}]
["5.3.2","Turtas, kurio nusidėvėjimą, amortizaciją prašoma finansuoti",null,null,1,{"$f":"R51","v":0},0,0,null,null,null,null,null,null,{"$f":"IFERROR(ROUND((L51-N51)/M51,2),\"0\")","v":"0"},null,null,{"$f":"O51*P51*Q51","v":0},{"$f":"IF(K51=0,\" \",IF(K51+(M51*30.5)<TODAY(),\"DĖMESIO! Patikrinkite, ar nurodytas turtas dar nėra nudėvėtas, amortizuotas\",\" \"))","v":" "}]
["5.3.3","Turtas, kurio nusidėvėjimą, amortizaciją prašoma finansuoti",null,null,1,0,0,0,null,null,null,null,null,null,"0",null,null,0," "]
["5.3.4","Turtas, kurio nusidėvėjimą, amortizaciją prašoma finansuoti",null,null,1,{"$f":"R53","v":0},{"$f":"ROUND(E53*F53,2)","v":0},{"$f":"ROUND(G53*$D$7,2)","v":0},null,null,null,null,null,null,"0",null,null,0," "]
["5.3.5","Turtas, kurio nusidėvėjimą, amortizaciją prašoma finansuoti",null,null,1,0,0,0,null,null,null,null,null,null,"0",null,null,0," "]
["5.3.6","Turtas, kurio nusidėvėjimą, amortizaciją prašoma finansuoti",null,null,1,0,0,0,null,null,null,null,null,null,"0",null,null,0," "]
["5.3.7","Turtas, kurio nusidėvėjimą, amortizaciją prašoma finansuoti",null,null,1,0,0,0,null,null,null,null,null,null,"0",null,null,0," "]
["5.3.8","Turtas, kurio nusidėvėjimą, amortizaciją prašoma finansuoti",null,null,1,0,0,0,null,null,null,null,null,null,"0",null,null,0," "]
["5.3.9","Turtas, kurio nusidėvėjimą, amortizaciją prašoma finansuoti",null,null,1,0,0,0,null,null,null,null,null,null,"0",null,null,0," "]
["5.3.10","Turtas, kurio nusidėvėjimą, amortizaciją prašoma finansuoti",null,null,1,0,0,0,null,null,null,null,null,null,"0",null,null,0," "]
["5.3.11","Turtas, kurio nusidėvėjimą, amortizaciją prašoma finansuoti",null,null,1,0,0,0,null,null,null,null,null,null,"0",null,null,0," "]
["5.3.12","Turtas, kurio nusidėvėjimą, amortizaciją prašoma finansuoti",null,null,1,0,0,0,null,null,null,null,null,null,"0",null,null,0," "]
["5.3.13","Turtas, kurio nusidėvėjimą, amortizaciją prašoma finansuoti",null,null,1,0,0,0,null,null,null,null,null,null,"0",null,null,0," "]
["5.3.14","Turtas, kurio nusidėvėjimą, amortizaciją prašoma finansuoti",null,null,1,0,0,0,null,null,null,null,null,null,"0",null,null,0," "]
["5.3.15","Turtas, kurio nusidėvėjimą, amortizaciją prašoma finansuoti",null,null,1,0,0,0,null,null,null,null,null,null,"0",null,null,0," "]
["5.4","Projektą vykdančio personalo darbo užmokestis ir išlaidos su darbo santykiais susijusiems darbdavio įsipareigojimams",null,null,null,null,{"$f":"SUM(G66:G115)","v":0},{"$f":"SUM(H66:H115)","v":0},null,null,"Faktiškai gaunamas darbo užmokesti už 1 valandą pagal  pastarųjų 6 mėn. vidurkį, Eur"]
["5.4.1","Pareigybės pavadinimas","Darbuotojo vardas pavardė","val.",null,{"$f":"IFERROR(ROUND(AVERAGE(K66:K70),2),\"0\")","v":"0"},{"$f":"ROUND(E66*F66,2)","v":0},{"$f":"ROUND(G66*$D$7,2)","v":0}]
[null,null,"Darbuotojo vardas pavardė"]
[null,null,"Darbuotojo vardas pavardė"]
[null,null,"Darbuotojo vardas pavardė"]
[null,null,"Darbuotojo vardas pavardė"]
["5.4.2","Pareigybės pavadinimas","Darbuotojo vardas pavardė","val.",null,{"$f":"IFERROR(ROUND(AVERAGE(K71:K75),2),\"0\")","v":"0"},{"$f":"ROUND(E71*F71,2)","v":0},{"$f":"ROUND(G71*$D$7,2)","v":0}]
[null,null,"Darbuotojo vardas pavardė"]
[null,null,"Darbuotojo vardas pavardė"]
[null,null,"Darbuotojo vardas pavardė"]
[null,null,"Darbuotojo vardas pavardė"]
["5.4.3","Pareigybės pavadinimas","Darbuotojo vardas pavardė","val.",null,{"$f":"IFERROR(ROUND(AVERAGE(K76:K80),2),\"0\")","v":"0"},{"$f":"ROUND(E76*F76,2)","v":0},{"$f":"ROUND(G76*$D$7,2)","v":0}]
[null,null,"Darbuotojo vardas pavardė"]
[null,null,"Darbuotojo vardas pavardė"]
[null,null,"Darbuotojo vardas pavardė"]
[null,null,"Darbuotojo vardas pavardė"]
["5.4.4","Pareigybės pavadinimas","Darbuotojo vardas pavardė","val.",null,{"$f":"IFERROR(ROUND(AVERAGE(K81:K85),2),\"0\")","v":"0"},{"$f":"ROUND(E81*F81,2)","v":0},{"$f":"ROUND(G81*$D$7,2)","v":0}]
[null,null,"Darbuotojo vardas pavardė"]
[null,null,"Darbuotojo vardas pavardė"]
[null,null,"Darbuotojo vardas pavardė"]
[null,null,"Darbuotojo vardas pavardė"]
["5.4.5","Pareigybės pavadinimas","Darbuotojo vardas pavardė","val.",null,{"$f":"IFERROR(ROUND(AVERAGE(K86:K90),2),\"0\")","v":"0"},{"$f":"ROUND(E86*F86,2)","v":0},{"$f":"ROUND(G86*$D$7,2)","v":0}]
[null,null,"Darbuotojo vardas pavardė"]
[null,null,"Darbuotojo vardas pavardė"]
[null,null,"Darbuotojo vardas pavardė"]
[null,null,"Darbuotojo vardas pavardė"]
["5.4.6","Pareigybės pavadinimas","Darbuotojo vardas pavardė","val.",null,{"$f":"IFERROR(ROUND(AVERAGE(K91:K95),2),\"0\")","v":"0"},{"$f":"ROUND(E91*F91,2)","v":0},{"$f":"ROUND(G91*$D$7,2)","v":0}]
[null,null,"Darbuotojo vardas pavardė"]
[null,null,"Darbuotojo vardas pavardė"]
[null,null,"Darbuotojo vardas pavardė"]
[null,null,"Darbuotojo vardas pavardė"]
["5.4.7","Pareigybės pavadinimas","Darbuotojo vardas pavardė","val.",null,{"$f":"IFERROR(ROUND(AVERAGE(K96:K100),2),\"0\")","v":"0"},{"$f":"ROUND(E96*F96,2)","v":0},{"$f":"ROUND(G96*$D$7,2)","v":0}]
[null,null,"Darbuotojo vardas pavardė"]
[null,null,"Darbuotojo vardas pavardė"]
[null,null,"Darbuotojo vardas pavardė"]
[null,null,"Darbuotojo vardas pavardė"]
["5.4.8","Pareigybės pavadinimas","Darbuotojo vardas pavardė","val.",null,{"$f":"IFERROR(ROUND(AVERAGE(K101:K105),2),\"0\")","v":"0"},{"$f":"ROUND(E101*F101,2)","v":0},{"$f":"ROUND(G101*$D$7,2)","v":0}]
[null,null,"Darbuotojo vardas pavardė"]
[null,null,"Darbuotojo vardas pavardė"]
[null,null,"Darbuotojo vardas pavardė"]
[null,null,"Darbuotojo vardas pavardė"]
["5.4.9","Pareigybės pavadinimas","Darbuotojo vardas pavardė","val.",null,{"$f":"IFERROR(ROUND(AVERAGE(K106:K110),2),\"0\")","v":"0"},{"$f":"ROUND(E106*F106,2)","v":0},{"$f":"ROUND(G106*$D$7,2)","v":0}]
[null,null,"Darbuotojo vardas pavardė"]
[null,null,"Darbuotojo vardas pavardė"]
[null,null,"Darbuotojo vardas pavardė"]
[null,null,"Darbuotojo vardas pavardė"]
["5.4.10","Pareigybės pavadinimas","Darbuotojo vardas pavardė","val.",null,{"$f":"IFERROR(ROUND(AVERAGE(K111:K115),2),\"0\")","v":"0"},{"$f":"ROUND(E111*F111,2)","v":0},{"$f":"ROUND(G111*$D$7,2)","v":0}]
[null,null,"Darbuotojo vardas pavardė"]
[null,null,"Darbuotojo vardas pavardė"]
[null,null,"Darbuotojo vardas pavardė"]
[null,null,"Darbuotojo vardas pavardė"]
["5.5","Projektą vykdančio personalo komandiruočių išlaidos",null,null,null,null,{"$f":"SUM(G117,G124,G131,G138,G145,G152,G159,G166,G173,G180)","v":0},{"$f":"SUM(H117,H124,H131,H138,H145,H152,H159,H166,H173,H180)","v":0}]
["5.5.1","Komandiruotės pavadinimas, vieta, trukmė dienomis, vykstančių asmenų skaičius","Iš viso komandiruotei",null,null,null,{"$f":"SUM(G118:G123)","v":0},{"$f":"ROUND(G117*$D$7,2)","v":0}]
[null,null,"Dienpinigiai",null,null,null,{"$f":"ROUND(E118*F118,2)","v":0}]
[null,null,"Gyvenamojo ploto nuoma",null,null,null,0]
[null,null,"Kelionės išlaidos",null,null,null,0]
[null,null,"Dalyvavimo mokestis",null,null,null,0]
[null,null,"Kitos išlaidų pavadinimas",null,null,null,0]
[null,null,"Kitos išlaidų pavadinimas",null,null,null,0]
["5.5.2","Komandiruotės pavadinimas, vieta, trukmė dienomis, vykstančių asmenų skaičius","Iš viso komandiruotei",null,null,null,{"$f":"SUM(G125:G130)","v":0},{"$f":"ROUND(G124*$D$7,2)","v":0}]
[null,null,"Dienpinigiai",null,null,null,{"$f":"ROUND(E125*F125,2)","v":0}]
[null,null,"Gyvenamojo ploto nuoma",null,null,null,0]
[null,null,"Kelionės išlaidos",null,null,null,0]
[null,null,"Dalyvavimo mokestis",null,null,null,0]
[null,null,"Kitos išlaidų pavadinimas",null,null,null,0]
[null,null,"Kitos išlaidų pavadinimas",null,null,null,0]
["5.5.3","Komandiruotės pavadinimas, vieta, trukmė dienomis, vykstančių asmenų skaičius","Iš viso komandiruotei",null,null,null,{"$f":"SUM(G132:G137)","v":0},{"$f":"ROUND(G131*$D$7,2)","v":0}]
[null,null,"Dienpinigiai",null,null,null,{"$f":"ROUND(E132*F132,2)","v":0}]
[null,null,"Gyvenamojo ploto nuoma",null,null,null,0]
[null,null,"Kelionės išlaidos",null,null,null,0]
[null,null,"Dalyvavimo mokestis",null,null,null,0]
[null,null,"Kitos išlaidų pavadinimas",null,null,null,0]
[null,null,"Kitos išlaidų pavadinimas",null,null,null,0]
["5.5.4","Komandiruotės pavadinimas, vieta, trukmė dienomis, vykstančių asmenų skaičius","Iš viso komandiruotei",null,null,null,{"$f":"SUM(G139:G144)","v":0},{"$f":"ROUND(G138*$D$7,2)","v":0}]
[null,null,"Dienpinigiai",null,null,null,{"$f":"ROUND(E139*F139,2)","v":0}]
[null,null,"Gyvenamojo ploto nuoma",null,null,null,0]
[null,null,"Kelionės išlaidos",null,null,null,0]
[null,null,"Dalyvavimo mokestis",null,null,null,0]
[null,null,"Kitos išlaidų pavadinimas",null,null,null,0]
[null,null,"Kitos išlaidų pavadinimas",null,null,null,0]
["5.5.5","Komandiruotės pavadinimas, vieta, trukmė dienomis, vykstančių asmenų skaičius","Iš viso komandiruotei",null,null,null,{"$f":"SUM(G146:G151)","v":0},{"$f":"ROUND(G145*$D$7,2)","v":0}]
[null,null,"Dienpinigiai",null,null,null,{"$f":"ROUND(E146*F146,2)","v":0}]
[null,null,"Gyvenamojo ploto nuoma",null,null,null,0]
[null,null,"Kelionės išlaidos",null,null,null,0]
[null,null,"Dalyvavimo mokestis",null,null,null,0]
[null,null,"Kitos išlaidų pavadinimas",null,null,null,0]
[null,null,"Kitos išlaidų pavadinimas",null,null,null,0]
["5.5.6","Komandiruotės pavadinimas, vieta, trukmė dienomis, vykstančių asmenų skaičius","Iš viso komandiruotei",null,null,null,{"$f":"SUM(G153:G158)","v":0},{"$f":"ROUND(G152*$D$7,2)","v":0}]
[null,null,"Dienpinigiai",null,null,null,{"$f":"ROUND(E153*F153,2)","v":0}]
[null,null,"Gyvenamojo ploto nuoma",null,null,null,0]
[null,null,"Kelionės išlaidos",null,null,null,0]
[null,null,"Dalyvavimo mokestis",null,null,null,0]
[null,null,"Kitos išlaidų pavadinimas",null,null,null,0]
[null,null,"Kitos išlaidų pavadinimas",null,null,null,0]
["5.5.7","Komandiruotės pavadinimas, vieta, trukmė dienomis, vykstančių asmenų skaičius","Iš viso komandiruotei",null,null,null,{"$f":"SUM(G160:G165)","v":0},{"$f":"ROUND(G159*$D$7,2)","v":0}]
[null,null,"Dienpinigiai",null,null,null,{"$f":"ROUND(E160*F160,2)","v":0}]
[null,null,"Gyvenamojo ploto nuoma",null,null,null,0]
[null,null,"Kelionės išlaidos",null,null,null,0]
[null,null,"Dalyvavimo mokestis",null,null,null,0]
[null,null,"Kitos išlaidų pavadinimas",null,null,null,0]
[null,null,"Kitos išlaidų pavadinimas",null,null,null,0]
["5.5.8","Komandiruotės pavadinimas, vieta, trukmė dienomis, vykstančių asmenų skaičius","Iš viso komandiruotei",null,null,null,{"$f":"SUM(G167:G172)","v":0},{"$f":"ROUND(G166*$D$7,2)","v":0}]
[null,null,"Dienpinigiai",null,null,null,{"$f":"ROUND(E167*F167,2)","v":0}]
[null,null,"Gyvenamojo ploto nuoma",null,null,null,0]
[null,null,"Kelionės išlaidos",null,null,null,0]
[null,null,"Dalyvavimo mokestis",null,null,null,0]
[null,null,"Kitos išlaidų pavadinimas",null,null,null,0]
[null,null,"Kitos išlaidų pavadinimas",null,null,null,0]
["5.5.9","Komandiruotės pavadinimas, vieta, trukmė dienomis, vykstančių asmenų skaičius","Iš viso komandiruotei",null,null,null,{"$f":"SUM(G174:G179)","v":0},{"$f":"ROUND(G173*$D$7,2)","v":0}]
[null,null,"Dienpinigiai",null,null,null,{"$f":"ROUND(E174*F174,2)","v":0}]
[null,null,"Gyvenamojo ploto nuoma",null,null,null,0]
[null,null,"Kelionės išlaidos",null,null,null,0]
[null,null,"Dalyvavimo mokestis",null,null,null,0]
[null,null,"Kitos išlaidų pavadinimas",null,null,null,0]
[null,null,"Kitos išlaidų pavadinimas",null,null,null,0]
["5.5.10","Komandiruotės pavadinimas, vieta, trukmė dienomis, vykstančių asmenų skaičius","Iš viso komandiruotei",null,null,null,{"$f":"SUM(G181:G186)","v":0},{"$f":"ROUND(G180*$D$7,2)","v":0}]
[null,null,"Dienpinigiai",null,null,null,{"$f":"ROUND(E181*F181,2)","v":0}]
[null,null,"Gyvenamojo ploto nuoma",null,null,null,0]
[null,null,"Kelionės išlaidos",null,null,null,0]
[null,null,"Dalyvavimo mokestis",null,null,null,0]
[null,null,"Kitos išlaidų pavadinimas",null,null,null,0]
[null,null,"Kitos išlaidų pavadinimas",null,null,null,0]
["Iš viso tinkamų finansuoti išlaidų:",null,null,null,null,null,{"$f":"G10+G21","v":0},{"$f":"H10+H21","v":0}]

{"sheet":"2","index":4,"n_rows":187,"n_cols":19,"rows_kept":187,"cut":false,"hidden":false,"merged":[[179,0,185,0],[179,1,185,1],[179,8,185,8],[186,0,186,5],[165,0,171,0],[165,1,171,1],[165,8,171,8],[172,0,178,0],[172,1,178,1],[172,8,178,8],[151,0,157,0],[151,1,157,1],[151,8,157,8],[158,0,164,0],[158,1,164,1],[158,8,164,8],[137,0,143,0],[137,1,143,1],[137,8,143,8],[144,0,150,0],[144,1,150,1],[144,8,150,8],[123,0,129,0],[123,1,129,1],[123,8,129,8],[130,0,136,0],[130,1,136,1],[130,8,136,8],[110,7,114,7],[110,8,114,8],[115,1,115,5],[116,0,122,0],[116,1,122,1],[116,8,122,8],[110,0,114,0],[110,1,114,1],[110,3,114,3],[110,4,114,4],[110,5,114,5],[110,6,114,6],[100,7,104,7],[100,8,104,8],[105,0,109,0],[105,1,109,1],[105,3,109,3],[105,4,109,4],[105,5,109,5],[105,6,109,6],[105,7,109,7],[105,8,109,8],[100,0,104,0],[100,1,104,1],[100,3,104,3],[100,4,104,4],[100,5,104,5],[100,6,104,6],[90,7,94,7],[90,8,94,8],[95,0,99,0],[95,1,99,1],[95,3,99,3],[95,4,99,4],[95,5,99,5],[95,6,99,6],[95,7,99,7],[95,8,99,8],[90,0,94,0],[90,1,94,1],[90,3,94,3],[90,4,94,4],[90,5,94,5],[90,6,94,6],[85,0,89,0],[85,1,89,1],[85,3,89,3],[85,4,89,4],[85,5,89,5],[85,6,89,6],[85,7,89,7],[85,8,89,8],[80,0,84,0],[80,1,84,1],[80,3,84,3],[80,4,84,4],[80,5,84,5],[80,6,84,6],[75,0,79,0],[75,1,79,1],[75,3,79,3],[75,4,79,4],[75,5,79,5],[75,6,79,6],[75,7,79,7],[75,8,79,8],[80,7,84,7],[80,8,84,8],[65,6,69,6],[65,7,69,7],[65,8,69,8],[70,0,74,0],[70,1,74,1],[70,3,74,3],[70,4,74,4],[70,5,74,5],[70,6,74,6],[70,7,74,7],[70,8,74,8],[62,1,62,2],[63,1,63,2],[64,1,64,5],[65,0,69,0],[65,1,69,1],[65,3,69,3],[65,4,69,4],[65,5,69,5],[56,1,56,2],[57,1,57,2],[58,1,58,2],[59,1,59,2],[60,1,60,2],[61,1,61,2],[50,1,50,2],[51,1,51,2],[52,1,52,2],[53,1,53,2],[54,1,54,2],[55,1,55,2],[44,1,44,2],[45,1,45,2],[46,1,46,2],[47,1,47,2],[48,1,48,5],[49,1,49,2],[38,1,38,2],[39,1,39,2],[40,1,40,2],[41,1,41,2],[42,1,42,2],[43,1,43,2],[32,1,32,5],[33,1,33,2],[34,1,34,2],[35,1,35,2],[36,1,36,2],[37,1,37,2],[26,1,26,2],[27,1,27,2],[28,1,28,2],[29,1,29,2],[30,1,30,2],[31,1,31,2],[20,1,20,5],[21,1,21,5],[22,1,22,2],[23,1,23,2],[24,1,24,2],[25,1,25,2],[16,1,16,2],[17,1,17,2],[18,1,18,2],[19,1,19,2],[8,1,8,2],[9,1,9,5],[10,1,10,2],[11,1,11,2],[12,1,12,2],[13,1,13,2],[0,3,0,8],[2,0,2,2],[2,3,2,8],[3,3,3,4],[3,5,3,6],[4,0,4,2],[4,3,4,8],[14,1,14,2],[15,1,15,2],[5,3,5,8]]}
[null,null,"Pasirinkite veiklos tipą:"]
[null,null,"Fizinio rodiklio Nr.:"]
["Fizinio rodiklio pavadinimas:"]
[null,null,"Fizinio rodiklio matavimo vnt.:",null,null,"Fizinio rodiklio vnt. skaičius:"]
["Juridinis asmuo (pareiškėjas, partneris), atsakingas už fizinį rodiklį:"]
[null,null,"Vykdytojo tipas:"]
[null,null,"Finansavimo intensyvumas:",null,null,null,"Pasirinkite biudžeto išlaidų kategoriją:","Visos"]
[]
["Eil. Nr.","Išlaidų kategorijos pavadinimas",null,"Matavimo vnt.","Kiekis","Vieneto kaina be PVM, Eur","Tinkamų finansuoti išlaidų suma be PVM, Eur","Finansavimo suma, Eur","Išlaidų pagrindimo dokumentų pavadinimas, data ir Nr."]
[4,"ĮRANGA, ĮRENGINIAI IR KT. TURTAS (techninių žinių ir išradimų patentų arba teisių pagal licencijų sutartį įsigijimo išlaidos)",null,null,null,null,{"$f":"SUM(G11:G20)","v":0},{"$f":"SUM(H11:H20)","v":0}]
["4.1","Išlaidų pavadinimas",null,null,null,null,{"$f":"ROUND(E11*F11,2)","v":0},{"$f":"ROUND(G11*$D$7,2)","v":0}]
["4.2","Išlaidų pavadinimas",null,null,null,null,0,0]
["4.3","Išlaidų pavadinimas",null,null,null,null,0,0]
["4.4","Išlaidų pavadinimas",null,null,null,null,0,0]
["4.5","Išlaidų pavadinimas",null,null,null,null,0,0]
["4.6","Išlaidų pavadinimas",null,null,null,null,0,0]
["4.7","Išlaidų pavadinimas",null,null,null,null,0,0]
["4.8","Išlaidų pavadinimas",null,null,null,null,0,0]
["4.9","Išlaidų pavadinimas",null,null,null,null,0,0]
["4.10","Išlaidų pavadinimas",null,null,null,null,0,0]
[5,"PROJEKTO VYKDYMAS",null,null,null,null,{"$f":"G22+G33+G49+G65+G116","v":0},{"$f":"H22+H33+H49+H65+H116","v":0}]
["5.1","MTEP paslaugos",null,null,null,null,{"$f":"SUM(G23:G32)","v":0},{"$f":"SUM(H23:H32)","v":0}]
["5.1.1","Paslaugos pavadinimas",null,null,null,null,{"$f":"ROUND(E23*F23,2)","v":0},0]
["5.1.2","Paslaugos pavadinimas",null,null,null,null,0,0]
["5.1.3","Paslaugos pavadinimas",null,null,null,null,0,0]
["5.1.4","Paslaugos pavadinimas",null,null,null,null,0,0]
["5.1.5","Paslaugos pavadinimas",null,null,null,null,0,0]
["5.1.6","Paslaugos pavadinimas",null,null,null,null,0,0]
["5.1.7","Paslaugos pavadinimas",null,null,null,null,0,0]
["5.1.8","Paslaugos pavadinimas",null,null,null,null,0,0]
["5.1.9","Paslaugos pavadinimas",null,null,null,null,0,0]
["5.1.10","Paslaugos pavadinimas",null,null,null,null,0,0]
["5.2","Medžiagos, mažavertis inventorius, atsargos ir pan. produktai, priskirtini trumpalaikiam turtui ir tiesiogiai susiję su MTEP veikla",null,null,null,null,{"$f":"SUM(G34:G50)","v":0},{"$f":"SUM(H34:H50)","v":0}]
["5.2.1","Išlaidų pavadinimas",null,null,null,null,{"$f":"ROUND(E34*F34,2)","v":0},{"$f":"ROUND(G34*$D$7,2)","v":0}]
["5.2.2","Išlaidų pavadinimas",null,null,null,null,0,0]
["5.2.3","Išlaidų pavadinimas",null,null,null,null,0,0]
["5.2.4","Išlaidų pavadinimas",null,null,null,null,0,0]
["5.2.5","Išlaidų pavadinimas",null,null,null,null,0,0]
["5.2.6","Išlaidų pavadinimas",null,null,null,null,0,0]
["5.2.7","Išlaidų pavadinimas",null,null,null,null,0,0]
["5.2.8","Išlaidų pavadinimas",null,null,null,null,0,0]
["5.2.9","Išlaidų pavadinimas",null,null,null,null,0,0]
["5.2.10","Išlaidų pavadinimas",null,null,null,null,0,0]
["5.2.11","Išlaidų pavadinimas",null,null,null,null,0,0]
["5.2.12","Išlaidų pavadinimas",null,null,null,null,0,0]
["5.2.13","Išlaidų pavadinimas",null,null,null,null,0,0]
["5.2.14","Išlaidų pavadinimas",null,null,null,null,0,0]
["5.2.15","Išlaidų pavadinimas",null,null,null,null,0,0]
["5.3","Projekto MTEP veikloms naudojamo ilgalaikio materialaus turto (įrangos, prietaisų, įrankių, įrenginių, mašinų ir įrengimų, pastatų ir (ar) patalpų), nusidėvėjimo sąnaudos, jeigu šiam turtui įsigyti nebuvo naudojamos viešosios (įskaitant ir kitų valstybių) lėšos",null,null,null,null,{"$f":"SUM(G50:G64)","v":0},{"$f":"SUM(H50:H64)","v":0},null,null,"Turto įvedimo į eksploataciją data","Turto įsigijimo vertė, Eur","Turto nudėvėjimo, amortizacijos laikotarpis, mėn.","Numatoma turto likutinė vertė, Eur","1 mėn. nudėvėjimo, amortizacijos suma, Eur","Turto naudojamo projekto reikmėms laikas, mėn.","Turto panaudojimo projekto reikmėms dalis (proc.)","Projektui priskirta turto nusidėvėjimo, amortizacijos suma per projekto laikotarpį, Eur"]
["5.3.1","Turtas, kurio nusidėvėjimą, amortizaciją prašoma finansuoti",null,null,1,{"$f":"R50","v":0},{"$f":"ROUND(E50*F50,2)","v":0},0,null,null,null,null,null,null,{"$f":"IFERROR(ROUND((L50-N50)/M50,2),\"0\")","v":"0"},null,null,{"$f":"O50*P50*Q50","v":0},{"$f":"IF(K50=0,\" \",IF(K50+(M50*30.5)<TODAY(),\"DĖMESIO! Patikrinkite, ar nurodytas turtas dar nėra nudėvėtas, amortizuotas\",\" \"))","v":" "}]
["5.3.2","Turtas, kurio nusidėvėjimą, amortizaciją prašoma finansuoti",null,null,1,{"$f":"R51","v":0},0,0,null,null,null,null,null,null,{"$f":"IFERROR(ROUND((L51-N51)/M51,2),\"0\")","v":"0"},null,null,{"$f":"O51*P51*Q51","v":0},{"$f":"IF(K51=0,\" \",IF(K51+(M51*30.5)<TODAY(),\"DĖMESIO! Patikrinkite, ar nurodytas turtas dar nėra nudėvėtas, amortizuotas\",\" \"))","v":" "}]
["5.3.3","Turtas, kurio nusidėvėjimą, amortizaciją prašoma finansuoti",null,null,1,0,0,0,null,null,null,null,null,null,"0",null,null,0," "]
["5.3.4","Turtas, kurio nusidėvėjimą, amortizaciją prašoma finansuoti",null,null,1,0,0,0,null,null,null,null,null,null,"0",null,null,0," "]
["5.3.5","Turtas, kurio nusidėvėjimą, amortizaciją prašoma finansuoti",null,null,1,0,0,0,null,null,null,null,null,null,"0",null,null,0," "]
["5.3.6","Turtas, kurio nusidėvėjimą, amortizaciją prašoma finansuoti",null,null,1,0,0,0,null,null,null,null,null,null,"0",null,null,0," "]
["5.3.7","Turtas, kurio nusidėvėjimą, amortizaciją prašoma finansuoti",null,null,1,0,0,0,null,null,null,null,null,null,"0",null,null,0," "]
["5.3.8","Turtas, kurio nusidėvėjimą, amortizaciją prašoma finansuoti",null,null,1,0,0,0,null,null,null,null,null,null,"0",null,null,0," "]
["5.3.9","Turtas, kurio nusidėvėjimą, amortizaciją prašoma finansuoti",null,null,1,0,0,0,null,null,null,null,null,null,"0",null,null,0," "]
["5.3.10","Turtas, kurio nusidėvėjimą, amortizaciją prašoma finansuoti",null,null,1,0,0,0,null,null,null,null,null,null,"0",null,null,0," "]
["5.3.11","Turtas, kurio nusidėvėjimą, amortizaciją prašoma finansuoti",null,null,1,0,0,0,null,null,null,null,null,null,"0",null,null,0," "]
["5.3.12","Turtas, kurio nusidėvėjimą, amortizaciją prašoma finansuoti",null,null,1,0,0,0,null,null,null,null,null,null,"0",null,null,0," "]
["5.3.13","Turtas, kurio nusidėvėjimą, amortizaciją prašoma finansuoti",null,null,1,0,0,0,null,null,null,null,null,null,"0",null,null,0," "]
["5.3.14","Turtas, kurio nusidėvėjimą, amortizaciją prašoma finansuoti",null,null,1,0,0,0,null,null,null,null,null,null,"0",null,null,0," "]
["5.3.15","Turtas, kurio nusidėvėjimą, amortizaciją prašoma finansuoti",null,null,1,0,0,0,null,null,null,null,null,null,"0",null,null,0," "]
["5.4","Projektą vykdančio personalo darbo užmokestis ir išlaidos su darbo santykiais susijusiems darbdavio įsipareigojimams",null,null,null,null,{"$f":"SUM(G66:G115)","v":0},{"$f":"SUM(H66:H115)","v":0},null,null,"Faktiškai gaunamas darbo užmokesti už 1 valandą pagal  pastarųjų 6 mėn. vidurkį, Eur"]
["5.4.1","Pareigybės pavadinimas","Darbuotojo vardas pavardė","val.",null,{"$f":"IFERROR(ROUND(AVERAGE(K66:K70),2),\"0\")","v":"0"},{"$f":"ROUND(E66*F66,2)","v":0},{"$f":"ROUND(G66*$D$7,2)","v":0}]
[null,null,"Darbuotojo vardas pavardė"]
[null,null,"Darbuotojo vardas pavardė"]
[null,null,"Darbuotojo vardas pavardė"]
[null,null,"Darbuotojo vardas pavardė"]
["5.4.2","Pareigybės pavadinimas","Darbuotojo vardas pavardė","val.",null,{"$f":"IFERROR(ROUND(AVERAGE(K71:K75),2),\"0\")","v":"0"},{"$f":"ROUND(E71*F71,2)","v":0},{"$f":"ROUND(G71*$D$7,2)","v":0}]
[null,null,"Darbuotojo vardas pavardė"]
[null,null,"Darbuotojo vardas pavardė"]
[null,null,"Darbuotojo vardas pavardė"]
[null,null,"Darbuotojo vardas pavardė"]
["5.4.3","Pareigybės pavadinimas","Darbuotojo vardas pavardė","val.",null,{"$f":"IFERROR(ROUND(AVERAGE(K76:K80),2),\"0\")","v":"0"},{"$f":"ROUND(E76*F76,2)","v":0},{"$f":"ROUND(G76*$D$7,2)","v":0}]
[null,null,"Darbuotojo vardas pavardė"]
[null,null,"Darbuotojo vardas pavardė"]
[null,null,"Darbuotojo vardas pavardė"]
[null,null,"Darbuotojo vardas pavardė"]
["5.4.4","Pareigybės pavadinimas","Darbuotojo vardas pavardė","val.",null,{"$f":"IFERROR(ROUND(AVERAGE(K81:K85),2),\"0\")","v":"0"},{"$f":"ROUND(E81*F81,2)","v":0},{"$f":"ROUND(G81*$D$7,2)","v":0}]
[null,null,"Darbuotojo vardas pavardė"]
[null,null,"Darbuotojo vardas pavardė"]
[null,null,"Darbuotojo vardas pavardė"]
[null,null,"Darbuotojo vardas pavardė"]
["5.4.5","Pareigybės pavadinimas","Darbuotojo vardas pavardė","val.",null,{"$f":"IFERROR(ROUND(AVERAGE(K86:K90),2),\"0\")","v":"0"},{"$f":"ROUND(E86*F86,2)","v":0},{"$f":"ROUND(G86*$D$7,2)","v":0}]
[null,null,"Darbuotojo vardas pavardė"]
[null,null,"Darbuotojo vardas pavardė"]
[null,null,"Darbuotojo vardas pavardė"]
[null,null,"Darbuotojo vardas pavardė"]
["5.4.6","Pareigybės pavadinimas","Darbuotojo vardas pavardė","val.",null,{"$f":"IFERROR(ROUND(AVERAGE(K91:K95),2),\"0\")","v":"0"},{"$f":"ROUND(E91*F91,2)","v":0},{"$f":"ROUND(G91*$D$7,2)","v":0}]
[null,null,"Darbuotojo vardas pavardė"]
[null,null,"Darbuotojo vardas pavardė"]
[null,null,"Darbuotojo vardas pavardė"]
[null,null,"Darbuotojo vardas pavardė"]
["5.4.7","Pareigybės pavadinimas","Darbuotojo vardas pavardė","val.",null,{"$f":"IFERROR(ROUND(AVERAGE(K96:K100),2),\"0\")","v":"0"},{"$f":"ROUND(E96*F96,2)","v":0},{"$f":"ROUND(G96*$D$7,2)","v":0}]
[null,null,"Darbuotojo vardas pavardė"]
[null,null,"Darbuotojo vardas pavardė"]
[null,null,"Darbuotojo vardas pavardė"]
[null,null,"Darbuotojo vardas pavardė"]
["5.4.8","Pareigybės pavadinimas","Darbuotojo vardas pavardė","val.",null,{"$f":"IFERROR(ROUND(AVERAGE(K101:K105),2),\"0\")","v":"0"},{"$f":"ROUND(E101*F101,2)","v":0},{"$f":"ROUND(G101*$D$7,2)","v":0}]
[null,null,"Darbuotojo vardas pavardė"]
[null,null,"Darbuotojo vardas pavardė"]
[null,null,"Darbuotojo vardas pavardė"]
[null,null,"Darbuotojo vardas pavardė"]
["5.4.9","Pareigybės pavadinimas","Darbuotojo vardas pavardė","val.",null,{"$f":"IFERROR(ROUND(AVERAGE(K106:K110),2),\"0\")","v":"0"},{"$f":"ROUND(E106*F106,2)","v":0},{"$f":"ROUND(G106*$D$7,2)","v":0}]
[null,null,"Darbuotojo vardas pavardė"]
[null,null,"Darbuotojo vardas pavardė"]
[null,null,"Darbuotojo vardas pavardė"]
[null,null,"Darbuotojo vardas pavardė"]
["5.4.10","Pareigybės pavadinimas","Darbuotojo vardas pavardė","val.",null,{"$f":"IFERROR(ROUND(AVERAGE(K111:K115),2),\"0\")","v":"0"},{"$f":"ROUND(E111*F111,2)","v":0},{"$f":"ROUND(G111*$D$7,2)","v":0}]
[null,null,"Darbuotojo vardas pavardė"]
[null,null,"Darbuotojo vardas pavardė"]
[null,null,"Darbuotojo vardas pavardė"]
[null,null,"Darbuotojo vardas pavardė"]
["5.5","Projektą vykdančio personalo komandiruočių išlaidos",null,null,null,null,{"$f":"SUM(G117,G124,G131,G138,G145,G152,G159,G166,G173,G180)","v":0},{"$f":"SUM(H117,H124,H131,H138,H145,H152,H159,H166,H173,H180)","v":0}]
["5.5.1","Komandiruotės pavadinimas, vieta, trukmė dienomis, vykstančių asmenų skaičius","Iš viso komandiruotei",null,null,null,{"$f":"SUM(G118:G123)","v":0},{"$f":"ROUND(G117*$D$7,2)","v":0}]
[null,null,"Dienpinigiai",null,null,null,{"$f":"ROUND(E118*F118,2)","v":0}]
[null,null,"Gyvenamojo ploto nuoma",null,null,null,0]
[null,null,"Kelionės išlaidos",null,null,null,0]
[null,null,"Dalyvavimo mokestis",null,null,null,0]
[null,null,"Kitos išlaidų pavadinimas",null,null,null,0]
[null,null,"Kitos išlaidų pavadinimas",null,null,null,0]
["5.5.2","Komandiruotės pavadinimas, vieta, trukmė dienomis, vykstančių asmenų skaičius","Iš viso komandiruotei",null,null,null,{"$f":"SUM(G125:G130)","v":0},{"$f":"ROUND(G124*$D$7,2)","v":0}]
[null,null,"Dienpinigiai",null,null,null,{"$f":"ROUND(E125*F125,2)","v":0}]
[null,null,"Gyvenamojo ploto nuoma",null,null,null,0]
[null,null,"Kelionės išlaidos",null,null,null,0]
[null,null,"Dalyvavimo mokestis",null,null,null,0]
[null,null,"Kitos išlaidų pavadinimas",null,null,null,0]
[null,null,"Kitos išlaidų pavadinimas",null,null,null,0]
["5.5.3","Komandiruotės pavadinimas, vieta, trukmė dienomis, vykstančių asmenų skaičius","Iš viso komandiruotei",null,null,null,{"$f":"SUM(G132:G137)","v":0},{"$f":"ROUND(G131*$D$7,2)","v":0}]
[null,null,"Dienpinigiai",null,null,null,{"$f":"ROUND(E132*F132,2)","v":0}]
[null,null,"Gyvenamojo ploto nuoma",null,null,null,0]
[null,null,"Kelionės išlaidos",null,null,null,0]
[null,null,"Dalyvavimo mokestis",null,null,null,0]
[null,null,"Kitos išlaidų pavadinimas",null,null,null,0]
[null,null,"Kitos išlaidų pavadinimas",null,null,null,0]
["5.5.4","Komandiruotės pavadinimas, vieta, trukmė dienomis, vykstančių asmenų skaičius","Iš viso komandiruotei",null,null,null,{"$f":"SUM(G139:G144)","v":0},{"$f":"ROUND(G138*$D$7,2)","v":0}]
[null,null,"Dienpinigiai",null,null,null,{"$f":"ROUND(E139*F139,2)","v":0}]
[null,null,"Gyvenamojo ploto nuoma",null,null,null,0]
[null,null,"Kelionės išlaidos",null,null,null,0]
[null,null,"Dalyvavimo mokestis",null,null,null,0]
[null,null,"Kitos išlaidų pavadinimas",null,null,null,0]
[null,null,"Kitos išlaidų pavadinimas",null,null,null,0]
["5.5.5","Komandiruotės pavadinimas, vieta, trukmė dienomis, vykstančių asmenų skaičius","Iš viso komandiruotei",null,null,null,{"$f":"SUM(G146:G151)","v":0},{"$f":"ROUND(G145*$D$7,2)","v":0}]
[null,null,"Dienpinigiai",null,null,null,{"$f":"ROUND(E146*F146,2)","v":0}]
[null,null,"Gyvenamojo ploto nuoma",null,null,null,0]
[null,null,"Kelionės išlaidos",null,null,null,0]
[null,null,"Dalyvavimo mokestis",null,null,null,0]
[null,null,"Kitos išlaidų pavadinimas",null,null,null,0]
[null,null,"Kitos išlaidų pavadinimas",null,null,null,0]
["5.5.6","Komandiruotės pavadinimas, vieta, trukmė dienomis, vykstančių asmenų skaičius","Iš viso komandiruotei",null,null,null,{"$f":"SUM(G153:G158)","v":0},{"$f":"ROUND(G152*$D$7,2)","v":0}]
[null,null,"Dienpinigiai",null,null,null,{"$f":"ROUND(E153*F153,2)","v":0}]
[null,null,"Gyvenamojo ploto nuoma",null,null,null,0]
[null,null,"Kelionės išlaidos",null,null,null,0]
[null,null,"Dalyvavimo mokestis",null,null,null,0]
[null,null,"Kitos išlaidų pavadinimas",null,null,null,0]
[null,null,"Kitos išlaidų pavadinimas",null,null,null,0]
["5.5.7","Komandiruotės pavadinimas, vieta, trukmė dienomis, vykstančių asmenų skaičius","Iš viso komandiruotei",null,null,null,{"$f":"SUM(G160:G165)","v":0},{"$f":"ROUND(G159*$D$7,2)","v":0}]
[null,null,"Dienpinigiai",null,null,null,{"$f":"ROUND(E160*F160,2)","v":0}]
[null,null,"Gyvenamojo ploto nuoma",null,null,null,0]
[null,null,"Kelionės išlaidos",null,null,null,0]
[null,null,"Dalyvavimo mokestis",null,null,null,0]
[null,null,"Kitos išlaidų pavadinimas",null,null,null,0]
[null,null,"Kitos išlaidų pavadinimas",null,null,null,0]
["5.5.8","Komandiruotės pavadinimas, vieta, trukmė dienomis, vykstančių asmenų skaičius","Iš viso komandiruotei",null,null,null,{"$f":"SUM(G167:G172)","v":0},{"$f":"ROUND(G166*$D$7,2)","v":0}]
[null,null,"Dienpinigiai",null,null,null,{"$f":"ROUND(E167*F167,2)","v":0}]
[null,null,"Gyvenamojo ploto nuoma",null,null,null,0]
[null,null,"Kelionės išlaidos",null,null,null,0]
[null,null,"Dalyvavimo mokestis",null,null,null,0]
[null,null,"Kitos išlaidų pavadinimas",null,null,null,0]
[null,null,"Kitos išlaidų pavadinimas",null,null,null,0]
["5.5.9","Komandiruotės pavadinimas, vieta, trukmė dienomis, vykstančių asmenų skaičius","Iš viso komandiruotei",null,null,null,{"$f":"SUM(G174:G179)","v":0},{"$f":"ROUND(G173*$D$7,2)","v":0}]
[null,null,"Dienpinigiai",null,null,null,{"$f":"ROUND(E174*F174,2)","v":0}]
[null,null,"Gyvenamojo ploto nuoma",null,null,null,0]
[null,null,"Kelionės išlaidos",null,null,null,0]
[null,null,"Dalyvavimo mokestis",null,null,null,0]
[null,null,"Kitos išlaidų pavadinimas",null,null,null,0]
[null,null,"Kitos išlaidų pavadinimas",null,null,null,0]
["5.5.10","Komandiruotės pavadinimas, vieta, trukmė dienomis, vykstančių asmenų skaičius","Iš viso komandiruotei",null,null,null,{"$f":"SUM(G181:G186)","v":0},{"$f":"ROUND(G180*$D$7,2)","v":0}]
[null,null,"Dienpinigiai",null,null,null,{"$f":"ROUND(E181*F181,2)","v":0}]
[null,null,"Gyvenamojo ploto nuoma",null,null,null,0]
[null,null,"Kelionės išlaidos",null,null,null,0]
[null,null,"Dalyvavimo mokestis",null,null,null,0]
[null,null,"Kitos išlaidų pavadinimas",null,null,null,0]
[null,null,"Kitos išlaidų pavadinimas",null,null,null,0]
["Iš viso tinkamų finansuoti išlaidų:",null,null,null,null,null,{"$f":"G10+G21","v":0},{"$f":"H10+H21","v":0}]

{"sheet":"3","index":5,"n_rows":187,"n_cols":19,"rows_kept":187,"cut":false,"hidden":false,"merged":[[179,0,185,0],[179,1,185,1],[179,8,185,8],[186,0,186,5],[165,0,171,0],[165,1,171,1],[165,8,171,8],[172,0,178,0],[172,1,178,1],[172,8,178,8],[151,0,157,0],[151,1,157,1],[151,8,157,8],[158,0,164,0],[158,1,164,1],[158,8,164,8],[137,0,143,0],[137,1,143,1],[137,8,143,8],[144,0,150,0],[144,1,150,1],[144,8,150,8],[123,0,129,0],[123,1,129,1],[123,8,129,8],[130,0,136,0],[130,1,136,1],[130,8,136,8],[110,7,114,7],[110,8,114,8],[115,1,115,5],[116,0,122,0],[116,1,122,1],[116,8,122,8],[110,0,114,0],[110,1,114,1],[110,3,114,3],[110,4,114,4],[110,5,114,5],[110,6,114,6],[100,7,104,7],[100,8,104,8],[105,0,109,0],[105,1,109,1],[105,3,109,3],[105,4,109,4],[105,5,109,5],[105,6,109,6],[105,7,109,7],[105,8,109,8],[100,0,104,0],[100,1,104,1],[100,3,104,3],[100,4,104,4],[100,5,104,5],[100,6,104,6],[90,7,94,7],[90,8,94,8],[95,0,99,0],[95,1,99,1],[95,3,99,3],[95,4,99,4],[95,5,99,5],[95,6,99,6],[95,7,99,7],[95,8,99,8],[90,0,94,0],[90,1,94,1],[90,3,94,3],[90,4,94,4],[90,5,94,5],[90,6,94,6],[85,0,89,0],[85,1,89,1],[85,3,89,3],[85,4,89,4],[85,5,89,5],[85,6,89,6],[85,7,89,7],[85,8,89,8],[80,0,84,0],[80,1,84,1],[80,3,84,3],[80,4,84,4],[80,5,84,5],[80,6,84,6],[75,0,79,0],[75,1,79,1],[75,3,79,3],[75,4,79,4],[75,5,79,5],[75,6,79,6],[75,7,79,7],[75,8,79,8],[80,7,84,7],[80,8,84,8],[65,6,69,6],[65,7,69,7],[65,8,69,8],[70,0,74,0],[70,1,74,1],[70,3,74,3],[70,4,74,4],[70,5,74,5],[70,6,74,6],[70,7,74,7],[70,8,74,8],[62,1,62,2],[63,1,63,2],[64,1,64,5],[65,0,69,0],[65,1,69,1],[65,3,69,3],[65,4,69,4],[65,5,69,5],[56,1,56,2],[57,1,57,2],[58,1,58,2],[59,1,59,2],[60,1,60,2],[61,1,61,2],[50,1,50,2],[51,1,51,2],[52,1,52,2],[53,1,53,2],[54,1,54,2],[55,1,55,2],[44,1,44,2],[45,1,45,2],[46,1,46,2],[47,1,47,2],[48,1,48,5],[49,1,49,2],[38,1,38,2],[39,1,39,2],[40,1,40,2],[41,1,41,2],[42,1,42,2],[43,1,43,2],[32,1,32,5],[33,1,33,2],[34,1,34,2],[35,1,35,2],[36,1,36,2],[37,1,37,2],[26,1,26,2],[27,1,27,2],[28,1,28,2],[29,1,29,2],[30,1,30,2],[31,1,31,2],[20,1,20,5],[21,1,21,5],[22,1,22,2],[23,1,23,2],[24,1,24,2],[25,1,25,2],[16,1,16,2],[17,1,17,2],[18,1,18,2],[19,1,19,2],[8,1,8,2],[9,1,9,5],[10,1,10,2],[11,1,11,2],[12,1,12,2],[13,1,13,2],[0,3,0,8],[2,0,2,2],[2,3,2,8],[3,3,3,4],[3,5,3,6],[4,0,4,2],[4,3,4,8],[14,1,14,2],[15,1,15,2],[5,3,5,8]]}
[null,null,"Pasirinkite veiklos tipą:"]
[null,null,"Fizinio rodiklio Nr.:"]
["Fizinio rodiklio pavadinimas:"]
[null,null,"Fizinio rodiklio matavimo vnt.:",null,null,"Fizinio rodiklio vnt. skaičius:"]
["Juridinis asmuo (pareiškėjas, partneris), atsakingas už fizinį rodiklį:"]
[null,null,"Vykdytojo tipas:"]
[null,null,"Finansavimo intensyvumas:",null,null,null,"Pasirinkite biudžeto išlaidų kategoriją:","Visos"]
[]
["Eil. Nr.","Išlaidų kategorijos pavadinimas",null,"Matavimo vnt.","Kiekis","Vieneto kaina be PVM, Eur","Tinkamų finansuoti išlaidų suma be PVM, Eur","Finansavimo suma, Eur","Išlaidų pagrindimo dokumentų pavadinimas, data ir Nr."]
[4,"ĮRANGA, ĮRENGINIAI IR KT. TURTAS (techninių žinių ir išradimų patentų arba teisių pagal licencijų sutartį įsigijimo išlaidos)",null,null,null,null,{"$f":"SUM(G11:G20)","v":0},{"$f":"SUM(H11:H20)","v":0}]
["4.1","Išlaidų pavadinimas",null,null,null,null,{"$f":"ROUND(E11*F11,2)","v":0},{"$f":"ROUND(G11*$D$7,2)","v":0}]
["4.2","Išlaidų pavadinimas",null,null,null,null,0,0]
["4.3","Išlaidų pavadinimas",null,null,null,null,0,0]
["4.4","Išlaidų pavadinimas",null,null,null,null,0,0]
["4.5","Išlaidų pavadinimas",null,null,null,null,0,0]
["4.6","Išlaidų pavadinimas",null,null,null,null,0,0]
["4.7","Išlaidų pavadinimas",null,null,null,null,0,0]
["4.8","Išlaidų pavadinimas",null,null,null,null,0,0]
["4.9","Išlaidų pavadinimas",null,null,null,null,0,0]
["4.10","Išlaidų pavadinimas",null,null,null,null,0,0]
[5,"PROJEKTO VYKDYMAS",null,null,null,null,{"$f":"G22+G33+G49+G65+G116","v":0},{"$f":"H22+H33+H49+H65+H116","v":0}]
["5.1","MTEP paslaugos",null,null,null,null,{"$f":"SUM(G23:G32)","v":0},{"$f":"SUM(H23:H32)","v":0}]
["5.1.1","Paslaugos pavadinimas",null,null,null,null,{"$f":"ROUND(E23*F23,2)","v":0},0]
["5.1.2","Paslaugos pavadinimas",null,null,null,null,0,0]
["5.1.3","Paslaugos pavadinimas",null,null,null,null,0,0]
["5.1.4","Paslaugos pavadinimas",null,null,null,null,0,0]
["5.1.5","Paslaugos pavadinimas",null,null,null,null,0,0]
["5.1.6","Paslaugos pavadinimas",null,null,null,null,0,0]
["5.1.7","Paslaugos pavadinimas",null,null,null,null,0,0]
["5.1.8","Paslaugos pavadinimas",null,null,null,null,0,0]
["5.1.9","Paslaugos pavadinimas",null,null,null,null,0,0]
["5.1.10","Paslaugos pavadinimas",null,null,null,null,0,0]
["5.2","Medžiagos, mažavertis inventorius, atsargos ir pan. produktai, priskirtini trumpalaikiam turtui ir tiesiogiai susiję su MTEP veikla",null,null,null,null,{"$f":"SUM(G34:G50)","v":0},{"$f":"SUM(H34:H50)","v":0}]
["5.2.1","Išlaidų pavadinimas",null,null,null,null,{"$f":"ROUND(E34*F34,2)","v":0},{"$f":"ROUND(G34*$D$7,2)","v":0}]
["5.2.2","Išlaidų pavadinimas",null,null,null,null,0,0]
["5.2.3","Išlaidų pavadinimas",null,null,null,null,0,0]
["5.2.4","Išlaidų pavadinimas",null,null,null,null,0,0]
["5.2.5","Išlaidų pavadinimas",null,null,null,null,0,0]
["5.2.6","Išlaidų pavadinimas",null,null,null,null,0,0]
["5.2.7","Išlaidų pavadinimas",null,null,null,null,0,0]
["5.2.8","Išlaidų pavadinimas",null,null,null,null,0,0]
["5.2.9","Išlaidų pavadinimas",null,null,null,null,0,0]
["5.2.10","Išlaidų pavadinimas",null,null,null,null,0,0]
["5.2.11","Išlaidų pavadinimas",null,null,null,null,0,0]
["5.2.12","Išlaidų pavadinimas",null,null,null,null,0,0]
["5.2.13","Išlaidų pavadinimas",null,null,null,null,0,0]
["5.2.14","Išlaidų pavadinimas",null,null,null,null,0,0]
["5.2.15","Išlaidų pavadinimas",null,null,null,null,0,0]
["5.3","Projekto MTEP veikloms naudojamo ilgalaikio materialaus turto (įrangos, prietaisų, įrankių, įrenginių, mašinų ir įrengimų, pastatų ir (ar) patalpų), nusidėvėjimo sąnaudos, jeigu šiam turtui įsigyti nebuvo naudojamos viešosios (įskaitant ir kitų valstybių) lėšos",null,null,null,null,{"$f":"SUM(G50:G64)","v":0},{"$f":"SUM(H50:H64)","v":0},null,null,"Turto įvedimo į eksploataciją data","Turto įsigijimo vertė, Eur","Turto nudėvėjimo, amortizacijos laikotarpis, mėn.","Numatoma turto likutinė vertė, Eur","1 mėn. nudėvėjimo, amortizacijos suma, Eur","Turto naudojamo projekto reikmėms laikas, mėn.","Turto panaudojimo projekto reikmėms dalis (proc.)","Projektui priskirta turto nusidėvėjimo, amortizacijos suma per projekto laikotarpį, Eur"]
["5.3.1","Turtas, kurio nusidėvėjimą, amortizaciją prašoma finansuoti",null,null,1,{"$f":"R50","v":0},{"$f":"ROUND(E50*F50,2)","v":0},0,null,null,null,null,null,null,{"$f":"IFERROR(ROUND((L50-N50)/M50,2),\"0\")","v":"0"},null,null,{"$f":"O50*P50*Q50","v":0},{"$f":"IF(K50=0,\" \",IF(K50+(M50*30.5)<TODAY(),\"DĖMESIO! Patikrinkite, ar nurodytas turtas dar nėra nudėvėtas, amortizuotas\",\" \"))","v":" "}]
["5.3.2","Turtas, kurio nusidėvėjimą, amortizaciją prašoma finansuoti",null,null,1,{"$f":"R51","v":0},0,0,null,null,null,null,null,null,{"$f":"IFERROR(ROUND((L51-N51)/M51,2),\"0\")","v":"0"},null,null,{"$f":"O51*P51*Q51","v":0},{"$f":"IF(K51=0,\" \",IF(K51+(M51*30.5)<TODAY(),\"DĖMESIO! Patikrinkite, ar nurodytas turtas dar nėra nudėvėtas, amortizuotas\",\" \"))","v":" "}]
["5.3.3","Turtas, kurio nusidėvėjimą, amortizaciją prašoma finansuoti",null,null,1,0,0,0,null,null,null,null,null,null,"0",null,null,0," "]
["5.3.4","Turtas, kurio nusidėvėjimą, amortizaciją prašoma finansuoti",null,null,1,0,0,0,null,null,null,null,null,null,"0",null,null,0," "]
["5.3.5","Turtas, kurio nusidėvėjimą, amortizaciją prašoma finansuoti",null,null,1,0,0,0,null,null,null,null,null,null,"0",null,null,0," "]
["5.3.6","Turtas, kurio nusidėvėjimą, amortizaciją prašoma finansuoti",null,null,1,0,0,0,null,null,null,null,null,null,"0",null,null,0," "]
["5.3.7","Turtas, kurio nusidėvėjimą, amortizaciją prašoma finansuoti",null,null,1,0,0,0,null,null,null,null,null,null,"0",null,null,0," "]
["5.3.8","Turtas, kurio nusidėvėjimą, amortizaciją prašoma finansuoti",null,null,1,0,0,0,null,null,null,null,null,null,"0",null,null,0," "]
["5.3.9","Turtas, kurio nusidėvėjimą, amortizaciją prašoma finansuoti",null,null,1,0,0,0,null,null,null,null,null,null,"0",null,null,0," "]
["5.3.10","Turtas, kurio nusidėvėjimą, amortizaciją prašoma finansuoti",null,null,1,0,0,0,null,null,null,null,null,null,"0",null,null,0," "]
["5.3.11","Turtas, kurio nusidėvėjimą, amortizaciją prašoma finansuoti",null,null,1,0,0,0,null,null,null,null,null,null,"0",null,null,0," "]
["5.3.12","Turtas, kurio nusidėvėjimą, amortizaciją prašoma finansuoti",null,null,1,0,0,0,null,null,null,null,null,null,"0",null,null,0," "]
["5.3.13","Turtas, kurio nusidėvėjimą, amortizaciją prašoma finansuoti",null,null,1,0,0,0,null,null,null,null,null,null,"0",null,null,0," "]
["5.3.14","Turtas, kurio nusidėvėjimą, amortizaciją prašoma finansuoti",null,null,1,0,0,0,null,null,null,null,null,null,"0",null,null,0," "]
["5.3.15","Turtas, kurio nusidėvėjimą, amortizaciją prašoma finansuoti",null,null,1,0,0,0,null,null,null,null,null,null,"0",null,null,0," "]
["5.4","Projektą vykdančio personalo darbo užmokestis ir išlaidos su darbo santykiais susijusiems darbdavio įsipareigojimams",null,null,null,null,{"$f":"SUM(G66:G115)","v":0},{"$f":"SUM(H66:H115)","v":0},null,null,"Faktiškai gaunamas darbo užmokesti už 1 valandą pagal  pastarųjų 6 mėn. vidurkį, Eur"]
["5.4.1","Pareigybės pavadinimas","Darbuotojo vardas pavardė","val.",null,{"$f":"IFERROR(ROUND(AVERAGE(K66:K70),2),\"0\")","v":"0"},{"$f":"ROUND(E66*F66,2)","v":0},{"$f":"ROUND(G66*$D$7,2)","v":0}]
[null,null,"Darbuotojo vardas pavardė"]
[null,null,"Darbuotojo vardas pavardė"]
[null,null,"Darbuotojo vardas pavardė"]
[null,null,"Darbuotojo vardas pavardė"]
["5.4.2","Pareigybės pavadinimas","Darbuotojo vardas pavardė","val.",null,{"$f":"IFERROR(ROUND(AVERAGE(K71:K75),2),\"0\")","v":"0"},{"$f":"ROUND(E71*F71,2)","v":0},{"$f":"ROUND(G71*$D$7,2)","v":0}]
[null,null,"Darbuotojo vardas pavardė"]
[null,null,"Darbuotojo vardas pavardė"]
[null,null,"Darbuotojo vardas pavardė"]
[null,null,"Darbuotojo vardas pavardė"]
["5.4.3","Pareigybės pavadinimas","Darbuotojo vardas pavardė","val.",null,{"$f":"IFERROR(ROUND(AVERAGE(K76:K80),2),\"0\")","v":"0"},{"$f":"ROUND(E76*F76,2)","v":0},{"$f":"ROUND(G76*$D$7,2)","v":0}]
[null,null,"Darbuotojo vardas pavardė"]
[null,null,"Darbuotojo vardas pavardė"]
[null,null,"Darbuotojo vardas pavardė"]
[null,null,"Darbuotojo vardas pavardė"]
["5.4.4","Pareigybės pavadinimas","Darbuotojo vardas pavardė","val.",null,{"$f":"IFERROR(ROUND(AVERAGE(K81:K85),2),\"0\")","v":"0"},{"$f":"ROUND(E81*F81,2)","v":0},{"$f":"ROUND(G81*$D$7,2)","v":0}]
[null,null,"Darbuotojo vardas pavardė"]
[null,null,"Darbuotojo vardas pavardė"]
[null,null,"Darbuotojo vardas pavardė"]
[null,null,"Darbuotojo vardas pavardė"]
["5.4.5","Pareigybės pavadinimas","Darbuotojo vardas pavardė","val.",null,{"$f":"IFERROR(ROUND(AVERAGE(K86:K90),2),\"0\")","v":"0"},{"$f":"ROUND(E86*F86,2)","v":0},{"$f":"ROUND(G86*$D$7,2)","v":0}]
[null,null,"Darbuotojo vardas pavardė"]
[null,null,"Darbuotojo vardas pavardė"]
[null,null,"Darbuotojo vardas pavardė"]
[null,null,"Darbuotojo vardas pavardė"]
["5.4.6","Pareigybės pavadinimas","Darbuotojo vardas pavardė","val.",null,{"$f":"IFERROR(ROUND(AVERAGE(K91:K95),2),\"0\")","v":"0"},{"$f":"ROUND(E91*F91,2)","v":0},{"$f":"ROUND(G91*$D$7,2)","v":0}]
[null,null,"Darbuotojo vardas pavardė"]
[null,null,"Darbuotojo vardas pavardė"]
[null,null,"Darbuotojo vardas pavardė"]
[null,null,"Darbuotojo vardas pavardė"]
["5.4.7","Pareigybės pavadinimas","Darbuotojo vardas pavardė","val.",null,{"$f":"IFERROR(ROUND(AVERAGE(K96:K100),2),\"0\")","v":"0"},{"$f":"ROUND(E96*F96,2)","v":0},{"$f":"ROUND(G96*$D$7,2)","v":0}]
[null,null,"Darbuotojo vardas pavardė"]
[null,null,"Darbuotojo vardas pavardė"]
[null,null,"Darbuotojo vardas pavardė"]
[null,null,"Darbuotojo vardas pavardė"]
["5.4.8","Pareigybės pavadinimas","Darbuotojo vardas pavardė","val.",null,{"$f":"IFERROR(ROUND(AVERAGE(K101:K105),2),\"0\")","v":"0"},{"$f":"ROUND(E101*F101,2)","v":0},{"$f":"ROUND(G101*$D$7,2)","v":0}]
[null,null,"Darbuotojo vardas pavardė"]
[null,null,"Darbuotojo vardas pavardė"]
[null,null,"Darbuotojo vardas pavardė"]
[null,null,"Darbuotojo vardas pavardė"]
["5.4.9","Pareigybės pavadinimas","Darbuotojo vardas pavardė","val.",null,{"$f":"IFERROR(ROUND(AVERAGE(K106:K110),2),\"0\")","v":"0"},{"$f":"ROUND(E106*F106,2)","v":0},{"$f":"ROUND(G106*$D$7,2)","v":0}]
[null,null,"Darbuotojo vardas pavardė"]
[null,null,"Darbuotojo vardas pavardė"]
[null,null,"Darbuotojo vardas pavardė"]
[null,null,"Darbuotojo vardas pavardė"]
["5.4.10","Pareigybės pavadinimas","Darbuotojo vardas pavardė","val.",null,{"$f":"IFERROR(ROUND(AVERAGE(K111:K115),2),\"0\")","v":"0"},{"$f":"ROUND(E111*F111,2)","v":0},{"$f":"ROUND(G111*$D$7,2)","v":0}]
[null,null,"Darbuotojo vardas pavardė"]
[null,null,"Darbuotojo vardas pavardė"]
[null,null,"Darbuotojo vardas pavardė"]
[null,null,"Darbuotojo vardas pavardė"]
["5.5","Projektą vykdančio personalo komandiruočių išlaidos",null,null,null,null,{"$f":"SUM(G117,G124,G131,G138,G145,G152,G159,G166,G173,G180)","v":0},{"$f":"SUM(H117,H124,H131,H138,H145,H152,H159,H166,H173,H180)","v":0}]
["5.5.1","Komandiruotės pavadinimas, vieta, trukmė dienomis, vykstančių asmenų skaičius","Iš viso komandiruotei",null,null,null,{"$f":"SUM(G118:G123)","v":0},{"$f":"ROUND(G117*$D$7,2)","v":0}]
[null,null,"Dienpinigiai",null,null,null,{"$f":"ROUND(E118*F118,2)","v":0}]
[null,null,"Gyvenamojo ploto nuoma",null,null,null,0]
[null,null,"Kelionės išlaidos",null,null,null,0]
[null,null,"Dalyvavimo mokestis",null,null,null,0]
[null,null,"Kitos išlaidų pavadinimas",null,null,null,0]
[null,null,"Kitos išlaidų pavadinimas",null,null,null,0]
["5.5.2","Komandiruotės pavadinimas, vieta, trukmė dienomis, vykstančių asmenų skaičius","Iš viso komandiruotei",null,null,null,{"$f":"SUM(G125:G130)","v":0},{"$f":"ROUND(G124*$D$7,2)","v":0}]
[null,null,"Dienpinigiai",null,null,null,{"$f":"ROUND(E125*F125,2)","v":0}]
[null,null,"Gyvenamojo ploto nuoma",null,null,null,0]
[null,null,"Kelionės išlaidos",null,null,null,0]
[null,null,"Dalyvavimo mokestis",null,null,null,0]
[null,null,"Kitos išlaidų pavadinimas",null,null,null,0]
[null,null,"Kitos išlaidų pavadinimas",null,null,null,0]
["5.5.3","Komandiruotės pavadinimas, vieta, trukmė dienomis, vykstančių asmenų skaičius","Iš viso komandiruotei",null,null,null,{"$f":"SUM(G132:G137)","v":0},{"$f":"ROUND(G131*$D$7,2)","v":0}]
[null,null,"Dienpinigiai",null,null,null,{"$f":"ROUND(E132*F132,2)","v":0}]
[null,null,"Gyvenamojo ploto nuoma",null,null,null,0]
[null,null,"Kelionės išlaidos",null,null,null,0]
[null,null,"Dalyvavimo mokestis",null,null,null,0]
[null,null,"Kitos išlaidų pavadinimas",null,null,null,0]
[null,null,"Kitos išlaidų pavadinimas",null,null,null,0]
["5.5.4","Komandiruotės pavadinimas, vieta, trukmė dienomis, vykstančių asmenų skaičius","Iš viso komandiruotei",null,null,null,{"$f":"SUM(G139:G144)","v":0},{"$f":"ROUND(G138*$D$7,2)","v":0}]
[null,null,"Dienpinigiai",null,null,null,{"$f":"ROUND(E139*F139,2)","v":0}]
[null,null,"Gyvenamojo ploto nuoma",null,null,null,0]
[null,null,"Kelionės išlaidos",null,null,null,0]
[null,null,"Dalyvavimo mokestis",null,null,null,0]
[null,null,"Kitos išlaidų pavadinimas",null,null,null,0]
[null,null,"Kitos išlaidų pavadinimas",null,null,null,0]
["5.5.5","Komandiruotės pavadinimas, vieta, trukmė dienomis, vykstančių asmenų skaičius","Iš viso komandiruotei",null,null,null,{"$f":"SUM(G146:G151)","v":0},{"$f":"ROUND(G145*$D$7,2)","v":0}]
[null,null,"Dienpinigiai",null,null,null,{"$f":"ROUND(E146*F146,2)","v":0}]
[null,null,"Gyvenamojo ploto nuoma",null,null,null,0]
[null,null,"Kelionės išlaidos",null,null,null,0]
[null,null,"Dalyvavimo mokestis",null,null,null,0]
[null,null,"Kitos išlaidų pavadinimas",null,null,null,0]
[null,null,"Kitos išlaidų pavadinimas",null,null,null,0]
["5.5.6","Komandiruotės pavadinimas, vieta, trukmė dienomis, vykstančių asmenų skaičius","Iš viso komandiruotei",null,null,null,{"$f":"SUM(G153:G158)","v":0},{"$f":"ROUND(G152*$D$7,2)","v":0}]
[null,null,"Dienpinigiai",null,null,null,{"$f":"ROUND(E153*F153,2)","v":0}]
[null,null,"Gyvenamojo ploto nuoma",null,null,null,0]
[null,null,"Kelionės išlaidos",null,null,null,0]
[null,null,"Dalyvavimo mokestis",null,null,null,0]
[null,null,"Kitos išlaidų pavadinimas",null,null,null,0]
[null,null,"Kitos išlaidų pavadinimas",null,null,null,0]
["5.5.7","Komandiruotės pavadinimas, vieta, trukmė dienomis, vykstančių asmenų skaičius","Iš viso komandiruotei",null,null,null,{"$f":"SUM(G160:G165)","v":0},{"$f":"ROUND(G159*$D$7,2)","v":0}]
[null,null,"Dienpinigiai",null,null,null,{"$f":"ROUND(E160*F160,2)","v":0}]
[null,null,"Gyvenamojo ploto nuoma",null,null,null,0]
[null,null,"Kelionės išlaidos",null,null,null,0]
[null,null,"Dalyvavimo mokestis",null,null,null,0]
[null,null,"Kitos išlaidų pavadinimas",null,null,null,0]
[null,null,"Kitos išlaidų pavadinimas",null,null,null,0]
["5.5.8","Komandiruotės pavadinimas, vieta, trukmė dienomis, vykstančių asmenų skaičius","Iš viso komandiruotei",null,null,null,{"$f":"SUM(G167:G172)","v":0},{"$f":"ROUND(G166*$D$7,2)","v":0}]
[null,null,"Dienpinigiai",null,null,null,{"$f":"ROUND(E167*F167,2)","v":0}]
[null,null,"Gyvenamojo ploto nuoma",null,null,null,0]
[null,null,"Kelionės išlaidos",null,null,null,0]
[null,null,"Dalyvavimo mokestis",null,null,null,0]
[null,null,"Kitos išlaidų pavadinimas",null,null,null,0]
[null,null,"Kitos išlaidų pavadinimas",null,null,null,0]
["5.5.9","Komandiruotės pavadinimas, vieta, trukmė dienomis, vykstančių asmenų skaičius","Iš viso komandiruotei",null,null,null,{"$f":"SUM(G174:G179)","v":0},{"$f":"ROUND(G173*$D$7,2)","v":0}]
[null,null,"Dienpinigiai",null,null,null,{"$f":"ROUND(E174*F174,2)","v":0}]
[null,null,"Gyvenamojo ploto nuoma",null,null,null,0]
[null,null,"Kelionės išlaidos",null,null,null,0]
[null,null,"Dalyvavimo mokestis",null,null,null,0]
[null,null,"Kitos išlaidų pavadinimas",null,null,null,0]
[null,null,"Kitos išlaidų pavadinimas",null,null,null,0]
["5.5.10","Komandiruotės pavadinimas, vieta, trukmė dienomis, vykstančių asmenų skaičius","Iš viso komandiruotei",null,null,null,{"$f":"SUM(G181:G186)","v":0},{"$f":"ROUND(G180*$D$7,2)","v":0}]
[null,null,"Dienpinigiai",null,null,null,{"$f":"ROUND(E181*F181,2)","v":0}]
[null,null,"Gyvenamojo ploto nuoma",null,null,null,0]
[null,null,"Kelionės išlaidos",null,null,null,0]
[null,null,"Dalyvavimo mokestis",null,null,null,0]
[null,null,"Kitos išlaidų pavadinimas",null,null,null,0]
[null,null,"Kitos išlaidų pavadinimas",null,null,null,0]
["Iš viso tinkamų finansuoti išlaidų:",null,null,null,null,null,{"$f":"G10+G21","v":0},{"$f":"H10+H21","v":0}]

{"sheet":"4","index":6,"n_rows":187,"n_cols":19,"rows_kept":187,"cut":false,"hidden":false,"merged":[[179,0,185,0],[179,1,185,1],[179,8,185,8],[186,0,186,5],[165,0,171,0],[165,1,171,1],[165,8,171,8],[172,0,178,0],[172,1,178,1],[172,8,178,8],[151,0,157,0],[151,1,157,1],[151,8,157,8],[158,0,164,0],[158,1,164,1],[158,8,164,8],[137,0,143,0],[137,1,143,1],[137,8,143,8],[144,0,150,0],[144,1,150,1],[144,8,150,8],[123,0,129,0],[123,1,129,1],[123,8,129,8],[130,0,136,0],[130,1,136,1],[130,8,136,8],[110,7,114,7],[110,8,114,8],[115,1,115,5],[116,0,122,0],[116,1,122,1],[116,8,122,8],[110,0,114,0],[110,1,114,1],[110,3,114,3],[110,4,114,4],[110,5,114,5],[110,6,114,6],[100,7,104,7],[100,8,104,8],[105,0,109,0],[105,1,109,1],[105,3,109,3],[105,4,109,4],[105,5,109,5],[105,6,109,6],[105,7,109,7],[105,8,109,8],[100,0,104,0],[100,1,104,1],[100,3,104,3],[100,4,104,4],[100,5,104,5],[100,6,104,6],[90,7,94,7],[90,8,94,8],[95,0,99,0],[95,1,99,1],[95,3,99,3],[95,4,99,4],[95,5,99,5],[95,6,99,6],[95,7,99,7],[95,8,99,8],[90,0,94,0],[90,1,94,1],[90,3,94,3],[90,4,94,4],[90,5,94,5],[90,6,94,6],[85,0,89,0],[85,1,89,1],[85,3,89,3],[85,4,89,4],[85,5,89,5],[85,6,89,6],[85,7,89,7],[85,8,89,8],[80,0,84,0],[80,1,84,1],[80,3,84,3],[80,4,84,4],[80,5,84,5],[80,6,84,6],[75,0,79,0],[75,1,79,1],[75,3,79,3],[75,4,79,4],[75,5,79,5],[75,6,79,6],[75,7,79,7],[75,8,79,8],[80,7,84,7],[80,8,84,8],[65,6,69,6],[65,7,69,7],[65,8,69,8],[70,0,74,0],[70,1,74,1],[70,3,74,3],[70,4,74,4],[70,5,74,5],[70,6,74,6],[70,7,74,7],[70,8,74,8],[62,1,62,2],[63,1,63,2],[64,1,64,5],[65,0,69,0],[65,1,69,1],[65,3,69,3],[65,4,69,4],[65,5,69,5],[56,1,56,2],[57,1,57,2],[58,1,58,2],[59,1,59,2],[60,1,60,2],[61,1,61,2],[50,1,50,2],[51,1,51,2],[52,1,52,2],[53,1,53,2],[54,1,54,2],[55,1,55,2],[44,1,44,2],[45,1,45,2],[46,1,46,2],[47,1,47,2],[48,1,48,5],[49,1,49,2],[38,1,38,2],[39,1,39,2],[40,1,40,2],[41,1,41,2],[42,1,42,2],[43,1,43,2],[32,1,32,5],[33,1,33,2],[34,1,34,2],[35,1,35,2],[36,1,36,2],[37,1,37,2],[26,1,26,2],[27,1,27,2],[28,1,28,2],[29,1,29,2],[30,1,30,2],[31,1,31,2],[20,1,20,5],[21,1,21,5],[22,1,22,2],[23,1,23,2],[24,1,24,2],[25,1,25,2],[16,1,16,2],[17,1,17,2],[18,1,18,2],[19,1,19,2],[8,1,8,2],[9,1,9,5],[10,1,10,2],[11,1,11,2],[12,1,12,2],[13,1,13,2],[0,3,0,8],[2,0,2,2],[2,3,2,8],[3,3,3,4],[3,5,3,6],[4,0,4,2],[4,3,4,8],[14,1,14,2],[15,1,15,2],[5,3,5,8]]}
[null,null,"Pasirinkite veiklos tipą:"]
[null,null,"Fizinio rodiklio Nr.:"]
["Fizinio rodiklio pavadinimas:"]
[null,null,"Fizinio rodiklio matavimo vnt.:",null,null,"Fizinio rodiklio vnt. skaičius:"]
["Juridinis asmuo (pareiškėjas, partneris), atsakingas už fizinį rodiklį:"]
[null,null,"Vykdytojo tipas:"]
[null,null,"Finansavimo intensyvumas:",null,null,null,"Pasirinkite biudžeto išlaidų kategoriją:","Visos"]
[]
["Eil. Nr.","Išlaidų kategorijos pavadinimas",null,"Matavimo vnt.","Kiekis","Vieneto kaina be PVM, Eur","Tinkamų finansuoti išlaidų suma be PVM, Eur","Finansavimo suma, Eur","Išlaidų pagrindimo dokumentų pavadinimas, data ir Nr."]
[4,"ĮRANGA, ĮRENGINIAI IR KT. TURTAS (techninių žinių ir išradimų patentų arba teisių pagal licencijų sutartį įsigijimo išlaidos)",null,null,null,null,{"$f":"SUM(G11:G20)","v":0},{"$f":"SUM(H11:H20)","v":0}]
["4.1","Išlaidų pavadinimas",null,null,null,null,{"$f":"ROUND(E11*F11,2)","v":0},{"$f":"ROUND(G11*$D$7,2)","v":0}]
["4.2","Išlaidų pavadinimas",null,null,null,null,0,0]
["4.3","Išlaidų pavadinimas",null,null,null,null,0,0]
["4.4","Išlaidų pavadinimas",null,null,null,null,0,0]
["4.5","Išlaidų pavadinimas",null,null,null,null,0,0]
["4.6","Išlaidų pavadinimas",null,null,null,null,0,0]
["4.7","Išlaidų pavadinimas",null,null,null,null,0,0]
["4.8","Išlaidų pavadinimas",null,null,null,null,0,0]
["4.9","Išlaidų pavadinimas",null,null,null,null,0,0]
["4.10","Išlaidų pavadinimas",null,null,null,null,0,0]
[5,"PROJEKTO VYKDYMAS",null,null,null,null,{"$f":"G22+G33+G49+G65+G116","v":0},{"$f":"H22+H33+H49+H65+H116","v":0}]
["5.1","MTEP paslaugos",null,null,null,null,{"$f":"SUM(G23:G32)","v":0},{"$f":"SUM(H23:H32)","v":0}]
["5.1.1","Paslaugos pavadinimas",null,null,null,null,{"$f":"ROUND(E23*F23,2)","v":0},0]
["5.1.2","Paslaugos pavadinimas",null,null,null,null,0,0]
["5.1.3","Paslaugos pavadinimas",null,null,null,null,0,0]
["5.1.4","Paslaugos pavadinimas",null,null,null,null,0,0]
["5.1.5","Paslaugos pavadinimas",null,null,null,null,0,0]
["5.1.6","Paslaugos pavadinimas",null,null,null,null,0,0]
["5.1.7","Paslaugos pavadinimas",null,null,null,null,0,0]
["5.1.8","Paslaugos pavadinimas",null,null,null,null,0,0]
["5.1.9","Paslaugos pavadinimas",null,null,null,null,0,0]
["5.1.10","Paslaugos pavadinimas",null,null,null,null,0,0]
["5.2","Medžiagos, mažavertis inventorius, atsargos ir pan. produktai, priskirtini trumpalaikiam turtui ir tiesiogiai susiję su MTEP veikla",null,null,null,null,{"$f":"SUM(G34:G50)","v":0},{"$f":"SUM(H34:H50)","v":0}]
["5.2.1","Išlaidų pavadinimas",null,null,null,null,{"$f":"ROUND(E34*F34,2)","v":0},{"$f":"ROUND(G34*$D$7,2)","v":0}]
["5.2.2","Išlaidų pavadinimas",null,null,null,null,0,0]
["5.2.3","Išlaidų pavadinimas",null,null,null,null,0,0]
["5.2.4","Išlaidų pavadinimas",null,null,null,null,0,0]
["5.2.5","Išlaidų pavadinimas",null,null,null,null,0,0]
["5.2.6","Išlaidų pavadinimas",null,null,null,null,0,0]
["5.2.7","Išlaidų pavadinimas",null,null,null,null,0,0]
["5.2.8","Išlaidų pavadinimas",null,null,null,null,0,0]
["5.2.9","Išlaidų pavadinimas",null,null,null,null,0,0]
["5.2.10","Išlaidų pavadinimas",null,null,null,null,0,0]
["5.2.11","Išlaidų pavadinimas",null,null,null,null,0,0]
["5.2.12","Išlaidų pavadinimas",null,null,null,null,0,0]
["5.2.13","Išlaidų pavadinimas",null,null,null,null,0,0]
["5.2.14","Išlaidų pavadinimas",null,null,null,null,0,0]
["5.2.15","Išlaidų pavadinimas",null,null,null,null,0,0]
["5.3","Projekto MTEP veikloms naudojamo ilgalaikio materialaus turto (įrangos, prietaisų, įrankių, įrenginių, mašinų ir įrengimų, pastatų ir (ar) patalpų), nusidėvėjimo sąnaudos, jeigu šiam turtui įsigyti nebuvo naudojamos viešosios (įskaitant ir kitų valstybių) lėšos",null,null,null,null,{"$f":"SUM(G50:G64)","v":0},{"$f":"SUM(H50:H64)","v":0},null,null,"Turto įvedimo į eksploataciją data","Turto įsigijimo vertė, Eur","Turto nudėvėjimo, amortizacijos laikotarpis, mėn.","Numatoma turto likutinė vertė, Eur","1 mėn. nudėvėjimo, amortizacijos suma, Eur","Turto naudojamo projekto reikmėms laikas, mėn.","Turto panaudojimo projekto reikmėms dalis (proc.)","Projektui priskirta turto nusidėvėjimo, amortizacijos suma per projekto laikotarpį, Eur"]
["5.3.1","Turtas, kurio nusidėvėjimą, amortizaciją prašoma finansuoti",null,null,1,{"$f":"R50","v":0},{"$f":"ROUND(E50*F50,2)","v":0},0,null,null,null,null,null,null,{"$f":"IFERROR(ROUND((L50-N50)/M50,2),\"0\")","v":"0"},null,null,{"$f":"O50*P50*Q50","v":0},{"$f":"IF(K50=0,\" \",IF(K50+(M50*30.5)<TODAY(),\"DĖMESIO! Patikrinkite, ar nurodytas turtas dar nėra nudėvėtas, amortizuotas\",\" \"))","v":" "}]
["5.3.2","Turtas, kurio nusidėvėjimą, amortizaciją prašoma finansuoti",null,null,1,{"$f":"R51","v":0},0,0,null,null,null,null,null,null,{"$f":"IFERROR(ROUND((L51-N51)/M51,2),\"0\")","v":"0"},null,null,{"$f":"O51*P51*Q51","v":0},{"$f":"IF(K51=0,\" \",IF(K51+(M51*30.5)<TODAY(),\"DĖMESIO! Patikrinkite, ar nurodytas turtas dar nėra nudėvėtas, amortizuotas\",\" \"))","v":" "}]
["5.3.3","Turtas, kurio nusidėvėjimą, amortizaciją prašoma finansuoti",null,null,1,0,0,0,null,null,null,null,null,null,"0",null,null,0," "]
["5.3.4","Turtas, kurio nusidėvėjimą, amortizaciją prašoma finansuoti",null,null,1,0,0,0,null,null,null,null,null,null,"0",null,null,0," "]
["5.3.5","Turtas, kurio nusidėvėjimą, amortizaciją prašoma finansuoti",null,null,1,0,0,0,null,null,null,null,null,null,"0",null,null,0," "]
["5.3.6","Turtas, kurio nusidėvėjimą, amortizaciją prašoma finansuoti",null,null,1,0,0,0,null,null,null,null,null,null,"0",null,null,0," "]
["5.3.7","Turtas, kurio nusidėvėjimą, amortizaciją prašoma finansuoti",null,null,1,0,0,0,null,null,null,null,null,null,"0",null,null,0," "]
["5.3.8","Turtas, kurio nusidėvėjimą, amortizaciją prašoma finansuoti",null,null,1,0,0,0,null,null,null,null,null,null,"0",null,null,0," "]
["5.3.9","Turtas, kurio nusidėvėjimą, amortizaciją prašoma finansuoti",null,null,1,0,0,0,null,null,null,null,null,null,"0",null,null,0," "]
["5.3.10","Turtas, kurio nusidėvėjimą, amortizaciją prašoma finansuoti",null,null,1,0,0,0,null,null,null,null,null,null,"0",null,null,0," "]
["5.3.11","Turtas, kurio nusidėvėjimą, amortizaciją prašoma finansuoti",null,null,1,0,0,0,null,null,null,null,null,null,"0",null,null,0," "]
["5.3.12","Turtas, kurio nusidėvėjimą, amortizaciją prašoma finansuoti",null,null,1,0,0,0,null,null,null,null,null,null,"0",null,null,0," "]
["5.3.13","Turtas, kurio nusidėvėjimą, amortizaciją prašoma finansuoti",null,null,1,0,0,0,null,null,null,null,null,null,"0",null,null,0," "]
["5.3.14","Turtas, kurio nusidėvėjimą, amortizaciją prašoma finansuoti",null,null,1,0,0,0,null,null,null,null,null,null,"0",null,null,0," "]
["5.3.15","Turtas, kurio nusidėvėjimą, amortizaciją prašoma finansuoti",null,null,1,0,0,0,null,null,null,null,null,null,"0",null,null,0," "]
["5.4","Projektą vykdančio personalo darbo užmokestis ir išlaidos su darbo santykiais susijusiems darbdavio įsipareigojimams",null,null,null,null,{"$f":"SUM(G66:G115)","v":0},{"$f":"SUM(H66:H115)","v":0},null,null,"Faktiškai gaunamas darbo užmokesti už 1 valandą pagal  pastarųjų 6 mėn. vidurkį, Eur"]
["5.4.1","Pareigybės pavadinimas","Darbuotojo vardas pavardė","val.",null,{"$f":"IFERROR(ROUND(AVERAGE(K66:K70),2),\"0\")","v":"0"},{"$f":"ROUND(E66*F66,2)","v":0},{"$f":"ROUND(G66*$D$7,2)","v":0}]
[null,null,"Darbuotojo vardas pavardė"]
[null,null,"Darbuotojo vardas pavardė"]
[null,null,"Darbuotojo vardas pavardė"]
[null,null,"Darbuotojo vardas pavardė"]
["5.4.2","Pareigybės pavadinimas","Darbuotojo vardas pavardė","val.",null,{"$f":"IFERROR(ROUND(AVERAGE(K71:K75),2),\"0\")","v":"0"},{"$f":"ROUND(E71*F71,2)","v":0},{"$f":"ROUND(G71*$D$7,2)","v":0}]
[null,null,"Darbuotojo vardas pavardė"]
[null,null,"Darbuotojo vardas pavardė"]
[null,null,"Darbuotojo vardas pavardė"]
[null,null,"Darbuotojo vardas pavardė"]
["5.4.3","Pareigybės pavadinimas","Darbuotojo vardas pavardė","val.",null,{"$f":"IFERROR(ROUND(AVERAGE(K76:K80),2),\"0\")","v":"0"},{"$f":"ROUND(E76*F76,2)","v":0},{"$f":"ROUND(G76*$D$7,2)","v":0}]
[null,null,"Darbuotojo vardas pavardė"]
[null,null,"Darbuotojo vardas pavardė"]
[null,null,"Darbuotojo vardas pavardė"]
[null,null,"Darbuotojo vardas pavardė"]
["5.4.4","Pareigybės pavadinimas","Darbuotojo vardas pavardė","val.",null,{"$f":"IFERROR(ROUND(AVERAGE(K81:K85),2),\"0\")","v":"0"},{"$f":"ROUND(E81*F81,2)","v":0},{"$f":"ROUND(G81*$D$7,2)","v":0}]
[null,null,"Darbuotojo vardas pavardė"]
[null,null,"Darbuotojo vardas pavardė"]
[null,null,"Darbuotojo vardas pavardė"]
[null,null,"Darbuotojo vardas pavardė"]
["5.4.5","Pareigybės pavadinimas","Darbuotojo vardas pavardė","val.",null,{"$f":"IFERROR(ROUND(AVERAGE(K86:K90),2),\"0\")","v":"0"},{"$f":"ROUND(E86*F86,2)","v":0},{"$f":"ROUND(G86*$D$7,2)","v":0}]
[null,null,"Darbuotojo vardas pavardė"]
[null,null,"Darbuotojo vardas pavardė"]
[null,null,"Darbuotojo vardas pavardė"]
[null,null,"Darbuotojo vardas pavardė"]
["5.4.6","Pareigybės pavadinimas","Darbuotojo vardas pavardė","val.",null,{"$f":"IFERROR(ROUND(AVERAGE(K91:K95),2),\"0\")","v":"0"},{"$f":"ROUND(E91*F91,2)","v":0},{"$f":"ROUND(G91*$D$7,2)","v":0}]
[null,null,"Darbuotojo vardas pavardė"]
[null,null,"Darbuotojo vardas pavardė"]
[null,null,"Darbuotojo vardas pavardė"]
[null,null,"Darbuotojo vardas pavardė"]
["5.4.7","Pareigybės pavadinimas","Darbuotojo vardas pavardė","val.",null,{"$f":"IFERROR(ROUND(AVERAGE(K96:K100),2),\"0\")","v":"0"},{"$f":"ROUND(E96*F96,2)","v":0},{"$f":"ROUND(G96*$D$7,2)","v":0}]
[null,null,"Darbuotojo vardas pavardė"]
[null,null,"Darbuotojo vardas pavardė"]
[null,null,"Darbuotojo vardas pavardė"]
[null,null,"Darbuotojo vardas pavardė"]
["5.4.8","Pareigybės pavadinimas","Darbuotojo vardas pavardė","val.",null,{"$f":"IFERROR(ROUND(AVERAGE(K101:K105),2),\"0\")","v":"0"},{"$f":"ROUND(E101*F101,2)","v":0},{"$f":"ROUND(G101*$D$7,2)","v":0}]
[null,null,"Darbuotojo vardas pavardė"]
[null,null,"Darbuotojo vardas pavardė"]
[null,null,"Darbuotojo vardas pavardė"]
[null,null,"Darbuotojo vardas pavardė"]
["5.4.9","Pareigybės pavadinimas","Darbuotojo vardas pavardė","val.",null,{"$f":"IFERROR(ROUND(AVERAGE(K106:K110),2),\"0\")","v":"0"},{"$f":"ROUND(E106*F106,2)","v":0},{"$f":"ROUND(G106*$D$7,2)","v":0}]
[null,null,"Darbuotojo vardas pavardė"]
[null,null,"Darbuotojo vardas pavardė"]
[null,null,"Darbuotojo vardas pavardė"]
[null,null,"Darbuotojo vardas pavardė"]
["5.4.10","Pareigybės pavadinimas","Darbuotojo vardas pavardė","val.",null,{"$f":"IFERROR(ROUND(AVERAGE(K111:K115),2),\"0\")","v":"0"},{"$f":"ROUND(E111*F111,2)","v":0},{"$f":"ROUND(G111*$D$7,2)","v":0}]
[null,null,"Darbuotojo vardas pavardė"]
[null,null,"Darbuotojo vardas pavardė"]
[null,null,"Darbuotojo vardas pavardė"]
[null,null,"Darbuotojo vardas pavardė"]
["5.5","Projektą vykdančio personalo komandiruočių išlaidos",null,null,null,null,{"$f":"SUM(G117,G124,G131,G138,G145,G152,G159,G166,G173,G180)","v":0},{"$f":"SUM(H117,H124,H131,H138,H145,H152,H159,H166,H173,H180)","v":0}]
["5.5.1","Komandiruotės pavadinimas, vieta, trukmė dienomis, vykstančių asmenų skaičius","Iš viso komandiruotei",null,null,null,{"$f":"SUM(G118:G123)","v":0},{"$f":"ROUND(G117*$D$7,2)","v":0}]
[null,null,"Dienpinigiai",null,null,null,{"$f":"ROUND(E118*F118,2)","v":0}]
[null,null,"Gyvenamojo ploto nuoma",null,null,null,0]
[null,null,"Kelionės išlaidos",null,null,null,0]
[null,null,"Dalyvavimo mokestis",null,null,null,0]
[null,null,"Kitos išlaidų pavadinimas",null,null,null,0]
[null,null,"Kitos išlaidų pavadinimas",null,null,null,0]
["5.5.2","Komandiruotės pavadinimas, vieta, trukmė dienomis, vykstančių asmenų skaičius","Iš viso komandiruotei",null,null,null,{"$f":"SUM(G125:G130)","v":0},{"$f":"ROUND(G124*$D$7,2)","v":0}]
[null,null,"Dienpinigiai",null,null,null,{"$f":"ROUND(E125*F125,2)","v":0}]
[null,null,"Gyvenamojo ploto nuoma",null,null,null,0]
[null,null,"Kelionės išlaidos",null,null,null,0]
[null,null,"Dalyvavimo mokestis",null,null,null,0]
[null,null,"Kitos išlaidų pavadinimas",null,null,null,0]
[null,null,"Kitos išlaidų pavadinimas",null,null,null,0]
["5.5.3","Komandiruotės pavadinimas, vieta, trukmė dienomis, vykstančių asmenų skaičius","Iš viso komandiruotei",null,null,null,{"$f":"SUM(G132:G137)","v":0},{"$f":"ROUND(G131*$D$7,2)","v":0}]
[null,null,"Dienpinigiai",null,null,null,{"$f":"ROUND(E132*F132,2)","v":0}]
[null,null,"Gyvenamojo ploto nuoma",null,null,null,0]
[null,null,"Kelionės išlaidos",null,null,null,0]
[null,null,"Dalyvavimo mokestis",null,null,null,0]
[null,null,"Kitos išlaidų pavadinimas",null,null,null,0]
[null,null,"Kitos išlaidų pavadinimas",null,null,null,0]
["5.5.4","Komandiruotės pavadinimas, vieta, trukmė dienomis, vykstančių asmenų skaičius","Iš viso komandiruotei",null,null,null,{"$f":"SUM(G139:G144)","v":0},{"$f":"ROUND(G138*$D$7,2)","v":0}]
[null,null,"Dienpinigiai",null,null,null,{"$f":"ROUND(E139*F139,2)","v":0}]
[null,null,"Gyvenamojo ploto nuoma",null,null,null,0]
[null,null,"Kelionės išlaidos",null,null,null,0]
[null,null,"Dalyvavimo mokestis",null,null,null,0]
[null,null,"Kitos išlaidų pavadinimas",null,null,null,0]
[null,null,"Kitos išlaidų pavadinimas",null,null,null,0]
["5.5.5","Komandiruotės pavadinimas, vieta, trukmė dienomis, vykstančių asmenų skaičius","Iš viso komandiruotei",null,null,null,{"$f":"SUM(G146:G151)","v":0},{"$f":"ROUND(G145*$D$7,2)","v":0}]
[null,null,"Dienpinigiai",null,null,null,{"$f":"ROUND(E146*F146,2)","v":0}]
[null,null,"Gyvenamojo ploto nuoma",null,null,null,0]
[null,null,"Kelionės išlaidos",null,null,null,0]
[null,null,"Dalyvavimo mokestis",null,null,null,0]
[null,null,"Kitos išlaidų pavadinimas",null,null,null,0]
[null,null,"Kitos išlaidų pavadinimas",null,null,null,0]
["5.5.6","Komandiruotės pavadinimas, vieta, trukmė dienomis, vykstančių asmenų skaičius","Iš viso komandiruotei",null,null,null,{"$f":"SUM(G153:G158)","v":0},{"$f":"ROUND(G152*$D$7,2)","v":0}]
[null,null,"Dienpinigiai",null,null,null,{"$f":"ROUND(E153*F153,2)","v":0}]
[null,null,"Gyvenamojo ploto nuoma",null,null,null,0]
[null,null,"Kelionės išlaidos",null,null,null,0]
[null,null,"Dalyvavimo mokestis",null,null,null,0]
[null,null,"Kitos išlaidų pavadinimas",null,null,null,0]
[null,null,"Kitos išlaidų pavadinimas",null,null,null,0]
["5.5.7","Komandiruotės pavadinimas, vieta, trukmė dienomis, vykstančių asmenų skaičius","Iš viso komandiruotei",null,null,null,{"$f":"SUM(G160:G165)","v":0},{"$f":"ROUND(G159*$D$7,2)","v":0}]
[null,null,"Dienpinigiai",null,null,null,{"$f":"ROUND(E160*F160,2)","v":0}]
[null,null,"Gyvenamojo ploto nuoma",null,null,null,0]
[null,null,"Kelionės išlaidos",null,null,null,0]
[null,null,"Dalyvavimo mokestis",null,null,null,0]
[null,null,"Kitos išlaidų pavadinimas",null,null,null,0]
[null,null,"Kitos išlaidų pavadinimas",null,null,null,0]
["5.5.8","Komandiruotės pavadinimas, vieta, trukmė dienomis, vykstančių asmenų skaičius","Iš viso komandiruotei",null,null,null,{"$f":"SUM(G167:G172)","v":0},{"$f":"ROUND(G166*$D$7,2)","v":0}]
[null,null,"Dienpinigiai",null,null,null,{"$f":"ROUND(E167*F167,2)","v":0}]
[null,null,"Gyvenamojo ploto nuoma",null,null,null,0]
[null,null,"Kelionės išlaidos",null,null,null,0]
[null,null,"Dalyvavimo mokestis",null,null,null,0]
[null,null,"Kitos išlaidų pavadinimas",null,null,null,0]
[null,null,"Kitos išlaidų pavadinimas",null,null,null,0]
["5.5.9","Komandiruotės pavadinimas, vieta, trukmė dienomis, vykstančių asmenų skaičius","Iš viso komandiruotei",null,null,null,{"$f":"SUM(G174:G179)","v":0},{"$f":"ROUND(G173*$D$7,2)","v":0}]
[null,null,"Dienpinigiai",null,null,null,{"$f":"ROUND(E174*F174,2)","v":0}]
[null,null,"Gyvenamojo ploto nuoma",null,null,null,0]
[null,null,"Kelionės išlaidos",null,null,null,0]
[null,null,"Dalyvavimo mokestis",null,null,null,0]
[null,null,"Kitos išlaidų pavadinimas",null,null,null,0]
[null,null,"Kitos išlaidų pavadinimas",null,null,null,0]
["5.5.10","Komandiruotės pavadinimas, vieta, trukmė dienomis, vykstančių asmenų skaičius","Iš viso komandiruotei",null,null,null,{"$f":"SUM(G181:G186)","v":0},{"$f":"ROUND(G180*$D$7,2)","v":0}]
[null,null,"Dienpinigiai",null,null,null,{"$f":"ROUND(E181*F181,2)","v":0}]
[null,null,"Gyvenamojo ploto nuoma",null,null,null,0]
[null,null,"Kelionės išlaidos",null,null,null,0]
[null,null,"Dalyvavimo mokestis",null,null,null,0]
[null,null,"Kitos išlaidų pavadinimas",null,null,null,0]
[null,null,"Kitos išlaidų pavadinimas",null,null,null,0]
["Iš viso tinkamų finansuoti išlaidų:",null,null,null,null,null,{"$f":"G10+G21","v":0},{"$f":"H10+H21","v":0}]

{"sheet":"5","index":7,"n_rows":187,"n_cols":19,"rows_kept":187,"cut":false,"hidden":false,"merged":[[179,0,185,0],[179,1,185,1],[179,8,185,8],[186,0,186,5],[165,0,171,0],[165,1,171,1],[165,8,171,8],[172,0,178,0],[172,1,178,1],[172,8,178,8],[151,0,157,0],[151,1,157,1],[151,8,157,8],[158,0,164,0],[158,1,164,1],[158,8,164,8],[137,0,143,0],[137,1,143,1],[137,8,143,8],[144,0,150,0],[144,1,150,1],[144,8,150,8],[123,0,129,0],[123,1,129,1],[123,8,129,8],[130,0,136,0],[130,1,136,1],[130,8,136,8],[110,7,114,7],[110,8,114,8],[115,1,115,5],[116,0,122,0],[116,1,122,1],[116,8,122,8],[110,0,114,0],[110,1,114,1],[110,3,114,3],[110,4,114,4],[110,5,114,5],[110,6,114,6],[100,7,104,7],[100,8,104,8],[105,0,109,0],[105,1,109,1],[105,3,109,3],[105,4,109,4],[105,5,109,5],[105,6,109,6],[105,7,109,7],[105,8,109,8],[100,0,104,0],[100,1,104,1],[100,3,104,3],[100,4,104,4],[100,5,104,5],[100,6,104,6],[90,7,94,7],[90,8,94,8],[95,0,99,0],[95,1,99,1],[95,3,99,3],[95,4,99,4],[95,5,99,5],[95,6,99,6],[95,7,99,7],[95,8,99,8],[90,0,94,0],[90,1,94,1],[90,3,94,3],[90,4,94,4],[90,5,94,5],[90,6,94,6],[85,0,89,0],[85,1,89,1],[85,3,89,3],[85,4,89,4],[85,5,89,5],[85,6,89,6],[85,7,89,7],[85,8,89,8],[80,0,84,0],[80,1,84,1],[80,3,84,3],[80,4,84,4],[80,5,84,5],[80,6,84,6],[75,0,79,0],[75,1,79,1],[75,3,79,3],[75,4,79,4],[75,5,79,5],[75,6,79,6],[75,7,79,7],[75,8,79,8],[80,7,84,7],[80,8,84,8],[65,6,69,6],[65,7,69,7],[65,8,69,8],[70,0,74,0],[70,1,74,1],[70,3,74,3],[70,4,74,4],[70,5,74,5],[70,6,74,6],[70,7,74,7],[70,8,74,8],[62,1,62,2],[63,1,63,2],[64,1,64,5],[65,0,69,0],[65,1,69,1],[65,3,69,3],[65,4,69,4],[65,5,69,5],[56,1,56,2],[57,1,57,2],[58,1,58,2],[59,1,59,2],[60,1,60,2],[61,1,61,2],[50,1,50,2],[51,1,51,2],[52,1,52,2],[53,1,53,2],[54,1,54,2],[55,1,55,2],[44,1,44,2],[45,1,45,2],[46,1,46,2],[47,1,47,2],[48,1,48,5],[49,1,49,2],[38,1,38,2],[39,1,39,2],[40,1,40,2],[41,1,41,2],[42,1,42,2],[43,1,43,2],[32,1,32,5],[33,1,33,2],[34,1,34,2],[35,1,35,2],[36,1,36,2],[37,1,37,2],[26,1,26,2],[27,1,27,2],[28,1,28,2],[29,1,29,2],[30,1,30,2],[31,1,31,2],[20,1,20,5],[21,1,21,5],[22,1,22,2],[23,1,23,2],[24,1,24,2],[25,1,25,2],[16,1,16,2],[17,1,17,2],[18,1,18,2],[19,1,19,2],[8,1,8,2],[9,1,9,5],[10,1,10,2],[11,1,11,2],[12,1,12,2],[13,1,13,2],[0,3,0,8],[2,0,2,2],[2,3,2,8],[3,3,3,4],[3,5,3,6],[4,0,4,2],[4,3,4,8],[14,1,14,2],[15,1,15,2],[5,3,5,8]]}
[null,null,"Pasirinkite veiklos tipą:"]
[null,null,"Fizinio rodiklio Nr.:"]
["Fizinio rodiklio pavadinimas:"]
[null,null,"Fizinio rodiklio matavimo vnt.:",null,null,"Fizinio rodiklio vnt. skaičius:"]
["Juridinis asmuo (pareiškėjas, partneris), atsakingas už fizinį rodiklį:"]
[null,null,"Vykdytojo tipas:"]
[null,null,"Finansavimo intensyvumas:",null,null,null,"Pasirinkite biudžeto išlaidų kategoriją:","Visos"]
[]
["Eil. Nr.","Išlaidų kategorijos pavadinimas",null,"Matavimo vnt.","Kiekis","Vieneto kaina be PVM, Eur","Tinkamų finansuoti išlaidų suma be PVM, Eur","Finansavimo suma, Eur","Išlaidų pagrindimo dokumentų pavadinimas, data ir Nr."]
[4,"ĮRANGA, ĮRENGINIAI IR KT. TURTAS (techninių žinių ir išradimų patentų arba teisių pagal licencijų sutartį įsigijimo išlaidos)",null,null,null,null,{"$f":"SUM(G11:G20)","v":0},{"$f":"SUM(H11:H20)","v":0}]
["4.1","Išlaidų pavadinimas",null,null,null,null,{"$f":"ROUND(E11*F11,2)","v":0},{"$f":"ROUND(G11*$D$7,2)","v":0}]
["4.2","Išlaidų pavadinimas",null,null,null,null,0,0]
["4.3","Išlaidų pavadinimas",null,null,null,null,0,0]
["4.4","Išlaidų pavadinimas",null,null,null,null,0,0]
["4.5","Išlaidų pavadinimas",null,null,null,null,0,0]
["4.6","Išlaidų pavadinimas",null,null,null,null,0,0]
["4.7","Išlaidų pavadinimas",null,null,null,null,0,0]
["4.8","Išlaidų pavadinimas",null,null,null,null,0,0]
["4.9","Išlaidų pavadinimas",null,null,null,null,0,0]
["4.10","Išlaidų pavadinimas",null,null,null,null,0,0]
[5,"PROJEKTO VYKDYMAS",null,null,null,null,{"$f":"G22+G33+G49+G65+G116","v":0},{"$f":"H22+H33+H49+H65+H116","v":0}]
["5.1","MTEP paslaugos",null,null,null,null,{"$f":"SUM(G23:G32)","v":0},{"$f":"SUM(H23:H32)","v":0}]
["5.1.1","Paslaugos pavadinimas",null,null,null,null,{"$f":"ROUND(E23*F23,2)","v":0},0]
["5.1.2","Paslaugos pavadinimas",null,null,null,null,0,0]
["5.1.3","Paslaugos pavadinimas",null,null,null,null,0,0]
["5.1.4","Paslaugos pavadinimas",null,null,null,null,0,0]
["5.1.5","Paslaugos pavadinimas",null,null,null,null,0,0]
["5.1.6","Paslaugos pavadinimas",null,null,null,null,0,0]
["5.1.7","Paslaugos pavadinimas",null,null,null,null,0,0]
["5.1.8","Paslaugos pavadinimas",null,null,null,null,0,0]
["5.1.9","Paslaugos pavadinimas",null,null,null,null,0,0]
["5.1.10","Paslaugos pavadinimas",null,null,null,null,0,0]
["5.2","Medžiagos, mažavertis inventorius, atsargos ir pan. produktai, priskirtini trumpalaikiam turtui ir tiesiogiai susiję su MTEP veikla",null,null,null,null,{"$f":"SUM(G34:G50)","v":0},{"$f":"SUM(H34:H50)","v":0}]
["5.2.1","Išlaidų pavadinimas",null,null,null,null,{"$f":"ROUND(E34*F34,2)","v":0},{"$f":"ROUND(G34*$D$7,2)","v":0}]
["5.2.2","Išlaidų pavadinimas",null,null,null,null,0,0]
["5.2.3","Išlaidų pavadinimas",null,null,null,null,0,0]
["5.2.4","Išlaidų pavadinimas",null,null,null,null,0,0]
["5.2.5","Išlaidų pavadinimas",null,null,null,null,0,0]
["5.2.6","Išlaidų pavadinimas",null,null,null,null,0,0]
["5.2.7","Išlaidų pavadinimas",null,null,null,null,0,0]
["5.2.8","Išlaidų pavadinimas",null,null,null,null,0,0]
["5.2.9","Išlaidų pavadinimas",null,null,null,null,0,0]
["5.2.10","Išlaidų pavadinimas",null,null,null,null,0,0]
["5.2.11","Išlaidų pavadinimas",null,null,null,null,0,0]
["5.2.12","Išlaidų pavadinimas",null,null,null,null,0,0]
["5.2.13","Išlaidų pavadinimas",null,null,null,null,0,0]
["5.2.14","Išlaidų pavadinimas",null,null,null,null,0,0]
["5.2.15","Išlaidų pavadinimas",null,null,null,null,0,0]
["5.3","Projekto MTEP veikloms naudojamo ilgalaikio materialaus turto (įrangos, prietaisų, įrankių, įrenginių, mašinų ir įrengimų, pastatų ir (ar) patalpų), nusidėvėjimo sąnaudos, jeigu šiam turtui įsigyti nebuvo naudojamos viešosios (įskaitant ir kitų valstybių) lėšos",null,null,null,null,{"$f":"SUM(G50:G64)","v":0},{"$f":"SUM(H50:H64)","v":0},null,null,"Turto įvedimo į eksploataciją data","Turto įsigijimo vertė, Eur","Turto nudėvėjimo, amortizacijos laikotarpis, mėn.","Numatoma turto likutinė vertė, Eur","1 mėn. nudėvėjimo, amortizacijos suma, Eur","Turto naudojamo projekto reikmėms laikas, mėn.","Turto panaudojimo projekto reikmėms dalis (proc.)","Projektui priskirta turto nusidėvėjimo, amortizacijos suma per projekto laikotarpį, Eur"]
["5.3.1","Turtas, kurio nusidėvėjimą, amortizaciją prašoma finansuoti",null,null,1,{"$f":"R50","v":0},{"$f":"ROUND(E50*F50,2)","v":0},0,null,null,null,null,null,null,{"$f":"IFERROR(ROUND((L50-N50)/M50,2),\"0\")","v":"0"},null,null,{"$f":"O50*P50*Q50","v":0},{"$f":"IF(K50=0,\" \",IF(K50+(M50*30.5)<TODAY(),\"DĖMESIO! Patikrinkite, ar nurodytas turtas dar nėra nudėvėtas, amortizuotas\",\" \"))","v":" "}]
["5.3.2","Turtas, kurio nusidėvėjimą, amortizaciją prašoma finansuoti",null,null,1,{"$f":"R51","v":0},0,0,null,null,null,null,null,null,{"$f":"IFERROR(ROUND((L51-N51)/M51,2),\"0\")","v":"0"},null,null,{"$f":"O51*P51*Q51","v":0},{"$f":"IF(K51=0,\" \",IF(K51+(M51*30.5)<TODAY(),\"DĖMESIO! Patikrinkite, ar nurodytas turtas dar nėra nudėvėtas, amortizuotas\",\" \"))","v":" "}]
["5.3.3","Turtas, kurio nusidėvėjimą, amortizaciją prašoma finansuoti",null,null,1,0,0,0,null,null,null,null,null,null,"0",null,null,0," "]
["5.3.4","Turtas, kurio nusidėvėjimą, amortizaciją prašoma finansuoti",null,null,1,0,0,0,null,null,null,null,null,null,"0",null,null,0," "]
["5.3.5","Turtas, kurio nusidėvėjimą, amortizaciją prašoma finansuoti",null,null,1,0,0,0,null,null,null,null,null,null,"0",null,null,0," "]
["5.3.6","Turtas, kurio nusidėvėjimą, amortizaciją prašoma finansuoti",null,null,1,0,0,0,null,null,null,null,null,null,"0",null,null,0," "]
["5.3.7","Turtas, kurio nusidėvėjimą, amortizaciją prašoma finansuoti",null,null,1,0,0,0,null,null,null,null,null,null,"0",null,null,0," "]
["5.3.8","Turtas, kurio nusidėvėjimą, amortizaciją prašoma finansuoti",null,null,1,0,0,0,null,null,null,null,null,null,"0",null,null,0," "]
["5.3.9","Turtas, kurio nusidėvėjimą, amortizaciją prašoma finansuoti",null,null,1,0,0,0,null,null,null,null,null,null,"0",null,null,0," "]
["5.3.10","Turtas, kurio nusidėvėjimą, amortizaciją prašoma finansuoti",null,null,1,0,0,0,null,null,null,null,null,null,"0",null,null,0," "]
["5.3.11","Turtas, kurio nusidėvėjimą, amortizaciją prašoma finansuoti",null,null,1,0,0,0,null,null,null,null,null,null,"0",null,null,0," "]
["5.3.12","Turtas, kurio nusidėvėjimą, amortizaciją prašoma finansuoti",null,null,1,0,0,0,null,null,null,null,null,null,"0",null,null,0," "]
["5.3.13","Turtas, kurio nusidėvėjimą, amortizaciją prašoma finansuoti",null,null,1,0,0,0,null,null,null,null,null,null,"0",null,null,0," "]
["5.3.14","Turtas, kurio nusidėvėjimą, amortizaciją prašoma finansuoti",null,null,1,0,0,0,null,null,null,null,null,null,"0",null,null,0," "]
["5.3.15","Turtas, kurio nusidėvėjimą, amortizaciją prašoma finansuoti",null,null,1,0,0,0,null,null,null,null,null,null,"0",null,null,0," "]
["5.4","Projektą vykdančio personalo darbo užmokestis ir išlaidos su darbo santykiais susijusiems darbdavio įsipareigojimams",null,null,null,null,{"$f":"SUM(G66:G115)","v":0},{"$f":"SUM(H66:H115)","v":0},null,null,"Faktiškai gaunamas darbo užmokesti už 1 valandą pagal  pastarųjų 6 mėn. vidurkį, Eur"]
["5.4.1","Pareigybės pavadinimas","Darbuotojo vardas pavardė","val.",null,{"$f":"IFERROR(ROUND(AVERAGE(K66:K70),2),\"0\")","v":"0"},{"$f":"ROUND(E66*F66,2)","v":0},{"$f":"ROUND(G66*$D$7,2)","v":0}]
[null,null,"Darbuotojo vardas pavardė"]
[null,null,"Darbuotojo vardas pavardė"]
[null,null,"Darbuotojo vardas pavardė"]
[null,null,"Darbuotojo vardas pavardė"]
["5.4.2","Pareigybės pavadinimas","Darbuotojo vardas pavardė","val.",null,{"$f":"IFERROR(ROUND(AVERAGE(K71:K75),2),\"0\")","v":"0"},{"$f":"ROUND(E71*F71,2)","v":0},{"$f":"ROUND(G71*$D$7,2)","v":0}]
[null,null,"Darbuotojo vardas pavardė"]
[null,null,"Darbuotojo vardas pavardė"]
[null,null,"Darbuotojo vardas pavardė"]
[null,null,"Darbuotojo vardas pavardė"]
["5.4.3","Pareigybės pavadinimas","Darbuotojo vardas pavardė","val.",null,{"$f":"IFERROR(ROUND(AVERAGE(K76:K80),2),\"0\")","v":"0"},{"$f":"ROUND(E76*F76,2)","v":0},{"$f":"ROUND(G76*$D$7,2)","v":0}]
[null,null,"Darbuotojo vardas pavardė"]
[null,null,"Darbuotojo vardas pavardė"]
[null,null,"Darbuotojo vardas pavardė"]
[null,null,"Darbuotojo vardas pavardė"]
["5.4.4","Pareigybės pavadinimas","Darbuotojo vardas pavardė","val.",null,{"$f":"IFERROR(ROUND(AVERAGE(K81:K85),2),\"0\")","v":"0"},{"$f":"ROUND(E81*F81,2)","v":0},{"$f":"ROUND(G81*$D$7,2)","v":0}]
[null,null,"Darbuotojo vardas pavardė"]
[null,null,"Darbuotojo vardas pavardė"]
[null,null,"Darbuotojo vardas pavardė"]
[null,null,"Darbuotojo vardas pavardė"]
["5.4.5","Pareigybės pavadinimas","Darbuotojo vardas pavardė","val.",null,{"$f":"IFERROR(ROUND(AVERAGE(K86:K90),2),\"0\")","v":"0"},{"$f":"ROUND(E86*F86,2)","v":0},{"$f":"ROUND(G86*$D$7,2)","v":0}]
[null,null,"Darbuotojo vardas pavardė"]
[null,null,"Darbuotojo vardas pavardė"]
[null,null,"Darbuotojo vardas pavardė"]
[null,null,"Darbuotojo vardas pavardė"]
["5.4.6","Pareigybės pavadinimas","Darbuotojo vardas pavardė","val.",null,{"$f":"IFERROR(ROUND(AVERAGE(K91:K95),2),\"0\")","v":"0"},{"$f":"ROUND(E91*F91,2)","v":0},{"$f":"ROUND(G91*$D$7,2)","v":0}]
[null,null,"Darbuotojo vardas pavardė"]
[null,null,"Darbuotojo vardas pavardė"]
[null,null,"Darbuotojo vardas pavardė"]
[null,null,"Darbuotojo vardas pavardė"]
["5.4.7","Pareigybės pavadinimas","Darbuotojo vardas pavardė","val.",null,{"$f":"IFERROR(ROUND(AVERAGE(K96:K100),2),\"0\")","v":"0"},{"$f":"ROUND(E96*F96,2)","v":0},{"$f":"ROUND(G96*$D$7,2)","v":0}]
[null,null,"Darbuotojo vardas pavardė"]
[null,null,"Darbuotojo vardas pavardė"]
[null,null,"Darbuotojo vardas pavardė"]
[null,null,"Darbuotojo vardas pavardė"]
["5.4.8","Pareigybės pavadinimas","Darbuotojo vardas pavardė","val.",null,{"$f":"IFERROR(ROUND(AVERAGE(K101:K105),2),\"0\")","v":"0"},{"$f":"ROUND(E101*F101,2)","v":0},{"$f":"ROUND(G101*$D$7,2)","v":0}]
[null,null,"Darbuotojo vardas pavardė"]
[null,null,"Darbuotojo vardas pavardė"]
[null,null,"Darbuotojo vardas pavardė"]
[null,null,"Darbuotojo vardas pavardė"]
["5.4.9","Pareigybės pavadinimas","Darbuotojo vardas pavardė","val.",null,{"$f":"IFERROR(ROUND(AVERAGE(K106:K110),2),\"0\")","v":"0"},{"$f":"ROUND(E106*F106,2)","v":0},{"$f":"ROUND(G106*$D$7,2)","v":0}]
[null,null,"Darbuotojo vardas pavardė"]
[null,null,"Darbuotojo vardas pavardė"]
[null,null,"Darbuotojo vardas pavardė"]
[null,null,"Darbuotojo vardas pavardė"]
["5.4.10","Pareigybės pavadinimas","Darbuotojo vardas pavardė","val.",null,{"$f":"IFERROR(ROUND(AVERAGE(K111:K115),2),\"0\")","v":"0"},{"$f":"ROUND(E111*F111,2)","v":0},{"$f":"ROUND(G111*$D$7,2)","v":0}]
[null,null,"Darbuotojo vardas pavardė"]
[null,null,"Darbuotojo vardas pavardė"]
[null,null,"Darbuotojo vardas pavardė"]
[null,null,"Darbuotojo vardas pavardė"]
["5.5","Projektą vykdančio personalo komandiruočių išlaidos",null,null,null,null,{"$f":"SUM(G117,G124,G131,G138,G145,G152,G159,G166,G173,G180)","v":0},{"$f":"SUM(H117,H124,H131,H138,H145,H152,H159,H166,H173,H180)","v":0}]
["5.5.1","Komandiruotės pavadinimas, vieta, trukmė dienomis, vykstančių asmenų skaičius","Iš viso komandiruotei",null,null,null,{"$f":"SUM(G118:G123)","v":0},{"$f":"ROUND(G117*$D$7,2)","v":0}]
[null,null,"Dienpinigiai",null,null,null,{"$f":"ROUND(E118*F118,2)","v":0}]
[null,null,"Gyvenamojo ploto nuoma",null,null,null,0]
[null,null,"Kelionės išlaidos",null,null,null,0]
[null,null,"Dalyvavimo mokestis",null,null,null,0]
[null,null,"Kitos išlaidų pavadinimas",null,null,null,0]
[null,null,"Kitos išlaidų pavadinimas",null,null,null,0]
["5.5.2","Komandiruotės pavadinimas, vieta, trukmė dienomis, vykstančių asmenų skaičius","Iš viso komandiruotei",null,null,null,{"$f":"SUM(G125:G130)","v":0},{"$f":"ROUND(G124*$D$7,2)","v":0}]
[null,null,"Dienpinigiai",null,null,null,{"$f":"ROUND(E125*F125,2)","v":0}]
[null,null,"Gyvenamojo ploto nuoma",null,null,null,0]
[null,null,"Kelionės išlaidos",null,null,null,0]
[null,null,"Dalyvavimo mokestis",null,null,null,0]
[null,null,"Kitos išlaidų pavadinimas",null,null,null,0]
[null,null,"Kitos išlaidų pavadinimas",null,null,null,0]
["5.5.3","Komandiruotės pavadinimas, vieta, trukmė dienomis, vykstančių asmenų skaičius","Iš viso komandiruotei",null,null,null,{"$f":"SUM(G132:G137)","v":0},{"$f":"ROUND(G131*$D$7,2)","v":0}]
[null,null,"Dienpinigiai",null,null,null,{"$f":"ROUND(E132*F132,2)","v":0}]
[null,null,"Gyvenamojo ploto nuoma",null,null,null,0]
[null,null,"Kelionės išlaidos",null,null,null,0]
[null,null,"Dalyvavimo mokestis",null,null,null,0]
[null,null,"Kitos išlaidų pavadinimas",null,null,null,0]
[null,null,"Kitos išlaidų pavadinimas",null,null,null,0]
["5.5.4","Komandiruotės pavadinimas, vieta, trukmė dienomis, vykstančių asmenų skaičius","Iš viso komandiruotei",null,null,null,{"$f":"SUM(G139:G144)","v":0},{"$f":"ROUND(G138*$D$7,2)","v":0}]
[null,null,"Dienpinigiai",null,null,null,{"$f":"ROUND(E139*F139,2)","v":0}]
[null,null,"Gyvenamojo ploto nuoma",null,null,null,0]
[null,null,"Kelionės išlaidos",null,null,null,0]
[null,null,"Dalyvavimo mokestis",null,null,null,0]
[null,null,"Kitos išlaidų pavadinimas",null,null,null,0]
[null,null,"Kitos išlaidų pavadinimas",null,null,null,0]
["5.5.5","Komandiruotės pavadinimas, vieta, trukmė dienomis, vykstančių asmenų skaičius","Iš viso komandiruotei",null,null,null,{"$f":"SUM(G146:G151)","v":0},{"$f":"ROUND(G145*$D$7,2)","v":0}]
[null,null,"Dienpinigiai",null,null,null,{"$f":"ROUND(E146*F146,2)","v":0}]
[null,null,"Gyvenamojo ploto nuoma",null,null,null,0]
[null,null,"Kelionės išlaidos",null,null,null,0]
[null,null,"Dalyvavimo mokestis",null,null,null,0]
[null,null,"Kitos išlaidų pavadinimas",null,null,null,0]
[null,null,"Kitos išlaidų pavadinimas",null,null,null,0]
["5.5.6","Komandiruotės pavadinimas, vieta, trukmė dienomis, vykstančių asmenų skaičius","Iš viso komandiruotei",null,null,null,{"$f":"SUM(G153:G158)","v":0},{"$f":"ROUND(G152*$D$7,2)","v":0}]
[null,null,"Dienpinigiai",null,null,null,{"$f":"ROUND(E153*F153,2)","v":0}]
[null,null,"Gyvenamojo ploto nuoma",null,null,null,0]
[null,null,"Kelionės išlaidos",null,null,null,0]
[null,null,"Dalyvavimo mokestis",null,null,null,0]
[null,null,"Kitos išlaidų pavadinimas",null,null,null,0]
[null,null,"Kitos išlaidų pavadinimas",null,null,null,0]
["5.5.7","Komandiruotės pavadinimas, vieta, trukmė dienomis, vykstančių asmenų skaičius","Iš viso komandiruotei",null,null,null,{"$f":"SUM(G160:G165)","v":0},{"$f":"ROUND(G159*$D$7,2)","v":0}]
[null,null,"Dienpinigiai",null,null,null,{"$f":"ROUND(E160*F160,2)","v":0}]
[null,null,"Gyvenamojo ploto nuoma",null,null,null,0]
[null,null,"Kelionės išlaidos",null,null,null,0]
[null,null,"Dalyvavimo mokestis",null,null,null,0]
[null,null,"Kitos išlaidų pavadinimas",null,null,null,0]
[null,null,"Kitos išlaidų pavadinimas",null,null,null,0]
["5.5.8","Komandiruotės pavadinimas, vieta, trukmė dienomis, vykstančių asmenų skaičius","Iš viso komandiruotei",null,null,null,{"$f":"SUM(G167:G172)","v":0},{"$f":"ROUND(G166*$D$7,2)","v":0}]
[null,null,"Dienpinigiai",null,null,null,{"$f":"ROUND(E167*F167,2)","v":0}]
[null,null,"Gyvenamojo ploto nuoma",null,null,null,0]
[null,null,"Kelionės išlaidos",null,null,null,0]
[null,null,"Dalyvavimo mokestis",null,null,null,0]
[null,null,"Kitos išlaidų pavadinimas",null,null,null,0]
[null,null,"Kitos išlaidų pavadinimas",null,null,null,0]
["5.5.9","Komandiruotės pavadinimas, vieta, trukmė dienomis, vykstančių asmenų skaičius","Iš viso komandiruotei",null,null,null,{"$f":"SUM(G174:G179)","v":0},{"$f":"ROUND(G173*$D$7,2)","v":0}]
[null,null,"Dienpinigiai",null,null,null,{"$f":"ROUND(E174*F174,2)","v":0}]
[null,null,"Gyvenamojo ploto nuoma",null,null,null,0]
[null,null,"Kelionės išlaidos",null,null,null,0]
[null,null,"Dalyvavimo mokestis",null,null,null,0]
[null,null,"Kitos išlaidų pavadinimas",null,null,null,0]
[null,null,"Kitos išlaidų pavadinimas",null,null,null,0]
["5.5.10","Komandiruotės pavadinimas, vieta, trukmė dienomis, vykstančių asmenų skaičius","Iš viso komandiruotei",null,null,null,{"$f":"SUM(G181:G186)","v":0},{"$f":"ROUND(G180*$D$7,2)","v":0}]
[null,null,"Dienpinigiai",null,null,null,{"$f":"ROUND(E181*F181,2)","v":0}]
[null,null,"Gyvenamojo ploto nuoma",null,null,null,0]
[null,null,"Kelionės išlaidos",null,null,null,0]
[null,null,"Dalyvavimo mokestis",null,null,null,0]
[null,null,"Kitos išlaidų pavadinimas",null,null,null,0]
[null,null,"Kitos išlaidų pavadinimas",null,null,null,0]
["Iš viso tinkamų finansuoti išlaidų:",null,null,null,null,null,{"$f":"G10+G21","v":0},{"$f":"H10+H21","v":0}]

{"sheet":"6","index":8,"n_rows":187,"n_cols":19,"rows_kept":187,"cut":false,"hidden":false,"merged":[[179,0,185,0],[179,1,185,1],[179,8,185,8],[186,0,186,5],[165,0,171,0],[165,1,171,1],[165,8,171,8],[172,0,178,0],[172,1,178,1],[172,8,178,8],[151,0,157,0],[151,1,157,1],[151,8,157,8],[158,0,164,0],[158,1,164,1],[158,8,164,8],[137,0,143,0],[137,1,143,1],[137,8,143,8],[144,0,150,0],[144,1,150,1],[144,8,150,8],[123,0,129,0],[123,1,129,1],[123,8,129,8],[130,0,136,0],[130,1,136,1],[130,8,136,8],[110,7,114,7],[110,8,114,8],[115,1,115,5],[116,0,122,0],[116,1,122,1],[116,8,122,8],[110,0,114,0],[110,1,114,1],[110,3,114,3],[110,4,114,4],[110,5,114,5],[110,6,114,6],[100,7,104,7],[100,8,104,8],[105,0,109,0],[105,1,109,1],[105,3,109,3],[105,4,109,4],[105,5,109,5],[105,6,109,6],[105,7,109,7],[105,8,109,8],[100,0,104,0],[100,1,104,1],[100,3,104,3],[100,4,104,4],[100,5,104,5],[100,6,104,6],[90,7,94,7],[90,8,94,8],[95,0,99,0],[95,1,99,1],[95,3,99,3],[95,4,99,4],[95,5,99,5],[95,6,99,6],[95,7,99,7],[95,8,99,8],[90,0,94,0],[90,1,94,1],[90,3,94,3],[90,4,94,4],[90,5,94,5],[90,6,94,6],[85,0,89,0],[85,1,89,1],[85,3,89,3],[85,4,89,4],[85,5,89,5],[85,6,89,6],[85,7,89,7],[85,8,89,8],[80,0,84,0],[80,1,84,1],[80,3,84,3],[80,4,84,4],[80,5,84,5],[80,6,84,6],[75,0,79,0],[75,1,79,1],[75,3,79,3],[75,4,79,4],[75,5,79,5],[75,6,79,6],[75,7,79,7],[75,8,79,8],[80,7,84,7],[80,8,84,8],[65,6,69,6],[65,7,69,7],[65,8,69,8],[70,0,74,0],[70,1,74,1],[70,3,74,3],[70,4,74,4],[70,5,74,5],[70,6,74,6],[70,7,74,7],[70,8,74,8],[62,1,62,2],[63,1,63,2],[64,1,64,5],[65,0,69,0],[65,1,69,1],[65,3,69,3],[65,4,69,4],[65,5,69,5],[56,1,56,2],[57,1,57,2],[58,1,58,2],[59,1,59,2],[60,1,60,2],[61,1,61,2],[50,1,50,2],[51,1,51,2],[52,1,52,2],[53,1,53,2],[54,1,54,2],[55,1,55,2],[44,1,44,2],[45,1,45,2],[46,1,46,2],[47,1,47,2],[48,1,48,5],[49,1,49,2],[38,1,38,2],[39,1,39,2],[40,1,40,2],[41,1,41,2],[42,1,42,2],[43,1,43,2],[32,1,32,5],[33,1,33,2],[34,1,34,2],[35,1,35,2],[36,1,36,2],[37,1,37,2],[26,1,26,2],[27,1,27,2],[28,1,28,2],[29,1,29,2],[30,1,30,2],[31,1,31,2],[20,1,20,5],[21,1,21,5],[22,1,22,2],[23,1,23,2],[24,1,24,2],[25,1,25,2],[16,1,16,2],[17,1,17,2],[18,1,18,2],[19,1,19,2],[8,1,8,2],[9,1,9,5],[10,1,10,2],[11,1,11,2],[12,1,12,2],[13,1,13,2],[0,3,0,8],[2,0,2,2],[2,3,2,8],[3,3,3,4],[3,5,3,6],[4,0,4,2],[4,3,4,8],[14,1,14,2],[15,1,15,2],[5,3,5,8]]}
[null,null,"Pasirinkite veiklos tipą:"]
[null,null,"Fizinio rodiklio Nr.:"]
["Fizinio rodiklio pavadinimas:"]
[null,null,"Fizinio rodiklio matavimo vnt.:",null,null,"Fizinio rodiklio vnt. skaičius:"]
["Juridinis asmuo (pareiškėjas, partneris), atsakingas už fizinį rodiklį:"]
[null,null,"Vykdytojo tipas:"]
[null,null,"Finansavimo intensyvumas:",null,null,null,"Pasirinkite biudžeto išlaidų kategoriją:","Visos"]
[]
["Eil. Nr.","Išlaidų kategorijos pavadinimas",null,"Matavimo vnt.","Kiekis","Vieneto kaina be PVM, Eur","Tinkamų finansuoti išlaidų suma be PVM, Eur","Finansavimo suma, Eur","Išlaidų pagrindimo dokumentų pavadinimas, data ir Nr."]
[4,"ĮRANGA, ĮRENGINIAI IR KT. TURTAS (techninių žinių ir išradimų patentų arba teisių pagal licencijų sutartį įsigijimo išlaidos)",null,null,null,null,{"$f":"SUM(G11:G20)","v":0},{"$f":"SUM(H11:H20)","v":0}]
["4.1","Išlaidų pavadinimas",null,null,null,null,{"$f":"ROUND(E11*F11,2)","v":0},{"$f":"ROUND(G11*$D$7,2)","v":0}]
["4.2","Išlaidų pavadinimas",null,null,null,null,0,0]
["4.3","Išlaidų pavadinimas",null,null,null,null,0,0]
["4.4","Išlaidų pavadinimas",null,null,null,null,0,0]
["4.5","Išlaidų pavadinimas",null,null,null,null,0,0]
["4.6","Išlaidų pavadinimas",null,null,null,null,0,0]
["4.7","Išlaidų pavadinimas",null,null,null,null,0,0]
["4.8","Išlaidų pavadinimas",null,null,null,null,0,0]
["4.9","Išlaidų pavadinimas",null,null,null,null,0,0]
["4.10","Išlaidų pavadinimas",null,null,null,null,0,0]
[5,"PROJEKTO VYKDYMAS",null,null,null,null,{"$f":"G22+G33+G49+G65+G116","v":0},{"$f":"H22+H33+H49+H65+H116","v":0}]
["5.1","MTEP paslaugos",null,null,null,null,{"$f":"SUM(G23:G32)","v":0},{"$f":"SUM(H23:H32)","v":0}]
["5.1.1","Paslaugos pavadinimas",null,null,null,null,{"$f":"ROUND(E23*F23,2)","v":0},0]
["5.1.2","Paslaugos pavadinimas",null,null,null,null,0,0]
["5.1.3","Paslaugos pavadinimas",null,null,null,null,0,0]
["5.1.4","Paslaugos pavadinimas",null,null,null,null,0,0]
["5.1.5","Paslaugos pavadinimas",null,null,null,null,0,0]
["5.1.6","Paslaugos pavadinimas",null,null,null,null,0,0]
["5.1.7","Paslaugos pavadinimas",null,null,null,null,0,0]
["5.1.8","Paslaugos pavadinimas",null,null,null,null,0,0]
["5.1.9","Paslaugos pavadinimas",null,null,null,null,0,0]
["5.1.10","Paslaugos pavadinimas",null,null,null,null,0,0]
["5.2","Medžiagos, mažavertis inventorius, atsargos ir pan. produktai, priskirtini trumpalaikiam turtui ir tiesiogiai susiję su MTEP veikla",null,null,null,null,{"$f":"SUM(G34:G50)","v":0},{"$f":"SUM(H34:H50)","v":0}]
["5.2.1","Išlaidų pavadinimas",null,null,null,null,{"$f":"ROUND(E34*F34,2)","v":0},{"$f":"ROUND(G34*$D$7,2)","v":0}]
["5.2.2","Išlaidų pavadinimas",null,null,null,null,0,0]
["5.2.3","Išlaidų pavadinimas",null,null,null,null,0,0]
["5.2.4","Išlaidų pavadinimas",null,null,null,null,0,0]
["5.2.5","Išlaidų pavadinimas",null,null,null,null,0,0]
["5.2.6","Išlaidų pavadinimas",null,null,null,null,0,0]
["5.2.7","Išlaidų pavadinimas",null,null,null,null,0,0]
["5.2.8","Išlaidų pavadinimas",null,null,null,null,0,0]
["5.2.9","Išlaidų pavadinimas",null,null,null,null,0,0]
["5.2.10","Išlaidų pavadinimas",null,null,null,null,0,0]
["5.2.11","Išlaidų pavadinimas",null,null,null,null,0,0]
["5.2.12","Išlaidų pavadinimas",null,null,null,null,0,0]
["5.2.13","Išlaidų pavadinimas",null,null,null,null,0,0]
["5.2.14","Išlaidų pavadinimas",null,null,null,null,0,0]
["5.2.15","Išlaidų pavadinimas",null,null,null,null,0,0]
["5.3","Projekto MTEP veikloms naudojamo ilgalaikio materialaus turto (įrangos, prietaisų, įrankių, įrenginių, mašinų ir įrengimų, pastatų ir (ar) patalpų), nusidėvėjimo sąnaudos, jeigu šiam turtui įsigyti nebuvo naudojamos viešosios (įskaitant ir kitų valstybių) lėšos",null,null,null,null,{"$f":"SUM(G50:G64)","v":0},{"$f":"SUM(H50:H64)","v":0},null,null,"Turto įvedimo į eksploataciją data","Turto įsigijimo vertė, Eur","Turto nudėvėjimo, amortizacijos laikotarpis, mėn.","Numatoma turto likutinė vertė, Eur","1 mėn. nudėvėjimo, amortizacijos suma, Eur","Turto naudojamo projekto reikmėms laikas, mėn.","Turto panaudojimo projekto reikmėms dalis (proc.)","Projektui priskirta turto nusidėvėjimo, amortizacijos suma per projekto laikotarpį, Eur"]
["5.3.1","Turtas, kurio nusidėvėjimą, amortizaciją prašoma finansuoti",null,null,1,{"$f":"R50","v":0},{"$f":"ROUND(E50*F50,2)","v":0},0,null,null,null,null,null,null,{"$f":"IFERROR(ROUND((L50-N50)/M50,2),\"0\")","v":"0"},null,null,{"$f":"O50*P50*Q50","v":0},{"$f":"IF(K50=0,\" \",IF(K50+(M50*30.5)<TODAY(),\"DĖMESIO! Patikrinkite, ar nurodytas turtas dar nėra nudėvėtas, amortizuotas\",\" \"))","v":" "}]
["5.3.2","Turtas, kurio nusidėvėjimą, amortizaciją prašoma finansuoti",null,null,1,{"$f":"R51","v":0},0,0,null,null,null,null,null,null,{"$f":"IFERROR(ROUND((L51-N51)/M51,2),\"0\")","v":"0"},null,null,{"$f":"O51*P51*Q51","v":0},{"$f":"IF(K51=0,\" \",IF(K51+(M51*30.5)<TODAY(),\"DĖMESIO! Patikrinkite, ar nurodytas turtas dar nėra nudėvėtas, amortizuotas\",\" \"))","v":" "}]
["5.3.3","Turtas, kurio nusidėvėjimą, amortizaciją prašoma finansuoti",null,null,1,0,0,0,null,null,null,null,null,null,"0",null,null,0," "]
["5.3.4","Turtas, kurio nusidėvėjimą, amortizaciją prašoma finansuoti",null,null,1,0,0,0,null,null,null,null,null,null,"0",null,null,0," "]
["5.3.5","Turtas, kurio nusidėvėjimą, amortizaciją prašoma finansuoti",null,null,1,0,0,0,null,null,null,null,null,null,"0",null,null,0," "]
["5.3.6","Turtas, kurio nusidėvėjimą, amortizaciją prašoma finansuoti",null,null,1,0,0,0,null,null,null,null,null,null,"0",null,null,0," "]
["5.3.7","Turtas, kurio nusidėvėjimą, amortizaciją prašoma finansuoti",null,null,1,0,0,0,null,null,null,null,null,null,"0",null,null,0," "]
["5.3.8","Turtas, kurio nusidėvėjimą, amortizaciją prašoma finansuoti",null,null,1,0,0,0,null,null,null,null,null,null,"0",null,null,0," "]
["5.3.9","Turtas, kurio nusidėvėjimą, amortizaciją prašoma finansuoti",null,null,1,0,0,0,null,null,null,null,null,null,"0",null,null,0," "]
["5.3.10","Turtas, kurio nusidėvėjimą, amortizaciją prašoma finansuoti",null,null,1,0,0,0,null,null,null,null,null,null,"0",null,null,0," "]
["5.3.11","Turtas, kurio nusidėvėjimą, amortizaciją prašoma finansuoti",null,null,1,0,0,0,null,null,null,null,null,null,"0",null,null,0," "]
["5.3.12","Turtas, kurio nusidėvėjimą, amortizaciją prašoma finansuoti",null,null,1,0,0,0,null,null,null,null,null,null,"0",null,null,0," "]
["5.3.13","Turtas, kurio nusidėvėjimą, amortizaciją prašoma finansuoti",null,null,1,0,0,0,null,null,null,null,null,null,"0",null,null,0," "]
["5.3.14","Turtas, kurio nusidėvėjimą, amortizaciją prašoma finansuoti",null,null,1,0,0,0,null,null,null,null,null,null,"0",null,null,0," "]
["5.3.15","Turtas, kurio nusidėvėjimą, amortizaciją prašoma finansuoti",null,null,1,0,0,0,null,null,null,null,null,null,"0",null,null,0," "]
["5.4","Projektą vykdančio personalo darbo užmokestis ir išlaidos su darbo santykiais susijusiems darbdavio įsipareigojimams",null,null,null,null,{"$f":"SUM(G66:G115)","v":0},{"$f":"SUM(H66:H115)","v":0},null,null,"Faktiškai gaunamas darbo užmokesti už 1 valandą pagal  pastarųjų 6 mėn. vidurkį, Eur"]
["5.4.1","Pareigybės pavadinimas","Darbuotojo vardas pavardė","val.",null,{"$f":"IFERROR(ROUND(AVERAGE(K66:K70),2),\"0\")","v":"0"},{"$f":"ROUND(E66*F66,2)","v":0},{"$f":"ROUND(G66*$D$7,2)","v":0}]
[null,null,"Darbuotojo vardas pavardė"]
[null,null,"Darbuotojo vardas pavardė"]
[null,null,"Darbuotojo vardas pavardė"]
[null,null,"Darbuotojo vardas pavardė"]
["5.4.2","Pareigybės pavadinimas","Darbuotojo vardas pavardė","val.",null,{"$f":"IFERROR(ROUND(AVERAGE(K71:K75),2),\"0\")","v":"0"},{"$f":"ROUND(E71*F71,2)","v":0},{"$f":"ROUND(G71*$D$7,2)","v":0}]
[null,null,"Darbuotojo vardas pavardė"]
[null,null,"Darbuotojo vardas pavardė"]
[null,null,"Darbuotojo vardas pavardė"]
[null,null,"Darbuotojo vardas pavardė"]
["5.4.3","Pareigybės pavadinimas","Darbuotojo vardas pavardė","val.",null,{"$f":"IFERROR(ROUND(AVERAGE(K76:K80),2),\"0\")","v":"0"},{"$f":"ROUND(E76*F76,2)","v":0},{"$f":"ROUND(G76*$D$7,2)","v":0}]
[null,null,"Darbuotojo vardas pavardė"]
[null,null,"Darbuotojo vardas pavardė"]
[null,null,"Darbuotojo vardas pavardė"]
[null,null,"Darbuotojo vardas pavardė"]
["5.4.4","Pareigybės pavadinimas","Darbuotojo vardas pavardė","val.",null,{"$f":"IFERROR(ROUND(AVERAGE(K81:K85),2),\"0\")","v":"0"},{"$f":"ROUND(E81*F81,2)","v":0},{"$f":"ROUND(G81*$D$7,2)","v":0}]
[null,null,"Darbuotojo vardas pavardė"]
[null,null,"Darbuotojo vardas pavardė"]
[null,null,"Darbuotojo vardas pavardė"]
[null,null,"Darbuotojo vardas pavardė"]
["5.4.5","Pareigybės pavadinimas","Darbuotojo vardas pavardė","val.",null,{"$f":"IFERROR(ROUND(AVERAGE(K86:K90),2),\"0\")","v":"0"},{"$f":"ROUND(E86*F86,2)","v":0},{"$f":"ROUND(G86*$D$7,2)","v":0}]
[null,null,"Darbuotojo vardas pavardė"]
[null,null,"Darbuotojo vardas pavardė"]
[null,null,"Darbuotojo vardas pavardė"]
[null,null,"Darbuotojo vardas pavardė"]
["5.4.6","Pareigybės pavadinimas","Darbuotojo vardas pavardė","val.",null,{"$f":"IFERROR(ROUND(AVERAGE(K91:K95),2),\"0\")","v":"0"},{"$f":"ROUND(E91*F91,2)","v":0},{"$f":"ROUND(G91*$D$7,2)","v":0}]
[null,null,"Darbuotojo vardas pavardė"]
[null,null,"Darbuotojo vardas pavardė"]
[null,null,"Darbuotojo vardas pavardė"]
[null,null,"Darbuotojo vardas pavardė"]
["5.4.7","Pareigybės pavadinimas","Darbuotojo vardas pavardė","val.",null,{"$f":"IFERROR(ROUND(AVERAGE(K96:K100),2),\"0\")","v":"0"},{"$f":"ROUND(E96*F96,2)","v":0},{"$f":"ROUND(G96*$D$7,2)","v":0}]
[null,null,"Darbuotojo vardas pavardė"]
[null,null,"Darbuotojo vardas pavardė"]
[null,null,"Darbuotojo vardas pavardė"]
[null,null,"Darbuotojo vardas pavardė"]
["5.4.8","Pareigybės pavadinimas","Darbuotojo vardas pavardė","val.",null,{"$f":"IFERROR(ROUND(AVERAGE(K101:K105),2),\"0\")","v":"0"},{"$f":"ROUND(E101*F101,2)","v":0},{"$f":"ROUND(G101*$D$7,2)","v":0}]
[null,null,"Darbuotojo vardas pavardė"]
[null,null,"Darbuotojo vardas pavardė"]
[null,null,"Darbuotojo vardas pavardė"]
[null,null,"Darbuotojo vardas pavardė"]
["5.4.9","Pareigybės pavadinimas","Darbuotojo vardas pavardė","val.",null,{"$f":"IFERROR(ROUND(AVERAGE(K106:K110),2),\"0\")","v":"0"},{"$f":"ROUND(E106*F106,2)","v":0},{"$f":"ROUND(G106*$D$7,2)","v":0}]
[null,null,"Darbuotojo vardas pavardė"]
[null,null,"Darbuotojo vardas pavardė"]
[null,null,"Darbuotojo vardas pavardė"]
[null,null,"Darbuotojo vardas pavardė"]
["5.4.10","Pareigybės pavadinimas","Darbuotojo vardas pavardė","val.",null,{"$f":"IFERROR(ROUND(AVERAGE(K111:K115),2),\"0\")","v":"0"},{"$f":"ROUND(E111*F111,2)","v":0},{"$f":"ROUND(G111*$D$7,2)","v":0}]
[null,null,"Darbuotojo vardas pavardė"]
[null,null,"Darbuotojo vardas pavardė"]
[null,null,"Darbuotojo vardas pavardė"]
[null,null,"Darbuotojo vardas pavardė"]
["5.5","Projektą vykdančio personalo komandiruočių išlaidos",null,null,null,null,{"$f":"SUM(G117,G124,G131,G138,G145,G152,G159,G166,G173,G180)","v":0},{"$f":"SUM(H117,H124,H131,H138,H145,H152,H159,H166,H173,H180)","v":0}]
["5.5.1","Komandiruotės pavadinimas, vieta, trukmė dienomis, vykstančių asmenų skaičius","Iš viso komandiruotei",null,null,null,{"$f":"SUM(G118:G123)","v":0},{"$f":"ROUND(G117*$D$7,2)","v":0}]
[null,null,"Dienpinigiai",null,null,null,{"$f":"ROUND(E118*F118,2)","v":0}]
[null,null,"Gyvenamojo ploto nuoma",null,null,null,0]
[null,null,"Kelionės išlaidos",null,null,null,0]
[null,null,"Dalyvavimo mokestis",null,null,null,0]
[null,null,"Kitos išlaidų pavadinimas",null,null,null,0]
[null,null,"Kitos išlaidų pavadinimas",null,null,null,0]
["5.5.2","Komandiruotės pavadinimas, vieta, trukmė dienomis, vykstančių asmenų skaičius","Iš viso komandiruotei",null,null,null,{"$f":"SUM(G125:G130)","v":0},{"$f":"ROUND(G124*$D$7,2)","v":0}]
[null,null,"Dienpinigiai",null,null,null,{"$f":"ROUND(E125*F125,2)","v":0}]
[null,null,"Gyvenamojo ploto nuoma",null,null,null,0]
[null,null,"Kelionės išlaidos",null,null,null,0]
[null,null,"Dalyvavimo mokestis",null,null,null,0]
[null,null,"Kitos išlaidų pavadinimas",null,null,null,0]
[null,null,"Kitos išlaidų pavadinimas",null,null,null,0]
["5.5.3","Komandiruotės pavadinimas, vieta, trukmė dienomis, vykstančių asmenų skaičius","Iš viso komandiruotei",null,null,null,{"$f":"SUM(G132:G137)","v":0},{"$f":"ROUND(G131*$D$7,2)","v":0}]
[null,null,"Dienpinigiai",null,null,null,{"$f":"ROUND(E132*F132,2)","v":0}]
[null,null,"Gyvenamojo ploto nuoma",null,null,null,0]
[null,null,"Kelionės išlaidos",null,null,null,0]
[null,null,"Dalyvavimo mokestis",null,null,null,0]
[null,null,"Kitos išlaidų pavadinimas",null,null,null,0]
[null,null,"Kitos išlaidų pavadinimas",null,null,null,0]
["5.5.4","Komandiruotės pavadinimas, vieta, trukmė dienomis, vykstančių asmenų skaičius","Iš viso komandiruotei",null,null,null,{"$f":"SUM(G139:G144)","v":0},{"$f":"ROUND(G138*$D$7,2)","v":0}]
[null,null,"Dienpinigiai",null,null,null,{"$f":"ROUND(E139*F139,2)","v":0}]
[null,null,"Gyvenamojo ploto nuoma",null,null,null,0]
[null,null,"Kelionės išlaidos",null,null,null,0]
[null,null,"Dalyvavimo mokestis",null,null,null,0]
[null,null,"Kitos išlaidų pavadinimas",null,null,null,0]
[null,null,"Kitos išlaidų pavadinimas",null,null,null,0]
["5.5.5","Komandiruotės pavadinimas, vieta, trukmė dienomis, vykstančių asmenų skaičius","Iš viso komandiruotei",null,null,null,{"$f":"SUM(G146:G151)","v":0},{"$f":"ROUND(G145*$D$7,2)","v":0}]
[null,null,"Dienpinigiai",null,null,null,{"$f":"ROUND(E146*F146,2)","v":0}]
[null,null,"Gyvenamojo ploto nuoma",null,null,null,0]
[null,null,"Kelionės išlaidos",null,null,null,0]
[null,null,"Dalyvavimo mokestis",null,null,null,0]
[null,null,"Kitos išlaidų pavadinimas",null,null,null,0]
[null,null,"Kitos išlaidų pavadinimas",null,null,null,0]
["5.5.6","Komandiruotės pavadinimas, vieta, trukmė dienomis, vykstančių asmenų skaičius","Iš viso komandiruotei",null,null,null,{"$f":"SUM(G153:G158)","v":0},{"$f":"ROUND(G152*$D$7,2)","v":0}]
[null,null,"Dienpinigiai",null,null,null,{"$f":"ROUND(E153*F153,2)","v":0}]
[null,null,"Gyvenamojo ploto nuoma",null,null,null,0]
[null,null,"Kelionės išlaidos",null,null,null,0]
[null,null,"Dalyvavimo mokestis",null,null,null,0]
[null,null,"Kitos išlaidų pavadinimas",null,null,null,0]
[null,null,"Kitos išlaidų pavadinimas",null,null,null,0]
["5.5.7","Komandiruotės pavadinimas, vieta, trukmė dienomis, vykstančių asmenų skaičius","Iš viso komandiruotei",null,null,null,{"$f":"SUM(G160:G165)","v":0},{"$f":"ROUND(G159*$D$7,2)","v":0}]
[null,null,"Dienpinigiai",null,null,null,{"$f":"ROUND(E160*F160,2)","v":0}]
[null,null,"Gyvenamojo ploto nuoma",null,null,null,0]
[null,null,"Kelionės išlaidos",null,null,null,0]
[null,null,"Dalyvavimo mokestis",null,null,null,0]
[null,null,"Kitos išlaidų pavadinimas",null,null,null,0]
[null,null,"Kitos išlaidų pavadinimas",null,null,null,0]
["5.5.8","Komandiruotės pavadinimas, vieta, trukmė dienomis, vykstančių asmenų skaičius","Iš viso komandiruotei",null,null,null,{"$f":"SUM(G167:G172)","v":0},{"$f":"ROUND(G166*$D$7,2)","v":0}]
[null,null,"Dienpinigiai",null,null,null,{"$f":"ROUND(E167*F167,2)","v":0}]
[null,null,"Gyvenamojo ploto nuoma",null,null,null,0]
[null,null,"Kelionės išlaidos",null,null,null,0]
[null,null,"Dalyvavimo mokestis",null,null,null,0]
[null,null,"Kitos išlaidų pavadinimas",null,null,null,0]
[null,null,"Kitos išlaidų pavadinimas",null,null,null,0]
["5.5.9","Komandiruotės pavadinimas, vieta, trukmė dienomis, vykstančių asmenų skaičius","Iš viso komandiruotei",null,null,null,{"$f":"SUM(G174:G179)","v":0},{"$f":"ROUND(G173*$D$7,2)","v":0}]
[null,null,"Dienpinigiai",null,null,null,{"$f":"ROUND(E174*F174,2)","v":0}]
[null,null,"Gyvenamojo ploto nuoma",null,null,null,0]
[null,null,"Kelionės išlaidos",null,null,null,0]
[null,null,"Dalyvavimo mokestis",null,null,null,0]
[null,null,"Kitos išlaidų pavadinimas",null,null,null,0]
[null,null,"Kitos išlaidų pavadinimas",null,null,null,0]
["5.5.10","Komandiruotės pavadinimas, vieta, trukmė dienomis, vykstančių asmenų skaičius","Iš viso komandiruotei",null,null,null,{"$f":"SUM(G181:G186)","v":0},{"$f":"ROUND(G180*$D$7,2)","v":0}]
[null,null,"Dienpinigiai",null,null,null,{"$f":"ROUND(E181*F181,2)","v":0}]
[null,null,"Gyvenamojo ploto nuoma",null,null,null,0]
[null,null,"Kelionės išlaidos",null,null,null,0]
[null,null,"Dalyvavimo mokestis",null,null,null,0]
[null,null,"Kitos išlaidų pavadinimas",null,null,null,0]
[null,null,"Kitos išlaidų pavadinimas",null,null,null,0]
["Iš viso tinkamų finansuoti išlaidų:",null,null,null,null,null,{"$f":"G10+G21","v":0},{"$f":"H10+H21","v":0}]

{"sheet":"7","index":9,"n_rows":187,"n_cols":19,"rows_kept":187,"cut":false,"hidden":false,"merged":[[179,0,185,0],[179,1,185,1],[179,8,185,8],[186,0,186,5],[165,0,171,0],[165,1,171,1],[165,8,171,8],[172,0,178,0],[172,1,178,1],[172,8,178,8],[151,0,157,0],[151,1,157,1],[151,8,157,8],[158,0,164,0],[158,1,164,1],[158,8,164,8],[137,0,143,0],[137,1,143,1],[137,8,143,8],[144,0,150,0],[144,1,150,1],[144,8,150,8],[123,0,129,0],[123,1,129,1],[123,8,129,8],[130,0,136,0],[130,1,136,1],[130,8,136,8],[110,7,114,7],[110,8,114,8],[115,1,115,5],[116,0,122,0],[116,1,122,1],[116,8,122,8],[110,0,114,0],[110,1,114,1],[110,3,114,3],[110,4,114,4],[110,5,114,5],[110,6,114,6],[100,7,104,7],[100,8,104,8],[105,0,109,0],[105,1,109,1],[105,3,109,3],[105,4,109,4],[105,5,109,5],[105,6,109,6],[105,7,109,7],[105,8,109,8],[100,0,104,0],[100,1,104,1],[100,3,104,3],[100,4,104,4],[100,5,104,5],[100,6,104,6],[90,7,94,7],[90,8,94,8],[95,0,99,0],[95,1,99,1],[95,3,99,3],[95,4,99,4],[95,5,99,5],[95,6,99,6],[95,7,99,7],[95,8,99,8],[90,0,94,0],[90,1,94,1],[90,3,94,3],[90,4,94,4],[90,5,94,5],[90,6,94,6],[85,0,89,0],[85,1,89,1],[85,3,89,3],[85,4,89,4],[85,5,89,5],[85,6,89,6],[85,7,89,7],[85,8,89,8],[80,0,84,0],[80,1,84,1],[80,3,84,3],[80,4,84,4],[80,5,84,5],[80,6,84,6],[75,0,79,0],[75,1,79,1],[75,3,79,3],[75,4,79,4],[75,5,79,5],[75,6,79,6],[75,7,79,7],[75,8,79,8],[80,7,84,7],[80,8,84,8],[65,6,69,6],[65,7,69,7],[65,8,69,8],[70,0,74,0],[70,1,74,1],[70,3,74,3],[70,4,74,4],[70,5,74,5],[70,6,74,6],[70,7,74,7],[70,8,74,8],[62,1,62,2],[63,1,63,2],[64,1,64,5],[65,0,69,0],[65,1,69,1],[65,3,69,3],[65,4,69,4],[65,5,69,5],[56,1,56,2],[57,1,57,2],[58,1,58,2],[59,1,59,2],[60,1,60,2],[61,1,61,2],[50,1,50,2],[51,1,51,2],[52,1,52,2],[53,1,53,2],[54,1,54,2],[55,1,55,2],[44,1,44,2],[45,1,45,2],[46,1,46,2],[47,1,47,2],[48,1,48,5],[49,1,49,2],[38,1,38,2],[39,1,39,2],[40,1,40,2],[41,1,41,2],[42,1,42,2],[43,1,43,2],[32,1,32,5],[33,1,33,2],[34,1,34,2],[35,1,35,2],[36,1,36,2],[37,1,37,2],[26,1,26,2],[27,1,27,2],[28,1,28,2],[29,1,29,2],[30,1,30,2],[31,1,31,2],[20,1,20,5],[21,1,21,5],[22,1,22,2],[23,1,23,2],[24,1,24,2],[25,1,25,2],[16,1,16,2],[17,1,17,2],[18,1,18,2],[19,1,19,2],[8,1,8,2],[9,1,9,5],[10,1,10,2],[11,1,11,2],[12,1,12,2],[13,1,13,2],[0,3,0,8],[2,0,2,2],[2,3,2,8],[3,3,3,4],[3,5,3,6],[4,0,4,2],[4,3,4,8],[14,1,14,2],[15,1,15,2],[5,3,5,8]]}
[null,null,"Pasirinkite veiklos tipą:"]
[null,null,"Fizinio rodiklio Nr.:"]
["Fizinio rodiklio pavadinimas:"]
[null,null,"Fizinio rodiklio matavimo vnt.:",null,null,"Fizinio rodiklio vnt. skaičius:"]
["Juridinis asmuo (pareiškėjas, partneris), atsakingas už fizinį rodiklį:"]
[null,null,"Vykdytojo tipas:"]
[null,null,"Finansavimo intensyvumas:",null,null,null,"Pasirinkite biudžeto išlaidų kategoriją:","Visos"]
[]
["Eil. Nr.","Išlaidų kategorijos pavadinimas",null,"Matavimo vnt.","Kiekis","Vieneto kaina be PVM, Eur","Tinkamų finansuoti išlaidų suma be PVM, Eur","Finansavimo suma, Eur","Išlaidų pagrindimo dokumentų pavadinimas, data ir Nr."]
[4,"ĮRANGA, ĮRENGINIAI IR KT. TURTAS (techninių žinių ir išradimų patentų arba teisių pagal licencijų sutartį įsigijimo išlaidos)",null,null,null,null,{"$f":"SUM(G11:G20)","v":0},{"$f":"SUM(H11:H20)","v":0}]
["4.1","Išlaidų pavadinimas",null,null,null,null,{"$f":"ROUND(E11*F11,2)","v":0},{"$f":"ROUND(G11*$D$7,2)","v":0}]
["4.2","Išlaidų pavadinimas",null,null,null,null,0,0]
["4.3","Išlaidų pavadinimas",null,null,null,null,0,0]
["4.4","Išlaidų pavadinimas",null,null,null,null,0,0]
["4.5","Išlaidų pavadinimas",null,null,null,null,0,0]
["4.6","Išlaidų pavadinimas",null,null,null,null,0,0]
["4.7","Išlaidų pavadinimas",null,null,null,null,0,0]
["4.8","Išlaidų pavadinimas",null,null,null,null,0,0]
["4.9","Išlaidų pavadinimas",null,null,null,null,0,0]
["4.10","Išlaidų pavadinimas",null,null,null,null,0,0]
[5,"PROJEKTO VYKDYMAS",null,null,null,null,{"$f":"G22+G33+G49+G65+G116","v":0},{"$f":"H22+H33+H49+H65+H116","v":0}]
["5.1","MTEP paslaugos",null,null,null,null,{"$f":"SUM(G23:G32)","v":0},{"$f":"SUM(H23:H32)","v":0}]
["5.1.1","Paslaugos pavadinimas",null,null,null,null,{"$f":"ROUND(E23*F23,2)","v":0},0]
["5.1.2","Paslaugos pavadinimas",null,null,null,null,0,0]
["5.1.3","Paslaugos pavadinimas",null,null,null,null,0,0]
["5.1.4","Paslaugos pavadinimas",null,null,null,null,0,0]
["5.1.5","Paslaugos pavadinimas",null,null,null,null,0,0]
["5.1.6","Paslaugos pavadinimas",null,null,null,null,0,0]
["5.1.7","Paslaugos pavadinimas",null,null,null,null,0,0]
["5.1.8","Paslaugos pavadinimas",null,null,null,null,0,0]
["5.1.9","Paslaugos pavadinimas",null,null,null,null,0,0]
["5.1.10","Paslaugos pavadinimas",null,null,null,null,0,0]
["5.2","Medžiagos, mažavertis inventorius, atsargos ir pan. produktai, priskirtini trumpalaikiam turtui ir tiesiogiai susiję su MTEP veikla",null,null,null,null,{"$f":"SUM(G34:G50)","v":0},{"$f":"SUM(H34:H50)","v":0}]
["5.2.1","Išlaidų pavadinimas",null,null,null,null,{"$f":"ROUND(E34*F34,2)","v":0},{"$f":"ROUND(G34*$D$7,2)","v":0}]
["5.2.2","Išlaidų pavadinimas",null,null,null,null,0,0]
["5.2.3","Išlaidų pavadinimas",null,null,null,null,0,0]
["5.2.4","Išlaidų pavadinimas",null,null,null,null,0,0]
["5.2.5","Išlaidų pavadinimas",null,null,null,null,0,0]
["5.2.6","Išlaidų pavadinimas",null,null,null,null,0,0]
["5.2.7","Išlaidų pavadinimas",null,null,null,null,0,0]
["5.2.8","Išlaidų pavadinimas",null,null,null,null,0,0]
["5.2.9","Išlaidų pavadinimas",null,null,null,null,0,0]
["5.2.10","Išlaidų pavadinimas",null,null,null,null,0,0]
["5.2.11","Išlaidų pavadinimas",null,null,null,null,0,0]
["5.2.12","Išlaidų pavadinimas",null,null,null,null,0,0]
["5.2.13","Išlaidų pavadinimas",null,null,null,null,0,0]
["5.2.14","Išlaidų pavadinimas",null,null,null,null,0,0]
["5.2.15","Išlaidų pavadinimas",null,null,null,null,0,0]
["5.3","Projekto MTEP veikloms naudojamo ilgalaikio materialaus turto (įrangos, prietaisų, įrankių, įrenginių, mašinų ir įrengimų, pastatų ir (ar) patalpų), nusidėvėjimo sąnaudos, jeigu šiam turtui įsigyti nebuvo naudojamos viešosios (įskaitant ir kitų valstybių) lėšos",null,null,null,null,{"$f":"SUM(G50:G64)","v":0},{"$f":"SUM(H50:H64)","v":0},null,null,"Turto įvedimo į eksploataciją data","Turto įsigijimo vertė, Eur","Turto nudėvėjimo, amortizacijos laikotarpis, mėn.","Numatoma turto likutinė vertė, Eur","1 mėn. nudėvėjimo, amortizacijos suma, Eur","Turto naudojamo projekto reikmėms laikas, mėn.","Turto panaudojimo projekto reikmėms dalis (proc.)","Projektui priskirta turto nusidėvėjimo, amortizacijos suma per projekto laikotarpį, Eur"]
["5.3.1","Turtas, kurio nusidėvėjimą, amortizaciją prašoma finansuoti",null,null,1,{"$f":"R50","v":0},{"$f":"ROUND(E50*F50,2)","v":0},0,null,null,null,null,null,null,{"$f":"IFERROR(ROUND((L50-N50)/M50,2),\"0\")","v":"0"},null,null,{"$f":"O50*P50*Q50","v":0},{"$f":"IF(K50=0,\" \",IF(K50+(M50*30.5)<TODAY(),\"DĖMESIO! Patikrinkite, ar nurodytas turtas dar nėra nudėvėtas, amortizuotas\",\" \"))","v":" "}]
["5.3.2","Turtas, kurio nusidėvėjimą, amortizaciją prašoma finansuoti",null,null,1,{"$f":"R51","v":0},0,0,null,null,null,null,null,null,{"$f":"IFERROR(ROUND((L51-N51)/M51,2),\"0\")","v":"0"},null,null,{"$f":"O51*P51*Q51","v":0},{"$f":"IF(K51=0,\" \",IF(K51+(M51*30.5)<TODAY(),\"DĖMESIO! Patikrinkite, ar nurodytas turtas dar nėra nudėvėtas, amortizuotas\",\" \"))","v":" "}]
["5.3.3","Turtas, kurio nusidėvėjimą, amortizaciją prašoma finansuoti",null,null,1,0,0,0,null,null,null,null,null,null,"0",null,null,0," "]
["5.3.4","Turtas, kurio nusidėvėjimą, amortizaciją prašoma finansuoti",null,null,1,0,0,0,null,null,null,null,null,null,"0",null,null,0," "]
["5.3.5","Turtas, kurio nusidėvėjimą, amortizaciją prašoma finansuoti",null,null,1,0,0,0,null,null,null,null,null,null,"0",null,null,0," "]
["5.3.6","Turtas, kurio nusidėvėjimą, amortizaciją prašoma finansuoti",null,null,1,0,0,0,null,null,null,null,null,null,"0",null,null,0," "]
["5.3.7","Turtas, kurio nusidėvėjimą, amortizaciją prašoma finansuoti",null,null,1,0,0,0,null,null,null,null,null,null,"0",null,null,0," "]
["5.3.8","Turtas, kurio nusidėvėjimą, amortizaciją prašoma finansuoti",null,null,1,0,0,0,null,null,null,null,null,null,"0",null,null,0," "]
["5.3.9","Turtas, kurio nusidėvėjimą, amortizaciją prašoma finansuoti",null,null,1,0,0,0,null,null,null,null,null,null,"0",null,null,0," "]
["5.3.10","Turtas, kurio nusidėvėjimą, amortizaciją prašoma finansuoti",null,null,1,0,0,0,null,null,null,null,null,null,"0",null,null,0," "]
["5.3.11","Turtas, kurio nusidėvėjimą, amortizaciją prašoma finansuoti",null,null,1,0,0,0,null,null,null,null,null,null,"0",null,null,0," "]
["5.3.12","Turtas, kurio nusidėvėjimą, amortizaciją prašoma finansuoti",null,null,1,0,0,0,null,null,null,null,null,null,"0",null,null,0," "]
["5.3.13","Turtas, kurio nusidėvėjimą, amortizaciją prašoma finansuoti",null,null,1,0,0,0,null,null,null,null,null,null,"0",null,null,0," "]
["5.3.14","Turtas, kurio nusidėvėjimą, amortizaciją prašoma finansuoti",null,null,1,0,0,0,null,null,null,null,null,null,"0",null,null,0," "]
["5.3.15","Turtas, kurio nusidėvėjimą, amortizaciją prašoma finansuoti",null,null,1,0,0,0,null,null,null,null,null,null,"0",null,null,0," "]
["5.4","Projektą vykdančio personalo darbo užmokestis ir išlaidos su darbo santykiais susijusiems darbdavio įsipareigojimams",null,null,null,null,{"$f":"SUM(G66:G115)","v":0},{"$f":"SUM(H66:H115)","v":0},null,null,"Faktiškai gaunamas darbo užmokesti už 1 valandą pagal  pastarųjų 6 mėn. vidurkį, Eur"]
["5.4.1","Pareigybės pavadinimas","Darbuotojo vardas pavardė","val.",null,{"$f":"IFERROR(ROUND(AVERAGE(K66:K70),2),\"0\")","v":"0"},{"$f":"ROUND(E66*F66,2)","v":0},{"$f":"ROUND(G66*$D$7,2)","v":0}]
[null,null,"Darbuotojo vardas pavardė"]
[null,null,"Darbuotojo vardas pavardė"]
[null,null,"Darbuotojo vardas pavardė"]
[null,null,"Darbuotojo vardas pavardė"]
["5.4.2","Pareigybės pavadinimas","Darbuotojo vardas pavardė","val.",null,{"$f":"IFERROR(ROUND(AVERAGE(K71:K75),2),\"0\")","v":"0"},{"$f":"ROUND(E71*F71,2)","v":0},{"$f":"ROUND(G71*$D$7,2)","v":0}]
[null,null,"Darbuotojo vardas pavardė"]
[null,null,"Darbuotojo vardas pavardė"]
[null,null,"Darbuotojo vardas pavardė"]
[null,null,"Darbuotojo vardas pavardė"]
["5.4.3","Pareigybės pavadinimas","Darbuotojo vardas pavardė","val.",null,{"$f":"IFERROR(ROUND(AVERAGE(K76:K80),2),\"0\")","v":"0"},{"$f":"ROUND(E76*F76,2)","v":0},{"$f":"ROUND(G76*$D$7,2)","v":0}]
[null,null,"Darbuotojo vardas pavardė"]
[null,null,"Darbuotojo vardas pavardė"]
[null,null,"Darbuotojo vardas pavardė"]
[null,null,"Darbuotojo vardas pavardė"]
["5.4.4","Pareigybės pavadinimas","Darbuotojo vardas pavardė","val.",null,{"$f":"IFERROR(ROUND(AVERAGE(K81:K85),2),\"0\")","v":"0"},{"$f":"ROUND(E81*F81,2)","v":0},{"$f":"ROUND(G81*$D$7,2)","v":0}]
[null,null,"Darbuotojo vardas pavardė"]
[null,null,"Darbuotojo vardas pavardė"]
[null,null,"Darbuotojo vardas pavardė"]
[null,null,"Darbuotojo vardas pavardė"]
["5.4.5","Pareigybės pavadinimas","Darbuotojo vardas pavardė","val.",null,{"$f":"IFERROR(ROUND(AVERAGE(K86:K90),2),\"0\")","v":"0"},{"$f":"ROUND(E86*F86,2)","v":0},{"$f":"ROUND(G86*$D$7,2)","v":0}]
[null,null,"Darbuotojo vardas pavardė"]
[null,null,"Darbuotojo vardas pavardė"]
[null,null,"Darbuotojo vardas pavardė"]
[null,null,"Darbuotojo vardas pavardė"]
["5.4.6","Pareigybės pavadinimas","Darbuotojo vardas pavardė","val.",null,{"$f":"IFERROR(ROUND(AVERAGE(K91:K95),2),\"0\")","v":"0"},{"$f":"ROUND(E91*F91,2)","v":0},{"$f":"ROUND(G91*$D$7,2)","v":0}]
[null,null,"Darbuotojo vardas pavardė"]
[null,null,"Darbuotojo vardas pavardė"]
[null,null,"Darbuotojo vardas pavardė"]
[null,null,"Darbuotojo vardas pavardė"]
["5.4.7","Pareigybės pavadinimas","Darbuotojo vardas pavardė","val.",null,{"$f":"IFERROR(ROUND(AVERAGE(K96:K100),2),\"0\")","v":"0"},{"$f":"ROUND(E96*F96,2)","v":0},{"$f":"ROUND(G96*$D$7,2)","v":0}]
[null,null,"Darbuotojo vardas pavardė"]
[null,null,"Darbuotojo vardas pavardė"]
[null,null,"Darbuotojo vardas pavardė"]
[null,null,"Darbuotojo vardas pavardė"]
["5.4.8","Pareigybės pavadinimas","Darbuotojo vardas pavardė","val.",null,{"$f":"IFERROR(ROUND(AVERAGE(K101:K105),2),\"0\")","v":"0"},{"$f":"ROUND(E101*F101,2)","v":0},{"$f":"ROUND(G101*$D$7,2)","v":0}]
[null,null,"Darbuotojo vardas pavardė"]
[null,null,"Darbuotojo vardas pavardė"]
[null,null,"Darbuotojo vardas pavardė"]
[null,null,"Darbuotojo vardas pavardė"]
["5.4.9","Pareigybės pavadinimas","Darbuotojo vardas pavardė","val.",null,{"$f":"IFERROR(ROUND(AVERAGE(K106:K110),2),\"0\")","v":"0"},{"$f":"ROUND(E106*F106,2)","v":0},{"$f":"ROUND(G106*$D$7,2)","v":0}]
[null,null,"Darbuotojo vardas pavardė"]
[null,null,"Darbuotojo vardas pavardė"]
[null,null,"Darbuotojo vardas pavardė"]
[null,null,"Darbuotojo vardas pavardė"]
["5.4.10","Pareigybės pavadinimas","Darbuotojo vardas pavardė","val.",null,{"$f":"IFERROR(ROUND(AVERAGE(K111:K115),2),\"0\")","v":"0"},{"$f":"ROUND(E111*F111,2)","v":0},{"$f":"ROUND(G111*$D$7,2)","v":0}]
[null,null,"Darbuotojo vardas pavardė"]
[null,null,"Darbuotojo vardas pavardė"]
[null,null,"Darbuotojo vardas pavardė"]
[null,null,"Darbuotojo vardas pavardė"]
["5.5","Projektą vykdančio personalo komandiruočių išlaidos",null,null,null,null,{"$f":"SUM(G117,G124,G131,G138,G145,G152,G159,G166,G173,G180)","v":0},{"$f":"SUM(H117,H124,H131,H138,H145,H152,H159,H166,H173,H180)","v":0}]
["5.5.1","Komandiruotės pavadinimas, vieta, trukmė dienomis, vykstančių asmenų skaičius","Iš viso komandiruotei",null,null,null,{"$f":"SUM(G118:G123)","v":0},{"$f":"ROUND(G117*$D$7,2)","v":0}]
[null,null,"Dienpinigiai",null,null,null,{"$f":"ROUND(E118*F118,2)","v":0}]
[null,null,"Gyvenamojo ploto nuoma",null,null,null,0]
[null,null,"Kelionės išlaidos",null,null,null,0]
[null,null,"Dalyvavimo mokestis",null,null,null,0]
[null,null,"Kitos išlaidų pavadinimas",null,null,null,0]
[null,null,"Kitos išlaidų pavadinimas",null,null,null,0]
["5.5.2","Komandiruotės pavadinimas, vieta, trukmė dienomis, vykstančių asmenų skaičius","Iš viso komandiruotei",null,null,null,{"$f":"SUM(G125:G130)","v":0},{"$f":"ROUND(G124*$D$7,2)","v":0}]
[null,null,"Dienpinigiai",null,null,null,{"$f":"ROUND(E125*F125,2)","v":0}]
[null,null,"Gyvenamojo ploto nuoma",null,null,null,0]
[null,null,"Kelionės išlaidos",null,null,null,0]
[null,null,"Dalyvavimo mokestis",null,null,null,0]
[null,null,"Kitos išlaidų pavadinimas",null,null,null,0]
[null,null,"Kitos išlaidų pavadinimas",null,null,null,0]
["5.5.3","Komandiruotės pavadinimas, vieta, trukmė dienomis, vykstančių asmenų skaičius","Iš viso komandiruotei",null,null,null,{"$f":"SUM(G132:G137)","v":0},{"$f":"ROUND(G131*$D$7,2)","v":0}]
[null,null,"Dienpinigiai",null,null,null,{"$f":"ROUND(E132*F132,2)","v":0}]
[null,null,"Gyvenamojo ploto nuoma",null,null,null,0]
[null,null,"Kelionės išlaidos",null,null,null,0]
[null,null,"Dalyvavimo mokestis",null,null,null,0]
[null,null,"Kitos išlaidų pavadinimas",null,null,null,0]
[null,null,"Kitos išlaidų pavadinimas",null,null,null,0]
["5.5.4","Komandiruotės pavadinimas, vieta, trukmė dienomis, vykstančių asmenų skaičius","Iš viso komandiruotei",null,null,null,{"$f":"SUM(G139:G144)","v":0},{"$f":"ROUND(G138*$D$7,2)","v":0}]
[null,null,"Dienpinigiai",null,null,null,{"$f":"ROUND(E139*F139,2)","v":0}]
[null,null,"Gyvenamojo ploto nuoma",null,null,null,0]
[null,null,"Kelionės išlaidos",null,null,null,0]
[null,null,"Dalyvavimo mokestis",null,null,null,0]
[null,null,"Kitos išlaidų pavadinimas",null,null,null,0]
[null,null,"Kitos išlaidų pavadinimas",null,null,null,0]
["5.5.5","Komandiruotės pavadinimas, vieta, trukmė dienomis, vykstančių asmenų skaičius","Iš viso komandiruotei",null,null,null,{"$f":"SUM(G146:G151)","v":0},{"$f":"ROUND(G145*$D$7,2)","v":0}]
[null,null,"Dienpinigiai",null,null,null,{"$f":"ROUND(E146*F146,2)","v":0}]
[null,null,"Gyvenamojo ploto nuoma",null,null,null,0]
[null,null,"Kelionės išlaidos",null,null,null,0]
[null,null,"Dalyvavimo mokestis",null,null,null,0]
[null,null,"Kitos išlaidų pavadinimas",null,null,null,0]
[null,null,"Kitos išlaidų pavadinimas",null,null,null,0]
["5.5.6","Komandiruotės pavadinimas, vieta, trukmė dienomis, vykstančių asmenų skaičius","Iš viso komandiruotei",null,null,null,{"$f":"SUM(G153:G158)","v":0},{"$f":"ROUND(G152*$D$7,2)","v":0}]
[null,null,"Dienpinigiai",null,null,null,{"$f":"ROUND(E153*F153,2)","v":0}]
[null,null,"Gyvenamojo ploto nuoma",null,null,null,0]
[null,null,"Kelionės išlaidos",null,null,null,0]
[null,null,"Dalyvavimo mokestis",null,null,null,0]
[null,null,"Kitos išlaidų pavadinimas",null,null,null,0]
[null,null,"Kitos išlaidų pavadinimas",null,null,null,0]
["5.5.7","Komandiruotės pavadinimas, vieta, trukmė dienomis, vykstančių asmenų skaičius","Iš viso komandiruotei",null,null,null,{"$f":"SUM(G160:G165)","v":0},{"$f":"ROUND(G159*$D$7,2)","v":0}]
[null,null,"Dienpinigiai",null,null,null,{"$f":"ROUND(E160*F160,2)","v":0}]
[null,null,"Gyvenamojo ploto nuoma",null,null,null,0]
[null,null,"Kelionės išlaidos",null,null,null,0]
[null,null,"Dalyvavimo mokestis",null,null,null,0]
[null,null,"Kitos išlaidų pavadinimas",null,null,null,0]
[null,null,"Kitos išlaidų pavadinimas",null,null,null,0]
["5.5.8","Komandiruotės pavadinimas, vieta, trukmė dienomis, vykstančių asmenų skaičius","Iš viso komandiruotei",null,null,null,{"$f":"SUM(G167:G172)","v":0},{"$f":"ROUND(G166*$D$7,2)","v":0}]
[null,null,"Dienpinigiai",null,null,null,{"$f":"ROUND(E167*F167,2)","v":0}]
[null,null,"Gyvenamojo ploto nuoma",null,null,null,0]
[null,null,"Kelionės išlaidos",null,null,null,0]
[null,null,"Dalyvavimo mokestis",null,null,null,0]
[null,null,"Kitos išlaidų pavadinimas",null,null,null,0]
[null,null,"Kitos išlaidų pavadinimas",null,null,null,0]
["5.5.9","Komandiruotės pavadinimas, vieta, trukmė dienomis, vykstančių asmenų skaičius","Iš viso komandiruotei",null,null,null,{"$f":"SUM(G174:G179)","v":0},{"$f":"ROUND(G173*$D$7,2)","v":0}]
[null,null,"Dienpinigiai",null,null,null,{"$f":"ROUND(E174*F174,2)","v":0}]
[null,null,"Gyvenamojo ploto nuoma",null,null,null,0]
[null,null,"Kelionės išlaidos",null,null,null,0]
[null,null,"Dalyvavimo mokestis",null,null,null,0]
[null,null,"Kitos išlaidų pavadinimas",null,null,null,0]
[null,null,"Kitos išlaidų pavadinimas",null,null,null,0]
["5.5.10","Komandiruotės pavadinimas, vieta, trukmė dienomis, vykstančių asmenų skaičius","Iš viso komandiruotei",null,null,null,{"$f":"SUM(G181:G186)","v":0},{"$f":"ROUND(G180*$D$7,2)","v":0}]
[null,null,"Dienpinigiai",null,null,null,{"$f":"ROUND(E181*F181,2)","v":0}]
[null,null,"Gyvenamojo ploto nuoma",null,null,null,0]
[null,null,"Kelionės išlaidos",null,null,null,0]
[null,null,"Dalyvavimo mokestis",null,null,null,0]
[null,null,"Kitos išlaidų pavadinimas",null,null,null,0]
[null,null,"Kitos išlaidų pavadinimas",null,null,null,0]
["Iš viso tinkamų finansuoti išlaidų:",null,null,null,null,null,{"$f":"G10+G21","v":0},{"$f":"H10+H21","v":0}]

{"sheet":"8","index":10,"n_rows":187,"n_cols":19,"rows_kept":187,"cut":false,"hidden":false,"merged":[[179,0,185,0],[179,1,185,1],[179,8,185,8],[186,0,186,5],[165,0,171,0],[165,1,171,1],[165,8,171,8],[172,0,178,0],[172,1,178,1],[172,8,178,8],[151,0,157,0],[151,1,157,1],[151,8,157,8],[158,0,164,0],[158,1,164,1],[158,8,164,8],[137,0,143,0],[137,1,143,1],[137,8,143,8],[144,0,150,0],[144,1,150,1],[144,8,150,8],[123,0,129,0],[123,1,129,1],[123,8,129,8],[130,0,136,0],[130,1,136,1],[130,8,136,8],[110,7,114,7],[110,8,114,8],[115,1,115,5],[116,0,122,0],[116,1,122,1],[116,8,122,8],[110,0,114,0],[110,1,114,1],[110,3,114,3],[110,4,114,4],[110,5,114,5],[110,6,114,6],[100,7,104,7],[100,8,104,8],[105,0,109,0],[105,1,109,1],[105,3,109,3],[105,4,109,4],[105,5,109,5],[105,6,109,6],[105,7,109,7],[105,8,109,8],[100,0,104,0],[100,1,104,1],[100,3,104,3],[100,4,104,4],[100,5,104,5],[100,6,104,6],[90,7,94,7],[90,8,94,8],[95,0,99,0],[95,1,99,1],[95,3,99,3],[95,4,99,4],[95,5,99,5],[95,6,99,6],[95,7,99,7],[95,8,99,8],[90,0,94,0],[90,1,94,1],[90,3,94,3],[90,4,94,4],[90,5,94,5],[90,6,94,6],[85,0,89,0],[85,1,89,1],[85,3,89,3],[85,4,89,4],[85,5,89,5],[85,6,89,6],[85,7,89,7],[85,8,89,8],[80,0,84,0],[80,1,84,1],[80,3,84,3],[80,4,84,4],[80,5,84,5],[80,6,84,6],[75,0,79,0],[75,1,79,1],[75,3,79,3],[75,4,79,4],[75,5,79,5],[75,6,79,6],[75,7,79,7],[75,8,79,8],[80,7,84,7],[80,8,84,8],[65,6,69,6],[65,7,69,7],[65,8,69,8],[70,0,74,0],[70,1,74,1],[70,3,74,3],[70,4,74,4],[70,5,74,5],[70,6,74,6],[70,7,74,7],[70,8,74,8],[62,1,62,2],[63,1,63,2],[64,1,64,5],[65,0,69,0],[65,1,69,1],[65,3,69,3],[65,4,69,4],[65,5,69,5],[56,1,56,2],[57,1,57,2],[58,1,58,2],[59,1,59,2],[60,1,60,2],[61,1,61,2],[50,1,50,2],[51,1,51,2],[52,1,52,2],[53,1,53,2],[54,1,54,2],[55,1,55,2],[44,1,44,2],[45,1,45,2],[46,1,46,2],[47,1,47,2],[48,1,48,5],[49,1,49,2],[38,1,38,2],[39,1,39,2],[40,1,40,2],[41,1,41,2],[42,1,42,2],[43,1,43,2],[32,1,32,5],[33,1,33,2],[34,1,34,2],[35,1,35,2],[36,1,36,2],[37,1,37,2],[26,1,26,2],[27,1,27,2],[28,1,28,2],[29,1,29,2],[30,1,30,2],[31,1,31,2],[20,1,20,5],[21,1,21,5],[22,1,22,2],[23,1,23,2],[24,1,24,2],[25,1,25,2],[16,1,16,2],[17,1,17,2],[18,1,18,2],[19,1,19,2],[8,1,8,2],[9,1,9,5],[10,1,10,2],[11,1,11,2],[12,1,12,2],[13,1,13,2],[0,3,0,8],[2,0,2,2],[2,3,2,8],[3,3,3,4],[3,5,3,6],[4,0,4,2],[4,3,4,8],[14,1,14,2],[15,1,15,2],[5,3,5,8]]}
[null,null,"Pasirinkite veiklos tipą:"]
[null,null,"Fizinio rodiklio Nr.:"]
["Fizinio rodiklio pavadinimas:"]
[null,null,"Fizinio rodiklio matavimo vnt.:",null,null,"Fizinio rodiklio vnt. skaičius:"]
["Juridinis asmuo (pareiškėjas, partneris), atsakingas už fizinį rodiklį:"]
[null,null,"Vykdytojo tipas:"]
[null,null,"Finansavimo intensyvumas:",null,null,null,"Pasirinkite biudžeto išlaidų kategoriją:","Visos"]
[]
["Eil. Nr.","Išlaidų kategorijos pavadinimas",null,"Matavimo vnt.","Kiekis","Vieneto kaina be PVM, Eur","Tinkamų finansuoti išlaidų suma be PVM, Eur","Finansavimo suma, Eur","Išlaidų pagrindimo dokumentų pavadinimas, data ir Nr."]
[4,"ĮRANGA, ĮRENGINIAI IR KT. TURTAS (techninių žinių ir išradimų patentų arba teisių pagal licencijų sutartį įsigijimo išlaidos)",null,null,null,null,{"$f":"SUM(G11:G20)","v":0},{"$f":"SUM(H11:H20)","v":0}]
["4.1","Išlaidų pavadinimas",null,null,null,null,{"$f":"ROUND(E11*F11,2)","v":0},{"$f":"ROUND(G11*$D$7,2)","v":0}]
["4.2","Išlaidų pavadinimas",null,null,null,null,0,0]
["4.3","Išlaidų pavadinimas",null,null,null,null,0,0]
["4.4","Išlaidų pavadinimas",null,null,null,null,0,0]
["4.5","Išlaidų pavadinimas",null,null,null,null,0,0]
["4.6","Išlaidų pavadinimas",null,null,null,null,0,0]
["4.7","Išlaidų pavadinimas",null,null,null,null,0,0]
["4.8","Išlaidų pavadinimas",null,null,null,null,0,0]
["4.9","Išlaidų pavadinimas",null,null,null,null,0,0]
["4.10","Išlaidų pavadinimas",null,null,null,null,0,0]
[5,"PROJEKTO VYKDYMAS",null,null,null,null,{"$f":"G22+G33+G49+G65+G116","v":0},{"$f":"H22+H33+H49+H65+H116","v":0}]
["5.1","MTEP paslaugos",null,null,null,null,{"$f":"SUM(G23:G32)","v":0},{"$f":"SUM(H23:H32)","v":0}]
["5.1.1","Paslaugos pavadinimas",null,null,null,null,{"$f":"ROUND(E23*F23,2)","v":0},0]
["5.1.2","Paslaugos pavadinimas",null,null,null,null,0,0]
["5.1.3","Paslaugos pavadinimas",null,null,null,null,0,0]
["5.1.4","Paslaugos pavadinimas",null,null,null,null,0,0]
["5.1.5","Paslaugos pavadinimas",null,null,null,null,0,0]
["5.1.6","Paslaugos pavadinimas",null,null,null,null,0,0]
["5.1.7","Paslaugos pavadinimas",null,null,null,null,0,0]
["5.1.8","Paslaugos pavadinimas",null,null,null,null,0,0]
["5.1.9","Paslaugos pavadinimas",null,null,null,null,0,0]
["5.1.10","Paslaugos pavadinimas",null,null,null,null,0,0]
["5.2","Medžiagos, mažavertis inventorius, atsargos ir pan. produktai, priskirtini trumpalaikiam turtui ir tiesiogiai susiję su MTEP veikla",null,null,null,null,{"$f":"SUM(G34:G50)","v":0},{"$f":"SUM(H34:H50)","v":0}]
["5.2.1","Išlaidų pavadinimas",null,null,null,null,{"$f":"ROUND(E34*F34,2)","v":0},{"$f":"ROUND(G34*$D$7,2)","v":0}]
["5.2.2","Išlaidų pavadinimas",null,null,null,null,0,0]
["5.2.3","Išlaidų pavadinimas",null,null,null,null,0,0]
["5.2.4","Išlaidų pavadinimas",null,null,null,null,0,0]
["5.2.5","Išlaidų pavadinimas",null,null,null,null,0,0]
["5.2.6","Išlaidų pavadinimas",null,null,null,null,0,0]
["5.2.7","Išlaidų pavadinimas",null,null,null,null,0,0]
["5.2.8","Išlaidų pavadinimas",null,null,null,null,0,0]
["5.2.9","Išlaidų pavadinimas",null,null,null,null,0,0]
["5.2.10","Išlaidų pavadinimas",null,null,null,null,0,0]
["5.2.11","Išlaidų pavadinimas",null,null,null,null,0,0]
["5.2.12","Išlaidų pavadinimas",null,null,null,null,0,0]
["5.2.13","Išlaidų pavadinimas",null,null,null,null,0,0]
["5.2.14","Išlaidų pavadinimas",null,null,null,null,0,0]
["5.2.15","Išlaidų pavadinimas",null,null,null,null,0,0]
["5.3","Projekto MTEP veikloms naudojamo ilgalaikio materialaus turto (įrangos, prietaisų, įrankių, įrenginių, mašinų ir įrengimų, pastatų ir (ar) patalpų), nusidėvėjimo sąnaudos, jeigu šiam turtui įsigyti nebuvo naudojamos viešosios (įskaitant ir kitų valstybių) lėšos",null,null,null,null,{"$f":"SUM(G50:G64)","v":0},{"$f":"SUM(H50:H64)","v":0},null,null,"Turto įvedimo į eksploataciją data","Turto įsigijimo vertė, Eur","Turto nudėvėjimo, amortizacijos laikotarpis, mėn.","Numatoma turto likutinė vertė, Eur","1 mėn. nudėvėjimo, amortizacijos suma, Eur","Turto naudojamo projekto reikmėms laikas, mėn.","Turto panaudojimo projekto reikmėms dalis (proc.)","Projektui priskirta turto nusidėvėjimo, amortizacijos suma per projekto laikotarpį, Eur"]
["5.3.1","Turtas, kurio nusidėvėjimą, amortizaciją prašoma finansuoti",null,null,1,{"$f":"R50","v":0},{"$f":"ROUND(E50*F50,2)","v":0},0,null,null,null,null,null,null,{"$f":"IFERROR(ROUND((L50-N50)/M50,2),\"0\")","v":"0"},null,null,{"$f":"O50*P50*Q50","v":0},{"$f":"IF(K50=0,\" \",IF(K50+(M50*30.5)<TODAY(),\"DĖMESIO! Patikrinkite, ar nurodytas turtas dar nėra nudėvėtas, amortizuotas\",\" \"))","v":" "}]
["5.3.2","Turtas, kurio nusidėvėjimą, amortizaciją prašoma finansuoti",null,null,1,{"$f":"R51","v":0},0,0,null,null,null,null,null,null,{"$f":"IFERROR(ROUND((L51-N51)/M51,2),\"0\")","v":"0"},null,null,{"$f":"O51*P51*Q51","v":0},{"$f":"IF(K51=0,\" \",IF(K51+(M51*30.5)<TODAY(),\"DĖMESIO! Patikrinkite, ar nurodytas turtas dar nėra nudėvėtas, amortizuotas\",\" \"))","v":" "}]
["5.3.3","Turtas, kurio nusidėvėjimą, amortizaciją prašoma finansuoti",null,null,1,0,0,0,null,null,null,null,null,null,"0",null,null,0," "]
["5.3.4","Turtas, kurio nusidėvėjimą, amortizaciją prašoma finansuoti",null,null,1,0,0,0,null,null,null,null,null,null,"0",null,null,0," "]
["5.3.5","Turtas, kurio nusidėvėjimą, amortizaciją prašoma finansuoti",null,null,1,0,0,0,null,null,null,null,null,null,"0",null,null,0," "]
["5.3.6","Turtas, kurio nusidėvėjimą, amortizaciją prašoma finansuoti",null,null,1,0,0,0,null,null,null,null,null,null,"0",null,null,0," "]
["5.3.7","Turtas, kurio nusidėvėjimą, amortizaciją prašoma finansuoti",null,null,1,0,0,0,null,null,null,null,null,null,"0",null,null,0," "]
["5.3.8","Turtas, kurio nusidėvėjimą, amortizaciją prašoma finansuoti",null,null,1,0,0,0,null,null,null,null,null,null,"0",null,null,0," "]
["5.3.9","Turtas, kurio nusidėvėjimą, amortizaciją prašoma finansuoti",null,null,1,0,0,0,null,null,null,null,null,null,"0",null,null,0," "]
["5.3.10","Turtas, kurio nusidėvėjimą, amortizaciją prašoma finansuoti",null,null,1,0,0,0,null,null,null,null,null,null,"0",null,null,0," "]
["5.3.11","Turtas, kurio nusidėvėjimą, amortizaciją prašoma finansuoti",null,null,1,0,0,0,null,null,null,null,null,null,"0",null,null,0," "]
["5.3.12","Turtas, kurio nusidėvėjimą, amortizaciją prašoma finansuoti",null,null,1,0,0,0,null,null,null,null,null,null,"0",null,null,0," "]
["5.3.13","Turtas, kurio nusidėvėjimą, amortizaciją prašoma finansuoti",null,null,1,0,0,0,null,null,null,null,null,null,"0",null,null,0," "]
["5.3.14","Turtas, kurio nusidėvėjimą, amortizaciją prašoma finansuoti",null,null,1,0,0,0,null,null,null,null,null,null,"0",null,null,0," "]
["5.3.15","Turtas, kurio nusidėvėjimą, amortizaciją prašoma finansuoti",null,null,1,0,0,0,null,null,null,null,null,null,"0",null,null,0," "]
["5.4","Projektą vykdančio personalo darbo užmokestis ir išlaidos su darbo santykiais susijusiems darbdavio įsipareigojimams",null,null,null,null,{"$f":"SUM(G66:G115)","v":0},{"$f":"SUM(H66:H115)","v":0},null,null,"Faktiškai gaunamas darbo užmokesti už 1 valandą pagal  pastarųjų 6 mėn. vidurkį, Eur"]
["5.4.1","Pareigybės pavadinimas","Darbuotojo vardas pavardė","val.",null,{"$f":"IFERROR(ROUND(AVERAGE(K66:K70),2),\"0\")","v":"0"},{"$f":"ROUND(E66*F66,2)","v":0},{"$f":"ROUND(G66*$D$7,2)","v":0}]
[null,null,"Darbuotojo vardas pavardė"]
[null,null,"Darbuotojo vardas pavardė"]
[null,null,"Darbuotojo vardas pavardė"]
[null,null,"Darbuotojo vardas pavardė"]
["5.4.2","Pareigybės pavadinimas","Darbuotojo vardas pavardė","val.",null,{"$f":"IFERROR(ROUND(AVERAGE(K71:K75),2),\"0\")","v":"0"},{"$f":"ROUND(E71*F71,2)","v":0},{"$f":"ROUND(G71*$D$7,2)","v":0}]
[null,null,"Darbuotojo vardas pavardė"]
[null,null,"Darbuotojo vardas pavardė"]
[null,null,"Darbuotojo vardas pavardė"]
[null,null,"Darbuotojo vardas pavardė"]
["5.4.3","Pareigybės pavadinimas","Darbuotojo vardas pavardė","val.",null,{"$f":"IFERROR(ROUND(AVERAGE(K76:K80),2),\"0\")","v":"0"},{"$f":"ROUND(E76*F76,2)","v":0},{"$f":"ROUND(G76*$D$7,2)","v":0}]
[null,null,"Darbuotojo vardas pavardė"]
[null,null,"Darbuotojo vardas pavardė"]
[null,null,"Darbuotojo vardas pavardė"]
[null,null,"Darbuotojo vardas pavardė"]
["5.4.4","Pareigybės pavadinimas","Darbuotojo vardas pavardė","val.",null,{"$f":"IFERROR(ROUND(AVERAGE(K81:K85),2),\"0\")","v":"0"},{"$f":"ROUND(E81*F81,2)","v":0},{"$f":"ROUND(G81*$D$7,2)","v":0}]
[null,null,"Darbuotojo vardas pavardė"]
[null,null,"Darbuotojo vardas pavardė"]
[null,null,"Darbuotojo vardas pavardė"]
[null,null,"Darbuotojo vardas pavardė"]
["5.4.5","Pareigybės pavadinimas","Darbuotojo vardas pavardė","val.",null,{"$f":"IFERROR(ROUND(AVERAGE(K86:K90),2),\"0\")","v":"0"},{"$f":"ROUND(E86*F86,2)","v":0},{"$f":"ROUND(G86*$D$7,2)","v":0}]
[null,null,"Darbuotojo vardas pavardė"]
[null,null,"Darbuotojo vardas pavardė"]
[null,null,"Darbuotojo vardas pavardė"]
[null,null,"Darbuotojo vardas pavardė"]
["5.4.6","Pareigybės pavadinimas","Darbuotojo vardas pavardė","val.",null,{"$f":"IFERROR(ROUND(AVERAGE(K91:K95),2),\"0\")","v":"0"},{"$f":"ROUND(E91*F91,2)","v":0},{"$f":"ROUND(G91*$D$7,2)","v":0}]
[null,null,"Darbuotojo vardas pavardė"]
[null,null,"Darbuotojo vardas pavardė"]
[null,null,"Darbuotojo vardas pavardė"]
[null,null,"Darbuotojo vardas pavardė"]
["5.4.7","Pareigybės pavadinimas","Darbuotojo vardas pavardė","val.",null,{"$f":"IFERROR(ROUND(AVERAGE(K96:K100),2),\"0\")","v":"0"},{"$f":"ROUND(E96*F96,2)","v":0},{"$f":"ROUND(G96*$D$7,2)","v":0}]
[null,null,"Darbuotojo vardas pavardė"]
[null,null,"Darbuotojo vardas pavardė"]
[null,null,"Darbuotojo vardas pavardė"]
[null,null,"Darbuotojo vardas pavardė"]
["5.4.8","Pareigybės pavadinimas","Darbuotojo vardas pavardė","val.",null,{"$f":"IFERROR(ROUND(AVERAGE(K101:K105),2),\"0\")","v":"0"},{"$f":"ROUND(E101*F101,2)","v":0},{"$f":"ROUND(G101*$D$7,2)","v":0}]
[null,null,"Darbuotojo vardas pavardė"]
[null,null,"Darbuotojo vardas pavardė"]
[null,null,"Darbuotojo vardas pavardė"]
[null,null,"Darbuotojo vardas pavardė"]
["5.4.9","Pareigybės pavadinimas","Darbuotojo vardas pavardė","val.",null,{"$f":"IFERROR(ROUND(AVERAGE(K106:K110),2),\"0\")","v":"0"},{"$f":"ROUND(E106*F106,2)","v":0},{"$f":"ROUND(G106*$D$7,2)","v":0}]
[null,null,"Darbuotojo vardas pavardė"]
[null,null,"Darbuotojo vardas pavardė"]
[null,null,"Darbuotojo vardas pavardė"]
[null,null,"Darbuotojo vardas pavardė"]
["5.4.10","Pareigybės pavadinimas","Darbuotojo vardas pavardė","val.",null,{"$f":"IFERROR(ROUND(AVERAGE(K111:K115),2),\"0\")","v":"0"},{"$f":"ROUND(E111*F111,2)","v":0},{"$f":"ROUND(G111*$D$7,2)","v":0}]
[null,null,"Darbuotojo vardas pavardė"]
[null,null,"Darbuotojo vardas pavardė"]
[null,null,"Darbuotojo vardas pavardė"]
[null,null,"Darbuotojo vardas pavardė"]
["5.5","Projektą vykdančio personalo komandiruočių išlaidos",null,null,null,null,{"$f":"SUM(G117,G124,G131,G138,G145,G152,G159,G166,G173,G180)","v":0},{"$f":"SUM(H117,H124,H131,H138,H145,H152,H159,H166,H173,H180)","v":0}]
["5.5.1","Komandiruotės pavadinimas, vieta, trukmė dienomis, vykstančių asmenų skaičius","Iš viso komandiruotei",null,null,null,{"$f":"SUM(G118:G123)","v":0},{"$f":"ROUND(G117*$D$7,2)","v":0}]
[null,null,"Dienpinigiai",null,null,null,{"$f":"ROUND(E118*F118,2)","v":0}]
[null,null,"Gyvenamojo ploto nuoma",null,null,null,0]
[null,null,"Kelionės išlaidos",null,null,null,0]
[null,null,"Dalyvavimo mokestis",null,null,null,0]
[null,null,"Kitos išlaidų pavadinimas",null,null,null,0]
[null,null,"Kitos išlaidų pavadinimas",null,null,null,0]
["5.5.2","Komandiruotės pavadinimas, vieta, trukmė dienomis, vykstančių asmenų skaičius","Iš viso komandiruotei",null,null,null,{"$f":"SUM(G125:G130)","v":0},{"$f":"ROUND(G124*$D$7,2)","v":0}]
[null,null,"Dienpinigiai",null,null,null,{"$f":"ROUND(E125*F125,2)","v":0}]
[null,null,"Gyvenamojo ploto nuoma",null,null,null,0]
[null,null,"Kelionės išlaidos",null,null,null,0]
[null,null,"Dalyvavimo mokestis",null,null,null,0]
[null,null,"Kitos išlaidų pavadinimas",null,null,null,0]
[null,null,"Kitos išlaidų pavadinimas",null,null,null,0]
["5.5.3","Komandiruotės pavadinimas, vieta, trukmė dienomis, vykstančių asmenų skaičius","Iš viso komandiruotei",null,null,null,{"$f":"SUM(G132:G137)","v":0},{"$f":"ROUND(G131*$D$7,2)","v":0}]
[null,null,"Dienpinigiai",null,null,null,{"$f":"ROUND(E132*F132,2)","v":0}]
[null,null,"Gyvenamojo ploto nuoma",null,null,null,0]
[null,null,"Kelionės išlaidos",null,null,null,0]
[null,null,"Dalyvavimo mokestis",null,null,null,0]
[null,null,"Kitos išlaidų pavadinimas",null,null,null,0]
[null,null,"Kitos išlaidų pavadinimas",null,null,null,0]
["5.5.4","Komandiruotės pavadinimas, vieta, trukmė dienomis, vykstančių asmenų skaičius","Iš viso komandiruotei",null,null,null,{"$f":"SUM(G139:G144)","v":0},{"$f":"ROUND(G138*$D$7,2)","v":0}]
[null,null,"Dienpinigiai",null,null,null,{"$f":"ROUND(E139*F139,2)","v":0}]
[null,null,"Gyvenamojo ploto nuoma",null,null,null,0]
[null,null,"Kelionės išlaidos",null,null,null,0]
[null,null,"Dalyvavimo mokestis",null,null,null,0]
[null,null,"Kitos išlaidų pavadinimas",null,null,null,0]
[null,null,"Kitos išlaidų pavadinimas",null,null,null,0]
["5.5.5","Komandiruotės pavadinimas, vieta, trukmė dienomis, vykstančių asmenų skaičius","Iš viso komandiruotei",null,null,null,{"$f":"SUM(G146:G151)","v":0},{"$f":"ROUND(G145*$D$7,2)","v":0}]
[null,null,"Dienpinigiai",null,null,null,{"$f":"ROUND(E146*F146,2)","v":0}]
[null,null,"Gyvenamojo ploto nuoma",null,null,null,0]
[null,null,"Kelionės išlaidos",null,null,null,0]
[null,null,"Dalyvavimo mokestis",null,null,null,0]
[null,null,"Kitos išlaidų pavadinimas",null,null,null,0]
[null,null,"Kitos išlaidų pavadinimas",null,null,null,0]
["5.5.6","Komandiruotės pavadinimas, vieta, trukmė dienomis, vykstančių asmenų skaičius","Iš viso komandiruotei",null,null,null,{"$f":"SUM(G153:G158)","v":0},{"$f":"ROUND(G152*$D$7,2)","v":0}]
[null,null,"Dienpinigiai",null,null,null,{"$f":"ROUND(E153*F153,2)","v":0}]
[null,null,"Gyvenamojo ploto nuoma",null,null,null,0]
[null,null,"Kelionės išlaidos",null,null,null,0]
[null,null,"Dalyvavimo mokestis",null,null,null,0]
[null,null,"Kitos išlaidų pavadinimas",null,null,null,0]
[null,null,"Kitos išlaidų pavadinimas",null,null,null,0]
["5.5.7","Komandiruotės pavadinimas, vieta, trukmė dienomis, vykstančių asmenų skaičius","Iš viso komandiruotei",null,null,null,{"$f":"SUM(G160:G165)","v":0},{"$f":"ROUND(G159*$D$7,2)","v":0}]
[null,null,"Dienpinigiai",null,null,null,{"$f":"ROUND(E160*F160,2)","v":0}]
[null,null,"Gyvenamojo ploto nuoma",null,null,null,0]
[null,null,"Kelionės išlaidos",null,null,null,0]
[null,null,"Dalyvavimo mokestis",null,null,null,0]
[null,null,"Kitos išlaidų pavadinimas",null,null,null,0]
[null,null,"Kitos išlaidų pavadinimas",null,null,null,0]
["5.5.8","Komandiruotės pavadinimas, vieta, trukmė dienomis, vykstančių asmenų skaičius","Iš viso komandiruotei",null,null,null,{"$f":"SUM(G167:G172)","v":0},{"$f":"ROUND(G166*$D$7,2)","v":0}]
[null,null,"Dienpinigiai",null,null,null,{"$f":"ROUND(E167*F167,2)","v":0}]
[null,null,"Gyvenamojo ploto nuoma",null,null,null,0]
[null,null,"Kelionės išlaidos",null,null,null,0]
[null,null,"Dalyvavimo mokestis",null,null,null,0]
[null,null,"Kitos išlaidų pavadinimas",null,null,null,0]
[null,null,"Kitos išlaidų pavadinimas",null,null,null,0]
["5.5.9","Komandiruotės pavadinimas, vieta, trukmė dienomis, vykstančių asmenų skaičius","Iš viso komandiruotei",null,null,null,{"$f":"SUM(G174:G179)","v":0},{"$f":"ROUND(G173*$D$7,2)","v":0}]
[null,null,"Dienpinigiai",null,null,null,{"$f":"ROUND(E174*F174,2)","v":0}]
[null,null,"Gyvenamojo ploto nuoma",null,null,null,0]
[null,null,"Kelionės išlaidos",null,null,null,0]
[null,null,"Dalyvavimo mokestis",null,null,null,0]
[null,null,"Kitos išlaidų pavadinimas",null,null,null,0]
[null,null,"Kitos išlaidų pavadinimas",null,null,null,0]
["5.5.10","Komandiruotės pavadinimas, vieta, trukmė dienomis, vykstančių asmenų skaičius","Iš viso komandiruotei",null,null,null,{"$f":"SUM(G181:G186)","v":0},{"$f":"ROUND(G180*$D$7,2)","v":0}]
[null,null,"Dienpinigiai",null,null,null,{"$f":"ROUND(E181*F181,2)","v":0}]
[null,null,"Gyvenamojo ploto nuoma",null,null,null,0]
[null,null,"Kelionės išlaidos",null,null,null,0]
[null,null,"Dalyvavimo mokestis",null,null,null,0]
[null,null,"Kitos išlaidų pavadinimas",null,null,null,0]
[null,null,"Kitos išlaidų pavadinimas",null,null,null,0]
["Iš viso tinkamų finansuoti išlaidų:",null,null,null,null,null,{"$f":"G10+G21","v":0},{"$f":"H10+H21","v":0}]

{"sheet":"9","index":11,"n_rows":187,"n_cols":19,"rows_kept":187,"cut":false,"hidden":false,"merged":[[151,0,157,0],[151,1,157,1],[151,8,157,8],[158,0,164,0],[158,1,164,1],[158,8,164,8],[137,0,143,0],[137,1,143,1],[137,8,143,8],[144,0,150,0],[144,1,150,1],[144,8,150,8],[179,0,185,0],[179,1,185,1],[179,8,185,8],[186,0,186,5],[165,0,171,0],[165,1,171,1],[165,8,171,8],[172,0,178,0],[172,1,178,1],[172,8,178,8],[123,1,129,1],[123,8,129,8],[130,0,136,0],[130,1,136,1],[130,8,136,8],[110,7,114,7],[110,8,114,8],[115,1,115,5],[116,0,122,0],[116,1,122,1],[116,8,122,8],[110,0,114,0],[110,1,114,1],[110,3,114,3],[110,4,114,4],[110,5,114,5],[110,6,114,6],[123,0,129,0],[100,7,104,7],[100,8,104,8],[105,0,109,0],[105,1,109,1],[105,3,109,3],[105,4,109,4],[105,5,109,5],[105,6,109,6],[105,7,109,7],[105,8,109,8],[100,0,104,0],[100,1,104,1],[100,3,104,3],[100,4,104,4],[100,5,104,5],[100,6,104,6],[90,7,94,7],[90,8,94,8],[95,0,99,0],[95,1,99,1],[95,3,99,3],[95,4,99,4],[95,5,99,5],[95,6,99,6],[95,7,99,7],[95,8,99,8],[90,0,94,0],[90,1,94,1],[90,3,94,3],[90,4,94,4],[90,5,94,5],[90,6,94,6],[85,0,89,0],[85,1,89,1],[85,3,89,3],[85,4,89,4],[85,5,89,5],[85,6,89,6],[85,7,89,7],[85,8,89,8],[80,0,84,0],[80,1,84,1],[80,3,84,3],[80,4,84,4],[80,5,84,5],[80,6,84,6],[75,0,79,0],[75,1,79,1],[75,3,79,3],[75,4,79,4],[75,5,79,5],[75,6,79,6],[75,7,79,7],[75,8,79,8],[80,7,84,7],[80,8,84,8],[65,6,69,6],[65,7,69,7],[65,8,69,8],[70,0,74,0],[70,1,74,1],[70,3,74,3],[70,4,74,4],[70,5,74,5],[70,6,74,6],[70,7,74,7],[70,8,74,8],[62,1,62,2],[63,1,63,2],[64,1,64,5],[65,0,69,0],[65,1,69,1],[65,3,69,3],[65,4,69,4],[65,5,69,5],[56,1,56,2],[57,1,57,2],[58,1,58,2],[59,1,59,2],[60,1,60,2],[61,1,61,2],[50,1,50,2],[51,1,51,2],[52,1,52,2],[53,1,53,2],[54,1,54,2],[55,1,55,2],[44,1,44,2],[45,1,45,2],[46,1,46,2],[47,1,47,2],[48,1,48,5],[49,1,49,2],[38,1,38,2],[39,1,39,2],[40,1,40,2],[41,1,41,2],[42,1,42,2],[43,1,43,2],[32,1,32,5],[33,1,33,2],[34,1,34,2],[35,1,35,2],[36,1,36,2],[37,1,37,2],[26,1,26,2],[27,1,27,2],[28,1,28,2],[29,1,29,2],[30,1,30,2],[31,1,31,2],[20,1,20,5],[21,1,21,5],[22,1,22,2],[23,1,23,2],[24,1,24,2],[25,1,25,2],[16,1,16,2],[17,1,17,2],[18,1,18,2],[19,1,19,2],[8,1,8,2],[9,1,9,5],[10,1,10,2],[11,1,11,2],[12,1,12,2],[13,1,13,2],[0,3,0,8],[2,0,2,2],[2,3,2,8],[3,3,3,4],[3,5,3,6],[4,0,4,2],[4,3,4,8],[14,1,14,2],[15,1,15,2],[5,3,5,8]]}
[null,null,"Pasirinkite veiklos tipą:"]
[null,null,"Fizinio rodiklio Nr.:"]
["Fizinio rodiklio pavadinimas:"]
[null,null,"Fizinio rodiklio matavimo vnt.:",null,null,"Fizinio rodiklio vnt. skaičius:"]
["Juridinis asmuo (pareiškėjas, partneris), atsakingas už fizinį rodiklį:"]
[null,null,"Vykdytojo tipas:"]
[null,null,"Finansavimo intensyvumas:",null,null,null,"Pasirinkite biudžeto išlaidų kategoriją:","Visos"]
[]
["Eil. Nr.","Išlaidų kategorijos pavadinimas",null,"Matavimo vnt.","Kiekis","Vieneto kaina be PVM, Eur","Tinkamų finansuoti išlaidų suma be PVM, Eur","Finansavimo suma, Eur","Išlaidų pagrindimo dokumentų pavadinimas, data ir Nr."]
[4,"ĮRANGA, ĮRENGINIAI IR KT. TURTAS (techninių žinių ir išradimų patentų arba teisių pagal licencijų sutartį įsigijimo išlaidos)",null,null,null,null,{"$f":"SUM(G11:G20)","v":0},{"$f":"SUM(H11:H20)","v":0}]
["4.1","Išlaidų pavadinimas",null,null,null,null,{"$f":"ROUND(E11*F11,2)","v":0},{"$f":"ROUND(G11*$D$7,2)","v":0}]
["4.2","Išlaidų pavadinimas",null,null,null,null,0,0]
["4.3","Išlaidų pavadinimas",null,null,null,null,0,0]
["4.4","Išlaidų pavadinimas",null,null,null,null,0,0]
["4.5","Išlaidų pavadinimas",null,null,null,null,0,0]
["4.6","Išlaidų pavadinimas",null,null,null,null,0,0]
["4.7","Išlaidų pavadinimas",null,null,null,null,0,0]
["4.8","Išlaidų pavadinimas",null,null,null,null,0,0]
["4.9","Išlaidų pavadinimas",null,null,null,null,0,0]
["4.10","Išlaidų pavadinimas",null,null,null,null,0,0]
[5,"PROJEKTO VYKDYMAS",null,null,null,null,{"$f":"G22+G33+G49+G65+G116","v":0},{"$f":"H22+H33+H49+H65+H116","v":0}]
["5.1","MTEP paslaugos",null,null,null,null,{"$f":"SUM(G23:G32)","v":0},{"$f":"SUM(H23:H32)","v":0}]
["5.1.1","Paslaugos pavadinimas",null,null,null,null,{"$f":"ROUND(E23*F23,2)","v":0},0]
["5.1.2","Paslaugos pavadinimas",null,null,null,null,0,0]
["5.1.3","Paslaugos pavadinimas",null,null,null,null,0,0]
["5.1.4","Paslaugos pavadinimas",null,null,null,null,0,0]
["5.1.5","Paslaugos pavadinimas",null,null,null,null,0,0]
["5.1.6","Paslaugos pavadinimas",null,null,null,null,0,0]
["5.1.7","Paslaugos pavadinimas",null,null,null,null,0,0]
["5.1.8","Paslaugos pavadinimas",null,null,null,null,0,0]
["5.1.9","Paslaugos pavadinimas",null,null,null,null,0,0]
["5.1.10","Paslaugos pavadinimas",null,null,null,null,0,0]
["5.2","Medžiagos, mažavertis inventorius, atsargos ir pan. produktai, priskirtini trumpalaikiam turtui ir tiesiogiai susiję su MTEP veikla",null,null,null,null,{"$f":"SUM(G34:G50)","v":0},{"$f":"SUM(H34:H50)","v":0}]
["5.2.1","Išlaidų pavadinimas",null,null,null,null,{"$f":"ROUND(E34*F34,2)","v":0},{"$f":"ROUND(G34*$D$7,2)","v":0}]
["5.2.2","Išlaidų pavadinimas",null,null,null,null,0,0]
["5.2.3","Išlaidų pavadinimas",null,null,null,null,0,0]
["5.2.4","Išlaidų pavadinimas",null,null,null,null,0,0]
["5.2.5","Išlaidų pavadinimas",null,null,null,null,0,0]
["5.2.6","Išlaidų pavadinimas",null,null,null,null,0,0]
["5.2.7","Išlaidų pavadinimas",null,null,null,null,0,0]
["5.2.8","Išlaidų pavadinimas",null,null,null,null,0,0]
["5.2.9","Išlaidų pavadinimas",null,null,null,null,0,0]
["5.2.10","Išlaidų pavadinimas",null,null,null,null,0,0]
["5.2.11","Išlaidų pavadinimas",null,null,null,null,0,0]
["5.2.12","Išlaidų pavadinimas",null,null,null,null,0,0]
["5.2.13","Išlaidų pavadinimas",null,null,null,null,0,0]
["5.2.14","Išlaidų pavadinimas",null,null,null,null,0,0]
["5.2.15","Išlaidų pavadinimas",null,null,null,null,0,0]
["5.3","Projekto MTEP veikloms naudojamo ilgalaikio materialaus turto (įrangos, prietaisų, įrankių, įrenginių, mašinų ir įrengimų, pastatų ir (ar) patalpų), nusidėvėjimo sąnaudos, jeigu šiam turtui įsigyti nebuvo naudojamos viešosios (įskaitant ir kitų valstybių) lėšos",null,null,null,null,{"$f":"SUM(G50:G64)","v":0},{"$f":"SUM(H50:H64)","v":0},null,null,"Turto įvedimo į eksploataciją data","Turto įsigijimo vertė, Eur","Turto nudėvėjimo, amortizacijos laikotarpis, mėn.","Numatoma turto likutinė vertė, Eur","1 mėn. nudėvėjimo, amortizacijos suma, Eur","Turto naudojamo projekto reikmėms laikas, mėn.","Turto panaudojimo projekto reikmėms dalis (proc.)","Projektui priskirta turto nusidėvėjimo, amortizacijos suma per projekto laikotarpį, Eur"]
["5.3.1","Turtas, kurio nusidėvėjimą, amortizaciją prašoma finansuoti",null,null,1,{"$f":"R50","v":0},{"$f":"ROUND(E50*F50,2)","v":0},0,null,null,null,null,null,null,{"$f":"IFERROR(ROUND((L50-N50)/M50,2),\"0\")","v":"0"},null,null,{"$f":"O50*P50*Q50","v":0},{"$f":"IF(K50=0,\" \",IF(K50+(M50*30.5)<TODAY(),\"DĖMESIO! Patikrinkite, ar nurodytas turtas dar nėra nudėvėtas, amortizuotas\",\" \"))","v":" "}]
["5.3.2","Turtas, kurio nusidėvėjimą, amortizaciją prašoma finansuoti",null,null,1,{"$f":"R51","v":0},0,0,null,null,null,null,null,null,{"$f":"IFERROR(ROUND((L51-N51)/M51,2),\"0\")","v":"0"},null,null,{"$f":"O51*P51*Q51","v":0},{"$f":"IF(K51=0,\" \",IF(K51+(M51*30.5)<TODAY(),\"DĖMESIO! Patikrinkite, ar nurodytas turtas dar nėra nudėvėtas, amortizuotas\",\" \"))","v":" "}]
["5.3.3","Turtas, kurio nusidėvėjimą, amortizaciją prašoma finansuoti",null,null,1,0,0,0,null,null,null,null,null,null,"0",null,null,0," "]
["5.3.4","Turtas, kurio nusidėvėjimą, amortizaciją prašoma finansuoti",null,null,1,0,0,0,null,null,null,null,null,null,"0",null,null,0," "]
["5.3.5","Turtas, kurio nusidėvėjimą, amortizaciją prašoma finansuoti",null,null,1,0,0,0,null,null,null,null,null,null,"0",null,null,0," "]
["5.3.6","Turtas, kurio nusidėvėjimą, amortizaciją prašoma finansuoti",null,null,1,0,0,0,null,null,null,null,null,null,"0",null,null,0," "]
["5.3.7","Turtas, kurio nusidėvėjimą, amortizaciją prašoma finansuoti",null,null,1,0,0,0,null,null,null,null,null,null,"0",null,null,0," "]
["5.3.8","Turtas, kurio nusidėvėjimą, amortizaciją prašoma finansuoti",null,null,1,0,0,0,null,null,null,null,null,null,"0",null,null,0," "]
["5.3.9","Turtas, kurio nusidėvėjimą, amortizaciją prašoma finansuoti",null,null,1,0,0,0,null,null,null,null,null,null,"0",null,null,0," "]
["5.3.10","Turtas, kurio nusidėvėjimą, amortizaciją prašoma finansuoti",null,null,1,0,0,0,null,null,null,null,null,null,"0",null,null,0," "]
["5.3.11","Turtas, kurio nusidėvėjimą, amortizaciją prašoma finansuoti",null,null,1,0,0,0,null,null,null,null,null,null,"0",null,null,0," "]
["5.3.12","Turtas, kurio nusidėvėjimą, amortizaciją prašoma finansuoti",null,null,1,0,0,0,null,null,null,null,null,null,"0",null,null,0," "]
["5.3.13","Turtas, kurio nusidėvėjimą, amortizaciją prašoma finansuoti",null,null,1,0,0,0,null,null,null,null,null,null,"0",null,null,0," "]
["5.3.14","Turtas, kurio nusidėvėjimą, amortizaciją prašoma finansuoti",null,null,1,0,0,0,null,null,null,null,null,null,"0",null,null,0," "]
["5.3.15","Turtas, kurio nusidėvėjimą, amortizaciją prašoma finansuoti",null,null,1,0,0,0,null,null,null,null,null,null,"0",null,null,0," "]
["5.4","Projektą vykdančio personalo darbo užmokestis ir išlaidos su darbo santykiais susijusiems darbdavio įsipareigojimams",null,null,null,null,{"$f":"SUM(G66:G115)","v":0},{"$f":"SUM(H66:H115)","v":0},null,null,"Faktiškai gaunamas darbo užmokesti už 1 valandą pagal  pastarųjų 6 mėn. vidurkį, Eur"]
["5.4.1","Pareigybės pavadinimas","Darbuotojo vardas pavardė","val.",null,{"$f":"IFERROR(ROUND(AVERAGE(K66:K70),2),\"0\")","v":"0"},{"$f":"ROUND(E66*F66,2)","v":0},{"$f":"ROUND(G66*$D$7,2)","v":0}]
[null,null,"Darbuotojo vardas pavardė"]
[null,null,"Darbuotojo vardas pavardė"]
[null,null,"Darbuotojo vardas pavardė"]
[null,null,"Darbuotojo vardas pavardė"]
["5.4.2","Pareigybės pavadinimas","Darbuotojo vardas pavardė","val.",null,{"$f":"IFERROR(ROUND(AVERAGE(K71:K75),2),\"0\")","v":"0"},{"$f":"ROUND(E71*F71,2)","v":0},{"$f":"ROUND(G71*$D$7,2)","v":0}]
[null,null,"Darbuotojo vardas pavardė"]
[null,null,"Darbuotojo vardas pavardė"]
[null,null,"Darbuotojo vardas pavardė"]
[null,null,"Darbuotojo vardas pavardė"]
["5.4.3","Pareigybės pavadinimas","Darbuotojo vardas pavardė","val.",null,{"$f":"IFERROR(ROUND(AVERAGE(K76:K80),2),\"0\")","v":"0"},{"$f":"ROUND(E76*F76,2)","v":0},{"$f":"ROUND(G76*$D$7,2)","v":0}]
[null,null,"Darbuotojo vardas pavardė"]
[null,null,"Darbuotojo vardas pavardė"]
[null,null,"Darbuotojo vardas pavardė"]
[null,null,"Darbuotojo vardas pavardė"]
["5.4.4","Pareigybės pavadinimas","Darbuotojo vardas pavardė","val.",null,{"$f":"IFERROR(ROUND(AVERAGE(K81:K85),2),\"0\")","v":"0"},{"$f":"ROUND(E81*F81,2)","v":0},{"$f":"ROUND(G81*$D$7,2)","v":0}]
[null,null,"Darbuotojo vardas pavardė"]
[null,null,"Darbuotojo vardas pavardė"]
[null,null,"Darbuotojo vardas pavardė"]
[null,null,"Darbuotojo vardas pavardė"]
["5.4.5","Pareigybės pavadinimas","Darbuotojo vardas pavardė","val.",null,{"$f":"IFERROR(ROUND(AVERAGE(K86:K90),2),\"0\")","v":"0"},{"$f":"ROUND(E86*F86,2)","v":0},{"$f":"ROUND(G86*$D$7,2)","v":0}]
[null,null,"Darbuotojo vardas pavardė"]
[null,null,"Darbuotojo vardas pavardė"]
[null,null,"Darbuotojo vardas pavardė"]
[null,null,"Darbuotojo vardas pavardė"]
["5.4.6","Pareigybės pavadinimas","Darbuotojo vardas pavardė","val.",null,{"$f":"IFERROR(ROUND(AVERAGE(K91:K95),2),\"0\")","v":"0"},{"$f":"ROUND(E91*F91,2)","v":0},{"$f":"ROUND(G91*$D$7,2)","v":0}]
[null,null,"Darbuotojo vardas pavardė"]
[null,null,"Darbuotojo vardas pavardė"]
[null,null,"Darbuotojo vardas pavardė"]
[null,null,"Darbuotojo vardas pavardė"]
["5.4.7","Pareigybės pavadinimas","Darbuotojo vardas pavardė","val.",null,{"$f":"IFERROR(ROUND(AVERAGE(K96:K100),2),\"0\")","v":"0"},{"$f":"ROUND(E96*F96,2)","v":0},{"$f":"ROUND(G96*$D$7,2)","v":0}]
[null,null,"Darbuotojo vardas pavardė"]
[null,null,"Darbuotojo vardas pavardė"]
[null,null,"Darbuotojo vardas pavardė"]
[null,null,"Darbuotojo vardas pavardė"]
["5.4.8","Pareigybės pavadinimas","Darbuotojo vardas pavardė","val.",null,{"$f":"IFERROR(ROUND(AVERAGE(K101:K105),2),\"0\")","v":"0"},{"$f":"ROUND(E101*F101,2)","v":0},{"$f":"ROUND(G101*$D$7,2)","v":0}]
[null,null,"Darbuotojo vardas pavardė"]
[null,null,"Darbuotojo vardas pavardė"]
[null,null,"Darbuotojo vardas pavardė"]
[null,null,"Darbuotojo vardas pavardė"]
["5.4.9","Pareigybės pavadinimas","Darbuotojo vardas pavardė","val.",null,{"$f":"IFERROR(ROUND(AVERAGE(K106:K110),2),\"0\")","v":"0"},{"$f":"ROUND(E106*F106,2)","v":0},{"$f":"ROUND(G106*$D$7,2)","v":0}]
[null,null,"Darbuotojo vardas pavardė"]
[null,null,"Darbuotojo vardas pavardė"]
[null,null,"Darbuotojo vardas pavardė"]
[null,null,"Darbuotojo vardas pavardė"]
["5.4.10","Pareigybės pavadinimas","Darbuotojo vardas pavardė","val.",null,{"$f":"IFERROR(ROUND(AVERAGE(K111:K115),2),\"0\")","v":"0"},{"$f":"ROUND(E111*F111,2)","v":0},{"$f":"ROUND(G111*$D$7,2)","v":0}]
[null,null,"Darbuotojo vardas pavardė"]
[null,null,"Darbuotojo vardas pavardė"]
[null,null,"Darbuotojo vardas pavardė"]
[null,null,"Darbuotojo vardas pavardė"]
["5.5","Projektą vykdančio personalo komandiruočių išlaidos",null,null,null,null,{"$f":"SUM(G117,G124,G131,G138,G145,G152,G159,G166,G173,G180)","v":0},{"$f":"SUM(H117,H124,H131,H138,H145,H152,H159,H166,H173,H180)","v":0}]
["5.5.1","Komandiruotės pavadinimas, vieta, trukmė dienomis, vykstančių asmenų skaičius","Iš viso komandiruotei",null,null,null,{"$f":"SUM(G118:G123)","v":0},{"$f":"ROUND(G117*$D$7,2)","v":0}]
[null,null,"Dienpinigiai",null,null,null,{"$f":"ROUND(E118*F118,2)","v":0}]
[null,null,"Gyvenamojo ploto nuoma",null,null,null,0]
[null,null,"Kelionės išlaidos",null,null,null,0]
[null,null,"Dalyvavimo mokestis",null,null,null,0]
[null,null,"Kitos išlaidų pavadinimas",null,null,null,0]
[null,null,"Kitos išlaidų pavadinimas",null,null,null,0]
["5.5.2","Komandiruotės pavadinimas, vieta, trukmė dienomis, vykstančių asmenų skaičius","Iš viso komandiruotei",null,null,null,{"$f":"SUM(G125:G130)","v":0},{"$f":"ROUND(G124*$D$7,2)","v":0}]
[null,null,"Dienpinigiai",null,null,null,{"$f":"ROUND(E125*F125,2)","v":0}]
[null,null,"Gyvenamojo ploto nuoma",null,null,null,0]
[null,null,"Kelionės išlaidos",null,null,null,0]
[null,null,"Dalyvavimo mokestis",null,null,null,0]
[null,null,"Kitos išlaidų pavadinimas",null,null,null,0]
[null,null,"Kitos išlaidų pavadinimas",null,null,null,0]
["5.5.3","Komandiruotės pavadinimas, vieta, trukmė dienomis, vykstančių asmenų skaičius","Iš viso komandiruotei",null,null,null,{"$f":"SUM(G132:G137)","v":0},{"$f":"ROUND(G131*$D$7,2)","v":0}]
[null,null,"Dienpinigiai",null,null,null,{"$f":"ROUND(E132*F132,2)","v":0}]
[null,null,"Gyvenamojo ploto nuoma",null,null,null,0]
[null,null,"Kelionės išlaidos",null,null,null,0]
[null,null,"Dalyvavimo mokestis",null,null,null,0]
[null,null,"Kitos išlaidų pavadinimas",null,null,null,0]
[null,null,"Kitos išlaidų pavadinimas",null,null,null,0]
["5.5.4","Komandiruotės pavadinimas, vieta, trukmė dienomis, vykstančių asmenų skaičius","Iš viso komandiruotei",null,null,null,{"$f":"SUM(G139:G144)","v":0},{"$f":"ROUND(G138*$D$7,2)","v":0}]
[null,null,"Dienpinigiai",null,null,null,{"$f":"ROUND(E139*F139,2)","v":0}]
[null,null,"Gyvenamojo ploto nuoma",null,null,null,0]
[null,null,"Kelionės išlaidos",null,null,null,0]
[null,null,"Dalyvavimo mokestis",null,null,null,0]
[null,null,"Kitos išlaidų pavadinimas",null,null,null,0]
[null,null,"Kitos išlaidų pavadinimas",null,null,null,0]
["5.5.5","Komandiruotės pavadinimas, vieta, trukmė dienomis, vykstančių asmenų skaičius","Iš viso komandiruotei",null,null,null,{"$f":"SUM(G146:G151)","v":0},{"$f":"ROUND(G145*$D$7,2)","v":0}]
[null,null,"Dienpinigiai",null,null,null,{"$f":"ROUND(E146*F146,2)","v":0}]
[null,null,"Gyvenamojo ploto nuoma",null,null,null,0]
[null,null,"Kelionės išlaidos",null,null,null,0]
[null,null,"Dalyvavimo mokestis",null,null,null,0]
[null,null,"Kitos išlaidų pavadinimas",null,null,null,0]
[null,null,"Kitos išlaidų pavadinimas",null,null,null,0]
["5.5.6","Komandiruotės pavadinimas, vieta, trukmė dienomis, vykstančių asmenų skaičius","Iš viso komandiruotei",null,null,null,{"$f":"SUM(G153:G158)","v":0},{"$f":"ROUND(G152*$D$7,2)","v":0}]
[null,null,"Dienpinigiai",null,null,null,{"$f":"ROUND(E153*F153,2)","v":0}]
[null,null,"Gyvenamojo ploto nuoma",null,null,null,0]
[null,null,"Kelionės išlaidos",null,null,null,0]
[null,null,"Dalyvavimo mokestis",null,null,null,0]
[null,null,"Kitos išlaidų pavadinimas",null,null,null,0]
[null,null,"Kitos išlaidų pavadinimas",null,null,null,0]
["5.5.7","Komandiruotės pavadinimas, vieta, trukmė dienomis, vykstančių asmenų skaičius","Iš viso komandiruotei",null,null,null,{"$f":"SUM(G160:G165)","v":0},{"$f":"ROUND(G159*$D$7,2)","v":0}]
[null,null,"Dienpinigiai",null,null,null,{"$f":"ROUND(E160*F160,2)","v":0}]
[null,null,"Gyvenamojo ploto nuoma",null,null,null,0]
[null,null,"Kelionės išlaidos",null,null,null,0]
[null,null,"Dalyvavimo mokestis",null,null,null,0]
[null,null,"Kitos išlaidų pavadinimas",null,null,null,0]
[null,null,"Kitos išlaidų pavadinimas",null,null,null,0]
["5.5.8","Komandiruotės pavadinimas, vieta, trukmė dienomis, vykstančių asmenų skaičius","Iš viso komandiruotei",null,null,null,{"$f":"SUM(G167:G172)","v":0},{"$f":"ROUND(G166*$D$7,2)","v":0}]
[null,null,"Dienpinigiai",null,null,null,{"$f":"ROUND(E167*F167,2)","v":0}]
[null,null,"Gyvenamojo ploto nuoma",null,null,null,0]
[null,null,"Kelionės išlaidos",null,null,null,0]
[null,null,"Dalyvavimo mokestis",null,null,null,0]
[null,null,"Kitos išlaidų pavadinimas",null,null,null,0]
[null,null,"Kitos išlaidų pavadinimas",null,null,null,0]
["5.5.9","Komandiruotės pavadinimas, vieta, trukmė dienomis, vykstančių asmenų skaičius","Iš viso komandiruotei",null,null,null,{"$f":"SUM(G174:G179)","v":0},{"$f":"ROUND(G173*$D$7,2)","v":0}]
[null,null,"Dienpinigiai",null,null,null,{"$f":"ROUND(E174*F174,2)","v":0}]
[null,null,"Gyvenamojo ploto nuoma",null,null,null,0]
[null,null,"Kelionės išlaidos",null,null,null,0]
[null,null,"Dalyvavimo mokestis",null,null,null,0]
[null,null,"Kitos išlaidų pavadinimas",null,null,null,0]
[null,null,"Kitos išlaidų pavadinimas",null,null,null,0]
["5.5.10","Komandiruotės pavadinimas, vieta, trukmė dienomis, vykstančių asmenų skaičius","Iš viso komandiruotei",null,null,null,{"$f":"SUM(G181:G186)","v":0},{"$f":"ROUND(G180*$D$7,2)","v":0}]
[null,null,"Dienpinigiai",null,null,null,{"$f":"ROUND(E181*F181,2)","v":0}]
[null,null,"Gyvenamojo ploto nuoma",null,null,null,0]
[null,null,"Kelionės išlaidos",null,null,null,0]
[null,null,"Dalyvavimo mokestis",null,null,null,0]
[null,null,"Kitos išlaidų pavadinimas",null,null,null,0]
[null,null,"Kitos išlaidų pavadinimas",null,null,null,0]
["Iš viso tinkamų finansuoti išlaidų:",null,null,null,null,null,{"$f":"G10+G21","v":0},{"$f":"H10+H21","v":0}]

{"sheet":"10","index":12,"n_rows":187,"n_cols":19,"rows_kept":187,"cut":false,"hidden":false,"merged":[[179,0,185,0],[179,1,185,1],[179,8,185,8],[186,0,186,5],[165,0,171,0],[165,1,171,1],[165,8,171,8],[172,0,178,0],[172,1,178,1],[172,8,178,8],[151,0,157,0],[151,1,157,1],[151,8,157,8],[158,0,164,0],[158,1,164,1],[158,8,164,8],[137,0,143,0],[137,1,143,1],[137,8,143,8],[144,0,150,0],[144,1,150,1],[144,8,150,8],[123,0,129,0],[123,1,129,1],[123,8,129,8],[130,0,136,0],[130,1,136,1],[130,8,136,8],[110,7,114,7],[110,8,114,8],[115,1,115,5],[116,0,122,0],[116,1,122,1],[116,8,122,8],[110,0,114,0],[110,1,114,1],[110,3,114,3],[110,4,114,4],[110,5,114,5],[110,6,114,6],[100,7,104,7],[100,8,104,8],[105,0,109,0],[105,1,109,1],[105,3,109,3],[105,4,109,4],[105,5,109,5],[105,6,109,6],[105,7,109,7],[105,8,109,8],[100,0,104,0],[100,1,104,1],[100,3,104,3],[100,4,104,4],[100,5,104,5],[100,6,104,6],[90,7,94,7],[90,8,94,8],[95,0,99,0],[95,1,99,1],[95,3,99,3],[95,4,99,4],[95,5,99,5],[95,6,99,6],[95,7,99,7],[95,8,99,8],[90,0,94,0],[90,1,94,1],[90,3,94,3],[90,4,94,4],[90,5,94,5],[90,6,94,6],[85,0,89,0],[85,1,89,1],[85,3,89,3],[85,4,89,4],[85,5,89,5],[85,6,89,6],[85,7,89,7],[85,8,89,8],[80,0,84,0],[80,1,84,1],[80,3,84,3],[80,4,84,4],[80,5,84,5],[80,6,84,6],[75,0,79,0],[75,1,79,1],[75,3,79,3],[75,4,79,4],[75,5,79,5],[75,6,79,6],[75,7,79,7],[75,8,79,8],[80,7,84,7],[80,8,84,8],[65,6,69,6],[65,7,69,7],[65,8,69,8],[70,0,74,0],[70,1,74,1],[70,3,74,3],[70,4,74,4],[70,5,74,5],[70,6,74,6],[70,7,74,7],[70,8,74,8],[62,1,62,2],[63,1,63,2],[64,1,64,5],[65,0,69,0],[65,1,69,1],[65,3,69,3],[65,4,69,4],[65,5,69,5],[56,1,56,2],[57,1,57,2],[58,1,58,2],[59,1,59,2],[60,1,60,2],[61,1,61,2],[50,1,50,2],[51,1,51,2],[52,1,52,2],[53,1,53,2],[54,1,54,2],[55,1,55,2],[44,1,44,2],[45,1,45,2],[46,1,46,2],[47,1,47,2],[48,1,48,5],[49,1,49,2],[38,1,38,2],[39,1,39,2],[40,1,40,2],[41,1,41,2],[42,1,42,2],[43,1,43,2],[32,1,32,5],[33,1,33,2],[34,1,34,2],[35,1,35,2],[36,1,36,2],[37,1,37,2],[26,1,26,2],[27,1,27,2],[28,1,28,2],[29,1,29,2],[30,1,30,2],[31,1,31,2],[20,1,20,5],[21,1,21,5],[22,1,22,2],[23,1,23,2],[24,1,24,2],[25,1,25,2],[16,1,16,2],[17,1,17,2],[18,1,18,2],[19,1,19,2],[8,1,8,2],[9,1,9,5],[10,1,10,2],[11,1,11,2],[12,1,12,2],[13,1,13,2],[0,3,0,8],[2,0,2,2],[2,3,2,8],[3,3,3,4],[3,5,3,6],[4,0,4,2],[4,3,4,8],[14,1,14,2],[15,1,15,2],[5,3,5,8]]}
[null,null,"Pasirinkite veiklos tipą:"]
[null,null,"Fizinio rodiklio Nr.:"]
["Fizinio rodiklio pavadinimas:"]
[null,null,"Fizinio rodiklio matavimo vnt.:",null,null,"Fizinio rodiklio vnt. skaičius:"]
["Juridinis asmuo (pareiškėjas, partneris), atsakingas už fizinį rodiklį:"]
[null,null,"Vykdytojo tipas:"]
[null,null,"Finansavimo intensyvumas:",null,null,null,"Pasirinkite biudžeto išlaidų kategoriją:","Visos"]
[]
["Eil. Nr.","Išlaidų kategorijos pavadinimas",null,"Matavimo vnt.","Kiekis","Vieneto kaina be PVM, Eur","Tinkamų finansuoti išlaidų suma be PVM, Eur","Finansavimo suma, Eur","Išlaidų pagrindimo dokumentų pavadinimas, data ir Nr."]
[4,"ĮRANGA, ĮRENGINIAI IR KT. TURTAS (techninių žinių ir išradimų patentų arba teisių pagal licencijų sutartį įsigijimo išlaidos)",null,null,null,null,{"$f":"SUM(G11:G20)","v":0},{"$f":"SUM(H11:H20)","v":0}]
["4.1","Išlaidų pavadinimas",null,null,null,null,{"$f":"ROUND(E11*F11,2)","v":0},{"$f":"ROUND(G11*$D$7,2)","v":0}]
["4.2","Išlaidų pavadinimas",null,null,null,null,0,0]
["4.3","Išlaidų pavadinimas",null,null,null,null,0,0]
["4.4","Išlaidų pavadinimas",null,null,null,null,0,0]
["4.5","Išlaidų pavadinimas",null,null,null,null,0,0]
["4.6","Išlaidų pavadinimas",null,null,null,null,0,0]
["4.7","Išlaidų pavadinimas",null,null,null,null,0,0]
["4.8","Išlaidų pavadinimas",null,null,null,null,0,0]
["4.9","Išlaidų pavadinimas",null,null,null,null,0,0]
["4.10","Išlaidų pavadinimas",null,null,null,null,0,0]
[5,"PROJEKTO VYKDYMAS",null,null,null,null,{"$f":"G22+G33+G49+G65+G116","v":0},{"$f":"H22+H33+H49+H65+H116","v":0}]
["5.1","MTEP paslaugos",null,null,null,null,{"$f":"SUM(G23:G32)","v":0},{"$f":"SUM(H23:H32)","v":0}]
["5.1.1","Paslaugos pavadinimas",null,null,null,null,{"$f":"ROUND(E23*F23,2)","v":0},0]
["5.1.2","Paslaugos pavadinimas",null,null,null,null,0,0]
["5.1.3","Paslaugos pavadinimas",null,null,null,null,0,0]
["5.1.4","Paslaugos pavadinimas",null,null,null,null,0,0]
["5.1.5","Paslaugos pavadinimas",null,null,null,null,0,0]
["5.1.6","Paslaugos pavadinimas",null,null,null,null,0,0]
["5.1.7","Paslaugos pavadinimas",null,null,null,null,0,0]
["5.1.8","Paslaugos pavadinimas",null,null,null,null,0,0]
["5.1.9","Paslaugos pavadinimas",null,null,null,null,0,0]
["5.1.10","Paslaugos pavadinimas",null,null,null,null,0,0]
["5.2","Medžiagos, mažavertis inventorius, atsargos ir pan. produktai, priskirtini trumpalaikiam turtui ir tiesiogiai susiję su MTEP veikla",null,null,null,null,{"$f":"SUM(G34:G50)","v":0},{"$f":"SUM(H34:H50)","v":0}]
["5.2.1","Išlaidų pavadinimas",null,null,null,null,{"$f":"ROUND(E34*F34,2)","v":0},{"$f":"ROUND(G34*$D$7,2)","v":0}]
["5.2.2","Išlaidų pavadinimas",null,null,null,null,0,0]
["5.2.3","Išlaidų pavadinimas",null,null,null,null,0,0]
["5.2.4","Išlaidų pavadinimas",null,null,null,null,0,0]
["5.2.5","Išlaidų pavadinimas",null,null,null,null,0,0]
["5.2.6","Išlaidų pavadinimas",null,null,null,null,0,0]
["5.2.7","Išlaidų pavadinimas",null,null,null,null,0,0]
["5.2.8","Išlaidų pavadinimas",null,null,null,null,0,0]
["5.2.9","Išlaidų pavadinimas",null,null,null,null,0,0]
["5.2.10","Išlaidų pavadinimas",null,null,null,null,0,0]
["5.2.11","Išlaidų pavadinimas",null,null,null,null,0,0]
["5.2.12","Išlaidų pavadinimas",null,null,null,null,0,0]
["5.2.13","Išlaidų pavadinimas",null,null,null,null,0,0]
["5.2.14","Išlaidų pavadinimas",null,null,null,null,0,0]
["5.2.15","Išlaidų pavadinimas",null,null,null,null,0,0]
["5.3","Projekto MTEP veikloms naudojamo ilgalaikio materialaus turto (įrangos, prietaisų, įrankių, įrenginių, mašinų ir įrengimų, pastatų ir (ar) patalpų), nusidėvėjimo sąnaudos, jeigu šiam turtui įsigyti nebuvo naudojamos viešosios (įskaitant ir kitų valstybių) lėšos",null,null,null,null,{"$f":"SUM(G50:G64)","v":0},{"$f":"SUM(H50:H64)","v":0},null,null,"Turto įvedimo į eksploataciją data","Turto įsigijimo vertė, Eur","Turto nudėvėjimo, amortizacijos laikotarpis, mėn.","Numatoma turto likutinė vertė, Eur","1 mėn. nudėvėjimo, amortizacijos suma, Eur","Turto naudojamo projekto reikmėms laikas, mėn.","Turto panaudojimo projekto reikmėms dalis (proc.)","Projektui priskirta turto nusidėvėjimo, amortizacijos suma per projekto laikotarpį, Eur"]
["5.3.1","Turtas, kurio nusidėvėjimą, amortizaciją prašoma finansuoti",null,null,1,{"$f":"R50","v":0},{"$f":"ROUND(E50*F50,2)","v":0},0,null,null,null,null,null,null,{"$f":"IFERROR(ROUND((L50-N50)/M50,2),\"0\")","v":"0"},null,null,{"$f":"O50*P50*Q50","v":0},{"$f":"IF(K50=0,\" \",IF(K50+(M50*30.5)<TODAY(),\"DĖMESIO! Patikrinkite, ar nurodytas turtas dar nėra nudėvėtas, amortizuotas\",\" \"))","v":" "}]
["5.3.2","Turtas, kurio nusidėvėjimą, amortizaciją prašoma finansuoti",null,null,1,{"$f":"R51","v":0},0,0,null,null,null,null,null,null,{"$f":"IFERROR(ROUND((L51-N51)/M51,2),\"0\")","v":"0"},null,null,{"$f":"O51*P51*Q51","v":0},{"$f":"IF(K51=0,\" \",IF(K51+(M51*30.5)<TODAY(),\"DĖMESIO! Patikrinkite, ar nurodytas turtas dar nėra nudėvėtas, amortizuotas\",\" \"))","v":" "}]
["5.3.3","Turtas, kurio nusidėvėjimą, amortizaciją prašoma finansuoti",null,null,1,0,0,0,null,null,null,null,null,null,"0",null,null,0," "]
["5.3.4","Turtas, kurio nusidėvėjimą, amortizaciją prašoma finansuoti",null,null,1,0,0,0,null,null,null,null,null,null,"0",null,null,0," "]
["5.3.5","Turtas, kurio nusidėvėjimą, amortizaciją prašoma finansuoti",null,null,1,0,0,0,null,null,null,null,null,null,"0",null,null,0," "]
["5.3.6","Turtas, kurio nusidėvėjimą, amortizaciją prašoma finansuoti",null,null,1,0,0,0,null,null,null,null,null,null,"0",null,null,0," "]
["5.3.7","Turtas, kurio nusidėvėjimą, amortizaciją prašoma finansuoti",null,null,1,0,0,0,null,null,null,null,null,null,"0",null,null,0," "]
["5.3.8","Turtas, kurio nusidėvėjimą, amortizaciją prašoma finansuoti",null,null,1,0,0,0,null,null,null,null,null,null,"0",null,null,0," "]
["5.3.9","Turtas, kurio nusidėvėjimą, amortizaciją prašoma finansuoti",null,null,1,0,0,0,null,null,null,null,null,null,"0",null,null,0," "]
["5.3.10","Turtas, kurio nusidėvėjimą, amortizaciją prašoma finansuoti",null,null,1,0,0,0,null,null,null,null,null,null,"0",null,null,0," "]
["5.3.11","Turtas, kurio nusidėvėjimą, amortizaciją prašoma finansuoti",null,null,1,0,0,0,null,null,null,null,null,null,"0",null,null,0," "]
["5.3.12","Turtas, kurio nusidėvėjimą, amortizaciją prašoma finansuoti",null,null,1,0,0,0,null,null,null,null,null,null,"0",null,null,0," "]
["5.3.13","Turtas, kurio nusidėvėjimą, amortizaciją prašoma finansuoti",null,null,1,0,0,0,null,null,null,null,null,null,"0",null,null,0," "]
["5.3.14","Turtas, kurio nusidėvėjimą, amortizaciją prašoma finansuoti",null,null,1,0,0,0,null,null,null,null,null,null,"0",null,null,0," "]
["5.3.15","Turtas, kurio nusidėvėjimą, amortizaciją prašoma finansuoti",null,null,1,0,0,0,null,null,null,null,null,null,"0",null,null,0," "]
["5.4","Projektą vykdančio personalo darbo užmokestis ir išlaidos su darbo santykiais susijusiems darbdavio įsipareigojimams",null,null,null,null,{"$f":"SUM(G66:G115)","v":0},{"$f":"SUM(H66:H115)","v":0},null,null,"Faktiškai gaunamas darbo užmokesti už 1 valandą pagal  pastarųjų 6 mėn. vidurkį, Eur"]
["5.4.1","Pareigybės pavadinimas","Darbuotojo vardas pavardė","val.",null,{"$f":"IFERROR(ROUND(AVERAGE(K66:K70),2),\"0\")","v":"0"},{"$f":"ROUND(E66*F66,2)","v":0},{"$f":"ROUND(G66*$D$7,2)","v":0}]
[null,null,"Darbuotojo vardas pavardė"]
[null,null,"Darbuotojo vardas pavardė"]
[null,null,"Darbuotojo vardas pavardė"]
[null,null,"Darbuotojo vardas pavardė"]
["5.4.2","Pareigybės pavadinimas","Darbuotojo vardas pavardė","val.",null,{"$f":"IFERROR(ROUND(AVERAGE(K71:K75),2),\"0\")","v":"0"},{"$f":"ROUND(E71*F71,2)","v":0},{"$f":"ROUND(G71*$D$7,2)","v":0}]
[null,null,"Darbuotojo vardas pavardė"]
[null,null,"Darbuotojo vardas pavardė"]
[null,null,"Darbuotojo vardas pavardė"]
[null,null,"Darbuotojo vardas pavardė"]
["5.4.3","Pareigybės pavadinimas","Darbuotojo vardas pavardė","val.",null,{"$f":"IFERROR(ROUND(AVERAGE(K76:K80),2),\"0\")","v":"0"},{"$f":"ROUND(E76*F76,2)","v":0},{"$f":"ROUND(G76*$D$7,2)","v":0}]
[null,null,"Darbuotojo vardas pavardė"]
[null,null,"Darbuotojo vardas pavardė"]
[null,null,"Darbuotojo vardas pavardė"]
[null,null,"Darbuotojo vardas pavardė"]
["5.4.4","Pareigybės pavadinimas","Darbuotojo vardas pavardė","val.",null,{"$f":"IFERROR(ROUND(AVERAGE(K81:K85),2),\"0\")","v":"0"},{"$f":"ROUND(E81*F81,2)","v":0},{"$f":"ROUND(G81*$D$7,2)","v":0}]
[null,null,"Darbuotojo vardas pavardė"]
[null,null,"Darbuotojo vardas pavardė"]
[null,null,"Darbuotojo vardas pavardė"]
[null,null,"Darbuotojo vardas pavardė"]
["5.4.5","Pareigybės pavadinimas","Darbuotojo vardas pavardė","val.",null,{"$f":"IFERROR(ROUND(AVERAGE(K86:K90),2),\"0\")","v":"0"},{"$f":"ROUND(E86*F86,2)","v":0},{"$f":"ROUND(G86*$D$7,2)","v":0}]
[null,null,"Darbuotojo vardas pavardė"]
[null,null,"Darbuotojo vardas pavardė"]
[null,null,"Darbuotojo vardas pavardė"]
[null,null,"Darbuotojo vardas pavardė"]
["5.4.6","Pareigybės pavadinimas","Darbuotojo vardas pavardė","val.",null,{"$f":"IFERROR(ROUND(AVERAGE(K91:K95),2),\"0\")","v":"0"},{"$f":"ROUND(E91*F91,2)","v":0},{"$f":"ROUND(G91*$D$7,2)","v":0}]
[null,null,"Darbuotojo vardas pavardė"]
[null,null,"Darbuotojo vardas pavardė"]
[null,null,"Darbuotojo vardas pavardė"]
[null,null,"Darbuotojo vardas pavardė"]
["5.4.7","Pareigybės pavadinimas","Darbuotojo vardas pavardė","val.",null,{"$f":"IFERROR(ROUND(AVERAGE(K96:K100),2),\"0\")","v":"0"},{"$f":"ROUND(E96*F96,2)","v":0},{"$f":"ROUND(G96*$D$7,2)","v":0}]
[null,null,"Darbuotojo vardas pavardė"]
[null,null,"Darbuotojo vardas pavardė"]
[null,null,"Darbuotojo vardas pavardė"]
[null,null,"Darbuotojo vardas pavardė"]
["5.4.8","Pareigybės pavadinimas","Darbuotojo vardas pavardė","val.",null,{"$f":"IFERROR(ROUND(AVERAGE(K101:K105),2),\"0\")","v":"0"},{"$f":"ROUND(E101*F101,2)","v":0},{"$f":"ROUND(G101*$D$7,2)","v":0}]
[null,null,"Darbuotojo vardas pavardė"]
[null,null,"Darbuotojo vardas pavardė"]
[null,null,"Darbuotojo vardas pavardė"]
[null,null,"Darbuotojo vardas pavardė"]
["5.4.9","Pareigybės pavadinimas","Darbuotojo vardas pavardė","val.",null,{"$f":"IFERROR(ROUND(AVERAGE(K106:K110),2),\"0\")","v":"0"},{"$f":"ROUND(E106*F106,2)","v":0},{"$f":"ROUND(G106*$D$7,2)","v":0}]
[null,null,"Darbuotojo vardas pavardė"]
[null,null,"Darbuotojo vardas pavardė"]
[null,null,"Darbuotojo vardas pavardė"]
[null,null,"Darbuotojo vardas pavardė"]
["5.4.10","Pareigybės pavadinimas","Darbuotojo vardas pavardė","val.",null,{"$f":"IFERROR(ROUND(AVERAGE(K111:K115),2),\"0\")","v":"0"},{"$f":"ROUND(E111*F111,2)","v":0},{"$f":"ROUND(G111*$D$7,2)","v":0}]
[null,null,"Darbuotojo vardas pavardė"]
[null,null,"Darbuotojo vardas pavardė"]
[null,null,"Darbuotojo vardas pavardė"]
[null,null,"Darbuotojo vardas pavardė"]
["5.5","Projektą vykdančio personalo komandiruočių išlaidos",null,null,null,null,{"$f":"SUM(G117,G124,G131,G138,G145,G152,G159,G166,G173,G180)","v":0},{"$f":"SUM(H117,H124,H131,H138,H145,H152,H159,H166,H173,H180)","v":0}]
["5.5.1","Komandiruotės pavadinimas, vieta, trukmė dienomis, vykstančių asmenų skaičius","Iš viso komandiruotei",null,null,null,{"$f":"SUM(G118:G123)","v":0},{"$f":"ROUND(G117*$D$7,2)","v":0}]
[null,null,"Dienpinigiai",null,null,null,{"$f":"ROUND(E118*F118,2)","v":0}]
[null,null,"Gyvenamojo ploto nuoma",null,null,null,0]
[null,null,"Kelionės išlaidos",null,null,null,0]
[null,null,"Dalyvavimo mokestis",null,null,null,0]
[null,null,"Kitos išlaidų pavadinimas",null,null,null,0]
[null,null,"Kitos išlaidų pavadinimas",null,null,null,0]
["5.5.2","Komandiruotės pavadinimas, vieta, trukmė dienomis, vykstančių asmenų skaičius","Iš viso komandiruotei",null,null,null,{"$f":"SUM(G125:G130)","v":0},{"$f":"ROUND(G124*$D$7,2)","v":0}]
[null,null,"Dienpinigiai",null,null,null,{"$f":"ROUND(E125*F125,2)","v":0}]
[null,null,"Gyvenamojo ploto nuoma",null,null,null,0]
[null,null,"Kelionės išlaidos",null,null,null,0]
[null,null,"Dalyvavimo mokestis",null,null,null,0]
[null,null,"Kitos išlaidų pavadinimas",null,null,null,0]
[null,null,"Kitos išlaidų pavadinimas",null,null,null,0]
["5.5.3","Komandiruotės pavadinimas, vieta, trukmė dienomis, vykstančių asmenų skaičius","Iš viso komandiruotei",null,null,null,{"$f":"SUM(G132:G137)","v":0},{"$f":"ROUND(G131*$D$7,2)","v":0}]
[null,null,"Dienpinigiai",null,null,null,{"$f":"ROUND(E132*F132,2)","v":0}]
[null,null,"Gyvenamojo ploto nuoma",null,null,null,0]
[null,null,"Kelionės išlaidos",null,null,null,0]
[null,null,"Dalyvavimo mokestis",null,null,null,0]
[null,null,"Kitos išlaidų pavadinimas",null,null,null,0]
[null,null,"Kitos išlaidų pavadinimas",null,null,null,0]
["5.5.4","Komandiruotės pavadinimas, vieta, trukmė dienomis, vykstančių asmenų skaičius","Iš viso komandiruotei",null,null,null,{"$f":"SUM(G139:G144)","v":0},{"$f":"ROUND(G138*$D$7,2)","v":0}]
[null,null,"Dienpinigiai",null,null,null,{"$f":"ROUND(E139*F139,2)","v":0}]
[null,null,"Gyvenamojo ploto nuoma",null,null,null,0]
[null,null,"Kelionės išlaidos",null,null,null,0]
[null,null,"Dalyvavimo mokestis",null,null,null,0]
[null,null,"Kitos išlaidų pavadinimas",null,null,null,0]
[null,null,"Kitos išlaidų pavadinimas",null,null,null,0]
["5.5.5","Komandiruotės pavadinimas, vieta, trukmė dienomis, vykstančių asmenų skaičius","Iš viso komandiruotei",null,null,null,{"$f":"SUM(G146:G151)","v":0},{"$f":"ROUND(G145*$D$7,2)","v":0}]
[null,null,"Dienpinigiai",null,null,null,{"$f":"ROUND(E146*F146,2)","v":0}]
[null,null,"Gyvenamojo ploto nuoma",null,null,null,0]
[null,null,"Kelionės išlaidos",null,null,null,0]
[null,null,"Dalyvavimo mokestis",null,null,null,0]
[null,null,"Kitos išlaidų pavadinimas",null,null,null,0]
[null,null,"Kitos išlaidų pavadinimas",null,null,null,0]
["5.5.6","Komandiruotės pavadinimas, vieta, trukmė dienomis, vykstančių asmenų skaičius","Iš viso komandiruotei",null,null,null,{"$f":"SUM(G153:G158)","v":0},{"$f":"ROUND(G152*$D$7,2)","v":0}]
[null,null,"Dienpinigiai",null,null,null,{"$f":"ROUND(E153*F153,2)","v":0}]
[null,null,"Gyvenamojo ploto nuoma",null,null,null,0]
[null,null,"Kelionės išlaidos",null,null,null,0]
[null,null,"Dalyvavimo mokestis",null,null,null,0]
[null,null,"Kitos išlaidų pavadinimas",null,null,null,0]
[null,null,"Kitos išlaidų pavadinimas",null,null,null,0]
["5.5.7","Komandiruotės pavadinimas, vieta, trukmė dienomis, vykstančių asmenų skaičius","Iš viso komandiruotei",null,null,null,{"$f":"SUM(G160:G165)","v":0},{"$f":"ROUND(G159*$D$7,2)","v":0}]
[null,null,"Dienpinigiai",null,null,null,{"$f":"ROUND(E160*F160,2)","v":0}]
[null,null,"Gyvenamojo ploto nuoma",null,null,null,0]
[null,null,"Kelionės išlaidos",null,null,null,0]
[null,null,"Dalyvavimo mokestis",null,null,null,0]
[null,null,"Kitos išlaidų pavadinimas",null,null,null,0]
[null,null,"Kitos išlaidų pavadinimas",null,null,null,0]
["5.5.8","Komandiruotės pavadinimas, vieta, trukmė dienomis, vykstančių asmenų skaičius","Iš viso komandiruotei",null,null,null,{"$f":"SUM(G167:G172)","v":0},{"$f":"ROUND(G166*$D$7,2)","v":0}]
[null,null,"Dienpinigiai",null,null,null,{"$f":"ROUND(E167*F167,2)","v":0}]
[null,null,"Gyvenamojo ploto nuoma",null,null,null,0]
[null,null,"Kelionės išlaidos",null,null,null,0]
[null,null,"Dalyvavimo mokestis",null,null,null,0]
[null,null,"Kitos išlaidų pavadinimas",null,null,null,0]
[null,null,"Kitos išlaidų pavadinimas",null,null,null,0]
["5.5.9","Komandiruotės pavadinimas, vieta, trukmė dienomis, vykstančių asmenų skaičius","Iš viso komandiruotei",null,null,null,{"$f":"SUM(G174:G179)","v":0},{"$f":"ROUND(G173*$D$7,2)","v":0}]
[null,null,"Dienpinigiai",null,null,null,{"$f":"ROUND(E174*F174,2)","v":0}]
[null,null,"Gyvenamojo ploto nuoma",null,null,null,0]
[null,null,"Kelionės išlaidos",null,null,null,0]
[null,null,"Dalyvavimo mokestis",null,null,null,0]
[null,null,"Kitos išlaidų pavadinimas",null,null,null,0]
[null,null,"Kitos išlaidų pavadinimas",null,null,null,0]
["5.5.10","Komandiruotės pavadinimas, vieta, trukmė dienomis, vykstančių asmenų skaičius","Iš viso komandiruotei",null,null,null,{"$f":"SUM(G181:G186)","v":0},{"$f":"ROUND(G180*$D$7,2)","v":0}]
[null,null,"Dienpinigiai",null,null,null,{"$f":"ROUND(E181*F181,2)","v":0}]
[null,null,"Gyvenamojo ploto nuoma",null,null,null,0]
[null,null,"Kelionės išlaidos",null,null,null,0]
[null,null,"Dalyvavimo mokestis",null,null,null,0]
[null,null,"Kitos išlaidų pavadinimas",null,null,null,0]
[null,null,"Kitos išlaidų pavadinimas",null,null,null,0]
["Iš viso tinkamų finansuoti išlaidų:",null,null,null,null,null,{"$f":"G10+G21","v":0},{"$f":"H10+H21","v":0}]

{"sheet":"11","index":13,"n_rows":187,"n_cols":19,"rows_kept":187,"cut":false,"hidden":false,"merged":[[179,0,185,0],[179,1,185,1],[179,8,185,8],[186,0,186,5],[165,0,171,0],[165,1,171,1],[165,8,171,8],[172,0,178,0],[172,1,178,1],[172,8,178,8],[151,0,157,0],[151,1,157,1],[151,8,157,8],[158,0,164,0],[158,1,164,1],[158,8,164,8],[137,0,143,0],[137,1,143,1],[137,8,143,8],[144,0,150,0],[144,1,150,1],[144,8,150,8],[123,0,129,0],[123,1,129,1],[123,8,129,8],[130,0,136,0],[130,1,136,1],[130,8,136,8],[110,7,114,7],[110,8,114,8],[115,1,115,5],[116,0,122,0],[116,1,122,1],[116,8,122,8],[110,0,114,0],[110,1,114,1],[110,3,114,3],[110,4,114,4],[110,5,114,5],[110,6,114,6],[100,7,104,7],[100,8,104,8],[105,0,109,0],[105,1,109,1],[105,3,109,3],[105,4,109,4],[105,5,109,5],[105,6,109,6],[105,7,109,7],[105,8,109,8],[100,0,104,0],[100,1,104,1],[100,3,104,3],[100,4,104,4],[100,5,104,5],[100,6,104,6],[90,7,94,7],[90,8,94,8],[95,0,99,0],[95,1,99,1],[95,3,99,3],[95,4,99,4],[95,5,99,5],[95,6,99,6],[95,7,99,7],[95,8,99,8],[90,0,94,0],[90,1,94,1],[90,3,94,3],[90,4,94,4],[90,5,94,5],[90,6,94,6],[85,0,89,0],[85,1,89,1],[85,3,89,3],[85,4,89,4],[85,5,89,5],[85,6,89,6],[85,7,89,7],[85,8,89,8],[80,0,84,0],[80,1,84,1],[80,3,84,3],[80,4,84,4],[80,5,84,5],[80,6,84,6],[75,0,79,0],[75,1,79,1],[75,3,79,3],[75,4,79,4],[75,5,79,5],[75,6,79,6],[75,7,79,7],[75,8,79,8],[80,7,84,7],[80,8,84,8],[65,6,69,6],[65,7,69,7],[65,8,69,8],[70,0,74,0],[70,1,74,1],[70,3,74,3],[70,4,74,4],[70,5,74,5],[70,6,74,6],[70,7,74,7],[70,8,74,8],[62,1,62,2],[63,1,63,2],[64,1,64,5],[65,0,69,0],[65,1,69,1],[65,3,69,3],[65,4,69,4],[65,5,69,5],[56,1,56,2],[57,1,57,2],[58,1,58,2],[59,1,59,2],[60,1,60,2],[61,1,61,2],[50,1,50,2],[51,1,51,2],[52,1,52,2],[53,1,53,2],[54,1,54,2],[55,1,55,2],[44,1,44,2],[45,1,45,2],[46,1,46,2],[47,1,47,2],[48,1,48,5],[49,1,49,2],[38,1,38,2],[39,1,39,2],[40,1,40,2],[41,1,41,2],[42,1,42,2],[43,1,43,2],[32,1,32,5],[33,1,33,2],[34,1,34,2],[35,1,35,2],[36,1,36,2],[37,1,37,2],[26,1,26,2],[27,1,27,2],[28,1,28,2],[29,1,29,2],[30,1,30,2],[31,1,31,2],[20,1,20,5],[21,1,21,5],[22,1,22,2],[23,1,23,2],[24,1,24,2],[25,1,25,2],[16,1,16,2],[17,1,17,2],[18,1,18,2],[19,1,19,2],[8,1,8,2],[9,1,9,5],[10,1,10,2],[11,1,11,2],[12,1,12,2],[13,1,13,2],[0,3,0,8],[2,0,2,2],[2,3,2,8],[3,3,3,4],[3,5,3,6],[4,0,4,2],[4,3,4,8],[14,1,14,2],[15,1,15,2],[5,3,5,8]]}
[null,null,"Pasirinkite veiklos tipą:"]
[null,null,"Fizinio rodiklio Nr.:"]
["Fizinio rodiklio pavadinimas:"]
[null,null,"Fizinio rodiklio matavimo vnt.:",null,null,"Fizinio rodiklio vnt. skaičius:"]
["Juridinis asmuo (pareiškėjas, partneris), atsakingas už fizinį rodiklį:"]
[null,null,"Vykdytojo tipas:"]
[null,null,"Finansavimo intensyvumas:",null,null,null,"Pasirinkite biudžeto išlaidų kategoriją:","Visos"]
[]
["Eil. Nr.","Išlaidų kategorijos pavadinimas",null,"Matavimo vnt.","Kiekis","Vieneto kaina be PVM, Eur","Tinkamų finansuoti išlaidų suma be PVM, Eur","Finansavimo suma, Eur","Išlaidų pagrindimo dokumentų pavadinimas, data ir Nr."]
[4,"ĮRANGA, ĮRENGINIAI IR KT. TURTAS (techninių žinių ir išradimų patentų arba teisių pagal licencijų sutartį įsigijimo išlaidos)",null,null,null,null,{"$f":"SUM(G11:G20)","v":0},{"$f":"SUM(H11:H20)","v":0}]
["4.1","Išlaidų pavadinimas",null,null,null,null,{"$f":"ROUND(E11*F11,2)","v":0},{"$f":"ROUND(G11*$D$7,2)","v":0}]
["4.2","Išlaidų pavadinimas",null,null,null,null,0,0]
["4.3","Išlaidų pavadinimas",null,null,null,null,0,0]
["4.4","Išlaidų pavadinimas",null,null,null,null,0,0]
["4.5","Išlaidų pavadinimas",null,null,null,null,0,0]
["4.6","Išlaidų pavadinimas",null,null,null,null,0,0]
["4.7","Išlaidų pavadinimas",null,null,null,null,0,0]
["4.8","Išlaidų pavadinimas",null,null,null,null,0,0]
["4.9","Išlaidų pavadinimas",null,null,null,null,0,0]
["4.10","Išlaidų pavadinimas",null,null,null,null,0,0]
[5,"PROJEKTO VYKDYMAS",null,null,null,null,{"$f":"G22+G33+G49+G65+G116","v":0},{"$f":"H22+H33+H49+H65+H116","v":0}]
["5.1","MTEP paslaugos",null,null,null,null,{"$f":"SUM(G23:G32)","v":0},{"$f":"SUM(H23:H32)","v":0}]
["5.1.1","Paslaugos pavadinimas",null,null,null,null,{"$f":"ROUND(E23*F23,2)","v":0},0]
["5.1.2","Paslaugos pavadinimas",null,null,null,null,0,0]
["5.1.3","Paslaugos pavadinimas",null,null,null,null,0,0]
["5.1.4","Paslaugos pavadinimas",null,null,null,null,0,0]
["5.1.5","Paslaugos pavadinimas",null,null,null,null,0,0]
["5.1.6","Paslaugos pavadinimas",null,null,null,null,0,0]
["5.1.7","Paslaugos pavadinimas",null,null,null,null,0,0]
["5.1.8","Paslaugos pavadinimas",null,null,null,null,0,0]
["5.1.9","Paslaugos pavadinimas",null,null,null,null,0,0]
["5.1.10","Paslaugos pavadinimas",null,null,null,null,0,0]
["5.2","Medžiagos, mažavertis inventorius, atsargos ir pan. produktai, priskirtini trumpalaikiam turtui ir tiesiogiai susiję su MTEP veikla",null,null,null,null,{"$f":"SUM(G34:G50)","v":0},{"$f":"SUM(H34:H50)","v":0}]
["5.2.1","Išlaidų pavadinimas",null,null,null,null,{"$f":"ROUND(E34*F34,2)","v":0},{"$f":"ROUND(G34*$D$7,2)","v":0}]
["5.2.2","Išlaidų pavadinimas",null,null,null,null,0,0]
["5.2.3","Išlaidų pavadinimas",null,null,null,null,0,0]
["5.2.4","Išlaidų pavadinimas",null,null,null,null,0,0]
["5.2.5","Išlaidų pavadinimas",null,null,null,null,0,0]
["5.2.6","Išlaidų pavadinimas",null,null,null,null,0,0]
["5.2.7","Išlaidų pavadinimas",null,null,null,null,0,0]
["5.2.8","Išlaidų pavadinimas",null,null,null,null,0,0]
["5.2.9","Išlaidų pavadinimas",null,null,null,null,0,0]
["5.2.10","Išlaidų pavadinimas",null,null,null,null,0,0]
["5.2.11","Išlaidų pavadinimas",null,null,null,null,0,0]
["5.2.12","Išlaidų pavadinimas",null,null,null,null,0,0]
["5.2.13","Išlaidų pavadinimas",null,null,null,null,0,0]
["5.2.14","Išlaidų pavadinimas",null,null,null,null,0,0]
["5.2.15","Išlaidų pavadinimas",null,null,null,null,0,0]
["5.3","Projekto MTEP veikloms naudojamo ilgalaikio materialaus turto (įrangos, prietaisų, įrankių, įrenginių, mašinų ir įrengimų, pastatų ir (ar) patalpų), nusidėvėjimo sąnaudos, jeigu šiam turtui įsigyti nebuvo naudojamos viešosios (įskaitant ir kitų valstybių) lėšos",null,null,null,null,{"$f":"SUM(G50:G64)","v":0},{"$f":"SUM(H50:H64)","v":0},null,null,"Turto įvedimo į eksploataciją data","Turto įsigijimo vertė, Eur","Turto nudėvėjimo, amortizacijos laikotarpis, mėn.","Numatoma turto likutinė vertė, Eur","1 mėn. nudėvėjimo, amortizacijos suma, Eur","Turto naudojamo projekto reikmėms laikas, mėn.","Turto panaudojimo projekto reikmėms dalis (proc.)","Projektui priskirta turto nusidėvėjimo, amortizacijos suma per projekto laikotarpį, Eur"]
["5.3.1","Turtas, kurio nusidėvėjimą, amortizaciją prašoma finansuoti",null,null,1,{"$f":"R50","v":0},{"$f":"ROUND(E50*F50,2)","v":0},0,null,null,null,null,null,null,{"$f":"IFERROR(ROUND((L50-N50)/M50,2),\"0\")","v":"0"},null,null,{"$f":"O50*P50*Q50","v":0},{"$f":"IF(K50=0,\" \",IF(K50+(M50*30.5)<TODAY(),\"DĖMESIO! Patikrinkite, ar nurodytas turtas dar nėra nudėvėtas, amortizuotas\",\" \"))","v":" "}]
["5.3.2","Turtas, kurio nusidėvėjimą, amortizaciją prašoma finansuoti",null,null,1,{"$f":"R51","v":0},0,0,null,null,null,null,null,null,{"$f":"IFERROR(ROUND((L51-N51)/M51,2),\"0\")","v":"0"},null,null,{"$f":"O51*P51*Q51","v":0},{"$f":"IF(K51=0,\" \",IF(K51+(M51*30.5)<TODAY(),\"DĖMESIO! Patikrinkite, ar nurodytas turtas dar nėra nudėvėtas, amortizuotas\",\" \"))","v":" "}]
["5.3.3","Turtas, kurio nusidėvėjimą, amortizaciją prašoma finansuoti",null,null,1,0,0,0,null,null,null,null,null,null,"0",null,null,0," "]
["5.3.4","Turtas, kurio nusidėvėjimą, amortizaciją prašoma finansuoti",null,null,1,0,0,0,null,null,null,null,null,null,"0",null,null,0," "]
["5.3.5","Turtas, kurio nusidėvėjimą, amortizaciją prašoma finansuoti",null,null,1,0,0,0,null,null,null,null,null,null,"0",null,null,0," "]
["5.3.6","Turtas, kurio nusidėvėjimą, amortizaciją prašoma finansuoti",null,null,1,0,0,0,null,null,null,null,null,null,"0",null,null,0," "]
["5.3.7","Turtas, kurio nusidėvėjimą, amortizaciją prašoma finansuoti",null,null,1,0,0,0,null,null,null,null,null,null,"0",null,null,0," "]
["5.3.8","Turtas, kurio nusidėvėjimą, amortizaciją prašoma finansuoti",null,null,1,0,0,0,null,null,null,null,null,null,"0",null,null,0," "]
["5.3.9","Turtas, kurio nusidėvėjimą, amortizaciją prašoma finansuoti",null,null,1,0,0,0,null,null,null,null,null,null,"0",null,null,0," "]
["5.3.10","Turtas, kurio nusidėvėjimą, amortizaciją prašoma finansuoti",null,null,1,0,0,0,null,null,null,null,null,null,"0",null,null,0," "]
["5.3.11","Turtas, kurio nusidėvėjimą, amortizaciją prašoma finansuoti",null,null,1,0,0,0,null,null,null,null,null,null,"0",null,null,0," "]
["5.3.12","Turtas, kurio nusidėvėjimą, amortizaciją prašoma finansuoti",null,null,1,0,0,0,null,null,null,null,null,null,"0",null,null,0," "]
["5.3.13","Turtas, kurio nusidėvėjimą, amortizaciją prašoma finansuoti",null,null,1,0,0,0,null,null,null,null,null,null,"0",null,null,0," "]
["5.3.14","Turtas, kurio nusidėvėjimą, amortizaciją prašoma finansuoti",null,null,1,0,0,0,null,null,null,null,null,null,"0",null,null,0," "]
["5.3.15","Turtas, kurio nusidėvėjimą, amortizaciją prašoma finansuoti",null,null,1,0,0,0,null,null,null,null,null,null,"0",null,null,0," "]
["5.4","Projektą vykdančio personalo darbo užmokestis ir išlaidos su darbo santykiais susijusiems darbdavio įsipareigojimams",null,null,null,null,{"$f":"SUM(G66:G115)","v":0},{"$f":"SUM(H66:H115)","v":0},null,null,"Faktiškai gaunamas darbo užmokesti už 1 valandą pagal  pastarųjų 6 mėn. vidurkį, Eur"]
["5.4.1","Pareigybės pavadinimas","Darbuotojo vardas pavardė","val.",null,{"$f":"IFERROR(ROUND(AVERAGE(K66:K70),2),\"0\")","v":"0"},{"$f":"ROUND(E66*F66,2)","v":0},{"$f":"ROUND(G66*$D$7,2)","v":0}]
[null,null,"Darbuotojo vardas pavardė"]
[null,null,"Darbuotojo vardas pavardė"]
[null,null,"Darbuotojo vardas pavardė"]
[null,null,"Darbuotojo vardas pavardė"]
["5.4.2","Pareigybės pavadinimas","Darbuotojo vardas pavardė","val.",null,{"$f":"IFERROR(ROUND(AVERAGE(K71:K75),2),\"0\")","v":"0"},{"$f":"ROUND(E71*F71,2)","v":0},{"$f":"ROUND(G71*$D$7,2)","v":0}]
[null,null,"Darbuotojo vardas pavardė"]
[null,null,"Darbuotojo vardas pavardė"]
[null,null,"Darbuotojo vardas pavardė"]
[null,null,"Darbuotojo vardas pavardė"]
["5.4.3","Pareigybės pavadinimas","Darbuotojo vardas pavardė","val.",null,{"$f":"IFERROR(ROUND(AVERAGE(K76:K80),2),\"0\")","v":"0"},{"$f":"ROUND(E76*F76,2)","v":0},{"$f":"ROUND(G76*$D$7,2)","v":0}]
[null,null,"Darbuotojo vardas pavardė"]
[null,null,"Darbuotojo vardas pavardė"]
[null,null,"Darbuotojo vardas pavardė"]
[null,null,"Darbuotojo vardas pavardė"]
["5.4.4","Pareigybės pavadinimas","Darbuotojo vardas pavardė","val.",null,{"$f":"IFERROR(ROUND(AVERAGE(K81:K85),2),\"0\")","v":"0"},{"$f":"ROUND(E81*F81,2)","v":0},{"$f":"ROUND(G81*$D$7,2)","v":0}]
[null,null,"Darbuotojo vardas pavardė"]
[null,null,"Darbuotojo vardas pavardė"]
[null,null,"Darbuotojo vardas pavardė"]
[null,null,"Darbuotojo vardas pavardė"]
["5.4.5","Pareigybės pavadinimas","Darbuotojo vardas pavardė","val.",null,{"$f":"IFERROR(ROUND(AVERAGE(K86:K90),2),\"0\")","v":"0"},{"$f":"ROUND(E86*F86,2)","v":0},{"$f":"ROUND(G86*$D$7,2)","v":0}]
[null,null,"Darbuotojo vardas pavardė"]
[null,null,"Darbuotojo vardas pavardė"]
[null,null,"Darbuotojo vardas pavardė"]
[null,null,"Darbuotojo vardas pavardė"]
["5.4.6","Pareigybės pavadinimas","Darbuotojo vardas pavardė","val.",null,{"$f":"IFERROR(ROUND(AVERAGE(K91:K95),2),\"0\")","v":"0"},{"$f":"ROUND(E91*F91,2)","v":0},{"$f":"ROUND(G91*$D$7,2)","v":0}]
[null,null,"Darbuotojo vardas pavardė"]
[null,null,"Darbuotojo vardas pavardė"]
[null,null,"Darbuotojo vardas pavardė"]
[null,null,"Darbuotojo vardas pavardė"]
["5.4.7","Pareigybės pavadinimas","Darbuotojo vardas pavardė","val.",null,{"$f":"IFERROR(ROUND(AVERAGE(K96:K100),2),\"0\")","v":"0"},{"$f":"ROUND(E96*F96,2)","v":0},{"$f":"ROUND(G96*$D$7,2)","v":0}]
[null,null,"Darbuotojo vardas pavardė"]
[null,null,"Darbuotojo vardas pavardė"]
[null,null,"Darbuotojo vardas pavardė"]
[null,null,"Darbuotojo vardas pavardė"]
["5.4.8","Pareigybės pavadinimas","Darbuotojo vardas pavardė","val.",null,{"$f":"IFERROR(ROUND(AVERAGE(K101:K105),2),\"0\")","v":"0"},{"$f":"ROUND(E101*F101,2)","v":0},{"$f":"ROUND(G101*$D$7,2)","v":0}]
[null,null,"Darbuotojo vardas pavardė"]
[null,null,"Darbuotojo vardas pavardė"]
[null,null,"Darbuotojo vardas pavardė"]
[null,null,"Darbuotojo vardas pavardė"]
["5.4.9","Pareigybės pavadinimas","Darbuotojo vardas pavardė","val.",null,{"$f":"IFERROR(ROUND(AVERAGE(K106:K110),2),\"0\")","v":"0"},{"$f":"ROUND(E106*F106,2)","v":0},{"$f":"ROUND(G106*$D$7,2)","v":0}]
[null,null,"Darbuotojo vardas pavardė"]
[null,null,"Darbuotojo vardas pavardė"]
[null,null,"Darbuotojo vardas pavardė"]
[null,null,"Darbuotojo vardas pavardė"]
["5.4.10","Pareigybės pavadinimas","Darbuotojo vardas pavardė","val.",null,{"$f":"IFERROR(ROUND(AVERAGE(K111:K115),2),\"0\")","v":"0"},{"$f":"ROUND(E111*F111,2)","v":0},{"$f":"ROUND(G111*$D$7,2)","v":0}]
[null,null,"Darbuotojo vardas pavardė"]
[null,null,"Darbuotojo vardas pavardė"]
[null,null,"Darbuotojo vardas pavardė"]
[null,null,"Darbuotojo vardas pavardė"]
["5.5","Projektą vykdančio personalo komandiruočių išlaidos",null,null,null,null,{"$f":"SUM(G117,G124,G131,G138,G145,G152,G159,G166,G173,G180)","v":0},{"$f":"SUM(H117,H124,H131,H138,H145,H152,H159,H166,H173,H180)","v":0}]
["5.5.1","Komandiruotės pavadinimas, vieta, trukmė dienomis, vykstančių asmenų skaičius","Iš viso komandiruotei",null,null,null,{"$f":"SUM(G118:G123)","v":0},{"$f":"ROUND(G117*$D$7,2)","v":0}]
[null,null,"Dienpinigiai",null,null,null,{"$f":"ROUND(E118*F118,2)","v":0}]
[null,null,"Gyvenamojo ploto nuoma",null,null,null,0]
[null,null,"Kelionės išlaidos",null,null,null,0]
[null,null,"Dalyvavimo mokestis",null,null,null,0]
[null,null,"Kitos išlaidų pavadinimas",null,null,null,0]
[null,null,"Kitos išlaidų pavadinimas",null,null,null,0]
["5.5.2","Komandiruotės pavadinimas, vieta, trukmė dienomis, vykstančių asmenų skaičius","Iš viso komandiruotei",null,null,null,{"$f":"SUM(G125:G130)","v":0},{"$f":"ROUND(G124*$D$7,2)","v":0}]
[null,null,"Dienpinigiai",null,null,null,{"$f":"ROUND(E125*F125,2)","v":0}]
[null,null,"Gyvenamojo ploto nuoma",null,null,null,0]
[null,null,"Kelionės išlaidos",null,null,null,0]
[null,null,"Dalyvavimo mokestis",null,null,null,0]
[null,null,"Kitos išlaidų pavadinimas",null,null,null,0]
[null,null,"Kitos išlaidų pavadinimas",null,null,null,0]
["5.5.3","Komandiruotės pavadinimas, vieta, trukmė dienomis, vykstančių asmenų skaičius","Iš viso komandiruotei",null,null,null,{"$f":"SUM(G132:G137)","v":0},{"$f":"ROUND(G131*$D$7,2)","v":0}]
[null,null,"Dienpinigiai",null,null,null,{"$f":"ROUND(E132*F132,2)","v":0}]
[null,null,"Gyvenamojo ploto nuoma",null,null,null,0]
[null,null,"Kelionės išlaidos",null,null,null,0]
[null,null,"Dalyvavimo mokestis",null,null,null,0]
[null,null,"Kitos išlaidų pavadinimas",null,null,null,0]
[null,null,"Kitos išlaidų pavadinimas",null,null,null,0]
["5.5.4","Komandiruotės pavadinimas, vieta, trukmė dienomis, vykstančių asmenų skaičius","Iš viso komandiruotei",null,null,null,{"$f":"SUM(G139:G144)","v":0},{"$f":"ROUND(G138*$D$7,2)","v":0}]
[null,null,"Dienpinigiai",null,null,null,{"$f":"ROUND(E139*F139,2)","v":0}]
[null,null,"Gyvenamojo ploto nuoma",null,null,null,0]
[null,null,"Kelionės išlaidos",null,null,null,0]
[null,null,"Dalyvavimo mokestis",null,null,null,0]
[null,null,"Kitos išlaidų pavadinimas",null,null,null,0]
[null,null,"Kitos išlaidų pavadinimas",null,null,null,0]
["5.5.5","Komandiruotės pavadinimas, vieta, trukmė dienomis, vykstančių asmenų skaičius","Iš viso komandiruotei",null,null,null,{"$f":"SUM(G146:G151)","v":0},{"$f":"ROUND(G145*$D$7,2)","v":0}]
[null,null,"Dienpinigiai",null,null,null,{"$f":"ROUND(E146*F146,2)","v":0}]
[null,null,"Gyvenamojo ploto nuoma",null,null,null,0]
[null,null,"Kelionės išlaidos",null,null,null,0]
[null,null,"Dalyvavimo mokestis",null,null,null,0]
[null,null,"Kitos išlaidų pavadinimas",null,null,null,0]
[null,null,"Kitos išlaidų pavadinimas",null,null,null,0]
["5.5.6","Komandiruotės pavadinimas, vieta, trukmė dienomis, vykstančių asmenų skaičius","Iš viso komandiruotei",null,null,null,{"$f":"SUM(G153:G158)","v":0},{"$f":"ROUND(G152*$D$7,2)","v":0}]
[null,null,"Dienpinigiai",null,null,null,{"$f":"ROUND(E153*F153,2)","v":0}]
[null,null,"Gyvenamojo ploto nuoma",null,null,null,0]
[null,null,"Kelionės išlaidos",null,null,null,0]
[null,null,"Dalyvavimo mokestis",null,null,null,0]
[null,null,"Kitos išlaidų pavadinimas",null,null,null,0]
[null,null,"Kitos išlaidų pavadinimas",null,null,null,0]
["5.5.7","Komandiruotės pavadinimas, vieta, trukmė dienomis, vykstančių asmenų skaičius","Iš viso komandiruotei",null,null,null,{"$f":"SUM(G160:G165)","v":0},{"$f":"ROUND(G159*$D$7,2)","v":0}]
[null,null,"Dienpinigiai",null,null,null,{"$f":"ROUND(E160*F160,2)","v":0}]
[null,null,"Gyvenamojo ploto nuoma",null,null,null,0]
[null,null,"Kelionės išlaidos",null,null,null,0]
[null,null,"Dalyvavimo mokestis",null,null,null,0]
[null,null,"Kitos išlaidų pavadinimas",null,null,null,0]
[null,null,"Kitos išlaidų pavadinimas",null,null,null,0]
["5.5.8","Komandiruotės pavadinimas, vieta, trukmė dienomis, vykstančių asmenų skaičius","Iš viso komandiruotei",null,null,null,{"$f":"SUM(G167:G172)","v":0},{"$f":"ROUND(G166*$D$7,2)","v":0}]
[null,null,"Dienpinigiai",null,null,null,{"$f":"ROUND(E167*F167,2)","v":0}]
[null,null,"Gyvenamojo ploto nuoma",null,null,null,0]
[null,null,"Kelionės išlaidos",null,null,null,0]
[null,null,"Dalyvavimo mokestis",null,null,null,0]
[null,null,"Kitos išlaidų pavadinimas",null,null,null,0]
[null,null,"Kitos išlaidų pavadinimas",null,null,null,0]
["5.5.9","Komandiruotės pavadinimas, vieta, trukmė dienomis, vykstančių asmenų skaičius","Iš viso komandiruotei",null,null,null,{"$f":"SUM(G174:G179)","v":0},{"$f":"ROUND(G173*$D$7,2)","v":0}]
[null,null,"Dienpinigiai",null,null,null,{"$f":"ROUND(E174*F174,2)","v":0}]
[null,null,"Gyvenamojo ploto nuoma",null,null,null,0]
[null,null,"Kelionės išlaidos",null,null,null,0]
[null,null,"Dalyvavimo mokestis",null,null,null,0]
[null,null,"Kitos išlaidų pavadinimas",null,null,null,0]
[null,null,"Kitos išlaidų pavadinimas",null,null,null,0]
["5.5.10","Komandiruotės pavadinimas, vieta, trukmė dienomis, vykstančių asmenų skaičius","Iš viso komandiruotei",null,null,null,{"$f":"SUM(G181:G186)","v":0},{"$f":"ROUND(G180*$D$7,2)","v":0}]
[null,null,"Dienpinigiai",null,null,null,{"$f":"ROUND(E181*F181,2)","v":0}]
[null,null,"Gyvenamojo ploto nuoma",null,null,null,0]
[null,null,"Kelionės išlaidos",null,null,null,0]
[null,null,"Dalyvavimo mokestis",null,null,null,0]
[null,null,"Kitos išlaidų pavadinimas",null,null,null,0]
[null,null,"Kitos išlaidų pavadinimas",null,null,null,0]
["Iš viso tinkamų finansuoti išlaidų:",null,null,null,null,null,{"$f":"G10+G21","v":0},{"$f":"H10+H21","v":0}]

{"sheet":"12","index":14,"n_rows":187,"n_cols":19,"rows_kept":187,"cut":false,"hidden":false,"merged":[[179,0,185,0],[179,1,185,1],[179,8,185,8],[186,0,186,5],[165,0,171,0],[165,1,171,1],[165,8,171,8],[172,0,178,0],[172,1,178,1],[172,8,178,8],[151,0,157,0],[151,1,157,1],[151,8,157,8],[158,0,164,0],[158,1,164,1],[158,8,164,8],[137,0,143,0],[137,1,143,1],[137,8,143,8],[144,0,150,0],[144,1,150,1],[144,8,150,8],[123,0,129,0],[123,1,129,1],[123,8,129,8],[130,0,136,0],[130,1,136,1],[130,8,136,8],[110,7,114,7],[110,8,114,8],[115,1,115,5],[116,0,122,0],[116,1,122,1],[116,8,122,8],[110,0,114,0],[110,1,114,1],[110,3,114,3],[110,4,114,4],[110,5,114,5],[110,6,114,6],[100,7,104,7],[100,8,104,8],[105,0,109,0],[105,1,109,1],[105,3,109,3],[105,4,109,4],[105,5,109,5],[105,6,109,6],[105,7,109,7],[105,8,109,8],[100,0,104,0],[100,1,104,1],[100,3,104,3],[100,4,104,4],[100,5,104,5],[100,6,104,6],[90,7,94,7],[90,8,94,8],[95,0,99,0],[95,1,99,1],[95,3,99,3],[95,4,99,4],[95,5,99,5],[95,6,99,6],[95,7,99,7],[95,8,99,8],[90,0,94,0],[90,1,94,1],[90,3,94,3],[90,4,94,4],[90,5,94,5],[90,6,94,6],[85,0,89,0],[85,1,89,1],[85,3,89,3],[85,4,89,4],[85,5,89,5],[85,6,89,6],[85,7,89,7],[85,8,89,8],[80,0,84,0],[80,1,84,1],[80,3,84,3],[80,4,84,4],[80,5,84,5],[80,6,84,6],[75,0,79,0],[75,1,79,1],[75,3,79,3],[75,4,79,4],[75,5,79,5],[75,6,79,6],[75,7,79,7],[75,8,79,8],[80,7,84,7],[80,8,84,8],[65,6,69,6],[65,7,69,7],[65,8,69,8],[70,0,74,0],[70,1,74,1],[70,3,74,3],[70,4,74,4],[70,5,74,5],[70,6,74,6],[70,7,74,7],[70,8,74,8],[62,1,62,2],[63,1,63,2],[64,1,64,5],[65,0,69,0],[65,1,69,1],[65,3,69,3],[65,4,69,4],[65,5,69,5],[56,1,56,2],[57,1,57,2],[58,1,58,2],[59,1,59,2],[60,1,60,2],[61,1,61,2],[50,1,50,2],[51,1,51,2],[52,1,52,2],[53,1,53,2],[54,1,54,2],[55,1,55,2],[44,1,44,2],[45,1,45,2],[46,1,46,2],[47,1,47,2],[48,1,48,5],[49,1,49,2],[38,1,38,2],[39,1,39,2],[40,1,40,2],[41,1,41,2],[42,1,42,2],[43,1,43,2],[32,1,32,5],[33,1,33,2],[34,1,34,2],[35,1,35,2],[36,1,36,2],[37,1,37,2],[26,1,26,2],[27,1,27,2],[28,1,28,2],[29,1,29,2],[30,1,30,2],[31,1,31,2],[20,1,20,5],[21,1,21,5],[22,1,22,2],[23,1,23,2],[24,1,24,2],[25,1,25,2],[16,1,16,2],[17,1,17,2],[18,1,18,2],[19,1,19,2],[8,1,8,2],[9,1,9,5],[10,1,10,2],[11,1,11,2],[12,1,12,2],[13,1,13,2],[0,3,0,8],[2,0,2,2],[2,3,2,8],[3,3,3,4],[3,5,3,6],[4,0,4,2],[4,3,4,8],[14,1,14,2],[15,1,15,2],[5,3,5,8]]}
[null,null,"Pasirinkite veiklos tipą:"]
[null,null,"Fizinio rodiklio Nr.:"]
["Fizinio rodiklio pavadinimas:"]
[null,null,"Fizinio rodiklio matavimo vnt.:",null,null,"Fizinio rodiklio vnt. skaičius:"]
["Juridinis asmuo (pareiškėjas, partneris), atsakingas už fizinį rodiklį:"]
[null,null,"Vykdytojo tipas:"]
[null,null,"Finansavimo intensyvumas:",null,null,null,"Pasirinkite biudžeto išlaidų kategoriją:","Visos"]
[]
["Eil. Nr.","Išlaidų kategorijos pavadinimas",null,"Matavimo vnt.","Kiekis","Vieneto kaina be PVM, Eur","Tinkamų finansuoti išlaidų suma be PVM, Eur","Finansavimo suma, Eur","Išlaidų pagrindimo dokumentų pavadinimas, data ir Nr."]
[4,"ĮRANGA, ĮRENGINIAI IR KT. TURTAS (techninių žinių ir išradimų patentų arba teisių pagal licencijų sutartį įsigijimo išlaidos)",null,null,null,null,{"$f":"SUM(G11:G20)","v":0},{"$f":"SUM(H11:H20)","v":0}]
["4.1","Išlaidų pavadinimas",null,null,null,null,{"$f":"ROUND(E11*F11,2)","v":0},{"$f":"ROUND(G11*$D$7,2)","v":0}]
["4.2","Išlaidų pavadinimas",null,null,null,null,0,0]
["4.3","Išlaidų pavadinimas",null,null,null,null,0,0]
["4.4","Išlaidų pavadinimas",null,null,null,null,0,0]
["4.5","Išlaidų pavadinimas",null,null,null,null,0,0]
["4.6","Išlaidų pavadinimas",null,null,null,null,0,0]
["4.7","Išlaidų pavadinimas",null,null,null,null,0,0]
["4.8","Išlaidų pavadinimas",null,null,null,null,0,0]
["4.9","Išlaidų pavadinimas",null,null,null,null,0,0]
["4.10","Išlaidų pavadinimas",null,null,null,null,0,0]
[5,"PROJEKTO VYKDYMAS",null,null,null,null,{"$f":"G22+G33+G49+G65+G116","v":0},{"$f":"H22+H33+H49+H65+H116","v":0}]
["5.1","MTEP paslaugos",null,null,null,null,{"$f":"SUM(G23:G32)","v":0},{"$f":"SUM(H23:H32)","v":0}]
["5.1.1","Paslaugos pavadinimas",null,null,null,null,{"$f":"ROUND(E23*F23,2)","v":0},0]
["5.1.2","Paslaugos pavadinimas",null,null,null,null,0,0]
["5.1.3","Paslaugos pavadinimas",null,null,null,null,0,0]
["5.1.4","Paslaugos pavadinimas",null,null,null,null,0,0]
["5.1.5","Paslaugos pavadinimas",null,null,null,null,0,0]
["5.1.6","Paslaugos pavadinimas",null,null,null,null,0,0]
["5.1.7","Paslaugos pavadinimas",null,null,null,null,0,0]
["5.1.8","Paslaugos pavadinimas",null,null,null,null,0,0]
["5.1.9","Paslaugos pavadinimas",null,null,null,null,0,0]
["5.1.10","Paslaugos pavadinimas",null,null,null,null,0,0]
["5.2","Medžiagos, mažavertis inventorius, atsargos ir pan. produktai, priskirtini trumpalaikiam turtui ir tiesiogiai susiję su MTEP veikla",null,null,null,null,{"$f":"SUM(G34:G50)","v":0},{"$f":"SUM(H34:H50)","v":0}]
["5.2.1","Išlaidų pavadinimas",null,null,null,null,{"$f":"ROUND(E34*F34,2)","v":0},{"$f":"ROUND(G34*$D$7,2)","v":0}]
["5.2.2","Išlaidų pavadinimas",null,null,null,null,0,0]
["5.2.3","Išlaidų pavadinimas",null,null,null,null,0,0]
["5.2.4","Išlaidų pavadinimas",null,null,null,null,0,0]
["5.2.5","Išlaidų pavadinimas",null,null,null,null,0,0]
["5.2.6","Išlaidų pavadinimas",null,null,null,null,0,0]
["5.2.7","Išlaidų pavadinimas",null,null,null,null,0,0]
["5.2.8","Išlaidų pavadinimas",null,null,null,null,0,0]
["5.2.9","Išlaidų pavadinimas",null,null,null,null,0,0]
["5.2.10","Išlaidų pavadinimas",null,null,null,null,0,0]
["5.2.11","Išlaidų pavadinimas",null,null,null,null,0,0]
["5.2.12","Išlaidų pavadinimas",null,null,null,null,0,0]
["5.2.13","Išlaidų pavadinimas",null,null,null,null,0,0]
["5.2.14","Išlaidų pavadinimas",null,null,null,null,0,0]
["5.2.15","Išlaidų pavadinimas",null,null,null,null,0,0]
["5.3","Projekto MTEP veikloms naudojamo ilgalaikio materialaus turto (įrangos, prietaisų, įrankių, įrenginių, mašinų ir įrengimų, pastatų ir (ar) patalpų), nusidėvėjimo sąnaudos, jeigu šiam turtui įsigyti nebuvo naudojamos viešosios (įskaitant ir kitų valstybių) lėšos",null,null,null,null,{"$f":"SUM(G50:G64)","v":0},{"$f":"SUM(H50:H64)","v":0},null,null,"Turto įvedimo į eksploataciją data","Turto įsigijimo vertė, Eur","Turto nudėvėjimo, amortizacijos laikotarpis, mėn.","Numatoma turto likutinė vertė, Eur","1 mėn. nudėvėjimo, amortizacijos suma, Eur","Turto naudojamo projekto reikmėms laikas, mėn.","Turto panaudojimo projekto reikmėms dalis (proc.)","Projektui priskirta turto nusidėvėjimo, amortizacijos suma per projekto laikotarpį, Eur"]
["5.3.1","Turtas, kurio nusidėvėjimą, amortizaciją prašoma finansuoti",null,null,1,{"$f":"R50","v":0},{"$f":"ROUND(E50*F50,2)","v":0},0,null,null,null,null,null,null,{"$f":"IFERROR(ROUND((L50-N50)/M50,2),\"0\")","v":"0"},null,null,{"$f":"O50*P50*Q50","v":0},{"$f":"IF(K50=0,\" \",IF(K50+(M50*30.5)<TODAY(),\"DĖMESIO! Patikrinkite, ar nurodytas turtas dar nėra nudėvėtas, amortizuotas\",\" \"))","v":" "}]
["5.3.2","Turtas, kurio nusidėvėjimą, amortizaciją prašoma finansuoti",null,null,1,{"$f":"R51","v":0},0,0,null,null,null,null,null,null,{"$f":"IFERROR(ROUND((L51-N51)/M51,2),\"0\")","v":"0"},null,null,{"$f":"O51*P51*Q51","v":0},{"$f":"IF(K51=0,\" \",IF(K51+(M51*30.5)<TODAY(),\"DĖMESIO! Patikrinkite, ar nurodytas turtas dar nėra nudėvėtas, amortizuotas\",\" \"))","v":" "}]
["5.3.3","Turtas, kurio nusidėvėjimą, amortizaciją prašoma finansuoti",null,null,1,0,0,0,null,null,null,null,null,null,"0",null,null,0," "]
["5.3.4","Turtas, kurio nusidėvėjimą, amortizaciją prašoma finansuoti",null,null,1,0,0,0,null,null,null,null,null,null,"0",null,null,0," "]
["5.3.5","Turtas, kurio nusidėvėjimą, amortizaciją prašoma finansuoti",null,null,1,0,0,0,null,null,null,null,null,null,"0",null,null,0," "]
["5.3.6","Turtas, kurio nusidėvėjimą, amortizaciją prašoma finansuoti",null,null,1,0,0,0,null,null,null,null,null,null,"0",null,null,0," "]
["5.3.7","Turtas, kurio nusidėvėjimą, amortizaciją prašoma finansuoti",null,null,1,0,0,0,null,null,null,null,null,null,"0",null,null,0," "]
["5.3.8","Turtas, kurio nusidėvėjimą, amortizaciją prašoma finansuoti",null,null,1,0,0,0,null,null,null,null,null,null,"0",null,null,0," "]
["5.3.9","Turtas, kurio nusidėvėjimą, amortizaciją prašoma finansuoti",null,null,1,0,0,0,null,null,null,null,null,null,"0",null,null,0," "]
["5.3.10","Turtas, kurio nusidėvėjimą, amortizaciją prašoma finansuoti",null,null,1,0,0,0,null,null,null,null,null,null,"0",null,null,0," "]
["5.3.11","Turtas, kurio nusidėvėjimą, amortizaciją prašoma finansuoti",null,null,1,0,0,0,null,null,null,null,null,null,"0",null,null,0," "]
["5.3.12","Turtas, kurio nusidėvėjimą, amortizaciją prašoma finansuoti",null,null,1,0,0,0,null,null,null,null,null,null,"0",null,null,0," "]
["5.3.13","Turtas, kurio nusidėvėjimą, amortizaciją prašoma finansuoti",null,null,1,0,0,0,null,null,null,null,null,null,"0",null,null,0," "]
["5.3.14","Turtas, kurio nusidėvėjimą, amortizaciją prašoma finansuoti",null,null,1,0,0,0,null,null,null,null,null,null,"0",null,null,0," "]
["5.3.15","Turtas, kurio nusidėvėjimą, amortizaciją prašoma finansuoti",null,null,1,0,0,0,null,null,null,null,null,null,"0",null,null,0," "]
["5.4","Projektą vykdančio personalo darbo užmokestis ir išlaidos su darbo santykiais susijusiems darbdavio įsipareigojimams",null,null,null,null,{"$f":"SUM(G66:G115)","v":0},{"$f":"SUM(H66:H115)","v":0},null,null,"Faktiškai gaunamas darbo užmokesti už 1 valandą pagal  pastarųjų 6 mėn. vidurkį, Eur"]
["5.4.1","Pareigybės pavadinimas","Darbuotojo vardas pavardė","val.",null,{"$f":"IFERROR(ROUND(AVERAGE(K66:K70),2),\"0\")","v":"0"},{"$f":"ROUND(E66*F66,2)","v":0},{"$f":"ROUND(G66*$D$7,2)","v":0}]
[null,null,"Darbuotojo vardas pavardė"]
[null,null,"Darbuotojo vardas pavardė"]
[null,null,"Darbuotojo vardas pavardė"]
[null,null,"Darbuotojo vardas pavardė"]
["5.4.2","Pareigybės pavadinimas","Darbuotojo vardas pavardė","val.",null,{"$f":"IFERROR(ROUND(AVERAGE(K71:K75),2),\"0\")","v":"0"},{"$f":"ROUND(E71*F71,2)","v":0},{"$f":"ROUND(G71*$D$7,2)","v":0}]
[null,null,"Darbuotojo vardas pavardė"]
[null,null,"Darbuotojo vardas pavardė"]
[null,null,"Darbuotojo vardas pavardė"]
[null,null,"Darbuotojo vardas pavardė"]
["5.4.3","Pareigybės pavadinimas","Darbuotojo vardas pavardė","val.",null,{"$f":"IFERROR(ROUND(AVERAGE(K76:K80),2),\"0\")","v":"0"},{"$f":"ROUND(E76*F76,2)","v":0},{"$f":"ROUND(G76*$D$7,2)","v":0}]
[null,null,"Darbuotojo vardas pavardė"]
[null,null,"Darbuotojo vardas pavardė"]
[null,null,"Darbuotojo vardas pavardė"]
[null,null,"Darbuotojo vardas pavardė"]
["5.4.4","Pareigybės pavadinimas","Darbuotojo vardas pavardė","val.",null,{"$f":"IFERROR(ROUND(AVERAGE(K81:K85),2),\"0\")","v":"0"},{"$f":"ROUND(E81*F81,2)","v":0},{"$f":"ROUND(G81*$D$7,2)","v":0}]
[null,null,"Darbuotojo vardas pavardė"]
[null,null,"Darbuotojo vardas pavardė"]
[null,null,"Darbuotojo vardas pavardė"]
[null,null,"Darbuotojo vardas pavardė"]
["5.4.5","Pareigybės pavadinimas","Darbuotojo vardas pavardė","val.",null,{"$f":"IFERROR(ROUND(AVERAGE(K86:K90),2),\"0\")","v":"0"},{"$f":"ROUND(E86*F86,2)","v":0},{"$f":"ROUND(G86*$D$7,2)","v":0}]
[null,null,"Darbuotojo vardas pavardė"]
[null,null,"Darbuotojo vardas pavardė"]
[null,null,"Darbuotojo vardas pavardė"]
[null,null,"Darbuotojo vardas pavardė"]
["5.4.6","Pareigybės pavadinimas","Darbuotojo vardas pavardė","val.",null,{"$f":"IFERROR(ROUND(AVERAGE(K91:K95),2),\"0\")","v":"0"},{"$f":"ROUND(E91*F91,2)","v":0},{"$f":"ROUND(G91*$D$7,2)","v":0}]
[null,null,"Darbuotojo vardas pavardė"]
[null,null,"Darbuotojo vardas pavardė"]
[null,null,"Darbuotojo vardas pavardė"]
[null,null,"Darbuotojo vardas pavardė"]
["5.4.7","Pareigybės pavadinimas","Darbuotojo vardas pavardė","val.",null,{"$f":"IFERROR(ROUND(AVERAGE(K96:K100),2),\"0\")","v":"0"},{"$f":"ROUND(E96*F96,2)","v":0},{"$f":"ROUND(G96*$D$7,2)","v":0}]
[null,null,"Darbuotojo vardas pavardė"]
[null,null,"Darbuotojo vardas pavardė"]
[null,null,"Darbuotojo vardas pavardė"]
[null,null,"Darbuotojo vardas pavardė"]
["5.4.8","Pareigybės pavadinimas","Darbuotojo vardas pavardė","val.",null,{"$f":"IFERROR(ROUND(AVERAGE(K101:K105),2),\"0\")","v":"0"},{"$f":"ROUND(E101*F101,2)","v":0},{"$f":"ROUND(G101*$D$7,2)","v":0}]
[null,null,"Darbuotojo vardas pavardė"]
[null,null,"Darbuotojo vardas pavardė"]
[null,null,"Darbuotojo vardas pavardė"]
[null,null,"Darbuotojo vardas pavardė"]
["5.4.9","Pareigybės pavadinimas","Darbuotojo vardas pavardė","val.",null,{"$f":"IFERROR(ROUND(AVERAGE(K106:K110),2),\"0\")","v":"0"},{"$f":"ROUND(E106*F106,2)","v":0},{"$f":"ROUND(G106*$D$7,2)","v":0}]
[null,null,"Darbuotojo vardas pavardė"]
[null,null,"Darbuotojo vardas pavardė"]
[null,null,"Darbuotojo vardas pavardė"]
[null,null,"Darbuotojo vardas pavardė"]
["5.4.10","Pareigybės pavadinimas","Darbuotojo vardas pavardė","val.",null,{"$f":"IFERROR(ROUND(AVERAGE(K111:K115),2),\"0\")","v":"0"},{"$f":"ROUND(E111*F111,2)","v":0},{"$f":"ROUND(G111*$D$7,2)","v":0}]
[null,null,"Darbuotojo vardas pavardė"]
[null,null,"Darbuotojo vardas pavardė"]
[null,null,"Darbuotojo vardas pavardė"]
[null,null,"Darbuotojo vardas pavardė"]
["5.5","Projektą vykdančio personalo komandiruočių išlaidos",null,null,null,null,{"$f":"SUM(G117,G124,G131,G138,G145,G152,G159,G166,G173,G180)","v":0},{"$f":"SUM(H117,H124,H131,H138,H145,H152,H159,H166,H173,H180)","v":0}]
["5.5.1","Komandiruotės pavadinimas, vieta, trukmė dienomis, vykstančių asmenų skaičius","Iš viso komandiruotei",null,null,null,{"$f":"SUM(G118:G123)","v":0},{"$f":"ROUND(G117*$D$7,2)","v":0}]
[null,null,"Dienpinigiai",null,null,null,{"$f":"ROUND(E118*F118,2)","v":0}]
[null,null,"Gyvenamojo ploto nuoma",null,null,null,0]
[null,null,"Kelionės išlaidos",null,null,null,0]
[null,null,"Dalyvavimo mokestis",null,null,null,0]
[null,null,"Kitos išlaidų pavadinimas",null,null,null,0]
[null,null,"Kitos išlaidų pavadinimas",null,null,null,0]
["5.5.2","Komandiruotės pavadinimas, vieta, trukmė dienomis, vykstančių asmenų skaičius","Iš viso komandiruotei",null,null,null,{"$f":"SUM(G125:G130)","v":0},{"$f":"ROUND(G124*$D$7,2)","v":0}]
[null,null,"Dienpinigiai",null,null,null,{"$f":"ROUND(E125*F125,2)","v":0}]
[null,null,"Gyvenamojo ploto nuoma",null,null,null,0]
[null,null,"Kelionės išlaidos",null,null,null,0]
[null,null,"Dalyvavimo mokestis",null,null,null,0]
[null,null,"Kitos išlaidų pavadinimas",null,null,null,0]
[null,null,"Kitos išlaidų pavadinimas",null,null,null,0]
["5.5.3","Komandiruotės pavadinimas, vieta, trukmė dienomis, vykstančių asmenų skaičius","Iš viso komandiruotei",null,null,null,{"$f":"SUM(G132:G137)","v":0},{"$f":"ROUND(G131*$D$7,2)","v":0}]
[null,null,"Dienpinigiai",null,null,null,{"$f":"ROUND(E132*F132,2)","v":0}]
[null,null,"Gyvenamojo ploto nuoma",null,null,null,0]
[null,null,"Kelionės išlaidos",null,null,null,0]
[null,null,"Dalyvavimo mokestis",null,null,null,0]
[null,null,"Kitos išlaidų pavadinimas",null,null,null,0]
[null,null,"Kitos išlaidų pavadinimas",null,null,null,0]
["5.5.4","Komandiruotės pavadinimas, vieta, trukmė dienomis, vykstančių asmenų skaičius","Iš viso komandiruotei",null,null,null,{"$f":"SUM(G139:G144)","v":0},{"$f":"ROUND(G138*$D$7,2)","v":0}]
[null,null,"Dienpinigiai",null,null,null,{"$f":"ROUND(E139*F139,2)","v":0}]
[null,null,"Gyvenamojo ploto nuoma",null,null,null,0]
[null,null,"Kelionės išlaidos",null,null,null,0]
[null,null,"Dalyvavimo mokestis",null,null,null,0]
[null,null,"Kitos išlaidų pavadinimas",null,null,null,0]
[null,null,"Kitos išlaidų pavadinimas",null,null,null,0]
["5.5.5","Komandiruotės pavadinimas, vieta, trukmė dienomis, vykstančių asmenų skaičius","Iš viso komandiruotei",null,null,null,{"$f":"SUM(G146:G151)","v":0},{"$f":"ROUND(G145*$D$7,2)","v":0}]
[null,null,"Dienpinigiai",null,null,null,{"$f":"ROUND(E146*F146,2)","v":0}]
[null,null,"Gyvenamojo ploto nuoma",null,null,null,0]
[null,null,"Kelionės išlaidos",null,null,null,0]
[null,null,"Dalyvavimo mokestis",null,null,null,0]
[null,null,"Kitos išlaidų pavadinimas",null,null,null,0]
[null,null,"Kitos išlaidų pavadinimas",null,null,null,0]
["5.5.6","Komandiruotės pavadinimas, vieta, trukmė dienomis, vykstančių asmenų skaičius","Iš viso komandiruotei",null,null,null,{"$f":"SUM(G153:G158)","v":0},{"$f":"ROUND(G152*$D$7,2)","v":0}]
[null,null,"Dienpinigiai",null,null,null,{"$f":"ROUND(E153*F153,2)","v":0}]
[null,null,"Gyvenamojo ploto nuoma",null,null,null,0]
[null,null,"Kelionės išlaidos",null,null,null,0]
[null,null,"Dalyvavimo mokestis",null,null,null,0]
[null,null,"Kitos išlaidų pavadinimas",null,null,null,0]
[null,null,"Kitos išlaidų pavadinimas",null,null,null,0]
["5.5.7","Komandiruotės pavadinimas, vieta, trukmė dienomis, vykstančių asmenų skaičius","Iš viso komandiruotei",null,null,null,{"$f":"SUM(G160:G165)","v":0},{"$f":"ROUND(G159*$D$7,2)","v":0}]
[null,null,"Dienpinigiai",null,null,null,{"$f":"ROUND(E160*F160,2)","v":0}]
[null,null,"Gyvenamojo ploto nuoma",null,null,null,0]
[null,null,"Kelionės išlaidos",null,null,null,0]
[null,null,"Dalyvavimo mokestis",null,null,null,0]
[null,null,"Kitos išlaidų pavadinimas",null,null,null,0]
[null,null,"Kitos išlaidų pavadinimas",null,null,null,0]
["5.5.8","Komandiruotės pavadinimas, vieta, trukmė dienomis, vykstančių asmenų skaičius","Iš viso komandiruotei",null,null,null,{"$f":"SUM(G167:G172)","v":0},{"$f":"ROUND(G166*$D$7,2)","v":0}]
[null,null,"Dienpinigiai",null,null,null,{"$f":"ROUND(E167*F167,2)","v":0}]
[null,null,"Gyvenamojo ploto nuoma",null,null,null,0]
[null,null,"Kelionės išlaidos",null,null,null,0]
[null,null,"Dalyvavimo mokestis",null,null,null,0]
[null,null,"Kitos išlaidų pavadinimas",null,null,null,0]
[null,null,"Kitos išlaidų pavadinimas",null,null,null,0]
["5.5.9","Komandiruotės pavadinimas, vieta, trukmė dienomis, vykstančių asmenų skaičius","Iš viso komandiruotei",null,null,null,{"$f":"SUM(G174:G179)","v":0},{"$f":"ROUND(G173*$D$7,2)","v":0}]
[null,null,"Dienpinigiai",null,null,null,{"$f":"ROUND(E174*F174,2)","v":0}]
[null,null,"Gyvenamojo ploto nuoma",null,null,null,0]
[null,null,"Kelionės išlaidos",null,null,null,0]
[null,null,"Dalyvavimo mokestis",null,null,null,0]
[null,null,"Kitos išlaidų pavadinimas",null,null,null,0]
[null,null,"Kitos išlaidų pavadinimas",null,null,null,0]
["5.5.10","Komandiruotės pavadinimas, vieta, trukmė dienomis, vykstančių asmenų skaičius","Iš viso komandiruotei",null,null,null,{"$f":"SUM(G181:G186)","v":0},{"$f":"ROUND(G180*$D$7,2)","v":0}]
[null,null,"Dienpinigiai",null,null,null,{"$f":"ROUND(E181*F181,2)","v":0}]
[null,null,"Gyvenamojo ploto nuoma",null,null,null,0]
[null,null,"Kelionės išlaidos",null,null,null,0]
[null,null,"Dalyvavimo mokestis",null,null,null,0]
[null,null,"Kitos išlaidų pavadinimas",null,null,null,0]
[null,null,"Kitos išlaidų pavadinimas",null,null,null,0]
["Iš viso tinkamų finansuoti išlaidų:",null,null,null,null,null,{"$f":"G10+G21","v":0},{"$f":"H10+H21","v":0}]

{"sheet":"13","index":15,"n_rows":187,"n_cols":19,"rows_kept":187,"cut":false,"hidden":false,"merged":[[179,0,185,0],[179,1,185,1],[179,8,185,8],[186,0,186,5],[165,0,171,0],[165,1,171,1],[165,8,171,8],[172,0,178,0],[172,1,178,1],[172,8,178,8],[151,0,157,0],[151,1,157,1],[151,8,157,8],[158,0,164,0],[158,1,164,1],[158,8,164,8],[137,0,143,0],[137,1,143,1],[137,8,143,8],[144,0,150,0],[144,1,150,1],[144,8,150,8],[123,0,129,0],[123,1,129,1],[123,8,129,8],[130,0,136,0],[130,1,136,1],[130,8,136,8],[110,7,114,7],[110,8,114,8],[115,1,115,5],[116,0,122,0],[116,1,122,1],[116,8,122,8],[110,0,114,0],[110,1,114,1],[110,3,114,3],[110,4,114,4],[110,5,114,5],[110,6,114,6],[100,7,104,7],[100,8,104,8],[105,0,109,0],[105,1,109,1],[105,3,109,3],[105,4,109,4],[105,5,109,5],[105,6,109,6],[105,7,109,7],[105,8,109,8],[100,0,104,0],[100,1,104,1],[100,3,104,3],[100,4,104,4],[100,5,104,5],[100,6,104,6],[90,7,94,7],[90,8,94,8],[95,0,99,0],[95,1,99,1],[95,3,99,3],[95,4,99,4],[95,5,99,5],[95,6,99,6],[95,7,99,7],[95,8,99,8],[90,0,94,0],[90,1,94,1],[90,3,94,3],[90,4,94,4],[90,5,94,5],[90,6,94,6],[85,0,89,0],[85,1,89,1],[85,3,89,3],[85,4,89,4],[85,5,89,5],[85,6,89,6],[85,7,89,7],[85,8,89,8],[80,0,84,0],[80,1,84,1],[80,3,84,3],[80,4,84,4],[80,5,84,5],[80,6,84,6],[75,0,79,0],[75,1,79,1],[75,3,79,3],[75,4,79,4],[75,5,79,5],[75,6,79,6],[75,7,79,7],[75,8,79,8],[80,7,84,7],[80,8,84,8],[65,6,69,6],[65,7,69,7],[65,8,69,8],[70,0,74,0],[70,1,74,1],[70,3,74,3],[70,4,74,4],[70,5,74,5],[70,6,74,6],[70,7,74,7],[70,8,74,8],[62,1,62,2],[63,1,63,2],[64,1,64,5],[65,0,69,0],[65,1,69,1],[65,3,69,3],[65,4,69,4],[65,5,69,5],[56,1,56,2],[57,1,57,2],[58,1,58,2],[59,1,59,2],[60,1,60,2],[61,1,61,2],[50,1,50,2],[51,1,51,2],[52,1,52,2],[53,1,53,2],[54,1,54,2],[55,1,55,2],[44,1,44,2],[45,1,45,2],[46,1,46,2],[47,1,47,2],[48,1,48,5],[49,1,49,2],[38,1,38,2],[39,1,39,2],[40,1,40,2],[41,1,41,2],[42,1,42,2],[43,1,43,2],[32,1,32,5],[33,1,33,2],[34,1,34,2],[35,1,35,2],[36,1,36,2],[37,1,37,2],[26,1,26,2],[27,1,27,2],[28,1,28,2],[29,1,29,2],[30,1,30,2],[31,1,31,2],[20,1,20,5],[21,1,21,5],[22,1,22,2],[23,1,23,2],[24,1,24,2],[25,1,25,2],[16,1,16,2],[17,1,17,2],[18,1,18,2],[19,1,19,2],[8,1,8,2],[9,1,9,5],[10,1,10,2],[11,1,11,2],[12,1,12,2],[13,1,13,2],[0,3,0,8],[2,0,2,2],[2,3,2,8],[3,3,3,4],[3,5,3,6],[4,0,4,2],[4,3,4,8],[14,1,14,2],[15,1,15,2],[5,3,5,8]]}
[null,null,"Pasirinkite veiklos tipą:"]
[null,null,"Fizinio rodiklio Nr.:"]
["Fizinio rodiklio pavadinimas:"]
[null,null,"Fizinio rodiklio matavimo vnt.:",null,null,"Fizinio rodiklio vnt. skaičius:"]
["Juridinis asmuo (pareiškėjas, partneris), atsakingas už fizinį rodiklį:"]
[null,null,"Vykdytojo tipas:"]
[null,null,"Finansavimo intensyvumas:",null,null,null,"Pasirinkite biudžeto išlaidų kategoriją:","Visos"]
[]
["Eil. Nr.","Išlaidų kategorijos pavadinimas",null,"Matavimo vnt.","Kiekis","Vieneto kaina be PVM, Eur","Tinkamų finansuoti išlaidų suma be PVM, Eur","Finansavimo suma, Eur","Išlaidų pagrindimo dokumentų pavadinimas, data ir Nr."]
[4,"ĮRANGA, ĮRENGINIAI IR KT. TURTAS (techninių žinių ir išradimų patentų arba teisių pagal licencijų sutartį įsigijimo išlaidos)",null,null,null,null,{"$f":"SUM(G11:G20)","v":0},{"$f":"SUM(H11:H20)","v":0}]
["4.1","Išlaidų pavadinimas",null,null,null,null,{"$f":"ROUND(E11*F11,2)","v":0},{"$f":"ROUND(G11*$D$7,2)","v":0}]
["4.2","Išlaidų pavadinimas",null,null,null,null,0,0]
["4.3","Išlaidų pavadinimas",null,null,null,null,0,0]
["4.4","Išlaidų pavadinimas",null,null,null,null,0,0]
["4.5","Išlaidų pavadinimas",null,null,null,null,0,0]
["4.6","Išlaidų pavadinimas",null,null,null,null,0,0]
["4.7","Išlaidų pavadinimas",null,null,null,null,0,0]
["4.8","Išlaidų pavadinimas",null,null,null,null,0,0]
["4.9","Išlaidų pavadinimas",null,null,null,null,0,0]
["4.10","Išlaidų pavadinimas",null,null,null,null,0,0]
[5,"PROJEKTO VYKDYMAS",null,null,null,null,{"$f":"G22+G33+G49+G65+G116","v":0},{"$f":"H22+H33+H49+H65+H116","v":0}]
["5.1","MTEP paslaugos",null,null,null,null,{"$f":"SUM(G23:G32)","v":0},{"$f":"SUM(H23:H32)","v":0}]
["5.1.1","Paslaugos pavadinimas",null,null,null,null,{"$f":"ROUND(E23*F23,2)","v":0},0]
["5.1.2","Paslaugos pavadinimas",null,null,null,null,0,0]
["5.1.3","Paslaugos pavadinimas",null,null,null,null,0,0]
["5.1.4","Paslaugos pavadinimas",null,null,null,null,0,0]
["5.1.5","Paslaugos pavadinimas",null,null,null,null,0,0]
["5.1.6","Paslaugos pavadinimas",null,null,null,null,0,0]
["5.1.7","Paslaugos pavadinimas",null,null,null,null,0,0]
["5.1.8","Paslaugos pavadinimas",null,null,null,null,0,0]
["5.1.9","Paslaugos pavadinimas",null,null,null,null,0,0]
["5.1.10","Paslaugos pavadinimas",null,null,null,null,0,0]
["5.2","Medžiagos, mažavertis inventorius, atsargos ir pan. produktai, priskirtini trumpalaikiam turtui ir tiesiogiai susiję su MTEP veikla",null,null,null,null,{"$f":"SUM(G34:G50)","v":0},{"$f":"SUM(H34:H50)","v":0}]
["5.2.1","Išlaidų pavadinimas",null,null,null,null,{"$f":"ROUND(E34*F34,2)","v":0},{"$f":"ROUND(G34*$D$7,2)","v":0}]
["5.2.2","Išlaidų pavadinimas",null,null,null,null,0,0]
["5.2.3","Išlaidų pavadinimas",null,null,null,null,0,0]
["5.2.4","Išlaidų pavadinimas",null,null,null,null,0,0]
["5.2.5","Išlaidų pavadinimas",null,null,null,null,0,0]
["5.2.6","Išlaidų pavadinimas",null,null,null,null,0,0]
["5.2.7","Išlaidų pavadinimas",null,null,null,null,0,0]
["5.2.8","Išlaidų pavadinimas",null,null,null,null,0,0]
["5.2.9","Išlaidų pavadinimas",null,null,null,null,0,0]
["5.2.10","Išlaidų pavadinimas",null,null,null,null,0,0]
["5.2.11","Išlaidų pavadinimas",null,null,null,null,0,0]
["5.2.12","Išlaidų pavadinimas",null,null,null,null,0,0]
["5.2.13","Išlaidų pavadinimas",null,null,null,null,0,0]
["5.2.14","Išlaidų pavadinimas",null,null,null,null,0,0]
["5.2.15","Išlaidų pavadinimas",null,null,null,null,0,0]
["5.3","Projekto MTEP veikloms naudojamo ilgalaikio materialaus turto (įrangos, prietaisų, įrankių, įrenginių, mašinų ir įrengimų, pastatų ir (ar) patalpų), nusidėvėjimo sąnaudos, jeigu šiam turtui įsigyti nebuvo naudojamos viešosios (įskaitant ir kitų valstybių) lėšos",null,null,null,null,{"$f":"SUM(G50:G64)","v":0},{"$f":"SUM(H50:H64)","v":0},null,null,"Turto įvedimo į eksploataciją data","Turto įsigijimo vertė, Eur","Turto nudėvėjimo, amortizacijos laikotarpis, mėn.","Numatoma turto likutinė vertė, Eur","1 mėn. nudėvėjimo, amortizacijos suma, Eur","Turto naudojamo projekto reikmėms laikas, mėn.","Turto panaudojimo projekto reikmėms dalis (proc.)","Projektui priskirta turto nusidėvėjimo, amortizacijos suma per projekto laikotarpį, Eur"]
["5.3.1","Turtas, kurio nusidėvėjimą, amortizaciją prašoma finansuoti",null,null,1,{"$f":"R50","v":0},{"$f":"ROUND(E50*F50,2)","v":0},0,null,null,null,null,null,null,{"$f":"IFERROR(ROUND((L50-N50)/M50,2),\"0\")","v":"0"},null,null,{"$f":"O50*P50*Q50","v":0},{"$f":"IF(K50=0,\" \",IF(K50+(M50*30.5)<TODAY(),\"DĖMESIO! Patikrinkite, ar nurodytas turtas dar nėra nudėvėtas, amortizuotas\",\" \"))","v":" "}]
["5.3.2","Turtas, kurio nusidėvėjimą, amortizaciją prašoma finansuoti",null,null,1,{"$f":"R51","v":0},0,0,null,null,null,null,null,null,{"$f":"IFERROR(ROUND((L51-N51)/M51,2),\"0\")","v":"0"},null,null,{"$f":"O51*P51*Q51","v":0},{"$f":"IF(K51=0,\" \",IF(K51+(M51*30.5)<TODAY(),\"DĖMESIO! Patikrinkite, ar nurodytas turtas dar nėra nudėvėtas, amortizuotas\",\" \"))","v":" "}]
["5.3.3","Turtas, kurio nusidėvėjimą, amortizaciją prašoma finansuoti",null,null,1,0,0,0,null,null,null,null,null,null,"0",null,null,0," "]
["5.3.4","Turtas, kurio nusidėvėjimą, amortizaciją prašoma finansuoti",null,null,1,0,0,0,null,null,null,null,null,null,"0",null,null,0," "]
["5.3.5","Turtas, kurio nusidėvėjimą, amortizaciją prašoma finansuoti",null,null,1,0,0,0,null,null,null,null,null,null,"0",null,null,0," "]
["5.3.6","Turtas, kurio nusidėvėjimą, amortizaciją prašoma finansuoti",null,null,1,0,0,0,null,null,null,null,null,null,"0",null,null,0," "]
["5.3.7","Turtas, kurio nusidėvėjimą, amortizaciją prašoma finansuoti",null,null,1,0,0,0,null,null,null,null,null,null,"0",null,null,0," "]
["5.3.8","Turtas, kurio nusidėvėjimą, amortizaciją prašoma finansuoti",null,null,1,0,0,0,null,null,null,null,null,null,"0",null,null,0," "]
["5.3.9","Turtas, kurio nusidėvėjimą, amortizaciją prašoma finansuoti",null,null,1,0,0,0,null,null,null,null,null,null,"0",null,null,0," "]
["5.3.10","Turtas, kurio nusidėvėjimą, amortizaciją prašoma finansuoti",null,null,1,0,0,0,null,null,null,null,null,null,"0",null,null,0," "]
["5.3.11","Turtas, kurio nusidėvėjimą, amortizaciją prašoma finansuoti",null,null,1,0,0,0,null,null,null,null,null,null,"0",null,null,0," "]
["5.3.12","Turtas, kurio nusidėvėjimą, amortizaciją prašoma finansuoti",null,null,1,0,0,0,null,null,null,null,null,null,"0",null,null,0," "]
["5.3.13","Turtas, kurio nusidėvėjimą, amortizaciją prašoma finansuoti",null,null,1,0,0,0,null,null,null,null,null,null,"0",null,null,0," "]
["5.3.14","Turtas, kurio nusidėvėjimą, amortizaciją prašoma finansuoti",null,null,1,0,0,0,null,null,null,null,null,null,"0",null,null,0," "]
["5.3.15","Turtas, kurio nusidėvėjimą, amortizaciją prašoma finansuoti",null,null,1,0,0,0,null,null,null,null,null,null,"0",null,null,0," "]
["5.4","Projektą vykdančio personalo darbo užmokestis ir išlaidos su darbo santykiais susijusiems darbdavio įsipareigojimams",null,null,null,null,{"$f":"SUM(G66:G115)","v":0},{"$f":"SUM(H66:H115)","v":0},null,null,"Faktiškai gaunamas darbo užmokesti už 1 valandą pagal  pastarųjų 6 mėn. vidurkį, Eur"]
["5.4.1","Pareigybės pavadinimas","Darbuotojo vardas pavardė","val.",null,{"$f":"IFERROR(ROUND(AVERAGE(K66:K70),2),\"0\")","v":"0"},{"$f":"ROUND(E66*F66,2)","v":0},{"$f":"ROUND(G66*$D$7,2)","v":0}]
[null,null,"Darbuotojo vardas pavardė"]
[null,null,"Darbuotojo vardas pavardė"]
[null,null,"Darbuotojo vardas pavardė"]
[null,null,"Darbuotojo vardas pavardė"]
["5.4.2","Pareigybės pavadinimas","Darbuotojo vardas pavardė","val.",null,{"$f":"IFERROR(ROUND(AVERAGE(K71:K75),2),\"0\")","v":"0"},{"$f":"ROUND(E71*F71,2)","v":0},{"$f":"ROUND(G71*$D$7,2)","v":0}]
[null,null,"Darbuotojo vardas pavardė"]
[null,null,"Darbuotojo vardas pavardė"]
[null,null,"Darbuotojo vardas pavardė"]
[null,null,"Darbuotojo vardas pavardė"]
["5.4.3","Pareigybės pavadinimas","Darbuotojo vardas pavardė","val.",null,{"$f":"IFERROR(ROUND(AVERAGE(K76:K80),2),\"0\")","v":"0"},{"$f":"ROUND(E76*F76,2)","v":0},{"$f":"ROUND(G76*$D$7,2)","v":0}]
[null,null,"Darbuotojo vardas pavardė"]
[null,null,"Darbuotojo vardas pavardė"]
[null,null,"Darbuotojo vardas pavardė"]
[null,null,"Darbuotojo vardas pavardė"]
["5.4.4","Pareigybės pavadinimas","Darbuotojo vardas pavardė","val.",null,{"$f":"IFERROR(ROUND(AVERAGE(K81:K85),2),\"0\")","v":"0"},{"$f":"ROUND(E81*F81,2)","v":0},{"$f":"ROUND(G81*$D$7,2)","v":0}]
[null,null,"Darbuotojo vardas pavardė"]
[null,null,"Darbuotojo vardas pavardė"]
[null,null,"Darbuotojo vardas pavardė"]
[null,null,"Darbuotojo vardas pavardė"]
["5.4.5","Pareigybės pavadinimas","Darbuotojo vardas pavardė","val.",null,{"$f":"IFERROR(ROUND(AVERAGE(K86:K90),2),\"0\")","v":"0"},{"$f":"ROUND(E86*F86,2)","v":0},{"$f":"ROUND(G86*$D$7,2)","v":0}]
[null,null,"Darbuotojo vardas pavardė"]
[null,null,"Darbuotojo vardas pavardė"]
[null,null,"Darbuotojo vardas pavardė"]
[null,null,"Darbuotojo vardas pavardė"]
["5.4.6","Pareigybės pavadinimas","Darbuotojo vardas pavardė","val.",null,{"$f":"IFERROR(ROUND(AVERAGE(K91:K95),2),\"0\")","v":"0"},{"$f":"ROUND(E91*F91,2)","v":0},{"$f":"ROUND(G91*$D$7,2)","v":0}]
[null,null,"Darbuotojo vardas pavardė"]
[null,null,"Darbuotojo vardas pavardė"]
[null,null,"Darbuotojo vardas pavardė"]
[null,null,"Darbuotojo vardas pavardė"]
["5.4.7","Pareigybės pavadinimas","Darbuotojo vardas pavardė","val.",null,{"$f":"IFERROR(ROUND(AVERAGE(K96:K100),2),\"0\")","v":"0"},{"$f":"ROUND(E96*F96,2)","v":0},{"$f":"ROUND(G96*$D$7,2)","v":0}]
[null,null,"Darbuotojo vardas pavardė"]
[null,null,"Darbuotojo vardas pavardė"]
[null,null,"Darbuotojo vardas pavardė"]
[null,null,"Darbuotojo vardas pavardė"]
["5.4.8","Pareigybės pavadinimas","Darbuotojo vardas pavardė","val.",null,{"$f":"IFERROR(ROUND(AVERAGE(K101:K105),2),\"0\")","v":"0"},{"$f":"ROUND(E101*F101,2)","v":0},{"$f":"ROUND(G101*$D$7,2)","v":0}]
[null,null,"Darbuotojo vardas pavardė"]
[null,null,"Darbuotojo vardas pavardė"]
[null,null,"Darbuotojo vardas pavardė"]
[null,null,"Darbuotojo vardas pavardė"]
["5.4.9","Pareigybės pavadinimas","Darbuotojo vardas pavardė","val.",null,{"$f":"IFERROR(ROUND(AVERAGE(K106:K110),2),\"0\")","v":"0"},{"$f":"ROUND(E106*F106,2)","v":0},{"$f":"ROUND(G106*$D$7,2)","v":0}]
[null,null,"Darbuotojo vardas pavardė"]
[null,null,"Darbuotojo vardas pavardė"]
[null,null,"Darbuotojo vardas pavardė"]
[null,null,"Darbuotojo vardas pavardė"]
["5.4.10","Pareigybės pavadinimas","Darbuotojo vardas pavardė","val.",null,{"$f":"IFERROR(ROUND(AVERAGE(K111:K115),2),\"0\")","v":"0"},{"$f":"ROUND(E111*F111,2)","v":0},{"$f":"ROUND(G111*$D$7,2)","v":0}]
[null,null,"Darbuotojo vardas pavardė"]
[null,null,"Darbuotojo vardas pavardė"]
[null,null,"Darbuotojo vardas pavardė"]
[null,null,"Darbuotojo vardas pavardė"]
["5.5","Projektą vykdančio personalo komandiruočių išlaidos",null,null,null,null,{"$f":"SUM(G117,G124,G131,G138,G145,G152,G159,G166,G173,G180)","v":0},{"$f":"SUM(H117,H124,H131,H138,H145,H152,H159,H166,H173,H180)","v":0}]
["5.5.1","Komandiruotės pavadinimas, vieta, trukmė dienomis, vykstančių asmenų skaičius","Iš viso komandiruotei",null,null,null,{"$f":"SUM(G118:G123)","v":0},{"$f":"ROUND(G117*$D$7,2)","v":0}]
[null,null,"Dienpinigiai",null,null,null,{"$f":"ROUND(E118*F118,2)","v":0}]
[null,null,"Gyvenamojo ploto nuoma",null,null,null,0]
[null,null,"Kelionės išlaidos",null,null,null,0]
[null,null,"Dalyvavimo mokestis",null,null,null,0]
[null,null,"Kitos išlaidų pavadinimas",null,null,null,0]
[null,null,"Kitos išlaidų pavadinimas",null,null,null,0]
["5.5.2","Komandiruotės pavadinimas, vieta, trukmė dienomis, vykstančių asmenų skaičius","Iš viso komandiruotei",null,null,null,{"$f":"SUM(G125:G130)","v":0},{"$f":"ROUND(G124*$D$7,2)","v":0}]
[null,null,"Dienpinigiai",null,null,null,{"$f":"ROUND(E125*F125,2)","v":0}]
[null,null,"Gyvenamojo ploto nuoma",null,null,null,0]
[null,null,"Kelionės išlaidos",null,null,null,0]
[null,null,"Dalyvavimo mokestis",null,null,null,0]
[null,null,"Kitos išlaidų pavadinimas",null,null,null,0]
[null,null,"Kitos išlaidų pavadinimas",null,null,null,0]
["5.5.3","Komandiruotės pavadinimas, vieta, trukmė dienomis, vykstančių asmenų skaičius","Iš viso komandiruotei",null,null,null,{"$f":"SUM(G132:G137)","v":0},{"$f":"ROUND(G131*$D$7,2)","v":0}]
[null,null,"Dienpinigiai",null,null,null,{"$f":"ROUND(E132*F132,2)","v":0}]
[null,null,"Gyvenamojo ploto nuoma",null,null,null,0]
[null,null,"Kelionės išlaidos",null,null,null,0]
[null,null,"Dalyvavimo mokestis",null,null,null,0]
[null,null,"Kitos išlaidų pavadinimas",null,null,null,0]
[null,null,"Kitos išlaidų pavadinimas",null,null,null,0]
["5.5.4","Komandiruotės pavadinimas, vieta, trukmė dienomis, vykstančių asmenų skaičius","Iš viso komandiruotei",null,null,null,{"$f":"SUM(G139:G144)","v":0},{"$f":"ROUND(G138*$D$7,2)","v":0}]
[null,null,"Dienpinigiai",null,null,null,{"$f":"ROUND(E139*F139,2)","v":0}]
[null,null,"Gyvenamojo ploto nuoma",null,null,null,0]
[null,null,"Kelionės išlaidos",null,null,null,0]
[null,null,"Dalyvavimo mokestis",null,null,null,0]
[null,null,"Kitos išlaidų pavadinimas",null,null,null,0]
[null,null,"Kitos išlaidų pavadinimas",null,null,null,0]
["5.5.5","Komandiruotės pavadinimas, vieta, trukmė dienomis, vykstančių asmenų skaičius","Iš viso komandiruotei",null,null,null,{"$f":"SUM(G146:G151)","v":0},{"$f":"ROUND(G145*$D$7,2)","v":0}]
[null,null,"Dienpinigiai",null,null,null,{"$f":"ROUND(E146*F146,2)","v":0}]
[null,null,"Gyvenamojo ploto nuoma",null,null,null,0]
[null,null,"Kelionės išlaidos",null,null,null,0]
[null,null,"Dalyvavimo mokestis",null,null,null,0]
[null,null,"Kitos išlaidų pavadinimas",null,null,null,0]
[null,null,"Kitos išlaidų pavadinimas",null,null,null,0]
["5.5.6","Komandiruotės pavadinimas, vieta, trukmė dienomis, vykstančių asmenų skaičius","Iš viso komandiruotei",null,null,null,{"$f":"SUM(G153:G158)","v":0},{"$f":"ROUND(G152*$D$7,2)","v":0}]
[null,null,"Dienpinigiai",null,null,null,{"$f":"ROUND(E153*F153,2)","v":0}]
[null,null,"Gyvenamojo ploto nuoma",null,null,null,0]
[null,null,"Kelionės išlaidos",null,null,null,0]
[null,null,"Dalyvavimo mokestis",null,null,null,0]
[null,null,"Kitos išlaidų pavadinimas",null,null,null,0]
[null,null,"Kitos išlaidų pavadinimas",null,null,null,0]
["5.5.7","Komandiruotės pavadinimas, vieta, trukmė dienomis, vykstančių asmenų skaičius","Iš viso komandiruotei",null,null,null,{"$f":"SUM(G160:G165)","v":0},{"$f":"ROUND(G159*$D$7,2)","v":0}]
[null,null,"Dienpinigiai",null,null,null,{"$f":"ROUND(E160*F160,2)","v":0}]
[null,null,"Gyvenamojo ploto nuoma",null,null,null,0]
[null,null,"Kelionės išlaidos",null,null,null,0]
[null,null,"Dalyvavimo mokestis",null,null,null,0]
[null,null,"Kitos išlaidų pavadinimas",null,null,null,0]
[null,null,"Kitos išlaidų pavadinimas",null,null,null,0]
["5.5.8","Komandiruotės pavadinimas, vieta, trukmė dienomis, vykstančių asmenų skaičius","Iš viso komandiruotei",null,null,null,{"$f":"SUM(G167:G172)","v":0},{"$f":"ROUND(G166*$D$7,2)","v":0}]
[null,null,"Dienpinigiai",null,null,null,{"$f":"ROUND(E167*F167,2)","v":0}]
[null,null,"Gyvenamojo ploto nuoma",null,null,null,0]
[null,null,"Kelionės išlaidos",null,null,null,0]
[null,null,"Dalyvavimo mokestis",null,null,null,0]
[null,null,"Kitos išlaidų pavadinimas",null,null,null,0]
[null,null,"Kitos išlaidų pavadinimas",null,null,null,0]
["5.5.9","Komandiruotės pavadinimas, vieta, trukmė dienomis, vykstančių asmenų skaičius","Iš viso komandiruotei",null,null,null,{"$f":"SUM(G174:G179)","v":0},{"$f":"ROUND(G173*$D$7,2)","v":0}]
[null,null,"Dienpinigiai",null,null,null,{"$f":"ROUND(E174*F174,2)","v":0}]
[null,null,"Gyvenamojo ploto nuoma",null,null,null,0]
[null,null,"Kelionės išlaidos",null,null,null,0]
[null,null,"Dalyvavimo mokestis",null,null,null,0]
[null,null,"Kitos išlaidų pavadinimas",null,null,null,0]
[null,null,"Kitos išlaidų pavadinimas",null,null,null,0]
["5.5.10","Komandiruotės pavadinimas, vieta, trukmė dienomis, vykstančių asmenų skaičius","Iš viso komandiruotei",null,null,null,{"$f":"SUM(G181:G186)","v":0},{"$f":"ROUND(G180*$D$7,2)","v":0}]
[null,null,"Dienpinigiai",null,null,null,{"$f":"ROUND(E181*F181,2)","v":0}]
[null,null,"Gyvenamojo ploto nuoma",null,null,null,0]
[null,null,"Kelionės išlaidos",null,null,null,0]
[null,null,"Dalyvavimo mokestis",null,null,null,0]
[null,null,"Kitos išlaidų pavadinimas",null,null,null,0]
[null,null,"Kitos išlaidų pavadinimas",null,null,null,0]
["Iš viso tinkamų finansuoti išlaidų:",null,null,null,null,null,{"$f":"G10+G21","v":0},{"$f":"H10+H21","v":0}]

{"sheet":"14","index":16,"n_rows":187,"n_cols":19,"rows_kept":187,"cut":false,"hidden":false,"merged":[[179,0,185,0],[179,1,185,1],[179,8,185,8],[186,0,186,5],[165,0,171,0],[165,1,171,1],[165,8,171,8],[172,0,178,0],[172,1,178,1],[172,8,178,8],[151,0,157,0],[151,1,157,1],[151,8,157,8],[158,0,164,0],[158,1,164,1],[158,8,164,8],[137,0,143,0],[137,1,143,1],[137,8,143,8],[144,0,150,0],[144,1,150,1],[144,8,150,8],[123,0,129,0],[123,1,129,1],[123,8,129,8],[130,0,136,0],[130,1,136,1],[130,8,136,8],[110,7,114,7],[110,8,114,8],[115,1,115,5],[116,0,122,0],[116,1,122,1],[116,8,122,8],[110,0,114,0],[110,1,114,1],[110,3,114,3],[110,4,114,4],[110,5,114,5],[110,6,114,6],[100,7,104,7],[100,8,104,8],[105,0,109,0],[105,1,109,1],[105,3,109,3],[105,4,109,4],[105,5,109,5],[105,6,109,6],[105,7,109,7],[105,8,109,8],[100,0,104,0],[100,1,104,1],[100,3,104,3],[100,4,104,4],[100,5,104,5],[100,6,104,6],[90,7,94,7],[90,8,94,8],[95,0,99,0],[95,1,99,1],[95,3,99,3],[95,4,99,4],[95,5,99,5],[95,6,99,6],[95,7,99,7],[95,8,99,8],[90,0,94,0],[90,1,94,1],[90,3,94,3],[90,4,94,4],[90,5,94,5],[90,6,94,6],[85,0,89,0],[85,1,89,1],[85,3,89,3],[85,4,89,4],[85,5,89,5],[85,6,89,6],[85,7,89,7],[85,8,89,8],[80,0,84,0],[80,1,84,1],[80,3,84,3],[80,4,84,4],[80,5,84,5],[80,6,84,6],[75,0,79,0],[75,1,79,1],[75,3,79,3],[75,4,79,4],[75,5,79,5],[75,6,79,6],[75,7,79,7],[75,8,79,8],[80,7,84,7],[80,8,84,8],[65,6,69,6],[65,7,69,7],[65,8,69,8],[70,0,74,0],[70,1,74,1],[70,3,74,3],[70,4,74,4],[70,5,74,5],[70,6,74,6],[70,7,74,7],[70,8,74,8],[62,1,62,2],[63,1,63,2],[64,1,64,5],[65,0,69,0],[65,1,69,1],[65,3,69,3],[65,4,69,4],[65,5,69,5],[56,1,56,2],[57,1,57,2],[58,1,58,2],[59,1,59,2],[60,1,60,2],[61,1,61,2],[50,1,50,2],[51,1,51,2],[52,1,52,2],[53,1,53,2],[54,1,54,2],[55,1,55,2],[44,1,44,2],[45,1,45,2],[46,1,46,2],[47,1,47,2],[48,1,48,5],[49,1,49,2],[38,1,38,2],[39,1,39,2],[40,1,40,2],[41,1,41,2],[42,1,42,2],[43,1,43,2],[32,1,32,5],[33,1,33,2],[34,1,34,2],[35,1,35,2],[36,1,36,2],[37,1,37,2],[26,1,26,2],[27,1,27,2],[28,1,28,2],[29,1,29,2],[30,1,30,2],[31,1,31,2],[20,1,20,5],[21,1,21,5],[22,1,22,2],[23,1,23,2],[24,1,24,2],[25,1,25,2],[16,1,16,2],[17,1,17,2],[18,1,18,2],[19,1,19,2],[8,1,8,2],[9,1,9,5],[10,1,10,2],[11,1,11,2],[12,1,12,2],[13,1,13,2],[0,3,0,8],[2,0,2,2],[2,3,2,8],[3,3,3,4],[3,5,3,6],[4,0,4,2],[4,3,4,8],[14,1,14,2],[15,1,15,2],[5,3,5,8]]}
[null,null,"Pasirinkite veiklos tipą:"]
[null,null,"Fizinio rodiklio Nr.:"]
["Fizinio rodiklio pavadinimas:"]
[null,null,"Fizinio rodiklio matavimo vnt.:",null,null,"Fizinio rodiklio vnt. skaičius:"]
["Juridinis asmuo (pareiškėjas, partneris), atsakingas už fizinį rodiklį:"]
[null,null,"Vykdytojo tipas:"]
[null,null,"Finansavimo intensyvumas:",null,null,null,"Pasirinkite biudžeto išlaidų kategoriją:","Visos"]
[]
["Eil. Nr.","Išlaidų kategorijos pavadinimas",null,"Matavimo vnt.","Kiekis","Vieneto kaina be PVM, Eur","Tinkamų finansuoti išlaidų suma be PVM, Eur","Finansavimo suma, Eur","Išlaidų pagrindimo dokumentų pavadinimas, data ir Nr."]
[4,"ĮRANGA, ĮRENGINIAI IR KT. TURTAS (techninių žinių ir išradimų patentų arba teisių pagal licencijų sutartį įsigijimo išlaidos)",null,null,null,null,{"$f":"SUM(G11:G20)","v":0},{"$f":"SUM(H11:H20)","v":0}]
["4.1","Išlaidų pavadinimas",null,null,null,null,{"$f":"ROUND(E11*F11,2)","v":0},{"$f":"ROUND(G11*$D$7,2)","v":0}]
["4.2","Išlaidų pavadinimas",null,null,null,null,0,0]
["4.3","Išlaidų pavadinimas",null,null,null,null,0,0]
["4.4","Išlaidų pavadinimas",null,null,null,null,0,0]
["4.5","Išlaidų pavadinimas",null,null,null,null,0,0]
["4.6","Išlaidų pavadinimas",null,null,null,null,0,0]
["4.7","Išlaidų pavadinimas",null,null,null,null,0,0]
["4.8","Išlaidų pavadinimas",null,null,null,null,0,0]
["4.9","Išlaidų pavadinimas",null,null,null,null,0,0]
["4.10","Išlaidų pavadinimas",null,null,null,null,0,0]
[5,"PROJEKTO VYKDYMAS",null,null,null,null,{"$f":"G22+G33+G49+G65+G116","v":0},{"$f":"H22+H33+H49+H65+H116","v":0}]
["5.1","MTEP paslaugos",null,null,null,null,{"$f":"SUM(G23:G32)","v":0},{"$f":"SUM(H23:H32)","v":0}]
["5.1.1","Paslaugos pavadinimas",null,null,null,null,{"$f":"ROUND(E23*F23,2)","v":0},0]
["5.1.2","Paslaugos pavadinimas",null,null,null,null,0,0]
["5.1.3","Paslaugos pavadinimas",null,null,null,null,0,0]
["5.1.4","Paslaugos pavadinimas",null,null,null,null,0,0]
["5.1.5","Paslaugos pavadinimas",null,null,null,null,0,0]
["5.1.6","Paslaugos pavadinimas",null,null,null,null,0,0]
["5.1.7","Paslaugos pavadinimas",null,null,null,null,0,0]
["5.1.8","Paslaugos pavadinimas",null,null,null,null,0,0]
["5.1.9","Paslaugos pavadinimas",null,null,null,null,0,0]
["5.1.10","Paslaugos pavadinimas",null,null,null,null,0,0]
["5.2","Medžiagos, mažavertis inventorius, atsargos ir pan. produktai, priskirtini trumpalaikiam turtui ir tiesiogiai susiję su MTEP veikla",null,null,null,null,{"$f":"SUM(G34:G50)","v":0},{"$f":"SUM(H34:H50)","v":0}]
["5.2.1","Išlaidų pavadinimas",null,null,null,null,{"$f":"ROUND(E34*F34,2)","v":0},{"$f":"ROUND(G34*$D$7,2)","v":0}]
["5.2.2","Išlaidų pavadinimas",null,null,null,null,0,0]
["5.2.3","Išlaidų pavadinimas",null,null,null,null,0,0]
["5.2.4","Išlaidų pavadinimas",null,null,null,null,0,0]
["5.2.5","Išlaidų pavadinimas",null,null,null,null,0,0]
["5.2.6","Išlaidų pavadinimas",null,null,null,null,0,0]
["5.2.7","Išlaidų pavadinimas",null,null,null,null,0,0]
["5.2.8","Išlaidų pavadinimas",null,null,null,null,0,0]
["5.2.9","Išlaidų pavadinimas",null,null,null,null,0,0]
["5.2.10","Išlaidų pavadinimas",null,null,null,null,0,0]
["5.2.11","Išlaidų pavadinimas",null,null,null,null,0,0]
["5.2.12","Išlaidų pavadinimas",null,null,null,null,0,0]
["5.2.13","Išlaidų pavadinimas",null,null,null,null,0,0]
["5.2.14","Išlaidų pavadinimas",null,null,null,null,0,0]
["5.2.15","Išlaidų pavadinimas",null,null,null,null,0,0]
["5.3","Projekto MTEP veikloms naudojamo ilgalaikio materialaus turto (įrangos, prietaisų, įrankių, įrenginių, mašinų ir įrengimų, pastatų ir (ar) patalpų), nusidėvėjimo sąnaudos, jeigu šiam turtui įsigyti nebuvo naudojamos viešosios (įskaitant ir kitų valstybių) lėšos",null,null,null,null,{"$f":"SUM(G50:G64)","v":0},{"$f":"SUM(H50:H64)","v":0},null,null,"Turto įvedimo į eksploataciją data","Turto įsigijimo vertė, Eur","Turto nudėvėjimo, amortizacijos laikotarpis, mėn.","Numatoma turto likutinė vertė, Eur","1 mėn. nudėvėjimo, amortizacijos suma, Eur","Turto naudojamo projekto reikmėms laikas, mėn.","Turto panaudojimo projekto reikmėms dalis (proc.)","Projektui priskirta turto nusidėvėjimo, amortizacijos suma per projekto laikotarpį, Eur"]
["5.3.1","Turtas, kurio nusidėvėjimą, amortizaciją prašoma finansuoti",null,null,1,{"$f":"R50","v":0},{"$f":"ROUND(E50*F50,2)","v":0},0,null,null,null,null,null,null,{"$f":"IFERROR(ROUND((L50-N50)/M50,2),\"0\")","v":"0"},null,null,{"$f":"O50*P50*Q50","v":0},{"$f":"IF(K50=0,\" \",IF(K50+(M50*30.5)<TODAY(),\"DĖMESIO! Patikrinkite, ar nurodytas turtas dar nėra nudėvėtas, amortizuotas\",\" \"))","v":" "}]
["5.3.2","Turtas, kurio nusidėvėjimą, amortizaciją prašoma finansuoti",null,null,1,{"$f":"R51","v":0},0,0,null,null,null,null,null,null,{"$f":"IFERROR(ROUND((L51-N51)/M51,2),\"0\")","v":"0"},null,null,{"$f":"O51*P51*Q51","v":0},{"$f":"IF(K51=0,\" \",IF(K51+(M51*30.5)<TODAY(),\"DĖMESIO! Patikrinkite, ar nurodytas turtas dar nėra nudėvėtas, amortizuotas\",\" \"))","v":" "}]
["5.3.3","Turtas, kurio nusidėvėjimą, amortizaciją prašoma finansuoti",null,null,1,0,0,0,null,null,null,null,null,null,"0",null,null,0," "]
["5.3.4","Turtas, kurio nusidėvėjimą, amortizaciją prašoma finansuoti",null,null,1,0,0,0,null,null,null,null,null,null,"0",null,null,0," "]
["5.3.5","Turtas, kurio nusidėvėjimą, amortizaciją prašoma finansuoti",null,null,1,0,0,0,null,null,null,null,null,null,"0",null,null,0," "]
["5.3.6","Turtas, kurio nusidėvėjimą, amortizaciją prašoma finansuoti",null,null,1,0,0,0,null,null,null,null,null,null,"0",null,null,0," "]
["5.3.7","Turtas, kurio nusidėvėjimą, amortizaciją prašoma finansuoti",null,null,1,0,0,0,null,null,null,null,null,null,"0",null,null,0," "]
["5.3.8","Turtas, kurio nusidėvėjimą, amortizaciją prašoma finansuoti",null,null,1,0,0,0,null,null,null,null,null,null,"0",null,null,0," "]
["5.3.9","Turtas, kurio nusidėvėjimą, amortizaciją prašoma finansuoti",null,null,1,0,0,0,null,null,null,null,null,null,"0",null,null,0," "]
["5.3.10","Turtas, kurio nusidėvėjimą, amortizaciją prašoma finansuoti",null,null,1,0,0,0,null,null,null,null,null,null,"0",null,null,0," "]
["5.3.11","Turtas, kurio nusidėvėjimą, amortizaciją prašoma finansuoti",null,null,1,0,0,0,null,null,null,null,null,null,"0",null,null,0," "]
["5.3.12","Turtas, kurio nusidėvėjimą, amortizaciją prašoma finansuoti",null,null,1,0,0,0,null,null,null,null,null,null,"0",null,null,0," "]
["5.3.13","Turtas, kurio nusidėvėjimą, amortizaciją prašoma finansuoti",null,null,1,0,0,0,null,null,null,null,null,null,"0",null,null,0," "]
["5.3.14","Turtas, kurio nusidėvėjimą, amortizaciją prašoma finansuoti",null,null,1,0,0,0,null,null,null,null,null,null,"0",null,null,0," "]
["5.3.15","Turtas, kurio nusidėvėjimą, amortizaciją prašoma finansuoti",null,null,1,0,0,0,null,null,null,null,null,null,"0",null,null,0," "]
["5.4","Projektą vykdančio personalo darbo užmokestis ir išlaidos su darbo santykiais susijusiems darbdavio įsipareigojimams",null,null,null,null,{"$f":"SUM(G66:G115)","v":0},{"$f":"SUM(H66:H115)","v":0},null,null,"Faktiškai gaunamas darbo užmokesti už 1 valandą pagal  pastarųjų 6 mėn. vidurkį, Eur"]
["5.4.1","Pareigybės pavadinimas","Darbuotojo vardas pavardė","val.",null,{"$f":"IFERROR(ROUND(AVERAGE(K66:K70),2),\"0\")","v":"0"},{"$f":"ROUND(E66*F66,2)","v":0},{"$f":"ROUND(G66*$D$7,2)","v":0}]
[null,null,"Darbuotojo vardas pavardė"]
[null,null,"Darbuotojo vardas pavardė"]
[null,null,"Darbuotojo vardas pavardė"]
[null,null,"Darbuotojo vardas pavardė"]
["5.4.2","Pareigybės pavadinimas","Darbuotojo vardas pavardė","val.",null,{"$f":"IFERROR(ROUND(AVERAGE(K71:K75),2),\"0\")","v":"0"},{"$f":"ROUND(E71*F71,2)","v":0},{"$f":"ROUND(G71*$D$7,2)","v":0}]
[null,null,"Darbuotojo vardas pavardė"]
[null,null,"Darbuotojo vardas pavardė"]
[null,null,"Darbuotojo vardas pavardė"]
[null,null,"Darbuotojo vardas pavardė"]
["5.4.3","Pareigybės pavadinimas","Darbuotojo vardas pavardė","val.",null,{"$f":"IFERROR(ROUND(AVERAGE(K76:K80),2),\"0\")","v":"0"},{"$f":"ROUND(E76*F76,2)","v":0},{"$f":"ROUND(G76*$D$7,2)","v":0}]
[null,null,"Darbuotojo vardas pavardė"]
[null,null,"Darbuotojo vardas pavardė"]
[null,null,"Darbuotojo vardas pavardė"]
[null,null,"Darbuotojo vardas pavardė"]
["5.4.4","Pareigybės pavadinimas","Darbuotojo vardas pavardė","val.",null,{"$f":"IFERROR(ROUND(AVERAGE(K81:K85),2),\"0\")","v":"0"},{"$f":"ROUND(E81*F81,2)","v":0},{"$f":"ROUND(G81*$D$7,2)","v":0}]
[null,null,"Darbuotojo vardas pavardė"]
[null,null,"Darbuotojo vardas pavardė"]
[null,null,"Darbuotojo vardas pavardė"]
[null,null,"Darbuotojo vardas pavardė"]
["5.4.5","Pareigybės pavadinimas","Darbuotojo vardas pavardė","val.",null,{"$f":"IFERROR(ROUND(AVERAGE(K86:K90),2),\"0\")","v":"0"},{"$f":"ROUND(E86*F86,2)","v":0},{"$f":"ROUND(G86*$D$7,2)","v":0}]
[null,null,"Darbuotojo vardas pavardė"]
[null,null,"Darbuotojo vardas pavardė"]
[null,null,"Darbuotojo vardas pavardė"]
[null,null,"Darbuotojo vardas pavardė"]
["5.4.6","Pareigybės pavadinimas","Darbuotojo vardas pavardė","val.",null,{"$f":"IFERROR(ROUND(AVERAGE(K91:K95),2),\"0\")","v":"0"},{"$f":"ROUND(E91*F91,2)","v":0},{"$f":"ROUND(G91*$D$7,2)","v":0}]
[null,null,"Darbuotojo vardas pavardė"]
[null,null,"Darbuotojo vardas pavardė"]
[null,null,"Darbuotojo vardas pavardė"]
[null,null,"Darbuotojo vardas pavardė"]
["5.4.7","Pareigybės pavadinimas","Darbuotojo vardas pavardė","val.",null,{"$f":"IFERROR(ROUND(AVERAGE(K96:K100),2),\"0\")","v":"0"},{"$f":"ROUND(E96*F96,2)","v":0},{"$f":"ROUND(G96*$D$7,2)","v":0}]
[null,null,"Darbuotojo vardas pavardė"]
[null,null,"Darbuotojo vardas pavardė"]
[null,null,"Darbuotojo vardas pavardė"]
[null,null,"Darbuotojo vardas pavardė"]
["5.4.8","Pareigybės pavadinimas","Darbuotojo vardas pavardė","val.",null,{"$f":"IFERROR(ROUND(AVERAGE(K101:K105),2),\"0\")","v":"0"},{"$f":"ROUND(E101*F101,2)","v":0},{"$f":"ROUND(G101*$D$7,2)","v":0}]
[null,null,"Darbuotojo vardas pavardė"]
[null,null,"Darbuotojo vardas pavardė"]
[null,null,"Darbuotojo vardas pavardė"]
[null,null,"Darbuotojo vardas pavardė"]
["5.4.9","Pareigybės pavadinimas","Darbuotojo vardas pavardė","val.",null,{"$f":"IFERROR(ROUND(AVERAGE(K106:K110),2),\"0\")","v":"0"},{"$f":"ROUND(E106*F106,2)","v":0},{"$f":"ROUND(G106*$D$7,2)","v":0}]
[null,null,"Darbuotojo vardas pavardė"]
[null,null,"Darbuotojo vardas pavardė"]
[null,null,"Darbuotojo vardas pavardė"]
[null,null,"Darbuotojo vardas pavardė"]
["5.4.10","Pareigybės pavadinimas","Darbuotojo vardas pavardė","val.",null,{"$f":"IFERROR(ROUND(AVERAGE(K111:K115),2),\"0\")","v":"0"},{"$f":"ROUND(E111*F111,2)","v":0},{"$f":"ROUND(G111*$D$7,2)","v":0}]
[null,null,"Darbuotojo vardas pavardė"]
[null,null,"Darbuotojo vardas pavardė"]
[null,null,"Darbuotojo vardas pavardė"]
[null,null,"Darbuotojo vardas pavardė"]
["5.5","Projektą vykdančio personalo komandiruočių išlaidos",null,null,null,null,{"$f":"SUM(G117,G124,G131,G138,G145,G152,G159,G166,G173,G180)","v":0},{"$f":"SUM(H117,H124,H131,H138,H145,H152,H159,H166,H173,H180)","v":0}]
["5.5.1","Komandiruotės pavadinimas, vieta, trukmė dienomis, vykstančių asmenų skaičius","Iš viso komandiruotei",null,null,null,{"$f":"SUM(G118:G123)","v":0},{"$f":"ROUND(G117*$D$7,2)","v":0}]
[null,null,"Dienpinigiai",null,null,null,{"$f":"ROUND(E118*F118,2)","v":0}]
[null,null,"Gyvenamojo ploto nuoma",null,null,null,0]
[null,null,"Kelionės išlaidos",null,null,null,0]
[null,null,"Dalyvavimo mokestis",null,null,null,0]
[null,null,"Kitos išlaidų pavadinimas",null,null,null,0]
[null,null,"Kitos išlaidų pavadinimas",null,null,null,0]
["5.5.2","Komandiruotės pavadinimas, vieta, trukmė dienomis, vykstančių asmenų skaičius","Iš viso komandiruotei",null,null,null,{"$f":"SUM(G125:G130)","v":0},{"$f":"ROUND(G124*$D$7,2)","v":0}]
[null,null,"Dienpinigiai",null,null,null,{"$f":"ROUND(E125*F125,2)","v":0}]
[null,null,"Gyvenamojo ploto nuoma",null,null,null,0]
[null,null,"Kelionės išlaidos",null,null,null,0]
[null,null,"Dalyvavimo mokestis",null,null,null,0]
[null,null,"Kitos išlaidų pavadinimas",null,null,null,0]
[null,null,"Kitos išlaidų pavadinimas",null,null,null,0]
["5.5.3","Komandiruotės pavadinimas, vieta, trukmė dienomis, vykstančių asmenų skaičius","Iš viso komandiruotei",null,null,null,{"$f":"SUM(G132:G137)","v":0},{"$f":"ROUND(G131*$D$7,2)","v":0}]
[null,null,"Dienpinigiai",null,null,null,{"$f":"ROUND(E132*F132,2)","v":0}]
[null,null,"Gyvenamojo ploto nuoma",null,null,null,0]
[null,null,"Kelionės išlaidos",null,null,null,0]
[null,null,"Dalyvavimo mokestis",null,null,null,0]
[null,null,"Kitos išlaidų pavadinimas",null,null,null,0]
[null,null,"Kitos išlaidų pavadinimas",null,null,null,0]
["5.5.4","Komandiruotės pavadinimas, vieta, trukmė dienomis, vykstančių asmenų skaičius","Iš viso komandiruotei",null,null,null,{"$f":"SUM(G139:G144)","v":0},{"$f":"ROUND(G138*$D$7,2)","v":0}]
[null,null,"Dienpinigiai",null,null,null,{"$f":"ROUND(E139*F139,2)","v":0}]
[null,null,"Gyvenamojo ploto nuoma",null,null,null,0]
[null,null,"Kelionės išlaidos",null,null,null,0]
[null,null,"Dalyvavimo mokestis",null,null,null,0]
[null,null,"Kitos išlaidų pavadinimas",null,null,null,0]
[null,null,"Kitos išlaidų pavadinimas",null,null,null,0]
["5.5.5","Komandiruotės pavadinimas, vieta, trukmė dienomis, vykstančių asmenų skaičius","Iš viso komandiruotei",null,null,null,{"$f":"SUM(G146:G151)","v":0},{"$f":"ROUND(G145*$D$7,2)","v":0}]
[null,null,"Dienpinigiai",null,null,null,{"$f":"ROUND(E146*F146,2)","v":0}]
[null,null,"Gyvenamojo ploto nuoma",null,null,null,0]
[null,null,"Kelionės išlaidos",null,null,null,0]
[null,null,"Dalyvavimo mokestis",null,null,null,0]
[null,null,"Kitos išlaidų pavadinimas",null,null,null,0]
[null,null,"Kitos išlaidų pavadinimas",null,null,null,0]
["5.5.6","Komandiruotės pavadinimas, vieta, trukmė dienomis, vykstančių asmenų skaičius","Iš viso komandiruotei",null,null,null,{"$f":"SUM(G153:G158)","v":0},{"$f":"ROUND(G152*$D$7,2)","v":0}]
[null,null,"Dienpinigiai",null,null,null,{"$f":"ROUND(E153*F153,2)","v":0}]
[null,null,"Gyvenamojo ploto nuoma",null,null,null,0]
[null,null,"Kelionės išlaidos",null,null,null,0]
[null,null,"Dalyvavimo mokestis",null,null,null,0]
[null,null,"Kitos išlaidų pavadinimas",null,null,null,0]
[null,null,"Kitos išlaidų pavadinimas",null,null,null,0]
["5.5.7","Komandiruotės pavadinimas, vieta, trukmė dienomis, vykstančių asmenų skaičius","Iš viso komandiruotei",null,null,null,{"$f":"SUM(G160:G165)","v":0},{"$f":"ROUND(G159*$D$7,2)","v":0}]
[null,null,"Dienpinigiai",null,null,null,{"$f":"ROUND(E160*F160,2)","v":0}]
[null,null,"Gyvenamojo ploto nuoma",null,null,null,0]
[null,null,"Kelionės išlaidos",null,null,null,0]
[null,null,"Dalyvavimo mokestis",null,null,null,0]
[null,null,"Kitos išlaidų pavadinimas",null,null,null,0]
[null,null,"Kitos išlaidų pavadinimas",null,null,null,0]
["5.5.8","Komandiruotės pavadinimas, vieta, trukmė dienomis, vykstančių asmenų skaičius","Iš viso komandiruotei",null,null,null,{"$f":"SUM(G167:G172)","v":0},{"$f":"ROUND(G166*$D$7,2)","v":0}]
[null,null,"Dienpinigiai",null,null,null,{"$f":"ROUND(E167*F167,2)","v":0}]
[null,null,"Gyvenamojo ploto nuoma",null,null,null,0]
[null,null,"Kelionės išlaidos",null,null,null,0]
[null,null,"Dalyvavimo mokestis",null,null,null,0]
[null,null,"Kitos išlaidų pavadinimas",null,null,null,0]
[null,null,"Kitos išlaidų pavadinimas",null,null,null,0]
["5.5.9","Komandiruotės pavadinimas, vieta, trukmė dienomis, vykstančių asmenų skaičius","Iš viso komandiruotei",null,null,null,{"$f":"SUM(G174:G179)","v":0},{"$f":"ROUND(G173*$D$7,2)","v":0}]
[null,null,"Dienpinigiai",null,null,null,{"$f":"ROUND(E174*F174,2)","v":0}]
[null,null,"Gyvenamojo ploto nuoma",null,null,null,0]
[null,null,"Kelionės išlaidos",null,null,null,0]
[null,null,"Dalyvavimo mokestis",null,null,null,0]
[null,null,"Kitos išlaidų pavadinimas",null,null,null,0]
[null,null,"Kitos išlaidų pavadinimas",null,null,null,0]
["5.5.10","Komandiruotės pavadinimas, vieta, trukmė dienomis, vykstančių asmenų skaičius","Iš viso komandiruotei",null,null,null,{"$f":"SUM(G181:G186)","v":0},{"$f":"ROUND(G180*$D$7,2)","v":0}]
[null,null,"Dienpinigiai",null,null,null,{"$f":"ROUND(E181*F181,2)","v":0}]
[null,null,"Gyvenamojo ploto nuoma",null,null,null,0]
[null,null,"Kelionės išlaidos",null,null,null,0]
[null,null,"Dalyvavimo mokestis",null,null,null,0]
[null,null,"Kitos išlaidų pavadinimas",null,null,null,0]
[null,null,"Kitos išlaidų pavadinimas",null,null,null,0]
["Iš viso tinkamų finansuoti išlaidų:",null,null,null,null,null,{"$f":"G10+G21","v":0},{"$f":"H10+H21","v":0}]

{"sheet":"15","index":17,"n_rows":187,"n_cols":19,"rows_kept":187,"cut":false,"hidden":false,"merged":[[179,0,185,0],[179,1,185,1],[179,8,185,8],[186,0,186,5],[165,0,171,0],[165,1,171,1],[165,8,171,8],[172,0,178,0],[172,1,178,1],[172,8,178,8],[151,0,157,0],[151,1,157,1],[151,8,157,8],[158,0,164,0],[158,1,164,1],[158,8,164,8],[137,0,143,0],[137,1,143,1],[137,8,143,8],[144,0,150,0],[144,1,150,1],[144,8,150,8],[123,0,129,0],[123,1,129,1],[123,8,129,8],[130,0,136,0],[130,1,136,1],[130,8,136,8],[110,7,114,7],[110,8,114,8],[115,1,115,5],[116,0,122,0],[116,1,122,1],[116,8,122,8],[110,0,114,0],[110,1,114,1],[110,3,114,3],[110,4,114,4],[110,5,114,5],[110,6,114,6],[100,7,104,7],[100,8,104,8],[105,0,109,0],[105,1,109,1],[105,3,109,3],[105,4,109,4],[105,5,109,5],[105,6,109,6],[105,7,109,7],[105,8,109,8],[100,0,104,0],[100,1,104,1],[100,3,104,3],[100,4,104,4],[100,5,104,5],[100,6,104,6],[90,7,94,7],[90,8,94,8],[95,0,99,0],[95,1,99,1],[95,3,99,3],[95,4,99,4],[95,5,99,5],[95,6,99,6],[95,7,99,7],[95,8,99,8],[90,0,94,0],[90,1,94,1],[90,3,94,3],[90,4,94,4],[90,5,94,5],[90,6,94,6],[85,0,89,0],[85,1,89,1],[85,3,89,3],[85,4,89,4],[85,5,89,5],[85,6,89,6],[85,7,89,7],[85,8,89,8],[80,0,84,0],[80,1,84,1],[80,3,84,3],[80,4,84,4],[80,5,84,5],[80,6,84,6],[75,0,79,0],[75,1,79,1],[75,3,79,3],[75,4,79,4],[75,5,79,5],[75,6,79,6],[75,7,79,7],[75,8,79,8],[80,7,84,7],[80,8,84,8],[65,6,69,6],[65,7,69,7],[65,8,69,8],[70,0,74,0],[70,1,74,1],[70,3,74,3],[70,4,74,4],[70,5,74,5],[70,6,74,6],[70,7,74,7],[70,8,74,8],[62,1,62,2],[63,1,63,2],[64,1,64,5],[65,0,69,0],[65,1,69,1],[65,3,69,3],[65,4,69,4],[65,5,69,5],[56,1,56,2],[57,1,57,2],[58,1,58,2],[59,1,59,2],[60,1,60,2],[61,1,61,2],[50,1,50,2],[51,1,51,2],[52,1,52,2],[53,1,53,2],[54,1,54,2],[55,1,55,2],[44,1,44,2],[45,1,45,2],[46,1,46,2],[47,1,47,2],[48,1,48,5],[49,1,49,2],[38,1,38,2],[39,1,39,2],[40,1,40,2],[41,1,41,2],[42,1,42,2],[43,1,43,2],[32,1,32,5],[33,1,33,2],[34,1,34,2],[35,1,35,2],[36,1,36,2],[37,1,37,2],[26,1,26,2],[27,1,27,2],[28,1,28,2],[29,1,29,2],[30,1,30,2],[31,1,31,2],[20,1,20,5],[21,1,21,5],[22,1,22,2],[23,1,23,2],[24,1,24,2],[25,1,25,2],[16,1,16,2],[17,1,17,2],[18,1,18,2],[19,1,19,2],[8,1,8,2],[9,1,9,5],[10,1,10,2],[11,1,11,2],[12,1,12,2],[13,1,13,2],[0,3,0,8],[2,0,2,2],[2,3,2,8],[3,3,3,4],[3,5,3,6],[4,0,4,2],[4,3,4,8],[14,1,14,2],[15,1,15,2],[5,3,5,8]]}
[null,null,"Pasirinkite veiklos tipą:"]
[null,null,"Fizinio rodiklio Nr.:"]
["Fizinio rodiklio pavadinimas:"]
[null,null,"Fizinio rodiklio matavimo vnt.:",null,null,"Fizinio rodiklio vnt. skaičius:"]
["Juridinis asmuo (pareiškėjas, partneris), atsakingas už fizinį rodiklį:"]
[null,null,"Vykdytojo tipas:"]
[null,null,"Finansavimo intensyvumas:",null,null,null,"Pasirinkite biudžeto išlaidų kategoriją:","Visos"]
[]
["Eil. Nr.","Išlaidų kategorijos pavadinimas",null,"Matavimo vnt.","Kiekis","Vieneto kaina be PVM, Eur","Tinkamų finansuoti išlaidų suma be PVM, Eur","Finansavimo suma, Eur","Išlaidų pagrindimo dokumentų pavadinimas, data ir Nr."]
[4,"ĮRANGA, ĮRENGINIAI IR KT. TURTAS (techninių žinių ir išradimų patentų arba teisių pagal licencijų sutartį įsigijimo išlaidos)",null,null,null,null,{"$f":"SUM(G11:G20)","v":0},{"$f":"SUM(H11:H20)","v":0}]
["4.1","Išlaidų pavadinimas",null,null,null,null,{"$f":"ROUND(E11*F11,2)","v":0},{"$f":"ROUND(G11*$D$7,2)","v":0}]
["4.2","Išlaidų pavadinimas",null,null,null,null,0,0]
["4.3","Išlaidų pavadinimas",null,null,null,null,0,0]
["4.4","Išlaidų pavadinimas",null,null,null,null,0,0]
["4.5","Išlaidų pavadinimas",null,null,null,null,0,0]
["4.6","Išlaidų pavadinimas",null,null,null,null,0,0]
["4.7","Išlaidų pavadinimas",null,null,null,null,0,0]
["4.8","Išlaidų pavadinimas",null,null,null,null,0,0]
["4.9","Išlaidų pavadinimas",null,null,null,null,0,0]
["4.10","Išlaidų pavadinimas",null,null,null,null,0,0]
[5,"PROJEKTO VYKDYMAS",null,null,null,null,{"$f":"G22+G33+G49+G65+G116","v":0},{"$f":"H22+H33+H49+H65+H116","v":0}]
["5.1","MTEP paslaugos",null,null,null,null,{"$f":"SUM(G23:G32)","v":0},{"$f":"SUM(H23:H32)","v":0}]
["5.1.1","Paslaugos pavadinimas",null,null,null,null,{"$f":"ROUND(E23*F23,2)","v":0},0]
["5.1.2","Paslaugos pavadinimas",null,null,null,null,0,0]
["5.1.3","Paslaugos pavadinimas",null,null,null,null,0,0]
["5.1.4","Paslaugos pavadinimas",null,null,null,null,0,0]
["5.1.5","Paslaugos pavadinimas",null,null,null,null,0,0]
["5.1.6","Paslaugos pavadinimas",null,null,null,null,0,0]
["5.1.7","Paslaugos pavadinimas",null,null,null,null,0,0]
["5.1.8","Paslaugos pavadinimas",null,null,null,null,0,0]
["5.1.9","Paslaugos pavadinimas",null,null,null,null,0,0]
["5.1.10","Paslaugos pavadinimas",null,null,null,null,0,0]
["5.2","Medžiagos, mažavertis inventorius, atsargos ir pan. produktai, priskirtini trumpalaikiam turtui ir tiesiogiai susiję su MTEP veikla",null,null,null,null,{"$f":"SUM(G34:G50)","v":0},{"$f":"SUM(H34:H50)","v":0}]
["5.2.1","Išlaidų pavadinimas",null,null,null,null,{"$f":"ROUND(E34*F34,2)","v":0},{"$f":"ROUND(G34*$D$7,2)","v":0}]
["5.2.2","Išlaidų pavadinimas",null,null,null,null,0,0]
["5.2.3","Išlaidų pavadinimas",null,null,null,null,0,0]
["5.2.4","Išlaidų pavadinimas",null,null,null,null,0,0]
["5.2.5","Išlaidų pavadinimas",null,null,null,null,0,0]
["5.2.6","Išlaidų pavadinimas",null,null,null,null,0,0]
["5.2.7","Išlaidų pavadinimas",null,null,null,null,0,0]
["5.2.8","Išlaidų pavadinimas",null,null,null,null,0,0]
["5.2.9","Išlaidų pavadinimas",null,null,null,null,0,0]
["5.2.10","Išlaidų pavadinimas",null,null,null,null,0,0]
["5.2.11","Išlaidų pavadinimas",null,null,null,null,0,0]
["5.2.12","Išlaidų pavadinimas",null,null,null,null,0,0]
["5.2.13","Išlaidų pavadinimas",null,null,null,null,0,0]
["5.2.14","Išlaidų pavadinimas",null,null,null,null,0,0]
["5.2.15","Išlaidų pavadinimas",null,null,null,null,0,0]
["5.3","Projekto MTEP veikloms naudojamo ilgalaikio materialaus turto (įrangos, prietaisų, įrankių, įrenginių, mašinų ir įrengimų, pastatų ir (ar) patalpų), nusidėvėjimo sąnaudos, jeigu šiam turtui įsigyti nebuvo naudojamos viešosios (įskaitant ir kitų valstybių) lėšos",null,null,null,null,{"$f":"SUM(G50:G64)","v":0},{"$f":"SUM(H50:H64)","v":0},null,null,"Turto įvedimo į eksploataciją data","Turto įsigijimo vertė, Eur","Turto nudėvėjimo, amortizacijos laikotarpis, mėn.","Numatoma turto likutinė vertė, Eur","1 mėn. nudėvėjimo, amortizacijos suma, Eur","Turto naudojamo projekto reikmėms laikas, mėn.","Turto panaudojimo projekto reikmėms dalis (proc.)","Projektui priskirta turto nusidėvėjimo, amortizacijos suma per projekto laikotarpį, Eur"]
["5.3.1","Turtas, kurio nusidėvėjimą, amortizaciją prašoma finansuoti",null,null,1,{"$f":"R50","v":0},{"$f":"ROUND(E50*F50,2)","v":0},0,null,null,null,null,null,null,{"$f":"IFERROR(ROUND((L50-N50)/M50,2),\"0\")","v":"0"},null,null,{"$f":"O50*P50*Q50","v":0},{"$f":"IF(K50=0,\" \",IF(K50+(M50*30.5)<TODAY(),\"DĖMESIO! Patikrinkite, ar nurodytas turtas dar nėra nudėvėtas, amortizuotas\",\" \"))","v":" "}]
["5.3.2","Turtas, kurio nusidėvėjimą, amortizaciją prašoma finansuoti",null,null,1,{"$f":"R51","v":0},0,0,null,null,null,null,null,null,{"$f":"IFERROR(ROUND((L51-N51)/M51,2),\"0\")","v":"0"},null,null,{"$f":"O51*P51*Q51","v":0},{"$f":"IF(K51=0,\" \",IF(K51+(M51*30.5)<TODAY(),\"DĖMESIO! Patikrinkite, ar nurodytas turtas dar nėra nudėvėtas, amortizuotas\",\" \"))","v":" "}]
["5.3.3","Turtas, kurio nusidėvėjimą, amortizaciją prašoma finansuoti",null,null,1,0,0,0,null,null,null,null,null,null,"0",null,null,0," "]
["5.3.4","Turtas, kurio nusidėvėjimą, amortizaciją prašoma finansuoti",null,null,1,0,0,0,null,null,null,null,null,null,"0",null,null,0," "]
["5.3.5","Turtas, kurio nusidėvėjimą, amortizaciją prašoma finansuoti",null,null,1,0,0,0,null,null,null,null,null,null,"0",null,null,0," "]
["5.3.6","Turtas, kurio nusidėvėjimą, amortizaciją prašoma finansuoti",null,null,1,0,0,0,null,null,null,null,null,null,"0",null,null,0," "]
["5.3.7","Turtas, kurio nusidėvėjimą, amortizaciją prašoma finansuoti",null,null,1,0,0,0,null,null,null,null,null,null,"0",null,null,0," "]
["5.3.8","Turtas, kurio nusidėvėjimą, amortizaciją prašoma finansuoti",null,null,1,0,0,0,null,null,null,null,null,null,"0",null,null,0," "]
["5.3.9","Turtas, kurio nusidėvėjimą, amortizaciją prašoma finansuoti",null,null,1,0,0,0,null,null,null,null,null,null,"0",null,null,0," "]
["5.3.10","Turtas, kurio nusidėvėjimą, amortizaciją prašoma finansuoti",null,null,1,0,0,0,null,null,null,null,null,null,"0",null,null,0," "]
["5.3.11","Turtas, kurio nusidėvėjimą, amortizaciją prašoma finansuoti",null,null,1,0,0,0,null,null,null,null,null,null,"0",null,null,0," "]
["5.3.12","Turtas, kurio nusidėvėjimą, amortizaciją prašoma finansuoti",null,null,1,0,0,0,null,null,null,null,null,null,"0",null,null,0," "]
["5.3.13","Turtas, kurio nusidėvėjimą, amortizaciją prašoma finansuoti",null,null,1,0,0,0,null,null,null,null,null,null,"0",null,null,0," "]
["5.3.14","Turtas, kurio nusidėvėjimą, amortizaciją prašoma finansuoti",null,null,1,0,0,0,null,null,null,null,null,null,"0",null,null,0," "]
["5.3.15","Turtas, kurio nusidėvėjimą, amortizaciją prašoma finansuoti",null,null,1,0,0,0,null,null,null,null,null,null,"0",null,null,0," "]
["5.4","Projektą vykdančio personalo darbo užmokestis ir išlaidos su darbo santykiais susijusiems darbdavio įsipareigojimams",null,null,null,null,{"$f":"SUM(G66:G115)","v":0},{"$f":"SUM(H66:H115)","v":0},null,null,"Faktiškai gaunamas darbo užmokesti už 1 valandą pagal  pastarųjų 6 mėn. vidurkį, Eur"]
["5.4.1","Pareigybės pavadinimas","Darbuotojo vardas pavardė","val.",null,{"$f":"IFERROR(ROUND(AVERAGE(K66:K70),2),\"0\")","v":"0"},{"$f":"ROUND(E66*F66,2)","v":0},{"$f":"ROUND(G66*$D$7,2)","v":0}]
[null,null,"Darbuotojo vardas pavardė"]
[null,null,"Darbuotojo vardas pavardė"]
[null,null,"Darbuotojo vardas pavardė"]
[null,null,"Darbuotojo vardas pavardė"]
["5.4.2","Pareigybės pavadinimas","Darbuotojo vardas pavardė","val.",null,{"$f":"IFERROR(ROUND(AVERAGE(K71:K75),2),\"0\")","v":"0"},{"$f":"ROUND(E71*F71,2)","v":0},{"$f":"ROUND(G71*$D$7,2)","v":0}]
[null,null,"Darbuotojo vardas pavardė"]
[null,null,"Darbuotojo vardas pavardė"]
[null,null,"Darbuotojo vardas pavardė"]
[null,null,"Darbuotojo vardas pavardė"]
["5.4.3","Pareigybės pavadinimas","Darbuotojo vardas pavardė","val.",null,{"$f":"IFERROR(ROUND(AVERAGE(K76:K80),2),\"0\")","v":"0"},{"$f":"ROUND(E76*F76,2)","v":0},{"$f":"ROUND(G76*$D$7,2)","v":0}]
[null,null,"Darbuotojo vardas pavardė"]
[null,null,"Darbuotojo vardas pavardė"]
[null,null,"Darbuotojo vardas pavardė"]
[null,null,"Darbuotojo vardas pavardė"]
["5.4.4","Pareigybės pavadinimas","Darbuotojo vardas pavardė","val.",null,{"$f":"IFERROR(ROUND(AVERAGE(K81:K85),2),\"0\")","v":"0"},{"$f":"ROUND(E81*F81,2)","v":0},{"$f":"ROUND(G81*$D$7,2)","v":0}]
[null,null,"Darbuotojo vardas pavardė"]
[null,null,"Darbuotojo vardas pavardė"]
[null,null,"Darbuotojo vardas pavardė"]
[null,null,"Darbuotojo vardas pavardė"]
["5.4.5","Pareigybės pavadinimas","Darbuotojo vardas pavardė","val.",null,{"$f":"IFERROR(ROUND(AVERAGE(K86:K90),2),\"0\")","v":"0"},{"$f":"ROUND(E86*F86,2)","v":0},{"$f":"ROUND(G86*$D$7,2)","v":0}]
[null,null,"Darbuotojo vardas pavardė"]
[null,null,"Darbuotojo vardas pavardė"]
[null,null,"Darbuotojo vardas pavardė"]
[null,null,"Darbuotojo vardas pavardė"]
["5.4.6","Pareigybės pavadinimas","Darbuotojo vardas pavardė","val.",null,{"$f":"IFERROR(ROUND(AVERAGE(K91:K95),2),\"0\")","v":"0"},{"$f":"ROUND(E91*F91,2)","v":0},{"$f":"ROUND(G91*$D$7,2)","v":0}]
[null,null,"Darbuotojo vardas pavardė"]
[null,null,"Darbuotojo vardas pavardė"]
[null,null,"Darbuotojo vardas pavardė"]
[null,null,"Darbuotojo vardas pavardė"]
["5.4.7","Pareigybės pavadinimas","Darbuotojo vardas pavardė","val.",null,{"$f":"IFERROR(ROUND(AVERAGE(K96:K100),2),\"0\")","v":"0"},{"$f":"ROUND(E96*F96,2)","v":0},{"$f":"ROUND(G96*$D$7,2)","v":0}]
[null,null,"Darbuotojo vardas pavardė"]
[null,null,"Darbuotojo vardas pavardė"]
[null,null,"Darbuotojo vardas pavardė"]
[null,null,"Darbuotojo vardas pavardė"]
["5.4.8","Pareigybės pavadinimas","Darbuotojo vardas pavardė","val.",null,{"$f":"IFERROR(ROUND(AVERAGE(K101:K105),2),\"0\")","v":"0"},{"$f":"ROUND(E101*F101,2)","v":0},{"$f":"ROUND(G101*$D$7,2)","v":0}]
[null,null,"Darbuotojo vardas pavardė"]
[null,null,"Darbuotojo vardas pavardė"]
[null,null,"Darbuotojo vardas pavardė"]
[null,null,"Darbuotojo vardas pavardė"]
["5.4.9","Pareigybės pavadinimas","Darbuotojo vardas pavardė","val.",null,{"$f":"IFERROR(ROUND(AVERAGE(K106:K110),2),\"0\")","v":"0"},{"$f":"ROUND(E106*F106,2)","v":0},{"$f":"ROUND(G106*$D$7,2)","v":0}]
[null,null,"Darbuotojo vardas pavardė"]
[null,null,"Darbuotojo vardas pavardė"]
[null,null,"Darbuotojo vardas pavardė"]
[null,null,"Darbuotojo vardas pavardė"]
["5.4.10","Pareigybės pavadinimas","Darbuotojo vardas pavardė","val.",null,{"$f":"IFERROR(ROUND(AVERAGE(K111:K115),2),\"0\")","v":"0"},{"$f":"ROUND(E111*F111,2)","v":0},{"$f":"ROUND(G111*$D$7,2)","v":0}]
[null,null,"Darbuotojo vardas pavardė"]
[null,null,"Darbuotojo vardas pavardė"]
[null,null,"Darbuotojo vardas pavardė"]
[null,null,"Darbuotojo vardas pavardė"]
["5.5","Projektą vykdančio personalo komandiruočių išlaidos",null,null,null,null,{"$f":"SUM(G117,G124,G131,G138,G145,G152,G159,G166,G173,G180)","v":0},{"$f":"SUM(H117,H124,H131,H138,H145,H152,H159,H166,H173,H180)","v":0}]
["5.5.1","Komandiruotės pavadinimas, vieta, trukmė dienomis, vykstančių asmenų skaičius","Iš viso komandiruotei",null,null,null,{"$f":"SUM(G118:G123)","v":0},{"$f":"ROUND(G117*$D$7,2)","v":0}]
[null,null,"Dienpinigiai",null,null,null,{"$f":"ROUND(E118*F118,2)","v":0}]
[null,null,"Gyvenamojo ploto nuoma",null,null,null,0]
[null,null,"Kelionės išlaidos",null,null,null,0]
[null,null,"Dalyvavimo mokestis",null,null,null,0]
[null,null,"Kitos išlaidų pavadinimas",null,null,null,0]
[null,null,"Kitos išlaidų pavadinimas",null,null,null,0]
["5.5.2","Komandiruotės pavadinimas, vieta, trukmė dienomis, vykstančių asmenų skaičius","Iš viso komandiruotei",null,null,null,{"$f":"SUM(G125:G130)","v":0},{"$f":"ROUND(G124*$D$7,2)","v":0}]
[null,null,"Dienpinigiai",null,null,null,{"$f":"ROUND(E125*F125,2)","v":0}]
[null,null,"Gyvenamojo ploto nuoma",null,null,null,0]
[null,null,"Kelionės išlaidos",null,null,null,0]
[null,null,"Dalyvavimo mokestis",null,null,null,0]
[null,null,"Kitos išlaidų pavadinimas",null,null,null,0]
[null,null,"Kitos išlaidų pavadinimas",null,null,null,0]
["5.5.3","Komandiruotės pavadinimas, vieta, trukmė dienomis, vykstančių asmenų skaičius","Iš viso komandiruotei",null,null,null,{"$f":"SUM(G132:G137)","v":0},{"$f":"ROUND(G131*$D$7,2)","v":0}]
[null,null,"Dienpinigiai",null,null,null,{"$f":"ROUND(E132*F132,2)","v":0}]
[null,null,"Gyvenamojo ploto nuoma",null,null,null,0]
[null,null,"Kelionės išlaidos",null,null,null,0]
[null,null,"Dalyvavimo mokestis",null,null,null,0]
[null,null,"Kitos išlaidų pavadinimas",null,null,null,0]
[null,null,"Kitos išlaidų pavadinimas",null,null,null,0]
["5.5.4","Komandiruotės pavadinimas, vieta, trukmė dienomis, vykstančių asmenų skaičius","Iš viso komandiruotei",null,null,null,{"$f":"SUM(G139:G144)","v":0},{"$f":"ROUND(G138*$D$7,2)","v":0}]
[null,null,"Dienpinigiai",null,null,null,{"$f":"ROUND(E139*F139,2)","v":0}]
[null,null,"Gyvenamojo ploto nuoma",null,null,null,0]
[null,null,"Kelionės išlaidos",null,null,null,0]
[null,null,"Dalyvavimo mokestis",null,null,null,0]
[null,null,"Kitos išlaidų pavadinimas",null,null,null,0]
[null,null,"Kitos išlaidų pavadinimas",null,null,null,0]
["5.5.5","Komandiruotės pavadinimas, vieta, trukmė dienomis, vykstančių asmenų skaičius","Iš viso komandiruotei",null,null,null,{"$f":"SUM(G146:G151)","v":0},{"$f":"ROUND(G145*$D$7,2)","v":0}]
[null,null,"Dienpinigiai",null,null,null,{"$f":"ROUND(E146*F146,2)","v":0}]
[null,null,"Gyvenamojo ploto nuoma",null,null,null,0]
[null,null,"Kelionės išlaidos",null,null,null,0]
[null,null,"Dalyvavimo mokestis",null,null,null,0]
[null,null,"Kitos išlaidų pavadinimas",null,null,null,0]
[null,null,"Kitos išlaidų pavadinimas",null,null,null,0]
["5.5.6","Komandiruotės pavadinimas, vieta, trukmė dienomis, vykstančių asmenų skaičius","Iš viso komandiruotei",null,null,null,{"$f":"SUM(G153:G158)","v":0},{"$f":"ROUND(G152*$D$7,2)","v":0}]
[null,null,"Dienpinigiai",null,null,null,{"$f":"ROUND(E153*F153,2)","v":0}]
[null,null,"Gyvenamojo ploto nuoma",null,null,null,0]
[null,null,"Kelionės išlaidos",null,null,null,0]
[null,null,"Dalyvavimo mokestis",null,null,null,0]
[null,null,"Kitos išlaidų pavadinimas",null,null,null,0]
[null,null,"Kitos išlaidų pavadinimas",null,null,null,0]
["5.5.7","Komandiruotės pavadinimas, vieta, trukmė dienomis, vykstančių asmenų skaičius","Iš viso komandiruotei",null,null,null,{"$f":"SUM(G160:G165)","v":0},{"$f":"ROUND(G159*$D$7,2)","v":0}]
[null,null,"Dienpinigiai",null,null,null,{"$f":"ROUND(E160*F160,2)","v":0}]
[null,null,"Gyvenamojo ploto nuoma",null,null,null,0]
[null,null,"Kelionės išlaidos",null,null,null,0]
[null,null,"Dalyvavimo mokestis",null,null,null,0]
[null,null,"Kitos išlaidų pavadinimas",null,null,null,0]
[null,null,"Kitos išlaidų pavadinimas",null,null,null,0]
["5.5.8","Komandiruotės pavadinimas, vieta, trukmė dienomis, vykstančių asmenų skaičius","Iš viso komandiruotei",null,null,null,{"$f":"SUM(G167:G172)","v":0},{"$f":"ROUND(G166*$D$7,2)","v":0}]
[null,null,"Dienpinigiai",null,null,null,{"$f":"ROUND(E167*F167,2)","v":0}]
[null,null,"Gyvenamojo ploto nuoma",null,null,null,0]
[null,null,"Kelionės išlaidos",null,null,null,0]
[null,null,"Dalyvavimo mokestis",null,null,null,0]
[null,null,"Kitos išlaidų pavadinimas",null,null,null,0]
[null,null,"Kitos išlaidų pavadinimas",null,null,null,0]
["5.5.9","Komandiruotės pavadinimas, vieta, trukmė dienomis, vykstančių asmenų skaičius","Iš viso komandiruotei",null,null,null,{"$f":"SUM(G174:G179)","v":0},{"$f":"ROUND(G173*$D$7,2)","v":0}]
[null,null,"Dienpinigiai",null,null,null,{"$f":"ROUND(E174*F174,2)","v":0}]
[null,null,"Gyvenamojo ploto nuoma",null,null,null,0]
[null,null,"Kelionės išlaidos",null,null,null,0]
[null,null,"Dalyvavimo mokestis",null,null,null,0]
[null,null,"Kitos išlaidų pavadinimas",null,null,null,0]
[null,null,"Kitos išlaidų pavadinimas",null,null,null,0]
["5.5.10","Komandiruotės pavadinimas, vieta, trukmė dienomis, vykstančių asmenų skaičius","Iš viso komandiruotei",null,null,null,{"$f":"SUM(G181:G186)","v":0},{"$f":"ROUND(G180*$D$7,2)","v":0}]
[null,null,"Dienpinigiai",null,null,null,{"$f":"ROUND(E181*F181,2)","v":0}]
[null,null,"Gyvenamojo ploto nuoma",null,null,null,0]
[null,null,"Kelionės išlaidos",null,null,null,0]
[null,null,"Dalyvavimo mokestis",null,null,null,0]
[null,null,"Kitos išlaidų pavadinimas",null,null,null,0]
[null,null,"Kitos išlaidų pavadinimas",null,null,null,0]
["Iš viso tinkamų finansuoti išlaidų:",null,null,null,null,null,{"$f":"G10+G21","v":0},{"$f":"H10+H21","v":0}]

{"sheet":"16","index":18,"n_rows":187,"n_cols":19,"rows_kept":187,"cut":false,"hidden":false,"merged":[[179,0,185,0],[179,1,185,1],[179,8,185,8],[186,0,186,5],[165,0,171,0],[165,1,171,1],[165,8,171,8],[172,0,178,0],[172,1,178,1],[172,8,178,8],[151,0,157,0],[151,1,157,1],[151,8,157,8],[158,0,164,0],[158,1,164,1],[158,8,164,8],[137,0,143,0],[137,1,143,1],[137,8,143,8],[144,0,150,0],[144,1,150,1],[144,8,150,8],[123,0,129,0],[123,1,129,1],[123,8,129,8],[130,0,136,0],[130,1,136,1],[130,8,136,8],[110,7,114,7],[110,8,114,8],[115,1,115,5],[116,0,122,0],[116,1,122,1],[116,8,122,8],[110,0,114,0],[110,1,114,1],[110,3,114,3],[110,4,114,4],[110,5,114,5],[110,6,114,6],[100,7,104,7],[100,8,104,8],[105,0,109,0],[105,1,109,1],[105,3,109,3],[105,4,109,4],[105,5,109,5],[105,6,109,6],[105,7,109,7],[105,8,109,8],[100,0,104,0],[100,1,104,1],[100,3,104,3],[100,4,104,4],[100,5,104,5],[100,6,104,6],[90,7,94,7],[90,8,94,8],[95,0,99,0],[95,1,99,1],[95,3,99,3],[95,4,99,4],[95,5,99,5],[95,6,99,6],[95,7,99,7],[95,8,99,8],[90,0,94,0],[90,1,94,1],[90,3,94,3],[90,4,94,4],[90,5,94,5],[90,6,94,6],[85,0,89,0],[85,1,89,1],[85,3,89,3],[85,4,89,4],[85,5,89,5],[85,6,89,6],[85,7,89,7],[85,8,89,8],[80,0,84,0],[80,1,84,1],[80,3,84,3],[80,4,84,4],[80,5,84,5],[80,6,84,6],[75,0,79,0],[75,1,79,1],[75,3,79,3],[75,4,79,4],[75,5,79,5],[75,6,79,6],[75,7,79,7],[75,8,79,8],[80,7,84,7],[80,8,84,8],[65,6,69,6],[65,7,69,7],[65,8,69,8],[70,0,74,0],[70,1,74,1],[70,3,74,3],[70,4,74,4],[70,5,74,5],[70,6,74,6],[70,7,74,7],[70,8,74,8],[62,1,62,2],[63,1,63,2],[64,1,64,5],[65,0,69,0],[65,1,69,1],[65,3,69,3],[65,4,69,4],[65,5,69,5],[56,1,56,2],[57,1,57,2],[58,1,58,2],[59,1,59,2],[60,1,60,2],[61,1,61,2],[50,1,50,2],[51,1,51,2],[52,1,52,2],[53,1,53,2],[54,1,54,2],[55,1,55,2],[44,1,44,2],[45,1,45,2],[46,1,46,2],[47,1,47,2],[48,1,48,5],[49,1,49,2],[38,1,38,2],[39,1,39,2],[40,1,40,2],[41,1,41,2],[42,1,42,2],[43,1,43,2],[32,1,32,5],[33,1,33,2],[34,1,34,2],[35,1,35,2],[36,1,36,2],[37,1,37,2],[26,1,26,2],[27,1,27,2],[28,1,28,2],[29,1,29,2],[30,1,30,2],[31,1,31,2],[20,1,20,5],[21,1,21,5],[22,1,22,2],[23,1,23,2],[24,1,24,2],[25,1,25,2],[16,1,16,2],[17,1,17,2],[18,1,18,2],[19,1,19,2],[8,1,8,2],[9,1,9,5],[10,1,10,2],[11,1,11,2],[12,1,12,2],[13,1,13,2],[0,3,0,8],[2,0,2,2],[2,3,2,8],[3,3,3,4],[3,5,3,6],[4,0,4,2],[4,3,4,8],[14,1,14,2],[15,1,15,2],[5,3,5,8]]}
[null,null,"Pasirinkite veiklos tipą:"]
[null,null,"Fizinio rodiklio Nr.:"]
["Fizinio rodiklio pavadinimas:"]
[null,null,"Fizinio rodiklio matavimo vnt.:",null,null,"Fizinio rodiklio vnt. skaičius:"]
["Juridinis asmuo (pareiškėjas, partneris), atsakingas už fizinį rodiklį:"]
[null,null,"Vykdytojo tipas:"]
[null,null,"Finansavimo intensyvumas:",null,null,null,"Pasirinkite biudžeto išlaidų kategoriją:","Visos"]
[]
["Eil. Nr.","Išlaidų kategorijos pavadinimas",null,"Matavimo vnt.","Kiekis","Vieneto kaina be PVM, Eur","Tinkamų finansuoti išlaidų suma be PVM, Eur","Finansavimo suma, Eur","Išlaidų pagrindimo dokumentų pavadinimas, data ir Nr."]
[4,"ĮRANGA, ĮRENGINIAI IR KT. TURTAS (techninių žinių ir išradimų patentų arba teisių pagal licencijų sutartį įsigijimo išlaidos)",null,null,null,null,{"$f":"SUM(G11:G20)","v":0},{"$f":"SUM(H11:H20)","v":0}]
["4.1","Išlaidų pavadinimas",null,null,null,null,{"$f":"ROUND(E11*F11,2)","v":0},{"$f":"ROUND(G11*$D$7,2)","v":0}]
["4.2","Išlaidų pavadinimas",null,null,null,null,0,0]
["4.3","Išlaidų pavadinimas",null,null,null,null,0,0]
["4.4","Išlaidų pavadinimas",null,null,null,null,0,0]
["4.5","Išlaidų pavadinimas",null,null,null,null,0,0]
["4.6","Išlaidų pavadinimas",null,null,null,null,0,0]
["4.7","Išlaidų pavadinimas",null,null,null,null,0,0]
["4.8","Išlaidų pavadinimas",null,null,null,null,0,0]
["4.9","Išlaidų pavadinimas",null,null,null,null,0,0]
["4.10","Išlaidų pavadinimas",null,null,null,null,0,0]
[5,"PROJEKTO VYKDYMAS",null,null,null,null,{"$f":"G22+G33+G49+G65+G116","v":0},{"$f":"H22+H33+H49+H65+H116","v":0}]
["5.1","MTEP paslaugos",null,null,null,null,{"$f":"SUM(G23:G32)","v":0},{"$f":"SUM(H23:H32)","v":0}]
["5.1.1","Paslaugos pavadinimas",null,null,null,null,{"$f":"ROUND(E23*F23,2)","v":0},0]
["5.1.2","Paslaugos pavadinimas",null,null,null,null,0,0]
["5.1.3","Paslaugos pavadinimas",null,null,null,null,0,0]
["5.1.4","Paslaugos pavadinimas",null,null,null,null,0,0]
["5.1.5","Paslaugos pavadinimas",null,null,null,null,0,0]
["5.1.6","Paslaugos pavadinimas",null,null,null,null,0,0]
["5.1.7","Paslaugos pavadinimas",null,null,null,null,0,0]
["5.1.8","Paslaugos pavadinimas",null,null,null,null,0,0]
["5.1.9","Paslaugos pavadinimas",null,null,null,null,0,0]
["5.1.10","Paslaugos pavadinimas",null,null,null,null,0,0]
["5.2","Medžiagos, mažavertis inventorius, atsargos ir pan. produktai, priskirtini trumpalaikiam turtui ir tiesiogiai susiję su MTEP veikla",null,null,null,null,{"$f":"SUM(G34:G50)","v":0},{"$f":"SUM(H34:H50)","v":0}]
["5.2.1","Išlaidų pavadinimas",null,null,null,null,{"$f":"ROUND(E34*F34,2)","v":0},{"$f":"ROUND(G34*$D$7,2)","v":0}]
["5.2.2","Išlaidų pavadinimas",null,null,null,null,0,0]
["5.2.3","Išlaidų pavadinimas",null,null,null,null,0,0]
["5.2.4","Išlaidų pavadinimas",null,null,null,null,0,0]
["5.2.5","Išlaidų pavadinimas",null,null,null,null,0,0]
["5.2.6","Išlaidų pavadinimas",null,null,null,null,0,0]
["5.2.7","Išlaidų pavadinimas",null,null,null,null,0,0]
["5.2.8","Išlaidų pavadinimas",null,null,null,null,0,0]
["5.2.9","Išlaidų pavadinimas",null,null,null,null,0,0]
["5.2.10","Išlaidų pavadinimas",null,null,null,null,0,0]
["5.2.11","Išlaidų pavadinimas",null,null,null,null,0,0]
["5.2.12","Išlaidų pavadinimas",null,null,null,null,0,0]
["5.2.13","Išlaidų pavadinimas",null,null,null,null,0,0]
["5.2.14","Išlaidų pavadinimas",null,null,null,null,0,0]
["5.2.15","Išlaidų pavadinimas",null,null,null,null,0,0]
["5.3","Projekto MTEP veikloms naudojamo ilgalaikio materialaus turto (įrangos, prietaisų, įrankių, įrenginių, mašinų ir įrengimų, pastatų ir (ar) patalpų), nusidėvėjimo sąnaudos, jeigu šiam turtui įsigyti nebuvo naudojamos viešosios (įskaitant ir kitų valstybių) lėšos",null,null,null,null,{"$f":"SUM(G50:G64)","v":0},{"$f":"SUM(H50:H64)","v":0},null,null,"Turto įvedimo į eksploataciją data","Turto įsigijimo vertė, Eur","Turto nudėvėjimo, amortizacijos laikotarpis, mėn.","Numatoma turto likutinė vertė, Eur","1 mėn. nudėvėjimo, amortizacijos suma, Eur","Turto naudojamo projekto reikmėms laikas, mėn.","Turto panaudojimo projekto reikmėms dalis (proc.)","Projektui priskirta turto nusidėvėjimo, amortizacijos suma per projekto laikotarpį, Eur"]
["5.3.1","Turtas, kurio nusidėvėjimą, amortizaciją prašoma finansuoti",null,null,1,{"$f":"R50","v":0},{"$f":"ROUND(E50*F50,2)","v":0},0,null,null,null,null,null,null,{"$f":"IFERROR(ROUND((L50-N50)/M50,2),\"0\")","v":"0"},null,null,{"$f":"O50*P50*Q50","v":0},{"$f":"IF(K50=0,\" \",IF(K50+(M50*30.5)<TODAY(),\"DĖMESIO! Patikrinkite, ar nurodytas turtas dar nėra nudėvėtas, amortizuotas\",\" \"))","v":" "}]
["5.3.2","Turtas, kurio nusidėvėjimą, amortizaciją prašoma finansuoti",null,null,1,{"$f":"R51","v":0},0,0,null,null,null,null,null,null,{"$f":"IFERROR(ROUND((L51-N51)/M51,2),\"0\")","v":"0"},null,null,{"$f":"O51*P51*Q51","v":0},{"$f":"IF(K51=0,\" \",IF(K51+(M51*30.5)<TODAY(),\"DĖMESIO! Patikrinkite, ar nurodytas turtas dar nėra nudėvėtas, amortizuotas\",\" \"))","v":" "}]
["5.3.3","Turtas, kurio nusidėvėjimą, amortizaciją prašoma finansuoti",null,null,1,0,0,0,null,null,null,null,null,null,"0",null,null,0," "]
["5.3.4","Turtas, kurio nusidėvėjimą, amortizaciją prašoma finansuoti",null,null,1,0,0,0,null,null,null,null,null,null,"0",null,null,0," "]
["5.3.5","Turtas, kurio nusidėvėjimą, amortizaciją prašoma finansuoti",null,null,1,0,0,0,null,null,null,null,null,null,"0",null,null,0," "]
["5.3.6","Turtas, kurio nusidėvėjimą, amortizaciją prašoma finansuoti",null,null,1,0,0,0,null,null,null,null,null,null,"0",null,null,0," "]
["5.3.7","Turtas, kurio nusidėvėjimą, amortizaciją prašoma finansuoti",null,null,1,0,0,0,null,null,null,null,null,null,"0",null,null,0," "]
["5.3.8","Turtas, kurio nusidėvėjimą, amortizaciją prašoma finansuoti",null,null,1,0,0,0,null,null,null,null,null,null,"0",null,null,0," "]
["5.3.9","Turtas, kurio nusidėvėjimą, amortizaciją prašoma finansuoti",null,null,1,0,0,0,null,null,null,null,null,null,"0",null,null,0," "]
["5.3.10","Turtas, kurio nusidėvėjimą, amortizaciją prašoma finansuoti",null,null,1,0,0,0,null,null,null,null,null,null,"0",null,null,0," "]
["5.3.11","Turtas, kurio nusidėvėjimą, amortizaciją prašoma finansuoti",null,null,1,0,0,0,null,null,null,null,null,null,"0",null,null,0," "]
["5.3.12","Turtas, kurio nusidėvėjimą, amortizaciją prašoma finansuoti",null,null,1,0,0,0,null,null,null,null,null,null,"0",null,null,0," "]
["5.3.13","Turtas, kurio nusidėvėjimą, amortizaciją prašoma finansuoti",null,null,1,0,0,0,null,null,null,null,null,null,"0",null,null,0," "]
["5.3.14","Turtas, kurio nusidėvėjimą, amortizaciją prašoma finansuoti",null,null,1,0,0,0,null,null,null,null,null,null,"0",null,null,0," "]
["5.3.15","Turtas, kurio nusidėvėjimą, amortizaciją prašoma finansuoti",null,null,1,0,0,0,null,null,null,null,null,null,"0",null,null,0," "]
["5.4","Projektą vykdančio personalo darbo užmokestis ir išlaidos su darbo santykiais susijusiems darbdavio įsipareigojimams",null,null,null,null,{"$f":"SUM(G66:G115)","v":0},{"$f":"SUM(H66:H115)","v":0},null,null,"Faktiškai gaunamas darbo užmokesti už 1 valandą pagal  pastarųjų 6 mėn. vidurkį, Eur"]
["5.4.1","Pareigybės pavadinimas","Darbuotojo vardas pavardė","val.",null,{"$f":"IFERROR(ROUND(AVERAGE(K66:K70),2),\"0\")","v":"0"},{"$f":"ROUND(E66*F66,2)","v":0},{"$f":"ROUND(G66*$D$7,2)","v":0}]
[null,null,"Darbuotojo vardas pavardė"]
[null,null,"Darbuotojo vardas pavardė"]
[null,null,"Darbuotojo vardas pavardė"]
[null,null,"Darbuotojo vardas pavardė"]
["5.4.2","Pareigybės pavadinimas","Darbuotojo vardas pavardė","val.",null,{"$f":"IFERROR(ROUND(AVERAGE(K71:K75),2),\"0\")","v":"0"},{"$f":"ROUND(E71*F71,2)","v":0},{"$f":"ROUND(G71*$D$7,2)","v":0}]
[null,null,"Darbuotojo vardas pavardė"]
[null,null,"Darbuotojo vardas pavardė"]
[null,null,"Darbuotojo vardas pavardė"]
[null,null,"Darbuotojo vardas pavardė"]
["5.4.3","Pareigybės pavadinimas","Darbuotojo vardas pavardė","val.",null,{"$f":"IFERROR(ROUND(AVERAGE(K76:K80),2),\"0\")","v":"0"},{"$f":"ROUND(E76*F76,2)","v":0},{"$f":"ROUND(G76*$D$7,2)","v":0}]
[null,null,"Darbuotojo vardas pavardė"]
[null,null,"Darbuotojo vardas pavardė"]
[null,null,"Darbuotojo vardas pavardė"]
[null,null,"Darbuotojo vardas pavardė"]
["5.4.4","Pareigybės pavadinimas","Darbuotojo vardas pavardė","val.",null,{"$f":"IFERROR(ROUND(AVERAGE(K81:K85),2),\"0\")","v":"0"},{"$f":"ROUND(E81*F81,2)","v":0},{"$f":"ROUND(G81*$D$7,2)","v":0}]
[null,null,"Darbuotojo vardas pavardė"]
[null,null,"Darbuotojo vardas pavardė"]
[null,null,"Darbuotojo vardas pavardė"]
[null,null,"Darbuotojo vardas pavardė"]
["5.4.5","Pareigybės pavadinimas","Darbuotojo vardas pavardė","val.",null,{"$f":"IFERROR(ROUND(AVERAGE(K86:K90),2),\"0\")","v":"0"},{"$f":"ROUND(E86*F86,2)","v":0},{"$f":"ROUND(G86*$D$7,2)","v":0}]
[null,null,"Darbuotojo vardas pavardė"]
[null,null,"Darbuotojo vardas pavardė"]
[null,null,"Darbuotojo vardas pavardė"]
[null,null,"Darbuotojo vardas pavardė"]
["5.4.6","Pareigybės pavadinimas","Darbuotojo vardas pavardė","val.",null,{"$f":"IFERROR(ROUND(AVERAGE(K91:K95),2),\"0\")","v":"0"},{"$f":"ROUND(E91*F91,2)","v":0},{"$f":"ROUND(G91*$D$7,2)","v":0}]
[null,null,"Darbuotojo vardas pavardė"]
[null,null,"Darbuotojo vardas pavardė"]
[null,null,"Darbuotojo vardas pavardė"]
[null,null,"Darbuotojo vardas pavardė"]
["5.4.7","Pareigybės pavadinimas","Darbuotojo vardas pavardė","val.",null,{"$f":"IFERROR(ROUND(AVERAGE(K96:K100),2),\"0\")","v":"0"},{"$f":"ROUND(E96*F96,2)","v":0},{"$f":"ROUND(G96*$D$7,2)","v":0}]
[null,null,"Darbuotojo vardas pavardė"]
[null,null,"Darbuotojo vardas pavardė"]
[null,null,"Darbuotojo vardas pavardė"]
[null,null,"Darbuotojo vardas pavardė"]
["5.4.8","Pareigybės pavadinimas","Darbuotojo vardas pavardė","val.",null,{"$f":"IFERROR(ROUND(AVERAGE(K101:K105),2),\"0\")","v":"0"},{"$f":"ROUND(E101*F101,2)","v":0},{"$f":"ROUND(G101*$D$7,2)","v":0}]
[null,null,"Darbuotojo vardas pavardė"]
[null,null,"Darbuotojo vardas pavardė"]
[null,null,"Darbuotojo vardas pavardė"]
[null,null,"Darbuotojo vardas pavardė"]
["5.4.9","Pareigybės pavadinimas","Darbuotojo vardas pavardė","val.",null,{"$f":"IFERROR(ROUND(AVERAGE(K106:K110),2),\"0\")","v":"0"},{"$f":"ROUND(E106*F106,2)","v":0},{"$f":"ROUND(G106*$D$7,2)","v":0}]
[null,null,"Darbuotojo vardas pavardė"]
[null,null,"Darbuotojo vardas pavardė"]
[null,null,"Darbuotojo vardas pavardė"]
[null,null,"Darbuotojo vardas pavardė"]
["5.4.10","Pareigybės pavadinimas","Darbuotojo vardas pavardė","val.",null,{"$f":"IFERROR(ROUND(AVERAGE(K111:K115),2),\"0\")","v":"0"},{"$f":"ROUND(E111*F111,2)","v":0},{"$f":"ROUND(G111*$D$7,2)","v":0}]
[null,null,"Darbuotojo vardas pavardė"]
[null,null,"Darbuotojo vardas pavardė"]
[null,null,"Darbuotojo vardas pavardė"]
[null,null,"Darbuotojo vardas pavardė"]
["5.5","Projektą vykdančio personalo komandiruočių išlaidos",null,null,null,null,{"$f":"SUM(G117,G124,G131,G138,G145,G152,G159,G166,G173,G180)","v":0},{"$f":"SUM(H117,H124,H131,H138,H145,H152,H159,H166,H173,H180)","v":0}]
["5.5.1","Komandiruotės pavadinimas, vieta, trukmė dienomis, vykstančių asmenų skaičius","Iš viso komandiruotei",null,null,null,{"$f":"SUM(G118:G123)","v":0},{"$f":"ROUND(G117*$D$7,2)","v":0}]
[null,null,"Dienpinigiai",null,null,null,{"$f":"ROUND(E118*F118,2)","v":0}]
[null,null,"Gyvenamojo ploto nuoma",null,null,null,0]
[null,null,"Kelionės išlaidos",null,null,null,0]
[null,null,"Dalyvavimo mokestis",null,null,null,0]
[null,null,"Kitos išlaidų pavadinimas",null,null,null,0]
[null,null,"Kitos išlaidų pavadinimas",null,null,null,0]
["5.5.2","Komandiruotės pavadinimas, vieta, trukmė dienomis, vykstančių asmenų skaičius","Iš viso komandiruotei",null,null,null,{"$f":"SUM(G125:G130)","v":0},{"$f":"ROUND(G124*$D$7,2)","v":0}]
[null,null,"Dienpinigiai",null,null,null,{"$f":"ROUND(E125*F125,2)","v":0}]
[null,null,"Gyvenamojo ploto nuoma",null,null,null,0]
[null,null,"Kelionės išlaidos",null,null,null,0]
[null,null,"Dalyvavimo mokestis",null,null,null,0]
[null,null,"Kitos išlaidų pavadinimas",null,null,null,0]
[null,null,"Kitos išlaidų pavadinimas",null,null,null,0]
["5.5.3","Komandiruotės pavadinimas, vieta, trukmė dienomis, vykstančių asmenų skaičius","Iš viso komandiruotei",null,null,null,{"$f":"SUM(G132:G137)","v":0},{"$f":"ROUND(G131*$D$7,2)","v":0}]
[null,null,"Dienpinigiai",null,null,null,{"$f":"ROUND(E132*F132,2)","v":0}]
[null,null,"Gyvenamojo ploto nuoma",null,null,null,0]
[null,null,"Kelionės išlaidos",null,null,null,0]
[null,null,"Dalyvavimo mokestis",null,null,null,0]
[null,null,"Kitos išlaidų pavadinimas",null,null,null,0]
[null,null,"Kitos išlaidų pavadinimas",null,null,null,0]
["5.5.4","Komandiruotės pavadinimas, vieta, trukmė dienomis, vykstančių asmenų skaičius","Iš viso komandiruotei",null,null,null,{"$f":"SUM(G139:G144)","v":0},{"$f":"ROUND(G138*$D$7,2)","v":0}]
[null,null,"Dienpinigiai",null,null,null,{"$f":"ROUND(E139*F139,2)","v":0}]
[null,null,"Gyvenamojo ploto nuoma",null,null,null,0]
[null,null,"Kelionės išlaidos",null,null,null,0]
[null,null,"Dalyvavimo mokestis",null,null,null,0]
[null,null,"Kitos išlaidų pavadinimas",null,null,null,0]
[null,null,"Kitos išlaidų pavadinimas",null,null,null,0]
["5.5.5","Komandiruotės pavadinimas, vieta, trukmė dienomis, vykstančių asmenų skaičius","Iš viso komandiruotei",null,null,null,{"$f":"SUM(G146:G151)","v":0},{"$f":"ROUND(G145*$D$7,2)","v":0}]
[null,null,"Dienpinigiai",null,null,null,{"$f":"ROUND(E146*F146,2)","v":0}]
[null,null,"Gyvenamojo ploto nuoma",null,null,null,0]
[null,null,"Kelionės išlaidos",null,null,null,0]
[null,null,"Dalyvavimo mokestis",null,null,null,0]
[null,null,"Kitos išlaidų pavadinimas",null,null,null,0]
[null,null,"Kitos išlaidų pavadinimas",null,null,null,0]
["5.5.6","Komandiruotės pavadinimas, vieta, trukmė dienomis, vykstančių asmenų skaičius","Iš viso komandiruotei",null,null,null,{"$f":"SUM(G153:G158)","v":0},{"$f":"ROUND(G152*$D$7,2)","v":0}]
[null,null,"Dienpinigiai",null,null,null,{"$f":"ROUND(E153*F153,2)","v":0}]
[null,null,"Gyvenamojo ploto nuoma",null,null,null,0]
[null,null,"Kelionės išlaidos",null,null,null,0]
[null,null,"Dalyvavimo mokestis",null,null,null,0]
[null,null,"Kitos išlaidų pavadinimas",null,null,null,0]
[null,null,"Kitos išlaidų pavadinimas",null,null,null,0]
["5.5.7","Komandiruotės pavadinimas, vieta, trukmė dienomis, vykstančių asmenų skaičius","Iš viso komandiruotei",null,null,null,{"$f":"SUM(G160:G165)","v":0},{"$f":"ROUND(G159*$D$7,2)","v":0}]
[null,null,"Dienpinigiai",null,null,null,{"$f":"ROUND(E160*F160,2)","v":0}]
[null,null,"Gyvenamojo ploto nuoma",null,null,null,0]
[null,null,"Kelionės išlaidos",null,null,null,0]
[null,null,"Dalyvavimo mokestis",null,null,null,0]
[null,null,"Kitos išlaidų pavadinimas",null,null,null,0]
[null,null,"Kitos išlaidų pavadinimas",null,null,null,0]
["5.5.8","Komandiruotės pavadinimas, vieta, trukmė dienomis, vykstančių asmenų skaičius","Iš viso komandiruotei",null,null,null,{"$f":"SUM(G167:G172)","v":0},{"$f":"ROUND(G166*$D$7,2)","v":0}]
[null,null,"Dienpinigiai",null,null,null,{"$f":"ROUND(E167*F167,2)","v":0}]
[null,null,"Gyvenamojo ploto nuoma",null,null,null,0]
[null,null,"Kelionės išlaidos",null,null,null,0]
[null,null,"Dalyvavimo mokestis",null,null,null,0]
[null,null,"Kitos išlaidų pavadinimas",null,null,null,0]
[null,null,"Kitos išlaidų pavadinimas",null,null,null,0]
["5.5.9","Komandiruotės pavadinimas, vieta, trukmė dienomis, vykstančių asmenų skaičius","Iš viso komandiruotei",null,null,null,{"$f":"SUM(G174:G179)","v":0},{"$f":"ROUND(G173*$D$7,2)","v":0}]
[null,null,"Dienpinigiai",null,null,null,{"$f":"ROUND(E174*F174,2)","v":0}]
[null,null,"Gyvenamojo ploto nuoma",null,null,null,0]
[null,null,"Kelionės išlaidos",null,null,null,0]
[null,null,"Dalyvavimo mokestis",null,null,null,0]
[null,null,"Kitos išlaidų pavadinimas",null,null,null,0]
[null,null,"Kitos išlaidų pavadinimas",null,null,null,0]
["5.5.10","Komandiruotės pavadinimas, vieta, trukmė dienomis, vykstančių asmenų skaičius","Iš viso komandiruotei",null,null,null,{"$f":"SUM(G181:G186)","v":0},{"$f":"ROUND(G180*$D$7,2)","v":0}]
[null,null,"Dienpinigiai",null,null,null,{"$f":"ROUND(E181*F181,2)","v":0}]
[null,null,"Gyvenamojo ploto nuoma",null,null,null,0]
[null,null,"Kelionės išlaidos",null,null,null,0]
[null,null,"Dalyvavimo mokestis",null,null,null,0]
[null,null,"Kitos išlaidų pavadinimas",null,null,null,0]
[null,null,"Kitos išlaidų pavadinimas",null,null,null,0]
["Iš viso tinkamų finansuoti išlaidų:",null,null,null,null,null,{"$f":"G10+G21","v":0},{"$f":"H10+H21","v":0}]

{"sheet":"17","index":19,"n_rows":187,"n_cols":19,"rows_kept":187,"cut":false,"hidden":false,"merged":[[179,0,185,0],[179,1,185,1],[179,8,185,8],[186,0,186,5],[165,0,171,0],[165,1,171,1],[165,8,171,8],[172,0,178,0],[172,1,178,1],[172,8,178,8],[151,0,157,0],[151,1,157,1],[151,8,157,8],[158,0,164,0],[158,1,164,1],[158,8,164,8],[137,0,143,0],[137,1,143,1],[137,8,143,8],[144,0,150,0],[144,1,150,1],[144,8,150,8],[123,0,129,0],[123,1,129,1],[123,8,129,8],[130,0,136,0],[130,1,136,1],[130,8,136,8],[110,7,114,7],[110,8,114,8],[115,1,115,5],[116,0,122,0],[116,1,122,1],[116,8,122,8],[110,0,114,0],[110,1,114,1],[110,3,114,3],[110,4,114,4],[110,5,114,5],[110,6,114,6],[100,7,104,7],[100,8,104,8],[105,0,109,0],[105,1,109,1],[105,3,109,3],[105,4,109,4],[105,5,109,5],[105,6,109,6],[105,7,109,7],[105,8,109,8],[100,0,104,0],[100,1,104,1],[100,3,104,3],[100,4,104,4],[100,5,104,5],[100,6,104,6],[90,7,94,7],[90,8,94,8],[95,0,99,0],[95,1,99,1],[95,3,99,3],[95,4,99,4],[95,5,99,5],[95,6,99,6],[95,7,99,7],[95,8,99,8],[90,0,94,0],[90,1,94,1],[90,3,94,3],[90,4,94,4],[90,5,94,5],[90,6,94,6],[85,0,89,0],[85,1,89,1],[85,3,89,3],[85,4,89,4],[85,5,89,5],[85,6,89,6],[85,7,89,7],[85,8,89,8],[80,0,84,0],[80,1,84,1],[80,3,84,3],[80,4,84,4],[80,5,84,5],[80,6,84,6],[75,0,79,0],[75,1,79,1],[75,3,79,3],[75,4,79,4],[75,5,79,5],[75,6,79,6],[75,7,79,7],[75,8,79,8],[80,7,84,7],[80,8,84,8],[65,6,69,6],[65,7,69,7],[65,8,69,8],[70,0,74,0],[70,1,74,1],[70,3,74,3],[70,4,74,4],[70,5,74,5],[70,6,74,6],[70,7,74,7],[70,8,74,8],[62,1,62,2],[63,1,63,2],[64,1,64,5],[65,0,69,0],[65,1,69,1],[65,3,69,3],[65,4,69,4],[65,5,69,5],[56,1,56,2],[57,1,57,2],[58,1,58,2],[59,1,59,2],[60,1,60,2],[61,1,61,2],[50,1,50,2],[51,1,51,2],[52,1,52,2],[53,1,53,2],[54,1,54,2],[55,1,55,2],[44,1,44,2],[45,1,45,2],[46,1,46,2],[47,1,47,2],[48,1,48,5],[49,1,49,2],[38,1,38,2],[39,1,39,2],[40,1,40,2],[41,1,41,2],[42,1,42,2],[43,1,43,2],[32,1,32,5],[33,1,33,2],[34,1,34,2],[35,1,35,2],[36,1,36,2],[37,1,37,2],[26,1,26,2],[27,1,27,2],[28,1,28,2],[29,1,29,2],[30,1,30,2],[31,1,31,2],[20,1,20,5],[21,1,21,5],[22,1,22,2],[23,1,23,2],[24,1,24,2],[25,1,25,2],[16,1,16,2],[17,1,17,2],[18,1,18,2],[19,1,19,2],[8,1,8,2],[9,1,9,5],[10,1,10,2],[11,1,11,2],[12,1,12,2],[13,1,13,2],[0,3,0,8],[2,0,2,2],[2,3,2,8],[3,3,3,4],[3,5,3,6],[4,0,4,2],[4,3,4,8],[14,1,14,2],[15,1,15,2],[5,3,5,8]]}
[null,null,"Pasirinkite veiklos tipą:"]
[null,null,"Fizinio rodiklio Nr.:"]
["Fizinio rodiklio pavadinimas:"]
[null,null,"Fizinio rodiklio matavimo vnt.:",null,null,"Fizinio rodiklio vnt. skaičius:"]
["Juridinis asmuo (pareiškėjas, partneris), atsakingas už fizinį rodiklį:"]
[null,null,"Vykdytojo tipas:"]
[null,null,"Finansavimo intensyvumas:",null,null,null,"Pasirinkite biudžeto išlaidų kategoriją:","Visos"]
[]
["Eil. Nr.","Išlaidų kategorijos pavadinimas",null,"Matavimo vnt.","Kiekis","Vieneto kaina be PVM, Eur","Tinkamų finansuoti išlaidų suma be PVM, Eur","Finansavimo suma, Eur","Išlaidų pagrindimo dokumentų pavadinimas, data ir Nr."]
[4,"ĮRANGA, ĮRENGINIAI IR KT. TURTAS (techninių žinių ir išradimų patentų arba teisių pagal licencijų sutartį įsigijimo išlaidos)",null,null,null,null,{"$f":"SUM(G11:G20)","v":0},{"$f":"SUM(H11:H20)","v":0}]
["4.1","Išlaidų pavadinimas",null,null,null,null,{"$f":"ROUND(E11*F11,2)","v":0},{"$f":"ROUND(G11*$D$7,2)","v":0}]
["4.2","Išlaidų pavadinimas",null,null,null,null,0,0]
["4.3","Išlaidų pavadinimas",null,null,null,null,0,0]
["4.4","Išlaidų pavadinimas",null,null,null,null,0,0]
["4.5","Išlaidų pavadinimas",null,null,null,null,0,0]
["4.6","Išlaidų pavadinimas",null,null,null,null,0,0]
["4.7","Išlaidų pavadinimas",null,null,null,null,0,0]
["4.8","Išlaidų pavadinimas",null,null,null,null,0,0]
["4.9","Išlaidų pavadinimas",null,null,null,null,0,0]
["4.10","Išlaidų pavadinimas",null,null,null,null,0,0]
[5,"PROJEKTO VYKDYMAS",null,null,null,null,{"$f":"G22+G33+G49+G65+G116","v":0},{"$f":"H22+H33+H49+H65+H116","v":0}]
["5.1","MTEP paslaugos",null,null,null,null,{"$f":"SUM(G23:G32)","v":0},{"$f":"SUM(H23:H32)","v":0}]
["5.1.1","Paslaugos pavadinimas",null,null,null,null,{"$f":"ROUND(E23*F23,2)","v":0},0]
["5.1.2","Paslaugos pavadinimas",null,null,null,null,0,0]
["5.1.3","Paslaugos pavadinimas",null,null,null,null,0,0]
["5.1.4","Paslaugos pavadinimas",null,null,null,null,0,0]
["5.1.5","Paslaugos pavadinimas",null,null,null,null,0,0]
["5.1.6","Paslaugos pavadinimas",null,null,null,null,0,0]
["5.1.7","Paslaugos pavadinimas",null,null,null,null,0,0]
["5.1.8","Paslaugos pavadinimas",null,null,null,null,0,0]
["5.1.9","Paslaugos pavadinimas",null,null,null,null,0,0]
["5.1.10","Paslaugos pavadinimas",null,null,null,null,0,0]
["5.2","Medžiagos, mažavertis inventorius, atsargos ir pan. produktai, priskirtini trumpalaikiam turtui ir tiesiogiai susiję su MTEP veikla",null,null,null,null,{"$f":"SUM(G34:G50)","v":0},{"$f":"SUM(H34:H50)","v":0}]
["5.2.1","Išlaidų pavadinimas",null,null,null,null,{"$f":"ROUND(E34*F34,2)","v":0},{"$f":"ROUND(G34*$D$7,2)","v":0}]
["5.2.2","Išlaidų pavadinimas",null,null,null,null,0,0]
["5.2.3","Išlaidų pavadinimas",null,null,null,null,0,0]
["5.2.4","Išlaidų pavadinimas",null,null,null,null,0,0]
["5.2.5","Išlaidų pavadinimas",null,null,null,null,0,0]
["5.2.6","Išlaidų pavadinimas",null,null,null,null,0,0]
["5.2.7","Išlaidų pavadinimas",null,null,null,null,0,0]
["5.2.8","Išlaidų pavadinimas",null,null,null,null,0,0]
["5.2.9","Išlaidų pavadinimas",null,null,null,null,0,0]
["5.2.10","Išlaidų pavadinimas",null,null,null,null,0,0]
["5.2.11","Išlaidų pavadinimas",null,null,null,null,0,0]
["5.2.12","Išlaidų pavadinimas",null,null,null,null,0,0]
["5.2.13","Išlaidų pavadinimas",null,null,null,null,0,0]
["5.2.14","Išlaidų pavadinimas",null,null,null,null,0,0]
["5.2.15","Išlaidų pavadinimas",null,null,null,null,0,0]
["5.3","Projekto MTEP veikloms naudojamo ilgalaikio materialaus turto (įrangos, prietaisų, įrankių, įrenginių, mašinų ir įrengimų, pastatų ir (ar) patalpų), nusidėvėjimo sąnaudos, jeigu šiam turtui įsigyti nebuvo naudojamos viešosios (įskaitant ir kitų valstybių) lėšos",null,null,null,null,{"$f":"SUM(G50:G64)","v":0},{"$f":"SUM(H50:H64)","v":0},null,null,"Turto įvedimo į eksploataciją data","Turto įsigijimo vertė, Eur","Turto nudėvėjimo, amortizacijos laikotarpis, mėn.","Numatoma turto likutinė vertė, Eur","1 mėn. nudėvėjimo, amortizacijos suma, Eur","Turto naudojamo projekto reikmėms laikas, mėn.","Turto panaudojimo projekto reikmėms dalis (proc.)","Projektui priskirta turto nusidėvėjimo, amortizacijos suma per projekto laikotarpį, Eur"]
["5.3.1","Turtas, kurio nusidėvėjimą, amortizaciją prašoma finansuoti",null,null,1,{"$f":"R50","v":0},{"$f":"ROUND(E50*F50,2)","v":0},0,null,null,null,null,null,null,{"$f":"IFERROR(ROUND((L50-N50)/M50,2),\"0\")","v":"0"},null,null,{"$f":"O50*P50*Q50","v":0},{"$f":"IF(K50=0,\" \",IF(K50+(M50*30.5)<TODAY(),\"DĖMESIO! Patikrinkite, ar nurodytas turtas dar nėra nudėvėtas, amortizuotas\",\" \"))","v":" "}]
["5.3.2","Turtas, kurio nusidėvėjimą, amortizaciją prašoma finansuoti",null,null,1,{"$f":"R51","v":0},0,0,null,null,null,null,null,null,{"$f":"IFERROR(ROUND((L51-N51)/M51,2),\"0\")","v":"0"},null,null,{"$f":"O51*P51*Q51","v":0},{"$f":"IF(K51=0,\" \",IF(K51+(M51*30.5)<TODAY(),\"DĖMESIO! Patikrinkite, ar nurodytas turtas dar nėra nudėvėtas, amortizuotas\",\" \"))","v":" "}]
["5.3.3","Turtas, kurio nusidėvėjimą, amortizaciją prašoma finansuoti",null,null,1,0,0,0,null,null,null,null,null,null,"0",null,null,0," "]
["5.3.4","Turtas, kurio nusidėvėjimą, amortizaciją prašoma finansuoti",null,null,1,0,0,0,null,null,null,null,null,null,"0",null,null,0," "]
["5.3.5","Turtas, kurio nusidėvėjimą, amortizaciją prašoma finansuoti",null,null,1,0,0,0,null,null,null,null,null,null,"0",null,null,0," "]
["5.3.6","Turtas, kurio nusidėvėjimą, amortizaciją prašoma finansuoti",null,null,1,0,0,0,null,null,null,null,null,null,"0",null,null,0," "]
["5.3.7","Turtas, kurio nusidėvėjimą, amortizaciją prašoma finansuoti",null,null,1,0,0,0,null,null,null,null,null,null,"0",null,null,0," "]
["5.3.8","Turtas, kurio nusidėvėjimą, amortizaciją prašoma finansuoti",null,null,1,0,0,0,null,null,null,null,null,null,"0",null,null,0," "]
["5.3.9","Turtas, kurio nusidėvėjimą, amortizaciją prašoma finansuoti",null,null,1,0,0,0,null,null,null,null,null,null,"0",null,null,0," "]
["5.3.10","Turtas, kurio nusidėvėjimą, amortizaciją prašoma finansuoti",null,null,1,0,0,0,null,null,null,null,null,null,"0",null,null,0," "]
["5.3.11","Turtas, kurio nusidėvėjimą, amortizaciją prašoma finansuoti",null,null,1,0,0,0,null,null,null,null,null,null,"0",null,null,0," "]
["5.3.12","Turtas, kurio nusidėvėjimą, amortizaciją prašoma finansuoti",null,null,1,0,0,0,null,null,null,null,null,null,"0",null,null,0," "]
["5.3.13","Turtas, kurio nusidėvėjimą, amortizaciją prašoma finansuoti",null,null,1,0,0,0,null,null,null,null,null,null,"0",null,null,0," "]
["5.3.14","Turtas, kurio nusidėvėjimą, amortizaciją prašoma finansuoti",null,null,1,0,0,0,null,null,null,null,null,null,"0",null,null,0," "]
["5.3.15","Turtas, kurio nusidėvėjimą, amortizaciją prašoma finansuoti",null,null,1,0,0,0,null,null,null,null,null,null,"0",null,null,0," "]
["5.4","Projektą vykdančio personalo darbo užmokestis ir išlaidos su darbo santykiais susijusiems darbdavio įsipareigojimams",null,null,null,null,{"$f":"SUM(G66:G115)","v":0},{"$f":"SUM(H66:H115)","v":0},null,null,"Faktiškai gaunamas darbo užmokesti už 1 valandą pagal  pastarųjų 6 mėn. vidurkį, Eur"]
["5.4.1","Pareigybės pavadinimas","Darbuotojo vardas pavardė","val.",null,{"$f":"IFERROR(ROUND(AVERAGE(K66:K70),2),\"0\")","v":"0"},{"$f":"ROUND(E66*F66,2)","v":0},{"$f":"ROUND(G66*$D$7,2)","v":0}]
[null,null,"Darbuotojo vardas pavardė"]
[null,null,"Darbuotojo vardas pavardė"]
[null,null,"Darbuotojo vardas pavardė"]
[null,null,"Darbuotojo vardas pavardė"]
["5.4.2","Pareigybės pavadinimas","Darbuotojo vardas pavardė","val.",null,{"$f":"IFERROR(ROUND(AVERAGE(K71:K75),2),\"0\")","v":"0"},{"$f":"ROUND(E71*F71,2)","v":0},{"$f":"ROUND(G71*$D$7,2)","v":0}]
[null,null,"Darbuotojo vardas pavardė"]
[null,null,"Darbuotojo vardas pavardė"]
[null,null,"Darbuotojo vardas pavardė"]
[null,null,"Darbuotojo vardas pavardė"]
["5.4.3","Pareigybės pavadinimas","Darbuotojo vardas pavardė","val.",null,{"$f":"IFERROR(ROUND(AVERAGE(K76:K80),2),\"0\")","v":"0"},{"$f":"ROUND(E76*F76,2)","v":0},{"$f":"ROUND(G76*$D$7,2)","v":0}]
[null,null,"Darbuotojo vardas pavardė"]
[null,null,"Darbuotojo vardas pavardė"]
[null,null,"Darbuotojo vardas pavardė"]
[null,null,"Darbuotojo vardas pavardė"]
["5.4.4","Pareigybės pavadinimas","Darbuotojo vardas pavardė","val.",null,{"$f":"IFERROR(ROUND(AVERAGE(K81:K85),2),\"0\")","v":"0"},{"$f":"ROUND(E81*F81,2)","v":0},{"$f":"ROUND(G81*$D$7,2)","v":0}]
[null,null,"Darbuotojo vardas pavardė"]
[null,null,"Darbuotojo vardas pavardė"]
[null,null,"Darbuotojo vardas pavardė"]
[null,null,"Darbuotojo vardas pavardė"]
["5.4.5","Pareigybės pavadinimas","Darbuotojo vardas pavardė","val.",null,{"$f":"IFERROR(ROUND(AVERAGE(K86:K90),2),\"0\")","v":"0"},{"$f":"ROUND(E86*F86,2)","v":0},{"$f":"ROUND(G86*$D$7,2)","v":0}]
[null,null,"Darbuotojo vardas pavardė"]
[null,null,"Darbuotojo vardas pavardė"]
[null,null,"Darbuotojo vardas pavardė"]
[null,null,"Darbuotojo vardas pavardė"]
["5.4.6","Pareigybės pavadinimas","Darbuotojo vardas pavardė","val.",null,{"$f":"IFERROR(ROUND(AVERAGE(K91:K95),2),\"0\")","v":"0"},{"$f":"ROUND(E91*F91,2)","v":0},{"$f":"ROUND(G91*$D$7,2)","v":0}]
[null,null,"Darbuotojo vardas pavardė"]
[null,null,"Darbuotojo vardas pavardė"]
[null,null,"Darbuotojo vardas pavardė"]
[null,null,"Darbuotojo vardas pavardė"]
["5.4.7","Pareigybės pavadinimas","Darbuotojo vardas pavardė","val.",null,{"$f":"IFERROR(ROUND(AVERAGE(K96:K100),2),\"0\")","v":"0"},{"$f":"ROUND(E96*F96,2)","v":0},{"$f":"ROUND(G96*$D$7,2)","v":0}]
[null,null,"Darbuotojo vardas pavardė"]
[null,null,"Darbuotojo vardas pavardė"]
[null,null,"Darbuotojo vardas pavardė"]
[null,null,"Darbuotojo vardas pavardė"]
["5.4.8","Pareigybės pavadinimas","Darbuotojo vardas pavardė","val.",null,{"$f":"IFERROR(ROUND(AVERAGE(K101:K105),2),\"0\")","v":"0"},{"$f":"ROUND(E101*F101,2)","v":0},{"$f":"ROUND(G101*$D$7,2)","v":0}]
[null,null,"Darbuotojo vardas pavardė"]
[null,null,"Darbuotojo vardas pavardė"]
[null,null,"Darbuotojo vardas pavardė"]
[null,null,"Darbuotojo vardas pavardė"]
["5.4.9","Pareigybės pavadinimas","Darbuotojo vardas pavardė","val.",null,{"$f":"IFERROR(ROUND(AVERAGE(K106:K110),2),\"0\")","v":"0"},{"$f":"ROUND(E106*F106,2)","v":0},{"$f":"ROUND(G106*$D$7,2)","v":0}]
[null,null,"Darbuotojo vardas pavardė"]
[null,null,"Darbuotojo vardas pavardė"]
[null,null,"Darbuotojo vardas pavardė"]
[null,null,"Darbuotojo vardas pavardė"]
["5.4.10","Pareigybės pavadinimas","Darbuotojo vardas pavardė","val.",null,{"$f":"IFERROR(ROUND(AVERAGE(K111:K115),2),\"0\")","v":"0"},{"$f":"ROUND(E111*F111,2)","v":0},{"$f":"ROUND(G111*$D$7,2)","v":0}]
[null,null,"Darbuotojo vardas pavardė"]
[null,null,"Darbuotojo vardas pavardė"]
[null,null,"Darbuotojo vardas pavardė"]
[null,null,"Darbuotojo vardas pavardė"]
["5.5","Projektą vykdančio personalo komandiruočių išlaidos",null,null,null,null,{"$f":"SUM(G117,G124,G131,G138,G145,G152,G159,G166,G173,G180)","v":0},{"$f":"SUM(H117,H124,H131,H138,H145,H152,H159,H166,H173,H180)","v":0}]
["5.5.1","Komandiruotės pavadinimas, vieta, trukmė dienomis, vykstančių asmenų skaičius","Iš viso komandiruotei",null,null,null,{"$f":"SUM(G118:G123)","v":0},{"$f":"ROUND(G117*$D$7,2)","v":0}]
[null,null,"Dienpinigiai",null,null,null,{"$f":"ROUND(E118*F118,2)","v":0}]
[null,null,"Gyvenamojo ploto nuoma",null,null,null,0]
[null,null,"Kelionės išlaidos",null,null,null,0]
[null,null,"Dalyvavimo mokestis",null,null,null,0]
[null,null,"Kitos išlaidų pavadinimas",null,null,null,0]
[null,null,"Kitos išlaidų pavadinimas",null,null,null,0]
["5.5.2","Komandiruotės pavadinimas, vieta, trukmė dienomis, vykstančių asmenų skaičius","Iš viso komandiruotei",null,null,null,{"$f":"SUM(G125:G130)","v":0},{"$f":"ROUND(G124*$D$7,2)","v":0}]
[null,null,"Dienpinigiai",null,null,null,{"$f":"ROUND(E125*F125,2)","v":0}]
[null,null,"Gyvenamojo ploto nuoma",null,null,null,0]
[null,null,"Kelionės išlaidos",null,null,null,0]
[null,null,"Dalyvavimo mokestis",null,null,null,0]
[null,null,"Kitos išlaidų pavadinimas",null,null,null,0]
[null,null,"Kitos išlaidų pavadinimas",null,null,null,0]
["5.5.3","Komandiruotės pavadinimas, vieta, trukmė dienomis, vykstančių asmenų skaičius","Iš viso komandiruotei",null,null,null,{"$f":"SUM(G132:G137)","v":0},{"$f":"ROUND(G131*$D$7,2)","v":0}]
[null,null,"Dienpinigiai",null,null,null,{"$f":"ROUND(E132*F132,2)","v":0}]
[null,null,"Gyvenamojo ploto nuoma",null,null,null,0]
[null,null,"Kelionės išlaidos",null,null,null,0]
[null,null,"Dalyvavimo mokestis",null,null,null,0]
[null,null,"Kitos išlaidų pavadinimas",null,null,null,0]
[null,null,"Kitos išlaidų pavadinimas",null,null,null,0]
["5.5.4","Komandiruotės pavadinimas, vieta, trukmė dienomis, vykstančių asmenų skaičius","Iš viso komandiruotei",null,null,null,{"$f":"SUM(G139:G144)","v":0},{"$f":"ROUND(G138*$D$7,2)","v":0}]
[null,null,"Dienpinigiai",null,null,null,{"$f":"ROUND(E139*F139,2)","v":0}]
[null,null,"Gyvenamojo ploto nuoma",null,null,null,0]
[null,null,"Kelionės išlaidos",null,null,null,0]
[null,null,"Dalyvavimo mokestis",null,null,null,0]
[null,null,"Kitos išlaidų pavadinimas",null,null,null,0]
[null,null,"Kitos išlaidų pavadinimas",null,null,null,0]
["5.5.5","Komandiruotės pavadinimas, vieta, trukmė dienomis, vykstančių asmenų skaičius","Iš viso komandiruotei",null,null,null,{"$f":"SUM(G146:G151)","v":0},{"$f":"ROUND(G145*$D$7,2)","v":0}]
[null,null,"Dienpinigiai",null,null,null,{"$f":"ROUND(E146*F146,2)","v":0}]
[null,null,"Gyvenamojo ploto nuoma",null,null,null,0]
[null,null,"Kelionės išlaidos",null,null,null,0]
[null,null,"Dalyvavimo mokestis",null,null,null,0]
[null,null,"Kitos išlaidų pavadinimas",null,null,null,0]
[null,null,"Kitos išlaidų pavadinimas",null,null,null,0]
["5.5.6","Komandiruotės pavadinimas, vieta, trukmė dienomis, vykstančių asmenų skaičius","Iš viso komandiruotei",null,null,null,{"$f":"SUM(G153:G158)","v":0},{"$f":"ROUND(G152*$D$7,2)","v":0}]
[null,null,"Dienpinigiai",null,null,null,{"$f":"ROUND(E153*F153,2)","v":0}]
[null,null,"Gyvenamojo ploto nuoma",null,null,null,0]
[null,null,"Kelionės išlaidos",null,null,null,0]
[null,null,"Dalyvavimo mokestis",null,null,null,0]
[null,null,"Kitos išlaidų pavadinimas",null,null,null,0]
[null,null,"Kitos išlaidų pavadinimas",null,null,null,0]
["5.5.7","Komandiruotės pavadinimas, vieta, trukmė dienomis, vykstančių asmenų skaičius","Iš viso komandiruotei",null,null,null,{"$f":"SUM(G160:G165)","v":0},{"$f":"ROUND(G159*$D$7,2)","v":0}]
[null,null,"Dienpinigiai",null,null,null,{"$f":"ROUND(E160*F160,2)","v":0}]
[null,null,"Gyvenamojo ploto nuoma",null,null,null,0]
[null,null,"Kelionės išlaidos",null,null,null,0]
[null,null,"Dalyvavimo mokestis",null,null,null,0]
[null,null,"Kitos išlaidų pavadinimas",null,null,null,0]
[null,null,"Kitos išlaidų pavadinimas",null,null,null,0]
["5.5.8","Komandiruotės pavadinimas, vieta, trukmė dienomis, vykstančių asmenų skaičius","Iš viso komandiruotei",null,null,null,{"$f":"SUM(G167:G172)","v":0},{"$f":"ROUND(G166*$D$7,2)","v":0}]
[null,null,"Dienpinigiai",null,null,null,{"$f":"ROUND(E167*F167,2)","v":0}]
[null,null,"Gyvenamojo ploto nuoma",null,null,null,0]
[null,null,"Kelionės išlaidos",null,null,null,0]
[null,null,"Dalyvavimo mokestis",null,null,null,0]
[null,null,"Kitos išlaidų pavadinimas",null,null,null,0]
[null,null,"Kitos išlaidų pavadinimas",null,null,null,0]
["5.5.9","Komandiruotės pavadinimas, vieta, trukmė dienomis, vykstančių asmenų skaičius","Iš viso komandiruotei",null,null,null,{"$f":"SUM(G174:G179)","v":0},{"$f":"ROUND(G173*$D$7,2)","v":0}]
[null,null,"Dienpinigiai",null,null,null,{"$f":"ROUND(E174*F174,2)","v":0}]
[null,null,"Gyvenamojo ploto nuoma",null,null,null,0]
[null,null,"Kelionės išlaidos",null,null,null,0]
[null,null,"Dalyvavimo mokestis",null,null,null,0]
[null,null,"Kitos išlaidų pavadinimas",null,null,null,0]
[null,null,"Kitos išlaidų pavadinimas",null,null,null,0]
["5.5.10","Komandiruotės pavadinimas, vieta, trukmė dienomis, vykstančių asmenų skaičius","Iš viso komandiruotei",null,null,null,{"$f":"SUM(G181:G186)","v":0},{"$f":"ROUND(G180*$D$7,2)","v":0}]
[null,null,"Dienpinigiai",null,null,null,{"$f":"ROUND(E181*F181,2)","v":0}]
[null,null,"Gyvenamojo ploto nuoma",null,null,null,0]
[null,null,"Kelionės išlaidos",null,null,null,0]
[null,null,"Dalyvavimo mokestis",null,null,null,0]
[null,null,"Kitos išlaidų pavadinimas",null,null,null,0]
[null,null,"Kitos išlaidų pavadinimas",null,null,null,0]
["Iš viso tinkamų finansuoti išlaidų:",null,null,null,null,null,{"$f":"G10+G21","v":0},{"$f":"H10+H21","v":0}]

{"sheet":"18","index":20,"n_rows":187,"n_cols":19,"rows_kept":187,"cut":false,"hidden":false,"merged":[[179,0,185,0],[179,1,185,1],[179,8,185,8],[186,0,186,5],[165,0,171,0],[165,1,171,1],[165,8,171,8],[172,0,178,0],[172,1,178,1],[172,8,178,8],[151,0,157,0],[151,1,157,1],[151,8,157,8],[158,0,164,0],[158,1,164,1],[158,8,164,8],[137,0,143,0],[137,1,143,1],[137,8,143,8],[144,0,150,0],[144,1,150,1],[144,8,150,8],[123,0,129,0],[123,1,129,1],[123,8,129,8],[130,0,136,0],[130,1,136,1],[130,8,136,8],[110,7,114,7],[110,8,114,8],[115,1,115,5],[116,0,122,0],[116,1,122,1],[116,8,122,8],[110,0,114,0],[110,1,114,1],[110,3,114,3],[110,4,114,4],[110,5,114,5],[110,6,114,6],[100,7,104,7],[100,8,104,8],[105,0,109,0],[105,1,109,1],[105,3,109,3],[105,4,109,4],[105,5,109,5],[105,6,109,6],[105,7,109,7],[105,8,109,8],[100,0,104,0],[100,1,104,1],[100,3,104,3],[100,4,104,4],[100,5,104,5],[100,6,104,6],[90,7,94,7],[90,8,94,8],[95,0,99,0],[95,1,99,1],[95,3,99,3],[95,4,99,4],[95,5,99,5],[95,6,99,6],[95,7,99,7],[95,8,99,8],[90,0,94,0],[90,1,94,1],[90,3,94,3],[90,4,94,4],[90,5,94,5],[90,6,94,6],[85,0,89,0],[85,1,89,1],[85,3,89,3],[85,4,89,4],[85,5,89,5],[85,6,89,6],[85,7,89,7],[85,8,89,8],[80,0,84,0],[80,1,84,1],[80,3,84,3],[80,4,84,4],[80,5,84,5],[80,6,84,6],[75,0,79,0],[75,1,79,1],[75,3,79,3],[75,4,79,4],[75,5,79,5],[75,6,79,6],[75,7,79,7],[75,8,79,8],[80,7,84,7],[80,8,84,8],[65,6,69,6],[65,7,69,7],[65,8,69,8],[70,0,74,0],[70,1,74,1],[70,3,74,3],[70,4,74,4],[70,5,74,5],[70,6,74,6],[70,7,74,7],[70,8,74,8],[62,1,62,2],[63,1,63,2],[64,1,64,5],[65,0,69,0],[65,1,69,1],[65,3,69,3],[65,4,69,4],[65,5,69,5],[56,1,56,2],[57,1,57,2],[58,1,58,2],[59,1,59,2],[60,1,60,2],[61,1,61,2],[50,1,50,2],[51,1,51,2],[52,1,52,2],[53,1,53,2],[54,1,54,2],[55,1,55,2],[44,1,44,2],[45,1,45,2],[46,1,46,2],[47,1,47,2],[48,1,48,5],[49,1,49,2],[38,1,38,2],[39,1,39,2],[40,1,40,2],[41,1,41,2],[42,1,42,2],[43,1,43,2],[32,1,32,5],[33,1,33,2],[34,1,34,2],[35,1,35,2],[36,1,36,2],[37,1,37,2],[26,1,26,2],[27,1,27,2],[28,1,28,2],[29,1,29,2],[30,1,30,2],[31,1,31,2],[20,1,20,5],[21,1,21,5],[22,1,22,2],[23,1,23,2],[24,1,24,2],[25,1,25,2],[16,1,16,2],[17,1,17,2],[18,1,18,2],[19,1,19,2],[8,1,8,2],[9,1,9,5],[10,1,10,2],[11,1,11,2],[12,1,12,2],[13,1,13,2],[0,3,0,8],[2,0,2,2],[2,3,2,8],[3,3,3,4],[3,5,3,6],[4,0,4,2],[4,3,4,8],[14,1,14,2],[15,1,15,2],[5,3,5,8]]}
[null,null,"Pasirinkite veiklos tipą:"]
[null,null,"Fizinio rodiklio Nr.:"]
["Fizinio rodiklio pavadinimas:"]
[null,null,"Fizinio rodiklio matavimo vnt.:",null,null,"Fizinio rodiklio vnt. skaičius:"]
["Juridinis asmuo (pareiškėjas, partneris), atsakingas už fizinį rodiklį:"]
[null,null,"Vykdytojo tipas:"]
[null,null,"Finansavimo intensyvumas:",null,null,null,"Pasirinkite biudžeto išlaidų kategoriją:","Visos"]
[]
["Eil. Nr.","Išlaidų kategorijos pavadinimas",null,"Matavimo vnt.","Kiekis","Vieneto kaina be PVM, Eur","Tinkamų finansuoti išlaidų suma be PVM, Eur","Finansavimo suma, Eur","Išlaidų pagrindimo dokumentų pavadinimas, data ir Nr."]
[4,"ĮRANGA, ĮRENGINIAI IR KT. TURTAS (techninių žinių ir išradimų patentų arba teisių pagal licencijų sutartį įsigijimo išlaidos)",null,null,null,null,{"$f":"SUM(G11:G20)","v":0},{"$f":"SUM(H11:H20)","v":0}]
["4.1","Išlaidų pavadinimas",null,null,null,null,{"$f":"ROUND(E11*F11,2)","v":0},{"$f":"ROUND(G11*$D$7,2)","v":0}]
["4.2","Išlaidų pavadinimas",null,null,null,null,0,0]
["4.3","Išlaidų pavadinimas",null,null,null,null,0,0]
["4.4","Išlaidų pavadinimas",null,null,null,null,0,0]
["4.5","Išlaidų pavadinimas",null,null,null,null,0,0]
["4.6","Išlaidų pavadinimas",null,null,null,null,0,0]
["4.7","Išlaidų pavadinimas",null,null,null,null,0,0]
["4.8","Išlaidų pavadinimas",null,null,null,null,0,0]
["4.9","Išlaidų pavadinimas",null,null,null,null,0,0]
["4.10","Išlaidų pavadinimas",null,null,null,null,0,0]
[5,"PROJEKTO VYKDYMAS",null,null,null,null,{"$f":"G22+G33+G49+G65+G116","v":0},{"$f":"H22+H33+H49+H65+H116","v":0}]
["5.1","MTEP paslaugos",null,null,null,null,{"$f":"SUM(G23:G32)","v":0},{"$f":"SUM(H23:H32)","v":0}]
["5.1.1","Paslaugos pavadinimas",null,null,null,null,{"$f":"ROUND(E23*F23,2)","v":0},0]
["5.1.2","Paslaugos pavadinimas",null,null,null,null,0,0]
["5.1.3","Paslaugos pavadinimas",null,null,null,null,0,0]
["5.1.4","Paslaugos pavadinimas",null,null,null,null,0,0]
["5.1.5","Paslaugos pavadinimas",null,null,null,null,0,0]
["5.1.6","Paslaugos pavadinimas",null,null,null,null,0,0]
["5.1.7","Paslaugos pavadinimas",null,null,null,null,0,0]
["5.1.8","Paslaugos pavadinimas",null,null,null,null,0,0]
["5.1.9","Paslaugos pavadinimas",null,null,null,null,0,0]
["5.1.10","Paslaugos pavadinimas",null,null,null,null,0,0]
["5.2","Medžiagos, mažavertis inventorius, atsargos ir pan. produktai, priskirtini trumpalaikiam turtui ir tiesiogiai susiję su MTEP veikla",null,null,null,null,{"$f":"SUM(G34:G50)","v":0},{"$f":"SUM(H34:H50)","v":0}]
["5.2.1","Išlaidų pavadinimas",null,null,null,null,{"$f":"ROUND(E34*F34,2)","v":0},{"$f":"ROUND(G34*$D$7,2)","v":0}]
["5.2.2","Išlaidų pavadinimas",null,null,null,null,0,0]
["5.2.3","Išlaidų pavadinimas",null,null,null,null,0,0]
["5.2.4","Išlaidų pavadinimas",null,null,null,null,0,0]
["5.2.5","Išlaidų pavadinimas",null,null,null,null,0,0]
["5.2.6","Išlaidų pavadinimas",null,null,null,null,0,0]
["5.2.7","Išlaidų pavadinimas",null,null,null,null,0,0]
["5.2.8","Išlaidų pavadinimas",null,null,null,null,0,0]
["5.2.9","Išlaidų pavadinimas",null,null,null,null,0,0]
["5.2.10","Išlaidų pavadinimas",null,null,null,null,0,0]
["5.2.11","Išlaidų pavadinimas",null,null,null,null,0,0]
["5.2.12","Išlaidų pavadinimas",null,null,null,null,0,0]
["5.2.13","Išlaidų pavadinimas",null,null,null,null,0,0]
["5.2.14","Išlaidų pavadinimas",null,null,null,null,0,0]
["5.2.15","Išlaidų pavadinimas",null,null,null,null,0,0]
["5.3","Projekto MTEP veikloms naudojamo ilgalaikio materialaus turto (įrangos, prietaisų, įrankių, įrenginių, mašinų ir įrengimų, pastatų ir (ar) patalpų), nusidėvėjimo sąnaudos, jeigu šiam turtui įsigyti nebuvo naudojamos viešosios (įskaitant ir kitų valstybių) lėšos",null,null,null,null,{"$f":"SUM(G50:G64)","v":0},{"$f":"SUM(H50:H64)","v":0},null,null,"Turto įvedimo į eksploataciją data","Turto įsigijimo vertė, Eur","Turto nudėvėjimo, amortizacijos laikotarpis, mėn.","Numatoma turto likutinė vertė, Eur","1 mėn. nudėvėjimo, amortizacijos suma, Eur","Turto naudojamo projekto reikmėms laikas, mėn.","Turto panaudojimo projekto reikmėms dalis (proc.)","Projektui priskirta turto nusidėvėjimo, amortizacijos suma per projekto laikotarpį, Eur"]
["5.3.1","Turtas, kurio nusidėvėjimą, amortizaciją prašoma finansuoti",null,null,1,{"$f":"R50","v":0},{"$f":"ROUND(E50*F50,2)","v":0},0,null,null,null,null,null,null,{"$f":"IFERROR(ROUND((L50-N50)/M50,2),\"0\")","v":"0"},null,null,{"$f":"O50*P50*Q50","v":0},{"$f":"IF(K50=0,\" \",IF(K50+(M50*30.5)<TODAY(),\"DĖMESIO! Patikrinkite, ar nurodytas turtas dar nėra nudėvėtas, amortizuotas\",\" \"))","v":" "}]
["5.3.2","Turtas, kurio nusidėvėjimą, amortizaciją prašoma finansuoti",null,null,1,{"$f":"R51","v":0},0,0,null,null,null,null,null,null,{"$f":"IFERROR(ROUND((L51-N51)/M51,2),\"0\")","v":"0"},null,null,{"$f":"O51*P51*Q51","v":0},{"$f":"IF(K51=0,\" \",IF(K51+(M51*30.5)<TODAY(),\"DĖMESIO! Patikrinkite, ar nurodytas turtas dar nėra nudėvėtas, amortizuotas\",\" \"))","v":" "}]
["5.3.3","Turtas, kurio nusidėvėjimą, amortizaciją prašoma finansuoti",null,null,1,0,0,0,null,null,null,null,null,null,"0",null,null,0," "]
["5.3.4","Turtas, kurio nusidėvėjimą, amortizaciją prašoma finansuoti",null,null,1,0,0,0,null,null,null,null,null,null,"0",null,null,0," "]
["5.3.5","Turtas, kurio nusidėvėjimą, amortizaciją prašoma finansuoti",null,null,1,0,0,0,null,null,null,null,null,null,"0",null,null,0," "]
["5.3.6","Turtas, kurio nusidėvėjimą, amortizaciją prašoma finansuoti",null,null,1,0,0,0,null,null,null,null,null,null,"0",null,null,0," "]
["5.3.7","Turtas, kurio nusidėvėjimą, amortizaciją prašoma finansuoti",null,null,1,0,0,0,null,null,null,null,null,null,"0",null,null,0," "]
["5.3.8","Turtas, kurio nusidėvėjimą, amortizaciją prašoma finansuoti",null,null,1,0,0,0,null,null,null,null,null,null,"0",null,null,0," "]
["5.3.9","Turtas, kurio nusidėvėjimą, amortizaciją prašoma finansuoti",null,null,1,0,0,0,null,null,null,null,null,null,"0",null,null,0," "]
["5.3.10","Turtas, kurio nusidėvėjimą, amortizaciją prašoma finansuoti",null,null,1,0,0,0,null,null,null,null,null,null,"0",null,null,0," "]
["5.3.11","Turtas, kurio nusidėvėjimą, amortizaciją prašoma finansuoti",null,null,1,0,0,0,null,null,null,null,null,null,"0",null,null,0," "]
["5.3.12","Turtas, kurio nusidėvėjimą, amortizaciją prašoma finansuoti",null,null,1,0,0,0,null,null,null,null,null,null,"0",null,null,0," "]
["5.3.13","Turtas, kurio nusidėvėjimą, amortizaciją prašoma finansuoti",null,null,1,0,0,0,null,null,null,null,null,null,"0",null,null,0," "]
["5.3.14","Turtas, kurio nusidėvėjimą, amortizaciją prašoma finansuoti",null,null,1,0,0,0,null,null,null,null,null,null,"0",null,null,0," "]
["5.3.15","Turtas, kurio nusidėvėjimą, amortizaciją prašoma finansuoti",null,null,1,0,0,0,null,null,null,null,null,null,"0",null,null,0," "]
["5.4","Projektą vykdančio personalo darbo užmokestis ir išlaidos su darbo santykiais susijusiems darbdavio įsipareigojimams",null,null,null,null,{"$f":"SUM(G66:G115)","v":0},{"$f":"SUM(H66:H115)","v":0},null,null,"Faktiškai gaunamas darbo užmokesti už 1 valandą pagal  pastarųjų 6 mėn. vidurkį, Eur"]
["5.4.1","Pareigybės pavadinimas","Darbuotojo vardas pavardė","val.",null,{"$f":"IFERROR(ROUND(AVERAGE(K66:K70),2),\"0\")","v":"0"},{"$f":"ROUND(E66*F66,2)","v":0},{"$f":"ROUND(G66*$D$7,2)","v":0}]
[null,null,"Darbuotojo vardas pavardė"]
[null,null,"Darbuotojo vardas pavardė"]
[null,null,"Darbuotojo vardas pavardė"]
[null,null,"Darbuotojo vardas pavardė"]
["5.4.2","Pareigybės pavadinimas","Darbuotojo vardas pavardė","val.",null,{"$f":"IFERROR(ROUND(AVERAGE(K71:K75),2),\"0\")","v":"0"},{"$f":"ROUND(E71*F71,2)","v":0},{"$f":"ROUND(G71*$D$7,2)","v":0}]
[null,null,"Darbuotojo vardas pavardė"]
[null,null,"Darbuotojo vardas pavardė"]
[null,null,"Darbuotojo vardas pavardė"]
[null,null,"Darbuotojo vardas pavardė"]
["5.4.3","Pareigybės pavadinimas","Darbuotojo vardas pavardė","val.",null,{"$f":"IFERROR(ROUND(AVERAGE(K76:K80),2),\"0\")","v":"0"},{"$f":"ROUND(E76*F76,2)","v":0},{"$f":"ROUND(G76*$D$7,2)","v":0}]
[null,null,"Darbuotojo vardas pavardė"]
[null,null,"Darbuotojo vardas pavardė"]
[null,null,"Darbuotojo vardas pavardė"]
[null,null,"Darbuotojo vardas pavardė"]
["5.4.4","Pareigybės pavadinimas","Darbuotojo vardas pavardė","val.",null,{"$f":"IFERROR(ROUND(AVERAGE(K81:K85),2),\"0\")","v":"0"},{"$f":"ROUND(E81*F81,2)","v":0},{"$f":"ROUND(G81*$D$7,2)","v":0}]
[null,null,"Darbuotojo vardas pavardė"]
[null,null,"Darbuotojo vardas pavardė"]
[null,null,"Darbuotojo vardas pavardė"]
[null,null,"Darbuotojo vardas pavardė"]
["5.4.5","Pareigybės pavadinimas","Darbuotojo vardas pavardė","val.",null,{"$f":"IFERROR(ROUND(AVERAGE(K86:K90),2),\"0\")","v":"0"},{"$f":"ROUND(E86*F86,2)","v":0},{"$f":"ROUND(G86*$D$7,2)","v":0}]
[null,null,"Darbuotojo vardas pavardė"]
[null,null,"Darbuotojo vardas pavardė"]
[null,null,"Darbuotojo vardas pavardė"]
[null,null,"Darbuotojo vardas pavardė"]
["5.4.6","Pareigybės pavadinimas","Darbuotojo vardas pavardė","val.",null,{"$f":"IFERROR(ROUND(AVERAGE(K91:K95),2),\"0\")","v":"0"},{"$f":"ROUND(E91*F91,2)","v":0},{"$f":"ROUND(G91*$D$7,2)","v":0}]
[null,null,"Darbuotojo vardas pavardė"]
[null,null,"Darbuotojo vardas pavardė"]
[null,null,"Darbuotojo vardas pavardė"]
[null,null,"Darbuotojo vardas pavardė"]
["5.4.7","Pareigybės pavadinimas","Darbuotojo vardas pavardė","val.",null,{"$f":"IFERROR(ROUND(AVERAGE(K96:K100),2),\"0\")","v":"0"},{"$f":"ROUND(E96*F96,2)","v":0},{"$f":"ROUND(G96*$D$7,2)","v":0}]
[null,null,"Darbuotojo vardas pavardė"]
[null,null,"Darbuotojo vardas pavardė"]
[null,null,"Darbuotojo vardas pavardė"]
[null,null,"Darbuotojo vardas pavardė"]
["5.4.8","Pareigybės pavadinimas","Darbuotojo vardas pavardė","val.",null,{"$f":"IFERROR(ROUND(AVERAGE(K101:K105),2),\"0\")","v":"0"},{"$f":"ROUND(E101*F101,2)","v":0},{"$f":"ROUND(G101*$D$7,2)","v":0}]
[null,null,"Darbuotojo vardas pavardė"]
[null,null,"Darbuotojo vardas pavardė"]
[null,null,"Darbuotojo vardas pavardė"]
[null,null,"Darbuotojo vardas pavardė"]
["5.4.9","Pareigybės pavadinimas","Darbuotojo vardas pavardė","val.",null,{"$f":"IFERROR(ROUND(AVERAGE(K106:K110),2),\"0\")","v":"0"},{"$f":"ROUND(E106*F106,2)","v":0},{"$f":"ROUND(G106*$D$7,2)","v":0}]
[null,null,"Darbuotojo vardas pavardė"]
[null,null,"Darbuotojo vardas pavardė"]
[null,null,"Darbuotojo vardas pavardė"]
[null,null,"Darbuotojo vardas pavardė"]
["5.4.10","Pareigybės pavadinimas","Darbuotojo vardas pavardė","val.",null,{"$f":"IFERROR(ROUND(AVERAGE(K111:K115),2),\"0\")","v":"0"},{"$f":"ROUND(E111*F111,2)","v":0},{"$f":"ROUND(G111*$D$7,2)","v":0}]
[null,null,"Darbuotojo vardas pavardė"]
[null,null,"Darbuotojo vardas pavardė"]
[null,null,"Darbuotojo vardas pavardė"]
[null,null,"Darbuotojo vardas pavardė"]
["5.5","Projektą vykdančio personalo komandiruočių išlaidos",null,null,null,null,{"$f":"SUM(G117,G124,G131,G138,G145,G152,G159,G166,G173,G180)","v":0},{"$f":"SUM(H117,H124,H131,H138,H145,H152,H159,H166,H173,H180)","v":0}]
["5.5.1","Komandiruotės pavadinimas, vieta, trukmė dienomis, vykstančių asmenų skaičius","Iš viso komandiruotei",null,null,null,{"$f":"SUM(G118:G123)","v":0},{"$f":"ROUND(G117*$D$7,2)","v":0}]
[null,null,"Dienpinigiai",null,null,null,{"$f":"ROUND(E118*F118,2)","v":0}]
[null,null,"Gyvenamojo ploto nuoma",null,null,null,0]
[null,null,"Kelionės išlaidos",null,null,null,0]
[null,null,"Dalyvavimo mokestis",null,null,null,0]
[null,null,"Kitos išlaidų pavadinimas",null,null,null,0]
[null,null,"Kitos išlaidų pavadinimas",null,null,null,0]
["5.5.2","Komandiruotės pavadinimas, vieta, trukmė dienomis, vykstančių asmenų skaičius","Iš viso komandiruotei",null,null,null,{"$f":"SUM(G125:G130)","v":0},{"$f":"ROUND(G124*$D$7,2)","v":0}]
[null,null,"Dienpinigiai",null,null,null,{"$f":"ROUND(E125*F125,2)","v":0}]
[null,null,"Gyvenamojo ploto nuoma",null,null,null,0]
[null,null,"Kelionės išlaidos",null,null,null,0]
[null,null,"Dalyvavimo mokestis",null,null,null,0]
[null,null,"Kitos išlaidų pavadinimas",null,null,null,0]
[null,null,"Kitos išlaidų pavadinimas",null,null,null,0]
["5.5.3","Komandiruotės pavadinimas, vieta, trukmė dienomis, vykstančių asmenų skaičius","Iš viso komandiruotei",null,null,null,{"$f":"SUM(G132:G137)","v":0},{"$f":"ROUND(G131*$D$7,2)","v":0}]
[null,null,"Dienpinigiai",null,null,null,{"$f":"ROUND(E132*F132,2)","v":0}]
[null,null,"Gyvenamojo ploto nuoma",null,null,null,0]
[null,null,"Kelionės išlaidos",null,null,null,0]
[null,null,"Dalyvavimo mokestis",null,null,null,0]
[null,null,"Kitos išlaidų pavadinimas",null,null,null,0]
[null,null,"Kitos išlaidų pavadinimas",null,null,null,0]
["5.5.4","Komandiruotės pavadinimas, vieta, trukmė dienomis, vykstančių asmenų skaičius","Iš viso komandiruotei",null,null,null,{"$f":"SUM(G139:G144)","v":0},{"$f":"ROUND(G138*$D$7,2)","v":0}]
[null,null,"Dienpinigiai",null,null,null,{"$f":"ROUND(E139*F139,2)","v":0}]
[null,null,"Gyvenamojo ploto nuoma",null,null,null,0]
[null,null,"Kelionės išlaidos",null,null,null,0]
[null,null,"Dalyvavimo mokestis",null,null,null,0]
[null,null,"Kitos išlaidų pavadinimas",null,null,null,0]
[null,null,"Kitos išlaidų pavadinimas",null,null,null,0]
["5.5.5","Komandiruotės pavadinimas, vieta, trukmė dienomis, vykstančių asmenų skaičius","Iš viso komandiruotei",null,null,null,{"$f":"SUM(G146:G151)","v":0},{"$f":"ROUND(G145*$D$7,2)","v":0}]
[null,null,"Dienpinigiai",null,null,null,{"$f":"ROUND(E146*F146,2)","v":0}]
[null,null,"Gyvenamojo ploto nuoma",null,null,null,0]
[null,null,"Kelionės išlaidos",null,null,null,0]
[null,null,"Dalyvavimo mokestis",null,null,null,0]
[null,null,"Kitos išlaidų pavadinimas",null,null,null,0]
[null,null,"Kitos išlaidų pavadinimas",null,null,null,0]
["5.5.6","Komandiruotės pavadinimas, vieta, trukmė dienomis, vykstančių asmenų skaičius","Iš viso komandiruotei",null,null,null,{"$f":"SUM(G153:G158)","v":0},{"$f":"ROUND(G152*$D$7,2)","v":0}]
[null,null,"Dienpinigiai",null,null,null,{"$f":"ROUND(E153*F153,2)","v":0}]
[null,null,"Gyvenamojo ploto nuoma",null,null,null,0]
[null,null,"Kelionės išlaidos",null,null,null,0]
[null,null,"Dalyvavimo mokestis",null,null,null,0]
[null,null,"Kitos išlaidų pavadinimas",null,null,null,0]
[null,null,"Kitos išlaidų pavadinimas",null,null,null,0]
["5.5.7","Komandiruotės pavadinimas, vieta, trukmė dienomis, vykstančių asmenų skaičius","Iš viso komandiruotei",null,null,null,{"$f":"SUM(G160:G165)","v":0},{"$f":"ROUND(G159*$D$7,2)","v":0}]
[null,null,"Dienpinigiai",null,null,null,{"$f":"ROUND(E160*F160,2)","v":0}]
[null,null,"Gyvenamojo ploto nuoma",null,null,null,0]
[null,null,"Kelionės išlaidos",null,null,null,0]
[null,null,"Dalyvavimo mokestis",null,null,null,0]
[null,null,"Kitos išlaidų pavadinimas",null,null,null,0]
[null,null,"Kitos išlaidų pavadinimas",null,null,null,0]
["5.5.8","Komandiruotės pavadinimas, vieta, trukmė dienomis, vykstančių asmenų skaičius","Iš viso komandiruotei",null,null,null,{"$f":"SUM(G167:G172)","v":0},{"$f":"ROUND(G166*$D$7,2)","v":0}]
[null,null,"Dienpinigiai",null,null,null,{"$f":"ROUND(E167*F167,2)","v":0}]
[null,null,"Gyvenamojo ploto nuoma",null,null,null,0]
[null,null,"Kelionės išlaidos",null,null,null,0]
[null,null,"Dalyvavimo mokestis",null,null,null,0]
[null,null,"Kitos išlaidų pavadinimas",null,null,null,0]
[null,null,"Kitos išlaidų pavadinimas",null,null,null,0]
["5.5.9","Komandiruotės pavadinimas, vieta, trukmė dienomis, vykstančių asmenų skaičius","Iš viso komandiruotei",null,null,null,{"$f":"SUM(G174:G179)","v":0},{"$f":"ROUND(G173*$D$7,2)","v":0}]
[null,null,"Dienpinigiai",null,null,null,{"$f":"ROUND(E174*F174,2)","v":0}]
[null,null,"Gyvenamojo ploto nuoma",null,null,null,0]
[null,null,"Kelionės išlaidos",null,null,null,0]
[null,null,"Dalyvavimo mokestis",null,null,null,0]
[null,null,"Kitos išlaidų pavadinimas",null,null,null,0]
[null,null,"Kitos išlaidų pavadinimas",null,null,null,0]
["5.5.10","Komandiruotės pavadinimas, vieta, trukmė dienomis, vykstančių asmenų skaičius","Iš viso komandiruotei",null,null,null,{"$f":"SUM(G181:G186)","v":0},{"$f":"ROUND(G180*$D$7,2)","v":0}]
[null,null,"Dienpinigiai",null,null,null,{"$f":"ROUND(E181*F181,2)","v":0}]
[null,null,"Gyvenamojo ploto nuoma",null,null,null,0]
[null,null,"Kelionės išlaidos",null,null,null,0]
[null,null,"Dalyvavimo mokestis",null,null,null,0]
[null,null,"Kitos išlaidų pavadinimas",null,null,null,0]
[null,null,"Kitos išlaidų pavadinimas",null,null,null,0]
["Iš viso tinkamų finansuoti išlaidų:",null,null,null,null,null,{"$f":"G10+G21","v":0},{"$f":"H10+H21","v":0}]

{"sheet":"19","index":21,"n_rows":187,"n_cols":19,"rows_kept":187,"cut":false,"hidden":false,"merged":[[179,0,185,0],[179,1,185,1],[179,8,185,8],[186,0,186,5],[165,0,171,0],[165,1,171,1],[165,8,171,8],[172,0,178,0],[172,1,178,1],[172,8,178,8],[151,0,157,0],[151,1,157,1],[151,8,157,8],[158,0,164,0],[158,1,164,1],[158,8,164,8],[137,0,143,0],[137,1,143,1],[137,8,143,8],[144,0,150,0],[144,1,150,1],[144,8,150,8],[123,0,129,0],[123,1,129,1],[123,8,129,8],[130,0,136,0],[130,1,136,1],[130,8,136,8],[110,7,114,7],[110,8,114,8],[115,1,115,5],[116,0,122,0],[116,1,122,1],[116,8,122,8],[110,0,114,0],[110,1,114,1],[110,3,114,3],[110,4,114,4],[110,5,114,5],[110,6,114,6],[100,7,104,7],[100,8,104,8],[105,0,109,0],[105,1,109,1],[105,3,109,3],[105,4,109,4],[105,5,109,5],[105,6,109,6],[105,7,109,7],[105,8,109,8],[100,0,104,0],[100,1,104,1],[100,3,104,3],[100,4,104,4],[100,5,104,5],[100,6,104,6],[90,7,94,7],[90,8,94,8],[95,0,99,0],[95,1,99,1],[95,3,99,3],[95,4,99,4],[95,5,99,5],[95,6,99,6],[95,7,99,7],[95,8,99,8],[90,0,94,0],[90,1,94,1],[90,3,94,3],[90,4,94,4],[90,5,94,5],[90,6,94,6],[85,0,89,0],[85,1,89,1],[85,3,89,3],[85,4,89,4],[85,5,89,5],[85,6,89,6],[85,7,89,7],[85,8,89,8],[80,0,84,0],[80,1,84,1],[80,3,84,3],[80,4,84,4],[80,5,84,5],[80,6,84,6],[75,0,79,0],[75,1,79,1],[75,3,79,3],[75,4,79,4],[75,5,79,5],[75,6,79,6],[75,7,79,7],[75,8,79,8],[80,7,84,7],[80,8,84,8],[65,6,69,6],[65,7,69,7],[65,8,69,8],[70,0,74,0],[70,1,74,1],[70,3,74,3],[70,4,74,4],[70,5,74,5],[70,6,74,6],[70,7,74,7],[70,8,74,8],[62,1,62,2],[63,1,63,2],[64,1,64,5],[65,0,69,0],[65,1,69,1],[65,3,69,3],[65,4,69,4],[65,5,69,5],[56,1,56,2],[57,1,57,2],[58,1,58,2],[59,1,59,2],[60,1,60,2],[61,1,61,2],[50,1,50,2],[51,1,51,2],[52,1,52,2],[53,1,53,2],[54,1,54,2],[55,1,55,2],[44,1,44,2],[45,1,45,2],[46,1,46,2],[47,1,47,2],[48,1,48,5],[49,1,49,2],[38,1,38,2],[39,1,39,2],[40,1,40,2],[41,1,41,2],[42,1,42,2],[43,1,43,2],[32,1,32,5],[33,1,33,2],[34,1,34,2],[35,1,35,2],[36,1,36,2],[37,1,37,2],[26,1,26,2],[27,1,27,2],[28,1,28,2],[29,1,29,2],[30,1,30,2],[31,1,31,2],[20,1,20,5],[21,1,21,5],[22,1,22,2],[23,1,23,2],[24,1,24,2],[25,1,25,2],[16,1,16,2],[17,1,17,2],[18,1,18,2],[19,1,19,2],[8,1,8,2],[9,1,9,5],[10,1,10,2],[11,1,11,2],[12,1,12,2],[13,1,13,2],[0,3,0,8],[2,0,2,2],[2,3,2,8],[3,3,3,4],[3,5,3,6],[4,0,4,2],[4,3,4,8],[14,1,14,2],[15,1,15,2],[5,3,5,8]]}
[null,null,"Pasirinkite veiklos tipą:"]
[null,null,"Fizinio rodiklio Nr.:"]
["Fizinio rodiklio pavadinimas:"]
[null,null,"Fizinio rodiklio matavimo vnt.:",null,null,"Fizinio rodiklio vnt. skaičius:"]
["Juridinis asmuo (pareiškėjas, partneris), atsakingas už fizinį rodiklį:"]
[null,null,"Vykdytojo tipas:"]
[null,null,"Finansavimo intensyvumas:",null,null,null,"Pasirinkite biudžeto išlaidų kategoriją:","Visos"]
[]
["Eil. Nr.","Išlaidų kategorijos pavadinimas",null,"Matavimo vnt.","Kiekis","Vieneto kaina be PVM, Eur","Tinkamų finansuoti išlaidų suma be PVM, Eur","Finansavimo suma, Eur","Išlaidų pagrindimo dokumentų pavadinimas, data ir Nr."]
[4,"ĮRANGA, ĮRENGINIAI IR KT. TURTAS (techninių žinių ir išradimų patentų arba teisių pagal licencijų sutartį įsigijimo išlaidos)",null,null,null,null,{"$f":"SUM(G11:G20)","v":0},{"$f":"SUM(H11:H20)","v":0}]
["4.1","Išlaidų pavadinimas",null,null,null,null,{"$f":"ROUND(E11*F11,2)","v":0},{"$f":"ROUND(G11*$D$7,2)","v":0}]
["4.2","Išlaidų pavadinimas",null,null,null,null,0,0]
["4.3","Išlaidų pavadinimas",null,null,null,null,0,0]
["4.4","Išlaidų pavadinimas",null,null,null,null,0,0]
["4.5","Išlaidų pavadinimas",null,null,null,null,0,0]
["4.6","Išlaidų pavadinimas",null,null,null,null,0,0]
["4.7","Išlaidų pavadinimas",null,null,null,null,0,0]
["4.8","Išlaidų pavadinimas",null,null,null,null,0,0]
["4.9","Išlaidų pavadinimas",null,null,null,null,0,0]
["4.10","Išlaidų pavadinimas",null,null,null,null,0,0]
[5,"PROJEKTO VYKDYMAS",null,null,null,null,{"$f":"G22+G33+G49+G65+G116","v":0},{"$f":"H22+H33+H49+H65+H116","v":0}]
["5.1","MTEP paslaugos",null,null,null,null,{"$f":"SUM(G23:G32)","v":0},{"$f":"SUM(H23:H32)","v":0}]
["5.1.1","Paslaugos pavadinimas",null,null,null,null,{"$f":"ROUND(E23*F23,2)","v":0},0]
["5.1.2","Paslaugos pavadinimas",null,null,null,null,0,0]
["5.1.3","Paslaugos pavadinimas",null,null,null,null,0,0]
["5.1.4","Paslaugos pavadinimas",null,null,null,null,0,0]
["5.1.5","Paslaugos pavadinimas",null,null,null,null,0,0]
["5.1.6","Paslaugos pavadinimas",null,null,null,null,0,0]
["5.1.7","Paslaugos pavadinimas",null,null,null,null,0,0]
["5.1.8","Paslaugos pavadinimas",null,null,null,null,0,0]
["5.1.9","Paslaugos pavadinimas",null,null,null,null,0,0]
["5.1.10","Paslaugos pavadinimas",null,null,null,null,0,0]
["5.2","Medžiagos, mažavertis inventorius, atsargos ir pan. produktai, priskirtini trumpalaikiam turtui ir tiesiogiai susiję su MTEP veikla",null,null,null,null,{"$f":"SUM(G34:G50)","v":0},{"$f":"SUM(H34:H50)","v":0}]
["5.2.1","Išlaidų pavadinimas",null,null,null,null,{"$f":"ROUND(E34*F34,2)","v":0},{"$f":"ROUND(G34*$D$7,2)","v":0}]
["5.2.2","Išlaidų pavadinimas",null,null,null,null,0,0]
["5.2.3","Išlaidų pavadinimas",null,null,null,null,0,0]
["5.2.4","Išlaidų pavadinimas",null,null,null,null,0,0]
["5.2.5","Išlaidų pavadinimas",null,null,null,null,0,0]
["5.2.6","Išlaidų pavadinimas",null,null,null,null,0,0]
["5.2.7","Išlaidų pavadinimas",null,null,null,null,0,0]
["5.2.8","Išlaidų pavadinimas",null,null,null,null,0,0]
["5.2.9","Išlaidų pavadinimas",null,null,null,null,0,0]
["5.2.10","Išlaidų pavadinimas",null,null,null,null,0,0]
["5.2.11","Išlaidų pavadinimas",null,null,null,null,0,0]
["5.2.12","Išlaidų pavadinimas",null,null,null,null,0,0]
["5.2.13","Išlaidų pavadinimas",null,null,null,null,0,0]
["5.2.14","Išlaidų pavadinimas",null,null,null,null,0,0]
["5.2.15","Išlaidų pavadinimas",null,null,null,null,0,0]
["5.3","Projekto MTEP veikloms naudojamo ilgalaikio materialaus turto (įrangos, prietaisų, įrankių, įrenginių, mašinų ir įrengimų, pastatų ir (ar) patalpų), nusidėvėjimo sąnaudos, jeigu šiam turtui įsigyti nebuvo naudojamos viešosios (įskaitant ir kitų valstybių) lėšos",null,null,null,null,{"$f":"SUM(G50:G64)","v":0},{"$f":"SUM(H50:H64)","v":0},null,null,"Turto įvedimo į eksploataciją data","Turto įsigijimo vertė, Eur","Turto nudėvėjimo, amortizacijos laikotarpis, mėn.","Numatoma turto likutinė vertė, Eur","1 mėn. nudėvėjimo, amortizacijos suma, Eur","Turto naudojamo projekto reikmėms laikas, mėn.","Turto panaudojimo projekto reikmėms dalis (proc.)","Projektui priskirta turto nusidėvėjimo, amortizacijos suma per projekto laikotarpį, Eur"]
["5.3.1","Turtas, kurio nusidėvėjimą, amortizaciją prašoma finansuoti",null,null,1,{"$f":"R50","v":0},{"$f":"ROUND(E50*F50,2)","v":0},0,null,null,null,null,null,null,{"$f":"IFERROR(ROUND((L50-N50)/M50,2),\"0\")","v":"0"},null,null,{"$f":"O50*P50*Q50","v":0},{"$f":"IF(K50=0,\" \",IF(K50+(M50*30.5)<TODAY(),\"DĖMESIO! Patikrinkite, ar nurodytas turtas dar nėra nudėvėtas, amortizuotas\",\" \"))","v":" "}]
["5.3.2","Turtas, kurio nusidėvėjimą, amortizaciją prašoma finansuoti",null,null,1,{"$f":"R51","v":0},0,0,null,null,null,null,null,null,{"$f":"IFERROR(ROUND((L51-N51)/M51,2),\"0\")","v":"0"},null,null,{"$f":"O51*P51*Q51","v":0},{"$f":"IF(K51=0,\" \",IF(K51+(M51*30.5)<TODAY(),\"DĖMESIO! Patikrinkite, ar nurodytas turtas dar nėra nudėvėtas, amortizuotas\",\" \"))","v":" "}]
["5.3.3","Turtas, kurio nusidėvėjimą, amortizaciją prašoma finansuoti",null,null,1,0,0,0,null,null,null,null,null,null,"0",null,null,0," "]
["5.3.4","Turtas, kurio nusidėvėjimą, amortizaciją prašoma finansuoti",null,null,1,0,0,0,null,null,null,null,null,null,"0",null,null,0," "]
["5.3.5","Turtas, kurio nusidėvėjimą, amortizaciją prašoma finansuoti",null,null,1,0,0,0,null,null,null,null,null,null,"0",null,null,0," "]
["5.3.6","Turtas, kurio nusidėvėjimą, amortizaciją prašoma finansuoti",null,null,1,0,0,0,null,null,null,null,null,null,"0",null,null,0," "]
["5.3.7","Turtas, kurio nusidėvėjimą, amortizaciją prašoma finansuoti",null,null,1,0,0,0,null,null,null,null,null,null,"0",null,null,0," "]
["5.3.8","Turtas, kurio nusidėvėjimą, amortizaciją prašoma finansuoti",null,null,1,0,0,0,null,null,null,null,null,null,"0",null,null,0," "]
["5.3.9","Turtas, kurio nusidėvėjimą, amortizaciją prašoma finansuoti",null,null,1,0,0,0,null,null,null,null,null,null,"0",null,null,0," "]
["5.3.10","Turtas, kurio nusidėvėjimą, amortizaciją prašoma finansuoti",null,null,1,0,0,0,null,null,null,null,null,null,"0",null,null,0," "]
["5.3.11","Turtas, kurio nusidėvėjimą, amortizaciją prašoma finansuoti",null,null,1,0,0,0,null,null,null,null,null,null,"0",null,null,0," "]
["5.3.12","Turtas, kurio nusidėvėjimą, amortizaciją prašoma finansuoti",null,null,1,0,0,0,null,null,null,null,null,null,"0",null,null,0," "]
["5.3.13","Turtas, kurio nusidėvėjimą, amortizaciją prašoma finansuoti",null,null,1,0,0,0,null,null,null,null,null,null,"0",null,null,0," "]
["5.3.14","Turtas, kurio nusidėvėjimą, amortizaciją prašoma finansuoti",null,null,1,0,0,0,null,null,null,null,null,null,"0",null,null,0," "]
["5.3.15","Turtas, kurio nusidėvėjimą, amortizaciją prašoma finansuoti",null,null,1,0,0,0,null,null,null,null,null,null,"0",null,null,0," "]
["5.4","Projektą vykdančio personalo darbo užmokestis ir išlaidos su darbo santykiais susijusiems darbdavio įsipareigojimams",null,null,null,null,{"$f":"SUM(G66:G115)","v":0},{"$f":"SUM(H66:H115)","v":0},null,null,"Faktiškai gaunamas darbo užmokesti už 1 valandą pagal  pastarųjų 6 mėn. vidurkį, Eur"]
["5.4.1","Pareigybės pavadinimas","Darbuotojo vardas pavardė","val.",null,{"$f":"IFERROR(ROUND(AVERAGE(K66:K70),2),\"0\")","v":"0"},{"$f":"ROUND(E66*F66,2)","v":0},{"$f":"ROUND(G66*$D$7,2)","v":0}]
[null,null,"Darbuotojo vardas pavardė"]
[null,null,"Darbuotojo vardas pavardė"]
[null,null,"Darbuotojo vardas pavardė"]
[null,null,"Darbuotojo vardas pavardė"]
["5.4.2","Pareigybės pavadinimas","Darbuotojo vardas pavardė","val.",null,{"$f":"IFERROR(ROUND(AVERAGE(K71:K75),2),\"0\")","v":"0"},{"$f":"ROUND(E71*F71,2)","v":0},{"$f":"ROUND(G71*$D$7,2)","v":0}]
[null,null,"Darbuotojo vardas pavardė"]
[null,null,"Darbuotojo vardas pavardė"]
[null,null,"Darbuotojo vardas pavardė"]
[null,null,"Darbuotojo vardas pavardė"]
["5.4.3","Pareigybės pavadinimas","Darbuotojo vardas pavardė","val.",null,{"$f":"IFERROR(ROUND(AVERAGE(K76:K80),2),\"0\")","v":"0"},{"$f":"ROUND(E76*F76,2)","v":0},{"$f":"ROUND(G76*$D$7,2)","v":0}]
[null,null,"Darbuotojo vardas pavardė"]
[null,null,"Darbuotojo vardas pavardė"]
[null,null,"Darbuotojo vardas pavardė"]
[null,null,"Darbuotojo vardas pavardė"]
["5.4.4","Pareigybės pavadinimas","Darbuotojo vardas pavardė","val.",null,{"$f":"IFERROR(ROUND(AVERAGE(K81:K85),2),\"0\")","v":"0"},{"$f":"ROUND(E81*F81,2)","v":0},{"$f":"ROUND(G81*$D$7,2)","v":0}]
[null,null,"Darbuotojo vardas pavardė"]
[null,null,"Darbuotojo vardas pavardė"]
[null,null,"Darbuotojo vardas pavardė"]
[null,null,"Darbuotojo vardas pavardė"]
["5.4.5","Pareigybės pavadinimas","Darbuotojo vardas pavardė","val.",null,{"$f":"IFERROR(ROUND(AVERAGE(K86:K90),2),\"0\")","v":"0"},{"$f":"ROUND(E86*F86,2)","v":0},{"$f":"ROUND(G86*$D$7,2)","v":0}]
[null,null,"Darbuotojo vardas pavardė"]
[null,null,"Darbuotojo vardas pavardė"]
[null,null,"Darbuotojo vardas pavardė"]
[null,null,"Darbuotojo vardas pavardė"]
["5.4.6","Pareigybės pavadinimas","Darbuotojo vardas pavardė","val.",null,{"$f":"IFERROR(ROUND(AVERAGE(K91:K95),2),\"0\")","v":"0"},{"$f":"ROUND(E91*F91,2)","v":0},{"$f":"ROUND(G91*$D$7,2)","v":0}]
[null,null,"Darbuotojo vardas pavardė"]
[null,null,"Darbuotojo vardas pavardė"]
[null,null,"Darbuotojo vardas pavardė"]
[null,null,"Darbuotojo vardas pavardė"]
["5.4.7","Pareigybės pavadinimas","Darbuotojo vardas pavardė","val.",null,{"$f":"IFERROR(ROUND(AVERAGE(K96:K100),2),\"0\")","v":"0"},{"$f":"ROUND(E96*F96,2)","v":0},{"$f":"ROUND(G96*$D$7,2)","v":0}]
[null,null,"Darbuotojo vardas pavardė"]
[null,null,"Darbuotojo vardas pavardė"]
[null,null,"Darbuotojo vardas pavardė"]
[null,null,"Darbuotojo vardas pavardė"]
["5.4.8","Pareigybės pavadinimas","Darbuotojo vardas pavardė","val.",null,{"$f":"IFERROR(ROUND(AVERAGE(K101:K105),2),\"0\")","v":"0"},{"$f":"ROUND(E101*F101,2)","v":0},{"$f":"ROUND(G101*$D$7,2)","v":0}]
[null,null,"Darbuotojo vardas pavardė"]
[null,null,"Darbuotojo vardas pavardė"]
[null,null,"Darbuotojo vardas pavardė"]
[null,null,"Darbuotojo vardas pavardė"]
["5.4.9","Pareigybės pavadinimas","Darbuotojo vardas pavardė","val.",null,{"$f":"IFERROR(ROUND(AVERAGE(K106:K110),2),\"0\")","v":"0"},{"$f":"ROUND(E106*F106,2)","v":0},{"$f":"ROUND(G106*$D$7,2)","v":0}]
[null,null,"Darbuotojo vardas pavardė"]
[null,null,"Darbuotojo vardas pavardė"]
[null,null,"Darbuotojo vardas pavardė"]
[null,null,"Darbuotojo vardas pavardė"]
["5.4.10","Pareigybės pavadinimas","Darbuotojo vardas pavardė","val.",null,{"$f":"IFERROR(ROUND(AVERAGE(K111:K115),2),\"0\")","v":"0"},{"$f":"ROUND(E111*F111,2)","v":0},{"$f":"ROUND(G111*$D$7,2)","v":0}]
[null,null,"Darbuotojo vardas pavardė"]
[null,null,"Darbuotojo vardas pavardė"]
[null,null,"Darbuotojo vardas pavardė"]
[null,null,"Darbuotojo vardas pavardė"]
["5.5","Projektą vykdančio personalo komandiruočių išlaidos",null,null,null,null,{"$f":"SUM(G117,G124,G131,G138,G145,G152,G159,G166,G173,G180)","v":0},{"$f":"SUM(H117,H124,H131,H138,H145,H152,H159,H166,H173,H180)","v":0}]
["5.5.1","Komandiruotės pavadinimas, vieta, trukmė dienomis, vykstančių asmenų skaičius","Iš viso komandiruotei",null,null,null,{"$f":"SUM(G118:G123)","v":0},{"$f":"ROUND(G117*$D$7,2)","v":0}]
[null,null,"Dienpinigiai",null,null,null,{"$f":"ROUND(E118*F118,2)","v":0}]
[null,null,"Gyvenamojo ploto nuoma",null,null,null,0]
[null,null,"Kelionės išlaidos",null,null,null,0]
[null,null,"Dalyvavimo mokestis",null,null,null,0]
[null,null,"Kitos išlaidų pavadinimas",null,null,null,0]
[null,null,"Kitos išlaidų pavadinimas",null,null,null,0]
["5.5.2","Komandiruotės pavadinimas, vieta, trukmė dienomis, vykstančių asmenų skaičius","Iš viso komandiruotei",null,null,null,{"$f":"SUM(G125:G130)","v":0},{"$f":"ROUND(G124*$D$7,2)","v":0}]
[null,null,"Dienpinigiai",null,null,null,{"$f":"ROUND(E125*F125,2)","v":0}]
[null,null,"Gyvenamojo ploto nuoma",null,null,null,0]
[null,null,"Kelionės išlaidos",null,null,null,0]
[null,null,"Dalyvavimo mokestis",null,null,null,0]
[null,null,"Kitos išlaidų pavadinimas",null,null,null,0]
[null,null,"Kitos išlaidų pavadinimas",null,null,null,0]
["5.5.3","Komandiruotės pavadinimas, vieta, trukmė dienomis, vykstančių asmenų skaičius","Iš viso komandiruotei",null,null,null,{"$f":"SUM(G132:G137)","v":0},{"$f":"ROUND(G131*$D$7,2)","v":0}]
[null,null,"Dienpinigiai",null,null,null,{"$f":"ROUND(E132*F132,2)","v":0}]
[null,null,"Gyvenamojo ploto nuoma",null,null,null,0]
[null,null,"Kelionės išlaidos",null,null,null,0]
[null,null,"Dalyvavimo mokestis",null,null,null,0]
[null,null,"Kitos išlaidų pavadinimas",null,null,null,0]
[null,null,"Kitos išlaidų pavadinimas",null,null,null,0]
["5.5.4","Komandiruotės pavadinimas, vieta, trukmė dienomis, vykstančių asmenų skaičius","Iš viso komandiruotei",null,null,null,{"$f":"SUM(G139:G144)","v":0},{"$f":"ROUND(G138*$D$7,2)","v":0}]
[null,null,"Dienpinigiai",null,null,null,{"$f":"ROUND(E139*F139,2)","v":0}]
[null,null,"Gyvenamojo ploto nuoma",null,null,null,0]
[null,null,"Kelionės išlaidos",null,null,null,0]
[null,null,"Dalyvavimo mokestis",null,null,null,0]
[null,null,"Kitos išlaidų pavadinimas",null,null,null,0]
[null,null,"Kitos išlaidų pavadinimas",null,null,null,0]
["5.5.5","Komandiruotės pavadinimas, vieta, trukmė dienomis, vykstančių asmenų skaičius","Iš viso komandiruotei",null,null,null,{"$f":"SUM(G146:G151)","v":0},{"$f":"ROUND(G145*$D$7,2)","v":0}]
[null,null,"Dienpinigiai",null,null,null,{"$f":"ROUND(E146*F146,2)","v":0}]
[null,null,"Gyvenamojo ploto nuoma",null,null,null,0]
[null,null,"Kelionės išlaidos",null,null,null,0]
[null,null,"Dalyvavimo mokestis",null,null,null,0]
[null,null,"Kitos išlaidų pavadinimas",null,null,null,0]
[null,null,"Kitos išlaidų pavadinimas",null,null,null,0]
["5.5.6","Komandiruotės pavadinimas, vieta, trukmė dienomis, vykstančių asmenų skaičius","Iš viso komandiruotei",null,null,null,{"$f":"SUM(G153:G158)","v":0},{"$f":"ROUND(G152*$D$7,2)","v":0}]
[null,null,"Dienpinigiai",null,null,null,{"$f":"ROUND(E153*F153,2)","v":0}]
[null,null,"Gyvenamojo ploto nuoma",null,null,null,0]
[null,null,"Kelionės išlaidos",null,null,null,0]
[null,null,"Dalyvavimo mokestis",null,null,null,0]
[null,null,"Kitos išlaidų pavadinimas",null,null,null,0]
[null,null,"Kitos išlaidų pavadinimas",null,null,null,0]
["5.5.7","Komandiruotės pavadinimas, vieta, trukmė dienomis, vykstančių asmenų skaičius","Iš viso komandiruotei",null,null,null,{"$f":"SUM(G160:G165)","v":0},{"$f":"ROUND(G159*$D$7,2)","v":0}]
[null,null,"Dienpinigiai",null,null,null,{"$f":"ROUND(E160*F160,2)","v":0}]
[null,null,"Gyvenamojo ploto nuoma",null,null,null,0]
[null,null,"Kelionės išlaidos",null,null,null,0]
[null,null,"Dalyvavimo mokestis",null,null,null,0]
[null,null,"Kitos išlaidų pavadinimas",null,null,null,0]
[null,null,"Kitos išlaidų pavadinimas",null,null,null,0]
["5.5.8","Komandiruotės pavadinimas, vieta, trukmė dienomis, vykstančių asmenų skaičius","Iš viso komandiruotei",null,null,null,{"$f":"SUM(G167:G172)","v":0},{"$f":"ROUND(G166*$D$7,2)","v":0}]
[null,null,"Dienpinigiai",null,null,null,{"$f":"ROUND(E167*F167,2)","v":0}]
[null,null,"Gyvenamojo ploto nuoma",null,null,null,0]
[null,null,"Kelionės išlaidos",null,null,null,0]
[null,null,"Dalyvavimo mokestis",null,null,null,0]
[null,null,"Kitos išlaidų pavadinimas",null,null,null,0]
[null,null,"Kitos išlaidų pavadinimas",null,null,null,0]
["5.5.9","Komandiruotės pavadinimas, vieta, trukmė dienomis, vykstančių asmenų skaičius","Iš viso komandiruotei",null,null,null,{"$f":"SUM(G174:G179)","v":0},{"$f":"ROUND(G173*$D$7,2)","v":0}]
[null,null,"Dienpinigiai",null,null,null,{"$f":"ROUND(E174*F174,2)","v":0}]
[null,null,"Gyvenamojo ploto nuoma",null,null,null,0]
[null,null,"Kelionės išlaidos",null,null,null,0]
[null,null,"Dalyvavimo mokestis",null,null,null,0]
[null,null,"Kitos išlaidų pavadinimas",null,null,null,0]
[null,null,"Kitos išlaidų pavadinimas",null,null,null,0]
["5.5.10","Komandiruotės pavadinimas, vieta, trukmė dienomis, vykstančių asmenų skaičius","Iš viso komandiruotei",null,null,null,{"$f":"SUM(G181:G186)","v":0},{"$f":"ROUND(G180*$D$7,2)","v":0}]
[null,null,"Dienpinigiai",null,null,null,{"$f":"ROUND(E181*F181,2)","v":0}]
[null,null,"Gyvenamojo ploto nuoma",null,null,null,0]
[null,null,"Kelionės išlaidos",null,null,null,0]
[null,null,"Dalyvavimo mokestis",null,null,null,0]
[null,null,"Kitos išlaidų pavadinimas",null,null,null,0]
[null,null,"Kitos išlaidų pavadinimas",null,null,null,0]
["Iš viso tinkamų finansuoti išlaidų:",null,null,null,null,null,{"$f":"G10+G21","v":0},{"$f":"H10+H21","v":0}]

{"sheet":"20","index":22,"n_rows":187,"n_cols":19,"rows_kept":187,"cut":false,"hidden":false,"merged":[[179,0,185,0],[179,1,185,1],[179,8,185,8],[186,0,186,5],[165,0,171,0],[165,1,171,1],[165,8,171,8],[172,0,178,0],[172,1,178,1],[172,8,178,8],[151,0,157,0],[151,1,157,1],[151,8,157,8],[158,0,164,0],[158,1,164,1],[158,8,164,8],[137,0,143,0],[137,1,143,1],[137,8,143,8],[144,0,150,0],[144,1,150,1],[144,8,150,8],[123,0,129,0],[123,1,129,1],[123,8,129,8],[130,0,136,0],[130,1,136,1],[130,8,136,8],[110,7,114,7],[110,8,114,8],[115,1,115,5],[116,0,122,0],[116,1,122,1],[116,8,122,8],[110,0,114,0],[110,1,114,1],[110,3,114,3],[110,4,114,4],[110,5,114,5],[110,6,114,6],[100,7,104,7],[100,8,104,8],[105,0,109,0],[105,1,109,1],[105,3,109,3],[105,4,109,4],[105,5,109,5],[105,6,109,6],[105,7,109,7],[105,8,109,8],[100,0,104,0],[100,1,104,1],[100,3,104,3],[100,4,104,4],[100,5,104,5],[100,6,104,6],[90,7,94,7],[90,8,94,8],[95,0,99,0],[95,1,99,1],[95,3,99,3],[95,4,99,4],[95,5,99,5],[95,6,99,6],[95,7,99,7],[95,8,99,8],[90,0,94,0],[90,1,94,1],[90,3,94,3],[90,4,94,4],[90,5,94,5],[90,6,94,6],[85,0,89,0],[85,1,89,1],[85,3,89,3],[85,4,89,4],[85,5,89,5],[85,6,89,6],[85,7,89,7],[85,8,89,8],[80,0,84,0],[80,1,84,1],[80,3,84,3],[80,4,84,4],[80,5,84,5],[80,6,84,6],[75,0,79,0],[75,1,79,1],[75,3,79,3],[75,4,79,4],[75,5,79,5],[75,6,79,6],[75,7,79,7],[75,8,79,8],[80,7,84,7],[80,8,84,8],[65,6,69,6],[65,7,69,7],[65,8,69,8],[70,0,74,0],[70,1,74,1],[70,3,74,3],[70,4,74,4],[70,5,74,5],[70,6,74,6],[70,7,74,7],[70,8,74,8],[62,1,62,2],[63,1,63,2],[64,1,64,5],[65,0,69,0],[65,1,69,1],[65,3,69,3],[65,4,69,4],[65,5,69,5],[56,1,56,2],[57,1,57,2],[58,1,58,2],[59,1,59,2],[60,1,60,2],[61,1,61,2],[50,1,50,2],[51,1,51,2],[52,1,52,2],[53,1,53,2],[54,1,54,2],[55,1,55,2],[44,1,44,2],[45,1,45,2],[46,1,46,2],[47,1,47,2],[48,1,48,5],[49,1,49,2],[38,1,38,2],[39,1,39,2],[40,1,40,2],[41,1,41,2],[42,1,42,2],[43,1,43,2],[32,1,32,5],[33,1,33,2],[34,1,34,2],[35,1,35,2],[36,1,36,2],[37,1,37,2],[26,1,26,2],[27,1,27,2],[28,1,28,2],[29,1,29,2],[30,1,30,2],[31,1,31,2],[20,1,20,5],[21,1,21,5],[22,1,22,2],[23,1,23,2],[24,1,24,2],[25,1,25,2],[16,1,16,2],[17,1,17,2],[18,1,18,2],[19,1,19,2],[8,1,8,2],[9,1,9,5],[10,1,10,2],[11,1,11,2],[12,1,12,2],[13,1,13,2],[0,3,0,8],[2,0,2,2],[2,3,2,8],[3,3,3,4],[3,5,3,6],[4,0,4,2],[4,3,4,8],[14,1,14,2],[15,1,15,2],[5,3,5,8]]}
[null,null,"Pasirinkite veiklos tipą:"]
[null,null,"Fizinio rodiklio Nr.:"]
["Fizinio rodiklio pavadinimas:"]
[null,null,"Fizinio rodiklio matavimo vnt.:",null,null,"Fizinio rodiklio vnt. skaičius:"]
["Juridinis asmuo (pareiškėjas, partneris), atsakingas už fizinį rodiklį:"]
[null,null,"Vykdytojo tipas:"]
[null,null,"Finansavimo intensyvumas:",null,null,null,"Pasirinkite biudžeto išlaidų kategoriją:","Visos"]
[]
["Eil. Nr.","Išlaidų kategorijos pavadinimas",null,"Matavimo vnt.","Kiekis","Vieneto kaina be PVM, Eur","Tinkamų finansuoti išlaidų suma be PVM, Eur","Finansavimo suma, Eur","Išlaidų pagrindimo dokumentų pavadinimas, data ir Nr."]
[4,"ĮRANGA, ĮRENGINIAI IR KT. TURTAS (techninių žinių ir išradimų patentų arba teisių pagal licencijų sutartį įsigijimo išlaidos)",null,null,null,null,{"$f":"SUM(G11:G20)","v":0},{"$f":"SUM(H11:H20)","v":0}]
["4.1","Išlaidų pavadinimas",null,null,null,null,{"$f":"ROUND(E11*F11,2)","v":0},{"$f":"ROUND(G11*$D$7,2)","v":0}]
["4.2","Išlaidų pavadinimas",null,null,null,null,0,0]
["4.3","Išlaidų pavadinimas",null,null,null,null,0,0]
["4.4","Išlaidų pavadinimas",null,null,null,null,0,0]
["4.5","Išlaidų pavadinimas",null,null,null,null,0,0]
["4.6","Išlaidų pavadinimas",null,null,null,null,0,0]
["4.7","Išlaidų pavadinimas",null,null,null,null,0,0]
["4.8","Išlaidų pavadinimas",null,null,null,null,0,0]
["4.9","Išlaidų pavadinimas",null,null,null,null,0,0]
["4.10","Išlaidų pavadinimas",null,null,null,null,0,0]
[5,"PROJEKTO VYKDYMAS",null,null,null,null,{"$f":"G22+G33+G49+G65+G116","v":0},{"$f":"H22+H33+H49+H65+H116","v":0}]
["5.1","MTEP paslaugos",null,null,null,null,{"$f":"SUM(G23:G32)","v":0},{"$f":"SUM(H23:H32)","v":0}]
["5.1.1","Paslaugos pavadinimas",null,null,null,null,{"$f":"ROUND(E23*F23,2)","v":0},0]
["5.1.2","Paslaugos pavadinimas",null,null,null,null,0,0]
["5.1.3","Paslaugos pavadinimas",null,null,null,null,0,0]
["5.1.4","Paslaugos pavadinimas",null,null,null,null,0,0]
["5.1.5","Paslaugos pavadinimas",null,null,null,null,0,0]
["5.1.6","Paslaugos pavadinimas",null,null,null,null,0,0]
["5.1.7","Paslaugos pavadinimas",null,null,null,null,0,0]
["5.1.8","Paslaugos pavadinimas",null,null,null,null,0,0]
["5.1.9","Paslaugos pavadinimas",null,null,null,null,0,0]
["5.1.10","Paslaugos pavadinimas",null,null,null,null,0,0]
["5.2","Medžiagos, mažavertis inventorius, atsargos ir pan. produktai, priskirtini trumpalaikiam turtui ir tiesiogiai susiję su MTEP veikla",null,null,null,null,{"$f":"SUM(G34:G50)","v":0},{"$f":"SUM(H34:H50)","v":0}]
["5.2.1","Išlaidų pavadinimas",null,null,null,null,{"$f":"ROUND(E34*F34,2)","v":0},{"$f":"ROUND(G34*$D$7,2)","v":0}]
["5.2.2","Išlaidų pavadinimas",null,null,null,null,0,0]
["5.2.3","Išlaidų pavadinimas",null,null,null,null,0,0]
["5.2.4","Išlaidų pavadinimas",null,null,null,null,0,0]
["5.2.5","Išlaidų pavadinimas",null,null,null,null,0,0]
["5.2.6","Išlaidų pavadinimas",null,null,null,null,0,0]
["5.2.7","Išlaidų pavadinimas",null,null,null,null,0,0]
["5.2.8","Išlaidų pavadinimas",null,null,null,null,0,0]
["5.2.9","Išlaidų pavadinimas",null,null,null,null,0,0]
["5.2.10","Išlaidų pavadinimas",null,null,null,null,0,0]
["5.2.11","Išlaidų pavadinimas",null,null,null,null,0,0]
["5.2.12","Išlaidų pavadinimas",null,null,null,null,0,0]
["5.2.13","Išlaidų pavadinimas",null,null,null,null,0,0]
["5.2.14","Išlaidų pavadinimas",null,null,null,null,0,0]
["5.2.15","Išlaidų pavadinimas",null,null,null,null,0,0]
["5.3","Projekto MTEP veikloms naudojamo ilgalaikio materialaus turto (įrangos, prietaisų, įrankių, įrenginių, mašinų ir įrengimų, pastatų ir (ar) patalpų), nusidėvėjimo sąnaudos, jeigu šiam turtui įsigyti nebuvo naudojamos viešosios (įskaitant ir kitų valstybių) lėšos",null,null,null,null,{"$f":"SUM(G50:G64)","v":0},{"$f":"SUM(H50:H64)","v":0},null,null,"Turto įvedimo į eksploataciją data","Turto įsigijimo vertė, Eur","Turto nudėvėjimo, amortizacijos laikotarpis, mėn.","Numatoma turto likutinė vertė, Eur","1 mėn. nudėvėjimo, amortizacijos suma, Eur","Turto naudojamo projekto reikmėms laikas, mėn.","Turto panaudojimo projekto reikmėms dalis (proc.)","Projektui priskirta turto nusidėvėjimo, amortizacijos suma per projekto laikotarpį, Eur"]
["5.3.1","Turtas, kurio nusidėvėjimą, amortizaciją prašoma finansuoti",null,null,1,{"$f":"R50","v":0},{"$f":"ROUND(E50*F50,2)","v":0},0,null,null,null,null,null,null,{"$f":"IFERROR(ROUND((L50-N50)/M50,2),\"0\")","v":"0"},null,null,{"$f":"O50*P50*Q50","v":0},{"$f":"IF(K50=0,\" \",IF(K50+(M50*30.5)<TODAY(),\"DĖMESIO! Patikrinkite, ar nurodytas turtas dar nėra nudėvėtas, amortizuotas\",\" \"))","v":" "}]
["5.3.2","Turtas, kurio nusidėvėjimą, amortizaciją prašoma finansuoti",null,null,1,{"$f":"R51","v":0},0,0,null,null,null,null,null,null,{"$f":"IFERROR(ROUND((L51-N51)/M51,2),\"0\")","v":"0"},null,null,{"$f":"O51*P51*Q51","v":0},{"$f":"IF(K51=0,\" \",IF(K51+(M51*30.5)<TODAY(),\"DĖMESIO! Patikrinkite, ar nurodytas turtas dar nėra nudėvėtas, amortizuotas\",\" \"))","v":" "}]
["5.3.3","Turtas, kurio nusidėvėjimą, amortizaciją prašoma finansuoti",null,null,1,0,0,0,null,null,null,null,null,null,"0",null,null,0," "]
["5.3.4","Turtas, kurio nusidėvėjimą, amortizaciją prašoma finansuoti",null,null,1,0,0,0,null,null,null,null,null,null,"0",null,null,0," "]
["5.3.5","Turtas, kurio nusidėvėjimą, amortizaciją prašoma finansuoti",null,null,1,0,0,0,null,null,null,null,null,null,"0",null,null,0," "]
["5.3.6","Turtas, kurio nusidėvėjimą, amortizaciją prašoma finansuoti",null,null,1,0,0,0,null,null,null,null,null,null,"0",null,null,0," "]
["5.3.7","Turtas, kurio nusidėvėjimą, amortizaciją prašoma finansuoti",null,null,1,0,0,0,null,null,null,null,null,null,"0",null,null,0," "]
["5.3.8","Turtas, kurio nusidėvėjimą, amortizaciją prašoma finansuoti",null,null,1,0,0,0,null,null,null,null,null,null,"0",null,null,0," "]
["5.3.9","Turtas, kurio nusidėvėjimą, amortizaciją prašoma finansuoti",null,null,1,0,0,0,null,null,null,null,null,null,"0",null,null,0," "]
["5.3.10","Turtas, kurio nusidėvėjimą, amortizaciją prašoma finansuoti",null,null,1,0,0,0,null,null,null,null,null,null,"0",null,null,0," "]
["5.3.11","Turtas, kurio nusidėvėjimą, amortizaciją prašoma finansuoti",null,null,1,0,0,0,null,null,null,null,null,null,"0",null,null,0," "]
["5.3.12","Turtas, kurio nusidėvėjimą, amortizaciją prašoma finansuoti",null,null,1,0,0,0,null,null,null,null,null,null,"0",null,null,0," "]
["5.3.13","Turtas, kurio nusidėvėjimą, amortizaciją prašoma finansuoti",null,null,1,0,0,0,null,null,null,null,null,null,"0",null,null,0," "]
["5.3.14","Turtas, kurio nusidėvėjimą, amortizaciją prašoma finansuoti",null,null,1,0,0,0,null,null,null,null,null,null,"0",null,null,0," "]
["5.3.15","Turtas, kurio nusidėvėjimą, amortizaciją prašoma finansuoti",null,null,1,0,0,0,null,null,null,null,null,null,"0",null,null,0," "]
["5.4","Projektą vykdančio personalo darbo užmokestis ir išlaidos su darbo santykiais susijusiems darbdavio įsipareigojimams",null,null,null,null,{"$f":"SUM(G66:G115)","v":0},{"$f":"SUM(H66:H115)","v":0},null,null,"Faktiškai gaunamas darbo užmokesti už 1 valandą pagal  pastarųjų 6 mėn. vidurkį, Eur"]
["5.4.1","Pareigybės pavadinimas","Darbuotojo vardas pavardė","val.",null,{"$f":"IFERROR(ROUND(AVERAGE(K66:K70),2),\"0\")","v":"0"},{"$f":"ROUND(E66*F66,2)","v":0},{"$f":"ROUND(G66*$D$7,2)","v":0}]
[null,null,"Darbuotojo vardas pavardė"]
[null,null,"Darbuotojo vardas pavardė"]
[null,null,"Darbuotojo vardas pavardė"]
[null,null,"Darbuotojo vardas pavardė"]
["5.4.2","Pareigybės pavadinimas","Darbuotojo vardas pavardė","val.",null,{"$f":"IFERROR(ROUND(AVERAGE(K71:K75),2),\"0\")","v":"0"},{"$f":"ROUND(E71*F71,2)","v":0},{"$f":"ROUND(G71*$D$7,2)","v":0}]
[null,null,"Darbuotojo vardas pavardė"]
[null,null,"Darbuotojo vardas pavardė"]
[null,null,"Darbuotojo vardas pavardė"]
[null,null,"Darbuotojo vardas pavardė"]
["5.4.3","Pareigybės pavadinimas","Darbuotojo vardas pavardė","val.",null,{"$f":"IFERROR(ROUND(AVERAGE(K76:K80),2),\"0\")","v":"0"},{"$f":"ROUND(E76*F76,2)","v":0},{"$f":"ROUND(G76*$D$7,2)","v":0}]
[null,null,"Darbuotojo vardas pavardė"]
[null,null,"Darbuotojo vardas pavardė"]
[null,null,"Darbuotojo vardas pavardė"]
[null,null,"Darbuotojo vardas pavardė"]
["5.4.4","Pareigybės pavadinimas","Darbuotojo vardas pavardė","val.",null,{"$f":"IFERROR(ROUND(AVERAGE(K81:K85),2),\"0\")","v":"0"},{"$f":"ROUND(E81*F81,2)","v":0},{"$f":"ROUND(G81*$D$7,2)","v":0}]
[null,null,"Darbuotojo vardas pavardė"]
[null,null,"Darbuotojo vardas pavardė"]
[null,null,"Darbuotojo vardas pavardė"]
[null,null,"Darbuotojo vardas pavardė"]
["5.4.5","Pareigybės pavadinimas","Darbuotojo vardas pavardė","val.",null,{"$f":"IFERROR(ROUND(AVERAGE(K86:K90),2),\"0\")","v":"0"},{"$f":"ROUND(E86*F86,2)","v":0},{"$f":"ROUND(G86*$D$7,2)","v":0}]
[null,null,"Darbuotojo vardas pavardė"]
[null,null,"Darbuotojo vardas pavardė"]
[null,null,"Darbuotojo vardas pavardė"]
[null,null,"Darbuotojo vardas pavardė"]
["5.4.6","Pareigybės pavadinimas","Darbuotojo vardas pavardė","val.",null,{"$f":"IFERROR(ROUND(AVERAGE(K91:K95),2),\"0\")","v":"0"},{"$f":"ROUND(E91*F91,2)","v":0},{"$f":"ROUND(G91*$D$7,2)","v":0}]
[null,null,"Darbuotojo vardas pavardė"]
[null,null,"Darbuotojo vardas pavardė"]
[null,null,"Darbuotojo vardas pavardė"]
[null,null,"Darbuotojo vardas pavardė"]
["5.4.7","Pareigybės pavadinimas","Darbuotojo vardas pavardė","val.",null,{"$f":"IFERROR(ROUND(AVERAGE(K96:K100),2),\"0\")","v":"0"},{"$f":"ROUND(E96*F96,2)","v":0},{"$f":"ROUND(G96*$D$7,2)","v":0}]
[null,null,"Darbuotojo vardas pavardė"]
[null,null,"Darbuotojo vardas pavardė"]
[null,null,"Darbuotojo vardas pavardė"]
[null,null,"Darbuotojo vardas pavardė"]
["5.4.8","Pareigybės pavadinimas","Darbuotojo vardas pavardė","val.",null,{"$f":"IFERROR(ROUND(AVERAGE(K101:K105),2),\"0\")","v":"0"},{"$f":"ROUND(E101*F101,2)","v":0},{"$f":"ROUND(G101*$D$7,2)","v":0}]
[null,null,"Darbuotojo vardas pavardė"]
[null,null,"Darbuotojo vardas pavardė"]
[null,null,"Darbuotojo vardas pavardė"]
[null,null,"Darbuotojo vardas pavardė"]
["5.4.9","Pareigybės pavadinimas","Darbuotojo vardas pavardė","val.",null,{"$f":"IFERROR(ROUND(AVERAGE(K106:K110),2),\"0\")","v":"0"},{"$f":"ROUND(E106*F106,2)","v":0},{"$f":"ROUND(G106*$D$7,2)","v":0}]
[null,null,"Darbuotojo vardas pavardė"]
[null,null,"Darbuotojo vardas pavardė"]
[null,null,"Darbuotojo vardas pavardė"]
[null,null,"Darbuotojo vardas pavardė"]
["5.4.10","Pareigybės pavadinimas","Darbuotojo vardas pavardė","val.",null,{"$f":"IFERROR(ROUND(AVERAGE(K111:K115),2),\"0\")","v":"0"},{"$f":"ROUND(E111*F111,2)","v":0},{"$f":"ROUND(G111*$D$7,2)","v":0}]
[null,null,"Darbuotojo vardas pavardė"]
[null,null,"Darbuotojo vardas pavardė"]
[null,null,"Darbuotojo vardas pavardė"]
[null,null,"Darbuotojo vardas pavardė"]
["5.5","Projektą vykdančio personalo komandiruočių išlaidos",null,null,null,null,{"$f":"SUM(G117,G124,G131,G138,G145,G152,G159,G166,G173,G180)","v":0},{"$f":"SUM(H117,H124,H131,H138,H145,H152,H159,H166,H173,H180)","v":0}]
["5.5.1","Komandiruotės pavadinimas, vieta, trukmė dienomis, vykstančių asmenų skaičius","Iš viso komandiruotei",null,null,null,{"$f":"SUM(G118:G123)","v":0},{"$f":"ROUND(G117*$D$7,2)","v":0}]
[null,null,"Dienpinigiai",null,null,null,{"$f":"ROUND(E118*F118,2)","v":0}]
[null,null,"Gyvenamojo ploto nuoma",null,null,null,0]
[null,null,"Kelionės išlaidos",null,null,null,0]
[null,null,"Dalyvavimo mokestis",null,null,null,0]
[null,null,"Kitos išlaidų pavadinimas",null,null,null,0]
[null,null,"Kitos išlaidų pavadinimas",null,null,null,0]
["5.5.2","Komandiruotės pavadinimas, vieta, trukmė dienomis, vykstančių asmenų skaičius","Iš viso komandiruotei",null,null,null,{"$f":"SUM(G125:G130)","v":0},{"$f":"ROUND(G124*$D$7,2)","v":0}]
[null,null,"Dienpinigiai",null,null,null,{"$f":"ROUND(E125*F125,2)","v":0}]
[null,null,"Gyvenamojo ploto nuoma",null,null,null,0]
[null,null,"Kelionės išlaidos",null,null,null,0]
[null,null,"Dalyvavimo mokestis",null,null,null,0]
[null,null,"Kitos išlaidų pavadinimas",null,null,null,0]
[null,null,"Kitos išlaidų pavadinimas",null,null,null,0]
["5.5.3","Komandiruotės pavadinimas, vieta, trukmė dienomis, vykstančių asmenų skaičius","Iš viso komandiruotei",null,null,null,{"$f":"SUM(G132:G137)","v":0},{"$f":"ROUND(G131*$D$7,2)","v":0}]
[null,null,"Dienpinigiai",null,null,null,{"$f":"ROUND(E132*F132,2)","v":0}]
[null,null,"Gyvenamojo ploto nuoma",null,null,null,0]
[null,null,"Kelionės išlaidos",null,null,null,0]
[null,null,"Dalyvavimo mokestis",null,null,null,0]
[null,null,"Kitos išlaidų pavadinimas",null,null,null,0]
[null,null,"Kitos išlaidų pavadinimas",null,null,null,0]
["5.5.4","Komandiruotės pavadinimas, vieta, trukmė dienomis, vykstančių asmenų skaičius","Iš viso komandiruotei",null,null,null,{"$f":"SUM(G139:G144)","v":0},{"$f":"ROUND(G138*$D$7,2)","v":0}]
[null,null,"Dienpinigiai",null,null,null,{"$f":"ROUND(E139*F139,2)","v":0}]
[null,null,"Gyvenamojo ploto nuoma",null,null,null,0]
[null,null,"Kelionės išlaidos",null,null,null,0]
[null,null,"Dalyvavimo mokestis",null,null,null,0]
[null,null,"Kitos išlaidų pavadinimas",null,null,null,0]
[null,null,"Kitos išlaidų pavadinimas",null,null,null,0]
["5.5.5","Komandiruotės pavadinimas, vieta, trukmė dienomis, vykstančių asmenų skaičius","Iš viso komandiruotei",null,null,null,{"$f":"SUM(G146:G151)","v":0},{"$f":"ROUND(G145*$D$7,2)","v":0}]
[null,null,"Dienpinigiai",null,null,null,{"$f":"ROUND(E146*F146,2)","v":0}]
[null,null,"Gyvenamojo ploto nuoma",null,null,null,0]
[null,null,"Kelionės išlaidos",null,null,null,0]
[null,null,"Dalyvavimo mokestis",null,null,null,0]
[null,null,"Kitos išlaidų pavadinimas",null,null,null,0]
[null,null,"Kitos išlaidų pavadinimas",null,null,null,0]
["5.5.6","Komandiruotės pavadinimas, vieta, trukmė dienomis, vykstančių asmenų skaičius","Iš viso komandiruotei",null,null,null,{"$f":"SUM(G153:G158)","v":0},{"$f":"ROUND(G152*$D$7,2)","v":0}]
[null,null,"Dienpinigiai",null,null,null,{"$f":"ROUND(E153*F153,2)","v":0}]
[null,null,"Gyvenamojo ploto nuoma",null,null,null,0]
[null,null,"Kelionės išlaidos",null,null,null,0]
[null,null,"Dalyvavimo mokestis",null,null,null,0]
[null,null,"Kitos išlaidų pavadinimas",null,null,null,0]
[null,null,"Kitos išlaidų pavadinimas",null,null,null,0]
["5.5.7","Komandiruotės pavadinimas, vieta, trukmė dienomis, vykstančių asmenų skaičius","Iš viso komandiruotei",null,null,null,{"$f":"SUM(G160:G165)","v":0},{"$f":"ROUND(G159*$D$7,2)","v":0}]
[null,null,"Dienpinigiai",null,null,null,{"$f":"ROUND(E160*F160,2)","v":0}]
[null,null,"Gyvenamojo ploto nuoma",null,null,null,0]
[null,null,"Kelionės išlaidos",null,null,null,0]
[null,null,"Dalyvavimo mokestis",null,null,null,0]
[null,null,"Kitos išlaidų pavadinimas",null,null,null,0]
[null,null,"Kitos išlaidų pavadinimas",null,null,null,0]
["5.5.8","Komandiruotės pavadinimas, vieta, trukmė dienomis, vykstančių asmenų skaičius","Iš viso komandiruotei",null,null,null,{"$f":"SUM(G167:G172)","v":0},{"$f":"ROUND(G166*$D$7,2)","v":0}]
[null,null,"Dienpinigiai",null,null,null,{"$f":"ROUND(E167*F167,2)","v":0}]
[null,null,"Gyvenamojo ploto nuoma",null,null,null,0]
[null,null,"Kelionės išlaidos",null,null,null,0]
[null,null,"Dalyvavimo mokestis",null,null,null,0]
[null,null,"Kitos išlaidų pavadinimas",null,null,null,0]
[null,null,"Kitos išlaidų pavadinimas",null,null,null,0]
["5.5.9","Komandiruotės pavadinimas, vieta, trukmė dienomis, vykstančių asmenų skaičius","Iš viso komandiruotei",null,null,null,{"$f":"SUM(G174:G179)","v":0},{"$f":"ROUND(G173*$D$7,2)","v":0}]
[null,null,"Dienpinigiai",null,null,null,{"$f":"ROUND(E174*F174,2)","v":0}]
[null,null,"Gyvenamojo ploto nuoma",null,null,null,0]
[null,null,"Kelionės išlaidos",null,null,null,0]
[null,null,"Dalyvavimo mokestis",null,null,null,0]
[null,null,"Kitos išlaidų pavadinimas",null,null,null,0]
[null,null,"Kitos išlaidų pavadinimas",null,null,null,0]
["5.5.10","Komandiruotės pavadinimas, vieta, trukmė dienomis, vykstančių asmenų skaičius","Iš viso komandiruotei",null,null,null,{"$f":"SUM(G181:G186)","v":0},{"$f":"ROUND(G180*$D$7,2)","v":0}]
[null,null,"Dienpinigiai",null,null,null,{"$f":"ROUND(E181*F181,2)","v":0}]
[null,null,"Gyvenamojo ploto nuoma",null,null,null,0]
[null,null,"Kelionės išlaidos",null,null,null,0]
[null,null,"Dalyvavimo mokestis",null,null,null,0]
[null,null,"Kitos išlaidų pavadinimas",null,null,null,0]
[null,null,"Kitos išlaidų pavadinimas",null,null,null,0]
["Iš viso tinkamų finansuoti išlaidų:",null,null,null,null,null,{"$f":"G10+G21","v":0},{"$f":"H10+H21","v":0}]

{"sheet":"21","index":23,"n_rows":187,"n_cols":19,"rows_kept":187,"cut":false,"hidden":false,"merged":[[179,0,185,0],[179,1,185,1],[179,8,185,8],[186,0,186,5],[165,0,171,0],[165,1,171,1],[165,8,171,8],[172,0,178,0],[172,1,178,1],[172,8,178,8],[151,0,157,0],[151,1,157,1],[151,8,157,8],[158,0,164,0],[158,1,164,1],[158,8,164,8],[137,0,143,0],[137,1,143,1],[137,8,143,8],[144,0,150,0],[144,1,150,1],[144,8,150,8],[123,0,129,0],[123,1,129,1],[123,8,129,8],[130,0,136,0],[130,1,136,1],[130,8,136,8],[110,7,114,7],[110,8,114,8],[115,1,115,5],[116,0,122,0],[116,1,122,1],[116,8,122,8],[110,0,114,0],[110,1,114,1],[110,3,114,3],[110,4,114,4],[110,5,114,5],[110,6,114,6],[100,7,104,7],[100,8,104,8],[105,0,109,0],[105,1,109,1],[105,3,109,3],[105,4,109,4],[105,5,109,5],[105,6,109,6],[105,7,109,7],[105,8,109,8],[100,0,104,0],[100,1,104,1],[100,3,104,3],[100,4,104,4],[100,5,104,5],[100,6,104,6],[90,7,94,7],[90,8,94,8],[95,0,99,0],[95,1,99,1],[95,3,99,3],[95,4,99,4],[95,5,99,5],[95,6,99,6],[95,7,99,7],[95,8,99,8],[90,0,94,0],[90,1,94,1],[90,3,94,3],[90,4,94,4],[90,5,94,5],[90,6,94,6],[85,0,89,0],[85,1,89,1],[85,3,89,3],[85,4,89,4],[85,5,89,5],[85,6,89,6],[85,7,89,7],[85,8,89,8],[80,0,84,0],[80,1,84,1],[80,3,84,3],[80,4,84,4],[80,5,84,5],[80,6,84,6],[75,0,79,0],[75,1,79,1],[75,3,79,3],[75,4,79,4],[75,5,79,5],[75,6,79,6],[75,7,79,7],[75,8,79,8],[80,7,84,7],[80,8,84,8],[65,6,69,6],[65,7,69,7],[65,8,69,8],[70,0,74,0],[70,1,74,1],[70,3,74,3],[70,4,74,4],[70,5,74,5],[70,6,74,6],[70,7,74,7],[70,8,74,8],[62,1,62,2],[63,1,63,2],[64,1,64,5],[65,0,69,0],[65,1,69,1],[65,3,69,3],[65,4,69,4],[65,5,69,5],[56,1,56,2],[57,1,57,2],[58,1,58,2],[59,1,59,2],[60,1,60,2],[61,1,61,2],[50,1,50,2],[51,1,51,2],[52,1,52,2],[53,1,53,2],[54,1,54,2],[55,1,55,2],[44,1,44,2],[45,1,45,2],[46,1,46,2],[47,1,47,2],[48,1,48,5],[49,1,49,2],[38,1,38,2],[39,1,39,2],[40,1,40,2],[41,1,41,2],[42,1,42,2],[43,1,43,2],[32,1,32,5],[33,1,33,2],[34,1,34,2],[35,1,35,2],[36,1,36,2],[37,1,37,2],[26,1,26,2],[27,1,27,2],[28,1,28,2],[29,1,29,2],[30,1,30,2],[31,1,31,2],[20,1,20,5],[21,1,21,5],[22,1,22,2],[23,1,23,2],[24,1,24,2],[25,1,25,2],[16,1,16,2],[17,1,17,2],[18,1,18,2],[19,1,19,2],[8,1,8,2],[9,1,9,5],[10,1,10,2],[11,1,11,2],[12,1,12,2],[13,1,13,2],[0,3,0,8],[2,0,2,2],[2,3,2,8],[3,3,3,4],[3,5,3,6],[4,0,4,2],[4,3,4,8],[14,1,14,2],[15,1,15,2],[5,3,5,8]]}
[null,null,"Pasirinkite veiklos tipą:"]
[null,null,"Fizinio rodiklio Nr.:"]
["Fizinio rodiklio pavadinimas:"]
[null,null,"Fizinio rodiklio matavimo vnt.:",null,null,"Fizinio rodiklio vnt. skaičius:"]
["Juridinis asmuo (pareiškėjas, partneris), atsakingas už fizinį rodiklį:"]
[null,null,"Vykdytojo tipas:"]
[null,null,"Finansavimo intensyvumas:",null,null,null,"Pasirinkite biudžeto išlaidų kategoriją:","Visos"]
[]
["Eil. Nr.","Išlaidų kategorijos pavadinimas",null,"Matavimo vnt.","Kiekis","Vieneto kaina be PVM, Eur","Tinkamų finansuoti išlaidų suma be PVM, Eur","Finansavimo suma, Eur","Išlaidų pagrindimo dokumentų pavadinimas, data ir Nr."]
[4,"ĮRANGA, ĮRENGINIAI IR KT. TURTAS (techninių žinių ir išradimų patentų arba teisių pagal licencijų sutartį įsigijimo išlaidos)",null,null,null,null,{"$f":"SUM(G11:G20)","v":0},{"$f":"SUM(H11:H20)","v":0}]
["4.1","Išlaidų pavadinimas",null,null,null,null,{"$f":"ROUND(E11*F11,2)","v":0},{"$f":"ROUND(G11*$D$7,2)","v":0}]
["4.2","Išlaidų pavadinimas",null,null,null,null,0,0]
["4.3","Išlaidų pavadinimas",null,null,null,null,0,0]
["4.4","Išlaidų pavadinimas",null,null,null,null,0,0]
["4.5","Išlaidų pavadinimas",null,null,null,null,0,0]
["4.6","Išlaidų pavadinimas",null,null,null,null,0,0]
["4.7","Išlaidų pavadinimas",null,null,null,null,0,0]
["4.8","Išlaidų pavadinimas",null,null,null,null,0,0]
["4.9","Išlaidų pavadinimas",null,null,null,null,0,0]
["4.10","Išlaidų pavadinimas",null,null,null,null,0,0]
[5,"PROJEKTO VYKDYMAS",null,null,null,null,{"$f":"G22+G33+G49+G65+G116","v":0},{"$f":"H22+H33+H49+H65+H116","v":0}]
["5.1","MTEP paslaugos",null,null,null,null,{"$f":"SUM(G23:G32)","v":0},{"$f":"SUM(H23:H32)","v":0}]
["5.1.1","Paslaugos pavadinimas",null,null,null,null,{"$f":"ROUND(E23*F23,2)","v":0},0]
["5.1.2","Paslaugos pavadinimas",null,null,null,null,0,0]
["5.1.3","Paslaugos pavadinimas",null,null,null,null,0,0]
["5.1.4","Paslaugos pavadinimas",null,null,null,null,0,0]
["5.1.5","Paslaugos pavadinimas",null,null,null,null,0,0]
["5.1.6","Paslaugos pavadinimas",null,null,null,null,0,0]
["5.1.7","Paslaugos pavadinimas",null,null,null,null,0,0]
["5.1.8","Paslaugos pavadinimas",null,null,null,null,0,0]
["5.1.9","Paslaugos pavadinimas",null,null,null,null,0,0]
["5.1.10","Paslaugos pavadinimas",null,null,null,null,0,0]
["5.2","Medžiagos, mažavertis inventorius, atsargos ir pan. produktai, priskirtini trumpalaikiam turtui ir tiesiogiai susiję su MTEP veikla",null,null,null,null,{"$f":"SUM(G34:G50)","v":0},{"$f":"SUM(H34:H50)","v":0}]
["5.2.1","Išlaidų pavadinimas",null,null,null,null,{"$f":"ROUND(E34*F34,2)","v":0},{"$f":"ROUND(G34*$D$7,2)","v":0}]
["5.2.2","Išlaidų pavadinimas",null,null,null,null,0,0]
["5.2.3","Išlaidų pavadinimas",null,null,null,null,0,0]
["5.2.4","Išlaidų pavadinimas",null,null,null,null,0,0]
["5.2.5","Išlaidų pavadinimas",null,null,null,null,0,0]
["5.2.6","Išlaidų pavadinimas",null,null,null,null,0,0]
["5.2.7","Išlaidų pavadinimas",null,null,null,null,0,0]
["5.2.8","Išlaidų pavadinimas",null,null,null,null,0,0]
["5.2.9","Išlaidų pavadinimas",null,null,null,null,0,0]
["5.2.10","Išlaidų pavadinimas",null,null,null,null,0,0]
["5.2.11","Išlaidų pavadinimas",null,null,null,null,0,0]
["5.2.12","Išlaidų pavadinimas",null,null,null,null,0,0]
["5.2.13","Išlaidų pavadinimas",null,null,null,null,0,0]
["5.2.14","Išlaidų pavadinimas",null,null,null,null,0,0]
["5.2.15","Išlaidų pavadinimas",null,null,null,null,0,0]
["5.3","Projekto MTEP veikloms naudojamo ilgalaikio materialaus turto (įrangos, prietaisų, įrankių, įrenginių, mašinų ir įrengimų, pastatų ir (ar) patalpų), nusidėvėjimo sąnaudos, jeigu šiam turtui įsigyti nebuvo naudojamos viešosios (įskaitant ir kitų valstybių) lėšos",null,null,null,null,{"$f":"SUM(G50:G64)","v":0},{"$f":"SUM(H50:H64)","v":0},null,null,"Turto įvedimo į eksploataciją data","Turto įsigijimo vertė, Eur","Turto nudėvėjimo, amortizacijos laikotarpis, mėn.","Numatoma turto likutinė vertė, Eur","1 mėn. nudėvėjimo, amortizacijos suma, Eur","Turto naudojamo projekto reikmėms laikas, mėn.","Turto panaudojimo projekto reikmėms dalis (proc.)","Projektui priskirta turto nusidėvėjimo, amortizacijos suma per projekto laikotarpį, Eur"]
["5.3.1","Turtas, kurio nusidėvėjimą, amortizaciją prašoma finansuoti",null,null,1,{"$f":"R50","v":0},{"$f":"ROUND(E50*F50,2)","v":0},0,null,null,null,null,null,null,{"$f":"IFERROR(ROUND((L50-N50)/M50,2),\"0\")","v":"0"},null,null,{"$f":"O50*P50*Q50","v":0},{"$f":"IF(K50=0,\" \",IF(K50+(M50*30.5)<TODAY(),\"DĖMESIO! Patikrinkite, ar nurodytas turtas dar nėra nudėvėtas, amortizuotas\",\" \"))","v":" "}]
["5.3.2","Turtas, kurio nusidėvėjimą, amortizaciją prašoma finansuoti",null,null,1,{"$f":"R51","v":0},0,0,null,null,null,null,null,null,{"$f":"IFERROR(ROUND((L51-N51)/M51,2),\"0\")","v":"0"},null,null,{"$f":"O51*P51*Q51","v":0},{"$f":"IF(K51=0,\" \",IF(K51+(M51*30.5)<TODAY(),\"DĖMESIO! Patikrinkite, ar nurodytas turtas dar nėra nudėvėtas, amortizuotas\",\" \"))","v":" "}]
["5.3.3","Turtas, kurio nusidėvėjimą, amortizaciją prašoma finansuoti",null,null,1,0,0,0,null,null,null,null,null,null,"0",null,null,0," "]
["5.3.4","Turtas, kurio nusidėvėjimą, amortizaciją prašoma finansuoti",null,null,1,0,0,0,null,null,null,null,null,null,"0",null,null,0," "]
["5.3.5","Turtas, kurio nusidėvėjimą, amortizaciją prašoma finansuoti",null,null,1,0,0,0,null,null,null,null,null,null,"0",null,null,0," "]
["5.3.6","Turtas, kurio nusidėvėjimą, amortizaciją prašoma finansuoti",null,null,1,0,0,0,null,null,null,null,null,null,"0",null,null,0," "]
["5.3.7","Turtas, kurio nusidėvėjimą, amortizaciją prašoma finansuoti",null,null,1,0,0,0,null,null,null,null,null,null,"0",null,null,0," "]
["5.3.8","Turtas, kurio nusidėvėjimą, amortizaciją prašoma finansuoti",null,null,1,0,0,0,null,null,null,null,null,null,"0",null,null,0," "]
["5.3.9","Turtas, kurio nusidėvėjimą, amortizaciją prašoma finansuoti",null,null,1,0,0,0,null,null,null,null,null,null,"0",null,null,0," "]
["5.3.10","Turtas, kurio nusidėvėjimą, amortizaciją prašoma finansuoti",null,null,1,0,0,0,null,null,null,null,null,null,"0",null,null,0," "]
["5.3.11","Turtas, kurio nusidėvėjimą, amortizaciją prašoma finansuoti",null,null,1,0,0,0,null,null,null,null,null,null,"0",null,null,0," "]
["5.3.12","Turtas, kurio nusidėvėjimą, amortizaciją prašoma finansuoti",null,null,1,0,0,0,null,null,null,null,null,null,"0",null,null,0," "]
["5.3.13","Turtas, kurio nusidėvėjimą, amortizaciją prašoma finansuoti",null,null,1,0,0,0,null,null,null,null,null,null,"0",null,null,0," "]
["5.3.14","Turtas, kurio nusidėvėjimą, amortizaciją prašoma finansuoti",null,null,1,0,0,0,null,null,null,null,null,null,"0",null,null,0," "]
["5.3.15","Turtas, kurio nusidėvėjimą, amortizaciją prašoma finansuoti",null,null,1,0,0,0,null,null,null,null,null,null,"0",null,null,0," "]
["5.4","Projektą vykdančio personalo darbo užmokestis ir išlaidos su darbo santykiais susijusiems darbdavio įsipareigojimams",null,null,null,null,{"$f":"SUM(G66:G115)","v":0},{"$f":"SUM(H66:H115)","v":0},null,null,"Faktiškai gaunamas darbo užmokesti už 1 valandą pagal  pastarųjų 6 mėn. vidurkį, Eur"]
["5.4.1","Pareigybės pavadinimas","Darbuotojo vardas pavardė","val.",null,{"$f":"IFERROR(ROUND(AVERAGE(K66:K70),2),\"0\")","v":"0"},{"$f":"ROUND(E66*F66,2)","v":0},{"$f":"ROUND(G66*$D$7,2)","v":0}]
[null,null,"Darbuotojo vardas pavardė"]
[null,null,"Darbuotojo vardas pavardė"]
[null,null,"Darbuotojo vardas pavardė"]
[null,null,"Darbuotojo vardas pavardė"]
["5.4.2","Pareigybės pavadinimas","Darbuotojo vardas pavardė","val.",null,{"$f":"IFERROR(ROUND(AVERAGE(K71:K75),2),\"0\")","v":"0"},{"$f":"ROUND(E71*F71,2)","v":0},{"$f":"ROUND(G71*$D$7,2)","v":0}]
[null,null,"Darbuotojo vardas pavardė"]
[null,null,"Darbuotojo vardas pavardė"]
[null,null,"Darbuotojo vardas pavardė"]
[null,null,"Darbuotojo vardas pavardė"]
["5.4.3","Pareigybės pavadinimas","Darbuotojo vardas pavardė","val.",null,{"$f":"IFERROR(ROUND(AVERAGE(K76:K80),2),\"0\")","v":"0"},{"$f":"ROUND(E76*F76,2)","v":0},{"$f":"ROUND(G76*$D$7,2)","v":0}]
[null,null,"Darbuotojo vardas pavardė"]
[null,null,"Darbuotojo vardas pavardė"]
[null,null,"Darbuotojo vardas pavardė"]
[null,null,"Darbuotojo vardas pavardė"]
["5.4.4","Pareigybės pavadinimas","Darbuotojo vardas pavardė","val.",null,{"$f":"IFERROR(ROUND(AVERAGE(K81:K85),2),\"0\")","v":"0"},{"$f":"ROUND(E81*F81,2)","v":0},{"$f":"ROUND(G81*$D$7,2)","v":0}]
[null,null,"Darbuotojo vardas pavardė"]
[null,null,"Darbuotojo vardas pavardė"]
[null,null,"Darbuotojo vardas pavardė"]
[null,null,"Darbuotojo vardas pavardė"]
["5.4.5","Pareigybės pavadinimas","Darbuotojo vardas pavardė","val.",null,{"$f":"IFERROR(ROUND(AVERAGE(K86:K90),2),\"0\")","v":"0"},{"$f":"ROUND(E86*F86,2)","v":0},{"$f":"ROUND(G86*$D$7,2)","v":0}]
[null,null,"Darbuotojo vardas pavardė"]
[null,null,"Darbuotojo vardas pavardė"]
[null,null,"Darbuotojo vardas pavardė"]
[null,null,"Darbuotojo vardas pavardė"]
["5.4.6","Pareigybės pavadinimas","Darbuotojo vardas pavardė","val.",null,{"$f":"IFERROR(ROUND(AVERAGE(K91:K95),2),\"0\")","v":"0"},{"$f":"ROUND(E91*F91,2)","v":0},{"$f":"ROUND(G91*$D$7,2)","v":0}]
[null,null,"Darbuotojo vardas pavardė"]
[null,null,"Darbuotojo vardas pavardė"]
[null,null,"Darbuotojo vardas pavardė"]
[null,null,"Darbuotojo vardas pavardė"]
["5.4.7","Pareigybės pavadinimas","Darbuotojo vardas pavardė","val.",null,{"$f":"IFERROR(ROUND(AVERAGE(K96:K100),2),\"0\")","v":"0"},{"$f":"ROUND(E96*F96,2)","v":0},{"$f":"ROUND(G96*$D$7,2)","v":0}]
[null,null,"Darbuotojo vardas pavardė"]
[null,null,"Darbuotojo vardas pavardė"]
[null,null,"Darbuotojo vardas pavardė"]
[null,null,"Darbuotojo vardas pavardė"]
["5.4.8","Pareigybės pavadinimas","Darbuotojo vardas pavardė","val.",null,{"$f":"IFERROR(ROUND(AVERAGE(K101:K105),2),\"0\")","v":"0"},{"$f":"ROUND(E101*F101,2)","v":0},{"$f":"ROUND(G101*$D$7,2)","v":0}]
[null,null,"Darbuotojo vardas pavardė"]
[null,null,"Darbuotojo vardas pavardė"]
[null,null,"Darbuotojo vardas pavardė"]
[null,null,"Darbuotojo vardas pavardė"]
["5.4.9","Pareigybės pavadinimas","Darbuotojo vardas pavardė","val.",null,{"$f":"IFERROR(ROUND(AVERAGE(K106:K110),2),\"0\")","v":"0"},{"$f":"ROUND(E106*F106,2)","v":0},{"$f":"ROUND(G106*$D$7,2)","v":0}]
[null,null,"Darbuotojo vardas pavardė"]
[null,null,"Darbuotojo vardas pavardė"]
[null,null,"Darbuotojo vardas pavardė"]
[null,null,"Darbuotojo vardas pavardė"]
["5.4.10","Pareigybės pavadinimas","Darbuotojo vardas pavardė","val.",null,{"$f":"IFERROR(ROUND(AVERAGE(K111:K115),2),\"0\")","v":"0"},{"$f":"ROUND(E111*F111,2)","v":0},{"$f":"ROUND(G111*$D$7,2)","v":0}]
[null,null,"Darbuotojo vardas pavardė"]
[null,null,"Darbuotojo vardas pavardė"]
[null,null,"Darbuotojo vardas pavardė"]
[null,null,"Darbuotojo vardas pavardė"]
["5.5","Projektą vykdančio personalo komandiruočių išlaidos",null,null,null,null,{"$f":"SUM(G117,G124,G131,G138,G145,G152,G159,G166,G173,G180)","v":0},{"$f":"SUM(H117,H124,H131,H138,H145,H152,H159,H166,H173,H180)","v":0}]
["5.5.1","Komandiruotės pavadinimas, vieta, trukmė dienomis, vykstančių asmenų skaičius","Iš viso komandiruotei",null,null,null,{"$f":"SUM(G118:G123)","v":0},{"$f":"ROUND(G117*$D$7,2)","v":0}]
[null,null,"Dienpinigiai",null,null,null,{"$f":"ROUND(E118*F118,2)","v":0}]
[null,null,"Gyvenamojo ploto nuoma",null,null,null,0]
[null,null,"Kelionės išlaidos",null,null,null,0]
[null,null,"Dalyvavimo mokestis",null,null,null,0]
[null,null,"Kitos išlaidų pavadinimas",null,null,null,0]
[null,null,"Kitos išlaidų pavadinimas",null,null,null,0]
["5.5.2","Komandiruotės pavadinimas, vieta, trukmė dienomis, vykstančių asmenų skaičius","Iš viso komandiruotei",null,null,null,{"$f":"SUM(G125:G130)","v":0},{"$f":"ROUND(G124*$D$7,2)","v":0}]
[null,null,"Dienpinigiai",null,null,null,{"$f":"ROUND(E125*F125,2)","v":0}]
[null,null,"Gyvenamojo ploto nuoma",null,null,null,0]
[null,null,"Kelionės išlaidos",null,null,null,0]
[null,null,"Dalyvavimo mokestis",null,null,null,0]
[null,null,"Kitos išlaidų pavadinimas",null,null,null,0]
[null,null,"Kitos išlaidų pavadinimas",null,null,null,0]
["5.5.3","Komandiruotės pavadinimas, vieta, trukmė dienomis, vykstančių asmenų skaičius","Iš viso komandiruotei",null,null,null,{"$f":"SUM(G132:G137)","v":0},{"$f":"ROUND(G131*$D$7,2)","v":0}]
[null,null,"Dienpinigiai",null,null,null,{"$f":"ROUND(E132*F132,2)","v":0}]
[null,null,"Gyvenamojo ploto nuoma",null,null,null,0]
[null,null,"Kelionės išlaidos",null,null,null,0]
[null,null,"Dalyvavimo mokestis",null,null,null,0]
[null,null,"Kitos išlaidų pavadinimas",null,null,null,0]
[null,null,"Kitos išlaidų pavadinimas",null,null,null,0]
["5.5.4","Komandiruotės pavadinimas, vieta, trukmė dienomis, vykstančių asmenų skaičius","Iš viso komandiruotei",null,null,null,{"$f":"SUM(G139:G144)","v":0},{"$f":"ROUND(G138*$D$7,2)","v":0}]
[null,null,"Dienpinigiai",null,null,null,{"$f":"ROUND(E139*F139,2)","v":0}]
[null,null,"Gyvenamojo ploto nuoma",null,null,null,0]
[null,null,"Kelionės išlaidos",null,null,null,0]
[null,null,"Dalyvavimo mokestis",null,null,null,0]
[null,null,"Kitos išlaidų pavadinimas",null,null,null,0]
[null,null,"Kitos išlaidų pavadinimas",null,null,null,0]
["5.5.5","Komandiruotės pavadinimas, vieta, trukmė dienomis, vykstančių asmenų skaičius","Iš viso komandiruotei",null,null,null,{"$f":"SUM(G146:G151)","v":0},{"$f":"ROUND(G145*$D$7,2)","v":0}]
[null,null,"Dienpinigiai",null,null,null,{"$f":"ROUND(E146*F146,2)","v":0}]
[null,null,"Gyvenamojo ploto nuoma",null,null,null,0]
[null,null,"Kelionės išlaidos",null,null,null,0]
[null,null,"Dalyvavimo mokestis",null,null,null,0]
[null,null,"Kitos išlaidų pavadinimas",null,null,null,0]
[null,null,"Kitos išlaidų pavadinimas",null,null,null,0]
["5.5.6","Komandiruotės pavadinimas, vieta, trukmė dienomis, vykstančių asmenų skaičius","Iš viso komandiruotei",null,null,null,{"$f":"SUM(G153:G158)","v":0},{"$f":"ROUND(G152*$D$7,2)","v":0}]
[null,null,"Dienpinigiai",null,null,null,{"$f":"ROUND(E153*F153,2)","v":0}]
[null,null,"Gyvenamojo ploto nuoma",null,null,null,0]
[null,null,"Kelionės išlaidos",null,null,null,0]
[null,null,"Dalyvavimo mokestis",null,null,null,0]
[null,null,"Kitos išlaidų pavadinimas",null,null,null,0]
[null,null,"Kitos išlaidų pavadinimas",null,null,null,0]
["5.5.7","Komandiruotės pavadinimas, vieta, trukmė dienomis, vykstančių asmenų skaičius","Iš viso komandiruotei",null,null,null,{"$f":"SUM(G160:G165)","v":0},{"$f":"ROUND(G159*$D$7,2)","v":0}]
[null,null,"Dienpinigiai",null,null,null,{"$f":"ROUND(E160*F160,2)","v":0}]
[null,null,"Gyvenamojo ploto nuoma",null,null,null,0]
[null,null,"Kelionės išlaidos",null,null,null,0]
[null,null,"Dalyvavimo mokestis",null,null,null,0]
[null,null,"Kitos išlaidų pavadinimas",null,null,null,0]
[null,null,"Kitos išlaidų pavadinimas",null,null,null,0]
["5.5.8","Komandiruotės pavadinimas, vieta, trukmė dienomis, vykstančių asmenų skaičius","Iš viso komandiruotei",null,null,null,{"$f":"SUM(G167:G172)","v":0},{"$f":"ROUND(G166*$D$7,2)","v":0}]
[null,null,"Dienpinigiai",null,null,null,{"$f":"ROUND(E167*F167,2)","v":0}]
[null,null,"Gyvenamojo ploto nuoma",null,null,null,0]
[null,null,"Kelionės išlaidos",null,null,null,0]
[null,null,"Dalyvavimo mokestis",null,null,null,0]
[null,null,"Kitos išlaidų pavadinimas",null,null,null,0]
[null,null,"Kitos išlaidų pavadinimas",null,null,null,0]
["5.5.9","Komandiruotės pavadinimas, vieta, trukmė dienomis, vykstančių asmenų skaičius","Iš viso komandiruotei",null,null,null,{"$f":"SUM(G174:G179)","v":0},{"$f":"ROUND(G173*$D$7,2)","v":0}]
[null,null,"Dienpinigiai",null,null,null,{"$f":"ROUND(E174*F174,2)","v":0}]
[null,null,"Gyvenamojo ploto nuoma",null,null,null,0]
[null,null,"Kelionės išlaidos",null,null,null,0]
[null,null,"Dalyvavimo mokestis",null,null,null,0]
[null,null,"Kitos išlaidų pavadinimas",null,null,null,0]
[null,null,"Kitos išlaidų pavadinimas",null,null,null,0]
["5.5.10","Komandiruotės pavadinimas, vieta, trukmė dienomis, vykstančių asmenų skaičius","Iš viso komandiruotei",null,null,null,{"$f":"SUM(G181:G186)","v":0},{"$f":"ROUND(G180*$D$7,2)","v":0}]
[null,null,"Dienpinigiai",null,null,null,{"$f":"ROUND(E181*F181,2)","v":0}]
[null,null,"Gyvenamojo ploto nuoma",null,null,null,0]
[null,null,"Kelionės išlaidos",null,null,null,0]
[null,null,"Dalyvavimo mokestis",null,null,null,0]
[null,null,"Kitos išlaidų pavadinimas",null,null,null,0]
[null,null,"Kitos išlaidų pavadinimas",null,null,null,0]
["Iš viso tinkamų finansuoti išlaidų:",null,null,null,null,null,{"$f":"G10+G21","v":0},{"$f":"H10+H21","v":0}]

{"sheet":"22","index":24,"n_rows":187,"n_cols":19,"rows_kept":187,"cut":false,"hidden":false,"merged":[[179,0,185,0],[179,1,185,1],[179,8,185,8],[186,0,186,5],[165,0,171,0],[165,1,171,1],[165,8,171,8],[172,0,178,0],[172,1,178,1],[172,8,178,8],[151,0,157,0],[151,1,157,1],[151,8,157,8],[158,0,164,0],[158,1,164,1],[158,8,164,8],[137,0,143,0],[137,1,143,1],[137,8,143,8],[144,0,150,0],[144,1,150,1],[144,8,150,8],[123,0,129,0],[123,1,129,1],[123,8,129,8],[130,0,136,0],[130,1,136,1],[130,8,136,8],[110,7,114,7],[110,8,114,8],[115,1,115,5],[116,0,122,0],[116,1,122,1],[116,8,122,8],[110,0,114,0],[110,1,114,1],[110,3,114,3],[110,4,114,4],[110,5,114,5],[110,6,114,6],[100,7,104,7],[100,8,104,8],[105,0,109,0],[105,1,109,1],[105,3,109,3],[105,4,109,4],[105,5,109,5],[105,6,109,6],[105,7,109,7],[105,8,109,8],[100,0,104,0],[100,1,104,1],[100,3,104,3],[100,4,104,4],[100,5,104,5],[100,6,104,6],[90,7,94,7],[90,8,94,8],[95,0,99,0],[95,1,99,1],[95,3,99,3],[95,4,99,4],[95,5,99,5],[95,6,99,6],[95,7,99,7],[95,8,99,8],[90,0,94,0],[90,1,94,1],[90,3,94,3],[90,4,94,4],[90,5,94,5],[90,6,94,6],[85,0,89,0],[85,1,89,1],[85,3,89,3],[85,4,89,4],[85,5,89,5],[85,6,89,6],[85,7,89,7],[85,8,89,8],[80,0,84,0],[80,1,84,1],[80,3,84,3],[80,4,84,4],[80,5,84,5],[80,6,84,6],[75,0,79,0],[75,1,79,1],[75,3,79,3],[75,4,79,4],[75,5,79,5],[75,6,79,6],[75,7,79,7],[75,8,79,8],[80,7,84,7],[80,8,84,8],[65,6,69,6],[65,7,69,7],[65,8,69,8],[70,0,74,0],[70,1,74,1],[70,3,74,3],[70,4,74,4],[70,5,74,5],[70,6,74,6],[70,7,74,7],[70,8,74,8],[62,1,62,2],[63,1,63,2],[64,1,64,5],[65,0,69,0],[65,1,69,1],[65,3,69,3],[65,4,69,4],[65,5,69,5],[56,1,56,2],[57,1,57,2],[58,1,58,2],[59,1,59,2],[60,1,60,2],[61,1,61,2],[50,1,50,2],[51,1,51,2],[52,1,52,2],[53,1,53,2],[54,1,54,2],[55,1,55,2],[44,1,44,2],[45,1,45,2],[46,1,46,2],[47,1,47,2],[48,1,48,5],[49,1,49,2],[38,1,38,2],[39,1,39,2],[40,1,40,2],[41,1,41,2],[42,1,42,2],[43,1,43,2],[32,1,32,5],[33,1,33,2],[34,1,34,2],[35,1,35,2],[36,1,36,2],[37,1,37,2],[26,1,26,2],[27,1,27,2],[28,1,28,2],[29,1,29,2],[30,1,30,2],[31,1,31,2],[20,1,20,5],[21,1,21,5],[22,1,22,2],[23,1,23,2],[24,1,24,2],[25,1,25,2],[16,1,16,2],[17,1,17,2],[18,1,18,2],[19,1,19,2],[8,1,8,2],[9,1,9,5],[10,1,10,2],[11,1,11,2],[12,1,12,2],[13,1,13,2],[0,3,0,8],[2,0,2,2],[2,3,2,8],[3,3,3,4],[3,5,3,6],[4,0,4,2],[4,3,4,8],[14,1,14,2],[15,1,15,2],[5,3,5,8]]}
[null,null,"Pasirinkite veiklos tipą:"]
[null,null,"Fizinio rodiklio Nr.:"]
["Fizinio rodiklio pavadinimas:"]
[null,null,"Fizinio rodiklio matavimo vnt.:",null,null,"Fizinio rodiklio vnt. skaičius:"]
["Juridinis asmuo (pareiškėjas, partneris), atsakingas už fizinį rodiklį:"]
[null,null,"Vykdytojo tipas:"]
[null,null,"Finansavimo intensyvumas:",null,null,null,"Pasirinkite biudžeto išlaidų kategoriją:","Visos"]
[]
["Eil. Nr.","Išlaidų kategorijos pavadinimas",null,"Matavimo vnt.","Kiekis","Vieneto kaina be PVM, Eur","Tinkamų finansuoti išlaidų suma be PVM, Eur","Finansavimo suma, Eur","Išlaidų pagrindimo dokumentų pavadinimas, data ir Nr."]
[4,"ĮRANGA, ĮRENGINIAI IR KT. TURTAS (techninių žinių ir išradimų patentų arba teisių pagal licencijų sutartį įsigijimo išlaidos)",null,null,null,null,{"$f":"SUM(G11:G20)","v":0},{"$f":"SUM(H11:H20)","v":0}]
["4.1","Išlaidų pavadinimas",null,null,null,null,{"$f":"ROUND(E11*F11,2)","v":0},{"$f":"ROUND(G11*$D$7,2)","v":0}]
["4.2","Išlaidų pavadinimas",null,null,null,null,0,0]
["4.3","Išlaidų pavadinimas",null,null,null,null,0,0]
["4.4","Išlaidų pavadinimas",null,null,null,null,0,0]
["4.5","Išlaidų pavadinimas",null,null,null,null,0,0]
["4.6","Išlaidų pavadinimas",null,null,null,null,0,0]
["4.7","Išlaidų pavadinimas",null,null,null,null,0,0]
["4.8","Išlaidų pavadinimas",null,null,null,null,0,0]
["4.9","Išlaidų pavadinimas",null,null,null,null,0,0]
["4.10","Išlaidų pavadinimas",null,null,null,null,0,0]
[5,"PROJEKTO VYKDYMAS",null,null,null,null,{"$f":"G22+G33+G49+G65+G116","v":0},{"$f":"H22+H33+H49+H65+H116","v":0}]
["5.1","MTEP paslaugos",null,null,null,null,{"$f":"SUM(G23:G32)","v":0},{"$f":"SUM(H23:H32)","v":0}]
["5.1.1","Paslaugos pavadinimas",null,null,null,null,{"$f":"ROUND(E23*F23,2)","v":0},0]
["5.1.2","Paslaugos pavadinimas",null,null,null,null,0,0]
["5.1.3","Paslaugos pavadinimas",null,null,null,null,0,0]
["5.1.4","Paslaugos pavadinimas",null,null,null,null,0,0]
["5.1.5","Paslaugos pavadinimas",null,null,null,null,0,0]
["5.1.6","Paslaugos pavadinimas",null,null,null,null,0,0]
["5.1.7","Paslaugos pavadinimas",null,null,null,null,0,0]
["5.1.8","Paslaugos pavadinimas",null,null,null,null,0,0]
["5.1.9","Paslaugos pavadinimas",null,null,null,null,0,0]
["5.1.10","Paslaugos pavadinimas",null,null,null,null,0,0]
["5.2","Medžiagos, mažavertis inventorius, atsargos ir pan. produktai, priskirtini trumpalaikiam turtui ir tiesiogiai susiję su MTEP veikla",null,null,null,null,{"$f":"SUM(G34:G50)","v":0},{"$f":"SUM(H34:H50)","v":0}]
["5.2.1","Išlaidų pavadinimas",null,null,null,null,{"$f":"ROUND(E34*F34,2)","v":0},{"$f":"ROUND(G34*$D$7,2)","v":0}]
["5.2.2","Išlaidų pavadinimas",null,null,null,null,0,0]
["5.2.3","Išlaidų pavadinimas",null,null,null,null,0,0]
["5.2.4","Išlaidų pavadinimas",null,null,null,null,0,0]
["5.2.5","Išlaidų pavadinimas",null,null,null,null,0,0]
["5.2.6","Išlaidų pavadinimas",null,null,null,null,0,0]
["5.2.7","Išlaidų pavadinimas",null,null,null,null,0,0]
["5.2.8","Išlaidų pavadinimas",null,null,null,null,0,0]
["5.2.9","Išlaidų pavadinimas",null,null,null,null,0,0]
["5.2.10","Išlaidų pavadinimas",null,null,null,null,0,0]
["5.2.11","Išlaidų pavadinimas",null,null,null,null,0,0]
["5.2.12","Išlaidų pavadinimas",null,null,null,null,0,0]
["5.2.13","Išlaidų pavadinimas",null,null,null,null,0,0]
["5.2.14","Išlaidų pavadinimas",null,null,null,null,0,0]
["5.2.15","Išlaidų pavadinimas",null,null,null,null,0,0]
["5.3","Projekto MTEP veikloms naudojamo ilgalaikio materialaus turto (įrangos, prietaisų, įrankių, įrenginių, mašinų ir įrengimų, pastatų ir (ar) patalpų), nusidėvėjimo sąnaudos, jeigu šiam turtui įsigyti nebuvo naudojamos viešosios (įskaitant ir kitų valstybių) lėšos",null,null,null,null,{"$f":"SUM(G50:G64)","v":0},{"$f":"SUM(H50:H64)","v":0},null,null,"Turto įvedimo į eksploataciją data","Turto įsigijimo vertė, Eur","Turto nudėvėjimo, amortizacijos laikotarpis, mėn.","Numatoma turto likutinė vertė, Eur","1 mėn. nudėvėjimo, amortizacijos suma, Eur","Turto naudojamo projekto reikmėms laikas, mėn.","Turto panaudojimo projekto reikmėms dalis (proc.)","Projektui priskirta turto nusidėvėjimo, amortizacijos suma per projekto laikotarpį, Eur"]
["5.3.1","Turtas, kurio nusidėvėjimą, amortizaciją prašoma finansuoti",null,null,1,{"$f":"R50","v":0},{"$f":"ROUND(E50*F50,2)","v":0},0,null,null,null,null,null,null,{"$f":"IFERROR(ROUND((L50-N50)/M50,2),\"0\")","v":"0"},null,null,{"$f":"O50*P50*Q50","v":0},{"$f":"IF(K50=0,\" \",IF(K50+(M50*30.5)<TODAY(),\"DĖMESIO! Patikrinkite, ar nurodytas turtas dar nėra nudėvėtas, amortizuotas\",\" \"))","v":" "}]
["5.3.2","Turtas, kurio nusidėvėjimą, amortizaciją prašoma finansuoti",null,null,1,{"$f":"R51","v":0},0,0,null,null,null,null,null,null,{"$f":"IFERROR(ROUND((L51-N51)/M51,2),\"0\")","v":"0"},null,null,{"$f":"O51*P51*Q51","v":0},{"$f":"IF(K51=0,\" \",IF(K51+(M51*30.5)<TODAY(),\"DĖMESIO! Patikrinkite, ar nurodytas turtas dar nėra nudėvėtas, amortizuotas\",\" \"))","v":" "}]
["5.3.3","Turtas, kurio nusidėvėjimą, amortizaciją prašoma finansuoti",null,null,1,0,0,0,null,null,null,null,null,null,"0",null,null,0," "]
["5.3.4","Turtas, kurio nusidėvėjimą, amortizaciją prašoma finansuoti",null,null,1,0,0,0,null,null,null,null,null,null,"0",null,null,0," "]
["5.3.5","Turtas, kurio nusidėvėjimą, amortizaciją prašoma finansuoti",null,null,1,0,0,0,null,null,null,null,null,null,"0",null,null,0," "]
["5.3.6","Turtas, kurio nusidėvėjimą, amortizaciją prašoma finansuoti",null,null,1,0,0,0,null,null,null,null,null,null,"0",null,null,0," "]
["5.3.7","Turtas, kurio nusidėvėjimą, amortizaciją prašoma finansuoti",null,null,1,0,0,0,null,null,null,null,null,null,"0",null,null,0," "]
["5.3.8","Turtas, kurio nusidėvėjimą, amortizaciją prašoma finansuoti",null,null,1,0,0,0,null,null,null,null,null,null,"0",null,null,0," "]
["5.3.9","Turtas, kurio nusidėvėjimą, amortizaciją prašoma finansuoti",null,null,1,0,0,0,null,null,null,null,null,null,"0",null,null,0," "]
["5.3.10","Turtas, kurio nusidėvėjimą, amortizaciją prašoma finansuoti",null,null,1,0,0,0,null,null,null,null,null,null,"0",null,null,0," "]
["5.3.11","Turtas, kurio nusidėvėjimą, amortizaciją prašoma finansuoti",null,null,1,0,0,0,null,null,null,null,null,null,"0",null,null,0," "]
["5.3.12","Turtas, kurio nusidėvėjimą, amortizaciją prašoma finansuoti",null,null,1,0,0,0,null,null,null,null,null,null,"0",null,null,0," "]
["5.3.13","Turtas, kurio nusidėvėjimą, amortizaciją prašoma finansuoti",null,null,1,0,0,0,null,null,null,null,null,null,"0",null,null,0," "]
["5.3.14","Turtas, kurio nusidėvėjimą, amortizaciją prašoma finansuoti",null,null,1,0,0,0,null,null,null,null,null,null,"0",null,null,0," "]
["5.3.15","Turtas, kurio nusidėvėjimą, amortizaciją prašoma finansuoti",null,null,1,0,0,0,null,null,null,null,null,null,"0",null,null,0," "]
["5.4","Projektą vykdančio personalo darbo užmokestis ir išlaidos su darbo santykiais susijusiems darbdavio įsipareigojimams",null,null,null,null,{"$f":"SUM(G66:G115)","v":0},{"$f":"SUM(H66:H115)","v":0},null,null,"Faktiškai gaunamas darbo užmokesti už 1 valandą pagal  pastarųjų 6 mėn. vidurkį, Eur"]
["5.4.1","Pareigybės pavadinimas","Darbuotojo vardas pavardė","val.",null,{"$f":"IFERROR(ROUND(AVERAGE(K66:K70),2),\"0\")","v":"0"},{"$f":"ROUND(E66*F66,2)","v":0},{"$f":"ROUND(G66*$D$7,2)","v":0}]
[null,null,"Darbuotojo vardas pavardė"]
[null,null,"Darbuotojo vardas pavardė"]
[null,null,"Darbuotojo vardas pavardė"]
[null,null,"Darbuotojo vardas pavardė"]
["5.4.2","Pareigybės pavadinimas","Darbuotojo vardas pavardė","val.",null,{"$f":"IFERROR(ROUND(AVERAGE(K71:K75),2),\"0\")","v":"0"},{"$f":"ROUND(E71*F71,2)","v":0},{"$f":"ROUND(G71*$D$7,2)","v":0}]
[null,null,"Darbuotojo vardas pavardė"]
[null,null,"Darbuotojo vardas pavardė"]
[null,null,"Darbuotojo vardas pavardė"]
[null,null,"Darbuotojo vardas pavardė"]
["5.4.3","Pareigybės pavadinimas","Darbuotojo vardas pavardė","val.",null,{"$f":"IFERROR(ROUND(AVERAGE(K76:K80),2),\"0\")","v":"0"},{"$f":"ROUND(E76*F76,2)","v":0},{"$f":"ROUND(G76*$D$7,2)","v":0}]
[null,null,"Darbuotojo vardas pavardė"]
[null,null,"Darbuotojo vardas pavardė"]
[null,null,"Darbuotojo vardas pavardė"]
[null,null,"Darbuotojo vardas pavardė"]
["5.4.4","Pareigybės pavadinimas","Darbuotojo vardas pavardė","val.",null,{"$f":"IFERROR(ROUND(AVERAGE(K81:K85),2),\"0\")","v":"0"},{"$f":"ROUND(E81*F81,2)","v":0},{"$f":"ROUND(G81*$D$7,2)","v":0}]
[null,null,"Darbuotojo vardas pavardė"]
[null,null,"Darbuotojo vardas pavardė"]
[null,null,"Darbuotojo vardas pavardė"]
[null,null,"Darbuotojo vardas pavardė"]
["5.4.5","Pareigybės pavadinimas","Darbuotojo vardas pavardė","val.",null,{"$f":"IFERROR(ROUND(AVERAGE(K86:K90),2),\"0\")","v":"0"},{"$f":"ROUND(E86*F86,2)","v":0},{"$f":"ROUND(G86*$D$7,2)","v":0}]
[null,null,"Darbuotojo vardas pavardė"]
[null,null,"Darbuotojo vardas pavardė"]
[null,null,"Darbuotojo vardas pavardė"]
[null,null,"Darbuotojo vardas pavardė"]
["5.4.6","Pareigybės pavadinimas","Darbuotojo vardas pavardė","val.",null,{"$f":"IFERROR(ROUND(AVERAGE(K91:K95),2),\"0\")","v":"0"},{"$f":"ROUND(E91*F91,2)","v":0},{"$f":"ROUND(G91*$D$7,2)","v":0}]
[null,null,"Darbuotojo vardas pavardė"]
[null,null,"Darbuotojo vardas pavardė"]
[null,null,"Darbuotojo vardas pavardė"]
[null,null,"Darbuotojo vardas pavardė"]
["5.4.7","Pareigybės pavadinimas","Darbuotojo vardas pavardė","val.",null,{"$f":"IFERROR(ROUND(AVERAGE(K96:K100),2),\"0\")","v":"0"},{"$f":"ROUND(E96*F96,2)","v":0},{"$f":"ROUND(G96*$D$7,2)","v":0}]
[null,null,"Darbuotojo vardas pavardė"]
[null,null,"Darbuotojo vardas pavardė"]
[null,null,"Darbuotojo vardas pavardė"]
[null,null,"Darbuotojo vardas pavardė"]
["5.4.8","Pareigybės pavadinimas","Darbuotojo vardas pavardė","val.",null,{"$f":"IFERROR(ROUND(AVERAGE(K101:K105),2),\"0\")","v":"0"},{"$f":"ROUND(E101*F101,2)","v":0},{"$f":"ROUND(G101*$D$7,2)","v":0}]
[null,null,"Darbuotojo vardas pavardė"]
[null,null,"Darbuotojo vardas pavardė"]
[null,null,"Darbuotojo vardas pavardė"]
[null,null,"Darbuotojo vardas pavardė"]
["5.4.9","Pareigybės pavadinimas","Darbuotojo vardas pavardė","val.",null,{"$f":"IFERROR(ROUND(AVERAGE(K106:K110),2),\"0\")","v":"0"},{"$f":"ROUND(E106*F106,2)","v":0},{"$f":"ROUND(G106*$D$7,2)","v":0}]
[null,null,"Darbuotojo vardas pavardė"]
[null,null,"Darbuotojo vardas pavardė"]
[null,null,"Darbuotojo vardas pavardė"]
[null,null,"Darbuotojo vardas pavardė"]
["5.4.10","Pareigybės pavadinimas","Darbuotojo vardas pavardė","val.",null,{"$f":"IFERROR(ROUND(AVERAGE(K111:K115),2),\"0\")","v":"0"},{"$f":"ROUND(E111*F111,2)","v":0},{"$f":"ROUND(G111*$D$7,2)","v":0}]
[null,null,"Darbuotojo vardas pavardė"]
[null,null,"Darbuotojo vardas pavardė"]
[null,null,"Darbuotojo vardas pavardė"]
[null,null,"Darbuotojo vardas pavardė"]
["5.5","Projektą vykdančio personalo komandiruočių išlaidos",null,null,null,null,{"$f":"SUM(G117,G124,G131,G138,G145,G152,G159,G166,G173,G180)","v":0},{"$f":"SUM(H117,H124,H131,H138,H145,H152,H159,H166,H173,H180)","v":0}]
["5.5.1","Komandiruotės pavadinimas, vieta, trukmė dienomis, vykstančių asmenų skaičius","Iš viso komandiruotei",null,null,null,{"$f":"SUM(G118:G123)","v":0},{"$f":"ROUND(G117*$D$7,2)","v":0}]
[null,null,"Dienpinigiai",null,null,null,{"$f":"ROUND(E118*F118,2)","v":0}]
[null,null,"Gyvenamojo ploto nuoma",null,null,null,0]
[null,null,"Kelionės išlaidos",null,null,null,0]
[null,null,"Dalyvavimo mokestis",null,null,null,0]
[null,null,"Kitos išlaidų pavadinimas",null,null,null,0]
[null,null,"Kitos išlaidų pavadinimas",null,null,null,0]
["5.5.2","Komandiruotės pavadinimas, vieta, trukmė dienomis, vykstančių asmenų skaičius","Iš viso komandiruotei",null,null,null,{"$f":"SUM(G125:G130)","v":0},{"$f":"ROUND(G124*$D$7,2)","v":0}]
[null,null,"Dienpinigiai",null,null,null,{"$f":"ROUND(E125*F125,2)","v":0}]
[null,null,"Gyvenamojo ploto nuoma",null,null,null,0]
[null,null,"Kelionės išlaidos",null,null,null,0]
[null,null,"Dalyvavimo mokestis",null,null,null,0]
[null,null,"Kitos išlaidų pavadinimas",null,null,null,0]
[null,null,"Kitos išlaidų pavadinimas",null,null,null,0]
["5.5.3","Komandiruotės pavadinimas, vieta, trukmė dienomis, vykstančių asmenų skaičius","Iš viso komandiruotei",null,null,null,{"$f":"SUM(G132:G137)","v":0},{"$f":"ROUND(G131*$D$7,2)","v":0}]
[null,null,"Dienpinigiai",null,null,null,{"$f":"ROUND(E132*F132,2)","v":0}]
[null,null,"Gyvenamojo ploto nuoma",null,null,null,0]
[null,null,"Kelionės išlaidos",null,null,null,0]
[null,null,"Dalyvavimo mokestis",null,null,null,0]
[null,null,"Kitos išlaidų pavadinimas",null,null,null,0]
[null,null,"Kitos išlaidų pavadinimas",null,null,null,0]
["5.5.4","Komandiruotės pavadinimas, vieta, trukmė dienomis, vykstančių asmenų skaičius","Iš viso komandiruotei",null,null,null,{"$f":"SUM(G139:G144)","v":0},{"$f":"ROUND(G138*$D$7,2)","v":0}]
[null,null,"Dienpinigiai",null,null,null,{"$f":"ROUND(E139*F139,2)","v":0}]
[null,null,"Gyvenamojo ploto nuoma",null,null,null,0]
[null,null,"Kelionės išlaidos",null,null,null,0]
[null,null,"Dalyvavimo mokestis",null,null,null,0]
[null,null,"Kitos išlaidų pavadinimas",null,null,null,0]
[null,null,"Kitos išlaidų pavadinimas",null,null,null,0]
["5.5.5","Komandiruotės pavadinimas, vieta, trukmė dienomis, vykstančių asmenų skaičius","Iš viso komandiruotei",null,null,null,{"$f":"SUM(G146:G151)","v":0},{"$f":"ROUND(G145*$D$7,2)","v":0}]
[null,null,"Dienpinigiai",null,null,null,{"$f":"ROUND(E146*F146,2)","v":0}]
[null,null,"Gyvenamojo ploto nuoma",null,null,null,0]
[null,null,"Kelionės išlaidos",null,null,null,0]
[null,null,"Dalyvavimo mokestis",null,null,null,0]
[null,null,"Kitos išlaidų pavadinimas",null,null,null,0]
[null,null,"Kitos išlaidų pavadinimas",null,null,null,0]
["5.5.6","Komandiruotės pavadinimas, vieta, trukmė dienomis, vykstančių asmenų skaičius","Iš viso komandiruotei",null,null,null,{"$f":"SUM(G153:G158)","v":0},{"$f":"ROUND(G152*$D$7,2)","v":0}]
[null,null,"Dienpinigiai",null,null,null,{"$f":"ROUND(E153*F153,2)","v":0}]
[null,null,"Gyvenamojo ploto nuoma",null,null,null,0]
[null,null,"Kelionės išlaidos",null,null,null,0]
[null,null,"Dalyvavimo mokestis",null,null,null,0]
[null,null,"Kitos išlaidų pavadinimas",null,null,null,0]
[null,null,"Kitos išlaidų pavadinimas",null,null,null,0]
["5.5.7","Komandiruotės pavadinimas, vieta, trukmė dienomis, vykstančių asmenų skaičius","Iš viso komandiruotei",null,null,null,{"$f":"SUM(G160:G165)","v":0},{"$f":"ROUND(G159*$D$7,2)","v":0}]
[null,null,"Dienpinigiai",null,null,null,{"$f":"ROUND(E160*F160,2)","v":0}]
[null,null,"Gyvenamojo ploto nuoma",null,null,null,0]
[null,null,"Kelionės išlaidos",null,null,null,0]
[null,null,"Dalyvavimo mokestis",null,null,null,0]
[null,null,"Kitos išlaidų pavadinimas",null,null,null,0]
[null,null,"Kitos išlaidų pavadinimas",null,null,null,0]
["5.5.8","Komandiruotės pavadinimas, vieta, trukmė dienomis, vykstančių asmenų skaičius","Iš viso komandiruotei",null,null,null,{"$f":"SUM(G167:G172)","v":0},{"$f":"ROUND(G166*$D$7,2)","v":0}]
[null,null,"Dienpinigiai",null,null,null,{"$f":"ROUND(E167*F167,2)","v":0}]
[null,null,"Gyvenamojo ploto nuoma",null,null,null,0]
[null,null,"Kelionės išlaidos",null,null,null,0]
[null,null,"Dalyvavimo mokestis",null,null,null,0]
[null,null,"Kitos išlaidų pavadinimas",null,null,null,0]
[null,null,"Kitos išlaidų pavadinimas",null,null,null,0]
["5.5.9","Komandiruotės pavadinimas, vieta, trukmė dienomis, vykstančių asmenų skaičius","Iš viso komandiruotei",null,null,null,{"$f":"SUM(G174:G179)","v":0},{"$f":"ROUND(G173*$D$7,2)","v":0}]
[null,null,"Dienpinigiai",null,null,null,{"$f":"ROUND(E174*F174,2)","v":0}]
[null,null,"Gyvenamojo ploto nuoma",null,null,null,0]
[null,null,"Kelionės išlaidos",null,null,null,0]
[null,null,"Dalyvavimo mokestis",null,null,null,0]
[null,null,"Kitos išlaidų pavadinimas",null,null,null,0]
[null,null,"Kitos išlaidų pavadinimas",null,null,null,0]
["5.5.10","Komandiruotės pavadinimas, vieta, trukmė dienomis, vykstančių asmenų skaičius","Iš viso komandiruotei",null,null,null,{"$f":"SUM(G181:G186)","v":0},{"$f":"ROUND(G180*$D$7,2)","v":0}]
[null,null,"Dienpinigiai",null,null,null,{"$f":"ROUND(E181*F181,2)","v":0}]
[null,null,"Gyvenamojo ploto nuoma",null,null,null,0]
[null,null,"Kelionės išlaidos",null,null,null,0]
[null,null,"Dalyvavimo mokestis",null,null,null,0]
[null,null,"Kitos išlaidų pavadinimas",null,null,null,0]
[null,null,"Kitos išlaidų pavadinimas",null,null,null,0]
["Iš viso tinkamų finansuoti išlaidų:",null,null,null,null,null,{"$f":"G10+G21","v":0},{"$f":"H10+H21","v":0}]

{"sheet":"23","index":25,"n_rows":187,"n_cols":19,"rows_kept":187,"cut":false,"hidden":false,"merged":[[179,0,185,0],[179,1,185,1],[179,8,185,8],[186,0,186,5],[165,0,171,0],[165,1,171,1],[165,8,171,8],[172,0,178,0],[172,1,178,1],[172,8,178,8],[151,0,157,0],[151,1,157,1],[151,8,157,8],[158,0,164,0],[158,1,164,1],[158,8,164,8],[137,0,143,0],[137,1,143,1],[137,8,143,8],[144,0,150,0],[144,1,150,1],[144,8,150,8],[123,0,129,0],[123,1,129,1],[123,8,129,8],[130,0,136,0],[130,1,136,1],[130,8,136,8],[110,7,114,7],[110,8,114,8],[115,1,115,5],[116,0,122,0],[116,1,122,1],[116,8,122,8],[110,0,114,0],[110,1,114,1],[110,3,114,3],[110,4,114,4],[110,5,114,5],[110,6,114,6],[100,7,104,7],[100,8,104,8],[105,0,109,0],[105,1,109,1],[105,3,109,3],[105,4,109,4],[105,5,109,5],[105,6,109,6],[105,7,109,7],[105,8,109,8],[100,0,104,0],[100,1,104,1],[100,3,104,3],[100,4,104,4],[100,5,104,5],[100,6,104,6],[90,7,94,7],[90,8,94,8],[95,0,99,0],[95,1,99,1],[95,3,99,3],[95,4,99,4],[95,5,99,5],[95,6,99,6],[95,7,99,7],[95,8,99,8],[90,0,94,0],[90,1,94,1],[90,3,94,3],[90,4,94,4],[90,5,94,5],[90,6,94,6],[85,0,89,0],[85,1,89,1],[85,3,89,3],[85,4,89,4],[85,5,89,5],[85,6,89,6],[85,7,89,7],[85,8,89,8],[80,0,84,0],[80,1,84,1],[80,3,84,3],[80,4,84,4],[80,5,84,5],[80,6,84,6],[75,0,79,0],[75,1,79,1],[75,3,79,3],[75,4,79,4],[75,5,79,5],[75,6,79,6],[75,7,79,7],[75,8,79,8],[80,7,84,7],[80,8,84,8],[65,6,69,6],[65,7,69,7],[65,8,69,8],[70,0,74,0],[70,1,74,1],[70,3,74,3],[70,4,74,4],[70,5,74,5],[70,6,74,6],[70,7,74,7],[70,8,74,8],[62,1,62,2],[63,1,63,2],[64,1,64,5],[65,0,69,0],[65,1,69,1],[65,3,69,3],[65,4,69,4],[65,5,69,5],[56,1,56,2],[57,1,57,2],[58,1,58,2],[59,1,59,2],[60,1,60,2],[61,1,61,2],[50,1,50,2],[51,1,51,2],[52,1,52,2],[53,1,53,2],[54,1,54,2],[55,1,55,2],[44,1,44,2],[45,1,45,2],[46,1,46,2],[47,1,47,2],[48,1,48,5],[49,1,49,2],[38,1,38,2],[39,1,39,2],[40,1,40,2],[41,1,41,2],[42,1,42,2],[43,1,43,2],[32,1,32,5],[33,1,33,2],[34,1,34,2],[35,1,35,2],[36,1,36,2],[37,1,37,2],[26,1,26,2],[27,1,27,2],[28,1,28,2],[29,1,29,2],[30,1,30,2],[31,1,31,2],[20,1,20,5],[21,1,21,5],[22,1,22,2],[23,1,23,2],[24,1,24,2],[25,1,25,2],[16,1,16,2],[17,1,17,2],[18,1,18,2],[19,1,19,2],[8,1,8,2],[9,1,9,5],[10,1,10,2],[11,1,11,2],[12,1,12,2],[13,1,13,2],[0,3,0,8],[2,0,2,2],[2,3,2,8],[3,3,3,4],[3,5,3,6],[4,0,4,2],[4,3,4,8],[14,1,14,2],[15,1,15,2],[5,3,5,8]]}
[null,null,"Pasirinkite veiklos tipą:"]
[null,null,"Fizinio rodiklio Nr.:"]
["Fizinio rodiklio pavadinimas:"]
[null,null,"Fizinio rodiklio matavimo vnt.:",null,null,"Fizinio rodiklio vnt. skaičius:"]
["Juridinis asmuo (pareiškėjas, partneris), atsakingas už fizinį rodiklį:"]
[null,null,"Vykdytojo tipas:"]
[null,null,"Finansavimo intensyvumas:",null,null,null,"Pasirinkite biudžeto išlaidų kategoriją:","Visos"]
[]
["Eil. Nr.","Išlaidų kategorijos pavadinimas",null,"Matavimo vnt.","Kiekis","Vieneto kaina be PVM, Eur","Tinkamų finansuoti išlaidų suma be PVM, Eur","Finansavimo suma, Eur","Išlaidų pagrindimo dokumentų pavadinimas, data ir Nr."]
[4,"ĮRANGA, ĮRENGINIAI IR KT. TURTAS (techninių žinių ir išradimų patentų arba teisių pagal licencijų sutartį įsigijimo išlaidos)",null,null,null,null,{"$f":"SUM(G11:G20)","v":0},{"$f":"SUM(H11:H20)","v":0}]
["4.1","Išlaidų pavadinimas",null,null,null,null,{"$f":"ROUND(E11*F11,2)","v":0},{"$f":"ROUND(G11*$D$7,2)","v":0}]
["4.2","Išlaidų pavadinimas",null,null,null,null,0,0]
["4.3","Išlaidų pavadinimas",null,null,null,null,0,0]
["4.4","Išlaidų pavadinimas",null,null,null,null,0,0]
["4.5","Išlaidų pavadinimas",null,null,null,null,0,0]
["4.6","Išlaidų pavadinimas",null,null,null,null,0,0]
["4.7","Išlaidų pavadinimas",null,null,null,null,0,0]
["4.8","Išlaidų pavadinimas",null,null,null,null,0,0]
["4.9","Išlaidų pavadinimas",null,null,null,null,0,0]
["4.10","Išlaidų pavadinimas",null,null,null,null,0,0]
[5,"PROJEKTO VYKDYMAS",null,null,null,null,{"$f":"G22+G33+G49+G65+G116","v":0},{"$f":"H22+H33+H49+H65+H116","v":0}]
["5.1","MTEP paslaugos",null,null,null,null,{"$f":"SUM(G23:G32)","v":0},{"$f":"SUM(H23:H32)","v":0}]
["5.1.1","Paslaugos pavadinimas",null,null,null,null,{"$f":"ROUND(E23*F23,2)","v":0},0]
["5.1.2","Paslaugos pavadinimas",null,null,null,null,0,0]
["5.1.3","Paslaugos pavadinimas",null,null,null,null,0,0]
["5.1.4","Paslaugos pavadinimas",null,null,null,null,0,0]
["5.1.5","Paslaugos pavadinimas",null,null,null,null,0,0]
["5.1.6","Paslaugos pavadinimas",null,null,null,null,0,0]
["5.1.7","Paslaugos pavadinimas",null,null,null,null,0,0]
["5.1.8","Paslaugos pavadinimas",null,null,null,null,0,0]
["5.1.9","Paslaugos pavadinimas",null,null,null,null,0,0]
["5.1.10","Paslaugos pavadinimas",null,null,null,null,0,0]
["5.2","Medžiagos, mažavertis inventorius, atsargos ir pan. produktai, priskirtini trumpalaikiam turtui ir tiesiogiai susiję su MTEP veikla",null,null,null,null,{"$f":"SUM(G34:G50)","v":0},{"$f":"SUM(H34:H50)","v":0}]
["5.2.1","Išlaidų pavadinimas",null,null,null,null,{"$f":"ROUND(E34*F34,2)","v":0},{"$f":"ROUND(G34*$D$7,2)","v":0}]
["5.2.2","Išlaidų pavadinimas",null,null,null,null,0,0]
["5.2.3","Išlaidų pavadinimas",null,null,null,null,0,0]
["5.2.4","Išlaidų pavadinimas",null,null,null,null,0,0]
["5.2.5","Išlaidų pavadinimas",null,null,null,null,0,0]
["5.2.6","Išlaidų pavadinimas",null,null,null,null,0,0]
["5.2.7","Išlaidų pavadinimas",null,null,null,null,0,0]
["5.2.8","Išlaidų pavadinimas",null,null,null,null,0,0]
["5.2.9","Išlaidų pavadinimas",null,null,null,null,0,0]
["5.2.10","Išlaidų pavadinimas",null,null,null,null,0,0]
["5.2.11","Išlaidų pavadinimas",null,null,null,null,0,0]
["5.2.12","Išlaidų pavadinimas",null,null,null,null,0,0]
["5.2.13","Išlaidų pavadinimas",null,null,null,null,0,0]
["5.2.14","Išlaidų pavadinimas",null,null,null,null,0,0]
["5.2.15","Išlaidų pavadinimas",null,null,null,null,0,0]
["5.3","Projekto MTEP veikloms naudojamo ilgalaikio materialaus turto (įrangos, prietaisų, įrankių, įrenginių, mašinų ir įrengimų, pastatų ir (ar) patalpų), nusidėvėjimo sąnaudos, jeigu šiam turtui įsigyti nebuvo naudojamos viešosios (įskaitant ir kitų valstybių) lėšos",null,null,null,null,{"$f":"SUM(G50:G64)","v":0},{"$f":"SUM(H50:H64)","v":0},null,null,"Turto įvedimo į eksploataciją data","Turto įsigijimo vertė, Eur","Turto nudėvėjimo, amortizacijos laikotarpis, mėn.","Numatoma turto likutinė vertė, Eur","1 mėn. nudėvėjimo, amortizacijos suma, Eur","Turto naudojamo projekto reikmėms laikas, mėn.","Turto panaudojimo projekto reikmėms dalis (proc.)","Projektui priskirta turto nusidėvėjimo, amortizacijos suma per projekto laikotarpį, Eur"]
["5.3.1","Turtas, kurio nusidėvėjimą, amortizaciją prašoma finansuoti",null,null,1,{"$f":"R50","v":0},{"$f":"ROUND(E50*F50,2)","v":0},0,null,null,null,null,null,null,{"$f":"IFERROR(ROUND((L50-N50)/M50,2),\"0\")","v":"0"},null,null,{"$f":"O50*P50*Q50","v":0},{"$f":"IF(K50=0,\" \",IF(K50+(M50*30.5)<TODAY(),\"DĖMESIO! Patikrinkite, ar nurodytas turtas dar nėra nudėvėtas, amortizuotas\",\" \"))","v":" "}]
["5.3.2","Turtas, kurio nusidėvėjimą, amortizaciją prašoma finansuoti",null,null,1,{"$f":"R51","v":0},0,0,null,null,null,null,null,null,{"$f":"IFERROR(ROUND((L51-N51)/M51,2),\"0\")","v":"0"},null,null,{"$f":"O51*P51*Q51","v":0},{"$f":"IF(K51=0,\" \",IF(K51+(M51*30.5)<TODAY(),\"DĖMESIO! Patikrinkite, ar nurodytas turtas dar nėra nudėvėtas, amortizuotas\",\" \"))","v":" "}]
["5.3.3","Turtas, kurio nusidėvėjimą, amortizaciją prašoma finansuoti",null,null,1,0,0,0,null,null,null,null,null,null,"0",null,null,0," "]
["5.3.4","Turtas, kurio nusidėvėjimą, amortizaciją prašoma finansuoti",null,null,1,0,0,0,null,null,null,null,null,null,"0",null,null,0," "]
["5.3.5","Turtas, kurio nusidėvėjimą, amortizaciją prašoma finansuoti",null,null,1,0,0,0,null,null,null,null,null,null,"0",null,null,0," "]
["5.3.6","Turtas, kurio nusidėvėjimą, amortizaciją prašoma finansuoti",null,null,1,0,0,0,null,null,null,null,null,null,"0",null,null,0," "]
["5.3.7","Turtas, kurio nusidėvėjimą, amortizaciją prašoma finansuoti",null,null,1,0,0,0,null,null,null,null,null,null,"0",null,null,0," "]
["5.3.8","Turtas, kurio nusidėvėjimą, amortizaciją prašoma finansuoti",null,null,1,0,0,0,null,null,null,null,null,null,"0",null,null,0," "]
["5.3.9","Turtas, kurio nusidėvėjimą, amortizaciją prašoma finansuoti",null,null,1,0,0,0,null,null,null,null,null,null,"0",null,null,0," "]
["5.3.10","Turtas, kurio nusidėvėjimą, amortizaciją prašoma finansuoti",null,null,1,0,0,0,null,null,null,null,null,null,"0",null,null,0," "]
["5.3.11","Turtas, kurio nusidėvėjimą, amortizaciją prašoma finansuoti",null,null,1,0,0,0,null,null,null,null,null,null,"0",null,null,0," "]
["5.3.12","Turtas, kurio nusidėvėjimą, amortizaciją prašoma finansuoti",null,null,1,0,0,0,null,null,null,null,null,null,"0",null,null,0," "]
["5.3.13","Turtas, kurio nusidėvėjimą, amortizaciją prašoma finansuoti",null,null,1,0,0,0,null,null,null,null,null,null,"0",null,null,0," "]
["5.3.14","Turtas, kurio nusidėvėjimą, amortizaciją prašoma finansuoti",null,null,1,0,0,0,null,null,null,null,null,null,"0",null,null,0," "]
["5.3.15","Turtas, kurio nusidėvėjimą, amortizaciją prašoma finansuoti",null,null,1,0,0,0,null,null,null,null,null,null,"0",null,null,0," "]
["5.4","Projektą vykdančio personalo darbo užmokestis ir išlaidos su darbo santykiais susijusiems darbdavio įsipareigojimams",null,null,null,null,{"$f":"SUM(G66:G115)","v":0},{"$f":"SUM(H66:H115)","v":0},null,null,"Faktiškai gaunamas darbo užmokesti už 1 valandą pagal  pastarųjų 6 mėn. vidurkį, Eur"]
["5.4.1","Pareigybės pavadinimas","Darbuotojo vardas pavardė","val.",null,{"$f":"IFERROR(ROUND(AVERAGE(K66:K70),2),\"0\")","v":"0"},{"$f":"ROUND(E66*F66,2)","v":0},{"$f":"ROUND(G66*$D$7,2)","v":0}]
[null,null,"Darbuotojo vardas pavardė"]
[null,null,"Darbuotojo vardas pavardė"]
[null,null,"Darbuotojo vardas pavardė"]
[null,null,"Darbuotojo vardas pavardė"]
["5.4.2","Pareigybės pavadinimas","Darbuotojo vardas pavardė","val.",null,{"$f":"IFERROR(ROUND(AVERAGE(K71:K75),2),\"0\")","v":"0"},{"$f":"ROUND(E71*F71,2)","v":0},{"$f":"ROUND(G71*$D$7,2)","v":0}]
[null,null,"Darbuotojo vardas pavardė"]
[null,null,"Darbuotojo vardas pavardė"]
[null,null,"Darbuotojo vardas pavardė"]
[null,null,"Darbuotojo vardas pavardė"]
["5.4.3","Pareigybės pavadinimas","Darbuotojo vardas pavardė","val.",null,{"$f":"IFERROR(ROUND(AVERAGE(K76:K80),2),\"0\")","v":"0"},{"$f":"ROUND(E76*F76,2)","v":0},{"$f":"ROUND(G76*$D$7,2)","v":0}]
[null,null,"Darbuotojo vardas pavardė"]
[null,null,"Darbuotojo vardas pavardė"]
[null,null,"Darbuotojo vardas pavardė"]
[null,null,"Darbuotojo vardas pavardė"]
["5.4.4","Pareigybės pavadinimas","Darbuotojo vardas pavardė","val.",null,{"$f":"IFERROR(ROUND(AVERAGE(K81:K85),2),\"0\")","v":"0"},{"$f":"ROUND(E81*F81,2)","v":0},{"$f":"ROUND(G81*$D$7,2)","v":0}]
[null,null,"Darbuotojo vardas pavardė"]
[null,null,"Darbuotojo vardas pavardė"]
[null,null,"Darbuotojo vardas pavardė"]
[null,null,"Darbuotojo vardas pavardė"]
["5.4.5","Pareigybės pavadinimas","Darbuotojo vardas pavardė","val.",null,{"$f":"IFERROR(ROUND(AVERAGE(K86:K90),2),\"0\")","v":"0"},{"$f":"ROUND(E86*F86,2)","v":0},{"$f":"ROUND(G86*$D$7,2)","v":0}]
[null,null,"Darbuotojo vardas pavardė"]
[null,null,"Darbuotojo vardas pavardė"]
[null,null,"Darbuotojo vardas pavardė"]
[null,null,"Darbuotojo vardas pavardė"]
["5.4.6","Pareigybės pavadinimas","Darbuotojo vardas pavardė","val.",null,{"$f":"IFERROR(ROUND(AVERAGE(K91:K95),2),\"0\")","v":"0"},{"$f":"ROUND(E91*F91,2)","v":0},{"$f":"ROUND(G91*$D$7,2)","v":0}]
[null,null,"Darbuotojo vardas pavardė"]
[null,null,"Darbuotojo vardas pavardė"]
[null,null,"Darbuotojo vardas pavardė"]
[null,null,"Darbuotojo vardas pavardė"]
["5.4.7","Pareigybės pavadinimas","Darbuotojo vardas pavardė","val.",null,{"$f":"IFERROR(ROUND(AVERAGE(K96:K100),2),\"0\")","v":"0"},{"$f":"ROUND(E96*F96,2)","v":0},{"$f":"ROUND(G96*$D$7,2)","v":0}]
[null,null,"Darbuotojo vardas pavardė"]
[null,null,"Darbuotojo vardas pavardė"]
[null,null,"Darbuotojo vardas pavardė"]
[null,null,"Darbuotojo vardas pavardė"]
["5.4.8","Pareigybės pavadinimas","Darbuotojo vardas pavardė","val.",null,{"$f":"IFERROR(ROUND(AVERAGE(K101:K105),2),\"0\")","v":"0"},{"$f":"ROUND(E101*F101,2)","v":0},{"$f":"ROUND(G101*$D$7,2)","v":0}]
[null,null,"Darbuotojo vardas pavardė"]
[null,null,"Darbuotojo vardas pavardė"]
[null,null,"Darbuotojo vardas pavardė"]
[null,null,"Darbuotojo vardas pavardė"]
["5.4.9","Pareigybės pavadinimas","Darbuotojo vardas pavardė","val.",null,{"$f":"IFERROR(ROUND(AVERAGE(K106:K110),2),\"0\")","v":"0"},{"$f":"ROUND(E106*F106,2)","v":0},{"$f":"ROUND(G106*$D$7,2)","v":0}]
[null,null,"Darbuotojo vardas pavardė"]
[null,null,"Darbuotojo vardas pavardė"]
[null,null,"Darbuotojo vardas pavardė"]
[null,null,"Darbuotojo vardas pavardė"]
["5.4.10","Pareigybės pavadinimas","Darbuotojo vardas pavardė","val.",null,{"$f":"IFERROR(ROUND(AVERAGE(K111:K115),2),\"0\")","v":"0"},{"$f":"ROUND(E111*F111,2)","v":0},{"$f":"ROUND(G111*$D$7,2)","v":0}]
[null,null,"Darbuotojo vardas pavardė"]
[null,null,"Darbuotojo vardas pavardė"]
[null,null,"Darbuotojo vardas pavardė"]
[null,null,"Darbuotojo vardas pavardė"]
["5.5","Projektą vykdančio personalo komandiruočių išlaidos",null,null,null,null,{"$f":"SUM(G117,G124,G131,G138,G145,G152,G159,G166,G173,G180)","v":0},{"$f":"SUM(H117,H124,H131,H138,H145,H152,H159,H166,H173,H180)","v":0}]
["5.5.1","Komandiruotės pavadinimas, vieta, trukmė dienomis, vykstančių asmenų skaičius","Iš viso komandiruotei",null,null,null,{"$f":"SUM(G118:G123)","v":0},{"$f":"ROUND(G117*$D$7,2)","v":0}]
[null,null,"Dienpinigiai",null,null,null,{"$f":"ROUND(E118*F118,2)","v":0}]
[null,null,"Gyvenamojo ploto nuoma",null,null,null,0]
[null,null,"Kelionės išlaidos",null,null,null,0]
[null,null,"Dalyvavimo mokestis",null,null,null,0]
[null,null,"Kitos išlaidų pavadinimas",null,null,null,0]
[null,null,"Kitos išlaidų pavadinimas",null,null,null,0]
["5.5.2","Komandiruotės pavadinimas, vieta, trukmė dienomis, vykstančių asmenų skaičius","Iš viso komandiruotei",null,null,null,{"$f":"SUM(G125:G130)","v":0},{"$f":"ROUND(G124*$D$7,2)","v":0}]
[null,null,"Dienpinigiai",null,null,null,{"$f":"ROUND(E125*F125,2)","v":0}]
[null,null,"Gyvenamojo ploto nuoma",null,null,null,0]
[null,null,"Kelionės išlaidos",null,null,null,0]
[null,null,"Dalyvavimo mokestis",null,null,null,0]
[null,null,"Kitos išlaidų pavadinimas",null,null,null,0]
[null,null,"Kitos išlaidų pavadinimas",null,null,null,0]
["5.5.3","Komandiruotės pavadinimas, vieta, trukmė dienomis, vykstančių asmenų skaičius","Iš viso komandiruotei",null,null,null,{"$f":"SUM(G132:G137)","v":0},{"$f":"ROUND(G131*$D$7,2)","v":0}]
[null,null,"Dienpinigiai",null,null,null,{"$f":"ROUND(E132*F132,2)","v":0}]
[null,null,"Gyvenamojo ploto nuoma",null,null,null,0]
[null,null,"Kelionės išlaidos",null,null,null,0]
[null,null,"Dalyvavimo mokestis",null,null,null,0]
[null,null,"Kitos išlaidų pavadinimas",null,null,null,0]
[null,null,"Kitos išlaidų pavadinimas",null,null,null,0]
["5.5.4","Komandiruotės pavadinimas, vieta, trukmė dienomis, vykstančių asmenų skaičius","Iš viso komandiruotei",null,null,null,{"$f":"SUM(G139:G144)","v":0},{"$f":"ROUND(G138*$D$7,2)","v":0}]
[null,null,"Dienpinigiai",null,null,null,{"$f":"ROUND(E139*F139,2)","v":0}]
[null,null,"Gyvenamojo ploto nuoma",null,null,null,0]
[null,null,"Kelionės išlaidos",null,null,null,0]
[null,null,"Dalyvavimo mokestis",null,null,null,0]
[null,null,"Kitos išlaidų pavadinimas",null,null,null,0]
[null,null,"Kitos išlaidų pavadinimas",null,null,null,0]
["5.5.5","Komandiruotės pavadinimas, vieta, trukmė dienomis, vykstančių asmenų skaičius","Iš viso komandiruotei",null,null,null,{"$f":"SUM(G146:G151)","v":0},{"$f":"ROUND(G145*$D$7,2)","v":0}]
[null,null,"Dienpinigiai",null,null,null,{"$f":"ROUND(E146*F146,2)","v":0}]
[null,null,"Gyvenamojo ploto nuoma",null,null,null,0]
[null,null,"Kelionės išlaidos",null,null,null,0]
[null,null,"Dalyvavimo mokestis",null,null,null,0]
[null,null,"Kitos išlaidų pavadinimas",null,null,null,0]
[null,null,"Kitos išlaidų pavadinimas",null,null,null,0]
["5.5.6","Komandiruotės pavadinimas, vieta, trukmė dienomis, vykstančių asmenų skaičius","Iš viso komandiruotei",null,null,null,{"$f":"SUM(G153:G158)","v":0},{"$f":"ROUND(G152*$D$7,2)","v":0}]
[null,null,"Dienpinigiai",null,null,null,{"$f":"ROUND(E153*F153,2)","v":0}]
[null,null,"Gyvenamojo ploto nuoma",null,null,null,0]
[null,null,"Kelionės išlaidos",null,null,null,0]
[null,null,"Dalyvavimo mokestis",null,null,null,0]
[null,null,"Kitos išlaidų pavadinimas",null,null,null,0]
[null,null,"Kitos išlaidų pavadinimas",null,null,null,0]
["5.5.7","Komandiruotės pavadinimas, vieta, trukmė dienomis, vykstančių asmenų skaičius","Iš viso komandiruotei",null,null,null,{"$f":"SUM(G160:G165)","v":0},{"$f":"ROUND(G159*$D$7,2)","v":0}]
[null,null,"Dienpinigiai",null,null,null,{"$f":"ROUND(E160*F160,2)","v":0}]
[null,null,"Gyvenamojo ploto nuoma",null,null,null,0]
[null,null,"Kelionės išlaidos",null,null,null,0]
[null,null,"Dalyvavimo mokestis",null,null,null,0]
[null,null,"Kitos išlaidų pavadinimas",null,null,null,0]
[null,null,"Kitos išlaidų pavadinimas",null,null,null,0]
["5.5.8","Komandiruotės pavadinimas, vieta, trukmė dienomis, vykstančių asmenų skaičius","Iš viso komandiruotei",null,null,null,{"$f":"SUM(G167:G172)","v":0},{"$f":"ROUND(G166*$D$7,2)","v":0}]
[null,null,"Dienpinigiai",null,null,null,{"$f":"ROUND(E167*F167,2)","v":0}]
[null,null,"Gyvenamojo ploto nuoma",null,null,null,0]
[null,null,"Kelionės išlaidos",null,null,null,0]
[null,null,"Dalyvavimo mokestis",null,null,null,0]
[null,null,"Kitos išlaidų pavadinimas",null,null,null,0]
[null,null,"Kitos išlaidų pavadinimas",null,null,null,0]
["5.5.9","Komandiruotės pavadinimas, vieta, trukmė dienomis, vykstančių asmenų skaičius","Iš viso komandiruotei",null,null,null,{"$f":"SUM(G174:G179)","v":0},{"$f":"ROUND(G173*$D$7,2)","v":0}]
[null,null,"Dienpinigiai",null,null,null,{"$f":"ROUND(E174*F174,2)","v":0}]
[null,null,"Gyvenamojo ploto nuoma",null,null,null,0]
[null,null,"Kelionės išlaidos",null,null,null,0]
[null,null,"Dalyvavimo mokestis",null,null,null,0]
[null,null,"Kitos išlaidų pavadinimas",null,null,null,0]
[null,null,"Kitos išlaidų pavadinimas",null,null,null,0]
["5.5.10","Komandiruotės pavadinimas, vieta, trukmė dienomis, vykstančių asmenų skaičius","Iš viso komandiruotei",null,null,null,{"$f":"SUM(G181:G186)","v":0},{"$f":"ROUND(G180*$D$7,2)","v":0}]
[null,null,"Dienpinigiai",null,null,null,{"$f":"ROUND(E181*F181,2)","v":0}]
[null,null,"Gyvenamojo ploto nuoma",null,null,null,0]
[null,null,"Kelionės išlaidos",null,null,null,0]
[null,null,"Dalyvavimo mokestis",null,null,null,0]
[null,null,"Kitos išlaidų pavadinimas",null,null,null,0]
[null,null,"Kitos išlaidų pavadinimas",null,null,null,0]
["Iš viso tinkamų finansuoti išlaidų:",null,null,null,null,null,{"$f":"G10+G21","v":0},{"$f":"H10+H21","v":0}]

{"sheet":"24","index":26,"n_rows":187,"n_cols":19,"rows_kept":187,"cut":false,"hidden":false,"merged":[[179,0,185,0],[179,1,185,1],[179,8,185,8],[186,0,186,5],[165,0,171,0],[165,1,171,1],[165,8,171,8],[172,0,178,0],[172,1,178,1],[172,8,178,8],[151,0,157,0],[151,1,157,1],[151,8,157,8],[158,0,164,0],[158,1,164,1],[158,8,164,8],[137,0,143,0],[137,1,143,1],[137,8,143,8],[144,0,150,0],[144,1,150,1],[144,8,150,8],[123,0,129,0],[123,1,129,1],[123,8,129,8],[130,0,136,0],[130,1,136,1],[130,8,136,8],[110,7,114,7],[110,8,114,8],[115,1,115,5],[116,0,122,0],[116,1,122,1],[116,8,122,8],[110,0,114,0],[110,1,114,1],[110,3,114,3],[110,4,114,4],[110,5,114,5],[110,6,114,6],[100,7,104,7],[100,8,104,8],[105,0,109,0],[105,1,109,1],[105,3,109,3],[105,4,109,4],[105,5,109,5],[105,6,109,6],[105,7,109,7],[105,8,109,8],[100,0,104,0],[100,1,104,1],[100,3,104,3],[100,4,104,4],[100,5,104,5],[100,6,104,6],[90,7,94,7],[90,8,94,8],[95,0,99,0],[95,1,99,1],[95,3,99,3],[95,4,99,4],[95,5,99,5],[95,6,99,6],[95,7,99,7],[95,8,99,8],[90,0,94,0],[90,1,94,1],[90,3,94,3],[90,4,94,4],[90,5,94,5],[90,6,94,6],[85,0,89,0],[85,1,89,1],[85,3,89,3],[85,4,89,4],[85,5,89,5],[85,6,89,6],[85,7,89,7],[85,8,89,8],[80,0,84,0],[80,1,84,1],[80,3,84,3],[80,4,84,4],[80,5,84,5],[80,6,84,6],[75,0,79,0],[75,1,79,1],[75,3,79,3],[75,4,79,4],[75,5,79,5],[75,6,79,6],[75,7,79,7],[75,8,79,8],[80,7,84,7],[80,8,84,8],[65,6,69,6],[65,7,69,7],[65,8,69,8],[70,0,74,0],[70,1,74,1],[70,3,74,3],[70,4,74,4],[70,5,74,5],[70,6,74,6],[70,7,74,7],[70,8,74,8],[62,1,62,2],[63,1,63,2],[64,1,64,5],[65,0,69,0],[65,1,69,1],[65,3,69,3],[65,4,69,4],[65,5,69,5],[56,1,56,2],[57,1,57,2],[58,1,58,2],[59,1,59,2],[60,1,60,2],[61,1,61,2],[50,1,50,2],[51,1,51,2],[52,1,52,2],[53,1,53,2],[54,1,54,2],[55,1,55,2],[44,1,44,2],[45,1,45,2],[46,1,46,2],[47,1,47,2],[48,1,48,5],[49,1,49,2],[38,1,38,2],[39,1,39,2],[40,1,40,2],[41,1,41,2],[42,1,42,2],[43,1,43,2],[32,1,32,5],[33,1,33,2],[34,1,34,2],[35,1,35,2],[36,1,36,2],[37,1,37,2],[26,1,26,2],[27,1,27,2],[28,1,28,2],[29,1,29,2],[30,1,30,2],[31,1,31,2],[20,1,20,5],[21,1,21,5],[22,1,22,2],[23,1,23,2],[24,1,24,2],[25,1,25,2],[16,1,16,2],[17,1,17,2],[18,1,18,2],[19,1,19,2],[8,1,8,2],[9,1,9,5],[10,1,10,2],[11,1,11,2],[12,1,12,2],[13,1,13,2],[0,3,0,8],[2,0,2,2],[2,3,2,8],[3,3,3,4],[3,5,3,6],[4,0,4,2],[4,3,4,8],[14,1,14,2],[15,1,15,2],[5,3,5,8]]}
[null,null,"Pasirinkite veiklos tipą:"]
[null,null,"Fizinio rodiklio Nr.:"]
["Fizinio rodiklio pavadinimas:"]
[null,null,"Fizinio rodiklio matavimo vnt.:",null,null,"Fizinio rodiklio vnt. skaičius:"]
["Juridinis asmuo (pareiškėjas, partneris), atsakingas už fizinį rodiklį:"]
[null,null,"Vykdytojo tipas:"]
[null,null,"Finansavimo intensyvumas:",null,null,null,"Pasirinkite biudžeto išlaidų kategoriją:","Visos"]
[]
["Eil. Nr.","Išlaidų kategorijos pavadinimas",null,"Matavimo vnt.","Kiekis","Vieneto kaina be PVM, Eur","Tinkamų finansuoti išlaidų suma be PVM, Eur","Finansavimo suma, Eur","Išlaidų pagrindimo dokumentų pavadinimas, data ir Nr."]
[4,"ĮRANGA, ĮRENGINIAI IR KT. TURTAS (techninių žinių ir išradimų patentų arba teisių pagal licencijų sutartį įsigijimo išlaidos)",null,null,null,null,{"$f":"SUM(G11:G20)","v":0},{"$f":"SUM(H11:H20)","v":0}]
["4.1","Išlaidų pavadinimas",null,null,null,null,{"$f":"ROUND(E11*F11,2)","v":0},{"$f":"ROUND(G11*$D$7,2)","v":0}]
["4.2","Išlaidų pavadinimas",null,null,null,null,0,0]
["4.3","Išlaidų pavadinimas",null,null,null,null,0,0]
["4.4","Išlaidų pavadinimas",null,null,null,null,0,0]
["4.5","Išlaidų pavadinimas",null,null,null,null,0,0]
["4.6","Išlaidų pavadinimas",null,null,null,null,0,0]
["4.7","Išlaidų pavadinimas",null,null,null,null,0,0]
["4.8","Išlaidų pavadinimas",null,null,null,null,0,0]
["4.9","Išlaidų pavadinimas",null,null,null,null,0,0]
["4.10","Išlaidų pavadinimas",null,null,null,null,0,0]
[5,"PROJEKTO VYKDYMAS",null,null,null,null,{"$f":"G22+G33+G49+G65+G116","v":0},{"$f":"H22+H33+H49+H65+H116","v":0}]
["5.1","MTEP paslaugos",null,null,null,null,{"$f":"SUM(G23:G32)","v":0},{"$f":"SUM(H23:H32)","v":0}]
["5.1.1","Paslaugos pavadinimas",null,null,null,null,{"$f":"ROUND(E23*F23,2)","v":0},0]
["5.1.2","Paslaugos pavadinimas",null,null,null,null,0,0]
["5.1.3","Paslaugos pavadinimas",null,null,null,null,0,0]
["5.1.4","Paslaugos pavadinimas",null,null,null,null,0,0]
["5.1.5","Paslaugos pavadinimas",null,null,null,null,0,0]
["5.1.6","Paslaugos pavadinimas",null,null,null,null,0,0]
["5.1.7","Paslaugos pavadinimas",null,null,null,null,0,0]
["5.1.8","Paslaugos pavadinimas",null,null,null,null,0,0]
["5.1.9","Paslaugos pavadinimas",null,null,null,null,0,0]
["5.1.10","Paslaugos pavadinimas",null,null,null,null,0,0]
["5.2","Medžiagos, mažavertis inventorius, atsargos ir pan. produktai, priskirtini trumpalaikiam turtui ir tiesiogiai susiję su MTEP veikla",null,null,null,null,{"$f":"SUM(G34:G50)","v":0},{"$f":"SUM(H34:H50)","v":0}]
["5.2.1","Išlaidų pavadinimas",null,null,null,null,{"$f":"ROUND(E34*F34,2)","v":0},{"$f":"ROUND(G34*$D$7,2)","v":0}]
["5.2.2","Išlaidų pavadinimas",null,null,null,null,0,0]
["5.2.3","Išlaidų pavadinimas",null,null,null,null,0,0]
["5.2.4","Išlaidų pavadinimas",null,null,null,null,0,0]
["5.2.5","Išlaidų pavadinimas",null,null,null,null,0,0]
["5.2.6","Išlaidų pavadinimas",null,null,null,null,0,0]
["5.2.7","Išlaidų pavadinimas",null,null,null,null,0,0]
["5.2.8","Išlaidų pavadinimas",null,null,null,null,0,0]
["5.2.9","Išlaidų pavadinimas",null,null,null,null,0,0]
["5.2.10","Išlaidų pavadinimas",null,null,null,null,0,0]
["5.2.11","Išlaidų pavadinimas",null,null,null,null,0,0]
["5.2.12","Išlaidų pavadinimas",null,null,null,null,0,0]
["5.2.13","Išlaidų pavadinimas",null,null,null,null,0,0]
["5.2.14","Išlaidų pavadinimas",null,null,null,null,0,0]
["5.2.15","Išlaidų pavadinimas",null,null,null,null,0,0]
["5.3","Projekto MTEP veikloms naudojamo ilgalaikio materialaus turto (įrangos, prietaisų, įrankių, įrenginių, mašinų ir įrengimų, pastatų ir (ar) patalpų), nusidėvėjimo sąnaudos, jeigu šiam turtui įsigyti nebuvo naudojamos viešosios (įskaitant ir kitų valstybių) lėšos",null,null,null,null,{"$f":"SUM(G50:G64)","v":0},{"$f":"SUM(H50:H64)","v":0},null,null,"Turto įvedimo į eksploataciją data","Turto įsigijimo vertė, Eur","Turto nudėvėjimo, amortizacijos laikotarpis, mėn.","Numatoma turto likutinė vertė, Eur","1 mėn. nudėvėjimo, amortizacijos suma, Eur","Turto naudojamo projekto reikmėms laikas, mėn.","Turto panaudojimo projekto reikmėms dalis (proc.)","Projektui priskirta turto nusidėvėjimo, amortizacijos suma per projekto laikotarpį, Eur"]
["5.3.1","Turtas, kurio nusidėvėjimą, amortizaciją prašoma finansuoti",null,null,1,{"$f":"R50","v":0},{"$f":"ROUND(E50*F50,2)","v":0},0,null,null,null,null,null,null,{"$f":"IFERROR(ROUND((L50-N50)/M50,2),\"0\")","v":"0"},null,null,{"$f":"O50*P50*Q50","v":0},{"$f":"IF(K50=0,\" \",IF(K50+(M50*30.5)<TODAY(),\"DĖMESIO! Patikrinkite, ar nurodytas turtas dar nėra nudėvėtas, amortizuotas\",\" \"))","v":" "}]
["5.3.2","Turtas, kurio nusidėvėjimą, amortizaciją prašoma finansuoti",null,null,1,{"$f":"R51","v":0},0,0,null,null,null,null,null,null,{"$f":"IFERROR(ROUND((L51-N51)/M51,2),\"0\")","v":"0"},null,null,{"$f":"O51*P51*Q51","v":0},{"$f":"IF(K51=0,\" \",IF(K51+(M51*30.5)<TODAY(),\"DĖMESIO! Patikrinkite, ar nurodytas turtas dar nėra nudėvėtas, amortizuotas\",\" \"))","v":" "}]
["5.3.3","Turtas, kurio nusidėvėjimą, amortizaciją prašoma finansuoti",null,null,1,0,0,0,null,null,null,null,null,null,"0",null,null,0," "]
["5.3.4","Turtas, kurio nusidėvėjimą, amortizaciją prašoma finansuoti",null,null,1,0,0,0,null,null,null,null,null,null,"0",null,null,0," "]
["5.3.5","Turtas, kurio nusidėvėjimą, amortizaciją prašoma finansuoti",null,null,1,0,0,0,null,null,null,null,null,null,"0",null,null,0," "]
["5.3.6","Turtas, kurio nusidėvėjimą, amortizaciją prašoma finansuoti",null,null,1,0,0,0,null,null,null,null,null,null,"0",null,null,0," "]
["5.3.7","Turtas, kurio nusidėvėjimą, amortizaciją prašoma finansuoti",null,null,1,0,0,0,null,null,null,null,null,null,"0",null,null,0," "]
["5.3.8","Turtas, kurio nusidėvėjimą, amortizaciją prašoma finansuoti",null,null,1,0,0,0,null,null,null,null,null,null,"0",null,null,0," "]
["5.3.9","Turtas, kurio nusidėvėjimą, amortizaciją prašoma finansuoti",null,null,1,0,0,0,null,null,null,null,null,null,"0",null,null,0," "]
["5.3.10","Turtas, kurio nusidėvėjimą, amortizaciją prašoma finansuoti",null,null,1,0,0,0,null,null,null,null,null,null,"0",null,null,0," "]
["5.3.11","Turtas, kurio nusidėvėjimą, amortizaciją prašoma finansuoti",null,null,1,0,0,0,null,null,null,null,null,null,"0",null,null,0," "]
["5.3.12","Turtas, kurio nusidėvėjimą, amortizaciją prašoma finansuoti",null,null,1,0,0,0,null,null,null,null,null,null,"0",null,null,0," "]
["5.3.13","Turtas, kurio nusidėvėjimą, amortizaciją prašoma finansuoti",null,null,1,0,0,0,null,null,null,null,null,null,"0",null,null,0," "]
["5.3.14","Turtas, kurio nusidėvėjimą, amortizaciją prašoma finansuoti",null,null,1,0,0,0,null,null,null,null,null,null,"0",null,null,0," "]
["5.3.15","Turtas, kurio nusidėvėjimą, amortizaciją prašoma finansuoti",null,null,1,0,0,0,null,null,null,null,null,null,"0",null,null,0," "]
["5.4","Projektą vykdančio personalo darbo užmokestis ir išlaidos su darbo santykiais susijusiems darbdavio įsipareigojimams",null,null,null,null,{"$f":"SUM(G66:G115)","v":0},{"$f":"SUM(H66:H115)","v":0},null,null,"Faktiškai gaunamas darbo užmokesti už 1 valandą pagal  pastarųjų 6 mėn. vidurkį, Eur"]
["5.4.1","Pareigybės pavadinimas","Darbuotojo vardas pavardė","val.",null,{"$f":"IFERROR(ROUND(AVERAGE(K66:K70),2),\"0\")","v":"0"},{"$f":"ROUND(E66*F66,2)","v":0},{"$f":"ROUND(G66*$D$7,2)","v":0}]
[null,null,"Darbuotojo vardas pavardė"]
[null,null,"Darbuotojo vardas pavardė"]
[null,null,"Darbuotojo vardas pavardė"]
[null,null,"Darbuotojo vardas pavardė"]
["5.4.2","Pareigybės pavadinimas","Darbuotojo vardas pavardė","val.",null,{"$f":"IFERROR(ROUND(AVERAGE(K71:K75),2),\"0\")","v":"0"},{"$f":"ROUND(E71*F71,2)","v":0},{"$f":"ROUND(G71*$D$7,2)","v":0}]
[null,null,"Darbuotojo vardas pavardė"]
[null,null,"Darbuotojo vardas pavardė"]
[null,null,"Darbuotojo vardas pavardė"]
[null,null,"Darbuotojo vardas pavardė"]
["5.4.3","Pareigybės pavadinimas","Darbuotojo vardas pavardė","val.",null,{"$f":"IFERROR(ROUND(AVERAGE(K76:K80),2),\"0\")","v":"0"},{"$f":"ROUND(E76*F76,2)","v":0},{"$f":"ROUND(G76*$D$7,2)","v":0}]
[null,null,"Darbuotojo vardas pavardė"]
[null,null,"Darbuotojo vardas pavardė"]
[null,null,"Darbuotojo vardas pavardė"]
[null,null,"Darbuotojo vardas pavardė"]
["5.4.4","Pareigybės pavadinimas","Darbuotojo vardas pavardė","val.",null,{"$f":"IFERROR(ROUND(AVERAGE(K81:K85),2),\"0\")","v":"0"},{"$f":"ROUND(E81*F81,2)","v":0},{"$f":"ROUND(G81*$D$7,2)","v":0}]
[null,null,"Darbuotojo vardas pavardė"]
[null,null,"Darbuotojo vardas pavardė"]
[null,null,"Darbuotojo vardas pavardė"]
[null,null,"Darbuotojo vardas pavardė"]
["5.4.5","Pareigybės pavadinimas","Darbuotojo vardas pavardė","val.",null,{"$f":"IFERROR(ROUND(AVERAGE(K86:K90),2),\"0\")","v":"0"},{"$f":"ROUND(E86*F86,2)","v":0},{"$f":"ROUND(G86*$D$7,2)","v":0}]
[null,null,"Darbuotojo vardas pavardė"]
[null,null,"Darbuotojo vardas pavardė"]
[null,null,"Darbuotojo vardas pavardė"]
[null,null,"Darbuotojo vardas pavardė"]
["5.4.6","Pareigybės pavadinimas","Darbuotojo vardas pavardė","val.",null,{"$f":"IFERROR(ROUND(AVERAGE(K91:K95),2),\"0\")","v":"0"},{"$f":"ROUND(E91*F91,2)","v":0},{"$f":"ROUND(G91*$D$7,2)","v":0}]
[null,null,"Darbuotojo vardas pavardė"]
[null,null,"Darbuotojo vardas pavardė"]
[null,null,"Darbuotojo vardas pavardė"]
[null,null,"Darbuotojo vardas pavardė"]
["5.4.7","Pareigybės pavadinimas","Darbuotojo vardas pavardė","val.",null,{"$f":"IFERROR(ROUND(AVERAGE(K96:K100),2),\"0\")","v":"0"},{"$f":"ROUND(E96*F96,2)","v":0},{"$f":"ROUND(G96*$D$7,2)","v":0}]
[null,null,"Darbuotojo vardas pavardė"]
[null,null,"Darbuotojo vardas pavardė"]
[null,null,"Darbuotojo vardas pavardė"]
[null,null,"Darbuotojo vardas pavardė"]
["5.4.8","Pareigybės pavadinimas","Darbuotojo vardas pavardė","val.",null,{"$f":"IFERROR(ROUND(AVERAGE(K101:K105),2),\"0\")","v":"0"},{"$f":"ROUND(E101*F101,2)","v":0},{"$f":"ROUND(G101*$D$7,2)","v":0}]
[null,null,"Darbuotojo vardas pavardė"]
[null,null,"Darbuotojo vardas pavardė"]
[null,null,"Darbuotojo vardas pavardė"]
[null,null,"Darbuotojo vardas pavardė"]
["5.4.9","Pareigybės pavadinimas","Darbuotojo vardas pavardė","val.",null,{"$f":"IFERROR(ROUND(AVERAGE(K106:K110),2),\"0\")","v":"0"},{"$f":"ROUND(E106*F106,2)","v":0},{"$f":"ROUND(G106*$D$7,2)","v":0}]
[null,null,"Darbuotojo vardas pavardė"]
[null,null,"Darbuotojo vardas pavardė"]
[null,null,"Darbuotojo vardas pavardė"]
[null,null,"Darbuotojo vardas pavardė"]
["5.4.10","Pareigybės pavadinimas","Darbuotojo vardas pavardė","val.",null,{"$f":"IFERROR(ROUND(AVERAGE(K111:K115),2),\"0\")","v":"0"},{"$f":"ROUND(E111*F111,2)","v":0},{"$f":"ROUND(G111*$D$7,2)","v":0}]
[null,null,"Darbuotojo vardas pavardė"]
[null,null,"Darbuotojo vardas pavardė"]
[null,null,"Darbuotojo vardas pavardė"]
[null,null,"Darbuotojo vardas pavardė"]
["5.5","Projektą vykdančio personalo komandiruočių išlaidos",null,null,null,null,{"$f":"SUM(G117,G124,G131,G138,G145,G152,G159,G166,G173,G180)","v":0},{"$f":"SUM(H117,H124,H131,H138,H145,H152,H159,H166,H173,H180)","v":0}]
["5.5.1","Komandiruotės pavadinimas, vieta, trukmė dienomis, vykstančių asmenų skaičius","Iš viso komandiruotei",null,null,null,{"$f":"SUM(G118:G123)","v":0},{"$f":"ROUND(G117*$D$7,2)","v":0}]
[null,null,"Dienpinigiai",null,null,null,{"$f":"ROUND(E118*F118,2)","v":0}]
[null,null,"Gyvenamojo ploto nuoma",null,null,null,0]
[null,null,"Kelionės išlaidos",null,null,null,0]
[null,null,"Dalyvavimo mokestis",null,null,null,0]
[null,null,"Kitos išlaidų pavadinimas",null,null,null,0]
[null,null,"Kitos išlaidų pavadinimas",null,null,null,0]
["5.5.2","Komandiruotės pavadinimas, vieta, trukmė dienomis, vykstančių asmenų skaičius","Iš viso komandiruotei",null,null,null,{"$f":"SUM(G125:G130)","v":0},{"$f":"ROUND(G124*$D$7,2)","v":0}]
[null,null,"Dienpinigiai",null,null,null,{"$f":"ROUND(E125*F125,2)","v":0}]
[null,null,"Gyvenamojo ploto nuoma",null,null,null,0]
[null,null,"Kelionės išlaidos",null,null,null,0]
[null,null,"Dalyvavimo mokestis",null,null,null,0]
[null,null,"Kitos išlaidų pavadinimas",null,null,null,0]
[null,null,"Kitos išlaidų pavadinimas",null,null,null,0]
["5.5.3","Komandiruotės pavadinimas, vieta, trukmė dienomis, vykstančių asmenų skaičius","Iš viso komandiruotei",null,null,null,{"$f":"SUM(G132:G137)","v":0},{"$f":"ROUND(G131*$D$7,2)","v":0}]
[null,null,"Dienpinigiai",null,null,null,{"$f":"ROUND(E132*F132,2)","v":0}]
[null,null,"Gyvenamojo ploto nuoma",null,null,null,0]
[null,null,"Kelionės išlaidos",null,null,null,0]
[null,null,"Dalyvavimo mokestis",null,null,null,0]
[null,null,"Kitos išlaidų pavadinimas",null,null,null,0]
[null,null,"Kitos išlaidų pavadinimas",null,null,null,0]
["5.5.4","Komandiruotės pavadinimas, vieta, trukmė dienomis, vykstančių asmenų skaičius","Iš viso komandiruotei",null,null,null,{"$f":"SUM(G139:G144)","v":0},{"$f":"ROUND(G138*$D$7,2)","v":0}]
[null,null,"Dienpinigiai",null,null,null,{"$f":"ROUND(E139*F139,2)","v":0}]
[null,null,"Gyvenamojo ploto nuoma",null,null,null,0]
[null,null,"Kelionės išlaidos",null,null,null,0]
[null,null,"Dalyvavimo mokestis",null,null,null,0]
[null,null,"Kitos išlaidų pavadinimas",null,null,null,0]
[null,null,"Kitos išlaidų pavadinimas",null,null,null,0]
["5.5.5","Komandiruotės pavadinimas, vieta, trukmė dienomis, vykstančių asmenų skaičius","Iš viso komandiruotei",null,null,null,{"$f":"SUM(G146:G151)","v":0},{"$f":"ROUND(G145*$D$7,2)","v":0}]
[null,null,"Dienpinigiai",null,null,null,{"$f":"ROUND(E146*F146,2)","v":0}]
[null,null,"Gyvenamojo ploto nuoma",null,null,null,0]
[null,null,"Kelionės išlaidos",null,null,null,0]
[null,null,"Dalyvavimo mokestis",null,null,null,0]
[null,null,"Kitos išlaidų pavadinimas",null,null,null,0]
[null,null,"Kitos išlaidų pavadinimas",null,null,null,0]
["5.5.6","Komandiruotės pavadinimas, vieta, trukmė dienomis, vykstančių asmenų skaičius","Iš viso komandiruotei",null,null,null,{"$f":"SUM(G153:G158)","v":0},{"$f":"ROUND(G152*$D$7,2)","v":0}]
[null,null,"Dienpinigiai",null,null,null,{"$f":"ROUND(E153*F153,2)","v":0}]
[null,null,"Gyvenamojo ploto nuoma",null,null,null,0]
[null,null,"Kelionės išlaidos",null,null,null,0]
[null,null,"Dalyvavimo mokestis",null,null,null,0]
[null,null,"Kitos išlaidų pavadinimas",null,null,null,0]
[null,null,"Kitos išlaidų pavadinimas",null,null,null,0]
["5.5.7","Komandiruotės pavadinimas, vieta, trukmė dienomis, vykstančių asmenų skaičius","Iš viso komandiruotei",null,null,null,{"$f":"SUM(G160:G165)","v":0},{"$f":"ROUND(G159*$D$7,2)","v":0}]
[null,null,"Dienpinigiai",null,null,null,{"$f":"ROUND(E160*F160,2)","v":0}]
[null,null,"Gyvenamojo ploto nuoma",null,null,null,0]
[null,null,"Kelionės išlaidos",null,null,null,0]
[null,null,"Dalyvavimo mokestis",null,null,null,0]
[null,null,"Kitos išlaidų pavadinimas",null,null,null,0]
[null,null,"Kitos išlaidų pavadinimas",null,null,null,0]
["5.5.8","Komandiruotės pavadinimas, vieta, trukmė dienomis, vykstančių asmenų skaičius","Iš viso komandiruotei",null,null,null,{"$f":"SUM(G167:G172)","v":0},{"$f":"ROUND(G166*$D$7,2)","v":0}]
[null,null,"Dienpinigiai",null,null,null,{"$f":"ROUND(E167*F167,2)","v":0}]
[null,null,"Gyvenamojo ploto nuoma",null,null,null,0]
[null,null,"Kelionės išlaidos",null,null,null,0]
[null,null,"Dalyvavimo mokestis",null,null,null,0]
[null,null,"Kitos išlaidų pavadinimas",null,null,null,0]
[null,null,"Kitos išlaidų pavadinimas",null,null,null,0]
["5.5.9","Komandiruotės pavadinimas, vieta, trukmė dienomis, vykstančių asmenų skaičius","Iš viso komandiruotei",null,null,null,{"$f":"SUM(G174:G179)","v":0},{"$f":"ROUND(G173*$D$7,2)","v":0}]
[null,null,"Dienpinigiai",null,null,null,{"$f":"ROUND(E174*F174,2)","v":0}]
[null,null,"Gyvenamojo ploto nuoma",null,null,null,0]
[null,null,"Kelionės išlaidos",null,null,null,0]
[null,null,"Dalyvavimo mokestis",null,null,null,0]
[null,null,"Kitos išlaidų pavadinimas",null,null,null,0]
[null,null,"Kitos išlaidų pavadinimas",null,null,null,0]
["5.5.10","Komandiruotės pavadinimas, vieta, trukmė dienomis, vykstančių asmenų skaičius","Iš viso komandiruotei",null,null,null,{"$f":"SUM(G181:G186)","v":0},{"$f":"ROUND(G180*$D$7,2)","v":0}]
[null,null,"Dienpinigiai",null,null,null,{"$f":"ROUND(E181*F181,2)","v":0}]
[null,null,"Gyvenamojo ploto nuoma",null,null,null,0]
[null,null,"Kelionės išlaidos",null,null,null,0]
[null,null,"Dalyvavimo mokestis",null,null,null,0]
[null,null,"Kitos išlaidų pavadinimas",null,null,null,0]
[null,null,"Kitos išlaidų pavadinimas",null,null,null,0]
["Iš viso tinkamų finansuoti išlaidų:",null,null,null,null,null,{"$f":"G10+G21","v":0},{"$f":"H10+H21","v":0}]

{"sheet":"25","index":27,"n_rows":187,"n_cols":19,"rows_kept":187,"cut":false,"hidden":false,"merged":[[179,0,185,0],[179,1,185,1],[179,8,185,8],[186,0,186,5],[165,0,171,0],[165,1,171,1],[165,8,171,8],[172,0,178,0],[172,1,178,1],[172,8,178,8],[151,0,157,0],[151,1,157,1],[151,8,157,8],[158,0,164,0],[158,1,164,1],[158,8,164,8],[137,0,143,0],[137,1,143,1],[137,8,143,8],[144,0,150,0],[144,1,150,1],[144,8,150,8],[123,0,129,0],[123,1,129,1],[123,8,129,8],[130,0,136,0],[130,1,136,1],[130,8,136,8],[110,7,114,7],[110,8,114,8],[115,1,115,5],[116,0,122,0],[116,1,122,1],[116,8,122,8],[110,0,114,0],[110,1,114,1],[110,3,114,3],[110,4,114,4],[110,5,114,5],[110,6,114,6],[100,7,104,7],[100,8,104,8],[105,0,109,0],[105,1,109,1],[105,3,109,3],[105,4,109,4],[105,5,109,5],[105,6,109,6],[105,7,109,7],[105,8,109,8],[100,0,104,0],[100,1,104,1],[100,3,104,3],[100,4,104,4],[100,5,104,5],[100,6,104,6],[90,7,94,7],[90,8,94,8],[95,0,99,0],[95,1,99,1],[95,3,99,3],[95,4,99,4],[95,5,99,5],[95,6,99,6],[95,7,99,7],[95,8,99,8],[90,0,94,0],[90,1,94,1],[90,3,94,3],[90,4,94,4],[90,5,94,5],[90,6,94,6],[85,0,89,0],[85,1,89,1],[85,3,89,3],[85,4,89,4],[85,5,89,5],[85,6,89,6],[85,7,89,7],[85,8,89,8],[80,0,84,0],[80,1,84,1],[80,3,84,3],[80,4,84,4],[80,5,84,5],[80,6,84,6],[75,0,79,0],[75,1,79,1],[75,3,79,3],[75,4,79,4],[75,5,79,5],[75,6,79,6],[75,7,79,7],[75,8,79,8],[80,7,84,7],[80,8,84,8],[65,6,69,6],[65,7,69,7],[65,8,69,8],[70,0,74,0],[70,1,74,1],[70,3,74,3],[70,4,74,4],[70,5,74,5],[70,6,74,6],[70,7,74,7],[70,8,74,8],[62,1,62,2],[63,1,63,2],[64,1,64,5],[65,0,69,0],[65,1,69,1],[65,3,69,3],[65,4,69,4],[65,5,69,5],[56,1,56,2],[57,1,57,2],[58,1,58,2],[59,1,59,2],[60,1,60,2],[61,1,61,2],[50,1,50,2],[51,1,51,2],[52,1,52,2],[53,1,53,2],[54,1,54,2],[55,1,55,2],[44,1,44,2],[45,1,45,2],[46,1,46,2],[47,1,47,2],[48,1,48,5],[49,1,49,2],[38,1,38,2],[39,1,39,2],[40,1,40,2],[41,1,41,2],[42,1,42,2],[43,1,43,2],[32,1,32,5],[33,1,33,2],[34,1,34,2],[35,1,35,2],[36,1,36,2],[37,1,37,2],[26,1,26,2],[27,1,27,2],[28,1,28,2],[29,1,29,2],[30,1,30,2],[31,1,31,2],[20,1,20,5],[21,1,21,5],[22,1,22,2],[23,1,23,2],[24,1,24,2],[25,1,25,2],[16,1,16,2],[17,1,17,2],[18,1,18,2],[19,1,19,2],[8,1,8,2],[9,1,9,5],[10,1,10,2],[11,1,11,2],[12,1,12,2],[13,1,13,2],[0,3,0,8],[2,0,2,2],[2,3,2,8],[3,3,3,4],[3,5,3,6],[4,0,4,2],[4,3,4,8],[14,1,14,2],[15,1,15,2],[5,3,5,8]]}
[null,null,"Pasirinkite veiklos tipą:"]
[null,null,"Fizinio rodiklio Nr.:"]
["Fizinio rodiklio pavadinimas:"]
[null,null,"Fizinio rodiklio matavimo vnt.:",null,null,"Fizinio rodiklio vnt. skaičius:"]
["Juridinis asmuo (pareiškėjas, partneris), atsakingas už fizinį rodiklį:"]
[null,null,"Vykdytojo tipas:"]
[null,null,"Finansavimo intensyvumas:",null,null,null,"Pasirinkite biudžeto išlaidų kategoriją:","Visos"]
[]
["Eil. Nr.","Išlaidų kategorijos pavadinimas",null,"Matavimo vnt.","Kiekis","Vieneto kaina be PVM, Eur","Tinkamų finansuoti išlaidų suma be PVM, Eur","Finansavimo suma, Eur","Išlaidų pagrindimo dokumentų pavadinimas, data ir Nr."]
[4,"ĮRANGA, ĮRENGINIAI IR KT. TURTAS (techninių žinių ir išradimų patentų arba teisių pagal licencijų sutartį įsigijimo išlaidos)",null,null,null,null,{"$f":"SUM(G11:G20)","v":0},{"$f":"SUM(H11:H20)","v":0}]
["4.1","Išlaidų pavadinimas",null,null,null,null,{"$f":"ROUND(E11*F11,2)","v":0},{"$f":"ROUND(G11*$D$7,2)","v":0}]
["4.2","Išlaidų pavadinimas",null,null,null,null,0,0]
["4.3","Išlaidų pavadinimas",null,null,null,null,0,0]
["4.4","Išlaidų pavadinimas",null,null,null,null,0,0]
["4.5","Išlaidų pavadinimas",null,null,null,null,0,0]
["4.6","Išlaidų pavadinimas",null,null,null,null,0,0]
["4.7","Išlaidų pavadinimas",null,null,null,null,0,0]
["4.8","Išlaidų pavadinimas",null,null,null,null,0,0]
["4.9","Išlaidų pavadinimas",null,null,null,null,0,0]
["4.10","Išlaidų pavadinimas",null,null,null,null,0,0]
[5,"PROJEKTO VYKDYMAS",null,null,null,null,{"$f":"G22+G33+G49+G65+G116","v":0},{"$f":"H22+H33+H49+H65+H116","v":0}]
["5.1","MTEP paslaugos",null,null,null,null,{"$f":"SUM(G23:G32)","v":0},{"$f":"SUM(H23:H32)","v":0}]
["5.1.1","Paslaugos pavadinimas",null,null,null,null,{"$f":"ROUND(E23*F23,2)","v":0},0]
["5.1.2","Paslaugos pavadinimas",null,null,null,null,0,0]
["5.1.3","Paslaugos pavadinimas",null,null,null,null,0,0]
["5.1.4","Paslaugos pavadinimas",null,null,null,null,0,0]
["5.1.5","Paslaugos pavadinimas",null,null,null,null,0,0]
["5.1.6","Paslaugos pavadinimas",null,null,null,null,0,0]
["5.1.7","Paslaugos pavadinimas",null,null,null,null,0,0]
["5.1.8","Paslaugos pavadinimas",null,null,null,null,0,0]
["5.1.9","Paslaugos pavadinimas",null,null,null,null,0,0]
["5.1.10","Paslaugos pavadinimas",null,null,null,null,0,0]
["5.2","Medžiagos, mažavertis inventorius, atsargos ir pan. produktai, priskirtini trumpalaikiam turtui ir tiesiogiai susiję su MTEP veikla",null,null,null,null,{"$f":"SUM(G34:G50)","v":0},{"$f":"SUM(H34:H50)","v":0}]
["5.2.1","Išlaidų pavadinimas",null,null,null,null,{"$f":"ROUND(E34*F34,2)","v":0},{"$f":"ROUND(G34*$D$7,2)","v":0}]
["5.2.2","Išlaidų pavadinimas",null,null,null,null,0,0]
["5.2.3","Išlaidų pavadinimas",null,null,null,null,0,0]
["5.2.4","Išlaidų pavadinimas",null,null,null,null,0,0]
["5.2.5","Išlaidų pavadinimas",null,null,null,null,0,0]
["5.2.6","Išlaidų pavadinimas",null,null,null,null,0,0]
["5.2.7","Išlaidų pavadinimas",null,null,null,null,0,0]
["5.2.8","Išlaidų pavadinimas",null,null,null,null,0,0]
["5.2.9","Išlaidų pavadinimas",null,null,null,null,0,0]
["5.2.10","Išlaidų pavadinimas",null,null,null,null,0,0]
["5.2.11","Išlaidų pavadinimas",null,null,null,null,0,0]
["5.2.12","Išlaidų pavadinimas",null,null,null,null,0,0]
["5.2.13","Išlaidų pavadinimas",null,null,null,null,0,0]
["5.2.14","Išlaidų pavadinimas",null,null,null,null,0,0]
["5.2.15","Išlaidų pavadinimas",null,null,null,null,0,0]
["5.3","Projekto MTEP veikloms naudojamo ilgalaikio materialaus turto (įrangos, prietaisų, įrankių, įrenginių, mašinų ir įrengimų, pastatų ir (ar) patalpų), nusidėvėjimo sąnaudos, jeigu šiam turtui įsigyti nebuvo naudojamos viešosios (įskaitant ir kitų valstybių) lėšos",null,null,null,null,{"$f":"SUM(G50:G64)","v":0},{"$f":"SUM(H50:H64)","v":0},null,null,"Turto įvedimo į eksploataciją data","Turto įsigijimo vertė, Eur","Turto nudėvėjimo, amortizacijos laikotarpis, mėn.","Numatoma turto likutinė vertė, Eur","1 mėn. nudėvėjimo, amortizacijos suma, Eur","Turto naudojamo projekto reikmėms laikas, mėn.","Turto panaudojimo projekto reikmėms dalis (proc.)","Projektui priskirta turto nusidėvėjimo, amortizacijos suma per projekto laikotarpį, Eur"]
["5.3.1","Turtas, kurio nusidėvėjimą, amortizaciją prašoma finansuoti",null,null,1,{"$f":"R50","v":0},{"$f":"ROUND(E50*F50,2)","v":0},0,null,null,null,null,null,null,{"$f":"IFERROR(ROUND((L50-N50)/M50,2),\"0\")","v":"0"},null,null,{"$f":"O50*P50*Q50","v":0},{"$f":"IF(K50=0,\" \",IF(K50+(M50*30.5)<TODAY(),\"DĖMESIO! Patikrinkite, ar nurodytas turtas dar nėra nudėvėtas, amortizuotas\",\" \"))","v":" "}]
["5.3.2","Turtas, kurio nusidėvėjimą, amortizaciją prašoma finansuoti",null,null,1,{"$f":"R51","v":0},0,0,null,null,null,null,null,null,{"$f":"IFERROR(ROUND((L51-N51)/M51,2),\"0\")","v":"0"},null,null,{"$f":"O51*P51*Q51","v":0},{"$f":"IF(K51=0,\" \",IF(K51+(M51*30.5)<TODAY(),\"DĖMESIO! Patikrinkite, ar nurodytas turtas dar nėra nudėvėtas, amortizuotas\",\" \"))","v":" "}]
["5.3.3","Turtas, kurio nusidėvėjimą, amortizaciją prašoma finansuoti",null,null,1,0,0,0,null,null,null,null,null,null,"0",null,null,0," "]
["5.3.4","Turtas, kurio nusidėvėjimą, amortizaciją prašoma finansuoti",null,null,1,0,0,0,null,null,null,null,null,null,"0",null,null,0," "]
["5.3.5","Turtas, kurio nusidėvėjimą, amortizaciją prašoma finansuoti",null,null,1,0,0,0,null,null,null,null,null,null,"0",null,null,0," "]
["5.3.6","Turtas, kurio nusidėvėjimą, amortizaciją prašoma finansuoti",null,null,1,0,0,0,null,null,null,null,null,null,"0",null,null,0," "]
["5.3.7","Turtas, kurio nusidėvėjimą, amortizaciją prašoma finansuoti",null,null,1,0,0,0,null,null,null,null,null,null,"0",null,null,0," "]
["5.3.8","Turtas, kurio nusidėvėjimą, amortizaciją prašoma finansuoti",null,null,1,0,0,0,null,null,null,null,null,null,"0",null,null,0," "]
["5.3.9","Turtas, kurio nusidėvėjimą, amortizaciją prašoma finansuoti",null,null,1,0,0,0,null,null,null,null,null,null,"0",null,null,0," "]
["5.3.10","Turtas, kurio nusidėvėjimą, amortizaciją prašoma finansuoti",null,null,1,0,0,0,null,null,null,null,null,null,"0",null,null,0," "]
["5.3.11","Turtas, kurio nusidėvėjimą, amortizaciją prašoma finansuoti",null,null,1,0,0,0,null,null,null,null,null,null,"0",null,null,0," "]
["5.3.12","Turtas, kurio nusidėvėjimą, amortizaciją prašoma finansuoti",null,null,1,0,0,0,null,null,null,null,null,null,"0",null,null,0," "]
["5.3.13","Turtas, kurio nusidėvėjimą, amortizaciją prašoma finansuoti",null,null,1,0,0,0,null,null,null,null,null,null,"0",null,null,0," "]
["5.3.14","Turtas, kurio nusidėvėjimą, amortizaciją prašoma finansuoti",null,null,1,0,0,0,null,null,null,null,null,null,"0",null,null,0," "]
["5.3.15","Turtas, kurio nusidėvėjimą, amortizaciją prašoma finansuoti",null,null,1,0,0,0,null,null,null,null,null,null,"0",null,null,0," "]
["5.4","Projektą vykdančio personalo darbo užmokestis ir išlaidos su darbo santykiais susijusiems darbdavio įsipareigojimams",null,null,null,null,{"$f":"SUM(G66:G115)","v":0},{"$f":"SUM(H66:H115)","v":0},null,null,"Faktiškai gaunamas darbo užmokesti už 1 valandą pagal  pastarųjų 6 mėn. vidurkį, Eur"]
["5.4.1","Pareigybės pavadinimas","Darbuotojo vardas pavardė","val.",null,{"$f":"IFERROR(ROUND(AVERAGE(K66:K70),2),\"0\")","v":"0"},{"$f":"ROUND(E66*F66,2)","v":0},{"$f":"ROUND(G66*$D$7,2)","v":0}]
[null,null,"Darbuotojo vardas pavardė"]
[null,null,"Darbuotojo vardas pavardė"]
[null,null,"Darbuotojo vardas pavardė"]
[null,null,"Darbuotojo vardas pavardė"]
["5.4.2","Pareigybės pavadinimas","Darbuotojo vardas pavardė","val.",null,{"$f":"IFERROR(ROUND(AVERAGE(K71:K75),2),\"0\")","v":"0"},{"$f":"ROUND(E71*F71,2)","v":0},{"$f":"ROUND(G71*$D$7,2)","v":0}]
[null,null,"Darbuotojo vardas pavardė"]
[null,null,"Darbuotojo vardas pavardė"]
[null,null,"Darbuotojo vardas pavardė"]
[null,null,"Darbuotojo vardas pavardė"]
["5.4.3","Pareigybės pavadinimas","Darbuotojo vardas pavardė","val.",null,{"$f":"IFERROR(ROUND(AVERAGE(K76:K80),2),\"0\")","v":"0"},{"$f":"ROUND(E76*F76,2)","v":0},{"$f":"ROUND(G76*$D$7,2)","v":0}]
[null,null,"Darbuotojo vardas pavardė"]
[null,null,"Darbuotojo vardas pavardė"]
[null,null,"Darbuotojo vardas pavardė"]
[null,null,"Darbuotojo vardas pavardė"]
["5.4.4","Pareigybės pavadinimas","Darbuotojo vardas pavardė","val.",null,{"$f":"IFERROR(ROUND(AVERAGE(K81:K85),2),\"0\")","v":"0"},{"$f":"ROUND(E81*F81,2)","v":0},{"$f":"ROUND(G81*$D$7,2)","v":0}]
[null,null,"Darbuotojo vardas pavardė"]
[null,null,"Darbuotojo vardas pavardė"]
[null,null,"Darbuotojo vardas pavardė"]
[null,null,"Darbuotojo vardas pavardė"]
["5.4.5","Pareigybės pavadinimas","Darbuotojo vardas pavardė","val.",null,{"$f":"IFERROR(ROUND(AVERAGE(K86:K90),2),\"0\")","v":"0"},{"$f":"ROUND(E86*F86,2)","v":0},{"$f":"ROUND(G86*$D$7,2)","v":0}]
[null,null,"Darbuotojo vardas pavardė"]
[null,null,"Darbuotojo vardas pavardė"]
[null,null,"Darbuotojo vardas pavardė"]
[null,null,"Darbuotojo vardas pavardė"]
["5.4.6","Pareigybės pavadinimas","Darbuotojo vardas pavardė","val.",null,{"$f":"IFERROR(ROUND(AVERAGE(K91:K95),2),\"0\")","v":"0"},{"$f":"ROUND(E91*F91,2)","v":0},{"$f":"ROUND(G91*$D$7,2)","v":0}]
[null,null,"Darbuotojo vardas pavardė"]
[null,null,"Darbuotojo vardas pavardė"]
[null,null,"Darbuotojo vardas pavardė"]
[null,null,"Darbuotojo vardas pavardė"]
["5.4.7","Pareigybės pavadinimas","Darbuotojo vardas pavardė","val.",null,{"$f":"IFERROR(ROUND(AVERAGE(K96:K100),2),\"0\")","v":"0"},{"$f":"ROUND(E96*F96,2)","v":0},{"$f":"ROUND(G96*$D$7,2)","v":0}]
[null,null,"Darbuotojo vardas pavardė"]
[null,null,"Darbuotojo vardas pavardė"]
[null,null,"Darbuotojo vardas pavardė"]
[null,null,"Darbuotojo vardas pavardė"]
["5.4.8","Pareigybės pavadinimas","Darbuotojo vardas pavardė","val.",null,{"$f":"IFERROR(ROUND(AVERAGE(K101:K105),2),\"0\")","v":"0"},{"$f":"ROUND(E101*F101,2)","v":0},{"$f":"ROUND(G101*$D$7,2)","v":0}]
[null,null,"Darbuotojo vardas pavardė"]
[null,null,"Darbuotojo vardas pavardė"]
[null,null,"Darbuotojo vardas pavardė"]
[null,null,"Darbuotojo vardas pavardė"]
["5.4.9","Pareigybės pavadinimas","Darbuotojo vardas pavardė","val.",null,{"$f":"IFERROR(ROUND(AVERAGE(K106:K110),2),\"0\")","v":"0"},{"$f":"ROUND(E106*F106,2)","v":0},{"$f":"ROUND(G106*$D$7,2)","v":0}]
[null,null,"Darbuotojo vardas pavardė"]
[null,null,"Darbuotojo vardas pavardė"]
[null,null,"Darbuotojo vardas pavardė"]
[null,null,"Darbuotojo vardas pavardė"]
["5.4.10","Pareigybės pavadinimas","Darbuotojo vardas pavardė","val.",null,{"$f":"IFERROR(ROUND(AVERAGE(K111:K115),2),\"0\")","v":"0"},{"$f":"ROUND(E111*F111,2)","v":0},{"$f":"ROUND(G111*$D$7,2)","v":0}]
[null,null,"Darbuotojo vardas pavardė"]
[null,null,"Darbuotojo vardas pavardė"]
[null,null,"Darbuotojo vardas pavardė"]
[null,null,"Darbuotojo vardas pavardė"]
["5.5","Projektą vykdančio personalo komandiruočių išlaidos",null,null,null,null,{"$f":"SUM(G117,G124,G131,G138,G145,G152,G159,G166,G173,G180)","v":0},{"$f":"SUM(H117,H124,H131,H138,H145,H152,H159,H166,H173,H180)","v":0}]
["5.5.1","Komandiruotės pavadinimas, vieta, trukmė dienomis, vykstančių asmenų skaičius","Iš viso komandiruotei",null,null,null,{"$f":"SUM(G118:G123)","v":0},{"$f":"ROUND(G117*$D$7,2)","v":0}]
[null,null,"Dienpinigiai",null,null,null,{"$f":"ROUND(E118*F118,2)","v":0}]
[null,null,"Gyvenamojo ploto nuoma",null,null,null,0]
[null,null,"Kelionės išlaidos",null,null,null,0]
[null,null,"Dalyvavimo mokestis",null,null,null,0]
[null,null,"Kitos išlaidų pavadinimas",null,null,null,0]
[null,null,"Kitos išlaidų pavadinimas",null,null,null,0]
["5.5.2","Komandiruotės pavadinimas, vieta, trukmė dienomis, vykstančių asmenų skaičius","Iš viso komandiruotei",null,null,null,{"$f":"SUM(G125:G130)","v":0},{"$f":"ROUND(G124*$D$7,2)","v":0}]
[null,null,"Dienpinigiai",null,null,null,{"$f":"ROUND(E125*F125,2)","v":0}]
[null,null,"Gyvenamojo ploto nuoma",null,null,null,0]
[null,null,"Kelionės išlaidos",null,null,null,0]
[null,null,"Dalyvavimo mokestis",null,null,null,0]
[null,null,"Kitos išlaidų pavadinimas",null,null,null,0]
[null,null,"Kitos išlaidų pavadinimas",null,null,null,0]
["5.5.3","Komandiruotės pavadinimas, vieta, trukmė dienomis, vykstančių asmenų skaičius","Iš viso komandiruotei",null,null,null,{"$f":"SUM(G132:G137)","v":0},{"$f":"ROUND(G131*$D$7,2)","v":0}]
[null,null,"Dienpinigiai",null,null,null,{"$f":"ROUND(E132*F132,2)","v":0}]
[null,null,"Gyvenamojo ploto nuoma",null,null,null,0]
[null,null,"Kelionės išlaidos",null,null,null,0]
[null,null,"Dalyvavimo mokestis",null,null,null,0]
[null,null,"Kitos išlaidų pavadinimas",null,null,null,0]
[null,null,"Kitos išlaidų pavadinimas",null,null,null,0]
["5.5.4","Komandiruotės pavadinimas, vieta, trukmė dienomis, vykstančių asmenų skaičius","Iš viso komandiruotei",null,null,null,{"$f":"SUM(G139:G144)","v":0},{"$f":"ROUND(G138*$D$7,2)","v":0}]
[null,null,"Dienpinigiai",null,null,null,{"$f":"ROUND(E139*F139,2)","v":0}]
[null,null,"Gyvenamojo ploto nuoma",null,null,null,0]
[null,null,"Kelionės išlaidos",null,null,null,0]
[null,null,"Dalyvavimo mokestis",null,null,null,0]
[null,null,"Kitos išlaidų pavadinimas",null,null,null,0]
[null,null,"Kitos išlaidų pavadinimas",null,null,null,0]
["5.5.5","Komandiruotės pavadinimas, vieta, trukmė dienomis, vykstančių asmenų skaičius","Iš viso komandiruotei",null,null,null,{"$f":"SUM(G146:G151)","v":0},{"$f":"ROUND(G145*$D$7,2)","v":0}]
[null,null,"Dienpinigiai",null,null,null,{"$f":"ROUND(E146*F146,2)","v":0}]
[null,null,"Gyvenamojo ploto nuoma",null,null,null,0]
[null,null,"Kelionės išlaidos",null,null,null,0]
[null,null,"Dalyvavimo mokestis",null,null,null,0]
[null,null,"Kitos išlaidų pavadinimas",null,null,null,0]
[null,null,"Kitos išlaidų pavadinimas",null,null,null,0]
["5.5.6","Komandiruotės pavadinimas, vieta, trukmė dienomis, vykstančių asmenų skaičius","Iš viso komandiruotei",null,null,null,{"$f":"SUM(G153:G158)","v":0},{"$f":"ROUND(G152*$D$7,2)","v":0}]
[null,null,"Dienpinigiai",null,null,null,{"$f":"ROUND(E153*F153,2)","v":0}]
[null,null,"Gyvenamojo ploto nuoma",null,null,null,0]
[null,null,"Kelionės išlaidos",null,null,null,0]
[null,null,"Dalyvavimo mokestis",null,null,null,0]
[null,null,"Kitos išlaidų pavadinimas",null,null,null,0]
[null,null,"Kitos išlaidų pavadinimas",null,null,null,0]
["5.5.7","Komandiruotės pavadinimas, vieta, trukmė dienomis, vykstančių asmenų skaičius","Iš viso komandiruotei",null,null,null,{"$f":"SUM(G160:G165)","v":0},{"$f":"ROUND(G159*$D$7,2)","v":0}]
[null,null,"Dienpinigiai",null,null,null,{"$f":"ROUND(E160*F160,2)","v":0}]
[null,null,"Gyvenamojo ploto nuoma",null,null,null,0]
[null,null,"Kelionės išlaidos",null,null,null,0]
[null,null,"Dalyvavimo mokestis",null,null,null,0]
[null,null,"Kitos išlaidų pavadinimas",null,null,null,0]
[null,null,"Kitos išlaidų pavadinimas",null,null,null,0]
["5.5.8","Komandiruotės pavadinimas, vieta, trukmė dienomis, vykstančių asmenų skaičius","Iš viso komandiruotei",null,null,null,{"$f":"SUM(G167:G172)","v":0},{"$f":"ROUND(G166*$D$7,2)","v":0}]
[null,null,"Dienpinigiai",null,null,null,{"$f":"ROUND(E167*F167,2)","v":0}]
[null,null,"Gyvenamojo ploto nuoma",null,null,null,0]
[null,null,"Kelionės išlaidos",null,null,null,0]
[null,null,"Dalyvavimo mokestis",null,null,null,0]
[null,null,"Kitos išlaidų pavadinimas",null,null,null,0]
[null,null,"Kitos išlaidų pavadinimas",null,null,null,0]
["5.5.9","Komandiruotės pavadinimas, vieta, trukmė dienomis, vykstančių asmenų skaičius","Iš viso komandiruotei",null,null,null,{"$f":"SUM(G174:G179)","v":0},{"$f":"ROUND(G173*$D$7,2)","v":0}]
[null,null,"Dienpinigiai",null,null,null,{"$f":"ROUND(E174*F174,2)","v":0}]
[null,null,"Gyvenamojo ploto nuoma",null,null,null,0]
[null,null,"Kelionės išlaidos",null,null,null,0]
[null,null,"Dalyvavimo mokestis",null,null,null,0]
[null,null,"Kitos išlaidų pavadinimas",null,null,null,0]
[null,null,"Kitos išlaidų pavadinimas",null,null,null,0]
["5.5.10","Komandiruotės pavadinimas, vieta, trukmė dienomis, vykstančių asmenų skaičius","Iš viso komandiruotei",null,null,null,{"$f":"SUM(G181:G186)","v":0},{"$f":"ROUND(G180*$D$7,2)","v":0}]
[null,null,"Dienpinigiai",null,null,null,{"$f":"ROUND(E181*F181,2)","v":0}]
[null,null,"Gyvenamojo ploto nuoma",null,null,null,0]
[null,null,"Kelionės išlaidos",null,null,null,0]
[null,null,"Dalyvavimo mokestis",null,null,null,0]
[null,null,"Kitos išlaidų pavadinimas",null,null,null,0]
[null,null,"Kitos išlaidų pavadinimas",null,null,null,0]
["Iš viso tinkamų finansuoti išlaidų:",null,null,null,null,null,{"$f":"G10+G21","v":0},{"$f":"H10+H21","v":0}]

{"sheet":"Netiesioginės išlaidos","index":28,"n_rows":35,"n_cols":8,"rows_kept":35,"cut":false,"hidden":false,"merged":[[32,0,32,1],[7,0,7,7],[8,1,8,2],[0,0,0,5],[5,0,5,2],[4,0,4,5],[2,0,2,7],[6,0,6,7],[9,0,9,2],[11,0,11,2],[12,0,12,2]]}
["7. Netiesioginių išlaidų ir kt. išlaidų pagal fiksuotąją projekto išlaidų normą apskaičiavimas"]
[]
["Žemiau esančios lentelės žaliuose laukuose įrašykite planuojamas patirti su projekto administravimu susijusias išlaidas. \nNetiesioginių išlaidų finansavimo suma bus apskaičiuojama automatiškai, po to, kai užpildysite šiame lape esančią lentelę."]
[]
["1 lentelė: Netiesioginių išlaidų pasiskirstymas pagal projekto vykdytojus"]
["Netiesioginės išlaidos",null,null,"Pareiškėjo","Partnerio Nr. 1","Partnerio Nr. 2","Partnerio Nr. 3","Iš viso, Eur"]
[]
["Organizacinių ir/ar procesų inovacijų veiklos"]
["7.","Netiesioginės išlaidos",null,null,null,null,null,{"$f":"SUM(D9:G9)","v":0}]
["Finansavimo suma, Eur",null,null,{"$f":"D9*DATA!C2","v":0},{"$f":"E9*DATA!C3","v":0},{"$f":"F9*DATA!C4","v":0},{"$f":"G9*DATA!C5","v":0},{"$f":"SUM(D10:G10)","v":0}]
[]
["Iš viso netiesioginių išlaidų:",null,null,{"$f":"+D9","v":0},{"$f":"+E9","v":0},0,0,0]
["Bendra finansavimo suma, Eur",null,null,{"$f":"D10","v":0},{"$f":"E10","v":0},0,0,0]
[]
[]
[]
[]
[]
["2 lentelė: Projekto biudžeto paskirstymas pagal pareiškėją ir partnerį (-ius)"]
[" =IF(B25+B28+B31=0;\"\";IF(OR(B22/B34*100>70;B25/B34*100>70;B28/B34*100;B31/B34*100);\"Klaida: Nei vienas juridinis asmuo negali patirti daugiau negu 70% išlaidų!\";\"\"))"]
["Pareiškėjas:",{"$f":"_xlfn.IFNA(VLOOKUP(\"Pareiškėjas\",DATA!N2:O5,2,FALSE),\"\")","v":""}]
["Išlaidų suma, Eur",{"$f":"+DATA!$I$2+D12","v":0}]
["Finansavimo suma, Eur",{"$f":"DATA!$J$2+D13","v":0}]
["Partneris Nr. 1:",{"$f":"_xlfn.IFNA(VLOOKUP(\"Partneris Nr. 1\",DATA!N2:O5,2,FALSE),\"\")","v":""}]
["Išlaidų suma, Eur",{"$f":"DATA!$I$3+E12","v":0}]
["Finansavimo suma, Eur",{"$f":"DATA!$J$3+E13","v":0}]
["Partneris Nr. 2:",{"$f":"_xlfn.IFNA(VLOOKUP(\"Partneris Nr. 2\",DATA!N2:O5,2,FALSE),\"\")","v":""}]
["Išlaidų suma, Eur",{"$f":"DATA!$I$4+F12","v":0}]
["Finansavimo suma, Eur",{"$f":"DATA!$J$4+F13","v":0}]
["Partneris Nr. 3:",{"$f":"_xlfn.IFNA(VLOOKUP(\"Partneris Nr. 3\",DATA!N2:O5,2,FALSE),\"\")","v":""}]
["Išlaidų suma, Eur",{"$f":"DATA!$I$5+G12","v":0}]
["Finansavimo suma, Eur",{"$f":"DATA!$J$5+G13","v":0}]
["Iš viso:"]
["Išlaidų suma, Eur",{"$f":"B22+B25+B28+B31","v":0}]
["Finansavimo suma, Eur",{"$f":"+B23+B26+B29+B32","v":0}]